Workbook
Name a: #REF!
Name a: #REF!
Name a: #REF!
Name a: #REF!
Name a: #REF!
Name a: #REF!
Name AgencyCode: #REF!
Name AgencyCode: #REF!
Name AgencyCode: #REF!
Name AgencyCode: #REF!
Name AgencyCode: #REF!
Name AgencyCode: #REF!
Name AgencyCode: #REF!
Name AgencyCode: #REF!
Name AgencyCode: #REF!
Name AgencyName: #REF!
Name AgencyName: #REF!
Name AgencyName: #REF!
Name AgencyName: #REF!
Name AgencyName: #REF!
Name AgencyName: #REF!
Name åû: #REF!
Name åû: #REF!
Name åû: #REF!
Name åû: #REF!
Name åû: #REF!
Name davit: #REF!
Name davit: #REF!
Name davit: #REF!
Name davit: #REF!
Name davit: #REF!
Name Functional1: #REF!
Name Functional1: #REF!
Name Functional1: #REF!
Name Functional1: #REF!
Name Functional1: #REF!
Name Functional1: #REF!
Name ggg: #REF!
Name ggg: #REF!
Name ggg: #REF!
Name ggg: #REF!
Name ggg: #REF!
Name hav: #REF!
Name mas: #REF!
Name mas: #REF!
Name mas: #REF!
Name mas: #REF!
Name mas: #REF!
Name mass: #REF!
Name mass: #REF!
Name mass: #REF!
Name mass: #REF!
Name mass: #REF!
Name PANature: #REF!
Name PANature: #REF!
Name PANature: #REF!
Name PANature: #REF!
Name PANature: #REF!
Name PANature: #REF!
Name PAType: #REF!

Sheet Հավելված N 1
F1: Հավելված N 1
F2: ՀՀ կառավարության 2025 թվականի
F3: ______________ ի ___Ն որոշման
A6: «ՀԱՅԱUՏԱՆԻ ՀԱՆՐԱՊԵՏՈՒԹՅԱՆ 2025 ԹՎԱԿԱՆԻ ՊԵՏԱԿԱՆ ԲՅՈՒՋԵԻ ՄԱUԻՆ» ՀԱՅԱUՏԱՆԻ ՀԱՆՐԱՊԵՏՈՒԹՅԱՆ OՐԵՆՔԻ N 1 ՀԱՎԵԼՎԱԾԻ N 2 ԱՂՅՈՒՍԱԿՈՒՄ ԿԱՏԱՐՎՈՂ ՎԵՐԱԲԱՇԽՈՒՄԸ ԵՎ ՀԱՅԱՍՏԱՆԻ ՀԱՆՐԱՊԵՏՈՒԹՅԱՆ ԿԱՌԱՎԱՐՈՒԹՅԱՆ 2024 ԹՎԱԿԱՆԻ ԴԵԿՏԵՄԲԵՐԻ 27-Ի N 2060-Ն ՈՐՈՇՄԱՆ N 5 ՀԱՎԵԼՎԱԾԻ N 1 ԱՂՅՈՒՍԱԿՈՒՄ ԿԱՏԱՐՎՈՂ ՓՈՓՈԽՈՒԹՅՈՒՆՆԵՐԸ ԵՎ ԼՐԱՑՈՒՄՆԵՐԸ
I9: հազ. դրամներով
A10: ԲԳԿ | B10: Ծրագրային դասիչը | D10: ԲԳԿ/Ծրագրի /միջոցառման անվանումը | E10: Ծրագրի նպատակը/Միջոցառման նկարագրությունը | F10: Վերջնական արդյունքի նկարագրությունը/Միջոցառման տեսակը | G10: Ցուցանիշների փոփոխությունը (ավելացումները նշված են դրական նշանով, իսկ նվազեցումները փակագծերում)
G11: Առաջին կիսամյակ | H11: Ինն ամիս | I11: Տարի
B12: Ծրագիր | C12: Միջոցառում
A13: ԸՆԴԱՄԵՆԸ | G13: =+G15+G24 -> 3.2741809e-11 | H13: =+H15+H24 -> 3.2741809e-11 | I13: =+I15+I24 -> 3.2741809e-11
A14: այդ թվում՝
A15: ՀՀ ԿՐԹՈՒԹՅԱՆ, ԳԻՏՈՒԹՅԱՆ, ՄՇԱԿՈՒՅԹԻ ԵՎ ՍՊՈՐՏԻ ՆԱԽԱՐԱՐՈՒԹՅՈՒՆ | G15: =+G16+G18 -> 3.2741809e-11 | H15: =+H16+H18 -> 3.2741809e-11 | I15: =+I16+I18 -> 3.2741809e-11
B16: 1183 | D16: Ապահով դպրոց | E16: Դպրոցներին սպառնացող աղետների ռիսկի կառավարման կարողությունների հզորացում, դպրոցի անձնակազմի և աշակերտների անվտանգության ապահովման մակարդակի բարձրացում՛ կիրառելով ներառական և երեխայակենտրոն մոտեցում | F16: Դպրոցական միջավայրի բարելավում | G16: =+G17 -> 1902 | H16: =+H17 -> 1902 | I16: =+I17 -> 1902
C17: 1183 - 32001 | D17: Կրթական օբյեկտների շենքային պայմանների բարելավում | E17: Կրթական օբյեկտների շենքերի (մասնաշենքերի) հիմնանորոգում (համաշինարարական աշխատանքներ, ջեռուցման համակարգի իրականացում, ներքին հարդարում, տարածքի բարեկարգում) և նախագծում | F17: Այլ պետական կազմակերպությունների կողմից օգտագործվող ոչ ֆինանսական ակտիվների հետ գործառնություններ | G17: =+'Հավելված N 2'!G78 -> 1902 | H17: =+'Հավելված N 2'!H78 -> 1902 | I17: =+'Հավելված N 2'!I78 -> 1902
B18: 1236 | D18: Հանրակրթական և նախադպրոցական հաստատությունների հիմնում, կառուցում, բարելավում | E18: Առնվազն 300 դպրոցի և 500 մանկապարտեզի կառուցման, վերակառուցման, հիմնանորոգման ծրագրերի իրականացում ՀՀ պետական բյուջեի միջոցների շրջանակներում | F18: Կրթական միջավայրի բարելավում | G18: =+G19+G20+G21+G22 -> -1902 | H18: =+H19+H20+H21+H22 -> -1902 | I18: =+I19+I20+I21+I22 -> -1902
C19: 1236 - 11001 | D19: Հանրակրթական և նախադպրոցական հաստատությունների կառուցման, վերակառուցման, հիմնանորոգման ծրագրերի համակարգման և մոնիտորինգի ծառայություններ | E19: Հանրակրթական և նախադպրոցական հաստատություններիկառուցման, վերակառուցման, հիմնանորոգման ծրագրերիհամակարգման և մոնիտորինգի ծառայությունների ապահովում | F19: Ծառայությունների մատուցում | G19: =+'Հավելված N 2'!G43 -> 310518.2 | H19: =+'Հավելված N 2'!H43 -> 310518.2 | I19: =+'Հավելված N 2'!I43 -> 310518.2
C20: 1236 - 32002 | D20: Մանկապարտեզների շենքերի վերակառուցում, հիմնանորոգում | E20: Նախադպրոցական կրթության հասանելիության ապահովման նպատակով՛ մանկապարտեզների շենքերի (մասնաշենքերի), վերակառուցում, հիմնանորոգում և նախագծում | F20: Այլ պետական կազմակերպությունների կողմից օգտագործվող ոչ ֆինանսական ակտիվների հետ գործառնություններ | G20: =+'Հավելված N 2'!G26 -> -453197.4 | H20: =+'Հավելված N 2'!H26 -> -523788.4 | I20: =+'Հավելված N 2'!I26 -> -525496.4
C21: 1236 - 32004 | D21: Հանրակրթական դպրոցների շենքերի վերակառուցում, հիմնանորոգում | E21: Դպրոցական պարտադիր կրթության հասանելիության ապահովման նպատակով՛ հանրակրթական դպրոցների շենքերի (մասնաշենքերի), վերակառուցում, հիմնանորոգում և նախագծում | F21: Այլ պետական կազմակերպությունների կողմից օգտագործվող ոչ ֆինանսական ակտիվների հետ գործառնություններ | G21: =+'Հավելված N 2'!G52 -> 118937.8 | H21: =+'Հավելված N 2'!H52 -> 189528.8 | I21: =+'Հավելված N 2'!I52 -> 191236.8
C22: 1236 - 32006 | D22: Հանրակրթական դպրոցների, մանկապարտեզների և կրթահամալիրների գույքով և տեխնիկայով ապահովում | E22: Կրթական ժամանակակից նորմերին և կրթական չափորոշիչներին համապատասխան ուսուցման ծրագրերն իրականացնելու նպատակով հանրակրթական և նախադպրոցական հաստատությունների համար գույքի և տեխնիկայի ձեռքբերում | F22: Այլ պետական կազմակերպությունների կողմից օգտագործվող ոչ ֆինանսական ակտիվների հետ գործառնություններ | G22: =+'Հավելված N 2'!G61 -> 21839.4 | H22: =+'Հավելված N 2'!H61 -> 21839.4 | I22: =+'Հավելված N 2'!I61 -> 21839.4
A24: ՀՀ ԿԱՌԱՎԱՐՈՒԹՅՈՒՆ | G24: =+G25+G28+G30 -> 0 | H24: =+H25+H28+H30 -> 0 | I24: =+I25+I28+I30 -> 0
B25: 1139 | D25: ՀՀ կառավարության պահուստային ֆոնդ | E25: Պետական բյուջեում չկանխատեսված, ինչպես նաեւ բյուջետային երաշխիքների ապահովման ծախսերի ֆինանսավորման ապահովում | F25: Պահուստային ֆոնդի կառավարման արդյունավետության և թափանցիկության ապահովում | G25: =+G26+G27 -> 0 | H25: =+H26+H27 -> 0 | I25: =+I26+I27 -> 0
C26: 1139 - 11001 | D26: ՀՀ կառավարության պահուստային ֆոնդ | E26: ՀՀ պետական բյուջեում նախատեսված ելքերի լրացուցիչ ֆինանսավորման, պետական բյուջեում չկանխատեսված ելքերի, ինչպես նաև բյուջետային երաշխիքների ապահովման ելքերի ֆինանսավորման ապահովում | F26: Ծառայությունների մատուցում | G26: =+'Հավելված N 2'!G99 -> 1902 | H26: =+'Հավելված N 2'!H99 -> 1902 | I26: =+'Հավելված N 2'!I99 -> 1902
C27: 1139 - 11001 | D27: ՀՀ կառավարության պահուստային ֆոնդ | E27: ՀՀ պետական բյուջեում նախատեսված ելքերի լրացուցիչ ֆինանսավորման, պետական բյուջեում չկանխատեսված ելքերի, ինչպես նաև բյուջետային երաշխիքների ապահովման ելքերի ֆինանսավորման ապահովում | F27: Ծառայությունների մատուցում | G27: =+'Հավելված N 2'!G107 -> -1902 | H27: =+'Հավելված N 2'!H107 -> -1902 | I27: =+'Հավելված N 2'!I107 -> -1902

Sheet Հավելված N 2
F1: Հավելված N 2
F2: ՀՀ կառավարության 2025 թվականի
F3: ______________ ի ___Ն որոշման
A7: ՀԱՅԱՍՏԱՆԻ ՀԱՆՐԱՊԵՏՈՒԹՅԱՆ ԿԱՌԱՎԱՐՈՒԹՅԱՆ 2024 ԹՎԱԿԱՆԻ ԴԵԿՏԵՄԲԵՐԻ 27-Ի N 2060-Ն ՈՐՈՇՄԱՆ N 3 ԵՎ N 4 ՀԱՎԵԼՎԱԾՆԵՐՈՒՄ ԿԱՏԱՐՎՈՂ ՓՈՓՈԽՈՒԹՅՈՒՆՆԵՐԸ ԵՎ ԼՐԱՑՈՒՄՆԵՐԸ
I10: հազ. դրամներով
A11: Գործառական դասիչը | D11: Ծրագրային դասիչը | F11: Բյուջետային հատկացումների գլխավոր կարգադրիչների, ծրագրերի, միջոցառումների և միջոցառումները կատարող պետական մարմինների անվանումները | G11: Ցուցանիշների փոփոխությունը (ավելացումները նշված են դրական նշանով, իսկ նվազեցումները՝ փակագծերում)
A12: Բաժին | B12: Խումբ | C12: Դաս | D12: Ծրագիր | E12: Միջոցառում | G12: Առաջին կիսամյակ | H12: Ինն ամիս | I12: Տարի
F13: ԸՆԴԱՄԵՆԸ | G13: =+G15+G88 -> 5.8207661e-11 | H13: =+H15+H88 -> 5.8207661e-11 | I13: =+I15+I88 -> 5.8207661e-11
F14: այդ թվում՝
F15: ՀՀ ԿՐԹՈՒԹՅԱՆ, ԳԻՏՈՒԹՅԱՆ, ՄՇԱԿՈՒՅԹԻ ԵՎ ՍՊՈՐՏԻ ՆԱԽԱՐԱՐՈՒԹՅՈՒՆ | G15: =+G16 -> 5.8207661e-11 | H15: =+H16 -> 5.8207661e-11 | I15: =+I16 -> 5.8207661e-11
A16: 09 | F16: ԿՐԹՈՒԹՅՈՒՆ | G16: =+G18+G35+G70 -> 5.8207661e-11 | H16: =+H18+H35+H70 -> 5.8207661e-11 | I16: =+I18+I35+I70 -> 5.8207661e-11
F17: այդ թվում`
B18: 01 | F18: Նախադպրոցական և տարրական ընդհանուր կրթություն | G18: =+G20 -> -453197.4 | H18: =+H20 -> -523788.4 | I18: =+I20 -> -525496.4
F19: այդ թվում`
C20: 01 | F20: Նախադպրոցական կրթություն | G20: =+G22 -> -453197.4 | H20: =+H22 -> -523788.4 | I20: =+I22 -> -525496.4
F21: այդ թվում`
F22: ՀՀ կրթության, գիտության, մշակույթի և սպորտի նախարարություն | G22: =+G24 -> -453197.4 | H22: =+H24 -> -523788.4 | I22: =+I24 -> -525496.4
F23: այդ թվում`
D24: 1236 | E24: Հանրակրթական և նախադպրոցական հաստատությունների հիմնում, կառուցում, բարելավում | G24: =+G26 -> -453197.4 | H24: =+H26 -> -523788.4 | I24: =+I26 -> -525496.4
F25: այդ թվում`
E26: 32002 | F26: Մանկապարտեզների շենքերի վերակառուցում, հիմնանորոգում | G26: =+G28 -> -453197.4 | H26: =+H28 -> -523788.4 | I26: =+I28 -> -525496.4
F27: այդ թվում` ըստ կատարողների
F28: ՀՀ կառավարություն | G28: =+G30 -> -453197.4 | H28: =+H30 -> -523788.4 | I28: =+I30 -> -525496.4
F29: այդ թվում՝ բյուջետային ծախսերի տնտեսագիտական դասակարգման հոդվածներ
F30: ԸՆԴԱՄԵՆԸ ԾԱԽՍԵՐ | G30: =G31 -> -453197.4 | H30: =H31 -> -523788.4 | I30: =I31 -> -525496.4
F31: ՈՉ ՖԻՆԱՆՍԱԿԱՆ ԱԿՏԻՎՆԵՐԻ ԳԾՈՎ ԾԱԽՍԵՐ | G31: =+G32 -> -453197.4 | H31: =+H32 -> -523788.4 | I31: =+I32 -> -525496.4
F32: ՀԻՄՆԱԿԱՆ ՄԻՋՈՑՆԵՐ | G32: =+G33 -> -453197.4 | H32: =+H33 -> -523788.4 | I32: =+I33 -> -525496.4
F33: ՇԵՆՔԵՐ ԵՎ ՇԻՆՈՒԹՅՈՒՆՆԵՐ | G33: =+G34 -> -453197.4 | H33: =+H34 -> -523788.4 | I33: =+I34 -> -525496.4
F34: - Շենքերի և շինությունների կապիտալ վերանորոգում | G34: =+'Հավելված N 4'!E15 -> -453197.4 | H34: =+'Հավելված N 4'!F15 -> -523788.4 | I34: =+'Հավելված N 4'!G15 -> -525496.4
B35: 02 | F35: Միջնակարգ ընդհանուր կրթություն | G35: =+G37 -> 451295.4 | H35: =+H37 -> 521886.4 | I35: =+I37 -> 523594.4
F36: այդ թվում`
F37: Հիմնական ընդհանուր կրթություն | G37: =+G39 -> 451295.4 | H37: =+H39 -> 521886.4 | I37: =+I39 -> 523594.4
C38: 01 | F38: այդ թվում`
F39: ՀՀ կրթության, գիտության, մշակույթի և սպորտի նախարարություն | G39: =+G41 -> 451295.4 | H39: =+H41 -> 521886.4 | I39: =+I41 -> 523594.4
F40: այդ թվում`
D41: 1236 | E41: Հանրակրթական և նախադպրոցական հաստատությունների հիմնում, կառուցում, բարելավում | G41: =+G43+G52+G61 -> 451295.4 | H41: =+H43+H52+H61 -> 521886.4 | I41: =+I43+I52+I61 -> 523594.4
F42: այդ թվում`
E43: 11001 | F43: Հանրակրթական և նախադպրոցական հաստատությունների կառուցման, վերակառուցման, հիմնանորոգման ծրագրերի համակարգման և մոնիտորինգի ծառայություններ | G43: =+G45 -> 310518.2 | H43: =+H45 -> 310518.2 | I43: =+I45 -> 310518.2
F44: այդ թվում` ըստ կատարողների
F45: ՀՀ կրթության, գիտության, մշակույթի և սպորտի նախարարություն | G45: =+G47 -> 310518.2 | H45: =+H47 -> 310518.2 | I45: =+I47 -> 310518.2
...

Sheet Հավելված N 3
F1: Հավելված N 3
F2: ՀՀ կառավարության 2025 թվականի
F3: ______________ ի ___Ն որոշման
A5: «ՀԱՅԱUՏԱՆԻ ՀԱՆՐԱՊԵՏՈՒԹՅԱՆ 2025 ԹՎԱԿԱՆԻ ՊԵՏԱԿԱՆ ԲՅՈՒՋԵԻ ՄԱUԻՆ» ՀԱՅԱUՏԱՆԻ ՀԱՆՐԱՊԵՏՈՒԹՅԱՆ OՐԵՆՔԻ N 1 ՀԱՎԵԼՎԱԾԻ N 3 ԱՂՅՈՒՍԱԿՈՒՄ ԿԱՏԱՐՎՈՂ ՓՈՓՈԽՈՒԹՅՈՒՆԸ ԵՎ ԼՐԱՑՈՒՄՆԵՐԸ
G8: հազ. դրամներով
A9: Ծրագրային դասիչ | C9: Բյուջետային գլխավոր կարգադրիչների, ծրագրերի, միջոցառումների, միջոցառումները կատարող պետական մարմինների և ուղղությունների անվանումները | D9: Ընդամենը | E9: Ցուցանիշների փոփոխությունը (ավելացումները նշված են դրական նշանով, իսկ նվազեցումները՝ փակագծերում)
A10: Ծրագիր | B10: Միջոցառում | E10: Կառուցման աշխատանքներ | F10: Վերակառուցման, վերանորոգման և վերականգնման աշխատանքներ | G10: Նախագծահե- տազոտական, գեոդեզիա- քարտեզագրա- կան աշխա- տանքներ | H10: Ոչ ֆինանսական այլ ակտիվների ձեռքբերում
C11: ԸՆԴԱՄԵՆԸ | D11: =SUM(E11:H11) -> -312420.2 | E11: =+E13 -> 0 | F11: =+F13 -> -334259.6 | G11: =+G13 -> 0 | H11: =+H13 -> 21839.4
C12: այդ թվում՝
C13: ՀՀ ԿՐԹՈՒԹՅԱՆ, ԳԻՏՈՒԹՅԱՆ, ՄՇԱԿՈՒՅԹԻ ԵՎ ՍՊՈՐՏԻ ՆԱԽԱՐԱՐՈՒԹՅՈՒՆ | D13: =SUM(E13:H13) -> -312420.2 | E13: =+E15+E18+E48 -> 0 | F13: =+F15+F18+F48 -> -334259.6 | G13: =+G15+G18+G48 -> 0 | H13: =+H15+H18+H48 -> 21839.4
C14: այդ թվում`
A15: 1236 | B15: 32002 | C15: Մանկապարտեզների շենքերի վերակառուցում, հիմնանորոգում | D15: =SUM(E15:H15) -> -525496.4 | E15: =+E17 -> 0 | F15: =+F17 -> -525496.4 | G15: =+G17 -> 0 | H15: =+H17 -> 0
C16: այդ թվում`
C17: Մանկապարտեզների շենքերի վերակառուցում, հիմնանորոգում | D17: =SUM(E17:H17) -> -525496.4 | E17: 0 | F17: =-F18-H48-'Հավելված N 5'!G10-'Հավելված N 9'!I15 -> -525496.4 | G17: 0 | H17: 0
A18: 1236 | B18: 32004 | C18: Հանրակրթական դպրոցների շենքերի վերակառուցում, հիմնանորոգում | D18: =SUM(E18:H18) -> 191236.8 | E18: =+E20+E23+E25+E27+E34+E45 -> 0 | F18: =+F20+F23+F25+F27+F34+F45 -> 191236.8 | G18: =+G20+G23+G25+G27+G34+G45 -> 0 | H18: =+H20+H23+H25+H27+H34+H45 -> 0
C19: այդ թվում`
C20: ՀՀ Արարատի մարզ | D20: =SUM(E20:H20) -> 1026.9 | E20: =+E21+E22 -> 0 | F20: =SUM(F21:F22) -> 1026.9 | G20: =+G21+G22 -> 0 | H20: =+H21+H22 -> 0
C21: «Հնաբերդի միջնակարգ դպրոց» ՊՈԱԿ | D21: =+E21+F21+G21+H21 -> 485 | F21: =+'Հավելված N 9'!I23 -> 485
C22: «Վարդաշենի միջնակարգ դպրոց» ՊՈԱԿ | D22: =+E22+F22+G22+H22 -> 541.9 | F22: =+'Հավելված N 9'!I24 -> 541.9
C23: ՀՀ Արմավիրի մարզ | D23: =SUM(E23:H23) -> 760.8 | E23: =+E24 -> 0 | F23: =+F24 -> 760.8 | G23: =+G24 -> 0 | H23: =+H24 -> 0
C24: «Այգեկի Մուշեղ Մովսիսյանի անվան միջնակարգ դպրոց» ՊՈԱԿ | D24: =+E24+F24+G24+H24 -> 760.8 | F24: =+'Հավելված N 9'!I25 -> 760.8
C25: ՀՀ Գեղարքունիքի մարզ | D25: =SUM(E25:H25) -> 1328.7 | E25: =+E26 -> 0 | F25: =+F26 -> 1328.7 | G25: =+G26 -> 0 | H25: =+H26 -> 0
C26: «Վաղաշենի միջնակարգ դպրոց» ՊՈԱԿ | D26: =+E26+F26+G26+H26 -> 1328.7 | F26: =+'Հավելված N 9'!I26 -> 1328.7
C27: ՀՀ Լոռու մարզ | D27: =SUM(E27:H27) -> 5073.3 | E27: =SUM(E28:E33) -> 0 | F27: =SUM(F28:F33) -> 5073.3 | G27: =SUM(G28:G33) -> 0 | H27: =SUM(H28:H33) -> 0
C28: «Ագարակի միջնակարգ դպրոց» ՊՈԱԿ | D28: =+E28+F28+G28+H28 -> 355.5 | F28: =+'Հավելված N 9'!I27 -> 355.5
C29: «Վանաձորի ծովակալ Իսակովի անվան թիվ 23 հիմնական դպրոց» ՊՈԱԿ | D29: =+E29+F29+G29+H29 -> 733.1 | F29: =+'Հավելված N 9'!I28 -> 733.1
C30: «ք. Վանաձորի Խ.Աբովյանի անվան թիվ 9 հիմնական դպրոց» ՊՈԱԿ | D30: =+E30+F30+G30+H30 -> 391.5 | F30: =+'Հավելված N 9'!I29 -> 391.5
C31: «ք. Վանաձորի Ա.Մաթևոսյանի անվան թիվ 8 հիմնական դպրոց» ՊՈԱԿ | D31: =+E31+F31+G31+H31 -> 868.7 | F31: =+'Հավելված N 9'!I30 -> 868.7
C32: «Ստեփանավանի Սուրբ Գրիգոր Լուսավորիչի անվան թիվ 2 հիմնական դպրոց» ՊՈԱԿ | D32: =+E32+F32+G32+H32 -> 1821.8 | F32: =+'Հավելված N 9'!I31 -> 1821.8
C33: «Ստեփանավանի Ստ․ Շահումյանի անվան թիվ 1 հիմնական դպրոց» ՊՈԱԿ | D33: =+E33+F33+G33+H33 -> 902.7 | F33: =+'Հավելված N 9'!I32 -> 902.7
C34: ՀՀ Շիրակի մարզ | D34: =SUM(E34:H34) -> 182005.8 | E34: =+E38+E37+E39+E40+E42+E43 -> 0 | F34: =SUM(F35:F44) -> 182005.8 | G34: =+G38+G37+G39+G40+G42+G43 -> 0 | H34: =+H38+H37+H39+H40+H42+H43 -> 0
C35: «Ախուրյանի թիվ 2 հիմնական դպրոց» ՊՈԱԿ | D35: =+E35+F35+G35+H35 -> 512.1 | F35: =+'Հավելված N 9'!I33 -> 512.1
C36: «ք․ Գյումրու թիվ 41 հիմնական դպրոց» ՊՈԱԿ | D36: =+E36+F36+G36+H36 -> 2016.2 | F36: =+'Հավելված N 9'!I34 -> 2016.2
C37: «ք․ Գյումրու թիվ 38 հիմնական դպրոց» ՊՈԱԿ | D37: =+E37+F37+G37+H37 -> 694.7 | F37: =+'Հավելված N 9'!I35 -> 694.7
C38: «ք․ Գյումրու թիվ 32 հիմնական դպրոց» ՊՈԱԿ | D38: =+E38+F38+G38+H38 -> 1165.3 | F38: =+'Հավելված N 9'!I36 -> 1165.3
C39: «ք․ Գյումրու թիվ 28 հիմնական դպրոց» ՊՈԱԿ | D39: =+E39+F39+G39+H39 -> 910.8 | F39: =+'Հավելված N 9'!I37 -> 910.8
C40: «Գյումրու թիվ 11 հիմնական դպրոց» ՊՈԱԿ | D40: =+E40+F40+G40+H40 -> 3274.9 | F40: =+'Հավելված N 9'!I38 -> 3274.9
C41: «Փանիկի միջնակարգ դպրոց» ՊՈԱԿ | D41: =+E41+F41+G41+H41 -> 1159.6 | F41: =+'Հավելված N 9'!I39 -> 1159.6
C42: «Գյումրու թիվ 20 հիմնական դպրոց» ՊՈԱԿ | D42: =+E42+F42+G42+H42 -> 1586.3 | F42: =+'Հավելված N 9'!I40 -> 1586.3
C43: «Գյումրու թիվ 23 միջնակարգ դպրոց» ՊՈԱԿ | D43: =+E43+F43+G43+H43 -> 1856.4 | F43: =+'Հավելված N 9'!I41 -> 1856.4
...

Sheet Հավելված N 4
F1: Հավելված N 4
E2: ՀՀ կառավարության 2025 թվականի
F3: ______________ ի ___Ն որոշման
B6: ՀԱՅԱՍՏԱՆԻ ՀԱՆՐԱՊԵՏՈՒԹՅԱՆ ԿԱՌԱՎԱՐՈՒԹՅԱՆ 2024 ԹՎԱԿԱՆԻ ԴԵԿՏԵՄԲԵՐԻ 27-Ի N 2060-Ն ՈՐՈՇՄԱՆ N 5 ՀԱՎԵԼՎԱԾԻ N 2 ԱՂՅՈՒՍԱԿՈՒՄ ԿԱՏԱՐՎՈՂ ՓՈՓՈԽՈՒԹՅՈՒՆԸ ԵՎ ԼՐԱՑՈՒՄՆԵՐԸ
G8: հազ. դրամներով
B9: Ծրագրային դասիչ | D9: Բյուջետային գլխավոր կարգադրիչների, ծրագրերի, միջոցառումների, միջոցառումները կատարող պետական մարմինների և ուղղությունների անվանումները | E9: Ցուցանիշների փոփոխությունը (ավելացումները նշված են դրական նշանով, իսկ նվազեցումները՝ փակագծերում)
B10: Ծրագիր | C10: Միջոցառում | E10: Առաջին կիսամյակ | F10: Ինն ամիս | G10: Տարի
D11: ՀՀ ԿՐԹՈՒԹՅԱՆ, ԳԻՏՈՒԹՅԱՆ, ՄՇԱԿՈՒՅԹԻ ԵՎ ՍՊՈՐՏԻ ՆԱԽԱՐԱՐՈՒԹՅՈՒՆ | E11: =+E13+E16+E48 -> -312420.2 | F11: =+F13+F16+F48 -> -312420.2 | G11: =+G13+G16+G48 -> -312420.2
D12: այդ թվում՝
B13: 1236 | C13: 32002 | D13: Մանկապարտեզների շենքերի վերակառուցում, հիմնանորոգում | E13: =+E15 -> -453197.4 | F13: =+F15 -> -523788.4 | G13: =+G15 -> -525496.4
D14: այդ թվում` ըստ կատարողների
D15: ՀՀ կառավարություն | E15: =-E16-E48-'Հավելված N 5'!G10-'Հավելված N 9'!I15 -> -453197.4 | F15: =-F16-F48-'Հավելված N 5'!G10-'Հավելված N 9'!I15 -> -523788.4 | G15: =+'Հավելված N 3'!D17 -> -525496.4
B16: 1236 | C16: 32004 | D16: Հանրակրթական դպրոցների շենքերի վերակառուցում, հիմնանորոգում | E16: =+E18 -> 118937.8 | F16: =+F18 -> 189528.8 | G16: =+G18 -> 191236.8
D17: այդ թվում` ըստ կատարողների
D18: ՀՀ կրթության, գիտության, մշակույթի և սպորտի նախարարություն | E18: =+E20+E23+E25+E27+E34+E45 -> 118937.8 | F18: =+F20+F23+F25+F27+F34+F45 -> 189528.8 | G18: =+G20+G23+G25+G27+G34+G45 -> 191236.8
D19: այդ թվում՝ ըստ ուղղությունների
D20: ՀՀ Արարատի մարզ | E20: =SUM(E21:E22) -> 1026.9 | F20: =SUM(F21:F22) -> 1026.9 | G20: =SUM(G21:G22) -> 1026.9
D21: =+'Հավելված N 3'!C21 -> «Հնաբերդի միջնակարգ դպրոց» ՊՈԱԿ | E21: =+G21 -> 485 | F21: =+G21 -> 485 | G21: =+'Հավելված N 3'!D21 -> 485
D22: =+'Հավելված N 3'!C22 -> «Վարդաշենի միջնակարգ դպրոց» ՊՈԱԿ | E22: =+G22 -> 541.9 | F22: =+G22 -> 541.9 | G22: =+'Հավելված N 3'!D22 -> 541.9
D23: ՀՀ Արմավիրի մարզ | E23: =+E24 -> 760.8 | F23: =+F24 -> 760.8 | G23: =+G24 -> 760.8
D24: =+'Հավելված N 3'!C24 -> «Այգեկի Մուշեղ Մովսիսյանի անվան միջնակարգ դպրոց» ՊՈԱԿ | E24: =+G24 -> 760.8 | F24: =+G24 -> 760.8 | G24: =+'Հավելված N 3'!D24 -> 760.8
D25: ՀՀ Գեղարքունիքի մարզ | E25: =+E26 -> 930.1 | F25: =+F26 -> 1328.7 | G25: =+G26 -> 1328.7
D26: =+'Հավելված N 3'!C26 -> «Վաղաշենի միջնակարգ դպրոց» ՊՈԱԿ | E26: =+ROUND(G26*0.7,1) -> 930.1 | F26: =+G26 -> 1328.7 | G26: =+'Հավելված N 3'!D26 -> 1328.7
D27: ՀՀ Լոռու մարզ | E27: =SUM(E28:E33) -> 4344.6 | F27: =SUM(F28:F33) -> 4708.9 | G27: =SUM(G28:G33) -> 5073.3
D28: =+'Հավելված N 3'!C28 -> «Ագարակի միջնակարգ դպրոց» ՊՈԱԿ | E28: =+G28 -> 355.5 | F28: =+G28 -> 355.5 | G28: =+'Հավելված N 3'!D28 -> 355.5
D29: =+'Հավելված N 3'!C29 -> «Վանաձորի ծովակալ Իսակովի անվան թիվ 23 հիմնական դպրոց» ՊՈԱԿ | E29: =+G29 -> 733.1 | F29: =+G29 -> 733.1 | G29: =+'Հավելված N 3'!D29 -> 733.1
D30: =+'Հավելված N 3'!C30 -> «ք. Վանաձորի Խ.Աբովյանի անվան թիվ 9 հիմնական դպրոց» ՊՈԱԿ | E30: =+G30 -> 391.5 | F30: =+G30 -> 391.5 | G30: =+'Հավելված N 3'!D30 -> 391.5
D31: =+'Հավելված N 3'!C31 -> «ք. Վանաձորի Ա.Մաթևոսյանի անվան թիվ 8 հիմնական դպրոց» ՊՈԱԿ | E31: =+G31 -> 868.7 | F31: =+G31 -> 868.7 | G31: =+'Հավելված N 3'!D31 -> 868.7
D32: =+'Հավելված N 3'!C32 -> «Ստեփանավանի Սուրբ Գրիգոր Լուսավորիչի անվան թիվ 2 հիմնական դպրոց» ՊՈԱԿ | E32: =+ROUND(G32*0.6,1) -> 1093.1 | F32: =+ROUND(G32*0.8,1) -> 1457.4 | G32: =+'Հավելված N 3'!D32 -> 1821.8
D33: =+'Հավելված N 3'!C33 -> «Ստեփանավանի Ստ․ Շահումյանի անվան թիվ 1 հիմնական դպրոց» ՊՈԱԿ | E33: =+G33 -> 902.7 | F33: =+G33 -> 902.7 | G33: =+'Հավելված N 3'!D33 -> 902.7
D34: ՀՀ Շիրակի մարզ | E34: =SUM(E35:E44) -> 110834.1 | F34: =SUM(F35:F44) -> 180662.2 | G34: =SUM(G35:G44) -> 182005.8
D35: =+'Հավելված N 3'!C35 -> «Ախուրյանի թիվ 2 հիմնական դպրոց» ՊՈԱԿ | E35: =+G35 -> 512.1 | F35: =+G35 -> 512.1 | G35: =+'Հավելված N 3'!D35 -> 512.1
D36: =+'Հավելված N 3'!C36 -> «ք․ Գյումրու թիվ 41 հիմնական դպրոց» ՊՈԱԿ | E36: =+ROUND(G36*0.7,1) -> 1411.3 | F36: =+G36 -> 2016.2 | G36: =+'Հավելված N 3'!D36 -> 2016.2
D37: =+'Հավելված N 3'!C37 -> «ք․ Գյումրու թիվ 38 հիմնական դպրոց» ՊՈԱԿ | E37: =+G37 -> 694.7 | F37: =+G37 -> 694.7 | G37: =+'Հավելված N 3'!D37 -> 694.7
D38: =+'Հավելված N 3'!C38 -> «ք․ Գյումրու թիվ 32 հիմնական դպրոց» ՊՈԱԿ | E38: =+G38 -> 1165.3 | F38: =+G38 -> 1165.3 | G38: =+'Հավելված N 3'!D38 -> 1165.3
D39: =+'Հավելված N 3'!C39 -> «ք․ Գյումրու թիվ 28 հիմնական դպրոց» ՊՈԱԿ | E39: =+G39 -> 910.8 | F39: =+G39 -> 910.8 | G39: =+'Հավելված N 3'!D39 -> 910.8
D40: =+'Հավելված N 3'!C40 -> «Գյումրու թիվ 11 հիմնական դպրոց» ՊՈԱԿ | E40: =+ROUND(G40*0.6,1) -> 1964.9 | F40: =+ROUND(G40*0.8,1) -> 2619.9 | G40: =+'Հավելված N 3'!D40 -> 3274.9
D41: =+'Հավելված N 3'!C41 -> «Փանիկի միջնակարգ դպրոց» ՊՈԱԿ | E41: =+ROUND(G41*0.7,1) -> 811.7 | F41: =+G41 -> 1159.6 | G41: =+'Հավելված N 3'!D41 -> 1159.6
D42: =+'Հավելված N 3'!C42 -> «Գյումրու թիվ 20 հիմնական դպրոց» ՊՈԱԿ | E42: =+ROUND(G42*0.6,1) -> 951.8 | F42: =+ROUND(G42*0.8,1) -> 1269 | G42: =+'Հավելված N 3'!D42 -> 1586.3
D43: =+'Հավելված N 3'!C43 -> «Գյումրու թիվ 23 միջնակարգ դպրոց» ՊՈԱԿ | E43: =+ROUND(G43*0.6,1) -> 1113.8 | F43: =+ROUND(G43*0.8,1) -> 1485.1 | G43: =+'Հավելված N 3'!D43 -> 1856.4
...

Sheet Հավելված N 5
F1: Հավելված 5
F2: ՀՀ կառավարության 2025 թվականի
F3: ______________ ի ___Ն որոշման
A6: ՀԱՅԱՍՏԱՆԻ ՀԱՆՐԱՊԵՏՈՒԹՅԱՆ ԿԱՌԱՎԱՐՈՒԹՅԱՆ 2024 ԹՎԱԿԱՆԻ ԴԵԿՏԵՄԲԵՐԻ 27-Ի N 2060-Ն ՈՐՈՇՄԱՆ N 5 ՀԱՎԵԼՎԱԾԻ N 7 ԱՂՅՈՒՍԱԿՈՒՄ ԿԱՏԱՐՎՈՂ ԼՐԱՑՈՒՄԸ
A7: հազար դրամ
A8: Ծրագրային դասիչը | D8: Բյուջետային հատկացումների գլխավոր կարգադրիչների, ծրագրերի, միջոցառումների և միջոցառումները կատարող պետական մարմինների անվանումները | F8: Միջոցառումները կատարող պետական մարմինների և դրամաշնորհ ստացող տնտեսվարող սուբյեկտների անվանումները | G8: Ցուցանիշների փոփոխությունը (ավելացումները նշված են դրական նշանով)
A9: Ծրագիր | B9: Միջոցառում | G9: Տարի
A10: ՀՀ կրթության, գիտության, մշակույթի և սպորտի նախարարություն | G10: =+G11 -> 1902
A11: 1183 | B11: Ապահով դպրոց | G11: =+G12 -> 1902
B12: 32001 | C12: Կրթական օբյեկտների շենքային պայմանների բարելավում | G12: =+G13 -> 1902
F13: ՀՀ տարածքային կառավարման և ենթակառուցվածքների նախարարություն | G13: =+G14 -> 1902
F14: «Երևանի Մ․ Նալբանդյանի անվան թիվ 33 հիմնական դպրոց» ՊՈԱԿ | G14: 1902

Sheet Հավելված N 6
C1: Հավելված N 6
C2: ՀՀ կառավարության 2025 թվականի
C3: ______________ ի ___Ն որոշման
A6: ՀԱՅԱՍՏԱՆԻ ՀԱՆՐԱՊԵՏՈՒԹՅԱՆ ԿԱՌԱՎԱՐՈՒԹՅԱՆ 2024 ԹՎԱԿԱՆԻ ԴԵԿՏԵՄԲԵՐԻ 27-Ի N 2060-Ն N 8 ՀԱՎԵԼՎԱԾՈՒՄ ԿԱՏԱՐՎՈՂ ԼՐԱՑՈՒՄԸ
A10: Ծրագրային դասիչը | C10: Ծրագրերի, միջոցառումների անվանումները | D10: Գումարը
A11: Ծրագիր | B11: Միջոցառում
C12: ԸՆԴԱՄԵՆԸ ԾԱԽՍԵՐ | D12: =+D14+D16+D18+D20+D26+D29+D42+D44+D47+D49+D51+D54 -> 1902
C13: այդ թվում՝
A14: 1183 | C14: Ապահով դպրոց | D14: =+D15 -> 1902
B15: 32001 | C15: Կրթական օբյեկտների շենքային պայմանների բարելավում | D15: =+'Հավելված N 5'!G13 -> 1902

Sheet Հավելված N 7
J1: Հավելված N 7
J2: ՀՀ կառավարության 2025 թվականի
J3: ______________ ի ___Ն որոշման
A6: ՀԱՅԱՍՏԱՆԻ ՀԱՆՐԱՊԵՏՈՒԹՅԱՆ ԿԱՌԱՎԱՐՈՒԹՅԱՆ 2024 ԹՎԱԿԱՆԻ ԴԵԿՏԵՄԲԵՐԻ 27-Ի N 2060-Ն ՈՐՈՇՄԱՆ N 9 ՀԱՎԵԼՎԱԾՈՒՄ ԿԱՏԱՐՎՈՂ ՓՈՓՈԽՈՒԹՅՈՒՆՆԵՐԸ ԵՎ ԼՐԱՑՈՒՄՆԵՐԸ
A9: ԲԳԿ | B9: Ծրագիր | D9: Միջոցառում | H9: Իրականացնողը/ ակտիվն օգտագործողը/ շահառուի ընտրության չափորոշիչը | I9: Արդյունքային չափորոշիչը | J9: Ցուցանիշների փոփոխությունը (ավելացումները նշված են դրական նշանով, իսկ նվազեցումները՝ փակագծերում)
B10: Դասիչը | C10: Անվանումը | D10: Դասիչը | E10: Անվանումը | F10: Նկարագրությունը | G10: Տեսակը | J10: Առաջին կիսամյակ | K10: Ինն ամիս | L10: Տարի
A11: ԸՆԴԱՄԵՆԸ | J11: =+J13+J41 -> 3.2741809e-11 | K11: =+K13+K41 -> 3.2741809e-11 | L11: =+L13+L41 -> 3.2741809e-11
A12: այդ թվում՝
A13: ՀՀ ԿՐԹՈՒԹՅԱՆ, ԳԻՏՈՒԹՅԱՆ, ՄՇԱԿՈԻՅԹԻ ԵՎ ՍՊՈՐՏԻ ՆԱԽԱՐԱՐՈՒԹՅՈՒՆ | J13: =+J14+J20 -> 3.2741809e-11 | K13: =+K14+K20 -> 3.2741809e-11 | L13: =+L14+L20 -> 3.2741809e-11
B14: 1183 | C14: Ապահով դպրոց | J14: =+J15 -> 1902 | K14: =+K15 -> 1902 | L14: =+L15 -> 1902
D15: 1183 - 32001 | E15: Կրթական օբյեկտների շենքային պայմանների բարելավում | J15: =+'Հավելված N 1'!G17 -> 1902 | K15: =+'Հավելված N 1'!H17 -> 1902 | L15: =+'Հավելված N 1'!I17 -> 1902
F16: Կրթական օբյեկտների շենքերի (մասնաշենքերի) հիմնանորոգում (համաշինարարական աշխատանքներ, ջեռուցման համակարգի իրականացում, ներքին հարդարում, տարածքի բարեկարգում) և նախագծում
G17: Այլ պետական կազմակերպությունների կողմից օգտագործվող ոչ ֆինանսական ակտիվների հետ գործառնություններ
H18: Ակտիվն օգտագործող կազմակերպությունների անվանումները` Հանրակրթական դպրոցներ
B20: 1236 | C20: Հանրակրթական և նախադպրոցական հաստատությունների հիմնում, կառուցում, բարելավում | J20: =+J21+J25+J31+J35 -> -1902 | K20: =+K21+K25+K31+K35 -> -1902 | L20: =+L21+L25+L31+L35 -> -1902
D21: 1236 - 11001 | E21: Հանրակրթական և նախադպրոցական հաստատությունների կառուցման, վերակառուցման, հիմնանորոգման ծրագրերի համակարգման և մոնիտորինգի ծառայություններ | J21: =+'Հավելված N 1'!G19 -> 310518.2 | K21: =+'Հավելված N 1'!H19 -> 310518.2 | L21: =+'Հավելված N 1'!I19 -> 310518.2
F22: Հանրակրթական և նախադպրոցական հաստատություններիկառուցման, վերակառուցման, հիմնանորոգման ծրագրերիհամակարգման և մոնիտորինգի ծառայությունների ապահովում
G23: Ծառայությունների մատուցում
H24: Միջոցառումն իրականացնողի անվանումը՝ Մասնագիտացված միավոր
D25: 1236 - 32002 | E25: Մանկապարտեզների շենքերի վերակառուցում, հիմնանորոգում | J25: =+'Հավելված N 1'!G20 -> -453197.4 | K25: =+'Հավելված N 1'!H20 -> -523788.4 | L25: =+'Հավելված N 1'!I20 -> -525496.4
F26: Նախադպրոցական կրթության հասանելիության ապահովման նպատակով՛ մանկապարտեզների շենքերի (մասնաշենքերի), վերակառուցում, հիմնանորոգում և նախագծում
G27: Այլ պետական կազմակերպությունների կողմից օգտագործվող ոչ ֆինանսական ակտիվների հետ գործառնություններ
H28: Ակտիվն օգտագործող կազմակերպության անվանումը` Նախադպրոցական կրթություն իրականացնող ուսումնական հաստատություններ
I29: Վերակառուցվող մանկապարտեզների քանակ, հատ | J29: 1 | L29: 1
I30: Հաստատությունների քանակ, որոնց շինարարական աշխատանքների ավարտվածության աստիճանը 100% է, հատ | J30: 1 | L30: 1
D31: 1236 - 32004 | E31: Հանրակրթական դպրոցների շենքերի վերակառուցում, հիմնանորոգում | J31: =+'Հավելված N 1'!G21 -> 118937.8 | K31: =+'Հավելված N 1'!H21 -> 189528.8 | L31: =+'Հավելված N 1'!I21 -> 191236.8
F32: Դպրոցական պարտադիր կրթության հասանելիության ապահովման նպատակով՛ հանրակրթական դպրոցների շենքերի (մասնաշենքերի), վերակառուցում, հիմնանորոգում և նախագծում
G33: Այլ պետական կազմակերպությունների կողմից օգտագործվող ոչ ֆինանսական ակտիվների հետ գործառնություններ
H34: Ակտիվն օգտագործող կազմակերպությունների անվանումները` Հանրակրթական դպրոցներ
D35: 1236 - 32006 | E35: Հանրակրթական դպրոցների, մանկապարտեզների և կրթահամալիրների գույքով և տեխնիկայով ապահովում | J35: =+'Հավելված N 1'!G22 -> 21839.4 | K35: =+'Հավելված N 1'!H22 -> 21839.4 | L35: =+'Հավելված N 1'!I22 -> 21839.4
F36: Կրթական ժամանակակից նորմերին և կրթական չափորոշիչներին համապատասխան ուսուցման ծրագրերն իրականացնելու նպատակով հանրակրթական և նախադպրոցական հաստատությունների համար գույքի և տեխնիկայի ձեռքբերում
G37: Այլ պետական կազմակերպությունների կողմից օգտագործվող ոչ ֆինանսական ակտիվների հետ գործառնություններ
H38: Ակտիվն օգտագործող կազմակերպությունների անվանումները` Հանրակրթական դպրոցներ, մանկապարտեզներ և կրթահամալիրներ
I39: Սուբվենցիոն ծրագրերի շրջանակներում կառուցվող(ած), վերակառուցվող(ած) և հիմնանորոգվող(ած) մանկապարտեզների թիվը, որոնք ապահովվում են գույքով, հատ | J39: 12 | L39: 12
A41: ՀՀ ԿԱՌԱՎԱՐՈՒԹՅՈՒՆ | J41: =+J42+J56+J62 -> 0 | K41: =+K42+K56+K62 -> 0 | L41: =+L42+L56+L62 -> 0
B42: 1139 | C42: ՀՀ կառավարության պահուստային ֆոնդ | J42: =+J43+J47 -> 0 | K42: =+K43+K47 -> 0 | L42: =+L43+L47 -> 0
D43: 1139 - 11001 | E43: ՀՀ կառավարության պահուստային ֆոնդ | J43: =+'Հավելված N 1'!G26 -> 1902 | K43: =+'Հավելված N 1'!H26 -> 1902 | L43: =+'Հավելված N 1'!I26 -> 1902
F44: ՀՀ պետական բյուջեում նախատեսված ելքերի լրացուցիչ ֆինանսավորման, պետական բյուջեում չկանխատեսված ելքերի, ինչպես նաև բյուջետային երաշխիքների ապահովման ելքերի ֆինանսավորման ապահովում
G45: Ծառայությունների մատուցում
H46: Ծառայությունը մատուցողի անվանումը` ՀՀ կառավարություն
...

Sheet Հավելված N 8
J1: Հավելված N 8
J2: ՀՀ կառավարության 2025 թվականի
J3: ______________ ի ___Ն որոշման
A6: ՀԱՅԱՍՏԱՆԻ ՀԱՆՐԱՊԵՏՈՒԹՅԱՆ ԿԱՌԱՎԱՐՈՒԹՅԱՆ 2024 ԹՎԱԿԱՆԻ ԴԵԿՏԵՄԲԵՐԻ 27-Ի N 2060-Ն ՈՐՈՇՄԱՆ N 9.1 ՀԱՎԵԼՎԱԾՈՒՄ ԿԱՏԱՐՎՈՂ ՓՈՓՈԽՈՒԹՅՈՒՆՆԵՐԸ ԵՎ ԼՐԱՑՈՒՄՆԵՐԸ
A9: ԲՍԿ | B9: Ծրագիր | D9: Միջոցառում | H9: Իրականացնողը/ ակտիվն օգտագործողը/ շահառուի ընտրության չափորոշիչը | I9: Արդյունքային չափորոշիչը | J9: Ցուցանիշների փոփոխությունը (ավելացումները նշված են դրական նշանով, իսկ նվազեցումները՝ փակագծերում)
B10: Դասիչը | C10: Անվանումը | D10: Դասիչը | E10: Անվանումը | F10: Նկարագրությունը | G10: Տեսակը | J10: Առաջին կիսամյակ | K10: Ինն ամիս | L10: Տարի
A11: ԸՆԴԱՄԵՆԸ | J11: =+J13+J24+J31+J39 -> 0 | K11: =+K13+K24+K31+K39 -> 0 | L11: =+L13+L24+L31+L39 -> 0
A12: այդ թվում՝
A13: ՀՀ ԿՐԹՈՒԹՅԱՆ, ԳԻՏՈՒԹՅԱՆ, ՄՇԱԿՈԻՅԹԻ ԵՎ ՍՊՈՐՏԻ ՆԱԽԱՐԱՐՈՒԹՅՈՒՆ | J13: =+J14 -> 429456 | K13: =+K14 -> 500047 | L13: =+L14 -> 501755
B14: 1236 | C14: Հանրակրթական և նախադպրոցական հաստատությունների հիմնում, կառուցում, բարելավում | J14: =+J15+J19 -> 429456 | K14: =+K15+K19 -> 500047 | L14: =+L15+L19 -> 501755
D15: 1236 - 11001 | E15: Հանրակրթական և նախադպրոցական հաստատությունների կառուցման, վերակառուցման, հիմնանորոգման ծրագրերի համակարգման և մոնիտորինգի ծառայություններ | J15: =+'Հավելված N 2'!G45 -> 310518.2 | K15: =+'Հավելված N 2'!H45 -> 310518.2 | L15: =+'Հավելված N 2'!I45 -> 310518.2
F16: Հանրակրթական և նախադպրոցական հաստատություններիկառուցման, վերակառուցման, հիմնանորոգման ծրագրերիհամակարգման և մոնիտորինգի ծառայությունների ապահովում
G17: Ծառայությունների մատուցում
H18: Միջոցառումն իրականացնողի անվանումը՝ Մասնագիտացված միավոր
D19: 1236 - 32004 | E19: Հանրակրթական դպրոցների շենքերի վերակառուցում, հիմնանորոգում | J19: =+'Հավելված N 2'!G54 -> 118937.8 | K19: =+'Հավելված N 2'!H54 -> 189528.8 | L19: =+'Հավելված N 2'!I54 -> 191236.8
F20: Դպրոցական պարտադիր կրթության հասանելիության ապահովման նպատակով՛ հանրակրթական դպրոցների շենքերի (մասնաշենքերի), վերակառուցում, հիմնանորոգում և նախագծում
G21: Այլ պետական կազմակերպությունների կողմից օգտագործվող ոչ ֆինանսական ակտիվների հետ գործառնություններ
H22: Ակտիվն օգտագործող կազմակերպությունների անվանումները` Հանրակրթական դպրոցներ
A24: ՀՀ ՏԱՐԱԾՔԱՅԻՆ ԿԱՌԱՎԱՐՄԱՆ ԵՎ ԵՆԹԱԿԱՌՈՒՑՎԱԾՔՆԵՐԻ ՆԱԽԱՐԱՐՈՒԹՅՈՒՆ | J24: =+J25 -> 1902 | K24: =+K25 -> 1902 | L24: =+L25 -> 1902
B25: 1183 | C25: Ապահով դպրոց | J25: =+J26 -> 1902 | K25: =+K26 -> 1902 | L25: =+L26 -> 1902
D26: 1183 - 32001 | E26: Կրթական օբյեկտների շենքային պայմանների բարելավում | J26: =+'Հավելված N 2'!G80 -> 1902 | K26: =+'Հավելված N 2'!H80 -> 1902 | L26: =+'Հավելված N 2'!I80 -> 1902
F27: Կրթական օբյեկտների շենքերի (մասնաշենքերի) հիմնանորոգում (համաշինարարական աշխատանքներ, ջեռուցման համակարգի իրականացում, ներքին հարդարում, տարածքի բարեկարգում) և նախագծում
G28: Այլ պետական կազմակերպությունների կողմից օգտագործվող ոչ ֆինանսական ակտիվների հետ գործառնություններ
H29: Ակտիվն օգտագործող կազմակերպությունների անվանումները` Հանրակրթական դպրոցներ
A31: ՀՀ ԼՈՌՈՒ ՄԱՐԶՊԵՏԻ ԱՇԽԱՏԱԿԱԶՄ | J31: =+J32 -> 21839.4 | K31: =+K32 -> 21839.4 | L31: =+L32 -> 21839.4
B32: 1236 | C32: Հանրակրթական և նախադպրոցական հաստատությունների հիմնում, կառուցում, բարելավում | J32: =+J33 -> 21839.4 | K32: =+K33 -> 21839.4 | L32: =+L33 -> 21839.4
D33: 1236 - 32006 | E33: Հանրակրթական դպրոցների, մանկապարտեզների և կրթահամալիրների գույքով և տեխնիկայով ապահովում | J33: =+'Հավելված N 2'!G63 -> 21839.4 | K33: =+'Հավելված N 2'!H63 -> 21839.4 | L33: =+'Հավելված N 2'!I63 -> 21839.4
F34: Կրթական ժամանակակից նորմերին և կրթական չափորոշիչներին համապատասխան ուսուցման ծրագրերն իրականացնելու նպատակով հանրակրթական և նախադպրոցական հաստատությունների համար գույքի և տեխնիկայի ձեռքբերում
G35: Այլ պետական կազմակերպությունների կողմից օգտագործվող ոչ ֆինանսական ակտիվների հետ գործառնություններ
H36: Ակտիվն օգտագործող կազմակերպությունների անվանումները` Հանրակրթական դպրոցներ, մանկապարտեզներ և կրթահամալիրներ
I37: Սուբվենցիոն ծրագրերի շրջանակներում կառուցվող(ած), վերակառուցվող(ած) և հիմնանորոգվող(ած) մանկապարտեզների թիվը, որոնք ապահովվում են գույքով, հատ | J37: 12 | L37: 12
A39: ՀՀ ԿԱՌԱՎԱՐՈՒԹՅՈՒՆ | J39: =+J40+J50 -> -453197.4 | K39: =+K40+K50 -> -523788.4 | L39: =+L40+L50 -> -525496.4
B40: 1139 | C40: ՀՀ կառավարության պահուստային ֆոնդ | J40: =+J41+J45 -> 0 | K40: =+K41+K45 -> 0 | L40: =+L41+L45 -> 0
D41: 1139 - 11001 | E41: ՀՀ կառավարության պահուստային ֆոնդ | J41: =+'Հավելված N 2'!G101 -> 1902 | K41: =+'Հավելված N 2'!H101 -> 1902 | L41: =+'Հավելված N 2'!I101 -> 1902
F42: ՀՀ պետական բյուջեում նախատեսված ելքերի լրացուցիչ ֆինանսավորման, պետական բյուջեում չկանխատեսված ելքերի, ինչպես նաև բյուջետային երաշխիքների ապահովման ելքերի ֆինանսավորման ապահովում
G43: Ծառայությունների մատուցում
H44: Ծառայությունը մատուցողի անվանումը` ՀՀ կառավարություն
D45: 1139 - 11001 | E45: ՀՀ կառավարության պահուստային ֆոնդ | J45: =+'Հավելված N 2'!G109 -> -1902 | K45: =+'Հավելված N 2'!H109 -> -1902 | L45: =+'Հավելված N 2'!I109 -> -1902
F46: ՀՀ պետական բյուջեում նախատեսված ելքերի լրացուցիչ ֆինանսավորման, պետական բյուջեում չկանխատեսված ելքերի, ինչպես նաև բյուջետային երաշխիքների ապահովման ելքերի ֆինանսավորման ապահովում
G47: Ծառայությունների մատուցում
...

Sheet Հավելված N 9
H1: Հավելված N 9
H2: ՀՀ կառավարության 2025 թվականի
H3: ______________ ի ___Ն որոշման
A6: ՀԱՅԱՍՏԱՆԻ ՀԱՆՐԱՊԵՏՈՒԹՅԱՆ ԿԱՌԱՎԱՐՈՒԹՅԱՆ 2024 ԹՎԱԿԱՆԻ ԴԵԿՏԵՄԲԵՐԻ 27-Ի N 2060-Ն N 10 ՀԱՎԵԼՎԱԾՈՒՄ ԿԱՏԱՐՎՈՂ ՓՈՓՈԽՈՒԹՅՈՒՆՆԵՐԸ ԵՎ ԼՐԱՑՈՒՄՆԵՐԸ
A10: Կոդը | B10: Անվանումը | E10: Գնման ձևը | F10: Չափման միավորը | G10: Միավորի գինը | H10: Ցուցանիշների փոփոխությունը (ավելացումները նշված են դրական նշանով, իսկ նվազեցումները՝ փակագծերում)
H11: Քանակը | I11: Գումարը (հազար դրամ)
A12: 1 | B12: 2 | E12: 3 | F12: 4 | G12: 5 | H12: 6 | I12: 7
A13: ՀՀ կրթության, գիտության, մշակույթի և սպորտի նախարարություն | I13: =+I14 -> 501755
A14: Բաժին N 09 | B14: Խումբ N 02 | C14: Դաս N 01 | D14: Հիմնական ընդհանուր կրթություն | I14: =+I15+I18 -> 501755
A15: 1236-11001 | B15: Հանրակրթական և նախադպրոցական հաստատությունների կառուցման, վերակառուցման, հիմնանորոգման ծրագրերի համակարգման և մոնիտորինգի ծառայություններ | I15: =+I16 -> 310518.2
B16: ՄԱՍ III. ԾԱՌԱՅՈՒԹՅՈՒՆՆԵՐ | I16: =+I17 -> 310518.2
A17: 71621100 | B17: տեխնիկական վերլուծության և խորհրդատվության ծառայություններ | E17: ՀԲՄ | F17: դրամ | G17: 3.1051811e+08 | H17: 1 | I17: =+ROUNDUP(G17*H17/1000,1) -> 310518.2
A18: 1236-32004 | B18: Հանրակրթական դպրոցների շենքերի վերակառուցում, հիմնանորոգում | I18: =+I19+I21 -> 191236.8
B19: ՄԱՍ II. ԱՇԽԱՏԱՆՔՆԵՐ | I19: =+I20 -> 167826.6
A20: 45211229 | B20: շինարարական աշխատանքներ դպրոցների համար | E20: ՀՄԱ | F20: դրամ | G20: 167826538 | H20: 1 | I20: =+ROUNDUP(G20*H20/1000,1) -> 167826.6
B21: ՄԱՍ III. ԾԱՌԱՅՈՒԹՅՈՒՆՆԵՐ | I21: =SUM(I22:I43) -> 23410.2
A22: 98111140 | B22: հեղինակային հսկողության ծառայություններ | E22: ՄԱ | F22: դրամ | G22: 1002836 | H22: 1 | I22: =+ROUNDUP(G22*H22/1000,1) -> 1002.9
A23: 98111140 | B23: հեղինակային հսկողության ծառայություններ | E23: ՄԱ | F23: դրամ | G23: 484915.2 | H23: 1 | I23: =+ROUNDUP(G23*H23/1000,1) -> 485
A24: 98111140 | B24: հեղինակային հսկողության ծառայություններ | E24: ՄԱ | F24: դրամ | G24: 541863.6 | H24: 1 | I24: =+ROUNDUP(G24*H24/1000,1) -> 541.9
A25: 98111140 | B25: հեղինակային հսկողության ծառայություններ | E25: ՄԱ | F25: դրամ | G25: 760743 | H25: 1 | I25: =+ROUNDUP(G25*H25/1000,1) -> 760.8
A26: 98111140 | B26: հեղինակային հսկողության ծառայություններ | E26: ՄԱ | F26: դրամ | G26: 1328652 | H26: 1 | I26: =+ROUNDUP(G26*H26/1000,1) -> 1328.7
A27: 98111140 | B27: հեղինակային հսկողության ծառայություններ | E27: ՄԱ | F27: դրամ | G27: 355437.6 | H27: 1 | I27: =+ROUNDUP(G27*H27/1000,1) -> 355.5
A28: 98111140 | B28: հեղինակային հսկողության ծառայություններ | E28: ՄԱ | F28: դրամ | G28: 733062 | H28: 1 | I28: =+ROUNDUP(G28*H28/1000,1) -> 733.1
A29: 98111140 | B29: հեղինակային հսկողության ծառայություններ | E29: ՄԱ | F29: դրամ | G29: 391403.4 | H29: 1 | I29: =+ROUNDUP(G29*H29/1000,1) -> 391.5
A30: 98111140 | B30: հեղինակային հսկողության ծառայություններ | E30: ՄԱ | F30: դրամ | G30: 868655.4 | H30: 1 | I30: =+ROUNDUP(G30*H30/1000,1) -> 868.7
A31: 98111140 | B31: հեղինակային հսկողության ծառայություններ | E31: ՄԱ | F31: դրամ | G31: 1821741 | H31: 1 | I31: =+ROUNDUP(G31*H31/1000,1) -> 1821.8
A32: 98111140 | B32: հեղինակային հսկողության ծառայություններ | E32: ՄԱ | F32: դրամ | G32: 902613 | H32: 1 | I32: =+ROUNDUP(G32*H32/1000,1) -> 902.7
A33: 98111140 | B33: հեղինակային հսկողության ծառայություններ | E33: ՄԱ | F33: դրամ | G33: 512082.6 | H33: 1 | I33: =+ROUNDUP(G33*H33/1000,1) -> 512.1
... A43: 98111140 | B43: հեղինակային հսկողության ծառայություններ | E43: ՄԱ | F43: դրամ | G43: 349579.2 | H43: 1 | I43: =+ROUNDUP(G43*H43/1000,1) -> 349.6
A45: ՀՀ Լոռու մարզպետի աշխատակազմ | I45: =+I46 -> 21838.8
A46: Բաժին N 09 | B46: Խումբ N 02 | C46: Դաս N 01 | D46: Հիմնական ընդհանուր կրթություն | I46: =+I47 -> 21838.8
A47: 1236-32006 | B47: Հանրակրթական դպրոցների, մանկապարտեզների և կրթահամալիրների գույքով և տեխնիկայով ապահովում | I47: =+I48 -> 21838.8
B48: ՄԱՍ I. ԱՊՐԱՆՔՆԵՐ | I48: =SUM(I49:I62) -> 21838.8
A49: 39292110-502 | B49: գրատախտակներ | E49: ԷԱՃ | F49: հատ | G49: 60000 | H49: 22 | I49: =+ROUNDUP(G49*H49/1000,1) -> 1320
A50: 37311100-3 | B50: դաշնամուրներ | E50: ԳՀ | F50: հատ | G50: 336000 | H50: 14 | I50: =+ROUNDUP(G50*H50/1000,1) -> 4704
A51: 39121200-11 | B51: սեղաններ | E51: ԷԱՃ | F51: հատ | G51: 114400 | H51: 23 | I51: =+ROUNDUP(G51*H51/1000,1) -> 2631.2
A52: 39711320-502 | B52: փոքր էլեկտրական կամ գազային սալիկներ | E52: ԷԱՃ | F52: հատ | G52: 259900 | H52: 9 | I52: =+ROUNDUP(G52*H52/1000,1) -> 2339.1
A53: 39563800-503 | B53: օդափոխման խողովակաշարեր | E53: ԷԱՃ | F53: մետր | G53: 141250 | H53: 12 | I53: =+ROUNDUP(G53*H53/1000,1) -> 1695
A54: 39711140-506 | B54: կենցաղային սառնարաններ | E54: ԷԱՃ | F54: հատ | G54: 213400 | H54: 9 | I54: =+ROUNDUP(G54*H54/1000,1) -> 1920.6
A55: 39221100-502 | B55: խոհանոցային սարքեր | E55: ԷԱՃ | F55: հատ | G55: 950000 | H55: 1 | I55: =+ROUNDUP(G55*H55/1000,1) -> 950
...

Sheet Հավելված N 10
F1: Հավելված N 10
I2: ՀՀ կառավարության 2025 թվականի
I3: ______________ ի ___Ն որոշման
A6: ՀԱՅԱՍՏԱՆԻ ՀԱՆՐԱՊԵՏՈՒԹՅԱՆ 2025 ԹՎԱԿԱՆԻ ՊԵՏԱԿԱՆ ԲՅՈՒՋԵՈՎ ՆԱԽԱՏԵՍՎԱԾ՝ ՀԱՅԱՍՏԱՆԻ ՀԱՆՐԱՊԵՏՈՒԹՅԱՆ ԿԱՌԱՎԱՐՈՒԹՅԱՆ ՊԱՀՈՒՍՏԱՅԻՆ ՖՈՆԴԻՑ ՀԱՏԿԱՑՈՒՄՆԵՐ ԿԱՏԱՐԵԼՈՒ ՎԵՐԱԲԵՐՅԱԼ
A9: Գործառական դասիչը | D9: Ծրագրային դասիչը | F9: Բյուջետային հատկացումների գլխավոր կարգադրիչների, ծրագրերի, միջոցառումների և միջոցառումները կատարող պետական մարմինների անվանումները | G9: Ցուցանիշների փոփոխությունը (ավելացումները նշված են դրական նշանով, իսկ նվազեցումները` փակագծերում)
A10: Բաժին | B10: Խումբ | C10: Դաս | D10: Ծրագիր | E10: Միջոցառում | G10: Տարի | H10: Տարի | I10: Տարի
F11: ԸՆԴԱՄԵՆԸ | G11: =+G13+G33 -> 0 | H11: =+H13+H33 -> 0 | I11: =+I13+I33 -> 0
F12: այդ թվում
F13: ՀՀ ԿԱՌԱՎԱՐՈՒԹՅՈՒՆ | G13: =+G14 -> -1902 | H13: =+H14 -> -1902 | I13: =+I14 -> -1902
A14: 11 | F14: ՀԻՄՆԱԿԱՆ ԲԱԺԻՆՆԵՐԻՆ ՉԴԱՍՎՈՂ ՊԱՀՈՒՍՏԱՅԻՆ ՖՈՆԴԵՐ | G14: =+G16 -> -1902 | H14: =+H16 -> -1902 | I14: =+I16 -> -1902
F15: այդ թվում`
B16: 01 | F16: ՀՀ կառավարության և համայնքների պահուստային ֆոնդ | G16: =+G18 -> -1902 | H16: =+H18 -> -1902 | I16: =+I18 -> -1902
F17: այդ թվում`
C18: 01 | F18: ՀՀ կառավարության պահուստային ֆոնդ | G18: =+G20 -> -1902 | H18: =+H20 -> -1902 | I18: =+I20 -> -1902
F19: այդ թվում`
F20: ՀՀ կառավարություն | G20: =+G22 -> -1902 | H20: =+H22 -> -1902 | I20: =+I22 -> -1902
F21: այդ թվում`
D22: 1139 | E22: ՀՀ կառավարության պահուստային ֆոնդ | F22: ՀՀ կառավարության պահուստային ֆոնդ | G22: =+G24 -> -1902 | H22: =+H24 -> -1902 | I22: =+I24 -> -1902
F23: այդ թվում`
E24: 11001 | F24: ՀՀ կառավարության պահուստային ֆոնդ | G24: =+G26 -> -1902 | H24: =+H26 -> -1902 | I24: =+I26 -> -1902
F25: այդ թվում` ըստ կատարողների
F26: ՀՀ կառավարություն | G26: =+G28 -> -1902 | H26: =+H28 -> -1902 | I26: =+I28 -> -1902
F27: այդ թվում՝ բյուջետային ծախսերի տնտեսագիտական դասակարգման հոդվածներ
F28: ԸՆԴԱՄԵՆԸ ԾԱԽՍԵՐ | G28: =+G29 -> -1902 | H28: =+H29 -> -1902 | I28: =+I29 -> -1902
F29: ԸՆԹԱՑԻԿ ԾԱԽՍԵՐ | G29: =+G30 -> -1902 | H29: =+H30 -> -1902 | I29: =+I30 -> -1902
F30: ԱՅԼ ԾԱԽՍԵՐ | G30: =+G31 -> -1902 | H30: =+H31 -> -1902 | I30: =+I31 -> -1902
F31: - Պահուստային միջոցներ | G31: =+'Հավելված N 2'!G114 -> -1902 | H31: =+'Հավելված N 2'!H114 -> -1902 | I31: =+'Հավելված N 2'!I114 -> -1902
F33: ՀՀ ԿՐԹՈՒԹՅԱՆ, ԳԻՏՈՒԹՅԱՆ, ՄՇԱԿՈՒՅԹԻ ԵՎ ՍՊՈՐՏԻ ՆԱԽԱՐԱՐՈՒԹՅՈՒՆ | G33: =+G34 -> 1902 | H33: =+H34 -> 1902 | I33: =+I34 -> 1902
A34: 09 | F34: ԿՐԹՈՒԹՅՈՒՆ | G34: =+G36 -> 1902 | H34: =+H36 -> 1902 | I34: =+I36 -> 1902
F35: այդ թվում`
B36: 06 | F36: Կրթությանը տրամադրվող օժանդակ ծառայություններ | G36: =+G38 -> 1902 | H36: =+H38 -> 1902 | I36: =+I38 -> 1902
F37: այդ թվում`
C38: 01 | F38: Կրթությանը տրամադրվող օժանդակ ծառայություններ | G38: =+G40 -> 1902 | H38: =+H40 -> 1902 | I38: =+I40 -> 1902
F39: այդ թվում`
F40: ՀՀ կրթության, գիտության, մշակույթի և սպորտի նախարարություն | G40: =+G42 -> 1902 | H40: =+H42 -> 1902 | I40: =+I42 -> 1902
F41: այդ թվում`
D42: 1183 | E42: Ապահով դպրոց | G42: =+G44 -> 1902 | H42: =+H44 -> 1902 | I42: =+I44 -> 1902
F43: այդ թվում`
E44: 32001 | F44: Կրթական օբյեկտների շենքային պայմանների բարելավում | G44: =+G46 -> 1902 | H44: =+H46 -> 1902 | I44: =+I46 -> 1902
F45: այդ թվում` ըստ կատարողների
...
