Workbook
Name _tab10: #REF!
Name _tab10: #REF!
Name _tab11: #REF!
Name _tab11: #REF!
Name _tab12: #REF!
Name _tab12: #REF!
Name _tab13: #REF!
Name _tab13: #REF!
Name _tab14: #REF!
Name _tab14: #REF!
Name _tab15: #REF!
Name _tab15: #REF!
Name _tab16: #REF!
Name _tab16: #REF!
Name _tab17: #REF!
Name _tab17: #REF!
Name _tab18: #REF!
Name _tab18: #REF!
Name _tab19: #REF!
Name _tab19: #REF!
Name _tab20: #REF!
Name _tab20: #REF!
Name _tab21: #REF!
Name _tab21: #REF!
Name _tab22: #REF!
Name _tab22: #REF!
Name _tab23: #REF!
Name _tab23: #REF!
Name _tab24: #REF!
Name _tab24: #REF!
Name _tab5: #REF!
Name _tab5: #REF!
Name _tab6: #REF!
Name _tab6: #REF!
Name _tab7: #REF!
Name _tab7: #REF!
Name _tab8: #REF!
Name _tab8: #REF!
Name _tab9: #REF!
Name _tab9: #REF!
Name AgencyCode: #REF!
Name AgencyName: #REF!
Name åû: #REF!
Name davit: #REF!
Name Functional1: #REF!
Name ggg: #REF!
Name mas: #REF!
Name mass: #REF!
Name PANature: #REF!
Name par_count: #REF!,#REF!,#REF!,#REF!,#REF!,#REF!,#REF!,#REF!,#REF!,#REF!,#REF!,#REF!,#REF!,#REF!,#REF!
Name par_count: #REF!,#REF!,#REF!,#REF!,#REF!,#REF!,#REF!,#REF!,#REF!,#REF!,#REF!,#REF!,#REF!,#REF!,#REF!
Name par_qual: #REF!,#REF!,#REF!,#REF!,#REF!
Name par_qual: #REF!,#REF!,#REF!,#REF!,#REF!
Name par_time: #REF!,#REF!,#REF!,#REF!
Name par_time: #REF!,#REF!,#REF!,#REF!
Name par2.12s: #REF!
Name par2.12s: #REF!
Name par2.4s: #REF!,#REF!,#REF!,#REF!,#REF!,#REF!,#REF!,#REF!,#REF!,#REF!,#REF!,#REF!,#REF!,#REF!,#REF!,#REF!
Name par2.4s: #REF!,#REF!,#REF!,#REF!,#REF!,#REF!,#REF!,#REF!,#REF!,#REF!,#REF!,#REF!,#REF!,#REF!,#REF!,#REF!
Name par2.5s: #REF!,#REF!

Sheet 1
I1: Հավելված N 1
G2: ՀՀ կառավարության 2025 թվականի
I3: N ------------ -Ն որոշման
B5: «ՀԱՅԱՍՏԱՆԻ ՀԱՆՐԱՊԵՏՈՒԹՅԱՆ 2025 ԹՎԱԿԱՆԻ ՊԵՏԱԿԱՆ ԲՅՈՒՋԵԻ ՄԱՍԻՆ» ՕՐԵՆՔԻ N 1 ՀԱՎԵԼՎԱԾԻ N 2 ԱՂՅՈՒՍԱԿՈՒՄ ԿԱՏԱՐՎՈՂ ՎԵՐԱԲԱՇԽՈՒՄԸ ԵՎ ՀԱՅԱՍՏԱՆԻ ՀԱՆՐԱՊԵՏՈՒԹՅԱՆ ԿԱՌԱՎԱՐՈՒԹՅԱՆ 2024 ԹՎԱԿԱՆԻ ԴԵԿՏԵՄԲԵՐԻ 27-Ի N 2060-Ն ՈՐՈՇՄԱՆ N 5 ՀԱՎԵԼՎԱԾԻ N 1 ԱՂՅՈՒՍԱԿՈՒՄ ԿԱՏԱՐՎՈՂ ՓՈՓՈԽՈՒԹՅՈՒՆՆԵՐԸ ԵՎ ԼՐԱՑՈՒՄՆԵՐԸ
G9: հազար դրամներով
A10: ԲԳԿ | B10: Ծրագրային դասիչը | D10: ԲԳԿ/Ծրագրի /միջոցառման անվանումը | E10: Ծրագրի նպատակը/Միջոցառման նկարագրությունը | F10: Վերջնական արդյունքի նկարագրությունը/Միջոցառման տեսակը | G10: Ցուցանիշների փոփոխությունը (ավելացումները նշված են դրական նշանով, իսկ նվազեցումները` փակագծերում)
B11: Ծրագիր | C11: Միջոցառում | G11: Առաջին կիսամյակ | H11: Ինն ամիս | I11: Տարի
A12: ԸՆԴԱՄԵՆԸ | G12: =G13 -> 0 | H12: =H13 -> 0 | I12: =I13 -> 0
A13: ՀՀ տարածքային կառավարման և ենթակառուցվածքների նախարարություն | G13: =G14 -> 0 | H13: =H14 -> 0 | I13: =I14 -> 0
B14: 1212 | D14: Տարածքային զարգացում | E14: Տարածքային համաչափ զարգացման խթանում | F14: ՀՀ համայնքների կառավարման արդյունավետության բարձրացում և տնտեսական գործունեության խթանում | G14: =G15+G16 -> 0 | H14: =H15+H16 -> 0 | I14: =I15+I16 -> 0
C15: 1212-12025 | D15: Մարզերում առաջնահերթ լուծում պահանջող հիմնախնդիրների լուծում | E15: Մարզերում առաջնահերթ լուծում պահանջող ծրագրերի իրականացում, որի արդյունքում լուծում կտրվի բնակչության և համայնքների սոցիալական նշանակություն ունեցող հիմնախնդիրներին: | F15: Տրանսֆերտների տրամադրում | G15: ='2'!G23 -> 24915.7 | H15: ='2'!H23 -> 24915.7 | I15: ='2'!I23 -> 24915.7
C16: 1212 - 32001 | D16: ՀՀ մարզերում առաջնահերթ լուծում պահանջող անհետաձգելի ծրագրերի իրականացում | E16: ՀՀ մարզերում առաջնահերթ լուծում պահանջող անհետաձգելի ծրագրերի իրականացում, որի արդյունքում լուծում կտրվի մարզային ենթակայության կազմակերպությունների և համայնքային նշանակություն ունեցող հիմնախնդիրներին | F16: Այլ պետական կազմակերպությունների կողմից օգտագործվող ոչ ֆինանսական ակտիվների հետ գործառնություններ | G16: ='2'!G39 -> -24915.7 | H16: ='2'!H39 -> -24915.7 | I16: ='2'!I39 -> -24915.7
B20: ՀԱՅԱՍՏԱՆԻ ՀԱՆՐԱՊԵՏՈՒԹՅԱՆ
B21: ՎԱՐՉԱՊԵՏԻ ԱՇԽԱՏԱԿԱԶՄԻ
C22: ՂԵԿԱՎԱՐ ՝ Ա. ՀԱՐՈՒԹՅՈՒՆՅԱՆ

Sheet 2
I1: Հավելված N 2
F2: ՀՀ կառավարության 2025 թվականի
I3: N ------------ -Ն որոշման
A5: ՀԱՅԱՍՏԱՆԻ ՀԱՆՐԱՊԵՏՈՒԹՅԱՆ ԿԱՌԱՎԱՐՈՒԹՅԱՆ 2024 ԹՎԱԿԱՆԻ ԴԵԿՏԵՄԲԵՐԻ 27-Ի N 2060-Ն ՈՐՈՇՄԱՆ NN 3 ԵՎ 4 ՀԱՎԵԼՎԱԾՆԵՐՈՒՄ ԿԱՏԱՐՎՈՂ ՓՈՓՈԽՈՒԹՅՈՒՆՆԵՐԸ ԵՎ ԼՐԱՑՈՒՄՆԵՐԸ
I6: հազար դրամներով
A7: Գործառական դասիչը | D7: Ծրագրային դասիչը | F7: Բյուջետային ծախսերի գործառական դասակարգման բաժինների, խմբերի և դասերի, բյուջետային ծրագրերի միջոցառումների, բյուջետային հատկացումների գլխավոր կարգադրիչների անվանումները | G7: Ցուցանիշների փոփոխությունը (ավելացումները նշված են դրական նշանով, իսկ նվազեցումները` փակագծերում)
A8: Բաժին | B8: Խումբ | C8: Դաս | D8: Ծրագիր | E8: Միջոցառում | G8: Առաջին կիսամյակ | H8: Ինն ամիս | I8: Տարի
F9: ԸՆԴԱՄԵՆԸ ԾԱԽՍԵՐ | G9: =G11 -> 0 | H9: =H11 -> 0 | I9: =I11 -> 0
F10: այդ թվում`
F11: ՀՀ տարածքային կառավարման և ենթակառուցվածքների նախարարություն | G11: =G13 -> 0 | H11: =H13 -> 0 | I11: =I13 -> 0
F12: այդ թվում`
A13: 01 | F13: ԸՆԴՀԱՆՈՒՐ ԲՆՈՒՅԹԻ ՀԱՆՐԱՅԻՆ ԾԱՌԱՅՈՒԹՅՈՒՆՆԵՐ | G13: =G15 -> 0 | H13: =H15 -> 0 | I13: =I15 -> 0
F14: այդ թվում`
B15: 08 | F15: Կառավարության տարբեր մակարդակների միջև իրականացվող ընդհանուր բնույթի տրանսֆերտներ | G15: =G17 -> 0 | H15: =H17 -> 0 | I15: =I17 -> 0
F16: այդ թվում`
C17: 01 | F17: Կառավարության տարբեր մակարդակների միջև իրականացվող ընդհանուր բնույթի տրանսֆերտներ | G17: =G19 -> 0 | H17: =H19 -> 0 | I17: =I19 -> 0
F18: այդ թվում`
F19: ՀՀ տարածքային կառավարման և ենթակառուցվածքների նախարարություն | G19: =G21 -> 0 | H19: =H21 -> 0 | I19: =I21 -> 0
F20: այդ թվում`
D21: 1212 | F21: Տարածքային զարգացում | G21: =G23+G39 -> 0 | H21: =H23+H39 -> 0 | I21: =I23+I39 -> 0
F22: այդ թվում
E23: 12025 | F23: Մարզերում առաջնահերթ լուծում պահանջող հիմնախնդիրների լուծում | G23: =G25 -> 24915.7 | H23: =H25 -> 24915.7 | I23: =I25 -> 24915.7
F24: այդ թվում` ըստ կատարողների
F25: ՀՀ Լոռու մարզպետի աշխատակազմ | G25: =G27 -> 24915.7 | H25: =H27 -> 24915.7 | I25: =I27 -> 24915.7
F26: այդ թվում` բյուջետային ծախսերի տնտեսագիտական դասակարգման հոդվածներ
F27: ԸՆԴԱՄԵՆԸ ԾԱԽՍԵՐ | G27: =G28 -> 24915.7 | H27: =H28 -> 24915.7 | I27: =I28 -> 24915.7
F28: ԸՆԹԱՑԻԿ ԾԱԽՍԵՐ | G28: =G29+G36 -> 24915.7 | H28: =H29+H36 -> 24915.7 | I28: =I29+I36 -> 24915.7
F29: ԾԱՌԱՅՈՒԹՅՈՒՆՆԵՐԻ ԵՎ ԱՊՐԱՆՔՆԵՐԻ ՁԵՌՔԲԵՐՈՒՄ | G29: =G32+G30 -> 3895.7 | H29: =H32+H30 -> 3895.7 | I29: =I32+I30 -> 3895.7
F30: Պայմանագրային այլ ծառայությունների ձեռքբերում | G30: =G31 -> 2184 | H30: =H31 -> 2184 | I30: =I31 -> 2184
F31: - Ընդհանուր բնույթի այլ ծառայություններ | G31: 2184 | H31: 2184 | I31: 2184
F32: Նյութեր (Ապրանքներ) | G32: =G33+G34+G35 -> 1711.7 | H32: =H33+H34+H35 -> 1711.7 | I32: =I33+I34+I35 -> 1711.7
F33: - Գրասենյակային նյութեր և հագուստ | G33: 1264.3 | H33: 1264.3 | I33: 1264.3
F34: - Կենցաղային և հանրային սննդի նյութեր | G34: 385 | H34: 385 | I34: 385
F35: - Առողջապահական և լաբորատոր նյութեր | G35: 62.4 | H35: 62.4 | I35: 62.4
F36: ՍՈՑԻԱԼԱԿԱՆ ՆՊԱՍՏՆԵՐ ԵՎ ԿԵՆՍԱԹՈՇԱԿՆԵՐ | G36: =G37 -> 21020 | H36: =H37 -> 21020 | I36: =I37 -> 21020
F37: Սոցիալական օգնության դրամական արտահայտությամբ նպաստներ (բյուջեից) | G37: =G38 -> 21020 | H37: =H38 -> 21020 | I37: =I38 -> 21020
F38: -Այլ նպաստներ բյուջեից | G38: 21020 | H38: =G38 -> 21020 | I38: =H38 -> 21020
E39: 32001 | F39: ՀՀ մարզերում առաջնահերթ լուծում պահանջող անհետաձգելի ծրագրերի իրականացում | G39: =G41 -> -24915.7 | H39: =H41 -> -24915.7 | I39: =I41 -> -24915.7
F40: այդ թվում` ըստ կատարողների
F41: ՀՀ կառավարություն | G41: =G43 -> -24915.7 | H41: =H43 -> -24915.7 | I41: =I43 -> -24915.7
...

Sheet 3.
H1: Հավելված N 3
H2: ՀՀ կառավարության 2025 թվականի
H3: ______________ ի ___Ն որոշման
A5: «ՀԱՅԱՍՏԱՆԻ ՀԱՆՐԱՊԵՏՈՒԹՅԱՆ 2025 ԹՎԱԿԱՆԻ ՊԵՏԱԿԱՆ ԲՅՈՒՋԵԻ ՄԱՍԻՆ» ՕՐԵՆՔԻ N 1 ՀԱՎԵԼՎԱԾԻ N 3 ԱՂՅՈՒՍԱԿՈՒՄ ԿԱՏԱՐՎՈՂ ՓՈՓՈԽՈՒԹՅՈՒՆԸ
G6: հազար դրամներով
A7: Ծրագրային դասիչ | C7: Բյուջետային գլխավոր կարգադրիչների, ծրագրերի, միջոցառումների և ուղղությունների անվանումները | D7: Ցուցանիշների փոփոխությունը ( նվազեցումները նշված են փակագծերում)
D8: Ընդամենը, | E8: այդ թվում՝
A9: Ծրագիր | B9: Միջոցառում | E9: Կառուցման աշխատանքներ | F9: Վերակառուցման, վերանորոգման և վերականգնման աշխատանքներ | G9: Նախագծահե- տազոտական, գեոդեզիա- քարտեզագրա- կան աշխա- տանքներ | H9: Ոչ ֆինանսական այլ ակտիվների ձեռքբերում
C10: ԸՆԴԱՄԵՆԸ | D10: =+E10+F10+G10+H10 -> -24915.7 | E10: =+E12 -> 0 | F10: =+F12 -> -24915.7 | G10: =+G12 -> 0 | H10: =+H12 -> 0
C11: այդ թվում՝
C12: ՀՀ ՏԱՐԱԾՔԱՅԻՆ ԿԱՌԱՎԱՐՄԱՆ ԵՎ ԵՆԹԱԿԱՌՈՒՑՎԱԾՔՆԵՐԻ ՆԱԽԱՐԱՐՈՒԹՅՈՒՆ | D12: =D14 -> -24915.7 | E12: =E14 -> 0 | F12: =F14 -> -24915.7 | G12: =G14 -> 0 | H12: =H14 -> 0
C13: այդ թվում`
A14: 1212 | B14: 32001 | C14: ՀՀ մարզերում առաջնահերթ լուծում պահանջող անհետաձգելի ծրագրերի իրականացում | D14: =+E14+F14+G14+H14 -> -24915.7 | E14: 0 | F14: ='2'!I39 -> -24915.7 | G14: 0 | H14: 0
C24: ՀԱՅԱՍՏԱՆԻ ՀԱՆՐԱՊԵՏՈՒԹՅԱՆ
C25: ՎԱՐՉԱՊԵՏԻ ԱՇԽԱՏԱԿԱԶՄԻ ՂԵԿԱՎԱՐ ՝
C26: Ա. ՀԱՐՈՒԹՅՈՒՆՅԱՆ

Sheet 4
G1: Հավելված 4
G2: ՀՀ կառավարության 2025 թվականի
G3: ______________ ի ___Ն որոշման
B5: ՀԱՅԱՍՏԱՆԻ ՀԱՆՐԱՊԵՏՈՒԹՅԱՆ ԿԱՌԱՎԱՐՈՒԹՅԱՆ 2024 ԹՎԱԿԱՆԻ ԴԵԿՏԵՄԲԵՐԻ 27-Ի N 2060-Ն ՈՐՈՇՄԱՆ N 5 ՀԱՎԵԼՎԱԾԻ N 2 ԱՂՅՈՒՍԱԿՈՒՄ ԿԱՏԱՐՎՈՂ ՓՈՓՈԽՈՒԹՅՈՒՆԸ
F7: հազար դրամներով
B8: Ծրագրային դասիչը | D8: Բյուջետային գլխավոր կարգադրիչների, ծրագրերի, միջոցառումների և ուղղությունների անվանումները | E8: Ցուցանիշների փոփոխությունը ( նվազեցումները նշված են փակագծերում)
B9: Ծրագիր | C9: Միջոցառում | E9: Առաջին կիսամյակ | F9: Ինն ամիս | G9: Տարի
D10: ԸՆԴԱՄԵՆԸ | E10: =E12 -> -24915.7 | F10: =F12 -> -24915.7 | G10: =G12 -> -24915.7
D11: այդ թվում՝
D12: ՀՀ ՏԱՐԱԾՔԱՅԻՆ ԿԱՌԱՎԱՐՄԱՆ ԵՎ ԵՆԹԱԿԱՌՈՒՑՎԱԾՔՆԵՐԻ ՆԱԽԱՐԱՐՈՒԹՅՈՒՆ | E12: =E14 -> -24915.7 | F12: =F14 -> -24915.7 | G12: =G14 -> -24915.7
D13: այդ թվում`
B14: 1212 | C14: 32001 | D14: ՀՀ մարզերում առաջնահերթ լուծում պահանջող անհետաձգելի ծրագրերի իրականացում | E14: =E16 -> -24915.7 | F14: =F16 -> -24915.7 | G14: =G16 -> -24915.7
D15: այդ թվում` ըստ կատարողների
D16: ՀՀ կառավարություն | E16: ='2'!G39 -> -24915.7 | F16: ='2'!H39 -> -24915.7 | G16: ='2'!I39 -> -24915.7
C21: ՀԱՅԱՍՏԱՆԻ ՀԱՆՐԱՊԵՏՈՒԹՅԱՆ
C22: ՎԱՐՉԱՊԵՏԻ ԱՇԽԱՏԱԿԱԶՄԻ
D23: ՂԵԿԱՎԱՐ՝ Ա. ՀԱՐՈՒԹՅՈՒՆՅԱՆ

Sheet 5
L1: Հավելված № 5
K2: ՀՀ կառավարության 2025 թվականի
K3: ------------- ի № ---- -Ն որոշման
B5: ՀԱՅԱՍՏԱՆԻ ՀԱՆՐԱՊԵՏՈՒԹՅԱՆ ԿԱՌԱՎԱՐՈՒԹՅԱՆ 2024 ԹՎԱԿԱՆԻ ԴԵԿՏԵՄԲԵՐԻ 27-Ի № 2060-Ն ՈՐՈՇՄԱՆ № 9 ՀԱՎԵԼՎԱԾԻ ԱՂՅՈՒՍԱԿՆԵՐՈՒՄ ԿԱՏԱՐՎՈՂ ՓՈՓՈԽՈՒԹՅՈՒՆԸ ԵՎ ԼՐԱՑՈՒՄԸ
M7: հազար դրամներով
B8: ԲԳԿ | C8: Ծրագիր | E8: Միջոցառում | I8: Իրականացնողը/ ակտիվն օգտագործողը/ շահառուի ընտրության չափորոշիչը | J8: Արդյունքային չափորոշիչը | K8: Ցուցանիշների փոփոխությունը (ավելացումները նշված են դրական նշանով, իսկ նվազեցումները` փակագծերում)
C9: Դասիչը | D9: Անվանումը | E9: Դասիչը | F9: Անվանումը | G9: Նկարագրությունը | H9: Տեսակը | K9: Առաջին կիսամյակ | L9: Ինն ամիս | M9: Տարի
B10: ԸՆԴԱՄԵՆԸ | K10: =K11 -> 0 | L10: =L11 -> 0 | M10: =M11 -> 0
B11: ՀՀ տարածքային կառավարման և ենթակառուցվածքների նախարարություն | K11: =K13+K19 -> 0 | L11: =L13+L19 -> 0 | M11: =M13+M19 -> 0
C12: 1212 | D12: Տարածքային զարգացում | K12: =K13+K19 -> 0 | L12: =L13+L19 -> 0 | M12: =M13+M19 -> 0
E13: 1212-12025 | F13: Մարզերում առաջնահերթ լուծում պահանջող հիմնախնդիրների լուծում | K13: ='2'!G23 -> 24915.7 | L13: ='2'!H23 -> 24915.7 | M13: ='2'!I23 -> 24915.7
G14: Մարզերում առաջնահերթ լուծում պահանջող ծրագրերի իրականացում, որի արդյունքում լուծում կտրվի բնակչության և համայնքների սոցիալական նշանակություն ունեցող հիմնախնդիրներին:
H15: Տրանսֆերտների տրամադրում
I16: Համայնքներ
J17: Շահառու ընտանիքների քանակ, թիվ | K17: 16 | M17: 16
J18: Համայնքների թիվ, հատ | K18: 1 | M18: 1
E19: 1212 - 32001 | F19: ՀՀ մարզերում առաջնահերթ լուծում պահանջող անհետաձգելի ծրագրերի իրականացում | K19: ='2'!G39 -> -24915.7 | L19: ='2'!H39 -> -24915.7 | M19: ='2'!I39 -> -24915.7
G20: ՀՀ մարզերում առաջնահերթ լուծում պահանջող անհետաձգելի ծրագրերի իրականացում, որի արդյունքում լուծում կտրվի մարզային ենթակայության կազմակերպությունների և համայնքային նշանակություն ունեցող հիմնախնդիրներին
H21: Այլ պետական կազմակերպությունների կողմից օգտագործվող ոչ ֆինանսական ակտիվների հետ գործառնություններ
I22: Ակտիվն օգտագործող կազմակերպության անվանումը` ՀՀ համայնքներ
D26: ՀԱՅԱՍՏԱՆԻ ՀԱՆՐԱՊԵՏՈՒԹՅԱՆ
D27: ՎԱՐՉԱՊԵՏԻ ԱՇԽԱՏԱԿԱԶՄԻ
E28: ՂԵԿԱՎԱՐ ՝ Ա. ՀԱՐՈՒԹՅՈՒՆՅԱՆ

Sheet 6
L1: Հավելված № 6
K2: ՀՀ կառավարության 2025 թվականի
K3: ------------- ի № ---- -Ն որոշման
B5: ՀԱՅԱՍՏԱՆԻ ՀԱՆՐԱՊԵՏՈՒԹՅԱՆ ԿԱՌԱՎԱՐՈՒԹՅԱՆ 2024 ԹՎԱԿԱՆԻ ԴԵԿՏԵՄԲԵՐԻ 27-Ի № 2060-Ն ՈՐՈՇՄԱՆ № 9.1 ՀԱՎԵԼՎԱԾԻ ԱՂՅՈՒՍԱԿՆԵՐՈՒՄ ԿԱՏԱՐՎՈՂ ՓՈՓՈԽՈՒԹՅՈՒՆԸ ԵՎ ԼՐԱՑՈՒՄՆԵՐԸ
M7: հազար դրամներով
B8: ԲՍԿ | C8: Ծրագիր | E8: Միջոցառում | I8: Իրականացնողը/ ակտիվն օգտագործողը/ շահառուի ընտրության չափորոշիչը | J8: Արդյունքային չափորոշիչը | K8: Ցուցանիշների փոփոխությունը (ավելացումները նշված են դրական նշանով, իսկ նվազեցումները` փակագծերում)
C9: Դասիչը | D9: Անվանումը | E9: Դասիչը | F9: Անվանումը | G9: Նկարագրությունը | H9: Տեսակը | K9: Առաջին կիսամյակ | L9: Ինն ամիս | M9: Տարի
B10: ԸՆԴԱՄԵՆԸ | K10: =K11+K19 -> 0 | L10: =L11+L19 -> 0 | M10: =M11+M19 -> 0
B11: ՀՀ Լոռու մարզպետի աշխատակազմ | K11: =K13 -> 24915.7 | L11: =L13 -> 24915.7 | M11: =M13 -> 24915.7
C12: 1212 | D12: Տարածքային զարգացում | K12: =K13 -> 24915.7 | L12: =L13 -> 24915.7 | M12: =M13 -> 24915.7
E13: 1212-12025 | F13: Մարզերում առաջնահերթ լուծում պահանջող հիմնախնդիրների լուծում | K13: ='2'!G25 -> 24915.7 | L13: ='2'!H25 -> 24915.7 | M13: ='2'!I25 -> 24915.7
G14: Մարզերում առաջնահերթ լուծում պահանջող ծրագրերի իրականացում, որի արդյունքում լուծում կտրվի բնակչության և համայնքների սոցիալական նշանակություն ունեցող հիմնախնդիրներին:
H15: Տրանսֆերտների տրամադրում
I16: Համայնքներ
J17: Շահառու ընտանիքների քանակ, թիվ | K17: 16 | M17: 16
J18: Համայնքների թիվ, հատ | K18: 1 | M18: 1
B19: ՀՀ կառավարություն | K19: =K20 -> -24915.7 | L19: =L20 -> -24915.7 | M19: =M20 -> -24915.7
C20: 1212 | D20: Տարածքային զարգացում | K20: =K21 -> -24915.7 | L20: =L21 -> -24915.7 | M20: =M21 -> -24915.7
E21: 1212 - 32001 | F21: ՀՀ մարզերում առաջնահերթ լուծում պահանջող անհետաձգելի ծրագրերի իրականացում | K21: ='5'!K19 -> -24915.7 | L21: ='5'!L19 -> -24915.7 | M21: ='5'!M19 -> -24915.7
G22: ՀՀ մարզերում առաջնահերթ լուծում պահանջող անհետաձգելի ծրագրերի իրականացում, որի արդյունքում լուծում կտրվի մարզային ենթակայության կազմակերպությունների և համայնքային նշանակություն ունեցող հիմնախնդիրներին
H23: Այլ պետական կազմակերպությունների կողմից օգտագործվող ոչ ֆինանսական ակտիվների հետ գործառնություններ
I24: Ակտիվն օգտագործող կազմակերպության անվանումը` ՀՀ համայնքներ
D28: ՀԱՅԱՍՏԱՆԻ ՀԱՆՐԱՊԵՏՈՒԹՅԱՆ
D29: ՎԱՐՉԱՊԵՏԻ ԱՇԽԱՏԱԿԱԶՄԻ
E30: ՂԵԿԱՎԱՐ ՝ Ա. ՀԱՐՈՒԹՅՈՒՆՅԱՆ
