Workbook

Sheet 1
J2: Հավելված N 1
J3: ՀՀ կառավարության 2025թվականի
J4: ___________ ___-ի N _______ որոշման
A5: «ՀԱՅԱՍՏԱՆԻ ՀԱՆՐԱՊԵՏՈՒԹՅԱՆ 2025 ԹՎԱԿԱՆԻ ՊԵՏԱԿԱՆ ԲՅՈՒՋԵԻ ՄԱՍԻՆ» ՀՀ ՕՐԵՆՔԻ N 1 ՀԱՎԵԼՎԱԾԻ N 2 ԱՂՅՈՒՍԱԿՈՒՄ ԿԱՏԱՐՎՈՂ ՎԵՐԱԲԱՇԽՈՒՄԸ ԵՎ ՀԱՅԱՍՏԱՆԻ ՀԱՆՐԱՊԵՏՈՒԹՅԱՆ ԿԱՌԱՎԱՐՈՒԹՅԱՆ 2024 ԹՎԱԿԱՆԻ ԴԵԿՏԵՄԲԵՐԻ 27-Ի N 2060-Ն ՈՐՈՇՄԱՆ N 5 ՀԱՎԵԼՎԱԾԻ N1 ԱՂՅՈՒՍԱԿՈՒՄ ԿԱՏԱՐՎՈՂ ՓՈՓՈԽՈՒԹՅՈՒՆՆԵՐԸ
I7: հազար դրամներով
A8: ԲԳԿ | B8: Ծրագրային դասիչը | D8: ԲԳԿ/Ծրագրի /միջոցառման անվանումը | E8: Ծրագրի նպատակը/Միջոցառման նկարագրությունը | F8: Վերջնական արդյունքի նկարագրությունը/Միջոցառման տեսակը | G8: Ցուցանիշների փոփոխությունը (ավելացումները նշված են դրական նշանով, իսկ նվազեցումները՝ փակագծերում)
B9: Ծրագիր | C9: Միջոցառում | G9: Առաջին եռամսյակ | H9: Առաջին կիսամյակ | I9: Ինն ամիս | J9: Տարի
A10: ԸՆԴԱՄԵՆԸ | G10: =+G11 -> 0 | H10: =+H11 -> 0 | I10: =+I11 -> 0 | J10: =+J11 -> 0
A11: ՀՀ արդարադատության նախարարություն | G11: =+G12 -> 0 | H11: =+H12 -> 0 | I11: =+I12 -> 0 | J11: =+J12 -> 0
B12: 1120 | D12: Քրեակատարողական ծառայություններ | E12: Դատապարտյալների պատժի կատարման և ուղղման համար անհրաժեշտ պայմանների ապահովում | F12: Դատապարտյալների զբաղվածության և իրավունքների պաշտպանություն | G12: =+G14+G15+G13 -> 0 | H12: =+H14+H15+H13 -> 0 | I12: =+I14+I15+I13 -> 0 | J12: =+J14+J15+J13 -> 0
C13: 1120 - 11001 | D13: Քրեակատարողական ծառայություններ | E13: Դատապարտյալների և կալանավորված անձանց վերահսկողություն, կալանավայրերում դատապարտյալների և կալանավորված անձանց պահման պայմանների ապահովում, դատապարտյալների սոցիալ- հոգեբանական վերականգնում, ուսուցում, վերասոցիալականացում | F13: Ծառայությունների մատուցում | G13: =+'3'!G22 -> 0 | H13: =+'3'!H22 -> 0 | I13: =+'3'!I22 -> -67583.2 | J13: =+'3'!J22 -> -67583.2
C14: 1120-31002 | D14: ՀՀ արդարադատության նախարարության քրեակատարողական ծառայության կարողությունների զարգացում և տեխնիկական հագեցվածության ապահովում | E14: ՀՀ արդարադատության նախարարության քրեակատարողական ծառայության աշխատանքային պայմանների բարելավման համար վարչական սարքավորումների ձեռք բերում | F14: Պետական մարմինների կողմից օգտագործվող ոչ ֆինանսական ակտիվների հետ գործառնություններ | G14: =+'3'!G40 -> 0 | H14: =+'3'!H40 -> 0 | I14: =+'3'!I40 -> 399583.2 | J14: =+'3'!J40 -> 399583.2
C15: 1120-31008 | D15: Քրեակատարողական նոր հիմնարկի կառուցում և հետագա շահագործում | E15: Միջազգային չափանիշներին համապատասխան ազատությունից զրկված անձանց համար պատշաճ պայմանների ապահովման նպատակով նոր քրեակատարողական հիմնարկի կառուցում | F15: Պետական մարմինների կողմից օգտագործվող ոչ ֆինանսական ակտիվների հետ գործառնություններ | G15: ='3'!G31 -> 0 | H15: ='3'!H31 -> 0 | I15: ='3'!I31 -> -332000 | J15: ='3'!J31 -> -332000

Sheet 2
H1: Հավելված № 2
H2: ՀՀ կառավարության 2025 թվականի ----------
H3: № ---------- որոշման
A6: ՀԱՅԱՍՏԱՆԻ ՀԱՆՐԱՊԵՏՈՒԹՅԱՆ 2025 ԹՎԱԿԱՆԻ ՊԵՏԱԿԱՆ ԲՅՈՒՋԵԻ ՄԱՍԻՆ ՕՐԵՆՔԻ N 1 ՀԱՎԵԼՎԱԾԻ N 3 ԱՂՅՈՒՍԱԿՈՒՄ ԿԱՏԱՐՎՈՂ ՓՈՓՈԽՈՒԹՅՈՒՆՆԵՐԸ
G7: հազար դրամ
A8: Ծրագրային դասիչը | C8: Բյուջետային գլխավոր կարգադրիչների, ծրագրերի և միջոցառումների և ուղղությունների անվանումները | D8: Ընդամենը | E8: Ցուցանիշների փոփոխությունը (ավելացումները նշված են դրական նշանով,իսկ նվազեցումները՝ փակագծերում)
A10: Ծրագիր | B10: Միջոցառում | E10: Կառուցման աշխատանքներ | F10: Վերակառուցման, վերանորոգման և վերականգնման աշխատանքներ | G10: Նախագծահե- տազոտական, գեոդեզիա- քարտեզագրա- կան աշխա- տանքներ | H10: Ոչ ֆինանսական այլ ակտիվների ձեռքբերում
C11: Ընդամենը | D11: =+D13 -> 67583.2 | E11: =+E13 -> -332000 | F11: =+F13 -> 0 | G11: =+G13 -> 0 | H11: =+H13 -> 399583.2
C12: այդ թվում`
C13: ՀՀ արդարադատության նախարարություն | D13: =+D15+D16 -> 67583.2 | E13: =+E16+E15 -> -332000 | F13: =+F16+F15 -> 0 | G13: =+G16+G15 -> 0 | H13: =+H16+H15 -> 399583.2
C14: այդ թվում՝
A15: 1120 | B15: 31002 | C15: ՀՀ արդարադատության նախարարության քրեակատարողական ծառայության կարողությունների զարգացում և տեխնիկական հագեցվածության ապահովում | D15: =SUM(F15:H15) -> 399583.2 | E15: =+'3'!J21 -> 0 | F15: 0 | H15: =+'3'!J40 -> 399583.2
A16: 1120 | B16: 31008 | C16: Քրեակատարողական նոր հիմնարկի կառուցում և հետագա շահագործում | D16: =SUM(E16:H16) -> -332000 | E16: =+'3'!J31 -> -332000 | F16: 0

Sheet 3
J1: Հավելված N 3
J2: ՀՀ կառավարության 2025թվականի
J3: ___________ ___-ի N _______ որոշման
A6: ՀԱՅԱՍՏԱՆԻ ՀԱՆՐԱՊԵՏՈՒԹՅԱՆ ԿԱՌԱՎԱՐՈՒԹՅԱՆ 2024 ԹՎԱԿԱՆԻ ԴԵԿՏԵՄԲԵՐԻ 27-Ի N 2060-Ն ՈՐՈՇՄԱՆ N 3 և N 4 ՀԱՎԵԼՎԱԾՆԵՐՈՒՄ ԿԱՏԱՐՎՈՂ ՓՈՓՈԽՈՒԹՅՈՒՆՆԵՐԸ ԵՎ ԼՐԱՑՈՒՄՆԵՐԸ
J7: (հազ. դրամ)
A8: Գործառական դասիչը | D8: Ծրագրային դասիչը | F8: Բյուջետային ծախսերի գործառական դասակարգման բաժինների, խմբերի և դասերի, բյուջետային ծրագրերի, միջոցառումների բյուջետային հատկացումների գլխավոր կարգադրիչների անվանումները | G8: Ցուցանիշների փոփոխությունը (ավելացումները նշված են դրական նշանով,իսկ նվազեցումները՝ փակագծերում)
A9: Բաժին | B9: Խումբ | C9: Դաս | D9: Ծրագիր | E9: Միջոցառում | G9: Առաջին եռամսյակ | H9: Առաջին կիսամյակ | I9: Ինն ամիս | J9: Տարի
F10: ԸՆԴԱՄԵՆԸ | G10: =G12 -> 0 | H10: =H12 -> 0 | I10: =I12 -> 0 | J10: =J12 -> 0
F11: այդ թվում`
A12: 03 | F12: ՀԱՍԱՐԱԿԱԿԱՆ ԿԱՐԳ, ԱՆՎՏԱՆԳՈՒԹՅՈՒՆ ԵՎ ԴԱՏԱԿԱՆ ԳՈՐԾՈՒՆԵՈՒԹՅՈՒՆ | G12: =G14 -> 0 | H12: =H14 -> 0 | I12: =I14 -> 0 | J12: =J14 -> 0
F13: այդ թվում`
B14: 05 | F14: Կալանավայրեր | G14: =G16 -> 0 | H14: =H16 -> 0 | I14: =I16 -> 0 | J14: =J16 -> 0
F15: այդ թվում`
C16: 01 | F16: Կալանավայրեր | G16: =G20 -> 0 | H16: =H20 -> 0 | I16: =I20 -> 0 | J16: =J20 -> 0
F17: այդ թվում`
F18: ՀՀ արդարադատության նախարարություն | G18: =G20 -> 0 | H18: =H20 -> 0 | I18: =I20 -> 0 | J18: =J20 -> 0
F19: այդ թվում`
D20: 1120 | F20: Քրեակատարողական ծառայություններ | G20: =G31+G40+G22 -> 0 | H20: =H31+H40+H22 -> 0 | I20: =I31+I40+I22 -> 0 | J20: =J31+J40+J22 -> 0
F21: այդ թվում՝
E22: 11001 | F22: Քրեակատարողական ծառայություններ | G22: =G24 -> 0 | H22: =H24 -> 0 | I22: =I24 -> -67583.2 | J22: =J24 -> -67583.2
F23: այդ թվում` ըստ կատարողների
F24: ՀՀ արդարադատության նախարարության քրեակատարողական ծառայություն | G24: =G26 -> 0 | H24: =H26 -> 0 | I24: =I26 -> -67583.2 | J24: =J26 -> -67583.2
F25: այդ թվում` բյուջետային ծախսերի տնտեսագիտական դասակարգման հոդվածներ
F26: ԸՆԴԱՄԵՆԸ ԾԱԽՍԵՐ | G26: =G27 -> 0 | H26: =H27 -> 0 | I26: =I27 -> -67583.2 | J26: =J27 -> -67583.2
F27: ԸՆԹԱՑԻԿ ԾԱԽՍԵՐ | G27: =G28 -> 0 | H27: =H28 -> 0 | I27: =I28 -> -67583.2 | J27: =J28 -> -67583.2
F28: ԾԱՌԱՅՈՒԹՅՈՒՆՆԵՐԻ ԵՎ ԱՊՐԱՆՔՆԵՐԻ ՁԵՌՔԲԵՐՈՒՄ | G28: =G29 -> 0 | H28: =H29 -> 0 | I28: =I29 -> -67583.2 | J28: =J29 -> -67583.2
F29: Պայմանագրային այլ ծառայությունների ձեռքբերում | G29: =G30 -> 0 | H29: =H30 -> 0 | I29: =I30 -> -67583.2 | J29: =J30 -> -67583.2
F30: - Կենցաղային և հանրային սննդի ծառայություններ | G30: 0 | H30: 0 | I30: -67583.2 | J30: -67583.2
E31: 31008 | F31: Քրեակատարողական նոր հիմնարկի կառուցում և հետագա շահագործում | G31: =G33 -> 0 | H31: =H33 -> 0 | I31: =I33 -> -332000 | J31: =J33 -> -332000
F32: այդ թվում` ըստ կատարողների
F33: ՀՀ քաղաքաշինության կոմիտե | G33: =G35 -> 0 | H33: =H35 -> 0 | I33: =I35 -> -332000 | J33: =J35 -> -332000
F34: այդ թվում` բյուջետային ծախսերի տնտեսագիտական դասակարգման հոդվածներ
F35: ԸՆԴԱՄԵՆԸ ԾԱԽՍԵՐ | G35: =G36 -> 0 | H35: =H36 -> 0 | I35: =I36 -> -332000 | J35: =J36 -> -332000
F36: ՈՉ ՖԻՆԱՆՍԱԿԱՆ ԱԿՏԻՎՆԵՐԻ ԳԾՈՎ ԾԱԽՍԵՐ | G36: =G37 -> 0 | H36: =H37 -> 0 | I36: =I37 -> -332000 | J36: =J37 -> -332000
F37: ՀԻՄՆԱԿԱՆ ՄԻՋՈՑՆԵՐ | G37: =G38 -> 0 | H37: =H38 -> 0 | I37: =I38 -> -332000 | J37: =J38 -> -332000
F38: ՇԵՆՔԵՐ ԵՎ ՇԻՆՈՒԹՅՈՒՆՆԵՐ | G38: =G39 -> 0 | H38: =H39 -> 0 | I38: =I39 -> -332000 | J38: =J39 -> -332000
F39: - Շենքերի և շինությունների շինարարություն | G39: 0 | H39: 0 | I39: -332000 | J39: -332000
E40: 31002 | F40: ՀՀ արդարադատության նախարարության քրեակատարողական ծառայության կարողությունների զարգացում և տեխնիկական հագեցվածության ապահովում | G40: =G42 -> 0 | H40: =H42 -> 0 | I40: =I42 -> 399583.2 | J40: =J42 -> 399583.2
F41: այդ թվում` ըստ կատարողների
F42: ՀՀ արդարադատության նախարարության քրեակատարողական ծառայություն | G42: =G44 -> 0 | H42: =H44 -> 0 | I42: =I44 -> 399583.2 | J42: =J44 -> 399583.2
F43: այդ թվում` բյուջետային ծախսերի տնտեսագիտական դասակարգման հոդվածներ
F44: ԸՆԴԱՄԵՆԸ ԾԱԽՍԵՐ | G44: =G45 -> 0 | H44: =H45 -> 0 | I44: =I45 -> 399583.2 | J44: =J45 -> 399583.2
F45: ՈՉ ՖԻՆԱՆՍԱԿԱՆ ԱԿՏԻՎՆԵՐԻ ԳԾՈՎ ԾԱԽՍԵՐ | G45: =G46 -> 0 | H45: =H46 -> 0 | I45: =I46 -> 399583.2 | J45: =J46 -> 399583.2
F46: ՀԻՄՆԱԿԱՆ ՄԻՋՈՑՆԵՐ | G46: =G47 -> 0 | H46: =H47 -> 0 | I46: =I47 -> 399583.2 | J46: =J47 -> 399583.2
F47: ՄԵՔԵՆԱՆԵՐ ԵՎ ՍԱՐՔԱՎՈՐՈՒՄՆԵՐ | G47: =G48 -> 0 | H47: =H48 -> 0 | I47: =I48 -> 399583.2 | J47: =J48 -> 399583.2
F48: - Այլ մեքենաներ և սարքավորումներ | H48: 0 | I48: 399583.2 | J48: 399583.2

Sheet 4
G1: Հավելված № 4
C2: ՀՀ կառավարության 2025 թվականի
C3: ______________ ի ___Ն որոշման
A5: ՀԱՅԱՍՏԱՆԻ ՀԱՆՐԱՊԵՏՈՒԹՅԱՆ ԿԱՌԱՎԱՐՈՒԹՅԱՆ 2024 ԹՎԱԿԱՆԻ ԴԵԿՏԵՄԲԵՐԻ 27-Ի N 2060-Ն ՈՐՈՇՄԱՆ N5 ՀԱՎԵԼՎԱԾԻ N2 ԱՂՅՈՒՍԱԿՈՒՄ ԿԱՏԱՐՎՈՂ ՓՈՓՈԽՈՒԹՅՈՒՆՆԵՐԸ
G7: հազար դրամներով
A8: Ծրագրային դասիչ | C8: Բյուջետային գլխավոր կարգադրիչների, ծրագրերի, միջոցառումների, միջոցառումները կատարող պետական մարմինների և ուղղությունների անվանումները | D8: Ցուցանիշների փոփոխությունը (ավելացումները նշված են դրական նշանով,իսկ նվազեցումները՝ փակագծերում)
A9: Ծրագիր | B9: Միջոց առում | D9: Առաջին եռամսյակ | E9: Առաջին կիսամյակ | F9: Ինն ամիս | G9: Տարի
C10: ԸՆԴԱՄԵՆԸ | D10: =+D11 -> 0 | E10: =+E11 -> 0 | F10: =+F11 -> 67583.2 | G10: =+G11 -> 67583.2
C11: ՀՀ արդարադատության նախարարություն | D11: =+D13 -> 0 | E11: =+E13+E16 -> 0 | F11: =+F13+F16 -> 67583.2 | G11: =+G13+G16 -> 67583.2
C12: այդ թվում`
A13: 1120 | B13: 31002 | C13: ՀՀ արդարադատության նախարարության քրեակատարողական ծառայության կարողությունների զարգացում և տեխնիկական հագեցվածության ապահովում | D13: =+D15 -> 0 | E13: =+E15 -> 0 | F13: =+F15 -> 399583.2 | G13: =+G15 -> 399583.2
C14: այդ թվում` ըստ կատարողների
C15: ՀՀ արդարադատության նախարարության քրեակատարողական ծառայություն | D15: =+'3'!G40 -> 0 | E15: =+'3'!H40 -> 0 | F15: =+'3'!I40 -> 399583.2 | G15: =+'3'!J40 -> 399583.2
A16: 1120 | B16: 31008 | C16: Քրեակատարողական նոր հիմնարկի կառուցում և հետագա շահագործում | D16: =+D18 -> 0 | E16: =+E18 -> 0 | F16: =+F18 -> -332000 | G16: =+G18 -> -332000
C17: այդ թվում` ըստ կատարողների
C18: ՀՀ քաղաքաշինության կոմիտե | D18: =+'3'!G31 -> 0 | E18: =+'3'!H31 -> 0 | F18: =+'3'!I31 -> -332000 | G18: =+'3'!J31 -> -332000

Sheet 5
M1: Հավելված N 5
M2: ՀՀ կառավարության 2025թվականի
M3: ___________ ___-ի N _______ որոշման
A8: ՀԱՅԱՍՏԱՆԻ ՀԱՆՐԱՊԵՏՈՒԹՅԱՆ ԿԱՌԱՎԱՐՈՒԹՅԱՆ 2024 ԹՎԱԿԱՆԻ ԴԵԿՏԵՄԲԵՐԻ 27-Ի ԹԻՎ 2060-Ն ՈՐՈՇՄԱՆ N 9 ՀԱՎԵԼՎԱԾՈՒՄ ԿԱՏԱՐՎՈՂ ՓՈՓՈԽՈՒԹՅՈՒՆՆԵՐԸ ԵՎ ԼՐԱՑՈՒՄՆԵՐԸ
M11: հազար դրամներով
A12: ԲԳԿ | B12: Ծրագիր | D12: Միջոցառում | H12: Իրականացնողը/ ակտիվն օգտագործողը/ շահառուի ընտրության չափորոշիչը | I12: Արդյունքային չափորոշիչը | J12: Ցուցանիշների փոփոխությունը(ավելացումները նշված են դրական նշանով,իսկ նվազեցումները՝ փակագծերում)
B13: Դասիչը | C13: Անվա-նումը | D13: Դասիչը | E13: Անվա-նումը | F13: Նկարագրու-թյունը | G13: Տեսակը | J13: Առաջին եռամսյակ | K13: Առաջին կիսամյակ | L13: Ինն ամիս | M13: Տարի
A14: ԸՆԴԱՄԵՆԸ | J14: =+J15 -> 0 | K14: =+K15 -> 0 | L14: =+L15 -> 0 | M14: =+M15 -> 0
A15: ՀՀ արդարադատության նախարարություն | J15: =J16 -> 0 | K15: =K16 -> 0 | L15: =L16 -> 0 | M15: =M16 -> 0
B16: 1120 | C16: Քրեակատարողական ծառայություններ | J16: =+J21+J26+J17 -> 0 | K16: =+K21+K26+K17 -> 0 | L16: =+L21+L26+L17 -> 0 | M16: =+M21+M26+M17 -> 0
D17: 1120 - 11001 | E17: Քրեակատարողական ծառայություններ | J17: =+'3'!G22 -> 0 | K17: =+'3'!H22 -> 0 | L17: =+'3'!I22 -> -67583.2 | M17: =+'3'!J22 -> -67583.2
F18: Դատապարտյալների և կալանավորված անձանց վերահսկողություն, կալանավայրերում դատապարտյալների և կալանավորված անձանց պահման պայմանների ապահովում, դատապարտյալների սոցիալ- հոգեբանական վերականգնում, ուսուցում, վերասոցիալականացում
G19: Ծառայությունների մատուցում
H20: Ծառայությունը մատուցողի անվանումը` Քրեակատարողական ծառայություն
D21: 1120-31002 | E21: ՀՀ արդարադատության նախարարության քրեակատարողական ծառայության կարողությունների զարգացում և տեխնիկական հագեցվածության ապահովում | J21: =+'3'!G31 -> 0 | K21: =+'3'!H31 -> 0 | L21: =+'3'!I40 -> 399583.2 | M21: =+'3'!J40 -> 399583.2
F22: ՀՀ արդարադատության նախարարության քրեակատարողական ծառայության աշխատանքային պայմանների բարելավման համար վարչական սարքավորումների ձեռք բերում
G23: Պետական մարմինների կողմից օգտագործվող ոչ ֆինանսական ակտիվների հետ գործառնություններ
H24: Ակտիվն օգտագործող կազմակերպության անվանումը` Քրեակատարողական ծառայություն
I25: Հսկիչ սարքավորումներ, հատ | M25: 6
D26: 1120 - 31008 | E26: Քրեակատարողական նոր հիմնարկի կառուցում և հետագա շահագործում | J26: =+'3'!G40 -> 0 | K26: =+'3'!H40 -> 0 | L26: =+'3'!I31 -> -332000 | M26: =+'3'!J31 -> -332000
F27: Միջազգային չափանիշներին համապատասխան ազատությունից զրկված անձանց համար պատշաճ պայմանների ապահովման նպատակով նոր քրեակատարողական հիմնարկի կառուցում
G28: Պետական մարմինների կողմից օգտագործվող ոչ ֆինանսական ակտիվների հետ գործառնություններ
H29: Ակտիվն օգտագործող կազմակերպության անվանումը` Քրեակատարողական ծառայություն

Sheet 6
M1: Հավելված N 6
M2: ՀՀ կառավարության 2025թվականի
M3: ___________ ___-ի N _______ որոշման
A6: ՀԱՅԱՍՏԱՆԻ ՀԱՆՐԱՊԵՏՈՒԹՅԱՆ ԿԱՌԱՎԱՐՈՒԹՅԱՆ 2024 ԹՎԱԿԱՆԻ ԴԵԿՏԵՄԲԵՐԻ 27-Ի ԹԻՎ 2060-Ն ՈՐՈՇՄԱՆ N 9.1 ՀԱՎԵԼՎԱԾՈՒՄ ԿԱՏԱՐՎՈՂ ՓՈՓՈԽՈՒԹՅՈՒՆՆԵՐԸ ԵՎ ԼՐԱՑՈՒՄՆԵՐԸ
M10: հազար դրամներով
A11: ԲՍԿ | B11: Ծրագիր | D11: Միջոցառում | H11: Իրականացնողը/ ակտիվն օգտագործողը/ շահառուի ընտրության չափորոշիչը | I11: Արդյունքային չափորոշիչը | J11: Ցուցանիշների փոփոխությունը(ավելացումները նշված են դրական նշանով,իսկ նվազեցումները՝ փակագծերում)
B12: Դասիչը | C12: Անվանումը | D12: Դասիչը | E12: Անվանումը | F12: Նկարագրությունը | G12: Տեսակը | J12: Առաջին եռամսյակ | K12: Առաջին կիսամյակ | L12: Ինն ամիս | M12: Տարի
A13: ԸՆԴԱՄԵՆԸ | J13: =+J14+J25 -> 0 | K13: =+K14+K25 -> 0 | L13: =+L14+L25 -> 0 | M13: =+M14+M25 -> 0
A14: ՀՀ արդարադատության նախարարության քրեակատարողական ծառայություն | J14: =+J15 -> 0 | K14: =+K15 -> 0 | L14: =+L15 -> 332000 | M14: =+M15 -> 332000
B15: 1120 | C15: Քրեակատարողական ծառայություններ | J15: =+J20+J16 -> 0 | K15: =+K20+K16 -> 0 | L15: =+L20+L16 -> 332000 | M15: =+M20+M16 -> 332000
D16: 1120 - 11001 | E16: Քրեակատարողական ծառայություններ | J16: ='3'!G22 -> 0 | K16: ='3'!H22 -> 0 | L16: ='3'!I22 -> -67583.2 | M16: ='3'!J22 -> -67583.2
F17: Դատապարտյալների և կալանավորված անձանց վերահսկողություն, կալանավայրերում դատապարտյալների և կալանավորված անձանց պահման պայմանների ապահովում, դատապարտյալների սոցիալ- հոգեբանական վերականգնում, ուսուցում, վերասոցիալականացում
G18: Ծառայությունների մատուցում
H19: Ծառայությունը մատուցողի անվանումը` Քրեակատարողական ծառայություն
D20: 1120-31002 | E20: ՀՀ արդարադատության նախարարության քրեակատարողական ծառայության կարողությունների զարգացում և տեխնիկական հագեցվածության ապահովում | J20: =+'3'!G40 -> 0 | K20: =+'3'!H40 -> 0 | L20: =+'3'!I40 -> 399583.2 | M20: =+'3'!J40 -> 399583.2
F21: ՀՀ արդարադատության նախարարության քրեակատարողական ծառայության աշխատանքային պայմանների բարելավման համար վարչական սարքավորումների ձեռք բերում
G22: Պետական մարմինների կողմից օգտագործվող ոչ ֆինանսական ակտիվների հետ գործառնություններ
H23: Ակտիվն օգտագործող կազմակերպության անվանումը` Քրեակատարողական ծառայություն
I24: Հսկիչ սարքավորումներ, հատ | M24: 6
A25: ՀՀ քաղաքաշինության կոմիտե | J25: =+J26 -> 0 | K25: =+K26 -> 0 | L25: =+L26 -> -332000 | M25: =+M26 -> -332000
B26: 1120 | C26: Քրեակատարողական ծառայություններ | J26: =+J27 -> 0 | K26: =+K27 -> 0 | L26: =+L27 -> -332000 | M26: =+M27 -> -332000
D27: 1120 - 31008 | E27: Քրեակատարողական նոր հիմնարկի կառուցում և հետագա շահագործում | J27: =+'3'!G31 -> 0 | K27: =+'3'!H31 -> 0 | L27: =+'3'!I31 -> -332000 | M27: =+'3'!J31 -> -332000
F28: Միջազգային չափանիշներին համապատասխան ազատությունից զրկված անձանց համար պատշաճ պայմանների ապահովման նպատակով նոր քրեակատարողական հիմնարկի կառուցում
G29: Պետական մարմինների կողմից օգտագործվող ոչ ֆինանսական ակտիվների հետ գործառնություններ
H30: Ակտիվն օգտագործող կազմակերպության անվանումը` Քրեակատարողական ծառայություն

Sheet 7
E1: Հավելված N 7
E2: ՀՀ կառավարության 2025 թվականի
E3: ———————— N -Ն որոշման
A5: ՀԱՅԱՍՏԱՆԻ ՀԱՆՐԱՊԵՏՈՒԹՅԱՆ ԿԱՌԱՎԱՐՈՒԹՅԱՆ 2024ԹՎԱԿԱՆԻ ԴԵԿՏԵՄԲԵՐԻ 27-Ի N 2060-Ն ՈՐՈՇՄԱՆ N 10 ՀԱՎԵԼՎԱԾՈՒՄ ԿԱՏԱՐՎՈՂ ՓՈՓՈԽՈՒԹՅՈՒՆՆԵՐԸ ԵՎ ԼՐԱՑՈՒՄՆԵՐԸ
A7: Կոդը | B7: Անվանումը | C7: Գնման ձևը | D7: Չափի միավորը | E7: միավորի գինը | F7: Ցուցանիշների փոփոխությունը (ավելացումները նշված են դրական նշանով,իսկ նվազեցումները՝ փակագծերում)
F8: քանակը | G8: գումարը (հազար դրամով)
A9: 1 | B9: 2 | C9: 3 | D9: 4 | E9: 5 | F9: 6 | G9: 7
A10: ՀՀ արդարադատության նախարարության քրեակատարողական ծառայություն | G10: =+G11 -> 332000
A11: Բաժին N 03 | B11: Խումբ N 05 | C11: Դաս N 01 | D11: Կալանավայրեր | G11: =G15+G12 -> 332000
A12: 1120 11001 | B12: Քրեակատարողական ծառայություններ | G12: =+G13 -> -67583.2
B13: ՄԱՍ III. ԾԱՌԱՅՈՒԹՅՈՒՆՆԵՐ | G13: =SUM(G14) -> -67583.2
A14: 55321100-1 | B14: սննդի պատրաստման ծառայություններ | C14: ԲՄ | D14: դրամ | G14: =+'3'!J30 -> -67583.2
A15: 1120 31002 | B15: ՀՀ արդարադատության նախարարության քրեակատարողական ծառայության կարողությունների զարգացում և տեխնիկական հագեցվածության ապահովում | G15: =+G16 -> 399583.2
B16: ՄԱՍ I. Ա Պ Ր Ա Ն Ք Ն Ե Ր | G16: =SUM(G17:G20) -> 399583.2
A17: 31711300/1 | B17: միկրոալիքային սարքեր | C17: ԲՄ | D17: հատ | E17: 111360000 | F17: 1 | G17: =+E17*F17/1000 -> 111360
A18: 33111100/1 | B18: ռենտգեն սարքեր | C18: ԲՄ | D18: հատ | E18: 99840000 | F18: 1 | G18: =+E18*F18/1000 -> 99840
A19: 33111100/2 | B19: ռենտգեն սարքեր | C19: ԲՄ | D19: հատ | E19: 96883200 | F19: 1 | G19: =+E19*F19/1000 -> 96883.2
A20: 33111100/3 | B20: ռենտգեն սարքեր | C20: ԲՄ | D20: հատ | E20: 30500000 | F20: 3 | G20: =+(E20*F20)/1000 -> 91500
