Workbook

Sheet 1
J2: Հավելված N 1
J3: ՀՀ կառավարության 2025թվականի
J4: ___________ ___-ի N _______ որոշման
A5: «ՀԱՅԱՍՏԱՆԻ ՀԱՆՐԱՊԵՏՈՒԹՅԱՆ 2025 ԹՎԱԿԱՆԻ ՊԵՏԱԿԱՆ ԲՅՈՒՋԵԻ ՄԱՍԻՆ» ՀՀ ՕՐԵՆՔԻ N 1 ՀԱՎԵԼՎԱԾԻ N 2 ԱՂՅՈՒՍԱԿՈՒՄ ԿԱՏԱՐՎՈՂ ՎԵՐԱԲԱՇԽՈՒՄԸ ԵՎ ՀԱՅԱՍՏԱՆԻ ՀԱՆՐԱՊԵՏՈՒԹՅԱՆ ԿԱՌԱՎԱՐՈՒԹՅԱՆ 2024 ԹՎԱԿԱՆԻ ԴԵԿՏԵՄԲԵՐԻ 27-Ի N 2060-Ն ՈՐՈՇՄԱՆ N 5 ՀԱՎԵԼՎԱԾԻ N1 ԱՂՅՈՒՍԱԿՈՒՄ ԿԱՏԱՐՎՈՂ ՓՈՓՈԽՈՒԹՅՈՒՆԸ ԵՎ ԼՐԱՑՈՒՄԸ
I7: հազար դրամներով
A8: ԲԳԿ | B8: Ծրագրային դասիչը | D8: ԲԳԿ/Ծրագրի /միջոցառման անվանումը | E8: Ծրագրի նպատակը/Միջոցառման նկարագրությունը | F8: Վերջնական արդյունքի նկարագրությունը/Միջոցառման տեսակը | G8: Ցուցանիշների փոփոխությունը (ավելացումները նշված են դրական նշանով, իսկ նվազեցումները՝ փակագծերում)
B9: Ծրագիր | C9: Միջոցառում | G9: Առաջին եռամսյակ | H9: Առաջին կիսամյակ | I9: Ինն ամիս | J9: Տարի
A10: ԸՆԴԱՄԵՆԸ | G10: =+G11+G14 -> 0 | H10: =+H11+H14 -> 0 | I10: =+I11+I14 -> 0 | J10: =+J11+J14 -> 0
A11: ՀՀ քաղաքաշինության կոմիտե | G11: =+G12 -> 0 | H11: =+H12 -> 0 | I11: =+I12 -> 23500 | J11: =+J12 -> 23500
B12: 1103 | D12: Քաղաքաշինության և ճարտարապետության բնագավառում պետական քաղաքականության իրականացում և կանոնակարգում | E12: Քաղաքաշինության և ճարտարապետության բնագավառում պետական քաղաքականության մշակմանն աջակցություն և իրականացման ապահովում | F12: Քաղաքաշինության գործունեության կանոնակարգում, քաղաքաշինական տեղեկատվական համակարգի ձևավորում և քաղաքաշինության բնագավառում պետական ծրագրերի իրականացման ապահովում | G12: =+G13 -> 0 | H12: =+H13 -> 0 | I12: =+I13 -> 23500 | J12: =+J13 -> 23500
C13: 1103 - 21001 | D13: Քաղաքաշինության բնագավառում պետական ծրագրերի իրականացման ապահովում | E13: Նախագծանախահաշվային փաստաթղթերի, ինչպես նաեւ հիմնանորոգման, վերակառուցման, կառուցման աշխատանքների ձեռքբերում | F13: Հանրության կողմից անմիջականորեն օգտագործվող ակտիվների հետ կապված միջոցառումներ | G13: 0 | H13: 0 | I13: 23500 | J13: 23500
A14: ՀՀ կառավարություն | G14: =+G15 -> 0 | H14: =+H15 -> 0 | I14: =+I15 -> -23500 | J14: =+J15 -> -23500
B15: 1139 | D15: ՀՀ կառավարության պահուստային ֆոնդ | E15: Պետական բյուջեում չկանխատեսված, ինչպես նաեւ բյուջետային երաշխիքների ապահովման ծախսերի ֆինանսավորման ապահովում | F15: Պահուստային ֆոնդի կառավարման արդյունավետության և թափանցիկության ապահովում | G15: =+G16 -> 0 | H15: =+H16 -> 0 | I15: =+I16 -> -23500 | J15: =+J16 -> -23500
C16: 1139 - 11001 | D16: ՀՀ կառավարության պահուստային ֆոնդ | E16: ՀՀ պետական բյուջեում նախատեսված ելքերի լրացուցիչ ֆինանսավորման, պետական բյուջեում չկանխատեսված ելքերի, ինչպես նաև բյուջետային երաշխիքների ապահովման ելքերի ֆինանսավորման ապահովում | F16: Ծառայությունների մատուցում | G16: =+'[1]3'!G50 -> 0 | H16: =+'[1]3'!H50 -> 0 | I16: -23500 | J16: -23500

Sheet 2
H1: Հավելված № 2
H2: ՀՀ կառավարության 2025 թվականի ----------
H3: № ---------- որոշման
A6: ՀԱՅԱՍՏԱՆԻ ՀԱՆՐԱՊԵՏՈՒԹՅԱՆ 2025 ԹՎԱԿԱՆԻ ՊԵՏԱԿԱՆ ԲՅՈՒՋԵԻ ՄԱՍԻՆ ՕՐԵՆՔԻ N 1 ՀԱՎԵԼՎԱԾԻ N 3 ԱՂՅՈՒՍԱԿՈՒՄ ԿԱՏԱՐՎՈՂ ՓՈՓՈԽՈՒԹՅՈՒՆԸ ԵՎ ԼՐԱՑՈՒՄԸ
G7: հազար դրամ
A8: Ծրագրային դասիչը | C8: Բյուջետային գլխավոր կարգադրիչների, ծրագրերի և միջոցառումների և ուղղությունների անվանումները | D8: Ընդամենը | E8: Ցուցանիշների փոփոխությունը (ավելացումները նշված են դրական նշանով, իսկ նվազեցումները՝ փակագծերում)
E9: այդ թվում
A10: Ծրագիր | B10: Միջոցառում | E10: Կառուցման աշխատանքներ | F10: Վերակառուցման, վերանորոգման և վերականգնման աշխատանքներ | G10: Նախագծահե- տազոտական, գեոդեզիա- քարտեզագրա- կան աշխա- տանքներ | H10: Ոչ ֆինանսական այլ ակտիվների ձեռքբերում
C11: Ընդամենը | D11: =D13+D18 -> 0 | E11: =+E13+E18 -> 0 | F11: =+F13+F18 -> -23500 | G11: =G13+G18 -> 23500 | H11: =+H13+H18 -> 0
C12: այդ թվում`
C13: ՀՀ քաղաքաշինության կոմիտե | D13: =SUM(E13:H13) -> 23500 | E13: =+E15 -> 0 | F13: =+F15 -> 0 | G13: =+G15 -> 23500 | H13: =H15 -> 0
C14: այդ թվում`
A15: 1103 | B15: 21001 | C15: Քաղաքաշինության բնագավառում պետական ծրագրերի իրականացման ապահովում | D15: =SUM(E15:H15) -> 23500 | E15: =+E17 -> 0 | F15: =+F17 -> 0 | G15: =+G17 -> 23500 | H15: =+H17 -> 0
C16: այդ թվում՝
C17: ՀՀ Տավուշի մարզի Իջևան համայնքի Կիրանց բնակավայրի կենտրոնական մասի վերակառուցման և նոր կառուցվող թաղամասի գոտևորման/մաստեր պլանի էսքիզային առաջարկներով նախագիծ | D17: =SUM(E17:H17) -> 23500 | E17: 0 | G17: 23500
C18: ՀՀ կառավարություն | D18: =SUM(E18:H18) -> -23500 | E18: =+E20 -> 0 | F18: =+F20 -> -23500 | G18: =+G20 -> 0 | H18: =+H20 -> 0
C19: այդ թվում՛ | D19: =SUM(E19:H19) -> 0
A20: 1139 | B20: 11001 | C20: ՀՀ կառավարության պահուստային ֆոնդ | D20: =SUM(E20:H20) -> -23500 | F20: -23500 | G20: 0 | H20: 0

Sheet 3
I1: Հավելված N 3
I2: ՀՀ կառավարության 2025 թվականի
I3: ___________ ___-ի N _______ որոշման
A6: ՀԱՅԱՍՏԱՆԻ ՀԱՆՐԱՊԵՏՈՒԹՅԱՆ ԿԱՌԱՎԱՐՈՒԹՅԱՆ 2024 ԹՎԱԿԱՆԻ ԴԵԿՏԵՄԲԵՐԻ 27-Ի N 2060-Ն ՈՐՈՇՄԱՆ N 3 և N 4 ՀԱՎԵԼՎԱԾՆԵՐՈՒՄ ԿԱՏԱՐՎՈՂ ՓՈՓՈԽՈՒԹՅՈՒՆԸ ԵՎ ԼՐԱՑՈՒՄԸ
I8: հազար դրամ
A9: Գործառական դասիչը | D9: Ծրագրային դասիչը | F9: Բյուջետային ծախսերի գործառական դասակարգման բաժինների, խմբերի և դասերի, բյուջետային ծրագրերի, միջոցառումների բյուջետային հատկացումների գլխավոր կարգադրիչների անվանումները | G9: Ցուցանիշների փոփոխությունը (ավելացումները նշված են դրական նշանով,իսկ նվազեցումները՝ փակագծերում)
A10: Բաժին | B10: Խումբ | C10: Դաս | D10: Ծրագիր | E10: Միջոցառում | G10: Առաջին եռամսյակ | H10: Առաջին կիսամյակ | I10: Ինն ամիս | J10: Տարի
F11: ԸՆԴԱՄԵՆԸ | G11: =+G32+G13 -> 0 | H11: =+H32+H13 -> 0 | I11: =+I32+I13 -> 0 | J11: =+J32+J13 -> 0
F12: այդ թվում`
A13: 06 | F13: ԲՆԱԿԱՐԱՆԱՅԻՆ ՇԻՆԱՐԱՐՈՒԹՅՈՒՆ ԵՎ ԿՈՄՈՒՆԱԼ ԾԱՌԱՅՈՒԹՅՈՒՆՆԵՐ | G13: =G15 -> 0 | H13: =H15 -> 0 | I13: =I15 -> 23500 | J13: =J15 -> 23500
F14: այդ թվում`
B15: 01 | F15: Բնակարանային շինարարություն | G15: =G17 -> 0 | H15: =H17 -> 0 | I15: =I17 -> 23500 | J15: =J17 -> 23500
F16: այդ թվում`
C17: 01 | F17: Բնակարանային շինարարություն | G17: =G21 -> 0 | H17: =H21 -> 0 | I17: =I21 -> 23500 | J17: =J21 -> 23500
F18: այդ թվում`
F19: ՀՀ քաղաքաշինության կոմիտե | G19: =+G23 -> 0 | H19: =+H23 -> 0 | I19: =+I23 -> 23500 | J19: =+J23 -> 23500
F20: այդ թվում`
D21: 1103 | F21: Քաղաքաշինության և ճարտարապետության բնագավառում պետական քաղաքականության իրականացում և կանոնակարգում | G21: =G23 -> 0 | H21: =H23 -> 0 | I21: =I23 -> 23500 | J21: =J23 -> 23500
F22: այդ թվում`
E23: 21001 | F23: Քաղաքաշինության բնագավառում պետական ծրագրերի իրականացման ապահովում | G23: =+G25 -> 0 | H23: =+H25 -> 0 | I23: =+I25 -> 23500 | J23: =+J25 -> 23500
F24: այդ թվում` ըստ կատարողների
F25: ՀՀ քաղաքաշինության կոմիտե | G25: =+G27 -> 0 | H25: =+H27 -> 0 | I25: =+I27 -> 23500 | J25: =+J27 -> 23500
F26: այդ թվում` բյուջետային ծախսերի տնտեսագիտական դասակարգման հոդվածներ
F27: ԸՆԴԱՄԵՆԸ ԾԱԽՍԵՐ | G27: =G28 -> 0 | H27: =H28 -> 0 | I27: =I28 -> 23500 | J27: =J28 -> 23500
F28: ՈՉ ՖԻՆԱՆՍԱԿԱՆ ԱԿՏԻՎՆԵՐԻ ԳԾՈՎ ԾԱԽՍԵՐ | G28: =G29 -> 0 | H28: =H29 -> 0 | I28: =I29 -> 23500 | J28: =J29 -> 23500
F29: ՀԻՄՆԱԿԱՆ ՄԻՋՈՑՆԵՐ | G29: =G30 -> 0 | H29: =H30 -> 0 | I29: =I30 -> 23500 | J29: =J30 -> 23500
F30: ԱՅԼ ՀԻՄՆԱԿԱՆ ՄԻՋՈՑՆԵՐ | G30: 0 | H30: 0 | I30: 23500 | J30: 23500
F31: - Նախագծահետազոտական ծախսեր | G31: 0 | H31: 0 | I31: 23500 | J31: 23500
A32: 11 | F32: ՀԻՄՆԱԿԱՆ ԲԱԺԻՆՆԵՐԻՆ ՉԴԱՍՎՈՂ ՊԱՀՈՒՍՏԱՅԻՆ ՖՈՆԴԵՐ | G32: =G34 -> 0 | H32: =H34 -> 0 | I32: =I34 -> -23500 | J32: =J34 -> -23500
F33: այդ թվում`
B34: 01 | F34: ՀՀ կառավարության և համայնքների պահուստային ֆոնդ | G34: =G36 -> 0 | H34: =H36 -> 0 | I34: =I36 -> -23500 | J34: =J36 -> -23500
F35: այդ թվում`
C36: 01 | F36: ՀՀ կառավարության պահուստային ֆոնդ | G36: =G38 -> 0 | H36: =H38 -> 0 | I36: =I38 -> -23500 | J36: =J38 -> -23500
F37: այդ թվում`
F38: ՀՀ կառավարություն | G38: =G40 -> 0 | H38: =H40 -> 0 | I38: =I40 -> -23500 | J38: =J40 -> -23500
F39: այդ թվում`
D40: 1139 | F40: ՀՀ կառավարության պահուստային ֆոնդ | G40: =+G42 -> 0 | H40: =+H42 -> 0 | I40: =+I42 -> -23500 | J40: =+J42 -> -23500
F41: այդ թվում`
E42: 11001 | F42: ՀՀ կառավարության պահուստային ֆոնդ | G42: =G44 -> 0 | H42: =H44 -> 0 | I42: =I44 -> -23500 | J42: =J44 -> -23500
F43: այդ թվում` ըստ կատարողների
F44: ՀՀ կառավարություն | G44: =G46 -> 0 | H44: =H46 -> 0 | I44: =I46 -> -23500 | J44: =J46 -> -23500
F45: այդ թվում` բյուջետային ծախսերի տնտեսագիտական դասակարգման հոդվածներ
F46: ԸՆԴԱՄԵՆԸ ԾԱԽՍԵՐ | G46: =G48 -> 0 | H46: =H48 -> 0 | I46: =I48 -> -23500 | J46: =J48 -> -23500
F47: ՈՉ ՖԻՆԱՆՍԱԿԱՆ ԱԿՏԻՎՆԵՐԻ ԳԾՈՎ ԾԱԽՍԵՐ | G47: =G49 -> 0 | H47: =H49 -> 0 | I47: =I49 -> -23500 | J47: =J49 -> -23500
F48: ՀԻՄՆԱԿԱՆ ՄԻՋՈՑՆԵՐ | G48: =G50 -> 0 | H48: =H50 -> 0 | I48: =I49 -> -23500 | J48: =J49 -> -23500
F49: ՇԵՆՔԵՐ ԵՎ ՇԻՆՈՒԹՅՈՒՆՆԵՐ | G49: =+G50 -> 0 | H49: =+H50 -> 0 | I49: =+I50 -> -23500 | J49: =+J50 -> -23500
F50: - Շենքերի և շինությունների կապիտալ վերանորոգում | G50: 0 | H50: 0 | I50: -23500 | J50: -23500

Sheet 4
G1: Հավելված № 4
C2: ՀՀ կառավարության 2025 թվականի
C3: ______________ ի ___Ն որոշման
A5: ՀԱՅԱՍՏԱՆԻ ՀԱՆՐԱՊԵՏՈՒԹՅԱՆ ԿԱՌԱՎԱՐՈՒԹՅԱՆ 2024 ԹՎԱԿԱՆԻ ԴԵԿՏԵՄԲԵՐԻ 27-Ի N 2060-Ն ՈՐՈՇՄԱՆ N5 ՀԱՎԵԼՎԱԾԻ N2 ԱՂՅՈՒՍԱԿՈՒՄ ԿԱՏԱՐՎՈՂ ՓՈՓՈԽՈՒԹՅՈՒՆԸ ԵՎ ԼՐԱՑՈՒՄԸ
G7: հազար դրամ
A8: Ծրագրային դասիչ | C8: Բյուջետային գլխավոր կարգադրիչների, ծրագրերի, միջոցառումների, միջոցառումները կատարող պետական մարմինների և ուղղությունների անվանումները | D8: Ցուցանիշների փոփոխությունը (ավելացումները նշված են դրական նշանով,իսկ նվազեցումները՝ փակագծերում)
A9: Ծրագիր | B9: Միջոցառում | D9: Առաջին եռամսյակ | E9: Առաջին կիսամյակ | F9: Ինն ամիս | G9: Տարի
C10: ԸՆԴԱՄԵՆԸ | D10: =D18+D11 -> 0 | E10: =E18+E11 -> 0 | F10: =F18+F11 -> 0 | G10: =+G18+G11 -> 0
C11: ՀՀ ՔԱՂԱՔԱՇԻՆՈՒԹՅԱՆ ԿՈՄԻՏԵ | D11: =+D13 -> 0 | E11: =+E13 -> 0 | F11: =+F13 -> 23500 | G11: =+G13 -> 23500
C12: այդ թվում`
A13: 1103 | B13: 21001 | C13: Քաղաքաշինության բնագավառում պետական ծրագրերի իրականացման ապահովում | D13: =+D15 -> 0 | E13: =+E15 -> 0 | F13: =+F15 -> 23500 | G13: =+G15 -> 23500
C14: այդ թվում` ըստ կատարողների
C15: ՀՀ քաղաքաշինության կոմիտե | D15: =+D17 -> 0 | E15: =+E17 -> 0 | F15: =+F17 -> 23500 | G15: =+G17 -> 23500
C16: այդ թվում` ըստ ուղղությունների
C17: ՀՀ Տավուշի մարզի Իջևան համայնքի Կիրանց բնակավայրի կենտրոնական մասի վերակառուցման և նոր կառուցվող թաղամասի գոտևորման/մաստեր պլանի էսքիզային առաջարկներով նախագիծ | D17: 0 | E17: 0 | F17: 23500 | G17: 23500
C18: ՀՀ կառավարություն | D18: =+D22 -> 0 | E18: =+E22 -> 0 | F18: =+F22 -> -23500 | G18: =+G22 -> -23500
C19: այդ թվում՛
A20: 1139 | B20: 11001 | C20: ՀՀ կառավարության պահուստային ֆոնդ | D20: =+D22 -> 0 | E20: =+E22 -> 0 | F20: =+F22 -> -23500 | G20: =+G22 -> -23500
C21: այդ թվում` ըստ կատարողների
C22: ՀՀ կառավարություն | D22: =+'3'!G38 -> 0 | E22: =+'3'!H38 -> 0 | F22: =+'3'!I38 -> -23500 | G22: =+'3'!J38 -> -23500

Sheet 5
M1: Հավելված N 5
M2: ՀՀ կառավարության 2025թվականի
M3: ___________ ___-ի N _______ որոշման
A8: ՀԱՅԱՍՏԱՆԻ ՀԱՆՐԱՊԵՏՈՒԹՅԱՆ ԿԱՌԱՎԱՐՈՒԹՅԱՆ 2024 ԹՎԱԿԱՆԻ ԴԵԿՏԵՄԲԵՐԻ 27-Ի ԹԻՎ 2060-Ն ՈՐՈՇՄԱՆ N 9 ՀԱՎԵԼՎԱԾՈՒՄ ԿԱՏԱՐՎՈՂ ՓՈՓՈԽՈՒԹՅՈՒՆԸ ԵՎ ԼՐԱՑՈՒՄԸ
M11: հազար դրամներով
A12: ԲԳԿ | B12: Ծրագիր | D12: Միջոցառում | H12: Իրականացնողը/ ակտիվն օգտագործողը/ շահառուի ընտրության չափորոշիչը | I12: Արդյունքային չափորոշիչը | J12: Ցուցանիշների փոփոխությունը(ավելացումները նշված են դրական նշանով,իսկ նվազեցումները՝ փակագծերում)
B13: Դասիչը | C13: Անվա-նումը | D13: Դասիչը | E13: Անվա-նումը | F13: Նկարագրու-թյունը | G13: Տեսակը | J13: Առաջին եռամսյակ | K13: Առաջին կիսամյակ | L13: Ինն ամիս | M13: Տարի
A14: ԸՆԴԱՄԵՆԸ | J14: =+J15+J22 -> 0 | K14: =+K15+K22 -> 0 | L14: =+L15+L22 -> 0 | M14: =+M15+M22 -> 0
A15: ՀՀ քաղաքաշինության կոմիտե | J15: =J16 -> 0 | K15: =K16 -> 0 | L15: =L16 -> 23500 | M15: =M16 -> 23500
B16: 1103 | C16: Քաղաքաշինության և ճարտարապետության բնագավառում պետական քաղաքականության իրականացում և կանոնակարգում | J16: =+J17 -> 0 | K16: =+K17 -> 0 | L16: =+L17 -> 23500 | M16: =+M17 -> 23500
D17: 1103 - 21001 | E17: Քաղաքաշինության բնագավառում պետական ծրագրերի իրականացման ապահովում | J17: =+'[1]3'!G22 -> 0 | K17: =+'[1]3'!H22 -> 0 | L17: =+'3'!I31 -> 23500 | M17: =+'3'!J31 -> 23500
F18: Նախագծանախահաշվային փաստաթղթերի, ինչպես նաեւ հիմնանորոգման, վերակառուցման, կառուցման աշխատանքների ձեռքբերում
G19: Հանրության կողմից անմիջականորեն օգտագործվող ակտիվների հետ կապված միջոցառումներ
H20: Միջոցառումն իրականացնողի անվանումը` ՀՀ քաղաքաշինության կոմիտե
I21: Էսքիզային առաջարկմներով նախագծի մշակում, հատ | M21: 1
A22: ՀՀ կառավարություն | J22: =+J23 -> 0 | K22: =+K23 -> 0 | L22: =+L23 -> -23500 | M22: =+M23 -> -23500
B23: 1139 | C23: ՀՀ կառավարության պահուստային ֆոնդ | J23: =+J24 -> 0 | K23: =+K24 -> 0 | L23: =+L24 -> -23500 | M23: =+M24 -> -23500
D24: 1139 - 11001 | E24: ՀՀ կառավարության պահուստային ֆոնդ | J24: =+'[1]3'!G50 -> 0 | K24: =+'[1]3'!H50 -> 0 | L24: =+'3'!I50 -> -23500 | M24: =+'3'!J50 -> -23500
F25: ՀՀ պետական բյուջեում նախատեսված ելքերի լրացուցիչ ֆինանսավորման, պետական բյուջեում չկանխատեսված ելքերի, ինչպես նաև բյուջետային երաշխիքների ապահովման ելքերի ֆինանսավորման ապահովում
G26: Ծառայությունների մատուցում
H27: Ծառայությունը մատուցողի անվանումը` ՀՀ կառավարություն

Sheet 6
M1: Հավելված N 6
M2: ՀՀ կառավարության 2025թվականի
M3: ___________ ___-ի N _______ որոշման
A6: ՀԱՅԱՍՏԱՆԻ ՀԱՆՐԱՊԵՏՈՒԹՅԱՆ ԿԱՌԱՎԱՐՈՒԹՅԱՆ 2024 ԹՎԱԿԱՆԻ ԴԵԿՏԵՄԲԵՐԻ 27-Ի ԹԻՎ 2060-Ն ՈՐՈՇՄԱՆ N 9.1 ՀԱՎԵԼՎԱԾՈՒՄ ԿԱՏԱՐՎՈՂ ՓՈՓՈԽՈՒԹՅՈՒՆԸ ԵՎ ԼՐԱՑՈՒՄԸ
M10: հազար դրամներով
A11: ԲՍԿ | B11: Ծրագիր | D11: Միջոցառում | H11: Իրականացնողը/ ակտիվն օգտագործողը/ շահառուի ընտրության չափորոշիչը | I11: Արդյունքային չափորոշիչը | J11: Ցուցանիշների փոփոխությունը(ավելացումները նշված են դրական նշանով,իսկ նվազեցումները՝ փակագծերում)
B12: Դասիչը | C12: Անվանումը | D12: Դասիչը | E12: Անվանումը | F12: Նկարագրությունը | G12: Տեսակը | J12: Առաջին եռամսյակ | K12: Առաջին կիսամյակ | L12: Ինն ամիս | M12: Տարի
A13: ԸՆԴԱՄԵՆԸ | J13: =+J14+J21 -> 0 | K13: =+K14+K21 -> 0 | L13: =+L14+L21 -> 0 | M13: =+M14+M21 -> 0
A14: ՀՀ քաղաքաշինության կոմիտե | J14: =+J15 -> 0 | K14: =+K15 -> 0 | L14: =+L15 -> 23500 | M14: =+M15 -> 23500
B15: 1103 | C15: Քաղաքաշինության և ճարտարապետության բնագավառում պետական քաղաքականության իրականացում և կանոնակարգում | J15: =+J16 -> 0 | K15: =+K16 -> 0 | L15: =+L16 -> 23500 | M15: =+M16 -> 23500
D16: 1103 - 21001 | E16: Քաղաքաշինության բնագավառում պետական ծրագրերի իրականացման ապահովում | J16: =+'[1]3'!G31 -> 0 | K16: =+'[1]3'!H31 -> 0 | L16: 23500 | M16: 23500
F17: Նախագծանախահաշվային փաստաթղթերի, ինչպես նաեւ հիմնանորոգման, վերակառուցման, կառուցման աշխատանքների ձեռքբերում
G18: Հանրության կողմից անմիջականորեն օգտագործվող ակտիվների հետ կապված միջոցառումներ
H19: Միջոցառումն իրականացնողի անվանումը` ՀՀ քաղաքաշինության կոմիտե
I20: Էսքիզային առաջարկմներով նախագծի մշակում, հատ | M20: 1
A21: ՀՀ կառավարություն | J21: =+J22 -> 0 | K21: =+K22 -> 0 | L21: =+L22 -> -23500 | M21: =+M22 -> -23500
B22: 1139 | C22: ՀՀ կառավարության պահուստային ֆոնդ | J22: =+J23 -> 0 | K22: =+K23 -> 0 | L22: =+L23 -> -23500 | M22: =+M23 -> -23500
D23: 1139 - 11001 | E23: ՀՀ կառավարության պահուստային ֆոնդ | J23: =+'[1]3'!G48 -> 0 | K23: =+'[1]3'!H48 -> 0 | L23: =+'4'!F22 -> -23500 | M23: =+'4'!G22 -> -23500
F24: ՀՀ պետական բյուջեում նախատեսված ելքերի լրացուցիչ ֆինանսավորման, պետական բյուջեում չկանխատեսված ելքերի, ինչպես նաև բյուջետային երաշխիքների ապահովման ելքերի ֆինանսավորման ապահովում
G25: Ծառայությունների մատուցում
H26: Ծառայությունը մատուցողի անվանումը` ՀՀ կառավարություն

Sheet 7
E1: Հավելված № 7
E2: ՀՀ կառավարության
E3: 2025 թվականի __________ N -Ն որոշման
A5: ՀԱՅԱՍՏԱՆԻ ՀԱՆՐԱՊԵՏՈՒԹՅԱՆ ԿԱՌԱՎԱՐՈՒԹՅԱՆ 2024 ԹՎԱԿԱՆԻ ԴԵԿՏԵՄԲԵՐԻ 27-Ի N 2060-Ն ՈՐՈՇՄԱՆ N 10 ՀԱՎԵԼՎԱԾԻ ՑՈՒՑԱՆԻՇՆԵՐՈՒՄ ԿԱՏԱՐՎՈՂ ԼՐԱՑՈՒՄԸ
A7: Կոդը | B7: Անվանումը | C7: Գնման ձևը | D7: Չափի միավորը | E7: միավորի գինը | F7: Ցուցանիշների փոփոխությունը (ավելացումները նշված են դրական նշանով)
F8: քանակը | G8: գումարը (հազար դրամով)
A9: 1 | B9: 2 | C9: 3 | D9: 4 | E9: 5 | F9: 6 | G9: 7
A10: ՀՀ քաղաքաշինության կոմիտե | G10: =+G12 -> 23500
A11: Բաժին N 06 | B11: Խումբ N 01 | C11: Դաս N 01 | D11: Բնակարանային շինարարություն
A12: 1103 21001 | B12: Քաղաքաշինության բնագավառում պետական ծրագրերի իրականացման ապահովում | G12: =+G13 -> 23500
B13: ՄԱՍ III. ԾԱՌԱՅՈՒԹՅՈՒՆՆԵՐ | G13: =+G14 -> 23500
A14: 71241200 | B14: նախագծերի պատրաստում, ծախսերի գնահատում | C14: ՀՄԱ | D14: դրամ | E14: 23500000 | F14: 1 | G14: =E14*F14/1000 -> 23500
