Workbook
Name _tab10: #REF!
Name _tab10: #REF!
Name _tab10: #REF!
Name _tab11: #REF!
Name _tab11: #REF!
Name _tab12: #REF!
Name _tab12: #REF!
Name _tab13: #REF!
Name _tab13: #REF!
Name _tab14: #REF!
Name _tab14: #REF!
Name _tab15: #REF!
Name _tab15: #REF!
Name _tab16: #REF!
Name _tab16: #REF!
Name _tab17: #REF!
Name _tab17: #REF!
Name _tab18: #REF!
Name _tab18: #REF!
Name _tab19: #REF!
Name _tab19: #REF!
Name _tab20: #REF!
Name _tab20: #REF!
Name _tab21: #REF!
Name _tab21: #REF!
Name _tab22: #REF!
Name _tab22: #REF!
Name _tab22222: #REF!
Name _tab23: #REF!
Name _tab23: #REF!
Name _tab24: #REF!
Name _tab24: #REF!
Name _tab5: #REF!
Name _tab5: #REF!
Name _tab6: #REF!
Name _tab6: #REF!
Name _tab7: #REF!
Name _tab7: #REF!
Name _tab8: #REF!
Name _tab8: #REF!
Name _tab9: #REF!
Name _tab9: #REF!
Name aaaaaaaaaaaa: #REF!
Name hhhh: #REF!
Name hunvar: #REF!,#REF!,#REF!,#REF!,#REF!,#REF!,#REF!,#REF!,#REF!,#REF!,#REF!,#REF!,#REF!,#REF!,#REF!
Name hunvar: #REF!,#REF!,#REF!,#REF!,#REF!,#REF!,#REF!,#REF!,#REF!,#REF!,#REF!,#REF!,#REF!,#REF!,#REF!
Name par_count: #REF!,#REF!,#REF!,#REF!,#REF!,#REF!,#REF!,#REF!,#REF!,#REF!,#REF!,#REF!,#REF!,#REF!,#REF!
Name par_count: #REF!,#REF!,#REF!,#REF!,#REF!,#REF!,#REF!,#REF!,#REF!,#REF!,#REF!,#REF!,#REF!,#REF!,#REF!
Name par_count: #REF!,#REF!,#REF!,#REF!,#REF!,#REF!,#REF!,#REF!,#REF!,#REF!,#REF!,#REF!,#REF!,#REF!,#REF!
Name par_qual: #REF!,#REF!,#REF!,#REF!,#REF!
Name par_qual: #REF!,#REF!,#REF!,#REF!,#REF!
Name par_time: #REF!,#REF!,#REF!,#REF!
Name par_time: #REF!,#REF!,#REF!,#REF!
Name par2.12s: #REF!
Name par2.12s: #REF!
Name par2.4s: #REF!,#REF!,#REF!,#REF!,#REF!,#REF!,#REF!,#REF!,#REF!,#REF!,#REF!,#REF!,#REF!,#REF!,#REF!,#REF!
Name par2.4s: #REF!,#REF!,#REF!,#REF!,#REF!,#REF!,#REF!,#REF!,#REF!,#REF!,#REF!,#REF!,#REF!,#REF!,#REF!,#REF!
Name par2.4s: #REF!,#REF!,#REF!,#REF!,#REF!,#REF!,#REF!,#REF!,#REF!,#REF!,#REF!,#REF!,#REF!,#REF!,#REF!,#REF!
Name par2.5s: #REF!,#REF!
Name par2.5s: #REF!,#REF!

Sheet 1
B1: Հավելված № 1
B2: ՀՀ կառավարության 2025 թվականի
B3: __________ «____» -ի
B4: N_____ -Ն որոշման
B6: «ՀԱՅԱՍՏԱՆԻ ՀԱՆՐԱՊԵՏՈՒԹՅԱՆ 2025 ԹՎԱԿԱՆԻ ՊԵՏԱԿԱՆ ԲՅՈՒՋԵԻ ՄԱՍԻՆ» ՀԱՅԱՍՏԱՆԻ ՀԱՆՐԱՊԵՏՈՒԹՅԱՆ ՕՐԵՆՔԻ № 1 ՀԱՎԵԼՎԱԾԻ № 3 ԱՂՅՈՒՍԱԿՈՒՄ ԿԱՏԱՐՎՈՂ ՓՈՓՈԽՈՒԹՅՈՒՆՆԵՐԸ
B7: (հազար դրամներով)
B8: Ծրագրային դասիչ | D8: Բյուջետային գլխավոր կարգադրիչների, ծրագրերի, միջոցառումների և ուղղությունների անվանումները | E8: Ցուցանիշների փոփոխությունները (ավելացումները նշված են դրական նշանով, իսկ նվազեցումները` փակագծերում)
E9: Ընդամենը | F9: այդ թվում
B10: Ծրագիր | C10: Միջոցառում | F10: Կառուցման աշխատանքներ | G10: Վերակառուցման, վերանորոգման և վերականգնման աշխատանքներ | H10: Նախագծահե- տազոտական, գեոդեզիա- քարտեզագրա- կան աշխա- տանքներ | I10: Ոչ ֆինանսական այլ ակտիվների ձեռքբերում
D11: ՀՀ ԱՌՈՂՋԱՊԱՀՈՒԹՅԱՆ ՆԱԽԱՐԱՐՈՒԹՅՈՒՆ | E11: =+E13+E14 -> -276969.96 | F11: =+F13+F14 -> -217156.7 | G11: =+G13+G14 -> -822857.4 | H11: =+H13+H14 -> 206111.7 | I11: =+I13+I14 -> 556932.44
D12: այդ թվում`
B13: 1126 | C13: 31002 | D13: Առողջապահական կազմակերպությունների վերազինում | E13: =+F13+G13+H13+I13 -> 556932.44 | F13: 0 | G13: 0 | H13: 0 | I13: =+'3'!K29 -> 556932.44
B14: 1126 | C14: 31003 | D14: Առողջապահական կազմակերպությունների կառուցում, վերակառուցում | E14: =+F14+G14+H14+I14 -> -833902.4 | F14: =+'3'!K76+'3'!K66 -> -217156.7 | G14: =+'3'!K53+'3'!K77+'3'!K67 -> -822857.4 | H14: =+'3'!K55+'3'!K69+1588.7+'3'!K79 -> 206111.7 | I14: 0

Sheet 2
B1: Հավելված № 2
B2: ՀՀ կառավարության 2025 թվականի
B3: __________ «____» -ի
B4: N_____ -Ն որոշման
B5: «ՀԱՅԱՍՏԱՆԻ ՀԱՆՐԱՊԵՏՈՒԹՅԱՆ 2025 ԹՎԱԿԱՆԻ ՊԵՏԱԿԱՆ ԲՅՈՒՋԵԻ ՄԱՍԻՆ» ՀԱՅԱՍՏԱՆԻ ՀԱՆՐԱՊԵՏՈՒԹՅԱՆ ՕՐԵՆՔԻ № 1 ՀԱՎԵԼՎԱԾԻ № 2 ԱՂՅՈՒՍԱԿՈՒՄ ԿԱՏԱՐՎՈՂ ՎԵՐԱԲԱՇԽՈՒՄԸ ԵՎ ՀԱՅԱՍՏԱՆԻ ՀԱՆՐԱՊԵՏՈՒԹՅԱՆ ԿԱՌԱՎԱՐՈՒԹՅԱՆ 2024 ԹՎԱԿԱՆԻ ԴԵԿՏԵՄԲԵՐԻ 27-Ի № 2060-Ն ՈՐՈՇՄԱՆ № 5 ՀԱՎԵԼՎԱԾՈՒՄ ԿԱՏԱՐՎՈՂ ՓՈՓՈԽՈՒԹՅՈՒՆՆԵՐԸ ԵՎ ԼՐԱՑՈՒՄՆԵՐԸ
B6: (հազար դրամներով)
B7: ԲԳԿ | C7: Ծրագրային դասիչը | E7: ԲԳԿ/Ծրագրի /միջոցառման անվանումը | F7: Ծրագրի նպատակը/Միջոցառման նկարագրությունը | G7: Վերջնական արդյունքի նկարագրությունը/Միջոցառման տեսակը | H7: Ցուցանիշների փոփոխությունները (ավելացումները նշված են դրական նշանով, իսկ նվազեցումները` փակագծերում)
C8: Ծրագիր | D8: Միջոցառում | H8: Առաջին եռամսյակ | I8: Առաջին կիսամյակ | J8: Ինն ամիս | K8: Տարի
B9: ՀՀ առողջապահության նախարարություն | H9: 0 | I9: =+I10 -> 0 | J9: =+J10 -> 0.04 | K9: =+K10 -> 0.04
C10: 1126 | E10: Առողջապահության ոլորտում պետական քաղաքականության մշակում, ծրագրերի համակարգում և մոնիտորինգ | F10: Մարդու և հանրության առողջության պահպանում, բնակչության առողջության բարելավում, հիվանդությունների կանխարգելում, հաշմանդամության և մահացության ցուցանիշների նվազեցում | G10: Առողջապահության ոլորտում իրականացվող ծրագրերի ազդեցության և արդյունավետության բարելավում | H10: =+H11+H12++++++++++H13 -> 0 | I10: =+I11+I12++++++++++I13 -> 0 | J10: =+J11+J12++++++++++J13 -> 0.04 | K10: =+K11+K12++++++++++K13 -> 0.04
D11: 1126 - 12006 | E11: Առողջապահական համակարգի պետական առևտրային և ոչ առևտրային կազմակերպություններին ֆինանսական աջակցության հատկացում | F11: Առողջապահական կազմակերպությունների կառուցման,վերակառուցման և վերազինման գործընթացի բնականոնաշխատանքների իրականացման ապահովում | G11: Ծառայությունների մատուցում | H11: =+'3'!H20 -> 0 | I11: =+'3'!I20 -> 184912 | J11: =+'3'!J20 -> 194912 | K11: =+'3'!K20 -> 276970
D12: 1126 - 31002 | E12: Առողջապահական կազմակերպությունների վերազինում | F12: Բնակչությանը որակյալ բժշկական օգնության և սպասարկման ծառայություններ մատուցելու նպատակով՛ առողջապահական կազմակերպությունների անհրաժեշտ սարքավորումներով վերազինում | G12: Պետական մարմինների կողմից օգտագործվող ոչ ֆինանսական ակտիվների հետ գործառնություններ | H12: =+'3'!H29 -> 0 | I12: =+'3'!I29 -> 154966.4 | J12: =+'3'!J29 -> 630990.44 | K12: =+'3'!K29 -> 556932.44
D13: 1126 - 31003 | E13: Առողջապահական կազմակերպությունների կառուցում, վերակառուցում | F13: Բնակչությանը որակյալ բժշկական օգնության և սպասարկման ծառայություններ մատուցելու նպատակով առողջապահական կազմակերպությունների կառուցում, վերակառուցում | G13: Պետական մարմինների կողմից օգտագործվող ոչ ֆինանսական ակտիվների հետ գործառնություններ | H13: 0 | I13: =+'3'!I45 -> -339878.4 | J13: =+'3'!J45 -> -825902.4 | K13: =+'3'!K45 -> -833902.4
B14: ՀՀ կառավարություն
C15: 1139 | E15: ՀՀ կառավարության պահուստային ֆոնդ | F15: Պետական բյուջեում չկանխատեսված, ինչպես նաեւ բյուջետային երաշխիքների ապահովման ծախսերի ֆինանսավորման ապահովում | G15: Պահուստային ֆոնդի կառավարման արդյունավետության և թափանցիկության ապահովում | H15: =+H16+H17 -> 0 | I15: =+I16+I17 -> 0 | J15: =+J16+J17 -> 0 | K15: =+K16+K17 -> 0
D16: 1139 - 11001 | E16: ՀՀ կառավարության պահուստային ֆոնդ | F16: ՀՀ պետական բյուջեում նախատեսված ելքերի լրացուցիչ ֆինանսավորման, պետական բյուջեում չկանխատեսված ելքերի, ինչպես նաև բյուջետային երաշխիքների ապահովման ելքերի ֆինանսավորման ապահովում | G16: Ծառայությունների մատուցում | H16: =+H11 -> 0 | I16: =+I11 -> 184912 | J16: =+J11 -> 194912 | K16: =+K11 -> 276970
D17: 1139 - 11001 | E17: ՀՀ կառավարության պահուստային ֆոնդ | F17: ՀՀ պետական բյուջեում նախատեսված ելքերի լրացուցիչ ֆինանսավորման, պետական բյուջեում չկանխատեսված ելքերի, ինչպես նաև բյուջետային երաշխիքների ապահովման ելքերի ֆինանսավորման ապահովում | G17: Ծառայությունների մատուցում | H17: =+-H11 -> 0 | I17: =+-I11 -> -184912 | J17: =+-J11 -> -194912 | K17: =+-K11 -> -276970

Sheet 3
B1: Հավելված № 3
B2: ՀՀ կառավարության 2025 թվականի
B3: __________ «____» -ի
B4: N_____ -Ն որոշման
B5: ՀԱՅԱՍՏԱՆԻ ՀԱՆՐԱՊԵՏՈՒԹՅԱՆ ԿԱՌԱՎԱՐՈՒԹՅԱՆ 2024 ԹՎԱԿԱՆԻ ԴԵԿՏԵՄԲԵՐԻ 27-Ի № 2060-Ն ՈՐՈՇՄԱՆ №№ 3 և 4 ՀԱՎԵԼՎԱԾՆԵՐՈՒՄ ԿԱՏԱՐՎՈՂ ՓՈՓՈԽՈՒԹՅՈՒՆՆԵՐԸ ԵՎ ԼՐԱՑՈՒՄՆԵՐԸ
B6: (հազար դրամներով)
B7: Գործառական դասիչը | E7: Ծրագրային դասիչը | G7: Բյուջետային հատկացումների գլխավոր կարգադրիչների, ծրագրերի, միջոցառումների և միջոցառումները կատարող պետական մարմինների անվանումները | H7: Ցուցանիշների փոփոխությունները (ավելացումները նշված են դրական նշանով, իսկ նվազեցումները` փակագծերում)
B8: բաժին | C8: խումբ | D8: դաս | E8: Ծրագիր | F8: Միջոցառում | H8: Առաջին եռամսյակ | I8: Առաջին կիսամյակ | J8: Ինն ամիս | K8: Տարի
B9: ԸՆԴԱՄԵՆԸ | H9: =+H10 -> 0 | I9: =+I10 -> 0 | J9: =+J10 -> 0.04 | K9: =+K10 -> 0.04
B10: 07 | G10: ԱՌՈՂՋԱՊԱՀՈՒԹՅՈՒՆ | H10: =+H12 -> 0 | I10: =+I12 -> 0 | J10: =+J12 -> 0.04 | K10: =+K12 -> 0.04
G11: այդ թվում՝
C12: 06 | G12: Առողջապահություն (այլ դասերին չպատկանող) | H12: =+H14 -> 0 | I12: =+I14 -> 0 | J12: =+J14 -> 0.04 | K12: =+K14 -> 0.04
G13: այդ թվում՝
D14: 02 | G14: Առողջապահություն (այլ դասերին չպատկանող) | H14: =+H18 -> 0 | I14: =+I18 -> 0 | J14: =+J18 -> 0.04 | K14: =+K18 -> 0.04
G15: այդ թվում՝
G16: ՀՀ առողջապահության նախարարություն | H16: =+H18 -> 0 | I16: =+I18 -> 0 | J16: =+J18 -> 0.04 | K16: =+K18 -> 0.04
G17: այդ թվում՝
E18: 1126 | G18: Առողջապահության ոլորտում պետական քաղաքականության մշակում, ծրագրերի համակարգում և մոնիտորինգ | H18: 0 | I18: =+I20+I29+I45 -> 0 | J18: =+J20+J29+J45 -> 0.04 | K18: =+K20+K29+K45 -> 0.04
G19: այդ թվում՝
F20: 12006 | G20: Առողջապահական համակարգի պետական առևտրային և ոչ առևտրային կազմակերպություններին ֆինանսական աջակցության հատկացում | H20: =+H22 -> 0 | I20: =+I22 -> 184912 | J20: =+J22 -> 194912 | K20: =+'5'!H13 -> 276970
G21: այդ թվում ըստ կատարողների
G22: ՀՀ առողջապահության նախարարություն | H22: =+H24 -> 0 | I22: =+I24 -> 184912 | J22: =+J24 -> 194912 | K22: =+K24 -> 276970
G23: այդ թվում` բյուջետային ծախսերի տնտեսագիտական դասակարգման հոդվածներ
G24: ԸՆԴԱՄԵՆԸ ԾԱԽՍԵՐ | H24: =+H25 -> 0 | I24: =+I25 -> 184912 | J24: =+J25 -> 194912 | K24: =+K25 -> 276970
G25: ԸՆԹԱՑԻԿ ԾԱԽՍԵՐ | H25: =+H26 -> 0 | I25: =+I26 -> 184912 | J25: =+J26 -> 194912 | K25: =+K26 -> 276970
G26: ԴՐԱՄԱՇՆՈՐՀՆԵՐ | H26: =+H27 -> 0 | I26: =+I27 -> 184912 | J26: =+J27 -> 194912 | K26: =+K27 -> 276970
G27: Ընթացիկ դրամաշնորհներ պետական հատվածի այլ մակարդակներին | H27: =+H28 -> 0 | I27: =+I28 -> 184912 | J27: =+J28 -> 194912 | K27: =+K28 -> 276970
G28: - Այլ ընթացիկ դրամաշնորհներ | H28: 0 | I28: 184912 | J28: 194912 | K28: =+'5'!H11 -> 276970
F29: 31002 | G29: Առողջապահական կազմակերպությունների վերազինում | H29: =+H31+H38 -> 0 | I29: =+I31+I38 -> 154966.4 | J29: =+J31+J38 -> 630990.44 | K29: =+K31+K38 -> 556932.44
G30: այդ թվում ըստ կատարողների
G31: ՀՀ առողջապահության նախարարություն | H31: =+H33 -> 0 | I31: =+I33 -> 214966.4 | J31: =+J33 -> 690990.44 | K31: =+K33 -> 616932.44
G32: այդ թվում` բյուջետային ծախսերի տնտեսագիտական դասակարգման հոդվածներ
G33: ԸՆԴԱՄԵՆԸ ԾԱԽՍԵՐ | H33: =H34 -> 0 | I33: =I34 -> 214966.4 | J33: =J34 -> 690990.44 | K33: =K34 -> 616932.44
G34: ՈՉ ՖԻՆԱՆՍԱԿԱՆ ԱԿՏԻՎՆԵՐԻ ԳԾՈՎ ԾԱԽՍԵՐ | H34: =H35 -> 0 | I34: =I35 -> 214966.4 | J34: =J35 -> 690990.44 | K34: =K35 -> 616932.44
G35: ՀԻՄՆԱԿԱՆ ՄԻՋՈՑՆԵՐ | H35: =H36 -> 0 | I35: =I36 -> 214966.4 | J35: =J36 -> 690990.44 | K35: =K36 -> 616932.44
G36: ՄԵՔԵՆԱՆԵՐ ԵՎ ՍԱՐՔԱՎՈՐՈՒՄՆԵՐ | H36: =+H37 -> 0 | I36: =+I37 -> 214966.4 | J36: =+J37 -> 690990.44 | K36: =+K37 -> 616932.44
G37: - Այլ մեքենաներ և սարքավորումներ | H37: =+'4'!E14 -> 0 | I37: =+'4'!F14 -> 214966.4 | J37: =+'4'!G14 -> 690990.44 | K37: =+'4'!H14 -> 616932.44
G38: ՀՀ կառավարություն | H38: =+H40 -> 0 | I38: =+I40 -> -60000 | J38: =+J40 -> -60000 | K38: =+K40 -> -60000
G39: այդ թվում` բյուջետային ծախսերի տնտեսագիտական դասակարգման հոդվածներ
G40: ԸՆԴԱՄԵՆԸ ԾԱԽՍԵՐ | H40: =+H41 -> 0 | I40: =+I41 -> -60000 | J40: =+J41 -> -60000 | K40: =+K41 -> -60000
...

Sheet 4
B1: Հավելված № 4
B2: ՀՀ կառավարության 2025 թվականի
B3: __________ «____» -ի
B4: N_____ -Ն որոշման
B6: ՀԱՅԱՍՏԱՆԻ ՀԱՆՐԱՊԵՏՈՒԹՅԱՆ ԿԱՌԱՎԱՐՈՒԹՅԱՆ 2024 ԹՎԱԿԱՆԻ ԴԵԿՏԵՄԲԵՐԻ 27-Ի № 2060-Ն ՈՐՈՇՄԱՆ № 5 ՀԱՎԵԼՎԱԾԻ № 2 ԱՂՅՈՒՍԱԿՈՒՄ ԿԱՏԱՐՎՈՂ ՓՈՓՈԽՈՒԹՅՈՒՆՆԵՐԸ
B7: (հազար դրամներով)
B8: Ծրագրային դասիչ | D8: Բյուջետային գլխավոր կարգադրիչների, ծրագրերի, միջոցառումների և ուղղությունների անվանումները | E8: Ցուցանիշների փոփոխությունները (ավելացումները նշված են դրական նշանով, իսկ նվազեցումները` փակագծերում)
B9: Ծրագիր | C9: Միջոցառում | E9: Առաջին եռամսյակ | F9: Առաջին կիսամյակ | G9: Ինն ամիս | H9: Տարի
B10: 1126 | D10: ՀՀ ԱՌՈՂՋԱՊԱՀՈՒԹՅԱՆ ՆԱԽԱՐԱՐՈՒԹՅՈՒՆ | E10: =+E12+E44 -> 0 | F10: =+F12+F44 -> -184912 | G10: =+G12+G44 -> -194911.96 | H10: =+H12+H44 -> -276969.96
D11: այդ թվում`
C12: 31002 | D12: Առողջապահական կազմակերպությունների վերազինում | E12: =+E14+E41 -> 0 | F12: =+F14+F41 -> 154966.4 | G12: =+G14+G41 -> 630990.44 | H12: =+H14+H41 -> 556932.44
D13: այդ թվում` ըստ կատարողների
D14: ՀՀ առողջապահության նախարարություն | E14: =+E16+E20+E24+E26+E28+E31+E33+E35+E37+E39 -> 0 | F14: =+F16+F20+F24+F26+F28+F31+F33+F35+F37+F39 -> 214966.4 | G14: =+G16+G20+G24+G26+G28+G31+G33+G35+G37+G39 -> 690990.44 | H14: =+H16+H20+H24+H26+H28+H31+H33+H35+H37+H39 -> 616932.44
D15: այդ թվում՝ ըստ ուղղությունների
D16: Երևան քաղաք | E16: =+E17+E18+E19 -> 0 | F16: =+F17+F18+F19 -> 0 | G16: =+G17+G18+G19 -> 121112.5 | H16: =+H17+H18+H19 -> 64112.5
D17: Առողջապահության նախարարություն | G17: 8084 | H17: 8084
D18: ՀՀ ԱՆ ««Յոլյան» արյունաբանության և ուռուցքաբանության կենտրոն» ՓԲԸ | G18: 113028.5 | H18: 113028.5
D19: ՀՀ ԱՆ «Հոգեկան առողջության պահպանման ազգային կենտրոն» ՓԲԸ | H19: =-57000 -> -57000
D20: ՀՀ Արարատի մարզ | E20: =+E21+E22+E23 -> 0 | F20: =+F21+F22+F23 -> 105000 | G20: =+G21+G22+G23 -> 246211.04 | H20: =+H21+H22+H23 -> 246211.04
D21: ՀՀ ԱՆ «Հիվանդությունների վերահսկման և կանխարգելման ազգային կենտրոն» ՊՈԱԿ Արարատի մարզի մասնաճյուղ | G21: 16571.04 | H21: 16571.04
D22: ՀՀ Արարատի մարզի «Արարատի հիվանդանոց» բժշկական կենտրոն | F22: 105000 | G22: 114820 | H22: 114820
D23: ՀՀ Արարատի մարզի «Արտաշատի բժշկական կենտրոն» ՓԲԸ պոլիկլինիկա | F23: 0 | G23: 114820 | H23: 114820
D24: ՀՀ Արագածոտնի մարզ | E24: =+E25 -> 0 | F24: =+F25 -> 0 | G24: =+G25 -> 114060.5 | H24: =+H25 -> 117182.5
D25: ՀՀ Արագածոտնի մարզի «Թալինի բժշկական կենտրոն» ՓԲԸ | G25: =12362.5+104820-3122 -> 114060.5 | H25: =12362.5+104820 -> 117182.5
D26: ՀՀ Արմավիրի մարզ | E26: =+E27 -> 0 | F26: =+F27 -> 0 | G26: =+G27 -> -25000 | H26: =+H27 -> -50000
D27: ՀՀ ԱՆ «Հիվանդությունների վերահսկման և կանխարգելման ազգային կենտրոն» ՊՈԱԿ Արմավիրի մարզի մասնաճյուղ | F27: 0 | G27: -25000 | H27: -50000
D28: ՀՀ Գեղարքունիքի մարզ | E28: =+E29+E30 -> 0 | F28: =+F29+F30 -> 107894.4 | G28: =+G29+G30 -> 117714.4 | H28: =+H29+H30 -> 117714.4
D29: ՀՀ Գեղարքունիքի մարզի «Գավառի բժշկական կենտրոն» ՓԲԸ | E29: 0 | F29: 105000 | G29: 114820 | H29: 114820
D30: ՀՀ Գեղարքունիքի մարզի «Լճափ ԱԱՊԿ» ՊՈԱԿ | F30: 2894.4 | G30: 2894.4 | H30: 2894.4
D31: ՀՀ Լոռու մարզ | E31: =+E32 -> 0 | F31: =+F32 -> 0 | G31: =+G32 -> 0 | H31: =+H32 -> -50000
D32: ՀՀ Լոռու մարզի «Տաշիրի բժշկական կենտրոն» ՓԲԸ | H32: -50000
D33: ՀՀ Կոտայքի մարզ | E33: =+E34 -> 0 | F33: =+F34 -> 0 | G33: =+G34 -> 0 | H33: =+H34 -> -50000
D34: ՀՀ Կոտայքի մարզի Եղվարդի «Նաիրիի բժշկական կենտրոն» ՓԲԸ | H34: -50000
D35: ՀՀ Սյունիքի մարզ | E35: =+E36 -> 0 | F35: =+F36 -> 0 | G35: =+G36 -> 114820 | H35: =+H36 -> 114820
D36: «Կապանի ԲԿ» ՓԲԸ | E36: 0 | F36: 0 | G36: 114820 | H36: 114820
D37: ՀՀ Վայոց Ձորի մարզ | E37: =+E38 -> 0 | F37: =+F38 -> 0 | G37: =+G38 -> 0 | H37: =+H38 -> 104820
D38: «Վայոց ձորի ԲԿ» ՓԲԸ | G38: 0 | H38: 104820
D39: ՀՀ Տավուշի մարզ | E39: =+E40 -> 0 | F39: =+F40 -> 2072 | G39: =+G40 -> 2072 | H39: =+H40 -> 2072
D40: «Ն. Նասիբյանի անվան Նոյեմբերյանի ԲԿ» ՓԲԸ | F40: 2072 | G40: 2072 | H40: 2072
D41: ՀՀ կառավարություն | E41: =+E43 -> 0 | F41: =+F43 -> -60000 | G41: =+G43 -> -60000 | H41: =+H43 -> -60000
...

Sheet 5
B1: Հավելված № 5
B2: ՀՀ կառավարության 2025 թվականի
B3: __________ «____» -ի
B4: N_____ -Ն որոշման
B6: ՀԱՅԱՍՏԱՆԻ ՀԱՆՐԱՊԵՏՈՒԹՅԱՆ ԿԱՌԱՎԱՐՈՒԹՅԱՆ 2024 ԹՎԱԿԱՆԻ ԴԵԿՏԵՄԲԵՐԻ 27-Ի № 2060-Ն ՈՐՈՇՄԱՆ № 5 ՀԱՎԵԼՎԱԾԻ № 7 ԱՂՅՈՒՍԱԿՈՒՄ ԿԱՏԱՐՎՈՂ ԼՐԱՑՈՒՄՆԵՐԸ
B7: (հազար դրամներով)
B8: Ծրագրային դասիչ | D8: Բյուջետային հատկացումների գլխավոր կարգադրիչների, ծրագրերի, միջոցառումների, ծախսային ուղղությունների անվանումները | G8: Միջոցառումները կատարող պետական մարմինների և դրամաշնորհ ստացող տնտեսվարող սուբյեկտների անվանումները | H8: Տարի
B9: Ծրագիր | C9: Միջոցառում
B10: 1 | C10: 2 | D10: 3 | G10: 4 | H10: 5
B11: ՀՀ առողջապահության նախարարություն | H11: =+H12 -> 276970
B12: 1126 | C12: Առողջապահության ոլորտում պետական քաղաքականության մշակում, ծրագրերի համակարգում և մոնիտորինգ | H12: =+H13 -> 276970
C13: 12006 | D13: Առողջապահական համակարգի պետական առևտրային և ոչ առևտրային կազմակերպություններին ֆինանսական աջակցության հատկացում | G13: ՀՀ առողջապահության նախարարություն | H13: =SUM(H14:H19) -> 276970
G14: ՀՀ ԱՆ «Ինֆեկցիոն հիվանդությունների ազգային կենտրոն» ՓԲԸ | H14: 37950
G15: ՀՀ ԱՆ «Այրվածքաբանության և մաշկաբանության ազգային կենտրոն» ՓԲԸ | H15: 82058
G16: ՀՀ ԱՆ «Քրեակատարողական բժշկության կենտրոն» ՊՈԱԿ | H16: 131700
G17: ՀՀ ԱՆ «Ռադիոիզոտոպների արտադրության կենտրոն» ՓԲԸ | H17: 12500
G18: «Վանաձորի բժշկական կենտրոն» ՓԲԸ | H18: 3715
G19: ՀՀ Արմավիրի մարզի «Զարիշատ(Արամ) Մարտինի Մկրտչյանի անվան Արմավիրի բժշկական կենտրոն» ՓԲԸ պոլիկլինիկա | H19: 9047

Sheet 6
B1: Հավելված № 6
B2: ՀՀ կառավարության 2025 թվականի
B3: __________ «____» -ի
B4: N_____ -Ն որոշման
B5: ՀԱՅԱՍՏԱՆԻ ՀԱՆՐԱՊԵՏՈՒԹՅԱՆ ԿԱՌԱՎԱՐՈՒԹՅԱՆ 2024 ԹՎԱԿԱՆԻ ԴԵԿՏԵՄԲԵՐԻ 27-Ի № 2060-Ն ՈՐՈՇՄԱՆ № 9 ՀԱՎԵԼՎԱԾՈՒՄ ԿԱՏԱՐՎՈՂ ՓՈՓՈԽՈՒԹՅՈՒՆՆԵՐԸ ԵՎ ԼՐԱՑՈՒՄՆԵՐԸ
A6: (հազար դրամներով)
A7: ԲԳԿ | B7: Ծրագիր | D7: Միջոցառում | H7: Իրականացնողը/ ակտիվն օգտագործողը/ շահառուի ընտրության չափորոշիչը | I7: Արդյունքային չափորոշիչը | J7: Ցուցանիշների փոփոխությունները (ավելացումները նշված են դրական նշանով, իսկ նվազեցումները` փակագծերում)
B8: Դասիչը | C8: Անվանումը | D8: Դասիչը | E8: Անվանումը | F8: Նկարագրությունը | G8: Տեսակը | J8: Առաջին եռամսյակ | K8: Առաջին կիսամյակ | L8: Ինն ամիս | M8: Տարի
A9: ՀՀ առողջապահության նախարարություն | J9: =+J29+J10 -> -2.5011104e-12 | K9: =+K29+K10 -> 0 | L9: =+L29+L10 -> 0.04 | M9: =+M29+M10 -> 0.04
B10: 1126 | C10: Առողջապահության ոլորտում պետական քաղաքականության մշակում, ծրագրերի համակարգում և մոնիտորինգ | J10: =+J11+J16+J21 -> -2.5011104e-12 | K10: =+K11+K16+K21 -> 0 | L10: =+L11+L16+L21 -> 0.04 | M10: =+M11+M16+M21 -> 0.04
D11: 1126-12006 | E11: Առողջապահական համակարգի պետական առևտրային և ոչ առևտրային կազմակերպություններին ֆինանսական աջակցության հատկացում | J11: =+'3'!H20 -> 0 | K11: =+'3'!I20 -> 184912 | L11: =+'3'!J20 -> 194912 | M11: =+'3'!K20 -> 276970
F12: Առողջապահական համակարգի պետական առևտրային և ոչ առևտրային կազմակերպություններին ֆինանսական աջակցության տրամադրում ընթացիկ գործունեության արդյունավետության բարձրացմանն ուղղված
G13: Տրանսֆերտի տրամադրում
H14: Առողջապահական կազմակերպություններ
I15: Ֆինանսական աջակցություն ստացող բժշկական հաստատությունների թիվ, հատ | M15: 6
D16: 1126 - 31002 | E16: Առողջապահական կազմակերպությունների վերազինում | J16: =+'3'!H29 -> 0 | K16: =+'3'!I29 -> 154966.4 | L16: =+'3'!J29 -> 630990.44 | M16: =+'3'!K29 -> 556932.44
F17: Բնակչությանը որակյալ բժշկական օգնության և սպասարկման ծառայություններ մատուցելու նպատակով՛ առողջապահական կազմակերպությունների անհրաժեշտ սարքավորումներով վերազինում
G18: Պետական մարմինների կողմից օգտագործվող ոչ ֆինանսական ակտիվների հետ գործառնություններ
H19: Ակտիվն օգտագործող կազմակերպության անվանումը` Բժշկական կազմակերպություններ
I20: Վերազինվող բուժհաստատությունների քանակ | K20: 0 | M20: 10
D21: 1126 - 31003 | E21: Առողջապահական կազմակերպությունների կառուցում, վերակառուցում | J21: =+'3'!H45 -> -2.5011104e-12 | K21: =+'3'!I45 -> -339878.4 | L21: =+'3'!J45 -> -825902.4 | M21: =+'3'!K45 -> -833902.4
F22: Բնակչությանը որակյալ բժշկական օգնության և սպասարկման ծառայություններ մատուցելու նպատակով առողջապահական կազմակերպությունների կառուցում, վերակառուցում
G23: Պետական մարմինների կողմից օգտագործվող ոչ ֆինանսական ակտիվների հետ գործառնություններ
H24: Ակտիվն օգտագործող կազմակերպության անվանումը` Բժշկական կազմակերպություններ
I25: Ընդամենը կառուցվող կազմակերպություններ, թիվ | M25: =+M26+M27 -> 0
I26: Ընթացիկ կապիտալ շինարարույթունների թիվ, հատ | M26: -1
I27: Նոր կառուցվող կազմակերպությունների թիվ, հատ | M27: 1
I28: Նախագծահետազոտական ծախսեր | M28: 8
A29: ՀՀ կառավարություն | J29: =+J30 -> 0 | K29: =+K30 -> 0 | L29: =+L30 -> 0 | M29: =+M30 -> 0
B30: 1139 | C30: ՀՀ կառավարության պահուստային ֆոնդ | J30: =+J31+J35 -> 0 | K30: =+K31+K35 -> 0 | L30: =+L31+L35 -> 0 | M30: =+M31+M35 -> 0
D31: 1139 - 11001 | E31: ՀՀ կառավարության պահուստային ֆոնդ | J31: =+'3'!H90 -> 0 | K31: =+'3'!I90 -> 184912 | L31: =+'3'!J90 -> 194912 | M31: =+'3'!K90 -> 276970
F32: ՀՀ պետական բյուջեում նախատեսված ելքերի լրացուցիչ ֆինանսավորման, պետական բյուջեում չկանխատեսված ելքերի, ինչպես նաև բյուջետային երաշխիքների ապահովման ելքերի ֆինանսավորման ապահովում
G33: Ծառայությունների մատուցում
H34: Ծառայությունը մատուցողի անվանումը` ՀՀ կառավարություն
D35: 1139 - 11001 | E35: ՀՀ կառավարության պահուստային ֆոնդ | J35: =+'3'!H105 -> 0 | K35: =+'3'!I105 -> -184912 | L35: =+'3'!J105 -> -194912 | M35: =+'3'!K105 -> -276970
F36: ՀՀ պետական բյուջեում նախատեսված ելքերի լրացուցիչ ֆինանսավորման, պետական բյուջեում չկանխատեսված ելքերի, ինչպես նաև բյուջետային երաշխիքների ապահովման ելքերի ֆինանսավորման ապահովում
G37: Ծառայությունների մատուցում
H38: Ծառայությունը մատուցողի անվանումը` ՀՀ կառավարություն

Sheet 7
B1: Հավելված № 7
B2: ՀՀ կառավարության 2024 թվականի
B3: __________ «____» -ի
B4: N_____ -Ն որոշման
B5: ՀԱՅԱՍՏԱՆԻ ՀԱՆՐԱՊԵՏՈՒԹՅԱՆ ԿԱՌԱՎԱՐՈՒԹՅԱՆ 2024 ԹՎԱԿԱՆԻ ԴԵԿՏԵՄԲԵՐԻ 27-Ի № 2060-Ն ՈՐՈՇՄԱՆ № 9.1 ՀԱՎԵԼՎԱԾՈՒՄ ԿԱՏԱՐՎՈՂ ՓՈՓՈԽՈՒԹՅՈՒՆՆԵՐԸ ԵՎ ԼՐԱՑՈՒՄՆԵՐԸ
A6: (հազար դրամներով)
A7: ԲՍԿ | B7: Ծրագիր | D7: Միջոցառում | H7: Իրականացնողը/ ակտիվն օգտագործողը/ շահառուի ընտրության չափորոշիչը | I7: Արդյունքային չափորոշիչը | J7: Ցուցանիշների փոփոխությունները (ավելացումները նշված են դրական նշանով, իսկ նվազեցումները` փակագծերում)
B8: Դասիչը | C8: Անվանումը | D8: Դասիչը | E8: Անվանումը | F8: Նկարագրությունը | G8: Տեսակը | J8: Առաջին եռամսյակ | K8: Առաջին կիսամյակ | L8: Ինն ամիս | M8: Տարի
J9: =+J10+J27+J37+J47 -> -2.5011104e-12 | K9: =+K10+K27+K37+K47 -> -1.4551915e-11 | L9: =+L10+L27+L37+L47 -> 0.04 | M9: =+M10+M27+M37+M47 -> 0.04
A10: ՀՀ առողջապահության նախարարություն | J10: =+J11 -> 0 | K10: =+K11 -> 375000 | L10: =+L11 -> 655000.04 | M10: =+M11 -> 665089.34
B11: 1126 | C11: Առողջապահության ոլորտում պետական քաղաքականության մշակում, ծրագրերի համակարգում և մոնիտորինգ | J11: =+J12+J17+J22 -> 0 | K11: =+K12+K17+K22 -> 375000 | L11: =+L12+L17+L22 -> 655000.04 | M11: =+M12+M17+M22 -> 665089.34
D12: 1126 - 12006 | E12: Առողջապահական համակարգի պետական առևտրային և ոչ առևտրային կազմակերպություններին ֆինանսական աջակցության հատկացում | J12: =+'3'!H20 -> 0 | K12: =+'3'!I20 -> 184912 | L12: =+'3'!J20 -> 194912 | M12: =+'3'!K20 -> 276970
F13: Առողջապահական համակարգի պետական առևտրային և ոչ առևտրային կազմակերպություններին ֆինանսական աջակցության տրամադրում ընթացիկ գործունեության արդյունավետության բարձրացմանն ուղղված
G14: Տրանսֆերտի տրամադրում
H15: Առողջապահական կազմակերպություններ
H16: Ֆինանսական աջակցություն ստացող բժշկական հաստատությունների թիվ, հատ | M16: 6
D17: 1126 - 31002 | E17: Առողջապահական կազմակերպությունների վերազինում | J17: =+'3'!H31 -> 0 | K17: =+'3'!I31 -> 214966.4 | L17: =+'3'!J31 -> 690990.44 | M17: =+'3'!K31 -> 616932.44
F18: Բնակչությանը որակյալ բժշկական օգնության և սպասարկման ծառայություններ մատուցելու նպատակով՛ առողջապահական կազմակերպությունների անհրաժեշտ սարքավորումներով վերազինում
G19: Պետական մարմինների կողմից օգտագործվող ոչ ֆինանսական ակտիվների հետ գործառնություններ
H20: Ակտիվն օգտագործող կազմակերպության անվանումը` Բժշկական կազմակերպություններ
I21: Վերազինվող բուժհաստատությունների քանակ | M21: 10
D22: 1126 - 31003 | E22: Առողջապահական կազմակերպությունների կառուցում, վերակառուցում | J22: =+'3'!H47 -> 0 | K22: =+'3'!I47 -> -24878.4 | L22: =+'3'!J47 -> -230902.4 | M22: =+'3'!K47 -> -228813.1
F23: Բնակչությանը որակյալ բժշկական օգնության և սպասարկման ծառայություններ մատուցելու նպատակով առողջապահական կազմակերպությունների կառուցում, վերակառուցում
G24: Պետական մարմինների կողմից օգտագործվող ոչ ֆինանսական ակտիվների հետ գործառնություններ
H25: Ակտիվն օգտագործող կազմակերպության անվանումը` Բժշկական կազմակերպություններ
I26: Նախագծահետազոտական ծախսեր | M26: 5
A27: ՀՀ կառավարություն | J27: =+J29+J33 -> 0 | K27: =+K29+K33 -> -260000 | L27: =+L29+L33 -> -460000 | M27: =+M29+M33 -> -460000
B28: 1126 | C28: Առողջապահության ոլորտում պետական քաղաքականության մշակում, ծրագրերի համակարգում և մոնիտորինգ | J28: =+J29 -> 0 | K28: =+K29 -> -60000 | L28: =+L29 -> -60000 | M28: =+M29 -> -60000
D29: 1126 - 31002 | E29: Առողջապահական կազմակերպությունների վերազինում | J29: =+'3'!H38 -> 0 | K29: =+'3'!I38 -> -60000 | L29: =+'3'!J38 -> -60000 | M29: =+'3'!K38 -> -60000
F30: Բնակչությանը որակյալ բժշկական օգնության և սպասարկման ծառայություններ մատուցելու նպատակով՛ առողջապահական կազմակերպությունների անհրաժեշտ սարքավորումներով վերազինում
G31: Պետական մարմինների կողմից օգտագործվող ոչ ֆինանսական ակտիվների հետ գործառնություններ
H32: Ակտիվն օգտագործող կազմակերպության անվանումը` Բժշկական կազմակերպություններ
D33: 1126 - 31003 | E33: Առողջապահական կազմակերպությունների կառուցում, վերակառուցում | J33: =+'3'!H70 -> 0 | K33: =+'3'!I70 -> -200000 | L33: =+'3'!J70 -> -400000 | M33: =+'3'!K70 -> -400000
F34: Բնակչությանը որակյալ բժշկական օգնության և սպասարկման ծառայություններ մատուցելու նպատակով առողջապահական կազմակերպությունների կառուցում, վերակառուցում
G35: Պետական մարմինների կողմից օգտագործվող ոչ ֆինանսական ակտիվների հետ գործառնություններ
H36: Ակտիվն օգտագործող կազմակերպության անվանումը` Բժշկական կազմակերպություններ
A37: ՀՀ քաղաքաշինության կոմիտե | J37: =+J38 -> -2.5011104e-12 | K37: =+K38 -> -115000 | L37: =+L38 -> -195000 | M37: =+M38 -> -205089.3
B38: 1126 | C38: Առողջապահության ոլորտում պետական քաղաքականության մշակում, ծրագրերի համակարգում և մոնիտորինգ | J38: =+J39 -> -2.5011104e-12 | K38: =+K39 -> -115000 | L38: =+L39 -> -195000 | M38: =+M39 -> -205089.3
D39: 1126 - 31003 | E39: Առողջապահական կազմակերպությունների կառուցում, վերակառուցում | J39: =+'3'!H56 -> -2.5011104e-12 | K39: =+'3'!I56 -> -115000 | L39: =+'3'!J56 -> -195000 | M39: =+'3'!K56 -> -205089.3
F40: Բնակչությանը որակյալ բժշկական օգնության և սպասարկման ծառայություններ մատուցելու նպատակով առողջապահական կազմակերպությունների կառուցում, վերակառուցում
...

Sheet 8
B1: Հավելված № 8
B2: ՀՀ կառավարության 2024 թվականի
B3: __________ «____» -ի
B4: N_____ -Ն որոշման
B5: ՀԱՅԱՍՏԱՆԻ ՀԱՆՐԱՊԵՏՈՒԹՅԱՆ ԿԱՌԱՎԱՐՈՒԹՅԱՆ 2024 ԹՎԱԿԱՆԻ ԴԵԿՏԵՄԲԵՐԻ 27-Ի № 2060-Ն ՈՐՈՇՄԱՆ № 10 ՀԱՎԵԼՎԱԾՈՒՄ ԿԱՏԱՐՎՈՂ ՓՈՓՈԽՈՒԹՅՈՒՆՆԵՐԸ ԵՎ ԼՐԱՑՈՒՄՆԵՐԸ
B6: Կոդը | C6: Անվանումը | F6: Գնման ձևը | G6: Չափման միավորը | H6: Միավորի գինը | I6: Քանակը | J6: Ցուցանիշների փոփոխությունները (ավելացումները նշված են դրական նշանով, իսկ նվազեցումները` փակագծերում)
J7: Գումարը (հազար դրամով)
J8: =+J9+J82 -> 183030.04
B9: ՀՀ առողջապահության նախարարություն | J9: =J11+J57 -> 388119.34
B10: Բաժին N 07 | C10: Խումբ N 06 | D10: Դաս N 02 | E10: Առողջապահություն (այլ դասերին չպատկանող) | J10: =+J11+J57 -> 388119.34
B11: 1126 31002 | C11: Առողջապահական կազմակերպությունների վերազինում | J11: =SUM(J12:J56) -> 616932.44
B12: 33141174-1 | C12: բժշկական սարքերի հավաքածուներ | F12: ԷԱՃ | G12: հատ | J12: =+'4'!H19 -> -57000
B13: 33141174-5 | C13: բժշկական սարքերի հավաքածուներ | F13: ԷԱՃ | G13: հատ | J13: =+'4'!H27 -> -50000
B14: 33141174-6 | C14: բժշկական սարքերի հավաքածուներ | F14: ԷԱՃ | G14: հատ | J14: -50000
B15: 33141174-7 | C15: բժշկական սարքերի հավաքածուներ | F15: ԷԱՃ | G15: հատ | J15: -50000
B16: 33111460/503 | C16: տոմոգրաֆիկ սարքեր | F16: ՀԲՄ | G16: հատ | H16: 104820000 | I16: 5 | J16: =H16*I16/1000 -> 524100
B17: 33111460 | C17: տոմոգրաֆիկ սարքեր | F17: ՀՄԱ | G17: հատ | H17: 104820000 | I17: 1 | J17: =H17*I17/1000 -> 104820
B18: 31151120/507 | C18: անխափան սնուցման աղբյուրներ | F18: ԷԱՃ | G18: հատ | H18: 10000000 | I18: 3 | J18: =H18*I18/1000 -> 30000
B19: 31151120 | C19: անխափան սնուցման աղբյուրներ | F19: ՀՄԱ | G19: հատ | H19: 10000000 | I19: 1 | J19: =H19*I19/1000 -> 10000
B20: 31151120/509 | C20: անխափան սնուցման աղբյուրներ | F20: ԳՀ | G20: հատ | H20: =J20/I20*1000 -> 200000 | I20: 9 | J20: 1800
B21: 31151120/508 | C21: անխափան սնուցման աղբյուրներ | F21: ԳՀ | G21: հատ | H21: 200000 | I21: 2 | J21: =H21*I21/1000 -> 400
B22: 42931100 | C22: լաբորատորիական ցենտրիֆուգաներ և պարագաներ | F22: ԷԱՃ | G22: հատ | H22: 542400 | I22: 1 | J22: =H22*I22/1000 -> 542.4
B23: 42931100 | C23: լաբորատորիական ցենտրիֆուգներ և պարագաներ | F23: ԷԱՃ | G23: հատ | H23: 1550000 | I23: 3 | J23: =H23*I23/1000 -> 4650
B24: 42931100/510 | C24: լաբորատորիական ցենտրիֆուգներ և պարագաներ | F24: ԳՀ | G24: հատ | H24: 8212500 | I24: 4 | J24: =H24*I24/1000 -> 32850
B25: 33191100 | C25: մանրէազերծող սարք | F25: ԷԱՃ | G25: հատ | H25: 126998.4 | I25: 1 | J25: =H25*I25/1000 -> 126.9984
B26: 33121150 | C26: էլեկտրասրտագրիչ | F26: ԷԱՃ | G26: հատ | H26: 412500 | I26: 1 | J26: =H26*I26/1000 -> 412.5
B27: 33121150/504 | C27: էլեկտրասրտագրիչ | F27: ԷԱՃ | G27: հատ | H27: 256000 | I27: 2 | J27: =H27*I27/1000 -> 512
B28: 33931300 | C28: Դիահերձման սեղաններ | F28: ԳՀ | G28: հատ | H28: 4950000 | I28: 1 | J28: =H28*I28/1000 -> 4950
B29: 33931300 | C29: Դիահերձման սեղաններ | F29: ԳՀ | G29: հատ | H29: 7000000 | I29: 1 | J29: =H29*I29/1000 -> 7000
B30: 33191540 | C30: հիվանդների վիճակների հսկողության համակարգ | F30: ԳՀ | G30: հատ | H30: 240000 | I30: 5 | J30: =H30*I30/1000 -> 1200
B31: 33191480 | C31: սարքեր և գործիքներ ներարկման համար | F31: ԳՀ | G31: հատ | H31: 180000 | I31: 2 | J31: =H31*I31/1000 -> 360
B32: 42941160 | C32: ընկղման կայունաջերմոց (թերմոստատ) | F32: ԷԱՃ | G32: հատ | H32: 600000 | I32: 3 | J32: =H32*I32/1000 -> 1800
B33: 39111190 | C33: բազկաթոռներ | F33: ԷԱՃ | G33: հատ | H33: 657045 | I33: 11 | J33: =H33*I33/1000 -> 7227.495
B34: 39711110 | C34: սառնարան-սառցարաններ | F34: ԷԱՃ | G34: հատ | H34: 624000 | I34: 3 | J34: =H34*I34/1000 -> 1872
B35: 39711150 | C35: ուղղահայաց սառցարաններ | F35: ԳՀ | G35: հատ | H35: 1414286 | I35: 7 | J35: =H35*I35/1000 -> 9900.002
B36: 39711150 | C36: ուղղահայաց սառցարաններ | F36: ԳՀ | G36: հատ | H36: 650000 | I36: 1 | J36: =H36*I36/1000 -> 650
B37: 39711160 | C37: արդյունաբերական սառնարաններ | F37: ԷԱՃ | G37: հատ | H37: 750000 | I37: 2 | J37: =H37*I37/1000 -> 1500
B38: 39711120 | C38: սառցարաններ | F38: ԳՀ | G38: հատ | H38: 747500 | I38: 2 | J38: =H38*I38/1000 -> 1495
B39: 38431360 | C39: կենսաբժշկական սարքեր | F39: ԳՀ | G39: հատ | H39: 2089998 | I39: 1 | J39: =H39*I39/1000 -> 2089.998
B40: 38431700 | C40: լաբորատորիայի կաթոցիչներ և պարագաներ | F40: ԳՀ | G40: հատ | H40: 191667 | I40: 6 | J40: =H40*I40/1000 -> 1150.002
...

Sheet 9
B1: Հավելված № 9
B2: ՀՀ կառավարության 2025 թվականի
B3: __________ «____» -ի
B4: N_____ -Ն որոշման
B5: ՀԱՅԱՍՏԱՆԻ ՀԱՆՐԱՊԵՏՈՒԹՅԱՆ 2025 ԹՎԱԿԱՆԻ ՊԵՏԱԿԱՆ ԲՅՈՒՋՈՎ ՆԱԽԱՏԵՍՎԱԾ` ՀԱՅԱՍՏԱՆԻ ՀԱՆՐԱՊԵՏՈՒԹՅԱՆ ԿԱՌԱՎԱՐՈՒԹՅԱՆ ՊԱՀՈՒՍՏԱՅԻՆ ՖՈՆԴԻՑ ՀԱՏԿԱՑՈՒՄՆԵՐ ԿԱՏԱՐԵԼՈՒ ՎԵՐԱԲԵՐՅԱԼ
B6: (հազար դրամներով)
B7: Գործառական դասիչը | E7: Ծրագրային դասիչը | G7: Բյուջետային հատկացումների գլխավոր կարգադրիչների, ծրագրերի, միջոցառումների և միջոցառումները կատարող պետական մարմինների անվանումները | H7: Ցուցանիշների փոփոխությունները (ավելացումները նշված են դրական նշանով, իսկ նվազեցումները` փակագծերում)
B8: բաժին | C8: խումբ | D8: դաս | E8: Ծրագիր | F8: Միջոցառում | H8: Առաջին եռամսյակ | I8: Առաջին կիսամյակ | J8: Ինն ամիս | K8: Տարի
B9: ԸՆԴԱՄԵՆԸ | H9: =+H10+H29 -> 0 | I9: =+I10+I29 -> 0 | J9: =+J10+J29 -> 0 | K9: =+K10+K29 -> 0
B10: 07 | G10: ԱՌՈՂՋԱՊԱՀՈՒԹՅՈՒՆ | H10: =+H12 -> 0 | I10: =+I12 -> 184912 | J10: =+J12 -> 194912 | K10: =+K12 -> 276970
G11: այդ թվում՝
C12: 06 | G12: Առողջապահություն (այլ դասերին չպատկանող) | H12: =+H14 -> 0 | I12: =+I14 -> 184912 | J12: =+J14 -> 194912 | K12: =+K14 -> 276970
G13: այդ թվում՝
D14: 02 | G14: Առողջապահություն (այլ դասերին չպատկանող) | H14: =+H18 -> 0 | I14: =+I18 -> 184912 | J14: =+J18 -> 194912 | K14: =+K18 -> 276970
G15: այդ թվում՝
G16: ՀՀ առողջապահության նախարարություն | H16: =+H18 -> 0 | I16: =+I18 -> 184912 | J16: =+J18 -> 194912 | K16: =+K18 -> 276970
G17: այդ թվում՝
E18: 1126 | G18: Առողջապահության ոլորտում պետական քաղաքականության մշակում, ծրագրերի համակարգում և մոնիտորինգ | H18: =+H20 -> 0 | I18: =+I20 -> 184912 | J18: =+J20 -> 194912 | K18: =+K20 -> 276970
G19: այդ թվում՝
F20: 12006 | G20: Առողջապահական համակարգի պետական առևտրային և ոչ առևտրային կազմակերպություններին ֆինանսական աջակցության հատկացում | H20: =+H22 -> 0 | I20: =+I22 -> 184912 | J20: =+J22 -> 194912 | K20: =+K22 -> 276970
G21: այդ թվում ըստ կատարողների
G22: ՀՀ առողջապահության նախարարություն | H22: =+H24 -> 0 | I22: =+I24 -> 184912 | J22: =+J24 -> 194912 | K22: =+K24 -> 276970
G23: այդ թվում` բյուջետային ծախսերի տնտեսագիտական դասակարգման հոդվածներ
G24: ԸՆԴԱՄԵՆԸ ԾԱԽՍԵՐ | H24: =+H25 -> 0 | I24: =+I25 -> 184912 | J24: =+J25 -> 194912 | K24: =+K25 -> 276970
G25: ԸՆԹԱՑԻԿ ԾԱԽՍԵՐ | H25: =+H26 -> 0 | I25: =+I26 -> 184912 | J25: =+J26 -> 194912 | K25: =+K26 -> 276970
G26: ԴՐԱՄԱՇՆՈՐՀՆԵՐ | H26: =+H27 -> 0 | I26: =+I27 -> 184912 | J26: =+J27 -> 194912 | K26: =+K27 -> 276970
G27: Ընթացիկ դրամաշնորհներ պետական հատվածի այլ մակարդակներին | H27: =+H28 -> 0 | I27: =+I28 -> 184912 | J27: =+J28 -> 194912 | K27: =+K28 -> 276970
G28: - Այլ ընթացիկ դրամաշնորհներ | H28: =+'3'!H20 -> 0 | I28: =+'3'!I20 -> 184912 | J28: =+'3'!J20 -> 194912 | K28: =+'3'!K20 -> 276970
B29: 11 | G29: ՀԻՄՆԱԿԱՆ ԲԱԺԻՆՆԵՐԻՆ ՉԴԱՍՎՈՂ ՊԱՀՈՒՍՏԱՅԻՆ ՖՈՆԴԵՐ | H29: =+H31 -> 0 | I29: =+I31 -> -184912 | J29: =+J31 -> -194912 | K29: =+K31 -> -276970
G30: այդ թվում՝
C31: 01 | G31: ՀՀ կառավարության և համայնքների պահուստային ֆոնդ | H31: =+H33 -> 0 | I31: =+I33 -> -184912 | J31: =+J33 -> -194912 | K31: =+K33 -> -276970
G32: այդ թվում՝
D33: 01 | G33: ՀՀ կառավարության պահուստային ֆոնդ | H33: =+H35 -> 0 | I33: =+I35 -> -184912 | J33: =+J35 -> -194912 | K33: =+K35 -> -276970
G34: այդ թվում՝
G35: ՀՀ կառավարություն | H35: =+H37 -> 0 | I35: =+I37 -> -184912 | J35: =+J37 -> -194912 | K35: =+K37 -> -276970
G36: այդ թվում՝
E37: 1139 | G37: ՀՀ կառավարության պահուստային ֆոնդ | H37: =+H39 -> 0 | I37: =+I39 -> -184912 | J37: =+J39 -> -194912 | K37: =+K39 -> -276970
G38: այդ թվում`
F39: 11001 | G39: ՀՀ կառավարության պահուստային ֆոնդ | H39: =+H41 -> 0 | I39: =+I41 -> -184912 | J39: =+J41 -> -194912 | K39: =+K41 -> -276970
G40: այդ թվում ըստ կատարողների
...
