Workbook
Name _tab10: #REF!
Name _tab10: #REF!
Name _tab10: #REF!
Name _tab11: #REF!
Name _tab11: #REF!
Name _tab12: #REF!
Name _tab12: #REF!
Name _tab13: #REF!
Name _tab13: #REF!
Name _tab14: #REF!
Name _tab14: #REF!
Name _tab15: #REF!
Name _tab15: #REF!
Name _tab16: #REF!
Name _tab16: #REF!
Name _tab17: #REF!
Name _tab17: #REF!
Name _tab18: #REF!
Name _tab18: #REF!
Name _tab19: #REF!
Name _tab19: #REF!
Name _tab20: #REF!
Name _tab20: #REF!
Name _tab21: #REF!
Name _tab21: #REF!
Name _tab22: #REF!
Name _tab22: #REF!
Name _tab22222: #REF!
Name _tab23: #REF!
Name _tab23: #REF!
Name _tab24: #REF!
Name _tab24: #REF!
Name _tab5: #REF!
Name _tab5: #REF!
Name _tab6: #REF!
Name _tab6: #REF!
Name _tab7: #REF!
Name _tab7: #REF!
Name _tab8: #REF!
Name _tab8: #REF!
Name _tab9: #REF!
Name _tab9: #REF!
Name aaaaaaaaaaaa: #REF!
Name hhhh: #REF!
Name hunvar: #REF!,#REF!,#REF!,#REF!,#REF!,#REF!,#REF!,#REF!,#REF!,#REF!,#REF!,#REF!,#REF!,#REF!,#REF!
Name hunvar: #REF!,#REF!,#REF!,#REF!,#REF!,#REF!,#REF!,#REF!,#REF!,#REF!,#REF!,#REF!,#REF!,#REF!,#REF!
Name par_count: #REF!,#REF!,#REF!,#REF!,#REF!,#REF!,#REF!,#REF!,#REF!,#REF!,#REF!,#REF!,#REF!,#REF!,#REF!
Name par_count: #REF!,#REF!,#REF!,#REF!,#REF!,#REF!,#REF!,#REF!,#REF!,#REF!,#REF!,#REF!,#REF!,#REF!,#REF!
Name par_count: #REF!,#REF!,#REF!,#REF!,#REF!,#REF!,#REF!,#REF!,#REF!,#REF!,#REF!,#REF!,#REF!,#REF!,#REF!
Name par_qual: #REF!,#REF!,#REF!,#REF!,#REF!
Name par_qual: #REF!,#REF!,#REF!,#REF!,#REF!
Name par_time: #REF!,#REF!,#REF!,#REF!
Name par_time: #REF!,#REF!,#REF!,#REF!
Name par2.12s: #REF!
Name par2.12s: #REF!
Name par2.4s: #REF!,#REF!,#REF!,#REF!,#REF!,#REF!,#REF!,#REF!,#REF!,#REF!,#REF!,#REF!,#REF!,#REF!,#REF!,#REF!
Name par2.4s: #REF!,#REF!,#REF!,#REF!,#REF!,#REF!,#REF!,#REF!,#REF!,#REF!,#REF!,#REF!,#REF!,#REF!,#REF!,#REF!
Name par2.4s: #REF!,#REF!,#REF!,#REF!,#REF!,#REF!,#REF!,#REF!,#REF!,#REF!,#REF!,#REF!,#REF!,#REF!,#REF!,#REF!
Name par2.5s: #REF!,#REF!
Name par2.5s: #REF!,#REF!

Sheet 1
B1: Հավելված № 1
B2: ՀՀ կառավարության 2025 թվականի
B3: __________ «____» -ի
B4: N_____ -Ն որոշման
B6: «ՀԱՅԱՍՏԱՆԻ ՀԱՆՐԱՊԵՏՈՒԹՅԱՆ 2025 ԹՎԱԿԱՆԻ ՊԵՏԱԿԱՆ ԲՅՈՒՋԵԻ ՄԱՍԻՆ» ՀԱՅԱՍՏԱՆԻ ՀԱՆՐԱՊԵՏՈՒԹՅԱՆ ՕՐԵՆՔԻ № 1 ՀԱՎԵԼՎԱԾԻ № 3 ԱՂՅՈՒՍԱԿՈՒՄ ԿԱՏԱՐՎՈՂ ՓՈՓՈԽՈՒԹՅՈՒՆՆԵՐԸ
B7: (հազար դրամներով)
B8: Ծրագրային դասիչ | D8: Բյուջետային գլխավոր կարգադրիչների, ծրագրերի, միջոցառումների և ուղղությունների անվանումները | E8: Ցուցանիշների փոփոխությունները (ավելացումները նշված են դրական նշանով, իսկ նվազեցումները` փակագծերում)
E9: Ընդամենը | F9: այդ թվում
B10: Ծրագիր | C10: Միջոցառում | F10: Կառուցման աշխատանքներ | G10: Վերակառուցման, վերանորոգման և վերականգնման աշխատանքներ | H10: Նախագծահե- տազոտական, գեոդեզիա- քարտեզագրա- կան աշխա- տանքներ | I10: Ոչ ֆինանսական այլ ակտիվների ձեռքբերում
D11: ՀՀ ԱՌՈՂՋԱՊԱՀՈՒԹՅԱՆ ՆԱԽԱՐԱՐՈՒԹՅՈՒՆ | E11: =+E13+E14 -> -276969.96 | F11: =+F13+F14 -> -217156.7 | G11: =+G13+G14 -> -822857.4 | H11: =+H13+H14 -> 206111.7 | I11: =+I13+I14 -> 556932.44
D12: այդ թվում`
B13: 1126 | C13: 31002 | D13: Առողջապահական կազմակերպությունների վերազինում | E13: =+F13+G13+H13+I13 -> 556932.44 | F13: 0 | G13: 0 | H13: 0 | I13: =+'3'!K29 -> 556932.44
B14: 1126 | C14: 31003 | D14: Առողջապահական կազմակերպությունների կառուցում, վերակառուցում | E14: =+F14+G14+H14+I14 -> -833902.4 | F14: =+'3'!K76+'3'!K66 -> -217156.7 | G14: =+'3'!K53+'3'!K77+'3'!K67 -> -822857.4 | H14: =+'3'!K55+'3'!K69+1588.7+'3'!K79 -> 206111.7 | I14: 0

Sheet 2
B1: Հավելված № 2
B2: ՀՀ կառավարության 2025 թվականի
B3: __________ «____» -ի
B4: N_____ -Ն որոշման
B5: «ՀԱՅԱՍՏԱՆԻ ՀԱՆՐԱՊԵՏՈՒԹՅԱՆ 2025 ԹՎԱԿԱՆԻ ՊԵՏԱԿԱՆ ԲՅՈՒՋԵԻ ՄԱՍԻՆ» ՀԱՅԱՍՏԱՆԻ ՀԱՆՐԱՊԵՏՈՒԹՅԱՆ ՕՐԵՆՔԻ № 1 ՀԱՎԵԼՎԱԾԻ № 2 ԱՂՅՈՒՍԱԿՈՒՄ ԿԱՏԱՐՎՈՂ ՎԵՐԱԲԱՇԽՈՒՄԸ ԵՎ ՀԱՅԱՍՏԱՆԻ ՀԱՆՐԱՊԵՏՈՒԹՅԱՆ ԿԱՌԱՎԱՐՈՒԹՅԱՆ 2024 ԹՎԱԿԱՆԻ ԴԵԿՏԵՄԲԵՐԻ 27-Ի № 2060-Ն ՈՐՈՇՄԱՆ № 5 ՀԱՎԵԼՎԱԾՈՒՄ ԿԱՏԱՐՎՈՂ ՓՈՓՈԽՈՒԹՅՈՒՆՆԵՐԸ ԵՎ ԼՐԱՑՈՒՄՆԵՐԸ
B6: (հազար դրամներով)
B7: ԲԳԿ | C7: Ծրագրային դասիչը | E7: ԲԳԿ/Ծրագրի /միջոցառման անվանումը | F7: Ծրագրի նպատակը/Միջոցառման նկարագրությունը | G7: Վերջնական արդյունքի նկարագրությունը/Միջոցառման տեսակը | H7: Ցուցանիշների փոփոխությունները (ավելացումները նշված են դրական նշանով, իսկ նվազեցումները` փակագծերում)
C8: Ծրագիր | D8: Միջոցառում | H8: Առաջին եռամսյակ | I8: Առաջին կիսամյակ | J8: Ինն ամիս | K8: Տարի
B9: ՀՀ առողջապահության նախարարություն | H9: 0 | I9: =+I10 -> 0 | J9: =+J10 -> 0.04 | K9: =+K10 -> 0.04
C10: 1126 | E10: Առողջապահության ոլորտում պետական քաղաքականության մշակում, ծրագրերի համակարգում և մոնիտորինգ | F10: Մարդու և հանրության առողջության պահպանում, բնակչության առողջության բարելավում, հիվանդությունների կանխարգելում, հաշմանդամության և մահացության ցուցանիշների նվազեցում | G10: Առողջապահության ոլորտում իրականացվող ծրագրերի ազդեցության և արդյունավետության բարելավում | H10: =+H11+H12++++++++++H13 -> 0 | I10: =+I11+I12++++++++++I13 -> 0 | J10: =+J11+J12++++++++++J13 -> 0.04 | K10: =+K11+K12++++++++++K13 -> 0.04
D11: 1126 - 12006 | E11: Առողջապահական համակարգի պետական առևտրային և ոչ առևտրային կազմակերպություններին ֆինանսական աջակցության հատկացում | F11: Առողջապահական կազմակերպությունների կառուցման,վերակառուցման և վերազինման գործընթացի բնականոնաշխատանքների իրականացման ապահովում | G11: Ծառայությունների մատուցում | H11: =+'3'!H20 -> 0 | I11: =+'3'!I20 -> 184912 | J11: =+'3'!J20 -> 194912 | K11: =+'3'!K20 -> 276970
D12: 1126 - 31002 | E12: Առողջապահական կազմակերպությունների վերազինում | F12: Բնակչությանը որակյալ բժշկական օգնության և սպասարկման ծառայություններ մատուցելու նպատակով՛ առողջապահական կազմակերպությունների անհրաժեշտ սարքավորումներով վերազինում | G12: Պետական մարմինների կողմից օգտագործվող ոչ ֆինանսական ակտիվների հետ գործառնություններ | H12: =+'3'!H29 -> 0 | I12: =+'3'!I29 -> 154966.4 | J12: =+'3'!J29 -> 630990.44 | K12: =+'3'!K29 -> 556932.44
D13: 1126 - 31003 | E13: Առողջապահական կազմակերպությունների կառուցում, վերակառուցում | F13: Բնակչությանը որակյալ բժշկական օգնության և սպասարկման ծառայություններ մատուցելու նպատակով առողջապահական կազմակերպությունների կառուցում, վերակառուցում | G13: Պետական մարմինների կողմից օգտագործվող ոչ ֆինանսական ակտիվների հետ գործառնություններ | H13: 0 | I13: =+'3'!I45 -> -339878.4 | J13: =+'3'!J45 -> -825902.4 | K13: =+'3'!K45 -> -833902.4
B14: ՀՀ կառավարություն
C15: 1139 | E15: ՀՀ կառավարության պահուստային ֆոնդ | F15: Պետական բյուջեում չկանխատեսված, ինչպես նաեւ բյուջետային երաշխիքների ապահովման ծախսերի ֆինանսավորման ապահովում | G15: Պահուստային ֆոնդի կառավարման արդյունավետության և թափանցիկության ապահովում | H15: =+H16+H17 -> 0 | I15: =+I16+I17 -> 0 | J15: =+J16+J17 -> 0 | K15: =+K16+K17 -> 0
D16: 1139 - 11001 | E16: ՀՀ կառավարության պահուստային ֆոնդ | F16: ՀՀ պետական բյուջեում նախատեսված ելքերի լրացուցիչ ֆինանսավորման, պետական բյուջեում չկանխատեսված ելքերի, ինչպես նաև բյուջետային երաշխիքների ապահովման ելքերի ֆինանսավորման ապահովում | G16: Ծառայությունների մատուցում | H16: =+H11 -> 0 | I16: =+I11 -> 184912 | J16: =+J11 -> 194912 | K16: =+K11 -> 276970
D17: 1139 - 11001 | E17: ՀՀ կառավարության պահուստային ֆոնդ | F17: ՀՀ պետական բյուջեում նախատեսված ելքերի լրացուցիչ ֆինանսավորման, պետական բյուջեում չկանխատեսված ելքերի, ինչպես նաև բյուջետային երաշխիքների ապահովման ելքերի ֆինանսավորման ապահովում | G17: Ծառայությունների մատուցում | H17: =+-H11 -> 0 | I17: =+-I11 -> -184912 | J17: =+-J11 -> -194912 | K17: =+-K11 -> -276970

Sheet 3
B1: Հավելված № 3
B2: ՀՀ կառավարության 2025 թվականի
B3: __________ «____» -ի
B4: N_____ -Ն որոշման
B5: ՀԱՅԱՍՏԱՆԻ ՀԱՆՐԱՊԵՏՈՒԹՅԱՆ ԿԱՌԱՎԱՐՈՒԹՅԱՆ 2024 ԹՎԱԿԱՆԻ ԴԵԿՏԵՄԲԵՐԻ 27-Ի № 2060-Ն ՈՐՈՇՄԱՆ №№ 3 և 4 ՀԱՎԵԼՎԱԾՆԵՐՈՒՄ ԿԱՏԱՐՎՈՂ ՓՈՓՈԽՈՒԹՅՈՒՆՆԵՐԸ ԵՎ ԼՐԱՑՈՒՄՆԵՐԸ
B6: (հազար դրամներով)
B7: Գործառական դասիչը | E7: Ծրագրային դասիչը | G7: Բյուջետային հատկացումների գլխավոր կարգադրիչների, ծրագրերի, միջոցառումների և միջոցառումները կատարող պետական մարմինների անվանումները | H7: Ցուցանիշների փոփոխությունները (ավելացումները նշված են դրական նշանով, իսկ նվազեցումները` փակագծերում)
B8: բաժին | C8: խումբ | D8: դաս | E8: Ծրագիր | F8: Միջոցառում | H8: Առաջին եռամսյակ | I8: Առաջին կիսամյակ | J8: Ինն ամիս | K8: Տարի
B9: ԸՆԴԱՄԵՆԸ | H9: =+H10 -> 0 | I9: =+I10 -> 0 | J9: =+J10 -> 0.04 | K9: =+K10 -> 0.04
B10: 07 | G10: ԱՌՈՂՋԱՊԱՀՈՒԹՅՈՒՆ | H10: =+H12 -> 0 | I10: =+I12 -> 0 | J10: =+J12 -> 0.04 | K10: =+K12 -> 0.04
G11: այդ թվում՝
C12: 06 | G12: Առողջապահություն (այլ դասերին չպատկանող) | H12: =+H14 -> 0 | I12: =+I14 -> 0 | J12: =+J14 -> 0.04 | K12: =+K14 -> 0.04
G13: այդ թվում՝
D14: 02 | G14: Առողջապահություն (այլ դասերին չպատկանող) | H14: =+H18 -> 0 | I14: =+I18 -> 0 | J14: =+J18 -> 0.04 | K14: =+K18 -> 0.04
G15: այդ թվում՝
G16: ՀՀ առողջապահության նախարարություն | H16: =+H18 -> 0 | I16: =+I18 -> 0 | J16: =+J18 -> 0.04 | K16: =+K18 -> 0.04
G17: այդ թվում՝
E18: 1126 | G18: Առողջապահության ոլորտում պետական քաղաքականության մշակում, ծրագրերի համակարգում և մոնիտորինգ | H18: 0 | I18: =+I20+I29+I45 -> 0 | J18: =+J20+J29+J45 -> 0.04 | K18: =+K20+K29+K45 -> 0.04
G19: այդ թվում՝
F20: 12006 | G20: Առողջապահական համակարգի պետական առևտրային և ոչ առևտրային կազմակերպություններին ֆինանսական աջակցության հատկացում | H20: =+H22 -> 0 | I20: =+I22 -> 184912 | J20: =+J22 -> 194912 | K20: =+'5'!H13 -> 276970
G21: այդ թվում ըստ կատարողների
G22: ՀՀ առողջապահության նախարարություն | H22: =+H24 -> 0 | I22: =+I24 -> 184912 | J22: =+J24 -> 194912 | K22: =+K24 -> 276970
G23: այդ թվում` բյուջետային ծախսերի տնտեսագիտական դասակարգման հոդվածներ
G24: ԸՆԴԱՄԵՆԸ ԾԱԽՍԵՐ | H24: =+H25 -> 0 | I24: =+I25 -> 184912 | J24: =+J25 -> 194912 | K24: =+K25 -> 276970
G25: ԸՆԹԱՑԻԿ ԾԱԽՍԵՐ | H25: =+H26 -> 0 | I25: =+I26 -> 184912 | J25: =+J26 -> 194912 | K25: =+K26 -> 276970
G26: ԴՐԱՄԱՇՆՈՐՀՆԵՐ | H26: =+H27 -> 0 | I26: =+I27 -> 184912 | J26: =+J27 -> 194912 | K26: =+K27 -> 276970
G27: Ընթացիկ դրամաշնորհներ պետական հատվածի այլ մակարդակներին | H27: =+H28 -> 0 | I27: =+I28 -> 184912 | J27: =+J28 -> 194912 | K27: =+K28 -> 276970
G28: - Այլ ընթացիկ դրամաշնորհներ | H28: 0 | I28: 184912 | J28: 194912 | K28: =+'5'!H11 -> 276970
F29: 31002 | G29: Առողջապահական կազմակերպությունների վերազինում | H29: =+H31+H38 -> 0 | I29: =+I31+I38 -> 154966.4 | J29: =+J31+J38 -> 630990.44 | K29: =+K31+K38 -> 556932.44
G30: այդ թվում ըստ կատարողների
G31: ՀՀ առողջապահության նախարարություն | H31: =+H33 -> 0 | I31: =+I33 -> 214966.4 | J31: =+J33 -> 690990.44 | K31: =+K33 -> 616932.44
G32: այդ թվում` բյուջետային ծախսերի տնտեսագիտական դասակարգման հոդվածներ
G33: ԸՆԴԱՄԵՆԸ ԾԱԽՍԵՐ | H33: =H34 -> 0 | I33: =I34 -> 214966.4 | J33: =J34 -> 690990.44 | K33: =K34 -> 616932.44
G34: ՈՉ ՖԻՆԱՆՍԱԿԱՆ ԱԿՏԻՎՆԵՐԻ ԳԾՈՎ ԾԱԽՍԵՐ | H34: =H35 -> 0 | I34: =I35 -> 214966.4 | J34: =J35 -> 690990.44 | K34: =K35 -> 616932.44
G35: ՀԻՄՆԱԿԱՆ ՄԻՋՈՑՆԵՐ | H35: =H36 -> 0 | I35: =I36 -> 214966.4 | J35: =J36 -> 690990.44 | K35: =K36 -> 616932.44
G36: ՄԵՔԵՆԱՆԵՐ ԵՎ ՍԱՐՔԱՎՈՐՈՒՄՆԵՐ | H36: =+H37 -> 0 | I36: =+I37 -> 214966.4 | J36: =+J37 -> 690990.44 | K36: =+K37 -> 616932.44
G37: - Այլ մեքենաներ և սարքավորումներ | H37: =+'4'!E14 -> 0 | I37: =+'4'!F14 -> 214966.4 | J37: =+'4'!G14 -> 690990.44 | K37: =+'4'!H14 -> 616932.44
G38: ՀՀ կառավարություն | H38: =+H40 -> 0 | I38: =+I40 -> -60000 | J38: =+J40 -> -60000 | K38: =+K40 -> -60000
G39: այդ թվում` բյուջետային ծախսերի տնտեսագիտական դասակարգման հոդվածներ
G40: ԸՆԴԱՄԵՆԸ ԾԱԽՍԵՐ | H40: =+H41 -> 0 | I40: =+I41 -> -60000 | J40: =+J41 -> -60000 | K40: =+K41 -> -60000
G41: ՈՉ ՖԻՆԱՆՍԱԿԱՆ ԱԿՏԻՎՆԵՐԻ ԳԾՈՎ ԾԱԽՍԵՐ | H41: =+H42 -> 0 | I41: =+I42 -> -60000 | J41: =+J42 -> -60000 | K41: =+K42 -> -60000
G42: ՀԻՄՆԱԿԱՆ ՄԻՋՈՑՆԵՐ | H42: =+H43 -> 0 | I42: =+I43 -> -60000 | J42: =+J43 -> -60000 | K42: =+K43 -> -60000
G43: ՄԵՔԵՆԱՆԵՐ ԵՎ ՍԱՐՔԱՎՈՐՈՒՄՆԵՐ | H43: =+H44 -> 0 | I43: =+I44 -> -60000 | J43: =+J44 -> -60000 | K43: =+K44 -> -60000
G44: - Այլ մեքենաներ և սարքավորումներ | H44: =+'4'!E43 -> 0 | I44: =+'4'!F43 -> -60000 | J44: =+'4'!G43 -> -60000 | K44: =+'4'!H43 -> -60000
F45: 31003 | G45: Առողջապահական կազմակերպությունների կառուցում, վերակառուցում | H45: =+H47+H56+H70 -> -2.5011104e-12 | I45: =+I47+I56+I70 -> -339878.4 | J45: =+J47+J56+J70 -> -825902.4 | K45: =+K47+K56+K70 -> -833902.4
G46: այդ թվում ըստ կատարողների
G47: ՀՀ առողջապահության նախարարություն | H47: =+H49 -> 0 | I47: =+I49 -> -24878.4 | J47: =+J49 -> -230902.4 | K47: =+K49 -> -228813.1
G48: այդ թվում` բյուջետային ծախսերի տնտեսագիտական դասակարգման հոդվածներ
G49: ԸՆԴԱՄԵՆԸ ԾԱԽՍԵՐ | H49: =+H50 -> 0 | I49: =+I50 -> -24878.4 | J49: =+J50 -> -230902.4 | K49: =+K50 -> -228813.1
G50: ՈՉ ՖԻՆԱՆՍԱԿԱՆ ԱԿՏԻՎՆԵՐԻ ԳԾՈՎ ԾԱԽՍԵՐ | H50: =+H51+H54 -> 0 | I50: =+I51+I54 -> -24878.4 | J50: =+J51+J54 -> -230902.4 | K50: =+K51+K54 -> -228813.1
G51: ՀԻՄՆԱԿԱՆ ՄԻՋՈՑՆԵՐ | H51: =+H52 -> 0 | I51: =+I52 -> -107681.4 | J51: =+J52 -> -313705.4 | K51: =+K52 -> -360116.1
G52: ՇԵՆՔԵՐ ԵՎ ՇԻՆՈՒԹՅՈՒՆՆԵՐ | H52: =+H53 -> 0 | I52: =+I53 -> -107681.4 | J52: =+J53 -> -313705.4 | K52: =+K53 -> -360116.1
G53: - Շենքերի և շինությունների կապիտալ վերանորոգում | H53: =+'4'!E49 -> 0 | I53: =+'4'!F49+2000+'4'!F50 -> -107681.4 | J53: =+'4'!G49+4000+'4'!G50 -> -313705.4 | K53: =+'4'!H49+7394+'4'!H50 -> -360116.1
G54: ԱՅԼ ՀԻՄՆԱԿԱՆ ՄԻՋՈՑՆԵՐ | H54: =+H55 -> 0 | I54: =+I55 -> 82803 | J54: =+J55 -> 82803 | K54: =+K55 -> 131303
G55: - Նախագծահետազոտական ծախսեր | H55: =+'4'!E51+'4'!E53+'4'!E55+'4'!E57+'4'!E63 -> 0 | I55: =+'4'!F51+'4'!F53+'4'!F55+'4'!F57+'4'!F63+450+'4'!F59 -> 82803 | J55: =+'4'!G51+'4'!G53+'4'!G55+'4'!G57+'4'!G63+450+'4'!G59 -> 82803 | K55: =+'4'!H51+'4'!H53+'4'!H55+'4'!H57+'4'!H63+450+'4'!H59 -> 131303
G56: ՀՀ քաղաքաշինության կոմիտե | H56: =+H58+H63 -> -2.5011104e-12 | I56: =+I58+I63 -> -115000 | J56: =+J58+J63 -> -195000 | K56: =+K58+K63 -> -205089.3
G57: այդ թվում` բյուջետային ծախսերի տնտեսագիտական դասակարգման հոդվածներ
G58: ԸՆԴԱՄԵՆԸ ԾԱԽՍԵՐ | H58: =+H59 -> 1588.7 | I58: =+I59 -> 1588.7 | J58: =+J59 -> 1588.7 | K58: =+K59 -> 1588.7
G59: ԸՆԹԱՑԻԿ ԾԱԽՍԵՐ | H59: =+H60 -> 1588.7 | I59: =+I60 -> 1588.7 | J59: =+J60 -> 1588.7 | K59: =+K60 -> 1588.7
G60: ԾԱՌԱՅՈՒԹՅՈՒՆՆԵՐԻ ԵՎ ԱՊՐԱՆՔՆԵՐԻ ՁԵՌՔ ԲԵՐՈՒՄ | H60: =+H61 -> 1588.7 | I60: =+I61 -> 1588.7 | J60: =+J61 -> 1588.7 | K60: =+K61 -> 1588.7
G61: ԱՅԼ ՄԱՍՆԱԳԻՏԱԿԱՆ ԾԱՌԱՅՈՒԹՅՈՒՆՆԵՐԻ ՁԵՌՔ ԲԵՐՈՒՄ | H61: =+H62 -> 1588.7 | I61: =+I62 -> 1588.7 | J61: =+J62 -> 1588.7 | K61: =+K62 -> 1588.7
G62: - Մասնագիտական ծառայություններ | H62: 1588.7 | I62: 1588.7 | J62: 1588.7 | K62: 1588.7
G63: ՈՉ ՖԻՆԱՆՍԱԿԱՆ ԱԿՏԻՎՆԵՐԻ ԳԾՈՎ ԾԱԽՍԵՐ | H63: =+H68+H64 -> -1588.7 | I63: =+I68+I64 -> -116588.7 | J63: =+J68+J64 -> -196588.7 | K63: =+K68+K64 -> -206678
G64: ՀԻՄՆԱԿԱՆ ՄԻՋՈՑՆԵՐ | H64: =+H65 -> -17738.8 | I64: =+I65 -> -173152.2 | J64: =+J65 -> -273772.4 | K64: =+K65 -> -329798
G65: ՇԵՆՔԵՐ ԵՎ ՇԻՆՈՒԹՅՈՒՆՆԵՐ | H65: =+H66+H67 -> -17738.8 | I65: =+I66+I67 -> -173152.2 | J65: =+J66+J67 -> -273772.4 | K65: =+K66+K67 -> -329798
G66: - Շենքերի և շինությունների շինարարություն | H66: =+'4'!E83 -> 0 | I66: =+'4'!F83 -> -45000 | J66: =+'4'!G83 -> -95000 | K66: =+'4'!H83 -> -100000
G67: - Շենքերի և շինությունների կապիտալ վերանորոգում | H67: =-40413.4+22674.6 -> -17738.8 | I67: =-80826.8+22674.6+'4'!F79 -> -128152.2 | J67: =-141447+62674.6+'4'!G79 -> -178772.4 | K67: =+-202067.1+'4'!H71-923+'4'!H79 -> -229798
G68: ԱՅԼ ՀԻՄՆԱԿԱՆ ՄԻՋՈՑՆԵՐ | H68: =+H69 -> 16150.1 | I68: =+I69 -> 56563.5 | J68: =+J69 -> 77183.7 | K68: =+K69 -> 123120
G69: -Նախագծահետազոտական ծախսեր | H69: 16150.1 | I69: 56563.5 | J69: 77183.7 | K69: =42400+23220+56000+1500 -> 123120
G70: ՀՀ կառավարություն | H70: =+H72 -> 0 | I70: =+I72 -> -200000 | J70: =+J72 -> -400000 | K70: =+K72 -> -400000
G71: այդ թվում` բյուջետային ծախսերի տնտեսագիտական դասակարգման հոդվածներ
G72: ԸՆԴԱՄԵՆԸ ԾԱԽՍԵՐ | H72: =+H73 -> 0 | I72: =+I73 -> -200000 | J72: =+J73 -> -400000 | K72: =+K73 -> -400000
G73: ՈՉ ՖԻՆԱՆՍԱԿԱՆ ԱԿՏԻՎՆԵՐԻ ԳԾՈՎ ԾԱԽՍԵՐ | H73: =+H74 -> 0 | I73: =+I74 -> -200000 | J73: =+J74 -> -400000 | K73: =+K74 -> -400000
G74: ՀԻՄՆԱԿԱՆ ՄԻՋՈՑՆԵՐ | H74: =+H75+H78 -> 0 | I74: =+I75+I78 -> -200000 | J74: =+J75+J78 -> -400000 | K74: =+K75+K78 -> -400000
G75: ՇԵՆՔԵՐ ԵՎ ՇԻՆՈՒԹՅՈՒՆՆԵՐ | H75: =+H76+H77 -> 0 | I75: =+I76+I77 -> -165100 | J75: =+J76+J77 -> -350100 | K75: =+K76+K77 -> -350100
G76: - Շենքերի և շինությունների շինարարություն | I76: 0 | J76: -117156.7 | K76: -117156.7
G77: - Շենքերի և շինությունների կապիտալ վերանորոգում | I77: -165100 | J77: -232943.3 | K77: -232943.3
G78: ԱՅԼ ՀԻՄՆԱԿԱՆ ՄԻՋՈՑՆԵՐ | H78: =+H79 -> 0 | I78: =+I79 -> -34900 | J78: =+J79 -> -49900 | K78: =+K79 -> -49900
G79: - Նախագծահետազոտական ծախսեր | I79: -34900 | J79: -49900 | K79: -49900
B80: 11 | G80: ՀԻՄՆԱԿԱՆ ԲԱԺԻՆՆԵՐԻՆ ՉԴԱՍՎՈՂ ՊԱՀՈՒՍՏԱՅԻՆ ՖՈՆԴԵՐ | H80: =+H82 -> 0 | I80: =+I82 -> 0 | J80: =+J82 -> 0 | K80: =+K82 -> 0
G81: այդ թվում՝
C82: 01 | G82: ՀՀ կառավարության և համայնքների պահուստային ֆոնդ | H82: =+H84 -> 0 | I82: =+I84 -> 0 | J82: =+J84 -> 0 | K82: =+K84 -> 0
G83: այդ թվում՝
D84: 01 | G84: ՀՀ կառավարության պահուստային ֆոնդ | H84: =+H86 -> 0 | I84: =+I86 -> 0 | J84: =+J86 -> 0 | K84: =+K86 -> 0
G85: այդ թվում՝
G86: ՀՀ կառավարություն | H86: =+H88 -> 0 | I86: =+I88 -> 0 | J86: =+J88 -> 0 | K86: =+K88 -> 0
G87: այդ թվում՝
E88: 1139 | G88: ՀՀ կառավարության պահուստային ֆոնդ | H88: =+H90+H98 -> 0 | I88: =+I90+I98 -> 0 | J88: =+J90+J98 -> 0 | K88: =+K90+K98 -> 0
G89: այդ թվում`
F90: 11001 | G90: ՀՀ կառավարության պահուստային ֆոնդ | H90: =+H92 -> 0 | I90: =+I92 -> 184912 | J90: =+J92 -> 194912 | K90: =+K92 -> 276970
G91: այդ թվում ըստ կատարողների
G92: ՀՀ կառավարություն | H92: =+H94 -> 0 | I92: =+I94 -> 184912 | J92: =+J94 -> 194912 | K92: =+K94 -> 276970
G93: այդ թվում` բյուջետային ծախսերի տնտեսագիտական դասակարգման հոդվածներ
G94: ԸՆԴԱՄԵՆԸ ԾԱԽՍԵՐ | H94: =+H95 -> 0 | I94: =+I95 -> 184912 | J94: =+J95 -> 194912 | K94: =+K95 -> 276970
G95: ԸՆԹԱՑԻԿ ԾԱԽՍԵՐ | H95: =+H96 -> 0 | I95: =+I96 -> 184912 | J95: =+J96 -> 194912 | K95: =+K96 -> 276970
G96: ԱՅԼ ԾԱԽՍԵՐ | H96: =+H97 -> 0 | I96: =+I97 -> 184912 | J96: =+J97 -> 194912 | K96: =+K97 -> 276970
G97: Պահուստային միջոցներ | H97: =+H28 -> 0 | I97: =+I28 -> 184912 | J97: =+J28 -> 194912 | K97: =+K28 -> 276970
F98: 11001 | G98: ՀՀ կառավարության պահուստային ֆոնդ | H98: =+H100 -> 0 | I98: =+I100 -> -184912 | J98: =+J100 -> -194912 | K98: =+K100 -> -276970
G99: այդ թվում ըստ կատարողների
G100: ՀՀ կառավարություն | H100: =+H102 -> 0 | I100: =+I102 -> -184912 | J100: =+J102 -> -194912 | K100: =+K102 -> -276970
...

Sheet 4
B1: Հավելված № 4
B2: ՀՀ կառավարության 2025 թվականի
B3: __________ «____» -ի
B4: N_____ -Ն որոշման
B6: ՀԱՅԱՍՏԱՆԻ ՀԱՆՐԱՊԵՏՈՒԹՅԱՆ ԿԱՌԱՎԱՐՈՒԹՅԱՆ 2024 ԹՎԱԿԱՆԻ ԴԵԿՏԵՄԲԵՐԻ 27-Ի № 2060-Ն ՈՐՈՇՄԱՆ № 5 ՀԱՎԵԼՎԱԾԻ № 2 ԱՂՅՈՒՍԱԿՈՒՄ ԿԱՏԱՐՎՈՂ ՓՈՓՈԽՈՒԹՅՈՒՆՆԵՐԸ
B7: (հազար դրամներով)
B8: Ծրագրային դասիչ | D8: Բյուջետային գլխավոր կարգադրիչների, ծրագրերի, միջոցառումների և ուղղությունների անվանումները | E8: Ցուցանիշների փոփոխությունները (ավելացումները նշված են դրական նշանով, իսկ նվազեցումները` փակագծերում)
B9: Ծրագիր | C9: Միջոցառում | E9: Առաջին եռամսյակ | F9: Առաջին կիսամյակ | G9: Ինն ամիս | H9: Տարի
B10: 1126 | D10: ՀՀ ԱՌՈՂՋԱՊԱՀՈՒԹՅԱՆ ՆԱԽԱՐԱՐՈՒԹՅՈՒՆ | E10: =+E12+E44 -> 0 | F10: =+F12+F44 -> -184912 | G10: =+G12+G44 -> -194911.96 | H10: =+H12+H44 -> -276969.96
D11: այդ թվում`
C12: 31002 | D12: Առողջապահական կազմակերպությունների վերազինում | E12: =+E14+E41 -> 0 | F12: =+F14+F41 -> 154966.4 | G12: =+G14+G41 -> 630990.44 | H12: =+H14+H41 -> 556932.44
D13: այդ թվում` ըստ կատարողների
D14: ՀՀ առողջապահության նախարարություն | E14: =+E16+E20+E24+E26+E28+E31+E33+E35+E37+E39 -> 0 | F14: =+F16+F20+F24+F26+F28+F31+F33+F35+F37+F39 -> 214966.4 | G14: =+G16+G20+G24+G26+G28+G31+G33+G35+G37+G39 -> 690990.44 | H14: =+H16+H20+H24+H26+H28+H31+H33+H35+H37+H39 -> 616932.44
D15: այդ թվում՝ ըստ ուղղությունների
D16: Երևան քաղաք | E16: =+E17+E18+E19 -> 0 | F16: =+F17+F18+F19 -> 0 | G16: =+G17+G18+G19 -> 121112.5 | H16: =+H17+H18+H19 -> 64112.5
D17: Առողջապահության նախարարություն | G17: 8084 | H17: 8084
D18: ՀՀ ԱՆ ««Յոլյան» արյունաբանության և ուռուցքաբանության կենտրոն» ՓԲԸ | G18: 113028.5 | H18: 113028.5
D19: ՀՀ ԱՆ «Հոգեկան առողջության պահպանման ազգային կենտրոն» ՓԲԸ | H19: =-57000 -> -57000
D20: ՀՀ Արարատի մարզ | E20: =+E21+E22+E23 -> 0 | F20: =+F21+F22+F23 -> 105000 | G20: =+G21+G22+G23 -> 246211.04 | H20: =+H21+H22+H23 -> 246211.04
D21: ՀՀ ԱՆ «Հիվանդությունների վերահսկման և կանխարգելման ազգային կենտրոն» ՊՈԱԿ Արարատի մարզի մասնաճյուղ | G21: 16571.04 | H21: 16571.04
D22: ՀՀ Արարատի մարզի «Արարատի հիվանդանոց» բժշկական կենտրոն | F22: 105000 | G22: 114820 | H22: 114820
D23: ՀՀ Արարատի մարզի «Արտաշատի բժշկական կենտրոն» ՓԲԸ պոլիկլինիկա | F23: 0 | G23: 114820 | H23: 114820
D24: ՀՀ Արագածոտնի մարզ | E24: =+E25 -> 0 | F24: =+F25 -> 0 | G24: =+G25 -> 114060.5 | H24: =+H25 -> 117182.5
D25: ՀՀ Արագածոտնի մարզի «Թալինի բժշկական կենտրոն» ՓԲԸ | G25: =12362.5+104820-3122 -> 114060.5 | H25: =12362.5+104820 -> 117182.5
D26: ՀՀ Արմավիրի մարզ | E26: =+E27 -> 0 | F26: =+F27 -> 0 | G26: =+G27 -> -25000 | H26: =+H27 -> -50000
D27: ՀՀ ԱՆ «Հիվանդությունների վերահսկման և կանխարգելման ազգային կենտրոն» ՊՈԱԿ Արմավիրի մարզի մասնաճյուղ | F27: 0 | G27: -25000 | H27: -50000
D28: ՀՀ Գեղարքունիքի մարզ | E28: =+E29+E30 -> 0 | F28: =+F29+F30 -> 107894.4 | G28: =+G29+G30 -> 117714.4 | H28: =+H29+H30 -> 117714.4
D29: ՀՀ Գեղարքունիքի մարզի «Գավառի բժշկական կենտրոն» ՓԲԸ | E29: 0 | F29: 105000 | G29: 114820 | H29: 114820
D30: ՀՀ Գեղարքունիքի մարզի «Լճափ ԱԱՊԿ» ՊՈԱԿ | F30: 2894.4 | G30: 2894.4 | H30: 2894.4
D31: ՀՀ Լոռու մարզ | E31: =+E32 -> 0 | F31: =+F32 -> 0 | G31: =+G32 -> 0 | H31: =+H32 -> -50000
D32: ՀՀ Լոռու մարզի «Տաշիրի բժշկական կենտրոն» ՓԲԸ | H32: -50000
D33: ՀՀ Կոտայքի մարզ | E33: =+E34 -> 0 | F33: =+F34 -> 0 | G33: =+G34 -> 0 | H33: =+H34 -> -50000
D34: ՀՀ Կոտայքի մարզի Եղվարդի «Նաիրիի բժշկական կենտրոն» ՓԲԸ | H34: -50000
D35: ՀՀ Սյունիքի մարզ | E35: =+E36 -> 0 | F35: =+F36 -> 0 | G35: =+G36 -> 114820 | H35: =+H36 -> 114820
D36: «Կապանի ԲԿ» ՓԲԸ | E36: 0 | F36: 0 | G36: 114820 | H36: 114820
D37: ՀՀ Վայոց Ձորի մարզ | E37: =+E38 -> 0 | F37: =+F38 -> 0 | G37: =+G38 -> 0 | H37: =+H38 -> 104820
D38: «Վայոց ձորի ԲԿ» ՓԲԸ | G38: 0 | H38: 104820
D39: ՀՀ Տավուշի մարզ | E39: =+E40 -> 0 | F39: =+F40 -> 2072 | G39: =+G40 -> 2072 | H39: =+H40 -> 2072
D40: «Ն. Նասիբյանի անվան Նոյեմբերյանի ԲԿ» ՓԲԸ | F40: 2072 | G40: 2072 | H40: 2072
D41: ՀՀ կառավարություն | E41: =+E43 -> 0 | F41: =+F43 -> -60000 | G41: =+G43 -> -60000 | H41: =+H43 -> -60000
D42: այդ թվում` ըստ ուղղությունների
D43: Այլ առողջապահական կազմակերպությունների վերազինում | E43: 0 | F43: -60000 | G43: -60000 | H43: -60000
C44: 31003 | D44: Առողջապահական կազմակերպությունների կառուցում, վերակառուցում | E44: =+E46+E65+E84 -> 0 | F44: =+F46+F65+F84 -> -339878.4 | G44: =+G46+G65+G84 -> -825902.4 | H44: =+H46+H65+H84 -> -833902.4
D45: այդ թվում ըստ կատարողների
D46: ՀՀ Առողջապահության նախարարություն | E46: =+E48+E52+E54+E56+E58+E60+E62 -> 0 | F46: =+F48+F52+F54+F56+F58+F60+F62 -> -24878.4 | G46: =+G48+G52+G54+G56+G58+G60+G62 -> -230902.4 | H46: =+H48+H52+H54+H56+H58+H60+H62 -> -228813.1
D47: այդ թվում ըստ ուղղությունների`
D48: Երևան քաղաք | E48: =+E49+E50+E51 -> 0 | F48: =+F49+F50+F51 -> -68641.4 | G48: =+G49+G50+G51 -> -276665.4 | H48: =+H49+H50+H51 -> -326470.1
D49: ՀՀ ԱՆ «Հոգեկան առողջության պահպանման ազգային կենտրոն» ՓԲԸ | F49: -109681.4 | G49: -217705.4 | H49: -226010.1
D50: ՀՀ ԱՆ «Ինֆեկցիոն հիվանդությունների ազգային կենտրոն» ՓԲԸ | F50: 0 | G50: -100000 | H50: -141500
D51: Տիպային պոլիկլինիկաների նախագիծ | F51: 41040 | G51: 41040 | H51: 41040
D52: ՀՀ Արարատի մարզ | E52: =+E53 -> 0 | F52: =+F53 -> 13013 | G52: =+G53 -> 13013 | H52: =+H53 -> 13013
D53: «Վեդու բժշկական կենտրոն» ՓԲԸ | F53: 13013 | G53: 13013 | H53: 13013
D54: ՀՀ Գեղարքունիքի մարզ | E54: =+E55 -> 0 | F54: =+F55 -> 10000 | G54: =+G55 -> 10000 | H54: =+H55 -> 38500
D55: «Վարդենիսի բժշկական կենտրոն» ՓԲԸ | F55: 10000 | G55: 10000 | H55: 38500
D56: ՀՀ Լոռու մարզ | E56: =+E57 -> 0 | F56: =+F57 -> 5000 | G56: =+G57 -> 5000 | H56: =+H57 -> 5000
D57: «Սպիտակի բժշկական կենտրոն» ՓԲԸ | F57: 5000 | G57: 5000 | H57: 5000
D58: ՀՀ Կոտայքի մարզ | E58: =+E59 -> 0 | F58: =+F59 -> 5800 | G58: =+G59 -> 5800 | H58: =+H59 -> 5800
D59: «Նոր Հաճնի պոլիկլինիկա» ՊՓԲԸ | F59: 5800 | G59: 5800 | H59: 5800
D60: ՀՀ Շիրակի մարզ | E60: =+E61 -> 0 | F60: =+F61 -> 2450 | G60: =+G61 -> 4450 | H60: =+H61 -> 7844
D61: «Գյումրու ԲԿ» ՓԲԸ | F61: =450+2000 -> 2450 | G61: =450+4000 -> 4450 | H61: 7844
D62: ՀՀ Վայոց ձորի մարզ | E62: =+E63 -> 0 | F62: =+F63 -> 7500 | G62: =+G63 -> 7500 | H62: =+H63 -> 27500
D63: «Ջերմուկի առողջության կենտրոն» ՓԲԸ | F63: 7500 | G63: 7500 | H63: 27500
D64: այդ թվում՝ ըստ կատարողների
D65: ՀՀ քաղաքաշինության կոմիտե | E65: =+E67+E69+E76+E73+E78+E80+E82 -> 0 | F65: =+F67+F69+F76+F73+F78+F80+F82 -> -115000 | G65: =+G67+G69+G76+G73+G78+G80+G82 -> -195000 | H65: =+H67+H69+H76+H73+H78+H80+H82 -> -205089.3
D66: այդ թվում`ըստ ուղղությունների
D67: Երևան քաղաք | E67: =+E68 -> 0 | F67: =+F68 -> 38000 | G67: =+G68 -> 38000 | H67: =+H68 -> 56000
D68: «Հոգեկան առողջության պահպանման ազգային կենտրոն» ՓԲԸ | F68: 38000 | G68: 38000 | H68: 56000
D69: ՀՀ Արագածոտնի մարզ | E69: =+E70+E71+E72 -> 33897.3 | F69: =+F70+F71+F72 -> 34810.7 | G69: =+G70+G71+G72 -> 85617.3 | H69: =+H70+H71+H72 -> 96711.8
D70: ՀՀ Արագածոտնի մարզի «Ծաղկահովիտի առողջության կենտրոն» ՓԲԸ | E70: 299.7 | F70: 299.7 | G70: 299.7 | H70: 299.7
D71: ՀՀ Արագածոտնի մարզի «Թալինի ԲԿ» ՓԲԸ | E71: 23597.6 | F71: 23597.6 | G71: 63597.6 | H71: =923+72269.1 -> 73192.1
D72: ՀՀ Արագածոտնի մարզի «Աշտարակի բժշկական կենտրոն» ՓԲԸ | E72: 10000 | F72: 10913.4 | G72: 21720 | H72: 23220
D73: ՀՀ Արարատի մարզ | E73: =+E74+E75 -> 272 | F73: =+F74+F75 -> 1772 | G73: =+G74+G75 -> 1772 | H73: =+H74+H75 -> 1772
D74: ՀՀ Արարատի մարզի «Արտաշատի բժշկական կենտրոն» ՓԲԸ պոլիկլինիկա | E74: 272 | F74: 272 | G74: 272 | H74: 272
D75: ՀՀ Արարատի մարզի «Մասիսի բժշկական կենտրոն» ՓԲԸ | F75: 1500 | G75: 1500 | H75: 1500
D76: ՀՀ Արմավիրի մարզ | E76: =+E77 -> -34263.3 | F76: =+F77 -> -74676.7 | G76: =+G77 -> -125483.3 | H76: =+H77 -> -159667.1
D77: ՀՀ Արմավիրի մարզի «Վաղարշապատի բժշկական կենտրոն» ՓԲԸ | E77: =-40413.4+6150.1 -> -34263.3 | F77: =-80826.8+6150.1 -> -74676.7 | G77: =-141447+15963.7 -> -125483.3 | H77: =+-202067.1+40700+1700 -> -159667.1
D78: ՀՀ Գեղարքունիքի մարզ | E78: =+E79 -> 0 | F78: =+F79 -> -70000 | G78: =+G79 -> -100000 | H78: =+H79 -> -100000
D79: ՀՀ Գեղարքունիքի մարզի «Վարդենիսի բժշկական կենտրոն» ՓԲԸ | E79: 0 | F79: -70000 | G79: -100000 | H79: -100000
D80: ՀՀ Կոտայքի մարզ | E80: =+E81 -> 94 | F80: =+F81 -> 94 | G80: =+G81 -> 94 | H80: =+H81 -> 94
D81: ՀՀ Կոտայքի մարզի «Չարենցավանի բժշկական կենտրոն» ՓԲԸ | E81: 94 | F81: 94 | G81: 94 | H81: 94
D82: ՀՀ Վայոց Ձորի մարզ | E82: =+E83 -> 0 | F82: =+F83 -> -45000 | G82: =+G83 -> -95000 | H82: =+H83 -> -100000
D83: ՀՀ Վայոց ձորի «Ջերմուկի առողջության կենտրոն» ՓԲԸ | F83: -45000 | G83: -95000 | H83: -100000
D84: ՀՀ կառավարություն | E84: =+E86 -> 0 | F84: =+F86 -> -200000 | G84: =+G86 -> -400000 | H84: =+H86 -> -400000
D85: այդ թվում` ըստ ուղղությունների
D86: Այլ առողջապահական կազմակերպությունների կառուցում, վերակառուցում | E86: 0 | F86: -200000 | G86: -400000 | H86: -400000

Sheet 5
B1: Հավելված № 5
B2: ՀՀ կառավարության 2025 թվականի
B3: __________ «____» -ի
B4: N_____ -Ն որոշման
B6: ՀԱՅԱՍՏԱՆԻ ՀԱՆՐԱՊԵՏՈՒԹՅԱՆ ԿԱՌԱՎԱՐՈՒԹՅԱՆ 2024 ԹՎԱԿԱՆԻ ԴԵԿՏԵՄԲԵՐԻ 27-Ի № 2060-Ն ՈՐՈՇՄԱՆ № 5 ՀԱՎԵԼՎԱԾԻ № 7 ԱՂՅՈՒՍԱԿՈՒՄ ԿԱՏԱՐՎՈՂ ԼՐԱՑՈՒՄՆԵՐԸ
B7: (հազար դրամներով)
B8: Ծրագրային դասիչ | D8: Բյուջետային հատկացումների գլխավոր կարգադրիչների, ծրագրերի, միջոցառումների, ծախսային ուղղությունների անվանումները | G8: Միջոցառումները կատարող պետական մարմինների և դրամաշնորհ ստացող տնտեսվարող սուբյեկտների անվանումները | H8: Տարի
B9: Ծրագիր | C9: Միջոցառում
B10: 1 | C10: 2 | D10: 3 | G10: 4 | H10: 5
B11: ՀՀ առողջապահության նախարարություն | H11: =+H12 -> 276970
B12: 1126 | C12: Առողջապահության ոլորտում պետական քաղաքականության մշակում, ծրագրերի համակարգում և մոնիտորինգ | H12: =+H13 -> 276970
C13: 12006 | D13: Առողջապահական համակարգի պետական առևտրային և ոչ առևտրային կազմակերպություններին ֆինանսական աջակցության հատկացում | G13: ՀՀ առողջապահության նախարարություն | H13: =SUM(H14:H19) -> 276970
G14: ՀՀ ԱՆ «Ինֆեկցիոն հիվանդությունների ազգային կենտրոն» ՓԲԸ | H14: 37950
G15: ՀՀ ԱՆ «Այրվածքաբանության և մաշկաբանության ազգային կենտրոն» ՓԲԸ | H15: 82058
G16: ՀՀ ԱՆ «Քրեակատարողական բժշկության կենտրոն» ՊՈԱԿ | H16: 131700
G17: ՀՀ ԱՆ «Ռադիոիզոտոպների արտադրության կենտրոն» ՓԲԸ | H17: 12500
G18: «Վանաձորի բժշկական կենտրոն» ՓԲԸ | H18: 3715
G19: ՀՀ Արմավիրի մարզի «Զարիշատ(Արամ) Մարտինի Մկրտչյանի անվան Արմավիրի բժշկական կենտրոն» ՓԲԸ պոլիկլինիկա | H19: 9047

Sheet 6
B1: Հավելված № 6
B2: ՀՀ կառավարության 2025 թվականի
B3: __________ «____» -ի
B4: N_____ -Ն որոշման
B5: ՀԱՅԱՍՏԱՆԻ ՀԱՆՐԱՊԵՏՈՒԹՅԱՆ ԿԱՌԱՎԱՐՈՒԹՅԱՆ 2024 ԹՎԱԿԱՆԻ ԴԵԿՏԵՄԲԵՐԻ 27-Ի № 2060-Ն ՈՐՈՇՄԱՆ № 9 ՀԱՎԵԼՎԱԾՈՒՄ ԿԱՏԱՐՎՈՂ ՓՈՓՈԽՈՒԹՅՈՒՆՆԵՐԸ ԵՎ ԼՐԱՑՈՒՄՆԵՐԸ
A6: (հազար դրամներով)
A7: ԲԳԿ | B7: Ծրագիր | D7: Միջոցառում | H7: Իրականացնողը/ ակտիվն օգտագործողը/ շահառուի ընտրության չափորոշիչը | I7: Արդյունքային չափորոշիչը | J7: Ցուցանիշների փոփոխությունները (ավելացումները նշված են դրական նշանով, իսկ նվազեցումները` փակագծերում)
B8: Դասիչը | C8: Անվանումը | D8: Դասիչը | E8: Անվանումը | F8: Նկարագրությունը | G8: Տեսակը | J8: Առաջին եռամսյակ | K8: Առաջին կիսամյակ | L8: Ինն ամիս | M8: Տարի
A9: ՀՀ առողջապահության նախարարություն | J9: =+J29+J10 -> -2.5011104e-12 | K9: =+K29+K10 -> 0 | L9: =+L29+L10 -> 0.04 | M9: =+M29+M10 -> 0.04
B10: 1126 | C10: Առողջապահության ոլորտում պետական քաղաքականության մշակում, ծրագրերի համակարգում և մոնիտորինգ | J10: =+J11+J16+J21 -> -2.5011104e-12 | K10: =+K11+K16+K21 -> 0 | L10: =+L11+L16+L21 -> 0.04 | M10: =+M11+M16+M21 -> 0.04
D11: 1126-12006 | E11: Առողջապահական համակարգի պետական առևտրային և ոչ առևտրային կազմակերպություններին ֆինանսական աջակցության հատկացում | J11: =+'3'!H20 -> 0 | K11: =+'3'!I20 -> 184912 | L11: =+'3'!J20 -> 194912 | M11: =+'3'!K20 -> 276970
F12: Առողջապահական համակարգի պետական առևտրային և ոչ առևտրային կազմակերպություններին ֆինանսական աջակցության տրամադրում ընթացիկ գործունեության արդյունավետության բարձրացմանն ուղղված
G13: Տրանսֆերտի տրամադրում
H14: Առողջապահական կազմակերպություններ
I15: Ֆինանսական աջակցություն ստացող բժշկական հաստատությունների թիվ, հատ | M15: 6
D16: 1126 - 31002 | E16: Առողջապահական կազմակերպությունների վերազինում | J16: =+'3'!H29 -> 0 | K16: =+'3'!I29 -> 154966.4 | L16: =+'3'!J29 -> 630990.44 | M16: =+'3'!K29 -> 556932.44
F17: Բնակչությանը որակյալ բժշկական օգնության և սպասարկման ծառայություններ մատուցելու նպատակով՛ առողջապահական կազմակերպությունների անհրաժեշտ սարքավորումներով վերազինում
G18: Պետական մարմինների կողմից օգտագործվող ոչ ֆինանսական ակտիվների հետ գործառնություններ
H19: Ակտիվն օգտագործող կազմակերպության անվանումը` Բժշկական կազմակերպություններ
I20: Վերազինվող բուժհաստատությունների քանակ | K20: 0 | M20: 10
D21: 1126 - 31003 | E21: Առողջապահական կազմակերպությունների կառուցում, վերակառուցում | J21: =+'3'!H45 -> -2.5011104e-12 | K21: =+'3'!I45 -> -339878.4 | L21: =+'3'!J45 -> -825902.4 | M21: =+'3'!K45 -> -833902.4
F22: Բնակչությանը որակյալ բժշկական օգնության և սպասարկման ծառայություններ մատուցելու նպատակով առողջապահական կազմակերպությունների կառուցում, վերակառուցում
G23: Պետական մարմինների կողմից օգտագործվող ոչ ֆինանսական ակտիվների հետ գործառնություններ
H24: Ակտիվն օգտագործող կազմակերպության անվանումը` Բժշկական կազմակերպություններ
I25: Ընդամենը կառուցվող կազմակերպություններ, թիվ | M25: =+M26+M27 -> 0
I26: Ընթացիկ կապիտալ շինարարույթունների թիվ, հատ | M26: -1
I27: Նոր կառուցվող կազմակերպությունների թիվ, հատ | M27: 1
I28: Նախագծահետազոտական ծախսեր | M28: 8
A29: ՀՀ կառավարություն | J29: =+J30 -> 0 | K29: =+K30 -> 0 | L29: =+L30 -> 0 | M29: =+M30 -> 0
B30: 1139 | C30: ՀՀ կառավարության պահուստային ֆոնդ | J30: =+J31+J35 -> 0 | K30: =+K31+K35 -> 0 | L30: =+L31+L35 -> 0 | M30: =+M31+M35 -> 0
D31: 1139 - 11001 | E31: ՀՀ կառավարության պահուստային ֆոնդ | J31: =+'3'!H90 -> 0 | K31: =+'3'!I90 -> 184912 | L31: =+'3'!J90 -> 194912 | M31: =+'3'!K90 -> 276970
F32: ՀՀ պետական բյուջեում նախատեսված ելքերի լրացուցիչ ֆինանսավորման, պետական բյուջեում չկանխատեսված ելքերի, ինչպես նաև բյուջետային երաշխիքների ապահովման ելքերի ֆինանսավորման ապահովում
G33: Ծառայությունների մատուցում
H34: Ծառայությունը մատուցողի անվանումը` ՀՀ կառավարություն
D35: 1139 - 11001 | E35: ՀՀ կառավարության պահուստային ֆոնդ | J35: =+'3'!H105 -> 0 | K35: =+'3'!I105 -> -184912 | L35: =+'3'!J105 -> -194912 | M35: =+'3'!K105 -> -276970
F36: ՀՀ պետական բյուջեում նախատեսված ելքերի լրացուցիչ ֆինանսավորման, պետական բյուջեում չկանխատեսված ելքերի, ինչպես նաև բյուջետային երաշխիքների ապահովման ելքերի ֆինանսավորման ապահովում
G37: Ծառայությունների մատուցում
H38: Ծառայությունը մատուցողի անվանումը` ՀՀ կառավարություն

Sheet 7
B1: Հավելված № 7
B2: ՀՀ կառավարության 2024 թվականի
B3: __________ «____» -ի
B4: N_____ -Ն որոշման
B5: ՀԱՅԱՍՏԱՆԻ ՀԱՆՐԱՊԵՏՈՒԹՅԱՆ ԿԱՌԱՎԱՐՈՒԹՅԱՆ 2024 ԹՎԱԿԱՆԻ ԴԵԿՏԵՄԲԵՐԻ 27-Ի № 2060-Ն ՈՐՈՇՄԱՆ № 9.1 ՀԱՎԵԼՎԱԾՈՒՄ ԿԱՏԱՐՎՈՂ ՓՈՓՈԽՈՒԹՅՈՒՆՆԵՐԸ ԵՎ ԼՐԱՑՈՒՄՆԵՐԸ
A6: (հազար դրամներով)
A7: ԲՍԿ | B7: Ծրագիր | D7: Միջոցառում | H7: Իրականացնողը/ ակտիվն օգտագործողը/ շահառուի ընտրության չափորոշիչը | I7: Արդյունքային չափորոշիչը | J7: Ցուցանիշների փոփոխությունները (ավելացումները նշված են դրական նշանով, իսկ նվազեցումները` փակագծերում)
B8: Դասիչը | C8: Անվանումը | D8: Դասիչը | E8: Անվանումը | F8: Նկարագրությունը | G8: Տեսակը | J8: Առաջին եռամսյակ | K8: Առաջին կիսամյակ | L8: Ինն ամիս | M8: Տարի
J9: =+J10+J27+J37+J47 -> -2.5011104e-12 | K9: =+K10+K27+K37+K47 -> -1.4551915e-11 | L9: =+L10+L27+L37+L47 -> 0.04 | M9: =+M10+M27+M37+M47 -> 0.04
A10: ՀՀ առողջապահության նախարարություն | J10: =+J11 -> 0 | K10: =+K11 -> 375000 | L10: =+L11 -> 655000.04 | M10: =+M11 -> 665089.34
B11: 1126 | C11: Առողջապահության ոլորտում պետական քաղաքականության մշակում, ծրագրերի համակարգում և մոնիտորինգ | J11: =+J12+J17+J22 -> 0 | K11: =+K12+K17+K22 -> 375000 | L11: =+L12+L17+L22 -> 655000.04 | M11: =+M12+M17+M22 -> 665089.34
D12: 1126 - 12006 | E12: Առողջապահական համակարգի պետական առևտրային և ոչ առևտրային կազմակերպություններին ֆինանսական աջակցության հատկացում | J12: =+'3'!H20 -> 0 | K12: =+'3'!I20 -> 184912 | L12: =+'3'!J20 -> 194912 | M12: =+'3'!K20 -> 276970
F13: Առողջապահական համակարգի պետական առևտրային և ոչ առևտրային կազմակերպություններին ֆինանսական աջակցության տրամադրում ընթացիկ գործունեության արդյունավետության բարձրացմանն ուղղված
G14: Տրանսֆերտի տրամադրում
H15: Առողջապահական կազմակերպություններ
H16: Ֆինանսական աջակցություն ստացող բժշկական հաստատությունների թիվ, հատ | M16: 6
D17: 1126 - 31002 | E17: Առողջապահական կազմակերպությունների վերազինում | J17: =+'3'!H31 -> 0 | K17: =+'3'!I31 -> 214966.4 | L17: =+'3'!J31 -> 690990.44 | M17: =+'3'!K31 -> 616932.44
F18: Բնակչությանը որակյալ բժշկական օգնության և սպասարկման ծառայություններ մատուցելու նպատակով՛ առողջապահական կազմակերպությունների անհրաժեշտ սարքավորումներով վերազինում
G19: Պետական մարմինների կողմից օգտագործվող ոչ ֆինանսական ակտիվների հետ գործառնություններ
H20: Ակտիվն օգտագործող կազմակերպության անվանումը` Բժշկական կազմակերպություններ
I21: Վերազինվող բուժհաստատությունների քանակ | M21: 10
D22: 1126 - 31003 | E22: Առողջապահական կազմակերպությունների կառուցում, վերակառուցում | J22: =+'3'!H47 -> 0 | K22: =+'3'!I47 -> -24878.4 | L22: =+'3'!J47 -> -230902.4 | M22: =+'3'!K47 -> -228813.1
F23: Բնակչությանը որակյալ բժշկական օգնության և սպասարկման ծառայություններ մատուցելու նպատակով առողջապահական կազմակերպությունների կառուցում, վերակառուցում
G24: Պետական մարմինների կողմից օգտագործվող ոչ ֆինանսական ակտիվների հետ գործառնություններ
H25: Ակտիվն օգտագործող կազմակերպության անվանումը` Բժշկական կազմակերպություններ
I26: Նախագծահետազոտական ծախսեր | M26: 5
A27: ՀՀ կառավարություն | J27: =+J29+J33 -> 0 | K27: =+K29+K33 -> -260000 | L27: =+L29+L33 -> -460000 | M27: =+M29+M33 -> -460000
B28: 1126 | C28: Առողջապահության ոլորտում պետական քաղաքականության մշակում, ծրագրերի համակարգում և մոնիտորինգ | J28: =+J29 -> 0 | K28: =+K29 -> -60000 | L28: =+L29 -> -60000 | M28: =+M29 -> -60000
D29: 1126 - 31002 | E29: Առողջապահական կազմակերպությունների վերազինում | J29: =+'3'!H38 -> 0 | K29: =+'3'!I38 -> -60000 | L29: =+'3'!J38 -> -60000 | M29: =+'3'!K38 -> -60000
F30: Բնակչությանը որակյալ բժշկական օգնության և սպասարկման ծառայություններ մատուցելու նպատակով՛ առողջապահական կազմակերպությունների անհրաժեշտ սարքավորումներով վերազինում
G31: Պետական մարմինների կողմից օգտագործվող ոչ ֆինանսական ակտիվների հետ գործառնություններ
H32: Ակտիվն օգտագործող կազմակերպության անվանումը` Բժշկական կազմակերպություններ
D33: 1126 - 31003 | E33: Առողջապահական կազմակերպությունների կառուցում, վերակառուցում | J33: =+'3'!H70 -> 0 | K33: =+'3'!I70 -> -200000 | L33: =+'3'!J70 -> -400000 | M33: =+'3'!K70 -> -400000
F34: Բնակչությանը որակյալ բժշկական օգնության և սպասարկման ծառայություններ մատուցելու նպատակով առողջապահական կազմակերպությունների կառուցում, վերակառուցում
G35: Պետական մարմինների կողմից օգտագործվող ոչ ֆինանսական ակտիվների հետ գործառնություններ
H36: Ակտիվն օգտագործող կազմակերպության անվանումը` Բժշկական կազմակերպություններ
A37: ՀՀ քաղաքաշինության կոմիտե | J37: =+J38 -> -2.5011104e-12 | K37: =+K38 -> -115000 | L37: =+L38 -> -195000 | M37: =+M38 -> -205089.3
B38: 1126 | C38: Առողջապահության ոլորտում պետական քաղաքականության մշակում, ծրագրերի համակարգում և մոնիտորինգ | J38: =+J39 -> -2.5011104e-12 | K38: =+K39 -> -115000 | L38: =+L39 -> -195000 | M38: =+M39 -> -205089.3
D39: 1126 - 31003 | E39: Առողջապահական կազմակերպությունների կառուցում, վերակառուցում | J39: =+'3'!H56 -> -2.5011104e-12 | K39: =+'3'!I56 -> -115000 | L39: =+'3'!J56 -> -195000 | M39: =+'3'!K56 -> -205089.3
F40: Բնակչությանը որակյալ բժշկական օգնության և սպասարկման ծառայություններ մատուցելու նպատակով առողջապահական կազմակերպությունների կառուցում, վերակառուցում
G41: Պետական մարմինների կողմից օգտագործվող ոչ ֆինանսական ակտիվների հետ գործառնություններ
H42: Ակտիվն օգտագործող կազմակերպության անվանումը` Բժշկական կազմակերպություններ
I43: Ընդամենը կառուցվող կազմակերպություններ, թիվ | M43: =+M44+M45 -> 0
I44: Ընթացիկ կապիտալ շինարարույթունների թիվ, հատ | M44: -1
I45: Նոր կառուցվող կազմակերպությունների թիվ, հատ | M45: 1
I46: Նախագծահետազոտական ծախսեր | M46: 3
A47: ՀՀ կառավարություն | J47: =+J48 -> 0 | K47: =+K48 -> 0 | L47: =+L48 -> 0 | M47: =+M48 -> 0
B48: 1139 | C48: ՀՀ կառավարության պահուստային ֆոնդ | J48: =+J49+J53 -> 0 | K48: =+K49+K53 -> 0 | L48: =+L49+L53 -> 0 | M48: =+M49+M53 -> 0
D49: 1139 - 11001 | E49: ՀՀ կառավարության պահուստային ֆոնդ | J49: =+'6'!J31 -> 0 | K49: =+'6'!K31 -> 184912 | L49: =+'6'!L31 -> 194912 | M49: =+'6'!M31 -> 276970
F50: ՀՀ պետական բյուջեում նախատեսված ելքերի լրացուցիչ ֆինանսավորման, պետական բյուջեում չկանխատեսված ելքերի, ինչպես նաև բյուջետային երաշխիքների ապահովման ելքերի ֆինանսավորման ապահովում
G51: Ծառայությունների մատուցում
H52: Ծառայությունը մատուցողի անվանումը` ՀՀ կառավարություն
D53: 1139 - 11001 | E53: ՀՀ կառավարության պահուստային ֆոնդ | J53: =+'6'!J35 -> 0 | K53: =+'6'!K35 -> -184912 | L53: =+'6'!L35 -> -194912 | M53: =+'6'!M35 -> -276970
F54: ՀՀ պետական բյուջեում նախատեսված ելքերի լրացուցիչ ֆինանսավորման, պետական բյուջեում չկանխատեսված ելքերի, ինչպես նաև բյուջետային երաշխիքների ապահովման ելքերի ֆինանսավորման ապահովում
G55: Ծառայությունների մատուցում
H56: Ծառայությունը մատուցողի անվանումը` ՀՀ կառավարություն

Sheet 8
B1: Հավելված № 8
B2: ՀՀ կառավարության 2024 թվականի
B3: __________ «____» -ի
B4: N_____ -Ն որոշման
B5: ՀԱՅԱՍՏԱՆԻ ՀԱՆՐԱՊԵՏՈՒԹՅԱՆ ԿԱՌԱՎԱՐՈՒԹՅԱՆ 2024 ԹՎԱԿԱՆԻ ԴԵԿՏԵՄԲԵՐԻ 27-Ի № 2060-Ն ՈՐՈՇՄԱՆ № 10 ՀԱՎԵԼՎԱԾՈՒՄ ԿԱՏԱՐՎՈՂ ՓՈՓՈԽՈՒԹՅՈՒՆՆԵՐԸ ԵՎ ԼՐԱՑՈՒՄՆԵՐԸ
B6: Կոդը | C6: Անվանումը | F6: Գնման ձևը | G6: Չափման միավորը | H6: Միավորի գինը | I6: Քանակը | J6: Ցուցանիշների փոփոխությունները (ավելացումները նշված են դրական նշանով, իսկ նվազեցումները` փակագծերում)
J7: Գումարը (հազար դրամով)
J8: =+J9+J82 -> 183030.04
B9: ՀՀ առողջապահության նախարարություն | J9: =J11+J57 -> 388119.34
B10: Բաժին N 07 | C10: Խումբ N 06 | D10: Դաս N 02 | E10: Առողջապահություն (այլ դասերին չպատկանող) | J10: =+J11+J57 -> 388119.34
B11: 1126 31002 | C11: Առողջապահական կազմակերպությունների վերազինում | J11: =SUM(J12:J56) -> 616932.44
B12: 33141174-1 | C12: բժշկական սարքերի հավաքածուներ | F12: ԷԱՃ | G12: հատ | J12: =+'4'!H19 -> -57000
B13: 33141174-5 | C13: բժշկական սարքերի հավաքածուներ | F13: ԷԱՃ | G13: հատ | J13: =+'4'!H27 -> -50000
B14: 33141174-6 | C14: բժշկական սարքերի հավաքածուներ | F14: ԷԱՃ | G14: հատ | J14: -50000
B15: 33141174-7 | C15: բժշկական սարքերի հավաքածուներ | F15: ԷԱՃ | G15: հատ | J15: -50000
B16: 33111460/503 | C16: տոմոգրաֆիկ սարքեր | F16: ՀԲՄ | G16: հատ | H16: 104820000 | I16: 5 | J16: =H16*I16/1000 -> 524100
B17: 33111460 | C17: տոմոգրաֆիկ սարքեր | F17: ՀՄԱ | G17: հատ | H17: 104820000 | I17: 1 | J17: =H17*I17/1000 -> 104820
B18: 31151120/507 | C18: անխափան սնուցման աղբյուրներ | F18: ԷԱՃ | G18: հատ | H18: 10000000 | I18: 3 | J18: =H18*I18/1000 -> 30000
B19: 31151120 | C19: անխափան սնուցման աղբյուրներ | F19: ՀՄԱ | G19: հատ | H19: 10000000 | I19: 1 | J19: =H19*I19/1000 -> 10000
B20: 31151120/509 | C20: անխափան սնուցման աղբյուրներ | F20: ԳՀ | G20: հատ | H20: =J20/I20*1000 -> 200000 | I20: 9 | J20: 1800
B21: 31151120/508 | C21: անխափան սնուցման աղբյուրներ | F21: ԳՀ | G21: հատ | H21: 200000 | I21: 2 | J21: =H21*I21/1000 -> 400
B22: 42931100 | C22: լաբորատորիական ցենտրիֆուգաներ և պարագաներ | F22: ԷԱՃ | G22: հատ | H22: 542400 | I22: 1 | J22: =H22*I22/1000 -> 542.4
B23: 42931100 | C23: լաբորատորիական ցենտրիֆուգներ և պարագաներ | F23: ԷԱՃ | G23: հատ | H23: 1550000 | I23: 3 | J23: =H23*I23/1000 -> 4650
B24: 42931100/510 | C24: լաբորատորիական ցենտրիֆուգներ և պարագաներ | F24: ԳՀ | G24: հատ | H24: 8212500 | I24: 4 | J24: =H24*I24/1000 -> 32850
B25: 33191100 | C25: մանրէազերծող սարք | F25: ԷԱՃ | G25: հատ | H25: 126998.4 | I25: 1 | J25: =H25*I25/1000 -> 126.9984
B26: 33121150 | C26: էլեկտրասրտագրիչ | F26: ԷԱՃ | G26: հատ | H26: 412500 | I26: 1 | J26: =H26*I26/1000 -> 412.5
B27: 33121150/504 | C27: էլեկտրասրտագրիչ | F27: ԷԱՃ | G27: հատ | H27: 256000 | I27: 2 | J27: =H27*I27/1000 -> 512
B28: 33931300 | C28: Դիահերձման սեղաններ | F28: ԳՀ | G28: հատ | H28: 4950000 | I28: 1 | J28: =H28*I28/1000 -> 4950
B29: 33931300 | C29: Դիահերձման սեղաններ | F29: ԳՀ | G29: հատ | H29: 7000000 | I29: 1 | J29: =H29*I29/1000 -> 7000
B30: 33191540 | C30: հիվանդների վիճակների հսկողության համակարգ | F30: ԳՀ | G30: հատ | H30: 240000 | I30: 5 | J30: =H30*I30/1000 -> 1200
B31: 33191480 | C31: սարքեր և գործիքներ ներարկման համար | F31: ԳՀ | G31: հատ | H31: 180000 | I31: 2 | J31: =H31*I31/1000 -> 360
B32: 42941160 | C32: ընկղման կայունաջերմոց (թերմոստատ) | F32: ԷԱՃ | G32: հատ | H32: 600000 | I32: 3 | J32: =H32*I32/1000 -> 1800
B33: 39111190 | C33: բազկաթոռներ | F33: ԷԱՃ | G33: հատ | H33: 657045 | I33: 11 | J33: =H33*I33/1000 -> 7227.495
B34: 39711110 | C34: սառնարան-սառցարաններ | F34: ԷԱՃ | G34: հատ | H34: 624000 | I34: 3 | J34: =H34*I34/1000 -> 1872
B35: 39711150 | C35: ուղղահայաց սառցարաններ | F35: ԳՀ | G35: հատ | H35: 1414286 | I35: 7 | J35: =H35*I35/1000 -> 9900.002
B36: 39711150 | C36: ուղղահայաց սառցարաններ | F36: ԳՀ | G36: հատ | H36: 650000 | I36: 1 | J36: =H36*I36/1000 -> 650
B37: 39711160 | C37: արդյունաբերական սառնարաններ | F37: ԷԱՃ | G37: հատ | H37: 750000 | I37: 2 | J37: =H37*I37/1000 -> 1500
B38: 39711120 | C38: սառցարաններ | F38: ԳՀ | G38: հատ | H38: 747500 | I38: 2 | J38: =H38*I38/1000 -> 1495
B39: 38431360 | C39: կենսաբժշկական սարքեր | F39: ԳՀ | G39: հատ | H39: 2089998 | I39: 1 | J39: =H39*I39/1000 -> 2089.998
B40: 38431700 | C40: լաբորատորիայի կաթոցիչներ և պարագաներ | F40: ԳՀ | G40: հատ | H40: 191667 | I40: 6 | J40: =H40*I40/1000 -> 1150.002
B41: 38431360/506 | C41: կենսաբժշկական սարքեր | F41: ԳՀ | G41: հատ | H41: 18999000 | I41: 1 | J41: =H41*I41/1000 -> 18999
B42: 33121240 | C42: ախտորոշման սարքեր | D42: ախտորոշման սարքեր | E42: ախտորոշման սարքեր | F42: ԷԱՃ | G42: հատ | H42: 650000 | I42: 1 | J42: =H42*I42/1000 -> 650
B43: 33121160 | C43: ակնաբուժական սարքեր | D43: ակնաբուժական սարքեր | E43: ակնաբուժական սարքեր | F43: ԷԱՃ | G43: հատ | H43: 650000 | I43: 1 | J43: =H43*I43/1000 -> 650
B44: 33151250 | C44: բժշկական շնչառական սարքեր | D44: բժշկական շնչառական սարքեր | E44: բժշկական շնչառական սարքեր | F44: ԷԱՃ | G44: հատ | H44: 80000 | I44: 2 | J44: =H44*I44/1000 -> 160
B45: 33191180 | C45: բժշկական թախտեր | D45: բժշկական թախտեր | E45: բժշկական թախտեր | F45: ԷԱՃ | G45: հատ | H45: 66000 | I45: 5 | J45: =H45*I45/1000 -> 330
B46: 33191200 | C46: բժշկական սեղաններ | D46: բժշկական սեղաններ | E46: բժշկական սեղաններ | F46: ԷԱՃ | G46: հատ | H46: 72500 | I46: 6 | J46: =H46*I46/1000 -> 435
B47: 42911100 | C47: հեղուկների զտման մեքենաներ և սարքավորումներ | F47: ԳՀ | G47: հատ | H47: 2438000 | I47: 1 | J47: =H47*I47/1000 -> 2438
B48: 42911100 | C48: հեղուկների զտման մեքենաներ և սարքավորումներ | F48: ԳՀ | G48: հատ | H48: 1068000 | I48: 1 | J48: =H48*I48/1000 -> 1068
B49: 33141174 | C49: բժշկական սարքերի հավաքածուներ | F49: ԷԱՃ | G49: հատ | H49: 1128000 | I49: 2 | J49: =H49*I49/1000 -> 2256
B50: 33141174 | C50: բժշկական սարքերի հավաքածուներ | F50: ԷԱՃ | G50: հատ | H50: 3698040 | I50: 1 | J50: =H50*I50/1000 -> 3698.04
B51: 33141174 | C51: բժշկական սարքերի հավաքածուներ | F51: ԳՀ | G51: հատ | H51: 940000 | I51: 1 | J51: =H51*I51/1000 -> 940
B52: 33191510/504 | C52: փոխներարկման սարքեր և գործիքներ | F52: ԳՀ | G52: հատ | H52: 625000 | I52: 8 | J52: =H52*I52/1000 -> 5000
B53: 33121241 | C53: ԴՆԹ անալիզատոր | F53: ԳՀ | G53: հատ | H53: 12320000 | I53: 2 | J53: =H53*I53/1000 -> 24640
B54: 33121330 | C54: իմունային անալիզի սարքեր | F54: ԳՀ | G54: հատ | H54: 2000000 | I54: 1 | J54: =H54*I54/1000 -> 2000
B55: 38431430 | C55: թափահարիչներ և դրանց պարագաները | F55: ԳՀ | G55: հատ | H55: 1176000 | I55: 1 | J55: =H55*I55/1000 -> 1176
B56: 30211200 | C56: Դյուրակիր համակարգիչներ | F56: ԷԱՃ | G56: հատ | H56: =J56/I56*1000 -> 202100 | I56: 40 | J56: 8084
B57: 1126 31003 | C57: Առողջապահական կազմակերպությունների կառուցում, վերակառուցում | J57: =+J61+J58 -> -228813.1
C58: ՄԱՍ II. ԱՇԽԱՏԱՆՔՆԵՐ | J58: =+J59+J60 -> -367510.1
B59: 45451700-3 | C59: վերակառուցման աշխատանքներ | F59: ԲՄ | G59: դրամ | J59: =+'4'!H49 -> -226010.1
B60: 45451700-4 | C60: վերակառուցման աշխատանքներ | F60: ԲՄ | G60: դրամ | J60: =+'4'!H50 -> -141500
C61: ՄԱՍ III. ԾԱՌԱՅՈՒԹՅՈՒՆՆԵՐ | J61: =SUM(J62:J81) -> 138697
B62: 71241200 | C62: նախագծերի պատրաստում, ծախսերի գնահատում | F62: ԳՀ | G62: դրամ | H62: 17340000 | I62: 1 | J62: =H62*I62/1000 -> 17340
B63: 71241200 | C63: նախագծերի պատրաստում, ծախսերի գնահատում | F63: ԳՀ | G63: դրամ | H63: 19380000 | I63: 1 | J63: =H63*I63/1000 -> 19380
B64: 71241200/542 | C64: նախագծերի պատրաստում, ծախսերի գնահատում | F64: ԳՀ | G64: դրամ | H64: 11830000 | I64: 1 | J64: =H64*I64/1000 -> 11830
B65: 71241200 | C65: նախագծերի պատրաստում, ծախսերի գնահատում | F65: ԳՀ | G65: դրամ | H65: 5000000 | I65: 1 | J65: =H65*I65/1000 -> 5000
B66: 71241200 | C66: նախագծերի պատրաստում, ծախսերի գնահատում | F66: ԳՀ | G66: դրամ | H66: 25000000 | I66: 1 | J66: =H66*I66/1000 -> 25000
B67: 71241200 | C67: նախագծերի պատրաստում, ծախսերի գնահատում | F67: ԳՀ | G67: դրամ | H67: 35000000 | I67: 1 | J67: =H67*I67/1000 -> 35000
B68: 71351540/505 | C68: Տեխնիկական հսկողության ծառայություն | F68: ԳՀ | G68: դրամ | H68: 4400000 | I68: 1 | J68: =H68*I68/1000 -> 4400
B69: 98111140 | C69: Հեղինակային հսկողության ծառայություն | F69: ՄԱ | G69: դրամ | H69: 2994000 | I69: 1 | J69: =H69*I69/1000 -> 2994
B70: 71241200 | C70: նախագծերի պատրաստում, ծախսերի գնահատում | F70: ԳՀ | G70: դրամ | H70: 2160000 | I70: 1 | J70: =H70*I70/1000 -> 2160
B71: 71241200 | C71: նախագծերի պատրաստում, ծախսերի գնահատում | F71: ՀՄԱ | G71: դրամ | H71: 450000 | I71: 1 | J71: =H71*I71/1000 -> 450
B72: 50531140/524 | C72: փորձաքննության ծառայություններ | F72: ԳՀ | G72: դրամ | H72: 1080000 | I72: 1 | J72: =H72*I72/1000 -> 1080
B73: 50531140 | C73: փորձաքննության ծառայություններ | F73: ԳՀ | G73: դրամ | H73: 1183000 | I73: 1 | J73: =H73*I73/1000 -> 1183
B74: 50531140 | C74: փորձաքննության ծառայություններ | F74: ԳՀ | G74: դրամ | H74: 2500000 | I74: 1 | J74: =H74*I74/1000 -> 2500
B75: 50531140 | C75: փորձաքննության ծառայություններ | F75: ՄԱ | G75: դրամ | H75: 3500000 | I75: 1 | J75: =H75*I75/1000 -> 3500
B76: 50531140 | C76: փորձաքննության ծառայություններ | F76: ՄԱ | G76: դրամ | H76: 640000 | I76: 1 | J76: =H76*I76/1000 -> 640
B77: 50531140 | C77: փորձաքննության ծառայություններ | F77: ՄԱ | G77: դրամ | H77: 640000 | I77: 1 | J77: =H77*I77/1000 -> 640
B78: 50531140 | C78: փորձաքննության ծառայություններ | F78: ՄԱ | G78: դրամ | H78: 640000 | I78: 1 | J78: =H78*I78/1000 -> 640
B79: 50531140 | C79: փորձաքննության ծառայություններ | F79: ՄԱ | G79: դրամ | H79: 640000 | I79: 1 | J79: =H79*I79/1000 -> 640
B80: 50531140 | C80: փորձաքննության ծառայություններ | F80: ԳՀ | G80: դրամ | H80: 2040000 | I80: 1 | J80: =H80*I80/1000 -> 2040
B81: 50531140 | C81: փորձաքննության ծառայություններ | F81: ԳՀ | G81: դրամ | H81: 2280000 | I81: 1 | J81: =H81*I81/1000 -> 2280
B82: ՀՀ քաղաքաշինության կոմիտե | J82: =+J83 -> -205089.3
B83: Բաժին 07 | C83: Խումբ 06 | D83: Դաս 02 | E83: Առողջապահություն (այլ դասերին չպատկանող) | J83: =+J84 -> -205089.3
B84: 1126 31003 | C84: Առողջապահական կազմակերպությունների կառուցում, վերակառուցում | J84: =+J85+J90 -> -205089.3
C85: ՄԱՍ II. ԱՇԽԱՏԱՆՔՆԵՐ | J85: =+J86+J87+J88+J89 -> -327510
B86: 45451700/4 | C86: վերակառուցման աշխատանքներ | F86: ԲՄ | G86: դրամ | H86: 195722000 | I86: -1 | J86: =+H86*I86/1000 -> -195722
B87: 45451700 | C87: վերակառուցման աշխատանքներ | F87: ԲՄ | G87: դրամ | H87: 68212000 | I87: 1 | J87: =+H87*I87/1000 -> 68212
B88: 45451700-1 | C88: վերակառուցման աշխատանքներ | F88: ԲՄ | G88: դրամ | J88: =+'4'!H79 -> -100000
B89: 45211250-2 | C89: առողջապահության հետ կապված շենքերի կառուցման աշխատանքներ | F89: ԲՄ | G89: դրամ | J89: =+'4'!H83 -> -100000
C90: ՄԱՍ III. ԾԱՌԱՅՈՒԹՅՈՒՆՆԵՐ | J90: =SUM(J91:J106) -> 122420.7
B91: 71241200 | C91: նախագծերի պատրաստում, ծախսերի գնահատում | F91: ՄԱ | G91: դրամ | H91: 54000000 | I91: 1 | J91: =+H91*I91/1000 -> 54000
B92: 71241200 | C92: նախագծերի պատրաստում, ծախսերի գնահատում | F92: ԲՄ | G92: դրամ | H92: 21420000 | I92: 1 | J92: =+H92*I92/1000 -> 21420
B93: 71241200-501 | C93: նախագծերի պատրաստում, ծախսերի գնահատում | F93: ԲՄ | G93: դրամ | H93: 38000000 | I93: 1 | J93: =+H93*I93/1000 -> 38000
B94: 71241200 | C94: նախագծերի պատրաստում, ծախսերի գնահատում | F94: ԳՀ | G94: դրամ | H94: 1500000 | I94: 1 | J94: =+H94*I94/1000 -> 1500
B95: 50531140 | C95: փորձաքննության ծառայություններ | F95: ԳՀ | G95: դրամ | H95: 2000000 | I95: 1 | J95: =+H95*I95/1000 -> 2000
B96: 50531140 | C96: փորձաքննության ծառայություններ | F96: ՀՄԱ | G96: դրամ | H96: 1700000 | I96: 1 | J96: =+H96*I96/1000 -> 1700
B97: 50531140 | C97: փորձաքննության ծառայություններ | F97: ԳՀ | G97: դրամ | H97: 2700000 | I97: 1 | J97: =+H97*I97/1000 -> 2700
B98: 50531140 | C98: փորձաքննության ծառայություններ | F98: ԳՀ | G98: դրամ | H98: 1800000 | I98: 1 | J98: =+H98*I98/1000 -> 1800
B99: 71311360 | C99: շենքերի չափագրման ծառայություններ | F99: ՀՄԱ | G99: դրամ | H99: 923000 | I99: 1 | J99: =+H99*I99/1000 -> 923
B100: 71311360 | C100: շենքերի չափագրման ծառայություններ | F100: ՀՄԱ | G100: դրամ | H100: 94000 | I100: 1 | J100: =+H100*I100/1000 -> 94
...

Sheet 9
B1: Հավելված № 9
B2: ՀՀ կառավարության 2025 թվականի
B3: __________ «____» -ի
B4: N_____ -Ն որոշման
B5: ՀԱՅԱՍՏԱՆԻ ՀԱՆՐԱՊԵՏՈՒԹՅԱՆ 2025 ԹՎԱԿԱՆԻ ՊԵՏԱԿԱՆ ԲՅՈՒՋՈՎ ՆԱԽԱՏԵՍՎԱԾ` ՀԱՅԱՍՏԱՆԻ ՀԱՆՐԱՊԵՏՈՒԹՅԱՆ ԿԱՌԱՎԱՐՈՒԹՅԱՆ ՊԱՀՈՒՍՏԱՅԻՆ ՖՈՆԴԻՑ ՀԱՏԿԱՑՈՒՄՆԵՐ ԿԱՏԱՐԵԼՈՒ ՎԵՐԱԲԵՐՅԱԼ
B6: (հազար դրամներով)
B7: Գործառական դասիչը | E7: Ծրագրային դասիչը | G7: Բյուջետային հատկացումների գլխավոր կարգադրիչների, ծրագրերի, միջոցառումների և միջոցառումները կատարող պետական մարմինների անվանումները | H7: Ցուցանիշների փոփոխությունները (ավելացումները նշված են դրական նշանով, իսկ նվազեցումները` փակագծերում)
B8: բաժին | C8: խումբ | D8: դաս | E8: Ծրագիր | F8: Միջոցառում | H8: Առաջին եռամսյակ | I8: Առաջին կիսամյակ | J8: Ինն ամիս | K8: Տարի
B9: ԸՆԴԱՄԵՆԸ | H9: =+H10+H29 -> 0 | I9: =+I10+I29 -> 0 | J9: =+J10+J29 -> 0 | K9: =+K10+K29 -> 0
B10: 07 | G10: ԱՌՈՂՋԱՊԱՀՈՒԹՅՈՒՆ | H10: =+H12 -> 0 | I10: =+I12 -> 184912 | J10: =+J12 -> 194912 | K10: =+K12 -> 276970
G11: այդ թվում՝
C12: 06 | G12: Առողջապահություն (այլ դասերին չպատկանող) | H12: =+H14 -> 0 | I12: =+I14 -> 184912 | J12: =+J14 -> 194912 | K12: =+K14 -> 276970
G13: այդ թվում՝
D14: 02 | G14: Առողջապահություն (այլ դասերին չպատկանող) | H14: =+H18 -> 0 | I14: =+I18 -> 184912 | J14: =+J18 -> 194912 | K14: =+K18 -> 276970
G15: այդ թվում՝
G16: ՀՀ առողջապահության նախարարություն | H16: =+H18 -> 0 | I16: =+I18 -> 184912 | J16: =+J18 -> 194912 | K16: =+K18 -> 276970
G17: այդ թվում՝
E18: 1126 | G18: Առողջապահության ոլորտում պետական քաղաքականության մշակում, ծրագրերի համակարգում և մոնիտորինգ | H18: =+H20 -> 0 | I18: =+I20 -> 184912 | J18: =+J20 -> 194912 | K18: =+K20 -> 276970
G19: այդ թվում՝
F20: 12006 | G20: Առողջապահական համակարգի պետական առևտրային և ոչ առևտրային կազմակերպություններին ֆինանսական աջակցության հատկացում | H20: =+H22 -> 0 | I20: =+I22 -> 184912 | J20: =+J22 -> 194912 | K20: =+K22 -> 276970
G21: այդ թվում ըստ կատարողների
G22: ՀՀ առողջապահության նախարարություն | H22: =+H24 -> 0 | I22: =+I24 -> 184912 | J22: =+J24 -> 194912 | K22: =+K24 -> 276970
G23: այդ թվում` բյուջետային ծախսերի տնտեսագիտական դասակարգման հոդվածներ
G24: ԸՆԴԱՄԵՆԸ ԾԱԽՍԵՐ | H24: =+H25 -> 0 | I24: =+I25 -> 184912 | J24: =+J25 -> 194912 | K24: =+K25 -> 276970
G25: ԸՆԹԱՑԻԿ ԾԱԽՍԵՐ | H25: =+H26 -> 0 | I25: =+I26 -> 184912 | J25: =+J26 -> 194912 | K25: =+K26 -> 276970
G26: ԴՐԱՄԱՇՆՈՐՀՆԵՐ | H26: =+H27 -> 0 | I26: =+I27 -> 184912 | J26: =+J27 -> 194912 | K26: =+K27 -> 276970
G27: Ընթացիկ դրամաշնորհներ պետական հատվածի այլ մակարդակներին | H27: =+H28 -> 0 | I27: =+I28 -> 184912 | J27: =+J28 -> 194912 | K27: =+K28 -> 276970
G28: - Այլ ընթացիկ դրամաշնորհներ | H28: =+'3'!H20 -> 0 | I28: =+'3'!I20 -> 184912 | J28: =+'3'!J20 -> 194912 | K28: =+'3'!K20 -> 276970
B29: 11 | G29: ՀԻՄՆԱԿԱՆ ԲԱԺԻՆՆԵՐԻՆ ՉԴԱՍՎՈՂ ՊԱՀՈՒՍՏԱՅԻՆ ՖՈՆԴԵՐ | H29: =+H31 -> 0 | I29: =+I31 -> -184912 | J29: =+J31 -> -194912 | K29: =+K31 -> -276970
G30: այդ թվում՝
C31: 01 | G31: ՀՀ կառավարության և համայնքների պահուստային ֆոնդ | H31: =+H33 -> 0 | I31: =+I33 -> -184912 | J31: =+J33 -> -194912 | K31: =+K33 -> -276970
G32: այդ թվում՝
D33: 01 | G33: ՀՀ կառավարության պահուստային ֆոնդ | H33: =+H35 -> 0 | I33: =+I35 -> -184912 | J33: =+J35 -> -194912 | K33: =+K35 -> -276970
G34: այդ թվում՝
G35: ՀՀ կառավարություն | H35: =+H37 -> 0 | I35: =+I37 -> -184912 | J35: =+J37 -> -194912 | K35: =+K37 -> -276970
G36: այդ թվում՝
E37: 1139 | G37: ՀՀ կառավարության պահուստային ֆոնդ | H37: =+H39 -> 0 | I37: =+I39 -> -184912 | J37: =+J39 -> -194912 | K37: =+K39 -> -276970
G38: այդ թվում`
F39: 11001 | G39: ՀՀ կառավարության պահուստային ֆոնդ | H39: =+H41 -> 0 | I39: =+I41 -> -184912 | J39: =+J41 -> -194912 | K39: =+K41 -> -276970
G40: այդ թվում ըստ կատարողների
G41: ՀՀ կառավարություն | H41: =+H43 -> 0 | I41: =+I43 -> -184912 | J41: =+J43 -> -194912 | K41: =+K43 -> -276970
G42: այդ թվում` բյուջետային ծախսերի տնտեսագիտական դասակարգման հոդվածներ
G43: ԸՆԴԱՄԵՆԸ ԾԱԽՍԵՐ | H43: =+H44 -> 0 | I43: =+I44 -> -184912 | J43: =+J44 -> -194912 | K43: =+K44 -> -276970
G44: ԸՆԹԱՑԻԿ ԾԱԽՍԵՐ | H44: =+H45 -> 0 | I44: =+I45 -> -184912 | J44: =+J45 -> -194912 | K44: =+K45 -> -276970
G45: ԱՅԼ ԾԱԽՍԵՐ | H45: =+H46 -> 0 | I45: =+I46 -> -184912 | J45: =+J46 -> -194912 | K45: =+K46 -> -276970
G46: Պահուստային միջոցներ | H46: =+-'3'!H20 -> 0 | I46: =+-'3'!I20 -> -184912 | J46: =+-'3'!J20 -> -194912 | K46: =+-'3'!K20 -> -276970
