Workbook
Name a: #REF!
Name a: #REF!
Name AgencyCode: #REF!
Name AgencyCode: #REF!
Name AgencyCode: #REF!
Name AgencyCode: #REF!
Name AgencyCode: #REF!
Name AgencyName: #REF!
Name AgencyName: #REF!
Name AgencyName: #REF!
Name åû: #REF!
Name davit: #REF!
Name davit: #REF!
Name Functional1: #REF!
Name Functional1: #REF!
Name Functional1: #REF!
Name ggg: #REF!
Name ggg: #REF!
Name mas: #REF!
Name mass: #REF!
Name PANature: #REF!
Name PANature: #REF!
Name PANature: #REF!
Name PAType: #REF!
Name PAType: #REF!
Name PAType: #REF!
Name Performance2: #REF!
Name Performance2: #REF!
Name Performance2: #REF!
Name PerformanceType: #REF!
Name PerformanceType: #REF!
Name PerformanceType: #REF!
Name x: #REF!
Name Հավելված: #REF!
Name Հավելված: #REF!
Name Հավելված10: #REF!
Name Հավելված11: #REF!
Name Հավելված20: #REF!
Name Հավելված9: #REF!
Name Մաս: #REF!
Name Մաս: #REF!
Name շախմատիստ: #REF!
Name շախմատիստ: #REF!

Sheet Հավելված N 1
F1: Հավելված N 1
F2: ՀՀ կառավարության 2025 թվականի
F3: ______________ ի ___Ն որոշման
A7: ՀԱՅԱՍՏԱՆԻ ՀԱՆՐԱՊԵՏՈՒԹՅԱՆ ԿԱՌԱՎԱՐՈՒԹՅԱՆ 2024 ԹՎԱԿԱՆԻ ԴԵԿՏԵՄԲԵՐԻ 27-Ի N 2060-Ն ՈՐՈՇՄԱՆ N 3 ԵՎ N 4 ՀԱՎԵԼՎԱԾՆԵՐՈՒՄ ԿԱՏԱՐՎՈՂ ՓՈՓՈԽՈՒԹՅՈՒՆՆԵՐԸ ԵՎ ԼՐԱՑՈՒՄՆԵՐԸ
J10: հազ. դրամներով
A11: Գործառական դասիչը | D11: Ծրագրային դասիչը | F11: Բյուջետային հատկացումների գլխավոր կարգադրիչների, ծրագրերի, միջոցառումների և միջոցառումները կատարող պետական մարմինների անվանումները | G11: Ցուցանիշների փոփոխությունը (ավելացումները նշված են դրական նշանով, իսկ նվազեցումները փակագծերում)
A12: Բաժին | B12: Խումբ | C12: Դաս | D12: Ծրագիր | E12: Միջոցառում | G12: Առաջին եռամսյակ | H12: Առաջին կիսամյակ | I12: Ինն ամիս | J12: Տարի
F13: ԸՆԴԱՄԵՆԸ | G13: =+G15 -> 0 | H13: =+H15 -> 0 | I13: =+I15 -> 0 | J13: =+J15 -> 0
F14: այդ թվում՝
F15: ՀՀ ԿՐԹՈՒԹՅԱՆ, ԳԻՏՈՒԹՅԱՆ, ՄՇԱԿՈՒՅԹԻ ԵՎ ՍՊՈՐՏԻ ՆԱԽԱՐԱՐՈՒԹՅՈՒՆ | G15: =+G16 -> 0 | H15: =+H16 -> 0 | I15: =+I16 -> 0 | J15: =+J16 -> 0
A16: 09 | F16: ԿՐԹՈՒԹՅՈՒՆ | G16: =+G18 -> 0 | H16: =+H18 -> 0 | I16: =+I18 -> 0 | J16: =+J18 -> 0
F17: այդ թվում`
B18: 02 | F18: Միջնակարգ ընդհանուր կրթություն | G18: =+G20 -> 0 | H18: =+H20 -> 0 | I18: =+I20 -> 0 | J18: =+J20 -> 0
F19: այդ թվում`
F20: Հիմնական ընդհանուր կրթություն | G20: =+G22 -> 0 | H20: =+H22 -> 0 | I20: =+I22 -> 0 | J20: =+J22 -> 0
C21: 01 | F21: այդ թվում`
F22: ՀՀ կրթության, գիտության, մշակույթի և սպորտի նախարարություն | G22: =+G24 -> 0 | H22: =+H24 -> 0 | I22: =+I24 -> 0 | J22: =+J24 -> 0
F23: այդ թվում`
D24: 1236 | E24: Հանրակրթական և նախադպրոցական հաստատությունների հիմնում, կառուցում, բարելավում | G24: =+G26 -> 0 | H24: =+H26 -> 0 | I24: =+I26 -> 0 | J24: =+J26 -> 0
F25: այդ թվում`
E26: 32006 | F26: Հանրակրթական դպրոցների, մանկապարտեզների և կրթահամալիրների գույքով և տեխնիկայով ապահովում | G26: =+ROUND(G28+G35+G42+G49+G56+G63+G70+G77+G84+G91,1) -> 0 | H26: =+ROUND(H28+H35+H42+H49+H56+H63+H70+H77+H84+H91,1) -> 0 | I26: =+ROUND(I28+I35+I42+I49+I56+I63+I70+I77+I84+I91,1) -> 0 | J26: =+ROUND(J28+J35+J42+J49+J56+J63+J70+J77+J84+J91,1) -> 0
F27: այդ թվում` ըստ կատարողների
F28: ՀՀ կրթության, գիտության, մշակույթի և սպորտի նախարարություն | G28: =+G30 -> -267961.1 | H28: =+H30 -> -267961.1 | I28: =+I30 -> -267961.1 | J28: =+J30 -> -267961.1
F29: այդ թվում՝ բյուջետային ծախսերի տնտեսագիտական դասակարգման հոդվածներ
F30: ԸՆԴԱՄԵՆԸ ԾԱԽՍԵՐ | G30: =G31 -> -267961.1 | H30: =H31 -> -267961.1 | I30: =I31 -> -267961.1 | J30: =J31 -> -267961.1
F31: ՈՉ ՖԻՆԱՆՍԱԿԱՆ ԱԿՏԻՎՆԵՐԻ ԳԾՈՎ ԾԱԽՍԵՐ | G31: =+G32 -> -267961.1 | H31: =+H32 -> -267961.1 | I31: =+I32 -> -267961.1 | J31: =+J32 -> -267961.1
F32: ՀԻՄՆԱԿԱՆ ՄԻՋՈՑՆԵՐ | G32: =+G33 -> -267961.1 | H32: =+H33 -> -267961.1 | I32: =+I33 -> -267961.1 | J32: =+J33 -> -267961.1
F33: ՄԵՔԵՆԱՆԵՐ ԵՎ ՍԱՐՔԱՎՈՐՈՒՄՆԵՐ | G33: =+G34 -> -267961.1 | H33: =+H34 -> -267961.1 | I33: =+I34 -> -267961.1 | J33: =+J34 -> -267961.1
F34: - Այլ մեքենաներ և սարքավորումներ | G34: =+'Հավելված N 3'!E15 -> -267961.1 | H34: =+'Հավելված N 3'!F15 -> -267961.1 | I34: =+'Հավելված N 3'!G15 -> -267961.1 | J34: =+'Հավելված N 3'!H15 -> -267961.1
F35: ՀՀ Արագածոտնի մարզպետի աշխատակազմ | G35: =+G37 -> 12816.8 | H35: =+H37 -> 12816.8 | I35: =+I37 -> 12816.8 | J35: =+J37 -> 12816.8
F36: այդ թվում՝ բյուջետային ծախսերի տնտեսագիտական դասակարգման հոդվածներ
F37: ԸՆԴԱՄԵՆԸ ԾԱԽՍԵՐ | G37: =G38 -> 12816.8 | H37: =H38 -> 12816.8 | I37: =I38 -> 12816.8 | J37: =J38 -> 12816.8
F38: ՈՉ ՖԻՆԱՆՍԱԿԱՆ ԱԿՏԻՎՆԵՐԻ ԳԾՈՎ ԾԱԽՍԵՐ | G38: =+G39 -> 12816.8 | H38: =+H39 -> 12816.8 | I38: =+I39 -> 12816.8 | J38: =+J39 -> 12816.8
F39: ՀԻՄՆԱԿԱՆ ՄԻՋՈՑՆԵՐ | G39: =+G40 -> 12816.8 | H39: =+H40 -> 12816.8 | I39: =+I40 -> 12816.8 | J39: =+J40 -> 12816.8
F40: ՄԵՔԵՆԱՆԵՐ ԵՎ ՍԱՐՔԱՎՈՐՈՒՄՆԵՐ | G40: =+G41 -> 12816.8 | H40: =+H41 -> 12816.8 | I40: =+I41 -> 12816.8 | J40: =+J41 -> 12816.8
F41: - Այլ մեքենաներ և սարքավորումներ | G41: =+'Հավելված N 3'!E16 -> 12816.8 | H41: =+'Հավելված N 3'!F16 -> 12816.8 | I41: =+'Հավելված N 3'!G16 -> 12816.8 | J41: =+'Հավելված N 3'!H16 -> 12816.8
F42: ՀՀ Արարատի մարզպետի աշխատակազմ | G42: =+G44 -> 7771.2 | H42: =+H44 -> 7771.2 | I42: =+I44 -> 7771.2 | J42: =+J44 -> 7771.2
F43: այդ թվում՝ բյուջետային ծախսերի տնտեսագիտական դասակարգման հոդվածներ
F44: ԸՆԴԱՄԵՆԸ ԾԱԽՍԵՐ | G44: =G45 -> 7771.2 | H44: =H45 -> 7771.2 | I44: =I45 -> 7771.2 | J44: =J45 -> 7771.2
F45: ՈՉ ՖԻՆԱՆՍԱԿԱՆ ԱԿՏԻՎՆԵՐԻ ԳԾՈՎ ԾԱԽՍԵՐ | G45: =+G46 -> 7771.2 | H45: =+H46 -> 7771.2 | I45: =+I46 -> 7771.2 | J45: =+J46 -> 7771.2
F46: ՀԻՄՆԱԿԱՆ ՄԻՋՈՑՆԵՐ | G46: =+G47 -> 7771.2 | H46: =+H47 -> 7771.2 | I46: =+I47 -> 7771.2 | J46: =+J47 -> 7771.2
F47: ՄԵՔԵՆԱՆԵՐ ԵՎ ՍԱՐՔԱՎՈՐՈՒՄՆԵՐ | G47: =+G48 -> 7771.2 | H47: =+H48 -> 7771.2 | I47: =+I48 -> 7771.2 | J47: =+J48 -> 7771.2
F48: - Այլ մեքենաներ և սարքավորումներ | G48: =+'Հավելված N 3'!E24 -> 7771.2 | H48: =+'Հավելված N 3'!F24 -> 7771.2 | I48: =+'Հավելված N 3'!G24 -> 7771.2 | J48: =+'Հավելված N 3'!H24 -> 7771.2
F49: ՀՀ Արմավիրի մարզպետի աշխատակազմ | G49: =+G51 -> 36245.3 | H49: =+H51 -> 36245.3 | I49: =+I51 -> 36245.3 | J49: =+J51 -> 36245.3
F50: այդ թվում՝ բյուջետային ծախսերի տնտեսագիտական դասակարգման հոդվածներ
F51: ԸՆԴԱՄԵՆԸ ԾԱԽՍԵՐ | G51: =G52 -> 36245.3 | H51: =H52 -> 36245.3 | I51: =I52 -> 36245.3 | J51: =J52 -> 36245.3
F52: ՈՉ ՖԻՆԱՆՍԱԿԱՆ ԱԿՏԻՎՆԵՐԻ ԳԾՈՎ ԾԱԽՍԵՐ | G52: =+G53 -> 36245.3 | H52: =+H53 -> 36245.3 | I52: =+I53 -> 36245.3 | J52: =+J53 -> 36245.3
F53: ՀԻՄՆԱԿԱՆ ՄԻՋՈՑՆԵՐ | G53: =+G54 -> 36245.3 | H53: =+H54 -> 36245.3 | I53: =+I54 -> 36245.3 | J53: =+J54 -> 36245.3
F54: ՄԵՔԵՆԱՆԵՐ ԵՎ ՍԱՐՔԱՎՈՐՈՒՄՆԵՐ | G54: =+G55 -> 36245.3 | H54: =+H55 -> 36245.3 | I54: =+I55 -> 36245.3 | J54: =+J55 -> 36245.3
F55: - Այլ մեքենաներ և սարքավորումներ | G55: =+'Հավելված N 3'!E31 -> 36245.3 | H55: =+'Հավելված N 3'!F31 -> 36245.3 | I55: =+'Հավելված N 3'!G31 -> 36245.3 | J55: =+'Հավելված N 3'!H31 -> 36245.3
F56: ՀՀ Գեղարքունիքի մարզպետի աշխատակազմ | G56: =+G58 -> 18841.4 | H56: =+H58 -> 18841.4 | I56: =+I58 -> 18841.4 | J56: =+J58 -> 18841.4
F57: այդ թվում՝ բյուջետային ծախսերի տնտեսագիտական դասակարգման հոդվածներ
F58: ԸՆԴԱՄԵՆԸ ԾԱԽՍԵՐ | G58: =G59 -> 18841.4 | H58: =H59 -> 18841.4 | I58: =I59 -> 18841.4 | J58: =J59 -> 18841.4
F59: ՈՉ ՖԻՆԱՆՍԱԿԱՆ ԱԿՏԻՎՆԵՐԻ ԳԾՈՎ ԾԱԽՍԵՐ | G59: =+G60 -> 18841.4 | H59: =+H60 -> 18841.4 | I59: =+I60 -> 18841.4 | J59: =+J60 -> 18841.4
F60: ՀԻՄՆԱԿԱՆ ՄԻՋՈՑՆԵՐ | G60: =+G61 -> 18841.4 | H60: =+H61 -> 18841.4 | I60: =+I61 -> 18841.4 | J60: =+J61 -> 18841.4
F61: ՄԵՔԵՆԱՆԵՐ ԵՎ ՍԱՐՔԱՎՈՐՈՒՄՆԵՐ | G61: =+G62 -> 18841.4 | H61: =+H62 -> 18841.4 | I61: =+I62 -> 18841.4 | J61: =+J62 -> 18841.4
F62: - Այլ մեքենաներ և սարքավորումներ | G62: =+'Հավելված N 3'!E61 -> 18841.4 | H62: =+'Հավելված N 3'!F61 -> 18841.4 | I62: =+'Հավելված N 3'!G61 -> 18841.4 | J62: =+'Հավելված N 3'!H61 -> 18841.4
F63: ՀՀ Լոռու մարզպետի աշխատակազմ | G63: =+G65 -> 14845.2 | H63: =+H65 -> 14845.2 | I63: =+I65 -> 14845.2 | J63: =+J65 -> 14845.2
F64: այդ թվում՝ բյուջետային ծախսերի տնտեսագիտական դասակարգման հոդվածներ
F65: ԸՆԴԱՄԵՆԸ ԾԱԽՍԵՐ | G65: =G66 -> 14845.2 | H65: =H66 -> 14845.2 | I65: =I66 -> 14845.2 | J65: =J66 -> 14845.2
F66: ՈՉ ՖԻՆԱՆՍԱԿԱՆ ԱԿՏԻՎՆԵՐԻ ԳԾՈՎ ԾԱԽՍԵՐ | G66: =+G67 -> 14845.2 | H66: =+H67 -> 14845.2 | I66: =+I67 -> 14845.2 | J66: =+J67 -> 14845.2
F67: ՀԻՄՆԱԿԱՆ ՄԻՋՈՑՆԵՐ | G67: =+G68 -> 14845.2 | H67: =+H68 -> 14845.2 | I67: =+I68 -> 14845.2 | J67: =+J68 -> 14845.2
F68: ՄԵՔԵՆԱՆԵՐ ԵՎ ՍԱՐՔԱՎՈՐՈՒՄՆԵՐ | G68: =+G69 -> 14845.2 | H68: =+H69 -> 14845.2 | I68: =+I69 -> 14845.2 | J68: =+J69 -> 14845.2
F69: - Այլ մեքենաներ և սարքավորումներ | G69: =+'Հավելված N 3'!E67 -> 14845.2 | H69: =+'Հավելված N 3'!F67 -> 14845.2 | I69: =+'Հավելված N 3'!G67 -> 14845.2 | J69: =+'Հավելված N 3'!H67 -> 14845.2
F70: ՀՀ Կոտայքի մարզպետի աշխատակազմ | G70: =+G72 -> 3183.6 | H70: =+H72 -> 3183.6 | I70: =+I72 -> 3183.6 | J70: =+J72 -> 3183.6
F71: այդ թվում՝ բյուջետային ծախսերի տնտեսագիտական դասակարգման հոդվածներ
F72: ԸՆԴԱՄԵՆԸ ԾԱԽՍԵՐ | G72: =G73 -> 3183.6 | H72: =H73 -> 3183.6 | I72: =I73 -> 3183.6 | J72: =J73 -> 3183.6
F73: ՈՉ ՖԻՆԱՆՍԱԿԱՆ ԱԿՏԻՎՆԵՐԻ ԳԾՈՎ ԾԱԽՍԵՐ | G73: =+G74 -> 3183.6 | H73: =+H74 -> 3183.6 | I73: =+I74 -> 3183.6 | J73: =+J74 -> 3183.6
F74: ՀԻՄՆԱԿԱՆ ՄԻՋՈՑՆԵՐ | G74: =+G75 -> 3183.6 | H74: =+H75 -> 3183.6 | I74: =+I75 -> 3183.6 | J74: =+J75 -> 3183.6
F75: ՄԵՔԵՆԱՆԵՐ ԵՎ ՍԱՐՔԱՎՈՐՈՒՄՆԵՐ | G75: =+G76 -> 3183.6 | H75: =+H76 -> 3183.6 | I75: =+I76 -> 3183.6 | J75: =+J76 -> 3183.6
F76: - Այլ մեքենաներ և սարքավորումներ | G76: =+'Հավելված N 3'!E73 -> 3183.6 | H76: =+'Հավելված N 3'!F73 -> 3183.6 | I76: =+'Հավելված N 3'!G73 -> 3183.6 | J76: =+'Հավելված N 3'!H73 -> 3183.6
F77: ՀՀ Շիրակի մարզպետի աշխատակազմ | G77: =+G79 -> 145739.9 | H77: =+H79 -> 145739.9 | I77: =+I79 -> 145739.9 | J77: =+J79 -> 145739.9
F78: այդ թվում՝ բյուջետային ծախսերի տնտեսագիտական դասակարգման հոդվածներ
F79: ԸՆԴԱՄԵՆԸ ԾԱԽՍԵՐ | G79: =G80 -> 145739.9 | H79: =H80 -> 145739.9 | I79: =I80 -> 145739.9 | J79: =J80 -> 145739.9
F80: ՈՉ ՖԻՆԱՆՍԱԿԱՆ ԱԿՏԻՎՆԵՐԻ ԳԾՈՎ ԾԱԽՍԵՐ | G80: =+G81 -> 145739.9 | H80: =+H81 -> 145739.9 | I80: =+I81 -> 145739.9 | J80: =+J81 -> 145739.9
F81: ՀԻՄՆԱԿԱՆ ՄԻՋՈՑՆԵՐ | G81: =+G82 -> 145739.9 | H81: =+H82 -> 145739.9 | I81: =+I82 -> 145739.9 | J81: =+J82 -> 145739.9
F82: ՄԵՔԵՆԱՆԵՐ ԵՎ ՍԱՐՔԱՎՈՐՈՒՄՆԵՐ | G82: =+G83 -> 145739.9 | H82: =+H83 -> 145739.9 | I82: =+I83 -> 145739.9 | J82: =+J83 -> 145739.9
F83: - Այլ մեքենաներ և սարքավորումներ | G83: =+'Հավելված N 3'!E85 -> 145739.9 | H83: =+'Հավելված N 3'!F85 -> 145739.9 | I83: =+'Հավելված N 3'!G85 -> 145739.9 | J83: =+'Հավելված N 3'!H85 -> 145739.9
F84: ՀՀ Սյունիքի մարզպետի աշխատակազմ | G84: =+G86 -> 3828.7 | H84: =+H86 -> 3828.7 | I84: =+I86 -> 3828.7 | J84: =+J86 -> 3828.7
F85: այդ թվում՝ բյուջետային ծախսերի տնտեսագիտական դասակարգման հոդվածներ
F86: ԸՆԴԱՄԵՆԸ ԾԱԽՍԵՐ | G86: =G87 -> 3828.7 | H86: =H87 -> 3828.7 | I86: =I87 -> 3828.7 | J86: =J87 -> 3828.7
F87: ՈՉ ՖԻՆԱՆՍԱԿԱՆ ԱԿՏԻՎՆԵՐԻ ԳԾՈՎ ԾԱԽՍԵՐ | G87: =+G88 -> 3828.7 | H87: =+H88 -> 3828.7 | I87: =+I88 -> 3828.7 | J87: =+J88 -> 3828.7
F88: ՀԻՄՆԱԿԱՆ ՄԻՋՈՑՆԵՐ | G88: =+G89 -> 3828.7 | H88: =+H89 -> 3828.7 | I88: =+I89 -> 3828.7 | J88: =+J89 -> 3828.7
F89: ՄԵՔԵՆԱՆԵՐ ԵՎ ՍԱՐՔԱՎՈՐՈՒՄՆԵՐ | G89: =+G90 -> 3828.7 | H89: =+H90 -> 3828.7 | I89: =+I90 -> 3828.7 | J89: =+J90 -> 3828.7
F90: - Այլ մեքենաներ և սարքավորումներ | G90: =+'Հավելված N 3'!E108 -> 3828.7 | H90: =+'Հավելված N 3'!F108 -> 3828.7 | I90: =+'Հավելված N 3'!G108 -> 3828.7 | J90: =+'Հավելված N 3'!H108 -> 3828.7
F91: ՀՀ Տավուշի մարզպետի աշխատակազմ | G91: =+G93 -> 24689 | H91: =+H93 -> 24689 | I91: =+I93 -> 24689 | J91: =+J93 -> 24689
F92: այդ թվում՝ բյուջետային ծախսերի տնտեսագիտական դասակարգման հոդվածներ
F93: ԸՆԴԱՄԵՆԸ ԾԱԽՍԵՐ | G93: =G94 -> 24689 | H93: =H94 -> 24689 | I93: =I94 -> 24689 | J93: =J94 -> 24689
F94: ՈՉ ՖԻՆԱՆՍԱԿԱՆ ԱԿՏԻՎՆԵՐԻ ԳԾՈՎ ԾԱԽՍԵՐ | G94: =+G95 -> 24689 | H94: =+H95 -> 24689 | I94: =+I95 -> 24689 | J94: =+J95 -> 24689
F95: ՀԻՄՆԱԿԱՆ ՄԻՋՈՑՆԵՐ | G95: =+G96 -> 24689 | H95: =+H96 -> 24689 | I95: =+I96 -> 24689 | J95: =+J96 -> 24689
F96: ՄԵՔԵՆԱՆԵՐ ԵՎ ՍԱՐՔԱՎՈՐՈՒՄՆԵՐ | G96: =+G97 -> 24689 | H96: =+H97 -> 24689 | I96: =+I97 -> 24689 | J96: =+J97 -> 24689
F97: - Այլ մեքենաներ և սարքավորումներ | G97: =+'Հավելված N 3'!E114 -> 24689 | H97: =+'Հավելված N 3'!F114 -> 24689 | I97: =+'Հավելված N 3'!G114 -> 24689 | J97: =+'Հավելված N 3'!H114 -> 24689

Sheet Հավելված N 2
F1: Հավելված N 2
F2: ՀՀ կառավարության 2025 թվականի
F3: ______________ ի ___Ն որոշման
A5: «ՀԱՅԱUՏԱՆԻ ՀԱՆՐԱՊԵՏՈՒԹՅԱՆ 2025 ԹՎԱԿԱՆԻ ՊԵՏԱԿԱՆ ԲՅՈՒՋԵԻ ՄԱUԻՆ» ՀԱՅԱUՏԱՆԻ ՀԱՆՐԱՊԵՏՈՒԹՅԱՆ OՐԵՆՔԻ N 1 ՀԱՎԵԼՎԱԾԻ N 3 ԱՂՅՈՒՍԱԿՈՒՄ ԿԱՏԱՐՎՈՂ ՓՈՓՈԽՈՒԹՅՈՒՆԸ ԵՎ ԼՐԱՑՈՒՄՆԵՐԸ
G8: հազ. դրամներով
A9: Ծրագրային դասիչ | C9: Բյուջետային գլխավոր կարգադրիչների, ծրագրերի, միջոցառումների, միջոցառումները կատարող պետական մարմինների և ուղղությունների անվանումները | D9: Ընդամենը | E9: Ցուցանիշների փոփոխությունը (ավելացումները նշված են դրական նշանով, իսկ նվազեցումները՝ փակագծերում)
A10: Ծրագիր | B10: Միջոցառում | E10: Կառուցման աշխատանքներ | F10: Վերակառուցման, վերանորոգման և վերականգնման աշխատանքներ | G10: Նախագծահե- տազոտական, գեոդեզիա- քարտեզագրա- կան աշխա- տանքներ | H10: Ոչ ֆինանսական այլ ակտիվների ձեռքբերում
C11: ԸՆԴԱՄԵՆԸ | D11: =SUM(E11:H11) -> 0 | E11: =+E13 -> 0 | F11: =+F13 -> 0 | G11: =+G13 -> 0 | H11: =+H13 -> 0
C12: այդ թվում՝
C13: ՀՀ ԿՐԹՈՒԹՅԱՆ, ԳԻՏՈՒԹՅԱՆ, ՄՇԱԿՈՒՅԹԻ ԵՎ ՍՊՈՐՏԻ ՆԱԽԱՐԱՐՈՒԹՅՈՒՆ | D13: =SUM(E13:H13) -> 0 | E13: =+E15 -> 0 | F13: =+F15 -> 0 | G13: =+G15 -> 0 | H13: =+H15 -> 0
C14: այդ թվում`
A15: 1236 | B15: 32006 | C15: Հանրակրթական դպրոցների, մանկապարտեզների և կրթահամալիրների գույքով և տեխնիկայով ապահովում | D15: =SUM(E15:H15) -> 0 | E15: =+ROUND(E17+E18+E24+E29+E57+E61+E65+E75+E96+E100,1) -> 0 | F15: =+ROUND(F17+F18+F24+F29+F57+F61+F65+F75+F96+F100,1) -> 0 | G15: =+ROUND(G17+G18+G24+G29+G57+G61+G65+G75+G96+G100,1) -> 0 | H15: =+ROUND(H17+H18+H24+H29+H57+H61+H65+H75+H96+H100,1) -> 0
C16: այդ թվում`
C17: Հանրակրթական դպրոցների, մանկապարտեզների և կրթահամալիրների գույքով և տեխնիկայով ապահովում | D17: =SUM(E17:H17) -> -267961.1 | E17: =-E18-E24-E29-E57-E61-E65-E75-E96 -> 0 | F17: =-F18-F24-F29-F57-F61-F65-F75-F96 -> 0 | G17: =-G18-G24-G29-G57-G61-G65-G75-G96 -> 0 | H17: =-H18-H24-H29-H57-H61-H65-H75-H96-H100 -> -267961.1
C18: ՀՀ Արագածոտնի մարզ | D18: =SUM(E18:H18) -> 12816.8 | E18: =SUM(E19:E23) -> 0 | F18: =SUM(F19:F23) -> 0 | G18: =SUM(G19:G23) -> 0 | H18: =SUM(H19:H23) -> 12816.8
C19: Արտաշավան բնակավայրի «Կակաչ» մանկապարտեզ | D19: =+E19+F19+G19+H19 -> 3640.8 | H19: 3640.8
C20: Ապարան համայնքի Շենավան գյուղի մանկապարտեզ | D20: =+E20+F20+G20+H20 -> 1462.8 | H20: 1462.8
C21: Ապարան համայնքի Արագածի Լիա Տեր–Ղևոնդյանի անվան մանկապարտեզ | D21: =+E21+F21+G21+H21 -> 1523.3 | H21: 1523.3
C22: Ալագյազ համայնքի «Մոդուլային» տիպի 144 տեղ հզորությամբ մսուր-մանկապարտեզ | D22: =+E22+F22+G22+H22 -> 2249.4 | H22: 2249.4
C23: Աշտարակի թիվ 4 «Հասմիկ» մանկապարտեզ | D23: =+E23+F23+G23+H23 -> 3940.5 | H23: 3940.5
C24: ՀՀ Արարատի մարզ | D24: =SUM(E24:H24) -> 7771.2 | E24: =SUM(E25:E28) -> 0 | F24: =SUM(F25:F28) -> 0 | G24: =SUM(G25:G28) -> 0 | H24: =SUM(H25:H28) -> 7771.2
C25: Մասիս համայնքի Մասիս քաղաքի թիվ 3 մսուր մանկապարտեզ | D25: =+E25+F25+G25+H25 -> 1735 | H25: 1735
C26: Մասիս համայնքի Մասիս քաղաքի թիվ 1 մսուր մանկապարտեզ | D26: =+E26+F26+G26+H26 -> 725.1 | H26: 725.1
C27: Մասիս համայնքի Դաշտավան գյուղի մանկապարտեզ | D27: =+E27+F27+G27+H27 -> 1079.2 | H27: 1079.2
C28: Արարատ համայնքի Ավշար գյուղի մանկապարտեզ | D28: =+E28+F28+G28+H28 -> 4231.9 | H28: 4231.9
C29: ՀՀ Արմավիրի մարզ | D29: =SUM(E29:H29) -> 36245.3 | E29: =SUM(E30:E56) -> 0 | F29: =SUM(F30:F56) -> 0 | G29: =SUM(G30:G56) -> 0 | H29: =SUM(H30:H56) -> 36245.3
C30: Արաքս համայնքի Խորոնք գյուղի մանկապարտեզ | D30: =+E30+F30+G30+H30 -> 1495.1 | H30: 1495.1
C31: Արաքս համայնքի Ջրառատ գյուղի մանկապարտեզ | D31: =+E31+F31+G31+H31 -> 1495.1 | H31: 1495.1
C32: Արաքս համայնքի Մեծամոր գյուղի մանկապարտեզ | D32: =+E32+F32+G32+H32 -> 1495.1 | H32: 1495.1
C33: Բաղրամյան համայնքի Հուշակերտ գյուղի մանկապարտեզ | D33: =+E33+F33+G33+H33 -> 1495.1 | H33: 1495.1
C34: Արմավիր համայնքի Սարդարապատ գյուղի մանկապարտեզ | D34: =+E34+F34+G34+H34 -> 1091.1 | H34: 1091.1
C35: Արմավիր համայնքի Արաքս գյուղի մանկապարտեզ | D35: =+E35+F35+G35+H35 -> 1096.8 | H35: 1096.8
C36: Մեծամոր համայնքի Ջանֆիդա գյուղի Վազգեն Սարգսյանի անվան մանկապարտեզ | D36: =+E36+F36+G36+H36 -> 1316.3 | H36: 1316.3
C37: Մեծամոր համայնքի Զարթոնք գյուղի մանկապարտեզ | D37: =+E37+F37+G37+H37 -> 1151.8 | H37: 1151.8
C38: Մեծամոր համայնքի Արևիկ գյուղի «Մոդուլային» տիպի 144 տեղ հզորությամբ մսուր-մանկապարտեզ | D38: =+E38+F38+G38+H38 -> 1146.1 | H38: 1146.1
C39: Վաղարշապատ համայնքի թիվ 3 Ծիծեռնակ մսուր-մանկապարտեզ | D39: =+E39+F39+G39+H39 -> 55 | H39: 55
C40: Արաքս համայնքի Գայ գյուղի մանկապարտեզ | D40: =+E40+F40+G40+H40 -> 655 | H40: 655
C41: Արաքս համայնքի Արաքս գյուղի մանկապարտեզ | D41: =+E41+F41+G41+H41 -> 1051 | H41: 1051
... C56: Փարաքար համայնքի Բաղրամյան գյուղի մանկապարտեզ | D56: =+E56+F56+G56+H56 -> 1396.1 | H56: 1396.1
C57: ՀՀ Գեղարքունիքի մարզ | D57: =SUM(E57:H57) -> 18841.4 | E57: =SUM(E58:E60) -> 0 | F57: =SUM(F58:F60) -> 0 | G57: =SUM(G58:G60) -> 0 | H57: =SUM(H58:H60) -> 18841.4
C58: Մարտունու համայնքի Ծովասար գյուղի մանկապարտեզ | D58: =+E58+F58+G58+H58 -> 1643.9 | H58: 1643.9
C59: Մարտունու համայնքի Վարդենիկ բնակավայրի Բանավան թաղամասի թիվ 1 մանկապարտեզ | D59: =+E59+F59+G59+H59 -> 1983 | H59: 1983
C60: ՀՀ Գեղարքունիքի մարզի Աստղաձոր համայնքում «Մոդուլային» տիպի 144 տեղ հզորությամբ մսուր-մանկապարտեզ | D60: =+E60+F60+G60+H60 -> 15214.5 | H60: =5685+9529.5 -> 15214.5
C61: ՀՀ Լոռու մարզ | D61: =SUM(E61:H61) -> 14845.2 | E61: =SUM(E62:E64) -> 0 | F61: =SUM(F62:F64) -> 0 | G61: =SUM(G62:G64) -> 0 | H61: =SUM(H62:H64) -> 14845.2
C62: Վանաձոր համայնքի թիվ 8 մանկապարտեզ | D62: =+E62+F62+G62+H62 -> 1342.1 | H62: 1342.1
C63: Փամբակ համայնքի Լեռնապատ գյուղի մանկապարտեզ | D63: =+E63+F63+G63+H63 -> 133 | H63: 133
C64: ՀՀ Լոռու մարզի Սպիտակ համայնքում «Մոդուլային» տիպի 144 տեղ հզորությամբ մսուր-մանկապարտեզ | D64: =+E64+F64+G64+H64 -> 13370.1 | H64: 13370.1
C65: ՀՀ Կոտայքի մարզ | D65: =SUM(E65:H65) -> 3183.6 | E65: =SUM(E66:E74) -> 0 | F65: =SUM(F66:F74) -> 0 | G65: =SUM(G66:G74) -> 0 | H65: =SUM(H66:H74) -> 3183.6
C66: Հրազդան համայնքի թիվ 6 մանկապարտեզ | D66: =+E66+F66+G66+H66 -> 265.4 | H66: 265.4
C67: Հրազդան համայնքի թիվ 8 մանկապարտեզ | D67: =+E67+F67+G67+H67 -> 265.4 | H67: 265.4
C68: Հրազդան համայնքի թիվ 11 մանկապարտեզ | D68: =+E68+F68+G68+H68 -> 265.4 | H68: 265.4
C69: Աբովյան համայնքի Արամուս գյուղի մանկապարտեզ | D69: =+E69+F69+G69+H69 -> 265.4 | H69: 265.4
C70: Աբովյան համայնքի Բալահովիտ գյուղի մանկապարտեզ | D70: =+E70+F70+G70+H70 -> 265.4 | H70: 265.4
C71: Նաիրի համայնքի Արագյուղ գյուղի մանկապարտեզ | D71: =+E71+F71+G71+H71 -> 265.4 | H71: 265.4
C72: Նաիրի համայնքի Բուժական գյուղի մանկապարտեզ | D72: =+E72+F72+G72+H72 -> 1060.4 | H72: 1060.4
C73: Նաիրի համայնքի Պռոշյանի թիվ 1 մսուր մանկապարտեզ | D73: =+E73+F73+G73+H73 -> 265.4 | H73: 265.4
C74: Ակունք համայնքի Նոր Գյուղ բնակավայրի մանկապարտեզ | D74: =+E74+F74+G74+H74 -> 265.4 | H74: 265.4
C75: ՀՀ Շիրակի մարզ | D75: =SUM(E75:H75) -> 145739.9 | E75: =SUM(E76:E95) -> 0 | F75: =SUM(F76:F95) -> 0 | G75: =SUM(G76:G95) -> 0 | H75: =SUM(H76:H95) -> 145739.9
C76: Արթիկ համայնքի Արթիկի թիվ 1 մանկապարտեզ | D76: =+E76+F76+G76+H76 -> 9084.7 | H76: =4913.5+4171.2 -> 9084.7
C77: Արթիկ համայնքի Լեռնակերտ գյուղի մանկապարտեզ | D77: =+E77+F77+G77+H77 -> 7243.1 | H77: =4913.5+2329.6 -> 7243.1
C78: Ախուրյան համայնքի Վահրամաբերդ գյուղի մսուր-մանկապարտեզ | D78: =+E78+F78+G78+H78 -> 7679.4 | H78: =6120.9+1558.5 -> 7679.4
C79: Ախուրյան համայնքի Ախուրիկ գյուղի մսուր- մանկապարտեզ | D79: =+E79+F79+G79+H79 -> 7679.4 | H79: =6120.9+1558.5 -> 7679.4
C80: Ախուրյան համայնքի Շիրակ գյուղի մանկապարտեզ | D80: =+E80+F80+G80+H80 -> 6681.6 | H80: =5123.1+1558.5 -> 6681.6
C81: Գյումրի համայնքի «Սուրբ Մարիամ - մսուր մանկապարտեզ | D81: =+E81+F81+G81+H81 -> 2014.7 | H81: =1329.7+685 -> 2014.7
C82: Ախուրյան համայնքի Ջրառատ գյուղի մանկապարտեզ | D82: =+E82+F82+G82+H82 -> 5280.8 | H82: =5100.8+180 -> 5280.8
C83: Ախուրյան համայնքի Կառնուտ գյուղի մանկապարտեզ | D83: =+E83+F83+G83+H83 -> 6659.3 | H83: =5100.8+1558.5 -> 6659.3
C84: Ախուրյան համայնքի Բայանդուր գյուղի մանկապարտեզ | D84: =+E84+F84+G84+H84 -> 6235.3 | H84: =4543.1+1692.2 -> 6235.3
C85: Ախուրյան համայնքի Մարմաշեն գյուղի Հենրիկ Սերոբյանի անվան մանկապարտեզ | D85: =+E85+F85+G85+H85 -> 5285.9 | H85: =3470.1+1815.8 -> 5285.9
C86: Ախուրյան համայնքի Քեթի գյուղի մանկապարտեզ | D86: =+E86+F86+G86+H86 -> 5028.6 | H86: =3470.1+1558.5 -> 5028.6
C87: Ախուրյան համայնքի Հացիկ գյուղի մանկապարտեզ | D87: =+E87+F87+G87+H87 -> 6344.7 | H87: =4528.9+1815.8 -> 6344.7
C88: Ախուրյան համայնքի Լեռնուտ գյուղի մանկապարտեզ | D88: =+E88+F88+G88+H88 -> 6344.7 | H88: =4528.9+1815.8 -> 6344.7
C89: Ախուրյան համայնքի Ջաջուռավան գյուղի մանկապարտեզ | D89: =+E89+F89+G89+H89 -> 5515.8 | H89: =4528.9+986.9 -> 5515.8
C90: Գյումրի համայնքի «Զանգակ» մսուր-մանկապարտեզ | D90: =+E90+F90+G90+H90 -> 7178.3 | H90: =5299.1+1879.2 -> 7178.3
C91: Արթիկ համայնքի Արթիկի թիվ 3 մանկապարտեզ | D91: =+E91+F91+G91+H91 -> 9531.9 | H91: =5317.7+4214.2 -> 9531.9
C92: Արթիկ համայնքի Արթիկի թիվ 4 մանկապարտեզ | D92: =+E92+F92+G92+H92 -> 10414 | H92: =5699.5+4714.5 -> 10414
C93: Արթիկ համայնքի Հոռոմ գյուղի մանկապարտեզ | D93: =+E93+F93+G93+H93 -> 8724.4 | H93: =5506.1+3218.3 -> 8724.4
C94: Արթիկ համայնքի Նոր Կյանք գյուղի մանկապարտեզ | D94: =+E94+F94+G94+H94 -> 9460.9 | H94: =5317.7+4143.2 -> 9460.9
C95: Արթիկ համայնքի Փանիկ գյուղի մանկապարտեզ | D95: =+E95+F95+G95+H95 -> 13352.4 | H95: =8268.4+5084 -> 13352.4
C96: ՀՀ Սյունիքի մարզ | D96: =SUM(E96:H96) -> 3828.7 | E96: =SUM(E97:E99) -> 0 | F96: =SUM(F97:F99) -> 0 | G96: =SUM(G97:G99) -> 0 | H96: =SUM(H97:H99) -> 3828.7
C97: Ագարակի մանկապարտեզի Ալվանք գյուղի մասնաճյուղ | D97: =+E97+F97+G97+H97 -> 852.8 | H97: 852.8
C98: Կապան քաղաքի թիվ 2 մանկապարտեզ | D98: =+E98+F98+G98+H98 -> 1321.2 | H98: 1321.2
C99: Կապան քաղաքի թիվ 1 մանկապարտեզ | D99: =+E99+F99+G99+H99 -> 1654.7 | H99: 1654.7
C100: ՀՀ Տավուշի մարզ | D100: =SUM(E100:H100) -> 24689 | E100: =SUM(E101:E106) -> 0 | F100: =SUM(F101:F106) -> 0 | G100: =SUM(G101:G106) -> 0 | H100: =SUM(H101:H106) -> 24689
C101: Նոյեմբերյան համայնքի Հաղթանակ գյուղի մանկապարտեզ | D101: =+E101+F101+G101+H101 -> 550 | H101: 550
C102: Այրումի մանկապարտեզ ՀՈԱԿ | D102: =+E102+F102+G102+H102 -> 6990.9 | H102: 6990.9
C103: Գանձաքարի մանկապարտեզ ՀՈԱԿ | D103: =+E103+F103+G103+H103 -> 15498.1 | H103: 15498.1
C104: Բերդ համայնքի Արծվաբերդ գյուղի մանկապարտեզ | D104: =+E104+F104+G104+H104 -> 550 | H104: 550
C105: Բերդ համայնքի Այգեձոր գյուղի մանկապարտեզ | D105: =+E105+F105+G105+H105 -> 550 | H105: 550
C106: Իջևան համայնքի Խաշթառակ գյուղի մանկապարտեզ | D106: =+E106+F106+G106+H106 -> 550 | H106: 550

Sheet Հավելված N 3
G1: Հավելված N 3
F2: ՀՀ կառավարության 2025 թվականի
G3: ______________ ի ___Ն որոշման
B6: ՀԱՅԱՍՏԱՆԻ ՀԱՆՐԱՊԵՏՈՒԹՅԱՆ ԿԱՌԱՎԱՐՈՒԹՅԱՆ 2024 ԹՎԱԿԱՆԻ ԴԵԿՏԵՄԲԵՐԻ 27-Ի N 2060-Ն ՈՐՈՇՄԱՆ N 5 ՀԱՎԵԼՎԱԾԻ N 2 ԱՂՅՈՒՍԱԿՈՒՄ ԿԱՏԱՐՎՈՂ ՓՈՓՈԽՈՒԹՅՈՒՆԸ ԵՎ ԼՐԱՑՈՒՄՆԵՐԸ
H8: հազ. դրամներով
B9: Ծրագրային դասիչ | D9: Բյուջետային գլխավոր կարգադրիչների, ծրագրերի, միջոցառումների, միջոցառումները կատարող պետական մարմինների և ուղղությունների անվանումները | E9: Ցուցանիշների փոփոխությունը (ավելացումները նշված են դրական նշանով, իսկ նվազեցումները՝ փակագծերում)
B10: Ծրագիր | C10: Միջոցառում | E10: Առաջին եռամսյակ | F10: Առաջին կիսամյակ | G10: Ինն ամիս | H10: Տարի
D11: ՀՀ ԿՐԹՈՒԹՅԱՆ, ԳԻՏՈՒԹՅԱՆ, ՄՇԱԿՈՒՅԹԻ ԵՎ ՍՊՈՐՏԻ ՆԱԽԱՐԱՐՈՒԹՅՈՒՆ | E11: =+E13 -> 0 | F11: =+F13 -> 0 | G11: =+G13 -> 0 | H11: =+H13 -> 0
D12: այդ թվում՝
B13: 1236 | C13: 32006 | D13: Հանրակրթական դպրոցների, մանկապարտեզների և կրթահամալիրների գույքով և տեխնիկայով ապահովում | E13: =+ROUND(E15+E16+E24+E31+E61+E67+E73+E85+E108+E114,1) -> 0 | F13: =+ROUND(F15+F16+F24+F31+F61+F67+F73+F85+F108+F114,1) -> 0 | G13: =+ROUND(G15+G16+G24+G31+G61+G67+G73+G85+G108+G114,1) -> 0 | H13: =+ROUND(H15+H16+H24+H31+H61+H67+H73+H85+H108+H114,1) -> 0
D14: այդ թվում` ըստ կատարողների
D15: ՀՀ կրթության, գիտության, մշակույթի և սպորտի նախարարություն | E15: =+F15 -> -267961.1 | F15: =+G15 -> -267961.1 | G15: =+H15 -> -267961.1 | H15: =+'Հավելված N 2'!D17 -> -267961.1
D16: ՀՀ Արագածոտնի մարզպետի աշխատակազմ | E16: =+E18 -> 12816.8 | F16: =+F18 -> 12816.8 | G16: =+G18 -> 12816.8 | H16: =+H18 -> 12816.8
D17: այդ թվում՝ ըստ ուղղությունների
D18: ՀՀ Արագածոտնի մարզ | E18: =SUM(E19:E23) -> 12816.8 | F18: =SUM(F19:F23) -> 12816.8 | G18: =SUM(G19:G23) -> 12816.8 | H18: =SUM(H19:H23) -> 12816.8
D19: =+'Հավելված N 2'!C19 -> Արտաշավան բնակավայրի «Կակաչ» մանկապարտեզ | E19: =+H19 -> 3640.8 | F19: =+H19 -> 3640.8 | G19: =+H19 -> 3640.8 | H19: =+'Հավելված N 2'!D19 -> 3640.8
D20: =+'Հավելված N 2'!C20 -> Ապարան համայնքի Շենավան գյուղի մանկապարտեզ | E20: =+H20 -> 1462.8 | F20: =+H20 -> 1462.8 | G20: =+H20 -> 1462.8 | H20: =+'Հավելված N 2'!D20 -> 1462.8
D21: =+'Հավելված N 2'!C21 -> Ապարան համայնքի Արագածի Լիա Տեր–Ղևոնդյանի անվան մանկապարտեզ | E21: =+H21 -> 1523.3 | F21: =+H21 -> 1523.3 | G21: =+H21 -> 1523.3 | H21: =+'Հավելված N 2'!D21 -> 1523.3
D22: =+'Հավելված N 2'!C22 -> Ալագյազ համայնքի «Մոդուլային» տիպի 144 տեղ հզորությամբ մսուր-մանկապարտեզ | E22: =+H22 -> 2249.4 | F22: =+H22 -> 2249.4 | G22: =+H22 -> 2249.4 | H22: =+'Հավելված N 2'!D22 -> 2249.4
D23: =+'Հավելված N 2'!C23 -> Աշտարակի թիվ 4 «Հասմիկ» մանկապարտեզ | E23: =+H23 -> 3940.5 | F23: =+H23 -> 3940.5 | G23: =+H23 -> 3940.5 | H23: =+'Հավելված N 2'!D23 -> 3940.5
D24: ՀՀ Արարատի մարզպետի աշխատակազմ | E24: =+E26 -> 7771.2 | F24: =+F26 -> 7771.2 | G24: =+G26 -> 7771.2 | H24: =+H26 -> 7771.2
D25: այդ թվում՝ ըստ ուղղությունների
D26: ՀՀ Արարատի մարզ | E26: =SUM(E27:E30) -> 7771.2 | F26: =SUM(F27:F30) -> 7771.2 | G26: =SUM(G27:G30) -> 7771.2 | H26: =SUM(H27:H30) -> 7771.2
D27: =+'Հավելված N 2'!C25 -> Մասիս համայնքի Մասիս քաղաքի թիվ 3 մսուր մանկապարտեզ | E27: =+H27 -> 1735 | F27: =+H27 -> 1735 | G27: =+H27 -> 1735 | H27: =+'Հավելված N 2'!D25 -> 1735
D28: =+'Հավելված N 2'!C26 -> Մասիս համայնքի Մասիս քաղաքի թիվ 1 մսուր մանկապարտեզ | E28: =+H28 -> 725.1 | F28: =+H28 -> 725.1 | G28: =+H28 -> 725.1 | H28: =+'Հավելված N 2'!D26 -> 725.1
D29: =+'Հավելված N 2'!C27 -> Մասիս համայնքի Դաշտավան գյուղի մանկապարտեզ | E29: =+H29 -> 1079.2 | F29: =+H29 -> 1079.2 | G29: =+H29 -> 1079.2 | H29: =+'Հավելված N 2'!D27 -> 1079.2
D30: =+'Հավելված N 2'!C28 -> Արարատ համայնքի Ավշար գյուղի մանկապարտեզ | E30: =+H30 -> 4231.9 | F30: =+H30 -> 4231.9 | G30: =+H30 -> 4231.9 | H30: =+'Հավելված N 2'!D28 -> 4231.9
D31: ՀՀ Արմավիրի մարզպետի աշխատակազմ | E31: =+E33 -> 36245.3 | F31: =+F33 -> 36245.3 | G31: =+G33 -> 36245.3 | H31: =+H33 -> 36245.3
D32: այդ թվում՝ ըստ ուղղությունների
D33: ՀՀ Արմավիրի մարզ | E33: =SUM(E34:E60) -> 36245.3 | F33: =SUM(F34:F60) -> 36245.3 | G33: =SUM(G34:G60) -> 36245.3 | H33: =SUM(H34:H60) -> 36245.3
D34: =+'Հավելված N 2'!C30 -> Արաքս համայնքի Խորոնք գյուղի մանկապարտեզ | E34: =+H34 -> 1495.1 | F34: =+H34 -> 1495.1 | G34: =+H34 -> 1495.1 | H34: =+'Հավելված N 2'!D30 -> 1495.1
D35: =+'Հավելված N 2'!C31 -> Արաքս համայնքի Ջրառատ գյուղի մանկապարտեզ | E35: =+H35 -> 1495.1 | F35: =+H35 -> 1495.1 | G35: =+H35 -> 1495.1 | H35: =+'Հավելված N 2'!D31 -> 1495.1
D36: =+'Հավելված N 2'!C32 -> Արաքս համայնքի Մեծամոր գյուղի մանկապարտեզ | E36: =+H36 -> 1495.1 | F36: =+H36 -> 1495.1 | G36: =+H36 -> 1495.1 | H36: =+'Հավելված N 2'!D32 -> 1495.1
D37: =+'Հավելված N 2'!C33 -> Բաղրամյան համայնքի Հուշակերտ գյուղի մանկապարտեզ | E37: =+H37 -> 1495.1 | F37: =+H37 -> 1495.1 | G37: =+H37 -> 1495.1 | H37: =+'Հավելված N 2'!D33 -> 1495.1
D38: =+'Հավելված N 2'!C34 -> Արմավիր համայնքի Սարդարապատ գյուղի մանկապարտեզ | E38: =+H38 -> 1091.1 | F38: =+H38 -> 1091.1 | G38: =+H38 -> 1091.1 | H38: =+'Հավելված N 2'!D34 -> 1091.1
D39: =+'Հավելված N 2'!C35 -> Արմավիր համայնքի Արաքս գյուղի մանկապարտեզ | E39: =+H39 -> 1096.8 | F39: =+H39 -> 1096.8 | G39: =+H39 -> 1096.8 | H39: =+'Հավելված N 2'!D35 -> 1096.8
D40: =+'Հավելված N 2'!C36 -> Մեծամոր համայնքի Ջանֆիդա գյուղի Վազգեն Սարգսյանի անվան մանկապարտեզ | E40: =+H40 -> 1316.3 | F40: =+H40 -> 1316.3 | G40: =+H40 -> 1316.3 | H40: =+'Հավելված N 2'!D36 -> 1316.3
D41: =+'Հավելված N 2'!C37 -> Մեծամոր համայնքի Զարթոնք գյուղի մանկապարտեզ | E41: =+H41 -> 1151.8 | F41: =+H41 -> 1151.8 | G41: =+H41 -> 1151.8 | H41: =+'Հավելված N 2'!D37 -> 1151.8
D42: =+'Հավելված N 2'!C38 -> Մեծամոր համայնքի Արևիկ գյուղի «Մոդուլային» տիպի 144 տեղ հզորությամբ մսուր-մանկապարտեզ | E42: =+H42 -> 1146.1 | F42: =+H42 -> 1146.1 | G42: =+H42 -> 1146.1 | H42: =+'Հավելված N 2'!D38 -> 1146.1
D43: =+'Հավելված N 2'!C39 -> Վաղարշապատ համայնքի թիվ 3 Ծիծեռնակ մսուր-մանկապարտեզ | E43: =+H43 -> 55 | F43: =+H43 -> 55 | G43: =+H43 -> 55 | H43: =+'Հավելված N 2'!D39 -> 55
D44: =+'Հավելված N 2'!C40 -> Արաքս համայնքի Գայ գյուղի մանկապարտեզ | E44: =+H44 -> 655 | F44: =+H44 -> 655 | G44: =+H44 -> 655 | H44: =+'Հավելված N 2'!D40 -> 655
D45: =+'Հավելված N 2'!C41 -> Արաքս համայնքի Արաքս գյուղի մանկապարտեզ | E45: =+H45 -> 1051 | F45: =+H45 -> 1051 | G45: =+H45 -> 1051 | H45: =+'Հավելված N 2'!D41 -> 1051
... D60: =+'Հավելված N 2'!C56 -> Փարաքար համայնքի Բաղրամյան գյուղի մանկապարտեզ | E60: =+H60 -> 1396.1 | F60: =+H60 -> 1396.1 | G60: =+H60 -> 1396.1 | H60: =+'Հավելված N 2'!D56 -> 1396.1
D61: ՀՀ Գեղարքունիքի մարզպետի աշխատակազմ | E61: =+E63 -> 18841.4 | F61: =+F63 -> 18841.4 | G61: =+G63 -> 18841.4 | H61: =+H63 -> 18841.4
D62: այդ թվում՝ ըստ ուղղությունների
D63: ՀՀ Գեղարքունիքի մարզ | E63: =SUM(E64:E66) -> 18841.4 | F63: =SUM(F64:F66) -> 18841.4 | G63: =SUM(G64:G66) -> 18841.4 | H63: =SUM(H64:H66) -> 18841.4
D64: =+'Հավելված N 2'!C58 -> Մարտունու համայնքի Ծովասար գյուղի մանկապարտեզ | E64: =+H64 -> 1643.9 | F64: =+H64 -> 1643.9 | G64: =+H64 -> 1643.9 | H64: =+'Հավելված N 2'!D58 -> 1643.9
D65: =+'Հավելված N 2'!C59 -> Մարտունու համայնքի Վարդենիկ բնակավայրի Բանավան թաղամասի թիվ 1 մանկապարտեզ | E65: =+H65 -> 1983 | F65: =+H65 -> 1983 | G65: =+H65 -> 1983 | H65: =+'Հավելված N 2'!D59 -> 1983
D66: =+'Հավելված N 2'!C60 -> ՀՀ Գեղարքունիքի մարզի Աստղաձոր համայնքում «Մոդուլային» տիպի 144 տեղ հզորությամբ մսուր-մանկապարտեզ | E66: =+H66 -> 15214.5 | F66: =+H66 -> 15214.5 | G66: =+H66 -> 15214.5 | H66: =+'Հավելված N 2'!D60 -> 15214.5
D67: ՀՀ Լոռու մարզպետի աշխատակազմ | E67: =+E69 -> 14845.2 | F67: =+F69 -> 14845.2 | G67: =+G69 -> 14845.2 | H67: =+H69 -> 14845.2
D68: այդ թվում՝ ըստ ուղղությունների
D69: ՀՀ Լոռու մարզ | E69: =SUM(E70:E72) -> 14845.2 | F69: =SUM(F70:F72) -> 14845.2 | G69: =SUM(G70:G72) -> 14845.2 | H69: =SUM(H70:H72) -> 14845.2
D70: =+'Հավելված N 2'!C62 -> Վանաձոր համայնքի թիվ 8 մանկապարտեզ | E70: =+H70 -> 1342.1 | F70: =+H70 -> 1342.1 | G70: =+H70 -> 1342.1 | H70: =+'Հավելված N 2'!D62 -> 1342.1
D71: =+'Հավելված N 2'!C63 -> Փամբակ համայնքի Լեռնապատ գյուղի մանկապարտեզ | E71: =+H71 -> 133 | F71: =+H71 -> 133 | G71: =+H71 -> 133 | H71: =+'Հավելված N 2'!D63 -> 133
D72: =+'Հավելված N 2'!C64 -> ՀՀ Լոռու մարզի Սպիտակ համայնքում «Մոդուլային» տիպի 144 տեղ հզորությամբ մսուր-մանկապարտեզ | E72: =+H72 -> 13370.1 | F72: =+H72 -> 13370.1 | G72: =+H72 -> 13370.1 | H72: =+'Հավելված N 2'!D64 -> 13370.1
D73: ՀՀ Կոտայքի մարզպետի աշխատակազմ | E73: =+E75 -> 3183.6 | F73: =+F75 -> 3183.6 | G73: =+G75 -> 3183.6 | H73: =+H75 -> 3183.6
D74: այդ թվում՝ ըստ ուղղությունների
D75: ՀՀ Կոտայքի մարզ | E75: =SUM(E76:E84) -> 3183.6 | F75: =SUM(F76:F84) -> 3183.6 | G75: =SUM(G76:G84) -> 3183.6 | H75: =SUM(H76:H84) -> 3183.6
D76: =+'Հավելված N 2'!C66 -> Հրազդան համայնքի թիվ 6 մանկապարտեզ | E76: =+H76 -> 265.4 | F76: =+H76 -> 265.4 | G76: =+H76 -> 265.4 | H76: =+'Հավելված N 2'!D66 -> 265.4
D77: =+'Հավելված N 2'!C67 -> Հրազդան համայնքի թիվ 8 մանկապարտեզ | E77: =+H77 -> 265.4 | F77: =+H77 -> 265.4 | G77: =+H77 -> 265.4 | H77: =+'Հավելված N 2'!D67 -> 265.4
D78: =+'Հավելված N 2'!C68 -> Հրազդան համայնքի թիվ 11 մանկապարտեզ | E78: =+H78 -> 265.4 | F78: =+H78 -> 265.4 | G78: =+H78 -> 265.4 | H78: =+'Հավելված N 2'!D68 -> 265.4
D79: =+'Հավելված N 2'!C69 -> Աբովյան համայնքի Արամուս գյուղի մանկապարտեզ | E79: =+H79 -> 265.4 | F79: =+H79 -> 265.4 | G79: =+H79 -> 265.4 | H79: =+'Հավելված N 2'!D69 -> 265.4
D80: =+'Հավելված N 2'!C70 -> Աբովյան համայնքի Բալահովիտ գյուղի մանկապարտեզ | E80: =+H80 -> 265.4 | F80: =+H80 -> 265.4 | G80: =+H80 -> 265.4 | H80: =+'Հավելված N 2'!D70 -> 265.4
D81: =+'Հավելված N 2'!C71 -> Նաիրի համայնքի Արագյուղ գյուղի մանկապարտեզ | E81: =+H81 -> 265.4 | F81: =+H81 -> 265.4 | G81: =+H81 -> 265.4 | H81: =+'Հավելված N 2'!D71 -> 265.4
D82: =+'Հավելված N 2'!C72 -> Նաիրի համայնքի Բուժական գյուղի մանկապարտեզ | E82: =+H82 -> 1060.4 | F82: =+H82 -> 1060.4 | G82: =+H82 -> 1060.4 | H82: =+'Հավելված N 2'!D72 -> 1060.4
D83: =+'Հավելված N 2'!C73 -> Նաիրի համայնքի Պռոշյանի թիվ 1 մսուր մանկապարտեզ | E83: =+H83 -> 265.4 | F83: =+H83 -> 265.4 | G83: =+H83 -> 265.4 | H83: =+'Հավելված N 2'!D73 -> 265.4
D84: =+'Հավելված N 2'!C74 -> Ակունք համայնքի Նոր Գյուղ բնակավայրի մանկապարտեզ | E84: =+H84 -> 265.4 | F84: =+H84 -> 265.4 | G84: =+H84 -> 265.4 | H84: =+'Հավելված N 2'!D74 -> 265.4
D85: ՀՀ Շիրակի մարզպետի աշխատակազմ | E85: =+E87 -> 145739.9 | F85: =+F87 -> 145739.9 | G85: =+G87 -> 145739.9 | H85: =+H87 -> 145739.9
D86: այդ թվում՝ ըստ ուղղությունների
D87: ՀՀ Շիրակի մարզ | E87: =SUM(E88:E107) -> 145739.9 | F87: =SUM(F88:F107) -> 145739.9 | G87: =SUM(G88:G107) -> 145739.9 | H87: =SUM(H88:H107) -> 145739.9
D88: =+'Հավելված N 2'!C76 -> Արթիկ համայնքի Արթիկի թիվ 1 մանկապարտեզ | E88: =+H88 -> 9084.7 | F88: =+H88 -> 9084.7 | G88: =+H88 -> 9084.7 | H88: =+'Հավելված N 2'!D76 -> 9084.7
D89: =+'Հավելված N 2'!C77 -> Արթիկ համայնքի Լեռնակերտ գյուղի մանկապարտեզ | E89: =+H89 -> 7243.1 | F89: =+H89 -> 7243.1 | G89: =+H89 -> 7243.1 | H89: =+'Հավելված N 2'!D77 -> 7243.1
D90: =+'Հավելված N 2'!C78 -> Ախուրյան համայնքի Վահրամաբերդ գյուղի մսուր-մանկապարտեզ | E90: =+H90 -> 7679.4 | F90: =+H90 -> 7679.4 | G90: =+H90 -> 7679.4 | H90: =+'Հավելված N 2'!D78 -> 7679.4
D91: =+'Հավելված N 2'!C79 -> Ախուրյան համայնքի Ախուրիկ գյուղի մսուր- մանկապարտեզ | E91: =+H91 -> 7679.4 | F91: =+H91 -> 7679.4 | G91: =+H91 -> 7679.4 | H91: =+'Հավելված N 2'!D79 -> 7679.4
D92: =+'Հավելված N 2'!C80 -> Ախուրյան համայնքի Շիրակ գյուղի մանկապարտեզ | E92: =+H92 -> 6681.6 | F92: =+H92 -> 6681.6 | G92: =+H92 -> 6681.6 | H92: =+'Հավելված N 2'!D80 -> 6681.6
D93: =+'Հավելված N 2'!C81 -> Գյումրի համայնքի «Սուրբ Մարիամ - մսուր մանկապարտեզ | E93: =+H93 -> 2014.7 | F93: =+H93 -> 2014.7 | G93: =+H93 -> 2014.7 | H93: =+'Հավելված N 2'!D81 -> 2014.7
D94: =+'Հավելված N 2'!C82 -> Ախուրյան համայնքի Ջրառատ գյուղի մանկապարտեզ | E94: =+H94 -> 5280.8 | F94: =+H94 -> 5280.8 | G94: =+H94 -> 5280.8 | H94: =+'Հավելված N 2'!D82 -> 5280.8
D95: =+'Հավելված N 2'!C83 -> Ախուրյան համայնքի Կառնուտ գյուղի մանկապարտեզ | E95: =+H95 -> 6659.3 | F95: =+H95 -> 6659.3 | G95: =+H95 -> 6659.3 | H95: =+'Հավելված N 2'!D83 -> 6659.3
D96: =+'Հավելված N 2'!C84 -> Ախուրյան համայնքի Բայանդուր գյուղի մանկապարտեզ | E96: =+H96 -> 6235.3 | F96: =+H96 -> 6235.3 | G96: =+H96 -> 6235.3 | H96: =+'Հավելված N 2'!D84 -> 6235.3
D97: =+'Հավելված N 2'!C85 -> Ախուրյան համայնքի Մարմաշեն գյուղի Հենրիկ Սերոբյանի անվան մանկապարտեզ | E97: =+H97 -> 5285.9 | F97: =+H97 -> 5285.9 | G97: =+H97 -> 5285.9 | H97: =+'Հավելված N 2'!D85 -> 5285.9
D98: =+'Հավելված N 2'!C86 -> Ախուրյան համայնքի Քեթի գյուղի մանկապարտեզ | E98: =+H98 -> 5028.6 | F98: =+H98 -> 5028.6 | G98: =+H98 -> 5028.6 | H98: =+'Հավելված N 2'!D86 -> 5028.6
D99: =+'Հավելված N 2'!C87 -> Ախուրյան համայնքի Հացիկ գյուղի մանկապարտեզ | E99: =+H99 -> 6344.7 | F99: =+H99 -> 6344.7 | G99: =+H99 -> 6344.7 | H99: =+'Հավելված N 2'!D87 -> 6344.7
... D107: =+'Հավելված N 2'!C95 -> Արթիկ համայնքի Փանիկ գյուղի մանկապարտեզ | E107: =+H107 -> 13352.4 | F107: =+H107 -> 13352.4 | G107: =+H107 -> 13352.4 | H107: =+'Հավելված N 2'!D95 -> 13352.4
D108: ՀՀ Սյունիքի մարզպետի աշխատակազմ | E108: =+E110 -> 3828.7 | F108: =+F110 -> 3828.7 | G108: =+G110 -> 3828.7 | H108: =+H110 -> 3828.7
D109: այդ թվում՝ ըստ ուղղությունների
D110: ՀՀ Սյունիքի մարզ | E110: =SUM(E111:E113) -> 3828.7 | F110: =SUM(F111:F113) -> 3828.7 | G110: =SUM(G111:G113) -> 3828.7 | H110: =SUM(H111:H113) -> 3828.7
D111: =+'Հավելված N 2'!C97 -> Ագարակի մանկապարտեզի Ալվանք գյուղի մասնաճյուղ | E111: =+H111 -> 852.8 | F111: =+H111 -> 852.8 | G111: =+H111 -> 852.8 | H111: =+'Հավելված N 2'!D97 -> 852.8
D112: =+'Հավելված N 2'!C98 -> Կապան քաղաքի թիվ 2 մանկապարտեզ | E112: =+H112 -> 1321.2 | F112: =+H112 -> 1321.2 | G112: =+H112 -> 1321.2 | H112: =+'Հավելված N 2'!D98 -> 1321.2
D113: =+'Հավելված N 2'!C99 -> Կապան քաղաքի թիվ 1 մանկապարտեզ | E113: =+H113 -> 1654.7 | F113: =+H113 -> 1654.7 | G113: =+H113 -> 1654.7 | H113: =+'Հավելված N 2'!D99 -> 1654.7
D114: ՀՀ Տավուշի մարզպետի աշխատակազմ | E114: =+E116 -> 24689 | F114: =+F116 -> 24689 | G114: =+G116 -> 24689 | H114: =+H116 -> 24689
D115: այդ թվում՝ ըստ ուղղությունների
D116: ՀՀ Տավուշի մարզ | E116: =SUM(E117:E122) -> 24689 | F116: =SUM(F117:F122) -> 24689 | G116: =SUM(G117:G122) -> 24689 | H116: =SUM(H117:H122) -> 24689
D117: =+'Հավելված N 2'!C101 -> Նոյեմբերյան համայնքի Հաղթանակ գյուղի մանկապարտեզ | E117: =+H117 -> 550 | F117: =+H117 -> 550 | G117: =+H117 -> 550 | H117: =+'Հավելված N 2'!D101 -> 550
D118: =+'Հավելված N 2'!C102 -> Այրումի մանկապարտեզ ՀՈԱԿ | E118: =+H118 -> 6990.9 | F118: =+H118 -> 6990.9 | G118: =+H118 -> 6990.9 | H118: =+'Հավելված N 2'!D102 -> 6990.9
D119: =+'Հավելված N 2'!C103 -> Գանձաքարի մանկապարտեզ ՀՈԱԿ | E119: =+H119 -> 15498.1 | F119: =+H119 -> 15498.1 | G119: =+H119 -> 15498.1 | H119: =+'Հավելված N 2'!D103 -> 15498.1
D120: =+'Հավելված N 2'!C104 -> Բերդ համայնքի Արծվաբերդ գյուղի մանկապարտեզ | E120: =+H120 -> 550 | F120: =+H120 -> 550 | G120: =+H120 -> 550 | H120: =+'Հավելված N 2'!D104 -> 550
D121: =+'Հավելված N 2'!C105 -> Բերդ համայնքի Այգեձոր գյուղի մանկապարտեզ | E121: =+H121 -> 550 | F121: =+H121 -> 550 | G121: =+H121 -> 550 | H121: =+'Հավելված N 2'!D105 -> 550
D122: =+'Հավելված N 2'!C106 -> Իջևան համայնքի Խաշթառակ գյուղի մանկապարտեզ | E122: =+H122 -> 550 | F122: =+H122 -> 550 | G122: =+H122 -> 550 | H122: =+'Հավելված N 2'!D106 -> 550

Sheet Հավելված N 4
K1: Հավելված N 5
K2: ՀՀ կառավարության 2025 թվականի
K3: ______________ ի ___Ն որոշման
A6: ՀԱՅԱՍՏԱՆԻ ՀԱՆՐԱՊԵՏՈՒԹՅԱՆ ԿԱՌԱՎԱՐՈՒԹՅԱՆ 2024 ԹՎԱԿԱՆԻ ԴԵԿՏԵՄԲԵՐԻ 27-Ի N 2060-Ն ՈՐՈՇՄԱՆ N 9 ՀԱՎԵԼՎԱԾՈՒՄ ԿԱՏԱՐՎՈՂ ՓՈՓՈԽՈՒԹՅՈՒՆՆԵՐԸ ԵՎ ԼՐԱՑՈՒՄՆԵՐԸ
A9: ԲԳԿ | B9: Ծրագիր | D9: Միջոցառում | H9: Իրականացնողը/ ակտիվն օգտագործողը/ շահառուի ընտրության չափորոշիչը | I9: Արդյունքային չափորոշիչը | J9: Ցուցանիշների փոփոխությունը (ավելացումները նշված են դրական նշանով, իսկ նվազեցումները՝ փակագծերում)
B10: Դասիչը | C10: Անվանումը | D10: Դասիչը | E10: Անվանումը | F10: Նկարագրությունը | G10: Տեսակը | J10: Առաջին եռամսյակ | K10: Առաջին կիսամյակ | L10: Ինն ամիս | M10: Տարի
A11: ԸՆԴԱՄԵՆԸ | J11: =+J13 -> 0 | K11: =+K13 -> 0 | L11: =+L13 -> 0 | M11: =+M13 -> 0
A12: այդ թվում՝
A13: ՀՀ ԿՐԹՈՒԹՅԱՆ, ԳԻՏՈՒԹՅԱՆ, ՄՇԱԿՈԻՅԹԻ ԵՎ ՍՊՈՐՏԻ ՆԱԽԱՐԱՐՈՒԹՅՈՒՆ | J13: =+J14 -> 0 | K13: =+K14 -> 0 | L13: =+L14 -> 0 | M13: =+M14 -> 0
B14: 1236 | C14: Հանրակրթական և նախադպրոցական հաստատությունների հիմնում, կառուցում, բարելավում | J14: =+J15 -> 0 | K14: =+K15 -> 0 | L14: =+L15 -> 0 | M14: =+M15 -> 0
D15: 1236 - 32006 | E15: Հանրակրթական դպրոցների, մանկապարտեզների և կրթահամալիրների գույքով և տեխնիկայով ապահովում | J15: =+'Հավելված N 1'!G26 -> 0 | K15: =+'Հավելված N 1'!H26 -> 0 | L15: =+'Հավելված N 1'!I26 -> 0 | M15: =+'Հավելված N 1'!J26 -> 0
F16: Կրթական ժամանակակից նորմերին և կրթական չափորոշիչներին համապատասխան ուսուցման ծրագրերն իրականացնելու նպատակով հանրակրթական և նախադպրոցական հաստատությունների համար գույքի և տեխնիկայի ձեռքբերում
G17: Այլ պետական կազմակերպությունների կողմից օգտագործվող ոչ ֆինանսական ակտիվների հետ գործառնություններ
H18: Ակտիվն օգտագործող կազմակերպությունների անվանումները` Հանրակրթական դպրոցներ, մանկապարտեզներ և կրթահամալիրներ
I19: Սուբվենցիոն ծրագրերի շրջանակներում կառուցվող(ած), վերակառուցվող(ած) և հիմնանորոգվող(ած) մանկապարտեզների թիվը, որոնք ապահովվում են գույքով, հատ | J19: =+'Հավելված N 5'!J26+'Հավելված N 5'!J35+'Հավելված N 5'!J43+'Հավելված N 5'!J54+'Հավելված N 5'!J63+'Հավելված N 5'!J72+'Հավելված N 5'!J80+'Հավելված N 5'!J90 -> 60 | K19: =+'Հավելված N 5'!K26+'Հավելված N 5'!K35+'Հավելված N 5'!K43+'Հավելված N 5'!K54+'Հավելված N 5'!K63+'Հավելված N 5'!K72+'Հավելված N 5'!K80+'Հավելված N 5'!K90 -> 60 | L19: =+'Հավելված N 5'!L26+'Հավելված N 5'!L35+'Հավելված N 5'!L43+'Հավելված N 5'!L54+'Հավելված N 5'!L63+'Հավելված N 5'!L72+'Հավելված N 5'!L80+'Հավելված N 5'!L90 -> 60 | M19: =+'Հավելված N 5'!M26+'Հավելված N 5'!M35+'Հավելված N 5'!M43+'Հավելված N 5'!M54+'Հավելված N 5'!M63+'Հավելված N 5'!M72+'Հավելված N 5'!M80+'Հավելված N 5'!M90 -> 60
I20: «Սոցիալական ներդրումների և տեղական զարգացման» ծրագրի շրջանակներում կառուցվող(ած), վերակառուցվող(ած) և հիմնանորոգվող(ած) մանկապարտեզների թիվը, որոնք ապահովվում են գույքով, հատ | J20: =+'Հավելված N 5'!J81+'Հավելված N 5'!J98 -> 6 | K20: =+'Հավելված N 5'!K81+'Հավելված N 5'!K98 -> 6 | L20: =+'Հավելված N 5'!L81+'Հավելված N 5'!L98 -> 6 | M20: =+'Հավելված N 5'!M81+'Հավելված N 5'!M98 -> 6
I21: Անհետաձգելի ծրագրերի շրջանակներում կառուցվող(ած), վերակառուցվող(ած) և հիմնանորոգվող(ած) մանկապարտեզների թիվը, որոնք ապահովվում են գույքով, հատ | J21: =+'Հավելված N 5'!J44+'Հավելված N 5'!J82 -> 3 | K21: =+'Հավելված N 5'!K44+'Հավելված N 5'!K82 -> 3 | L21: =+'Հավելված N 5'!L44+'Հավելված N 5'!L82 -> 3 | M21: =+'Հավելված N 5'!M44+'Հավելված N 5'!M82 -> 3
I22: «Մոդուլային» տիպի 144 տեղ հզորությամբ կառուցվող(ած) մսուր–մանկապարտեզների թիվը, որոնք ապահովվում են գույքով, հատ | J22: =+'Հավելված N 5'!J27+'Հավելված N 5'!J45+'Հավելված N 5'!J55+'Հավելված N 5'!J64 -> 4 | K22: =+'Հավելված N 5'!K27+'Հավելված N 5'!K45+'Հավելված N 5'!K55+'Հավելված N 5'!K64 -> 4 | L22: =+'Հավելված N 5'!L27+'Հավելված N 5'!L45+'Հավելված N 5'!L55+'Հավելված N 5'!L64 -> 4 | M22: =+'Հավելված N 5'!M27+'Հավելված N 5'!M45+'Հավելված N 5'!M55+'Հավելված N 5'!M64 -> 4
I23: Բարեգործական ծրագրերով կառուցվող(ած), վերակառուցվող(ած) և հիմնանորոգվող(ած) մանկապարտեզների թիվը, որոնք ապահովվում են գույքով, հատ | J23: =+'Հավելված N 5'!J46+'Հավելված N 5'!J99 -> 7 | K23: =+'Հավելված N 5'!K46+'Հավելված N 5'!K99 -> 7 | L23: =+'Հավելված N 5'!L46+'Հավելված N 5'!L99 -> 7 | M23: =+'Հավելված N 5'!M46+'Հավելված N 5'!M99 -> 7

Sheet Հավելված N 5
K1: Հավելված N 5
K2: ՀՀ կառավարության 2025 թվականի
K3: ______________ ի ___Ն որոշման
A6: ՀԱՅԱՍՏԱՆԻ ՀԱՆՐԱՊԵՏՈՒԹՅԱՆ ԿԱՌԱՎԱՐՈՒԹՅԱՆ 2024 ԹՎԱԿԱՆԻ ԴԵԿՏԵՄԲԵՐԻ 27-Ի N 2060-Ն ՈՐՈՇՄԱՆ N 9.1 ՀԱՎԵԼՎԱԾՈՒՄ ԿԱՏԱՐՎՈՂ ՓՈՓՈԽՈՒԹՅՈՒՆՆԵՐԸ ԵՎ ԼՐԱՑՈՒՄՆԵՐԸ
A9: ԲԳԿ | B9: Ծրագիր | D9: Միջոցառում | H9: Իրականացնողը/ ակտիվն օգտագործողը/ շահառուի ընտրության չափորոշիչը | I9: Արդյունքային չափորոշիչը | J9: Ցուցանիշների փոփոխությունը (ավելացումները նշված են դրական նշանով, իսկ նվազեցումները՝ փակագծերում)
B10: Դասիչը | C10: Անվանումը | D10: Դասիչը | E10: Անվանումը | F10: Նկարագրությունը | G10: Տեսակը | J10: Առաջին եռամսյակ | K10: Առաջին կիսամյակ | L10: Ինն ամիս | M10: Տարի
A11: ԸՆԴԱՄԵՆԸ | J11: =+ROUND(J13+J20+J29+J37+J48+J57+J66+J74+J84+J92,1) -> 0 | K11: =+ROUND(K13+K20+K29+K37+K48+K57+K66+K74+K84+K92,1) -> 0 | L11: =+ROUND(L13+L20+L29+L37+L48+L57+L66+L74+L84+L92,1) -> 0 | M11: =+ROUND(M13+M20+M29+M37+M48+M57+M66+M74+M84+M92,1) -> 0
A12: այդ թվում՝
A13: ՀՀ ԿՐԹՈՒԹՅԱՆ, ԳԻՏՈՒԹՅԱՆ, ՄՇԱԿՈԻՅԹԻ ԵՎ ՍՊՈՐՏԻ ՆԱԽԱՐԱՐՈՒԹՅՈՒՆ | J13: =+J14 -> -267961.1 | K13: =+K14 -> -267961.1 | L13: =+L14 -> -267961.1 | M13: =+M14 -> -267961.1
B14: 1236 | C14: Հանրակրթական և նախադպրոցական հաստատությունների հիմնում, կառուցում, բարելավում | J14: =+J15 -> -267961.1 | K14: =+K15 -> -267961.1 | L14: =+L15 -> -267961.1 | M14: =+M15 -> -267961.1
D15: 1236 - 32006 | E15: Հանրակրթական դպրոցների, մանկապարտեզների և կրթահամալիրների գույքով և տեխնիկայով ապահովում | J15: =+'Հավելված N 1'!G28 -> -267961.1 | K15: =+'Հավելված N 1'!H28 -> -267961.1 | L15: =+'Հավելված N 1'!I28 -> -267961.1 | M15: =+'Հավելված N 1'!J28 -> -267961.1
F16: Կրթական ժամանակակից նորմերին և կրթական չափորոշիչներին համապատասխան ուսուցման ծրագրերն իրականացնելու նպատակով հանրակրթական և նախադպրոցական հաստատությունների համար գույքի և տեխնիկայի ձեռքբերում
G17: Այլ պետական կազմակերպությունների կողմից օգտագործվող ոչ ֆինանսական ակտիվների հետ գործառնություններ
H18: Ակտիվն օգտագործող կազմակերպությունների անվանումները` Հանրակրթական դպրոցներ, մանկապարտեզներ և կրթահամալիրներ
A20: ՀՀ ԱՐԱԳԱԾՈՏՆԻ ՄԱՐԶՊԵՏԻ ԱՇԽԱՏԱԿԱՄԶ | J20: =+J21 -> 12816.8 | K20: =+K21 -> 12816.8 | L20: =+L21 -> 12816.8 | M20: =+M21 -> 12816.8
B21: 1236 | C21: Հանրակրթական և նախադպրոցական հաստատությունների հիմնում, կառուցում, բարելավում | J21: =+J22 -> 12816.8 | K21: =+K22 -> 12816.8 | L21: =+L22 -> 12816.8 | M21: =+M22 -> 12816.8
D22: 1236 - 32006 | E22: Հանրակրթական դպրոցների, մանկապարտեզների և կրթահամալիրների գույքով և տեխնիկայով ապահովում | J22: =+'Հավելված N 1'!G35 -> 12816.8 | K22: =+'Հավելված N 1'!H35 -> 12816.8 | L22: =+'Հավելված N 1'!I35 -> 12816.8 | M22: =+'Հավելված N 1'!J35 -> 12816.8
F23: Կրթական ժամանակակից նորմերին և կրթական չափորոշիչներին համապատասխան ուսուցման ծրագրերն իրականացնելու նպատակով հանրակրթական և նախադպրոցական հաստատությունների համար գույքի և տեխնիկայի ձեռքբերում
G24: Այլ պետական կազմակերպությունների կողմից օգտագործվող ոչ ֆինանսական ակտիվների հետ գործառնություններ
H25: Ակտիվն օգտագործող կազմակերպությունների անվանումները` Հանրակրթական դպրոցներ, մանկապարտեզներ և կրթահամալիրներ
I26: Սուբվենցիոն ծրագրերի շրջանակներում կառուցվող(ած), վերակառուցվող(ած) և հիմնանորոգվող(ած) մանկապարտեզների թիվը, որոնք ապահովվում են գույքով, հատ | J26: 4 | K26: 4 | L26: 4 | M26: 4
I27: «Մոդուլային» տիպի 144 տեղ հզորությամբ կառուցվող(ած) մսուր–մանկապարտեզների թիվը, որոնք ապահովվում են գույքով, հատ | J27: 1 | K27: 1 | L27: 1 | M27: 1
A29: ՀՀ ԱՐԱՐԱՏԻ ՄԱՐԶՊԵՏԻ ԱՇԽԱՏԱԿԱԶՄ | J29: =+J30 -> 7771.2 | K29: =+K30 -> 7771.2 | L29: =+L30 -> 7771.2 | M29: =+M30 -> 7771.2
B30: 1236 | C30: Հանրակրթական և նախադպրոցական հաստատությունների հիմնում, կառուցում, բարելավում | J30: =+J31 -> 7771.2 | K30: =+K31 -> 7771.2 | L30: =+L31 -> 7771.2 | M30: =+M31 -> 7771.2
D31: 1236 - 32006 | E31: Հանրակրթական դպրոցների, մանկապարտեզների և կրթահամալիրների գույքով և տեխնիկայով ապահովում | J31: =+'Հավելված N 1'!G42 -> 7771.2 | K31: =+'Հավելված N 1'!H42 -> 7771.2 | L31: =+'Հավելված N 1'!I42 -> 7771.2 | M31: =+'Հավելված N 1'!J42 -> 7771.2
F32: Կրթական ժամանակակից նորմերին և կրթական չափորոշիչներին համապատասխան ուսուցման ծրագրերն իրականացնելու նպատակով հանրակրթական և նախադպրոցական հաստատությունների համար գույքի և տեխնիկայի ձեռքբերում
G33: Այլ պետական կազմակերպությունների կողմից օգտագործվող ոչ ֆինանսական ակտիվների հետ գործառնություններ
H34: Ակտիվն օգտագործող կազմակերպությունների անվանումները` Հանրակրթական դպրոցներ, մանկապարտեզներ և կրթահամալիրներ
I35: Սուբվենցիոն ծրագրերի շրջանակներում կառուցվող(ած), վերակառուցվող(ած) և հիմնանորոգվող(ած) մանկապարտեզների թիվը, որոնք ապահովվում են գույքով, հատ | J35: 4 | K35: 4 | L35: 4 | M35: 4
A37: ՀՀ ԱՐՄԱՎԻՐԻ ՄԱՐԶՊԵՏԻ ԱՇԽԱՏԱԿԱԶՄ | J37: =+J38 -> 36245.3 | K37: =+K38 -> 36245.3 | L37: =+L38 -> 36245.3 | M37: =+M38 -> 36245.3
B38: 1236 | C38: Հանրակրթական և նախադպրոցական հաստատությունների հիմնում, կառուցում, բարելավում | J38: =+J39 -> 36245.3 | K38: =+K39 -> 36245.3 | L38: =+L39 -> 36245.3 | M38: =+M39 -> 36245.3
D39: 1236 - 32006 | E39: Հանրակրթական դպրոցների, մանկապարտեզների և կրթահամալիրների գույքով և տեխնիկայով ապահովում | J39: =+'Հավելված N 1'!G49 -> 36245.3 | K39: =+'Հավելված N 1'!H49 -> 36245.3 | L39: =+'Հավելված N 1'!I49 -> 36245.3 | M39: =+'Հավելված N 1'!J49 -> 36245.3
F40: Կրթական ժամանակակից նորմերին և կրթական չափորոշիչներին համապատասխան ուսուցման ծրագրերն իրականացնելու նպատակով հանրակրթական և նախադպրոցական հաստատությունների համար գույքի և տեխնիկայի ձեռքբերում
G41: Այլ պետական կազմակերպությունների կողմից օգտագործվող ոչ ֆինանսական ակտիվների հետ գործառնություններ
H42: Ակտիվն օգտագործող կազմակերպությունների անվանումները` Հանրակրթական դպրոցներ, մանկապարտեզներ և կրթահամալիրներ
I43: Սուբվենցիոն ծրագրերի շրջանակներում կառուցվող(ած), վերակառուցվող(ած) և հիմնանորոգվող(ած) մանկապարտեզների թիվը, որոնք ապահովվում են գույքով, հատ | J43: 23 | K43: 23 | L43: 23 | M43: 23
I44: Անհետաձգելի ծրագրերի շրջանակներում կառուցվող(ած), վերակառուցվող(ած) և հիմնանորոգվող(ած) մանկապարտեզների թիվը, որոնք ապահովվում են գույքով, հատ | J44: 1 | K44: 1 | L44: 1 | M44: 1
I45: «Մոդուլային» տիպի 144 տեղ հզորությամբ կառուցվող(ած) մսուր–մանկապարտեզների թիվը, որոնք ապահովվում են գույքով, հատ | J45: 1 | K45: 1 | L45: 1 | M45: 1
I46: Բարեգործական ծրագրերով կառուցվող(ած), վերակառուցվող(ած) և հիմնանորոգվող(ած) մանկապարտեզների թիվը, որոնք ապահովվում են գույքով, հատ | J46: 2 | K46: 2 | L46: 2 | M46: 2
A48: ՀՀ ԳԵՂԱՐՔՈՒՆԻՔԻ ՄԱՐԶՊԵՏԻ ԱՇԽԱՏԱԿԱԶՄ | J48: =+J49 -> 18841.4 | K48: =+K49 -> 18841.4 | L48: =+L49 -> 18841.4 | M48: =+M49 -> 18841.4
B49: 1236 | C49: Հանրակրթական և նախադպրոցական հաստատությունների հիմնում, կառուցում, բարելավում | J49: =+J50 -> 18841.4 | K49: =+K50 -> 18841.4 | L49: =+L50 -> 18841.4 | M49: =+M50 -> 18841.4
D50: 1236 - 32006 | E50: Հանրակրթական դպրոցների, մանկապարտեզների և կրթահամալիրների գույքով և տեխնիկայով ապահովում | J50: =+'Հավելված N 1'!G56 -> 18841.4 | K50: =+'Հավելված N 1'!H56 -> 18841.4 | L50: =+'Հավելված N 1'!I56 -> 18841.4 | M50: =+'Հավելված N 1'!J56 -> 18841.4
F51: Կրթական ժամանակակից նորմերին և կրթական չափորոշիչներին համապատասխան ուսուցման ծրագրերն իրականացնելու նպատակով հանրակրթական և նախադպրոցական հաստատությունների համար գույքի և տեխնիկայի ձեռքբերում
G52: Այլ պետական կազմակերպությունների կողմից օգտագործվող ոչ ֆինանսական ակտիվների հետ գործառնություններ
H53: Ակտիվն օգտագործող կազմակերպությունների անվանումները` Հանրակրթական դպրոցներ, մանկապարտեզներ և կրթահամալիրներ
I54: Սուբվենցիոն ծրագրերի շրջանակներում կառուցվող(ած), վերակառուցվող(ած) և հիմնանորոգվող(ած) մանկապարտեզների թիվը, որոնք ապահովվում են գույքով, հատ | J54: 2 | K54: 2 | L54: 2 | M54: 2
I55: «Մոդուլային» տիպի 144 տեղ հզորությամբ կառուցվող(ած) մսուր–մանկապարտեզների թիվը, որոնք ապահովվում են գույքով, հատ | J55: 1 | K55: 1 | L55: 1 | M55: 1
A57: ՀՀ ԼՈՌՈՒ ՄԱՐԶՊԵՏԻ ԱՇԽԱՏԱԿԱԶՄ | J57: =+'Հավելված N 1'!G63 -> 14845.2 | K57: =+K58 -> 14845.2 | L57: =+L58 -> 14845.2 | M57: =+M58 -> 14845.2
B58: 1236 | C58: Հանրակրթական և նախադպրոցական հաստատությունների հիմնում, կառուցում, բարելավում | J58: =+J59 -> 14845.2 | K58: =+K59 -> 14845.2 | L58: =+L59 -> 14845.2 | M58: =+M59 -> 14845.2
D59: 1236 - 32006 | E59: Հանրակրթական դպրոցների, մանկապարտեզների և կրթահամալիրների գույքով և տեխնիկայով ապահովում | J59: =+'Հավելված N 1'!G68 -> 14845.2 | K59: =+'Հավելված N 1'!H68 -> 14845.2 | L59: =+'Հավելված N 1'!I68 -> 14845.2 | M59: =+'Հավելված N 1'!J68 -> 14845.2
F60: Կրթական ժամանակակից նորմերին և կրթական չափորոշիչներին համապատասխան ուսուցման ծրագրերն իրականացնելու նպատակով հանրակրթական և նախադպրոցական հաստատությունների համար գույքի և տեխնիկայի ձեռքբերում
G61: Այլ պետական կազմակերպությունների կողմից օգտագործվող ոչ ֆինանսական ակտիվների հետ գործառնություններ
H62: Ակտիվն օգտագործող կազմակերպությունների անվանումները` Հանրակրթական դպրոցներ, մանկապարտեզներ և կրթահամալիրներ
I63: Սուբվենցիոն ծրագրերի շրջանակներում կառուցվող(ած), վերակառուցվող(ած) և հիմնանորոգվող(ած) մանկապարտեզների թիվը, որոնք ապահովվում են գույքով, հատ | J63: 2 | K63: 2 | L63: 2 | M63: 2
I64: «Մոդուլային» տիպի 144 տեղ հզորությամբ կառուցվող(ած) մսուր–մանկապարտեզների թիվը, որոնք ապահովվում են գույքով, հատ | J64: 1 | K64: 1 | L64: 1 | M64: 1
A66: ՀՀ ԿՈՏԱՅՔԻ ՄԱՐԶՊԵՏԻ ԱՇԽԱՏԱԿԱԶՄ | J66: =+'Հավելված N 1'!G75 -> 3183.6 | K66: =+K67 -> 3183.6 | L66: =+L67 -> 3183.6 | M66: =+M67 -> 3183.6
B67: 1236 | C67: Հանրակրթական և նախադպրոցական հաստատությունների հիմնում, կառուցում, բարելավում | J67: =+J68 -> 3183.6 | K67: =+K68 -> 3183.6 | L67: =+L68 -> 3183.6 | M67: =+M68 -> 3183.6
D68: 1236 - 32006 | E68: Հանրակրթական դպրոցների, մանկապարտեզների և կրթահամալիրների գույքով և տեխնիկայով ապահովում | J68: =+'Հավելված N 1'!G70 -> 3183.6 | K68: =+'Հավելված N 1'!H70 -> 3183.6 | L68: =+'Հավելված N 1'!I70 -> 3183.6 | M68: =+'Հավելված N 1'!J70 -> 3183.6
F69: Կրթական ժամանակակից նորմերին և կրթական չափորոշիչներին համապատասխան ուսուցման ծրագրերն իրականացնելու նպատակով հանրակրթական և նախադպրոցական հաստատությունների համար գույքի և տեխնիկայի ձեռքբերում
G70: Այլ պետական կազմակերպությունների կողմից օգտագործվող ոչ ֆինանսական ակտիվների հետ գործառնություններ
H71: Ակտիվն օգտագործող կազմակերպությունների անվանումները` Հանրակրթական դպրոցներ, մանկապարտեզներ և կրթահամալիրներ
I72: Սուբվենցիոն ծրագրերի շրջանակներում կառուցվող(ած), վերակառուցվող(ած) և հիմնանորոգվող(ած) մանկապարտեզների թիվը, որոնք ապահովվում են գույքով, հատ | J72: 9 | K72: 9 | L72: 9 | M72: 9
A74: ՀՀ ՇԻՐԱԿԻ ՄԱՐԶՊԵՏԻ ԱՇԽԱՏԱԿԱԶՄ | J74: =+J75 -> 145739.9 | K74: =+K75 -> 145739.9 | L74: =+L75 -> 145739.9 | M74: =+M75 -> 145739.9
B75: 1236 | C75: Հանրակրթական և նախադպրոցական հաստատությունների հիմնում, կառուցում, բարելավում | J75: =+J76 -> 145739.9 | K75: =+K76 -> 145739.9 | L75: =+L76 -> 145739.9 | M75: =+M76 -> 145739.9
D76: 1236 - 32006 | E76: Հանրակրթական դպրոցների, մանկապարտեզների և կրթահամալիրների գույքով և տեխնիկայով ապահովում | J76: =+'Հավելված N 1'!G82 -> 145739.9 | K76: =+'Հավելված N 1'!H82 -> 145739.9 | L76: =+'Հավելված N 1'!I82 -> 145739.9 | M76: =+'Հավելված N 1'!J82 -> 145739.9
F77: Կրթական ժամանակակից նորմերին և կրթական չափորոշիչներին համապատասխան ուսուցման ծրագրերն իրականացնելու նպատակով հանրակրթական և նախադպրոցական հաստատությունների համար գույքի և տեխնիկայի ձեռքբերում
G78: Այլ պետական կազմակերպությունների կողմից օգտագործվող ոչ ֆինանսական ակտիվների հետ գործառնություններ
H79: Ակտիվն օգտագործող կազմակերպությունների անվանումները` Հանրակրթական դպրոցներ, մանկապարտեզներ և կրթահամալիրներ
I80: Սուբվենցիոն ծրագրերի շրջանակներում կառուցվող(ած), վերակառուցվող(ած) և հիմնանորոգվող(ած) մանկապարտեզների թիվը, որոնք ապահովվում են գույքով, հատ | J80: 13 | K80: 13 | L80: 13 | M80: 13
I81: «Սոցիալական ներդրումների և տեղական զարգացման» ծրագրի շրջանակներում կառուցվող(ած), վերակառուցվող(ած) և հիմնանորոգվող(ած) մանկապարտեզների թիվը, որոնք ապահովվում են գույքով, հատ | J81: 5 | K81: 5 | L81: 5 | M81: 5
I82: Անհետաձգելի ծրագրերի շրջանակներում կառուցվող(ած), վերակառուցվող(ած) և հիմնանորոգվող(ած) մանկապարտեզների թիվը, որոնք ապահովվում են գույքով, հատ | J82: 2 | K82: 2 | L82: 2 | M82: 2
A84: ՀՀ ՍՅՈՒՆԻՔԻ ՄԱՐԶՊԵՏԻ ԱՇԽԱՏԱԿԱԶՄ | J84: =+J85 -> 3828.7 | K84: =+K85 -> 3828.7 | L84: =+L85 -> 3828.7 | M84: =+M85 -> 3828.7
B85: 1236 | C85: Հանրակրթական և նախադպրոցական հաստատությունների հիմնում, կառուցում, բարելավում | J85: =+J86 -> 3828.7 | K85: =+K86 -> 3828.7 | L85: =+L86 -> 3828.7 | M85: =+M86 -> 3828.7
D86: 1236 - 32006 | E86: Հանրակրթական դպրոցների, մանկապարտեզների և կրթահամալիրների գույքով և տեխնիկայով ապահովում | J86: =+'Հավելված N 1'!G84 -> 3828.7 | K86: =+'Հավելված N 1'!H84 -> 3828.7 | L86: =+'Հավելված N 1'!I84 -> 3828.7 | M86: =+'Հավելված N 1'!J84 -> 3828.7
F87: Կրթական ժամանակակից նորմերին և կրթական չափորոշիչներին համապատասխան ուսուցման ծրագրերն իրականացնելու նպատակով հանրակրթական և նախադպրոցական հաստատությունների համար գույքի և տեխնիկայի ձեռքբերում
G88: Այլ պետական կազմակերպությունների կողմից օգտագործվող ոչ ֆինանսական ակտիվների հետ գործառնություններ
H89: Ակտիվն օգտագործող կազմակերպությունների անվանումները` Հանրակրթական դպրոցներ, մանկապարտեզներ և կրթահամալիրներ
I90: Սուբվենցիոն ծրագրերի շրջանակներում կառուցվող(ած), վերակառուցվող(ած) և հիմնանորոգվող(ած) մանկապարտեզների թիվը, որոնք ապահովվում են գույքով, հատ | J90: 3 | K90: 3 | L90: 3 | M90: 3
A92: ՀՀ ՏԱՎՈՒՇԻ ՄԱՐԶՊԵՏԻ ԱՇԽԱՏԱԿԱԶՄ | J92: =+J93 -> 24689 | K92: =+K93 -> 24689 | L92: =+L93 -> 24689 | M92: =+M93 -> 24689
B93: 1236 | C93: Հանրակրթական և նախադպրոցական հաստատությունների հիմնում, կառուցում, բարելավում | J93: =+J94 -> 24689 | K93: =+K94 -> 24689 | L93: =+L94 -> 24689 | M93: =+M94 -> 24689
D94: 1236 - 32006 | E94: Հանրակրթական դպրոցների, մանկապարտեզների և կրթահամալիրների գույքով և տեխնիկայով ապահովում | J94: =+'Հավելված N 1'!G91 -> 24689 | K94: =+'Հավելված N 1'!H91 -> 24689 | L94: =+'Հավելված N 1'!I91 -> 24689 | M94: =+'Հավելված N 1'!J91 -> 24689
F95: Կրթական ժամանակակից նորմերին և կրթական չափորոշիչներին համապատասխան ուսուցման ծրագրերն իրականացնելու նպատակով հանրակրթական և նախադպրոցական հաստատությունների համար գույքի և տեխնիկայի ձեռքբերում
G96: Այլ պետական կազմակերպությունների կողմից օգտագործվող ոչ ֆինանսական ակտիվների հետ գործառնություններ
H97: Ակտիվն օգտագործող կազմակերպությունների անվանումները` Հանրակրթական դպրոցներ, մանկապարտեզներ և կրթահամալիրներ
I98: «Սոցիալական ներդրումների և տեղական զարգացման» ծրագրի շրջանակներում կառուցվող(ած), վերակառուցվող(ած) և հիմնանորոգվող(ած) մանկապարտեզների թիվը, որոնք ապահովվում են գույքով, հատ | J98: 1 | K98: 1 | L98: 1 | M98: 1
I99: Բարեգործական ծրագրերով կառուցվող(ած), վերակառուցվող(ած) և հիմնանորոգվող(ած) մանկապարտեզների թիվը, որոնք ապահովվում են գույքով, հատ | J99: 5 | K99: 5 | L99: 5 | M99: 5

Sheet Հավելված N 6
H1: Հավելված N 6
H2: ՀՀ կառավարության 2025 թվականի
H3: ______________ ի ___Ն որոշման
A6: ՀԱՅԱՍՏԱՆԻ ՀԱՆՐԱՊԵՏՈՒԹՅԱՆ ԿԱՌԱՎԱՐՈՒԹՅԱՆ 2024 ԹՎԱԿԱՆԻ ԴԵԿՏԵՄԲԵՐԻ 27-Ի N 2060-Ն N 10 ՀԱՎԵԼՎԱԾՈՒՄ ԿԱՏԱՐՎՈՂ ՓՈՓՈԽՈՒԹՅՈՒՆՆԵՐԸ
A10: Կոդը | B10: Անվանումը | E10: Գնման ձևը | F10: Չափման միավորը | G10: Միավորի գինը | H10: Ցուցանիշների փոփոխությունը (նվազեցումները նշված են փակագծերում)
H11: Քանակը | I11: Գումարը (հազար դրամ)
A12: 1 | B12: 2 | E12: 3 | F12: 4 | G12: 5 | H12: 6 | I12: 7
A13: ՀՀ կրթության, գիտության, մշակույթի և սպորտի նախարարություն | I13: =+I14 -> -267961.1
A14: Բաժին N 09 | B14: Խումբ N 02 | C14: Դաս N 01 | D14: Հիմնական ընդհանուր կրթություն | I14: =+I15 -> -267961.1
A15: 1236-32006 | B15: Հանրակրթական դպրոցների, մանկապարտեզների և կրթահամալիրների գույքով և տեխնիկայով ապահովում | I15: =+I16 -> -267961.1
B16: ՄԱՍ I. ԱՊՐԱՆՔՆԵՐ | I16: =SUM(I17:I27) -> -267961.1
A17: 39121600-10 | B17: խոհանոցային կահույք | E17: ԷԱՃ | F17: լրակազմ | G17: 40247000 | H17: -1 | I17: =+ROUNDDOWN(H17*G17/1000,1) -> -40247
A18: 39121600-2 | B18: խոհանոցային կահույք | E18: ԷԱՃ | F18: լրակազմ | G18: 40247000 | H18: -1 | I18: =+ROUNDDOWN(H18*G18/1000,1) -> -40247
A19: 39121600-35 | B19: խոհանոցային կահույք | E19: ԷԱՃ | F19: լրակազմ | G19: 1329555 | H19: -1 | I19: =+ROUNDDOWN(H19*G19/1000,1) -> -1329.5
A20: 39161110-13 | B20: դպրոցական կահույք | E20: ԷԱՃ | F20: լրակազմ | G20: 47315000 | H20: -1 | I20: =+ROUNDDOWN(H20*G20/1000,1) -> -47315
A21: 39161110-15 | B21: դպրոցական կահույք | E21: ԷԱՃ | F21: լրակազմ | G21: 20014400 | H21: -1 | I21: =+ROUNDDOWN(H21*G21/1000,1) -> -20014.4
A22: 39121600-12 | B22: խոհանոցային կահույք | E22: ԷԱՃ | F22: լրակազմ | G22: 27037000 | H22: -1 | I22: =+ROUNDDOWN(H22*G22/1000,1) -> -27037
A23: 39121600-13 | B23: խոհանոցային կահույք | E23: ԷԱՃ | F23: լրակազմ | G23: 27037000 | H23: -1 | I23: =+ROUNDDOWN(H23*G23/1000,1) -> -27037
A24: 39121600-3 | B24: խոհանոցային կահույք | E24: ԷԱՃ | F24: լրակազմ | G24: 27037000 | H24: -1 | I24: =+ROUNDDOWN(H24*G24/1000,1) -> -27037
A25: 39121600-7 | B25: խոհանոցային կահույք | E25: ԷԱՃ | F25: լրակազմ | G25: 27037000 | H25: -1 | I25: =+ROUNDDOWN(H25*G25/1000,1) -> -27037
A26: 39121600-23 | B26: խոհանոցային կահույք | E26: ԷԱՃ | F26: լրակազմ | G26: 9800592 | H26: -1 | I26: =+ROUNDDOWN(H26*G26/1000,1) -> -9800.5
A27: 39121600-24 | B27: խոհանոցային կահույք | E27: ԷԱՃ | F27: լրակազմ | I27: -859.7
