Workbook
Name a: #REF!
Name a: #REF!
Name AgencyCode: #REF!
Name AgencyCode: #REF!
Name AgencyCode: #REF!
Name AgencyCode: #REF!
Name AgencyCode: #REF!
Name AgencyName: #REF!
Name AgencyName: #REF!
Name AgencyName: #REF!
Name åû: #REF!
Name davit: #REF!
Name davit: #REF!
Name Functional1: #REF!
Name Functional1: #REF!
Name Functional1: #REF!
Name ggg: #REF!
Name ggg: #REF!
Name mas: #REF!
Name mass: #REF!
Name PANature: #REF!
Name PANature: #REF!
Name PANature: #REF!
Name PAType: #REF!
Name PAType: #REF!
Name PAType: #REF!
Name Performance2: #REF!
Name Performance2: #REF!
Name Performance2: #REF!
Name PerformanceType: #REF!
Name PerformanceType: #REF!
Name PerformanceType: #REF!
Name x: #REF!
Name Հավելված: #REF!
Name Հավելված: #REF!
Name Հավելված10: #REF!
Name Հավելված11: #REF!
Name Հավելված20: #REF!
Name Հավելված9: #REF!
Name Մաս: #REF!
Name Մաս: #REF!
Name շախմատիստ: #REF!
Name շախմատիստ: #REF!

Sheet Հավելված N 1
F1: Հավելված N 1
F2: ՀՀ կառավարության 2025 թվականի
F3: ______________ ի ___Ն որոշման
A7: ՀԱՅԱՍՏԱՆԻ ՀԱՆՐԱՊԵՏՈՒԹՅԱՆ ԿԱՌԱՎԱՐՈՒԹՅԱՆ 2024 ԹՎԱԿԱՆԻ ԴԵԿՏԵՄԲԵՐԻ 27-Ի N 2060-Ն ՈՐՈՇՄԱՆ N 3 ԵՎ N 4 ՀԱՎԵԼՎԱԾՆԵՐՈՒՄ ԿԱՏԱՐՎՈՂ ՓՈՓՈԽՈՒԹՅՈՒՆՆԵՐԸ ԵՎ ԼՐԱՑՈՒՄՆԵՐԸ
J10: հազ. դրամներով
A11: Գործառական դասիչը | D11: Ծրագրային դասիչը | F11: Բյուջետային հատկացումների գլխավոր կարգադրիչների, ծրագրերի, միջոցառումների և միջոցառումները կատարող պետական մարմինների անվանումները | G11: Ցուցանիշների փոփոխությունը (ավելացումները նշված են դրական նշանով, իսկ նվազեցումները փակագծերում)
A12: Բաժին | B12: Խումբ | C12: Դաս | D12: Ծրագիր | E12: Միջոցառում | G12: Առաջին եռամսյակ | H12: Առաջին կիսամյակ | I12: Ինն ամիս | J12: Տարի
F13: ԸՆԴԱՄԵՆԸ | G13: =+G15 -> 0 | H13: =+H15 -> 0 | I13: =+I15 -> 0 | J13: =+J15 -> 0
F14: այդ թվում՝
F15: ՀՀ ԿՐԹՈՒԹՅԱՆ, ԳԻՏՈՒԹՅԱՆ, ՄՇԱԿՈՒՅԹԻ ԵՎ ՍՊՈՐՏԻ ՆԱԽԱՐԱՐՈՒԹՅՈՒՆ | G15: =+G16 -> 0 | H15: =+H16 -> 0 | I15: =+I16 -> 0 | J15: =+J16 -> 0
A16: 09 | F16: ԿՐԹՈՒԹՅՈՒՆ | G16: =+G18 -> 0 | H16: =+H18 -> 0 | I16: =+I18 -> 0 | J16: =+J18 -> 0
F17: այդ թվում`
B18: 02 | F18: Միջնակարգ ընդհանուր կրթություն | G18: =+G20 -> 0 | H18: =+H20 -> 0 | I18: =+I20 -> 0 | J18: =+J20 -> 0
F19: այդ թվում`
F20: Հիմնական ընդհանուր կրթություն | G20: =+G22 -> 0 | H20: =+H22 -> 0 | I20: =+I22 -> 0 | J20: =+J22 -> 0
C21: 01 | F21: այդ թվում`
F22: ՀՀ կրթության, գիտության, մշակույթի և սպորտի նախարարություն | G22: =+G24 -> 0 | H22: =+H24 -> 0 | I22: =+I24 -> 0 | J22: =+J24 -> 0
F23: այդ թվում`
D24: 1236 | E24: Հանրակրթական և նախադպրոցական հաստատությունների հիմնում, կառուցում, բարելավում | G24: =+G26 -> 0 | H24: =+H26 -> 0 | I24: =+I26 -> 0 | J24: =+J26 -> 0
F25: այդ թվում`
E26: 32006 | F26: Հանրակրթական դպրոցների, մանկապարտեզների և կրթահամալիրների գույքով և տեխնիկայով ապահովում | G26: =+ROUND(G28+G35+G42+G49+G56+G63+G70+G77+G84+G91,1) -> 0 | H26: =+ROUND(H28+H35+H42+H49+H56+H63+H70+H77+H84+H91,1) -> 0 | I26: =+ROUND(I28+I35+I42+I49+I56+I63+I70+I77+I84+I91,1) -> 0 | J26: =+ROUND(J28+J35+J42+J49+J56+J63+J70+J77+J84+J91,1) -> 0
F27: այդ թվում` ըստ կատարողների
F28: ՀՀ կրթության, գիտության, մշակույթի և սպորտի նախարարություն | G28: =+G30 -> -267961.1 | H28: =+H30 -> -267961.1 | I28: =+I30 -> -267961.1 | J28: =+J30 -> -267961.1
F29: այդ թվում՝ բյուջետային ծախսերի տնտեսագիտական դասակարգման հոդվածներ
F30: ԸՆԴԱՄԵՆԸ ԾԱԽՍԵՐ | G30: =G31 -> -267961.1 | H30: =H31 -> -267961.1 | I30: =I31 -> -267961.1 | J30: =J31 -> -267961.1
F31: ՈՉ ՖԻՆԱՆՍԱԿԱՆ ԱԿՏԻՎՆԵՐԻ ԳԾՈՎ ԾԱԽՍԵՐ | G31: =+G32 -> -267961.1 | H31: =+H32 -> -267961.1 | I31: =+I32 -> -267961.1 | J31: =+J32 -> -267961.1
F32: ՀԻՄՆԱԿԱՆ ՄԻՋՈՑՆԵՐ | G32: =+G33 -> -267961.1 | H32: =+H33 -> -267961.1 | I32: =+I33 -> -267961.1 | J32: =+J33 -> -267961.1
F33: ՄԵՔԵՆԱՆԵՐ ԵՎ ՍԱՐՔԱՎՈՐՈՒՄՆԵՐ | G33: =+G34 -> -267961.1 | H33: =+H34 -> -267961.1 | I33: =+I34 -> -267961.1 | J33: =+J34 -> -267961.1
F34: - Այլ մեքենաներ և սարքավորումներ | G34: =+'Հավելված N 3'!E15 -> -267961.1 | H34: =+'Հավելված N 3'!F15 -> -267961.1 | I34: =+'Հավելված N 3'!G15 -> -267961.1 | J34: =+'Հավելված N 3'!H15 -> -267961.1
F35: ՀՀ Արագածոտնի մարզպետի աշխատակազմ | G35: =+G37 -> 12816.8 | H35: =+H37 -> 12816.8 | I35: =+I37 -> 12816.8 | J35: =+J37 -> 12816.8
F36: այդ թվում՝ բյուջետային ծախսերի տնտեսագիտական դասակարգման հոդվածներ
F37: ԸՆԴԱՄԵՆԸ ԾԱԽՍԵՐ | G37: =G38 -> 12816.8 | H37: =H38 -> 12816.8 | I37: =I38 -> 12816.8 | J37: =J38 -> 12816.8
F38: ՈՉ ՖԻՆԱՆՍԱԿԱՆ ԱԿՏԻՎՆԵՐԻ ԳԾՈՎ ԾԱԽՍԵՐ | G38: =+G39 -> 12816.8 | H38: =+H39 -> 12816.8 | I38: =+I39 -> 12816.8 | J38: =+J39 -> 12816.8
F39: ՀԻՄՆԱԿԱՆ ՄԻՋՈՑՆԵՐ | G39: =+G40 -> 12816.8 | H39: =+H40 -> 12816.8 | I39: =+I40 -> 12816.8 | J39: =+J40 -> 12816.8
F40: ՄԵՔԵՆԱՆԵՐ ԵՎ ՍԱՐՔԱՎՈՐՈՒՄՆԵՐ | G40: =+G41 -> 12816.8 | H40: =+H41 -> 12816.8 | I40: =+I41 -> 12816.8 | J40: =+J41 -> 12816.8
F41: - Այլ մեքենաներ և սարքավորումներ | G41: =+'Հավելված N 3'!E16 -> 12816.8 | H41: =+'Հավելված N 3'!F16 -> 12816.8 | I41: =+'Հավելված N 3'!G16 -> 12816.8 | J41: =+'Հավելված N 3'!H16 -> 12816.8
F42: ՀՀ Արարատի մարզպետի աշխատակազմ | G42: =+G44 -> 7771.2 | H42: =+H44 -> 7771.2 | I42: =+I44 -> 7771.2 | J42: =+J44 -> 7771.2
F43: այդ թվում՝ բյուջետային ծախսերի տնտեսագիտական դասակարգման հոդվածներ
F44: ԸՆԴԱՄԵՆԸ ԾԱԽՍԵՐ | G44: =G45 -> 7771.2 | H44: =H45 -> 7771.2 | I44: =I45 -> 7771.2 | J44: =J45 -> 7771.2
F45: ՈՉ ՖԻՆԱՆՍԱԿԱՆ ԱԿՏԻՎՆԵՐԻ ԳԾՈՎ ԾԱԽՍԵՐ | G45: =+G46 -> 7771.2 | H45: =+H46 -> 7771.2 | I45: =+I46 -> 7771.2 | J45: =+J46 -> 7771.2
...

Sheet Հավելված N 2
F1: Հավելված N 2
F2: ՀՀ կառավարության 2025 թվականի
F3: ______________ ի ___Ն որոշման
A5: «ՀԱՅԱUՏԱՆԻ ՀԱՆՐԱՊԵՏՈՒԹՅԱՆ 2025 ԹՎԱԿԱՆԻ ՊԵՏԱԿԱՆ ԲՅՈՒՋԵԻ ՄԱUԻՆ» ՀԱՅԱUՏԱՆԻ ՀԱՆՐԱՊԵՏՈՒԹՅԱՆ OՐԵՆՔԻ N 1 ՀԱՎԵԼՎԱԾԻ N 3 ԱՂՅՈՒՍԱԿՈՒՄ ԿԱՏԱՐՎՈՂ ՓՈՓՈԽՈՒԹՅՈՒՆԸ ԵՎ ԼՐԱՑՈՒՄՆԵՐԸ
G8: հազ. դրամներով
A9: Ծրագրային դասիչ | C9: Բյուջետային գլխավոր կարգադրիչների, ծրագրերի, միջոցառումների, միջոցառումները կատարող պետական մարմինների և ուղղությունների անվանումները | D9: Ընդամենը | E9: Ցուցանիշների փոփոխությունը (ավելացումները նշված են դրական նշանով, իսկ նվազեցումները՝ փակագծերում)
A10: Ծրագիր | B10: Միջոցառում | E10: Կառուցման աշխատանքներ | F10: Վերակառուցման, վերանորոգման և վերականգնման աշխատանքներ | G10: Նախագծահե- տազոտական, գեոդեզիա- քարտեզագրա- կան աշխա- տանքներ | H10: Ոչ ֆինանսական այլ ակտիվների ձեռքբերում
C11: ԸՆԴԱՄԵՆԸ | D11: =SUM(E11:H11) -> 0 | E11: =+E13 -> 0 | F11: =+F13 -> 0 | G11: =+G13 -> 0 | H11: =+H13 -> 0
C12: այդ թվում՝
C13: ՀՀ ԿՐԹՈՒԹՅԱՆ, ԳԻՏՈՒԹՅԱՆ, ՄՇԱԿՈՒՅԹԻ ԵՎ ՍՊՈՐՏԻ ՆԱԽԱՐԱՐՈՒԹՅՈՒՆ | D13: =SUM(E13:H13) -> 0 | E13: =+E15 -> 0 | F13: =+F15 -> 0 | G13: =+G15 -> 0 | H13: =+H15 -> 0
C14: այդ թվում`
A15: 1236 | B15: 32006 | C15: Հանրակրթական դպրոցների, մանկապարտեզների և կրթահամալիրների գույքով և տեխնիկայով ապահովում | D15: =SUM(E15:H15) -> 0 | E15: =+ROUND(E17+E18+E24+E29+E57+E61+E65+E75+E96+E100,1) -> 0 | F15: =+ROUND(F17+F18+F24+F29+F57+F61+F65+F75+F96+F100,1) -> 0 | G15: =+ROUND(G17+G18+G24+G29+G57+G61+G65+G75+G96+G100,1) -> 0 | H15: =+ROUND(H17+H18+H24+H29+H57+H61+H65+H75+H96+H100,1) -> 0
C16: այդ թվում`
C17: Հանրակրթական դպրոցների, մանկապարտեզների և կրթահամալիրների գույքով և տեխնիկայով ապահովում | D17: =SUM(E17:H17) -> -267961.1 | E17: =-E18-E24-E29-E57-E61-E65-E75-E96 -> 0 | F17: =-F18-F24-F29-F57-F61-F65-F75-F96 -> 0 | G17: =-G18-G24-G29-G57-G61-G65-G75-G96 -> 0 | H17: =-H18-H24-H29-H57-H61-H65-H75-H96-H100 -> -267961.1
C18: ՀՀ Արագածոտնի մարզ | D18: =SUM(E18:H18) -> 12816.8 | E18: =SUM(E19:E23) -> 0 | F18: =SUM(F19:F23) -> 0 | G18: =SUM(G19:G23) -> 0 | H18: =SUM(H19:H23) -> 12816.8
C19: Արտաշավան բնակավայրի «Կակաչ» մանկապարտեզ | D19: =+E19+F19+G19+H19 -> 3640.8 | H19: 3640.8
C20: Ապարան համայնքի Շենավան գյուղի մանկապարտեզ | D20: =+E20+F20+G20+H20 -> 1462.8 | H20: 1462.8
C21: Ապարան համայնքի Արագածի Լիա Տեր–Ղևոնդյանի անվան մանկապարտեզ | D21: =+E21+F21+G21+H21 -> 1523.3 | H21: 1523.3
C22: Ալագյազ համայնքի «Մոդուլային» տիպի 144 տեղ հզորությամբ մսուր-մանկապարտեզ | D22: =+E22+F22+G22+H22 -> 2249.4 | H22: 2249.4
C23: Աշտարակի թիվ 4 «Հասմիկ» մանկապարտեզ | D23: =+E23+F23+G23+H23 -> 3940.5 | H23: 3940.5
C24: ՀՀ Արարատի մարզ | D24: =SUM(E24:H24) -> 7771.2 | E24: =SUM(E25:E28) -> 0 | F24: =SUM(F25:F28) -> 0 | G24: =SUM(G25:G28) -> 0 | H24: =SUM(H25:H28) -> 7771.2
C25: Մասիս համայնքի Մասիս քաղաքի թիվ 3 մսուր մանկապարտեզ | D25: =+E25+F25+G25+H25 -> 1735 | H25: 1735
C26: Մասիս համայնքի Մասիս քաղաքի թիվ 1 մսուր մանկապարտեզ | D26: =+E26+F26+G26+H26 -> 725.1 | H26: 725.1
C27: Մասիս համայնքի Դաշտավան գյուղի մանկապարտեզ | D27: =+E27+F27+G27+H27 -> 1079.2 | H27: 1079.2
C28: Արարատ համայնքի Ավշար գյուղի մանկապարտեզ | D28: =+E28+F28+G28+H28 -> 4231.9 | H28: 4231.9
C29: ՀՀ Արմավիրի մարզ | D29: =SUM(E29:H29) -> 36245.3 | E29: =SUM(E30:E56) -> 0 | F29: =SUM(F30:F56) -> 0 | G29: =SUM(G30:G56) -> 0 | H29: =SUM(H30:H56) -> 36245.3
C30: Արաքս համայնքի Խորոնք գյուղի մանկապարտեզ | D30: =+E30+F30+G30+H30 -> 1495.1 | H30: 1495.1
C31: Արաքս համայնքի Ջրառատ գյուղի մանկապարտեզ | D31: =+E31+F31+G31+H31 -> 1495.1 | H31: 1495.1
C32: Արաքս համայնքի Մեծամոր գյուղի մանկապարտեզ | D32: =+E32+F32+G32+H32 -> 1495.1 | H32: 1495.1
C33: Բաղրամյան համայնքի Հուշակերտ գյուղի մանկապարտեզ | D33: =+E33+F33+G33+H33 -> 1495.1 | H33: 1495.1
C34: Արմավիր համայնքի Սարդարապատ գյուղի մանկապարտեզ | D34: =+E34+F34+G34+H34 -> 1091.1 | H34: 1091.1
C35: Արմավիր համայնքի Արաքս գյուղի մանկապարտեզ | D35: =+E35+F35+G35+H35 -> 1096.8 | H35: 1096.8
C36: Մեծամոր համայնքի Ջանֆիդա գյուղի Վազգեն Սարգսյանի անվան մանկապարտեզ | D36: =+E36+F36+G36+H36 -> 1316.3 | H36: 1316.3
C37: Մեծամոր համայնքի Զարթոնք գյուղի մանկապարտեզ | D37: =+E37+F37+G37+H37 -> 1151.8 | H37: 1151.8
C38: Մեծամոր համայնքի Արևիկ գյուղի «Մոդուլային» տիպի 144 տեղ հզորությամբ մսուր-մանկապարտեզ | D38: =+E38+F38+G38+H38 -> 1146.1 | H38: 1146.1
C39: Վաղարշապատ համայնքի թիվ 3 Ծիծեռնակ մսուր-մանկապարտեզ | D39: =+E39+F39+G39+H39 -> 55 | H39: 55
C40: Արաքս համայնքի Գայ գյուղի մանկապարտեզ | D40: =+E40+F40+G40+H40 -> 655 | H40: 655
C41: Արաքս համայնքի Արաքս գյուղի մանկապարտեզ | D41: =+E41+F41+G41+H41 -> 1051 | H41: 1051
... C56: Փարաքար համայնքի Բաղրամյան գյուղի մանկապարտեզ | D56: =+E56+F56+G56+H56 -> 1396.1 | H56: 1396.1
C57: ՀՀ Գեղարքունիքի մարզ | D57: =SUM(E57:H57) -> 18841.4 | E57: =SUM(E58:E60) -> 0 | F57: =SUM(F58:F60) -> 0 | G57: =SUM(G58:G60) -> 0 | H57: =SUM(H58:H60) -> 18841.4
...

Sheet Հավելված N 3
G1: Հավելված N 3
F2: ՀՀ կառավարության 2025 թվականի
G3: ______________ ի ___Ն որոշման
B6: ՀԱՅԱՍՏԱՆԻ ՀԱՆՐԱՊԵՏՈՒԹՅԱՆ ԿԱՌԱՎԱՐՈՒԹՅԱՆ 2024 ԹՎԱԿԱՆԻ ԴԵԿՏԵՄԲԵՐԻ 27-Ի N 2060-Ն ՈՐՈՇՄԱՆ N 5 ՀԱՎԵԼՎԱԾԻ N 2 ԱՂՅՈՒՍԱԿՈՒՄ ԿԱՏԱՐՎՈՂ ՓՈՓՈԽՈՒԹՅՈՒՆԸ ԵՎ ԼՐԱՑՈՒՄՆԵՐԸ
H8: հազ. դրամներով
B9: Ծրագրային դասիչ | D9: Բյուջետային գլխավոր կարգադրիչների, ծրագրերի, միջոցառումների, միջոցառումները կատարող պետական մարմինների և ուղղությունների անվանումները | E9: Ցուցանիշների փոփոխությունը (ավելացումները նշված են դրական նշանով, իսկ նվազեցումները՝ փակագծերում)
B10: Ծրագիր | C10: Միջոցառում | E10: Առաջին եռամսյակ | F10: Առաջին կիսամյակ | G10: Ինն ամիս | H10: Տարի
D11: ՀՀ ԿՐԹՈՒԹՅԱՆ, ԳԻՏՈՒԹՅԱՆ, ՄՇԱԿՈՒՅԹԻ ԵՎ ՍՊՈՐՏԻ ՆԱԽԱՐԱՐՈՒԹՅՈՒՆ | E11: =+E13 -> 0 | F11: =+F13 -> 0 | G11: =+G13 -> 0 | H11: =+H13 -> 0
D12: այդ թվում՝
B13: 1236 | C13: 32006 | D13: Հանրակրթական դպրոցների, մանկապարտեզների և կրթահամալիրների գույքով և տեխնիկայով ապահովում | E13: =+ROUND(E15+E16+E24+E31+E61+E67+E73+E85+E108+E114,1) -> 0 | F13: =+ROUND(F15+F16+F24+F31+F61+F67+F73+F85+F108+F114,1) -> 0 | G13: =+ROUND(G15+G16+G24+G31+G61+G67+G73+G85+G108+G114,1) -> 0 | H13: =+ROUND(H15+H16+H24+H31+H61+H67+H73+H85+H108+H114,1) -> 0
D14: այդ թվում` ըստ կատարողների
D15: ՀՀ կրթության, գիտության, մշակույթի և սպորտի նախարարություն | E15: =+F15 -> -267961.1 | F15: =+G15 -> -267961.1 | G15: =+H15 -> -267961.1 | H15: =+'Հավելված N 2'!D17 -> -267961.1
D16: ՀՀ Արագածոտնի մարզպետի աշխատակազմ | E16: =+E18 -> 12816.8 | F16: =+F18 -> 12816.8 | G16: =+G18 -> 12816.8 | H16: =+H18 -> 12816.8
D17: այդ թվում՝ ըստ ուղղությունների
D18: ՀՀ Արագածոտնի մարզ | E18: =SUM(E19:E23) -> 12816.8 | F18: =SUM(F19:F23) -> 12816.8 | G18: =SUM(G19:G23) -> 12816.8 | H18: =SUM(H19:H23) -> 12816.8
D19: =+'Հավելված N 2'!C19 -> Արտաշավան բնակավայրի «Կակաչ» մանկապարտեզ | E19: =+H19 -> 3640.8 | F19: =+H19 -> 3640.8 | G19: =+H19 -> 3640.8 | H19: =+'Հավելված N 2'!D19 -> 3640.8
D20: =+'Հավելված N 2'!C20 -> Ապարան համայնքի Շենավան գյուղի մանկապարտեզ | E20: =+H20 -> 1462.8 | F20: =+H20 -> 1462.8 | G20: =+H20 -> 1462.8 | H20: =+'Հավելված N 2'!D20 -> 1462.8
D21: =+'Հավելված N 2'!C21 -> Ապարան համայնքի Արագածի Լիա Տեր–Ղևոնդյանի անվան մանկապարտեզ | E21: =+H21 -> 1523.3 | F21: =+H21 -> 1523.3 | G21: =+H21 -> 1523.3 | H21: =+'Հավելված N 2'!D21 -> 1523.3
D22: =+'Հավելված N 2'!C22 -> Ալագյազ համայնքի «Մոդուլային» տիպի 144 տեղ հզորությամբ մսուր-մանկապարտեզ | E22: =+H22 -> 2249.4 | F22: =+H22 -> 2249.4 | G22: =+H22 -> 2249.4 | H22: =+'Հավելված N 2'!D22 -> 2249.4
D23: =+'Հավելված N 2'!C23 -> Աշտարակի թիվ 4 «Հասմիկ» մանկապարտեզ | E23: =+H23 -> 3940.5 | F23: =+H23 -> 3940.5 | G23: =+H23 -> 3940.5 | H23: =+'Հավելված N 2'!D23 -> 3940.5
D24: ՀՀ Արարատի մարզպետի աշխատակազմ | E24: =+E26 -> 7771.2 | F24: =+F26 -> 7771.2 | G24: =+G26 -> 7771.2 | H24: =+H26 -> 7771.2
D25: այդ թվում՝ ըստ ուղղությունների
D26: ՀՀ Արարատի մարզ | E26: =SUM(E27:E30) -> 7771.2 | F26: =SUM(F27:F30) -> 7771.2 | G26: =SUM(G27:G30) -> 7771.2 | H26: =SUM(H27:H30) -> 7771.2
D27: =+'Հավելված N 2'!C25 -> Մասիս համայնքի Մասիս քաղաքի թիվ 3 մսուր մանկապարտեզ | E27: =+H27 -> 1735 | F27: =+H27 -> 1735 | G27: =+H27 -> 1735 | H27: =+'Հավելված N 2'!D25 -> 1735
D28: =+'Հավելված N 2'!C26 -> Մասիս համայնքի Մասիս քաղաքի թիվ 1 մսուր մանկապարտեզ | E28: =+H28 -> 725.1 | F28: =+H28 -> 725.1 | G28: =+H28 -> 725.1 | H28: =+'Հավելված N 2'!D26 -> 725.1
D29: =+'Հավելված N 2'!C27 -> Մասիս համայնքի Դաշտավան գյուղի մանկապարտեզ | E29: =+H29 -> 1079.2 | F29: =+H29 -> 1079.2 | G29: =+H29 -> 1079.2 | H29: =+'Հավելված N 2'!D27 -> 1079.2
D30: =+'Հավելված N 2'!C28 -> Արարատ համայնքի Ավշար գյուղի մանկապարտեզ | E30: =+H30 -> 4231.9 | F30: =+H30 -> 4231.9 | G30: =+H30 -> 4231.9 | H30: =+'Հավելված N 2'!D28 -> 4231.9
D31: ՀՀ Արմավիրի մարզպետի աշխատակազմ | E31: =+E33 -> 36245.3 | F31: =+F33 -> 36245.3 | G31: =+G33 -> 36245.3 | H31: =+H33 -> 36245.3
D32: այդ թվում՝ ըստ ուղղությունների
D33: ՀՀ Արմավիրի մարզ | E33: =SUM(E34:E60) -> 36245.3 | F33: =SUM(F34:F60) -> 36245.3 | G33: =SUM(G34:G60) -> 36245.3 | H33: =SUM(H34:H60) -> 36245.3
D34: =+'Հավելված N 2'!C30 -> Արաքս համայնքի Խորոնք գյուղի մանկապարտեզ | E34: =+H34 -> 1495.1 | F34: =+H34 -> 1495.1 | G34: =+H34 -> 1495.1 | H34: =+'Հավելված N 2'!D30 -> 1495.1
D35: =+'Հավելված N 2'!C31 -> Արաքս համայնքի Ջրառատ գյուղի մանկապարտեզ | E35: =+H35 -> 1495.1 | F35: =+H35 -> 1495.1 | G35: =+H35 -> 1495.1 | H35: =+'Հավելված N 2'!D31 -> 1495.1
D36: =+'Հավելված N 2'!C32 -> Արաքս համայնքի Մեծամոր գյուղի մանկապարտեզ | E36: =+H36 -> 1495.1 | F36: =+H36 -> 1495.1 | G36: =+H36 -> 1495.1 | H36: =+'Հավելված N 2'!D32 -> 1495.1
D37: =+'Հավելված N 2'!C33 -> Բաղրամյան համայնքի Հուշակերտ գյուղի մանկապարտեզ | E37: =+H37 -> 1495.1 | F37: =+H37 -> 1495.1 | G37: =+H37 -> 1495.1 | H37: =+'Հավելված N 2'!D33 -> 1495.1
D38: =+'Հավելված N 2'!C34 -> Արմավիր համայնքի Սարդարապատ գյուղի մանկապարտեզ | E38: =+H38 -> 1091.1 | F38: =+H38 -> 1091.1 | G38: =+H38 -> 1091.1 | H38: =+'Հավելված N 2'!D34 -> 1091.1
D39: =+'Հավելված N 2'!C35 -> Արմավիր համայնքի Արաքս գյուղի մանկապարտեզ | E39: =+H39 -> 1096.8 | F39: =+H39 -> 1096.8 | G39: =+H39 -> 1096.8 | H39: =+'Հավելված N 2'!D35 -> 1096.8
D40: =+'Հավելված N 2'!C36 -> Մեծամոր համայնքի Ջանֆիդա գյուղի Վազգեն Սարգսյանի անվան մանկապարտեզ | E40: =+H40 -> 1316.3 | F40: =+H40 -> 1316.3 | G40: =+H40 -> 1316.3 | H40: =+'Հավելված N 2'!D36 -> 1316.3
D41: =+'Հավելված N 2'!C37 -> Մեծամոր համայնքի Զարթոնք գյուղի մանկապարտեզ | E41: =+H41 -> 1151.8 | F41: =+H41 -> 1151.8 | G41: =+H41 -> 1151.8 | H41: =+'Հավելված N 2'!D37 -> 1151.8
D42: =+'Հավելված N 2'!C38 -> Մեծամոր համայնքի Արևիկ գյուղի «Մոդուլային» տիպի 144 տեղ հզորությամբ մսուր-մանկապարտեզ | E42: =+H42 -> 1146.1 | F42: =+H42 -> 1146.1 | G42: =+H42 -> 1146.1 | H42: =+'Հավելված N 2'!D38 -> 1146.1
D43: =+'Հավելված N 2'!C39 -> Վաղարշապատ համայնքի թիվ 3 Ծիծեռնակ մսուր-մանկապարտեզ | E43: =+H43 -> 55 | F43: =+H43 -> 55 | G43: =+H43 -> 55 | H43: =+'Հավելված N 2'!D39 -> 55
...

Sheet Հավելված N 4
K1: Հավելված N 5
K2: ՀՀ կառավարության 2025 թվականի
K3: ______________ ի ___Ն որոշման
A6: ՀԱՅԱՍՏԱՆԻ ՀԱՆՐԱՊԵՏՈՒԹՅԱՆ ԿԱՌԱՎԱՐՈՒԹՅԱՆ 2024 ԹՎԱԿԱՆԻ ԴԵԿՏԵՄԲԵՐԻ 27-Ի N 2060-Ն ՈՐՈՇՄԱՆ N 9 ՀԱՎԵԼՎԱԾՈՒՄ ԿԱՏԱՐՎՈՂ ՓՈՓՈԽՈՒԹՅՈՒՆՆԵՐԸ ԵՎ ԼՐԱՑՈՒՄՆԵՐԸ
A9: ԲԳԿ | B9: Ծրագիր | D9: Միջոցառում | H9: Իրականացնողը/ ակտիվն օգտագործողը/ շահառուի ընտրության չափորոշիչը | I9: Արդյունքային չափորոշիչը | J9: Ցուցանիշների փոփոխությունը (ավելացումները նշված են դրական նշանով, իսկ նվազեցումները՝ փակագծերում)
B10: Դասիչը | C10: Անվանումը | D10: Դասիչը | E10: Անվանումը | F10: Նկարագրությունը | G10: Տեսակը | J10: Առաջին եռամսյակ | K10: Առաջին կիսամյակ | L10: Ինն ամիս | M10: Տարի
A11: ԸՆԴԱՄԵՆԸ | J11: =+J13 -> 0 | K11: =+K13 -> 0 | L11: =+L13 -> 0 | M11: =+M13 -> 0
A12: այդ թվում՝
A13: ՀՀ ԿՐԹՈՒԹՅԱՆ, ԳԻՏՈՒԹՅԱՆ, ՄՇԱԿՈԻՅԹԻ ԵՎ ՍՊՈՐՏԻ ՆԱԽԱՐԱՐՈՒԹՅՈՒՆ | J13: =+J14 -> 0 | K13: =+K14 -> 0 | L13: =+L14 -> 0 | M13: =+M14 -> 0
B14: 1236 | C14: Հանրակրթական և նախադպրոցական հաստատությունների հիմնում, կառուցում, բարելավում | J14: =+J15 -> 0 | K14: =+K15 -> 0 | L14: =+L15 -> 0 | M14: =+M15 -> 0
D15: 1236 - 32006 | E15: Հանրակրթական դպրոցների, մանկապարտեզների և կրթահամալիրների գույքով և տեխնիկայով ապահովում | J15: =+'Հավելված N 1'!G26 -> 0 | K15: =+'Հավելված N 1'!H26 -> 0 | L15: =+'Հավելված N 1'!I26 -> 0 | M15: =+'Հավելված N 1'!J26 -> 0
F16: Կրթական ժամանակակից նորմերին և կրթական չափորոշիչներին համապատասխան ուսուցման ծրագրերն իրականացնելու նպատակով հանրակրթական և նախադպրոցական հաստատությունների համար գույքի և տեխնիկայի ձեռքբերում
G17: Այլ պետական կազմակերպությունների կողմից օգտագործվող ոչ ֆինանսական ակտիվների հետ գործառնություններ
H18: Ակտիվն օգտագործող կազմակերպությունների անվանումները` Հանրակրթական դպրոցներ, մանկապարտեզներ և կրթահամալիրներ
I19: Սուբվենցիոն ծրագրերի շրջանակներում կառուցվող(ած), վերակառուցվող(ած) և հիմնանորոգվող(ած) մանկապարտեզների թիվը, որոնք ապահովվում են գույքով, հատ | J19: =+'Հավելված N 5'!J26+'Հավելված N 5'!J35+'Հավելված N 5'!J43+'Հավելված N 5'!J54+'Հավելված N 5'!J63+'Հավելված N 5'!J72+'Հավելված N 5'!J80+'Հավելված N 5'!J90 -> 60 | K19: =+'Հավելված N 5'!K26+'Հավելված N 5'!K35+'Հավելված N 5'!K43+'Հավելված N 5'!K54+'Հավելված N 5'!K63+'Հավելված N 5'!K72+'Հավելված N 5'!K80+'Հավելված N 5'!K90 -> 60 | L19: =+'Հավելված N 5'!L26+'Հավելված N 5'!L35+'Հավելված N 5'!L43+'Հավելված N 5'!L54+'Հավելված N 5'!L63+'Հավելված N 5'!L72+'Հավելված N 5'!L80+'Հավելված N 5'!L90 -> 60 | M19: =+'Հավելված N 5'!M26+'Հավելված N 5'!M35+'Հավելված N 5'!M43+'Հավելված N 5'!M54+'Հավելված N 5'!M63+'Հավելված N 5'!M72+'Հավելված N 5'!M80+'Հավելված N 5'!M90 -> 60
I20: «Սոցիալական ներդրումների և տեղական զարգացման» ծրագրի շրջանակներում կառուցվող(ած), վերակառուցվող(ած) և հիմնանորոգվող(ած) մանկապարտեզների թիվը, որոնք ապահովվում են գույքով, հատ | J20: =+'Հավելված N 5'!J81+'Հավելված N 5'!J98 -> 6 | K20: =+'Հավելված N 5'!K81+'Հավելված N 5'!K98 -> 6 | L20: =+'Հավելված N 5'!L81+'Հավելված N 5'!L98 -> 6 | M20: =+'Հավելված N 5'!M81+'Հավելված N 5'!M98 -> 6
I21: Անհետաձգելի ծրագրերի շրջանակներում կառուցվող(ած), վերակառուցվող(ած) և հիմնանորոգվող(ած) մանկապարտեզների թիվը, որոնք ապահովվում են գույքով, հատ | J21: =+'Հավելված N 5'!J44+'Հավելված N 5'!J82 -> 3 | K21: =+'Հավելված N 5'!K44+'Հավելված N 5'!K82 -> 3 | L21: =+'Հավելված N 5'!L44+'Հավելված N 5'!L82 -> 3 | M21: =+'Հավելված N 5'!M44+'Հավելված N 5'!M82 -> 3
I22: «Մոդուլային» տիպի 144 տեղ հզորությամբ կառուցվող(ած) մսուր–մանկապարտեզների թիվը, որոնք ապահովվում են գույքով, հատ | J22: =+'Հավելված N 5'!J27+'Հավելված N 5'!J45+'Հավելված N 5'!J55+'Հավելված N 5'!J64 -> 4 | K22: =+'Հավելված N 5'!K27+'Հավելված N 5'!K45+'Հավելված N 5'!K55+'Հավելված N 5'!K64 -> 4 | L22: =+'Հավելված N 5'!L27+'Հավելված N 5'!L45+'Հավելված N 5'!L55+'Հավելված N 5'!L64 -> 4 | M22: =+'Հավելված N 5'!M27+'Հավելված N 5'!M45+'Հավելված N 5'!M55+'Հավելված N 5'!M64 -> 4
I23: Բարեգործական ծրագրերով կառուցվող(ած), վերակառուցվող(ած) և հիմնանորոգվող(ած) մանկապարտեզների թիվը, որոնք ապահովվում են գույքով, հատ | J23: =+'Հավելված N 5'!J46+'Հավելված N 5'!J99 -> 7 | K23: =+'Հավելված N 5'!K46+'Հավելված N 5'!K99 -> 7 | L23: =+'Հավելված N 5'!L46+'Հավելված N 5'!L99 -> 7 | M23: =+'Հավելված N 5'!M46+'Հավելված N 5'!M99 -> 7

Sheet Հավելված N 5
K1: Հավելված N 5
K2: ՀՀ կառավարության 2025 թվականի
K3: ______________ ի ___Ն որոշման
A6: ՀԱՅԱՍՏԱՆԻ ՀԱՆՐԱՊԵՏՈՒԹՅԱՆ ԿԱՌԱՎԱՐՈՒԹՅԱՆ 2024 ԹՎԱԿԱՆԻ ԴԵԿՏԵՄԲԵՐԻ 27-Ի N 2060-Ն ՈՐՈՇՄԱՆ N 9.1 ՀԱՎԵԼՎԱԾՈՒՄ ԿԱՏԱՐՎՈՂ ՓՈՓՈԽՈՒԹՅՈՒՆՆԵՐԸ ԵՎ ԼՐԱՑՈՒՄՆԵՐԸ
A9: ԲԳԿ | B9: Ծրագիր | D9: Միջոցառում | H9: Իրականացնողը/ ակտիվն օգտագործողը/ շահառուի ընտրության չափորոշիչը | I9: Արդյունքային չափորոշիչը | J9: Ցուցանիշների փոփոխությունը (ավելացումները նշված են դրական նշանով, իսկ նվազեցումները՝ փակագծերում)
B10: Դասիչը | C10: Անվանումը | D10: Դասիչը | E10: Անվանումը | F10: Նկարագրությունը | G10: Տեսակը | J10: Առաջին եռամսյակ | K10: Առաջին կիսամյակ | L10: Ինն ամիս | M10: Տարի
A11: ԸՆԴԱՄԵՆԸ | J11: =+ROUND(J13+J20+J29+J37+J48+J57+J66+J74+J84+J92,1) -> 0 | K11: =+ROUND(K13+K20+K29+K37+K48+K57+K66+K74+K84+K92,1) -> 0 | L11: =+ROUND(L13+L20+L29+L37+L48+L57+L66+L74+L84+L92,1) -> 0 | M11: =+ROUND(M13+M20+M29+M37+M48+M57+M66+M74+M84+M92,1) -> 0
A12: այդ թվում՝
A13: ՀՀ ԿՐԹՈՒԹՅԱՆ, ԳԻՏՈՒԹՅԱՆ, ՄՇԱԿՈԻՅԹԻ ԵՎ ՍՊՈՐՏԻ ՆԱԽԱՐԱՐՈՒԹՅՈՒՆ | J13: =+J14 -> -267961.1 | K13: =+K14 -> -267961.1 | L13: =+L14 -> -267961.1 | M13: =+M14 -> -267961.1
B14: 1236 | C14: Հանրակրթական և նախադպրոցական հաստատությունների հիմնում, կառուցում, բարելավում | J14: =+J15 -> -267961.1 | K14: =+K15 -> -267961.1 | L14: =+L15 -> -267961.1 | M14: =+M15 -> -267961.1
D15: 1236 - 32006 | E15: Հանրակրթական դպրոցների, մանկապարտեզների և կրթահամալիրների գույքով և տեխնիկայով ապահովում | J15: =+'Հավելված N 1'!G28 -> -267961.1 | K15: =+'Հավելված N 1'!H28 -> -267961.1 | L15: =+'Հավելված N 1'!I28 -> -267961.1 | M15: =+'Հավելված N 1'!J28 -> -267961.1
F16: Կրթական ժամանակակից նորմերին և կրթական չափորոշիչներին համապատասխան ուսուցման ծրագրերն իրականացնելու նպատակով հանրակրթական և նախադպրոցական հաստատությունների համար գույքի և տեխնիկայի ձեռքբերում
G17: Այլ պետական կազմակերպությունների կողմից օգտագործվող ոչ ֆինանսական ակտիվների հետ գործառնություններ
H18: Ակտիվն օգտագործող կազմակերպությունների անվանումները` Հանրակրթական դպրոցներ, մանկապարտեզներ և կրթահամալիրներ
A20: ՀՀ ԱՐԱԳԱԾՈՏՆԻ ՄԱՐԶՊԵՏԻ ԱՇԽԱՏԱԿԱՄԶ | J20: =+J21 -> 12816.8 | K20: =+K21 -> 12816.8 | L20: =+L21 -> 12816.8 | M20: =+M21 -> 12816.8
B21: 1236 | C21: Հանրակրթական և նախադպրոցական հաստատությունների հիմնում, կառուցում, բարելավում | J21: =+J22 -> 12816.8 | K21: =+K22 -> 12816.8 | L21: =+L22 -> 12816.8 | M21: =+M22 -> 12816.8
D22: 1236 - 32006 | E22: Հանրակրթական դպրոցների, մանկապարտեզների և կրթահամալիրների գույքով և տեխնիկայով ապահովում | J22: =+'Հավելված N 1'!G35 -> 12816.8 | K22: =+'Հավելված N 1'!H35 -> 12816.8 | L22: =+'Հավելված N 1'!I35 -> 12816.8 | M22: =+'Հավելված N 1'!J35 -> 12816.8
F23: Կրթական ժամանակակից նորմերին և կրթական չափորոշիչներին համապատասխան ուսուցման ծրագրերն իրականացնելու նպատակով հանրակրթական և նախադպրոցական հաստատությունների համար գույքի և տեխնիկայի ձեռքբերում
G24: Այլ պետական կազմակերպությունների կողմից օգտագործվող ոչ ֆինանսական ակտիվների հետ գործառնություններ
H25: Ակտիվն օգտագործող կազմակերպությունների անվանումները` Հանրակրթական դպրոցներ, մանկապարտեզներ և կրթահամալիրներ
I26: Սուբվենցիոն ծրագրերի շրջանակներում կառուցվող(ած), վերակառուցվող(ած) և հիմնանորոգվող(ած) մանկապարտեզների թիվը, որոնք ապահովվում են գույքով, հատ | J26: 4 | K26: 4 | L26: 4 | M26: 4
I27: «Մոդուլային» տիպի 144 տեղ հզորությամբ կառուցվող(ած) մսուր–մանկապարտեզների թիվը, որոնք ապահովվում են գույքով, հատ | J27: 1 | K27: 1 | L27: 1 | M27: 1
A29: ՀՀ ԱՐԱՐԱՏԻ ՄԱՐԶՊԵՏԻ ԱՇԽԱՏԱԿԱԶՄ | J29: =+J30 -> 7771.2 | K29: =+K30 -> 7771.2 | L29: =+L30 -> 7771.2 | M29: =+M30 -> 7771.2
B30: 1236 | C30: Հանրակրթական և նախադպրոցական հաստատությունների հիմնում, կառուցում, բարելավում | J30: =+J31 -> 7771.2 | K30: =+K31 -> 7771.2 | L30: =+L31 -> 7771.2 | M30: =+M31 -> 7771.2
D31: 1236 - 32006 | E31: Հանրակրթական դպրոցների, մանկապարտեզների և կրթահամալիրների գույքով և տեխնիկայով ապահովում | J31: =+'Հավելված N 1'!G42 -> 7771.2 | K31: =+'Հավելված N 1'!H42 -> 7771.2 | L31: =+'Հավելված N 1'!I42 -> 7771.2 | M31: =+'Հավելված N 1'!J42 -> 7771.2
F32: Կրթական ժամանակակից նորմերին և կրթական չափորոշիչներին համապատասխան ուսուցման ծրագրերն իրականացնելու նպատակով հանրակրթական և նախադպրոցական հաստատությունների համար գույքի և տեխնիկայի ձեռքբերում
G33: Այլ պետական կազմակերպությունների կողմից օգտագործվող ոչ ֆինանսական ակտիվների հետ գործառնություններ
H34: Ակտիվն օգտագործող կազմակերպությունների անվանումները` Հանրակրթական դպրոցներ, մանկապարտեզներ և կրթահամալիրներ
I35: Սուբվենցիոն ծրագրերի շրջանակներում կառուցվող(ած), վերակառուցվող(ած) և հիմնանորոգվող(ած) մանկապարտեզների թիվը, որոնք ապահովվում են գույքով, հատ | J35: 4 | K35: 4 | L35: 4 | M35: 4
A37: ՀՀ ԱՐՄԱՎԻՐԻ ՄԱՐԶՊԵՏԻ ԱՇԽԱՏԱԿԱԶՄ | J37: =+J38 -> 36245.3 | K37: =+K38 -> 36245.3 | L37: =+L38 -> 36245.3 | M37: =+M38 -> 36245.3
B38: 1236 | C38: Հանրակրթական և նախադպրոցական հաստատությունների հիմնում, կառուցում, բարելավում | J38: =+J39 -> 36245.3 | K38: =+K39 -> 36245.3 | L38: =+L39 -> 36245.3 | M38: =+M39 -> 36245.3
D39: 1236 - 32006 | E39: Հանրակրթական դպրոցների, մանկապարտեզների և կրթահամալիրների գույքով և տեխնիկայով ապահովում | J39: =+'Հավելված N 1'!G49 -> 36245.3 | K39: =+'Հավելված N 1'!H49 -> 36245.3 | L39: =+'Հավելված N 1'!I49 -> 36245.3 | M39: =+'Հավելված N 1'!J49 -> 36245.3
F40: Կրթական ժամանակակից նորմերին և կրթական չափորոշիչներին համապատասխան ուսուցման ծրագրերն իրականացնելու նպատակով հանրակրթական և նախադպրոցական հաստատությունների համար գույքի և տեխնիկայի ձեռքբերում
G41: Այլ պետական կազմակերպությունների կողմից օգտագործվող ոչ ֆինանսական ակտիվների հետ գործառնություններ
H42: Ակտիվն օգտագործող կազմակերպությունների անվանումները` Հանրակրթական դպրոցներ, մանկապարտեզներ և կրթահամալիրներ
I43: Սուբվենցիոն ծրագրերի շրջանակներում կառուցվող(ած), վերակառուցվող(ած) և հիմնանորոգվող(ած) մանկապարտեզների թիվը, որոնք ապահովվում են գույքով, հատ | J43: 23 | K43: 23 | L43: 23 | M43: 23
I44: Անհետաձգելի ծրագրերի շրջանակներում կառուցվող(ած), վերակառուցվող(ած) և հիմնանորոգվող(ած) մանկապարտեզների թիվը, որոնք ապահովվում են գույքով, հատ | J44: 1 | K44: 1 | L44: 1 | M44: 1
I45: «Մոդուլային» տիպի 144 տեղ հզորությամբ կառուցվող(ած) մսուր–մանկապարտեզների թիվը, որոնք ապահովվում են գույքով, հատ | J45: 1 | K45: 1 | L45: 1 | M45: 1
I46: Բարեգործական ծրագրերով կառուցվող(ած), վերակառուցվող(ած) և հիմնանորոգվող(ած) մանկապարտեզների թիվը, որոնք ապահովվում են գույքով, հատ | J46: 2 | K46: 2 | L46: 2 | M46: 2
A48: ՀՀ ԳԵՂԱՐՔՈՒՆԻՔԻ ՄԱՐԶՊԵՏԻ ԱՇԽԱՏԱԿԱԶՄ | J48: =+J49 -> 18841.4 | K48: =+K49 -> 18841.4 | L48: =+L49 -> 18841.4 | M48: =+M49 -> 18841.4
...

Sheet Հավելված N 6
H1: Հավելված N 6
H2: ՀՀ կառավարության 2025 թվականի
H3: ______________ ի ___Ն որոշման
A6: ՀԱՅԱՍՏԱՆԻ ՀԱՆՐԱՊԵՏՈՒԹՅԱՆ ԿԱՌԱՎԱՐՈՒԹՅԱՆ 2024 ԹՎԱԿԱՆԻ ԴԵԿՏԵՄԲԵՐԻ 27-Ի N 2060-Ն N 10 ՀԱՎԵԼՎԱԾՈՒՄ ԿԱՏԱՐՎՈՂ ՓՈՓՈԽՈՒԹՅՈՒՆՆԵՐԸ
A10: Կոդը | B10: Անվանումը | E10: Գնման ձևը | F10: Չափման միավորը | G10: Միավորի գինը | H10: Ցուցանիշների փոփոխությունը (նվազեցումները նշված են փակագծերում)
H11: Քանակը | I11: Գումարը (հազար դրամ)
A12: 1 | B12: 2 | E12: 3 | F12: 4 | G12: 5 | H12: 6 | I12: 7
A13: ՀՀ կրթության, գիտության, մշակույթի և սպորտի նախարարություն | I13: =+I14 -> -267961.1
A14: Բաժին N 09 | B14: Խումբ N 02 | C14: Դաս N 01 | D14: Հիմնական ընդհանուր կրթություն | I14: =+I15 -> -267961.1
A15: 1236-32006 | B15: Հանրակրթական դպրոցների, մանկապարտեզների և կրթահամալիրների գույքով և տեխնիկայով ապահովում | I15: =+I16 -> -267961.1
B16: ՄԱՍ I. ԱՊՐԱՆՔՆԵՐ | I16: =SUM(I17:I27) -> -267961.1
A17: 39121600-10 | B17: խոհանոցային կահույք | E17: ԷԱՃ | F17: լրակազմ | G17: 40247000 | H17: -1 | I17: =+ROUNDDOWN(H17*G17/1000,1) -> -40247
A18: 39121600-2 | B18: խոհանոցային կահույք | E18: ԷԱՃ | F18: լրակազմ | G18: 40247000 | H18: -1 | I18: =+ROUNDDOWN(H18*G18/1000,1) -> -40247
A19: 39121600-35 | B19: խոհանոցային կահույք | E19: ԷԱՃ | F19: լրակազմ | G19: 1329555 | H19: -1 | I19: =+ROUNDDOWN(H19*G19/1000,1) -> -1329.5
A20: 39161110-13 | B20: դպրոցական կահույք | E20: ԷԱՃ | F20: լրակազմ | G20: 47315000 | H20: -1 | I20: =+ROUNDDOWN(H20*G20/1000,1) -> -47315
A21: 39161110-15 | B21: դպրոցական կահույք | E21: ԷԱՃ | F21: լրակազմ | G21: 20014400 | H21: -1 | I21: =+ROUNDDOWN(H21*G21/1000,1) -> -20014.4
A22: 39121600-12 | B22: խոհանոցային կահույք | E22: ԷԱՃ | F22: լրակազմ | G22: 27037000 | H22: -1 | I22: =+ROUNDDOWN(H22*G22/1000,1) -> -27037
A23: 39121600-13 | B23: խոհանոցային կահույք | E23: ԷԱՃ | F23: լրակազմ | G23: 27037000 | H23: -1 | I23: =+ROUNDDOWN(H23*G23/1000,1) -> -27037
A24: 39121600-3 | B24: խոհանոցային կահույք | E24: ԷԱՃ | F24: լրակազմ | G24: 27037000 | H24: -1 | I24: =+ROUNDDOWN(H24*G24/1000,1) -> -27037
A25: 39121600-7 | B25: խոհանոցային կահույք | E25: ԷԱՃ | F25: լրակազմ | G25: 27037000 | H25: -1 | I25: =+ROUNDDOWN(H25*G25/1000,1) -> -27037
A26: 39121600-23 | B26: խոհանոցային կահույք | E26: ԷԱՃ | F26: լրակազմ | G26: 9800592 | H26: -1 | I26: =+ROUNDDOWN(H26*G26/1000,1) -> -9800.5
A27: 39121600-24 | B27: խոհանոցային կահույք | E27: ԷԱՃ | F27: լրակազմ | I27: -859.7
