Workbook
Name a: #REF!
Name a: #REF!
Name a: #REF!
Name AgencyCode: #REF!
Name AgencyCode: #REF!
Name AgencyCode: #REF!
Name AgencyCode: #REF!
Name AgencyCode: #REF!
Name AgencyCode: #REF!
Name AgencyName: #REF!
Name AgencyName: #REF!
Name AgencyName: #REF!
Name åû: #REF!
Name åû: #REF!
Name davit: #REF!
Name davit: #REF!
Name Functional1: #REF!
Name Functional1: #REF!
Name Functional1: #REF!
Name ggg: #REF!
Name ggg: #REF!
Name mas: #REF!
Name mas: #REF!
Name mass: #REF!
Name mass: #REF!
Name PANature: #REF!
Name PANature: #REF!
Name PANature: #REF!
Name PAType: #REF!
Name PAType: #REF!
Name PAType: #REF!
Name Performance2: #REF!
Name Performance2: #REF!
Name Performance2: #REF!
Name PerformanceType: #REF!
Name PerformanceType: #REF!
Name PerformanceType: #REF!
Name x: #REF!
Name x: #REF!
Name Հավելված: #REF!
Name Հավելված: #REF!
Name Հավելված10: #REF!
Name Հավելված10: #REF!
Name Հավելված11: #REF!
Name Հավելված11: #REF!
Name Հավելված20: #REF!
Name Հավելված20: #REF!
Name Հավելված9: #REF!
Name Հավելված9: #REF!
Name Մաս: #REF!
Name Մաս: #REF!
Name շախմատիստ: #REF!
Name շախմատիստ: #REF!

Sheet Հավելված N 1
F1: Հավելված N 1
F2: ՀՀ կառավարության 2025 թվականի
F3: ______________ ի ___Ն որոշման
A6: «ՀԱՅԱUՏԱՆԻ ՀԱՆՐԱՊԵՏՈՒԹՅԱՆ 2025 ԹՎԱԿԱՆԻ ՊԵՏԱԿԱՆ ԲՅՈՒՋԵԻ ՄԱUԻՆ» ՀԱՅԱUՏԱՆԻ ՀԱՆՐԱՊԵՏՈՒԹՅԱՆ OՐԵՆՔԻ N 1 ՀԱՎԵԼՎԱԾԻ N 2 ԱՂՅՈՒՍԱԿՈՒՄ ԿԱՏԱՐՎՈՂ ՎԵՐԱԲԱՇԽՈՒՄԸ ԵՎ ՀԱՅԱՍՏԱՆԻ ՀԱՆՐԱՊԵՏՈՒԹՅԱՆ ԿԱՌԱՎԱՐՈՒԹՅԱՆ 2024 ԹՎԱԿԱՆԻ ԴԵԿՏԵՄԲԵՐԻ 27-Ի N 2060-Ն ՈՐՈՇՄԱՆ N 5 ՀԱՎԵԼՎԱԾԻ N 1 ԱՂՅՈՒՍԱԿՈՒՄ ԿԱՏԱՐՎՈՂ ՓՈՓՈԽՈՒԹՅՈՒՆՆԵՐԸ ԵՎ ԼՐԱՑՈՒՄՆԵՐԸ
J9: հազ. դրամներով
A10: ԲԳԿ | B10: Ծրագրային դասիչը | D10: ԲԳԿ/Ծրագրի /միջոցառման անվանումը | E10: Ծրագրի նպատակը/Միջոցառման նկարագրությունը | F10: Վերջնական արդյունքի նկարագրությունը/Միջոցառման տեսակը | G10: Ցուցանիշների փոփոխությունը (ավելացումները նշված են դրական նշանով, իսկ նվազեցումները փակագծերում)
G11: Առաջին եռամսյակ | H11: Առաջին կիսամյակ | I11: Ինն ամիս | J11: Տարի
B12: Ծրագիր | C12: Միջոցառում
A13: ԸՆԴԱՄԵՆԸ | G13: =+G15 -> 0 | H13: =+H15 -> 0 | I13: =+I15 -> 1.1641532e-10 | J13: =+J15 -> 0
A14: այդ թվում՝
A15: ՀՀ ԿՐԹՈՒԹՅԱՆ, ԳԻՏՈՒԹՅԱՆ, ՄՇԱԿՈՒՅԹԻ ԵՎ ՍՊՈՐՏԻ ՆԱԽԱՐԱՐՈՒԹՅՈՒՆ | G15: =+G16+G19+G22+G24 -> 0 | H15: =+H16+H19+H22+H24 -> 0 | I15: =+I16+I19+I22+I24 -> 1.1641532e-10 | J15: =+J16+J19+J22+J24 -> 0
B16: 1163 | D16: Մասսայական սպորտ | E16: Բնակչության շրջանում առողջ ապրելակերպի արմատավորում, անհատի բազմակողմանի ու ներդաշնակ զարգացման գործում ֆիզիկական կուլտուրայի և սպորտի դերի բարձրացում | F16: Սպորտի նկատմամբ հետաքրքրվածության և մասնակցության ընդլայնում | G16: =+G17+G18 -> 5193.7 | H16: =+H17+H18 -> -60948.1 | I16: =+I17+I18 -> -173942.3 | J16: =+J17+J18 -> 34157.4
C17: 1163 - 12001 | D17: Աջակցություն համայնքներին մարզական հաստատությունների շենքային պայմանների բարելավման համար | E17: Համայնքային ենթակայության մարզական հաստատությունների վերանորոգում և կառուցում | F17: Տրանսֆերտների տրամադրում | G17: =+'Հավելված N 2'!G102 -> -63849.1 | H17: =+'Հավելված N 2'!H102 -> -224033.4 | I17: =+'Հավելված N 2'!I102 -> -472624.1 | J17: =+'Հավելված N 2'!J102 -> -264524.4
C18: 1163 - 32001 | D18: Մարզական օբյեկտների շինարարություն | E18: Մարզական օբյեկտների շենքերի (մասնաշենքերի) կառուցում (համաշինարարական աշխատանքներ, ջեռուցման համակարգի իրականացում, ներքին հարդարում, տարածքի բարեկարգում) և նախագծում | F18: Այլ պետական կազմակերպությունների կողմից օգտագործվող ոչ ֆինանսական ակտիվների հետ գործառնություններ | G18: =+'Հավելված N 2'!G111 -> 69042.8 | H18: =+'Հավելված N 2'!H111 -> 163085.3 | I18: =+'Հավելված N 2'!I111 -> 298681.8 | J18: =+'Հավելված N 2'!J111 -> 298681.8
B19: 1183 | D19: Ապահով դպրոց | E19: Դպրոցներին սպառնացող աղետների ռիսկի կառավարման կարողությունների հզորացում, դպրոցի անձնակազմի և աշակերտների անվտանգության ապահովման մակարդակի բարձրացում՛ կիրառելով ներառական և երեխայակենտրոն մոտեցում | F19: Դպրոցական միջավայրի բարելավում | G19: =+G20+G21 -> 116742.2 | H19: =+H20+H21 -> 235315.7 | I19: =+I20+I21 -> 235315.7 | J19: =+J20+J21 -> 235315.7
C20: 1183 - 32007 | D20: Հանրակրթական կրթություն իրականացնող ուսումնական հաստատությունների նոր մարզադահլիճների կառուցում | E20: Հանրակրթական ուսուցում իրականացնող ուսումնական հաստատությունների նոր մարզադահլիճների կառուցման նախագծանախահաշվային փաստաթղթերի մշակում | F20: Այլ պետական կազմակերպությունների կողմից օգտագործվող ոչ ֆինանսական ակտիվների հետ գործառնություններ | G20: =+'Հավելված N 2'!G124 -> 2679.5 | H20: =+'Հավելված N 2'!H124 -> 3159.5 | I20: =+'Հավելված N 2'!I124 -> 3159.5 | J20: =+'Հավելված N 2'!J124 -> 3159.5
C21: 1183 - 32009 | D21: Հանրակրթական կրթություն իրականացնող ուսումնական հաստատությունների մարզադահլիճների վերակառուցում | E21: Հանրակրթական ուսուցում իրականացնող ուսումնական հաստատությունների մարզադահլիճների վերակառուցման նախագծանախահաշվային փաստաթղթերի մշակում | F21: Այլ պետական կազմակերպությունների կողմից օգտագործվող ոչ ֆինանսական ակտիվների հետ գործառնություններ | G21: =+'Հավելված N 2'!G135 -> 114062.7 | H21: =+'Հավելված N 2'!H135 -> 232156.2 | I21: =+'Հավելված N 2'!I135 -> 232156.2 | J21: =+'Հավելված N 2'!J135 -> 232156.2
B22: 1192 | D22: Կրթության որակի ապահովում | E22: Ընթացիկ աշխատանքների, բարեփոխումների և նոր նախաձեռնությունների միջոցով ֆորմալ և ոչ-ֆորմալ կրթության ոլորտում իրականացվող միջոցառումների, մատուցվող ծառայությունների բովանդակության և կազմակերպման որակի շարունակական բարելավում | F22: Նախադպրոցականից մինչև հետբուհական կրթության որակի, այն է սովորողների, միջավայրի, ծրագրերի և ուսումնական նյութերի բովանդակության, գործընթացների, ինչպես նաև վերջնարդյունքների որակի բարելավում ըստ ներպետական և միջազգային ցուցիչների | G22: =+G23 -> 10000 | H22: =+H23 -> 0 | I22: =+I23 -> 0 | J22: =+J23 -> 0
C23: 1192 - 32007 | D23: ՀՀ պետական դպրոցների` ԳՏՃՄ լաբորատորիաներով ապահովում | E23: ՀՀ պետական դպրոցների համար ԳՏՃՄ առարկաների լաբորատոր սարքավարումների և կահույքի ձեռքբերում | F23: Այլ պետական կազմակերպությունների կողմից օգտագործվող ոչ ֆինանսական ակտիվների հետ գործառնություններ | G23: =+'Հավելված N 2'!G43 -> 10000 | H23: =+'Հավելված N 2'!H43 -> 0 | I23: =+'Հավելված N 2'!I43 -> 0 | J23: =+'Հավելված N 2'!J43 -> 0
B24: 1236 | D24: Հանրակրթական և նախադպրոցական հաստատությունների հիմնում, կառուցում, բարելավում | E24: Առնվազն 300 դպրոցի և 500 մանկապարտեզի կառուցման, վերակառուցման, հիմնանորոգման ծրագրերի իրականացում ՀՀ պետական բյուջեի միջոցների շրջանակներում | F24: Կրթական միջավայրի բարելավում | G24: =+G25+G26+G27+G28+G29 -> -131935.9 | H24: =+H25+H26+H27+H28+H29 -> -174367.6 | I24: =+I25+I26+I27+I28+I29 -> -61373.4 | J24: =+J25+J26+J27+J28+J29 -> -269473.1
C25: 1236 - 32001 | D25: Մանկապարտեզների նոր շենքերի կառուցում | E25: Նախադպրոցական կրթության հասանելիության ապահովման նպատակով՛ մանկապարտեզների հիմնում, նոր շենքերի (մասնաշենքերի), ներառյալ՛ ,Մոդուլայինե տիպի շենքերի կառուցում և նախագծում | F25: Այլ պետական կազմակերպությունների կողմից օգտագործվող ոչ ֆինանսական ակտիվների հետ գործառնություններ | G25: =+'Հավելված N 2'!G26 -> 226678.9 | H25: =+'Հավելված N 2'!H26 -> 287782.8 | I25: =+'Հավելված N 2'!I26 -> 433427.9 | J25: =+'Հավելված N 2'!J26 -> 433427.9
C26: 1236 - 32003 | D26: Հանրակրթական դպրոցների նոր շենքերի կառուցում | E26: ՀՀ մարզերում կրթական որակյալ ծառայությունների հասանելիության ապահովման ծրագրի շրջանակներում հանրակրթական և նախադպրոցական կրթության հասանելիության ապահովման նպատակով կրթական կենտրոնների կառուցում | F26: Այլ պետական կազմակերպությունների կողմից օգտագործվող ոչ ֆինանսական ակտիվների հետ գործառնություններ | G26: =+'Հավելված N 2'!G54 -> 14972.7 | H26: =+'Հավելված N 2'!H54 -> 174094.3 | I26: =+'Հավելված N 2'!I54 -> 319266.7 | J26: =+'Հավելված N 2'!J54 -> 279975.3
C27: 1236 - 32004 | D27: Հանրակրթական դպրոցների շենքերի վերակառուցում, հիմնանորոգում | E27: Դպրոցական պարտադիր կրթության հասանելիության ապահովման նպատակով՛ հանրակրթական դպրոցների շենքերի (մասնաշենքերի), վերակառուցում, հիմնանորոգում և նախագծում | F27: Այլ պետական կազմակերպությունների կողմից օգտագործվող ոչ ֆինանսական ակտիվների հետ գործառնություններ | G27: =+'Հավելված N 2'!G65 -> 0 | H27: =+'Հավելված N 2'!H65 -> 14390 | I27: =+'Հավելված N 2'!I65 -> 14390 | J27: =+'Հավելված N 2'!J65 -> 14390
C28: 1236 - 32005 | D28: Կրթահամալիրների կառուցում | E28: ՀՀ մարզերում կրթական որակյալ ծառայությունների հասանելիության ապահովման ծրագրի շրջանակներում հանրակրթական և նախադպրոցական կրթության հասանելիության ապահովման նպատակով կրթական կենտրոնների կառուցում | F28: Այլ պետական կազմակերպությունների կողմից օգտագործվող ոչ ֆինանսական ակտիվների հետ գործառնություններ | G28: =+'Հավելված N 2'!G74 -> -363587.5 | H28: =+'Հավելված N 2'!H74 -> -650634.7 | I28: =+'Հավելված N 2'!I74 -> -828458 | J28: =+'Հավելված N 2'!J74 -> -997266.3
C29: 1236 - 32006 | D29: Հանրակրթական դպրոցների, մանկապարտեզների և կրթահամալիրների գույքով և տեխնիկայով ապահովում | E29: Կրթական ժամանակակից նորմերին և կրթական չափորոշիչներին համապատասխան ուսուցման ծրագրերն իրականացնելու նպատակով հանրակրթական և նախադպրոցական հաստատությունների համար գույքի և տեխնիկայի ձեռքբերում | F29: Այլ պետական կազմակերպությունների կողմից օգտագործվող ոչ ֆինանսական ակտիվների հետ գործառնություններ | G29: =+'Հավելված N 2'!G85 -> -10000 | H29: =+'Հավելված N 2'!H85 -> 0 | I29: =+'Հավելված N 2'!I85 -> 0 | J29: =+'Հավելված N 2'!J85 -> 0

Sheet Հավելված N 2
F1: Հավելված N 2
F2: ՀՀ կառավարության 2025 թվականի
F3: ______________ ի ___Ն որոշման
A7: ՀԱՅԱՍՏԱՆԻ ՀԱՆՐԱՊԵՏՈՒԹՅԱՆ ԿԱՌԱՎԱՐՈՒԹՅԱՆ 2024 ԹՎԱԿԱՆԻ ԴԵԿՏԵՄԲԵՐԻ 27-Ի N 2060-Ն ՈՐՈՇՄԱՆ N 3 ԵՎ N 4 ՀԱՎԵԼՎԱԾՆԵՐՈՒՄ ԿԱՏԱՐՎՈՂ ՓՈՓՈԽՈՒԹՅՈՒՆՆԵՐԸ ԵՎ ԼՐԱՑՈՒՄՆԵՐԸ
J10: հազ. դրամներով
A11: Գործառական դասիչը | D11: Ծրագրային դասիչը | F11: Բյուջետային հատկացումների գլխավոր կարգադրիչների, ծրագրերի, միջոցառումների և միջոցառումները կատարող պետական մարմինների անվանումները | G11: Ցուցանիշների փոփոխությունը (ավելացումները նշված են դրական նշանով, իսկ նվազեցումները փակագծերում)
A12: Բաժին | B12: Խումբ | C12: Դաս | D12: Ծրագիր | E12: Միջոցառում | G12: Առաջին եռամսյակ | H12: Առաջին կիսամյակ | I12: Ինն ամիս | J12: Տարի
F13: ԸՆԴԱՄԵՆԸ | G13: =+G15 -> 0 | H13: =+H15 -> 0 | I13: =+I15 -> 5.8207661e-11 | J13: =+J15 -> 0
F14: այդ թվում՝
F15: ՀՀ ԿՐԹՈՒԹՅԱՆ, ԳԻՏՈՒԹՅԱՆ, ՄՇԱԿՈՒՅԹԻ ԵՎ ՍՊՈՐՏԻ ՆԱԽԱՐԱՐՈՒԹՅՈՒՆ | G15: =+G16 -> 0 | H15: =+H16 -> 0 | I15: =+I16 -> 5.8207661e-11 | J15: =+J16 -> 0
A16: 09 | F16: ԿՐԹՈՒԹՅՈՒՆ | G16: =+G18+G35+G94 -> 0 | H16: =+H18+H35+H94 -> 0 | I16: =+I18+I35+I94 -> 5.8207661e-11 | J16: =+J18+J35+J94 -> 0
F17: այդ թվում`
B18: 01 | F18: Նախադպրոցական և տարրական ընդհանուր կրթություն | G18: =+G20 -> 226678.9 | H18: =+H20 -> 287782.8 | I18: =+I20 -> 433427.9 | J18: =+J20 -> 433427.9
F19: այդ թվում`
C20: 01 | F20: Նախադպրոցական կրթություն | G20: =+G22 -> 226678.9 | H20: =+H22 -> 287782.8 | I20: =+I22 -> 433427.9 | J20: =+J22 -> 433427.9
F21: այդ թվում`
F22: ՀՀ կրթության, գիտության, մշակույթի և սպորտի նախարարություն | G22: =+G24 -> 226678.9 | H22: =+H24 -> 287782.8 | I22: =+I24 -> 433427.9 | J22: =+J24 -> 433427.9
F23: այդ թվում`
D24: 1236 | E24: Հանրակրթական և նախադպրոցական հաստատությունների հիմնում, կառուցում, բարելավում | G24: =+G26 -> 226678.9 | H24: =+H26 -> 287782.8 | I24: =+I26 -> 433427.9 | J24: =+J26 -> 433427.9
F25: այդ թվում`
E26: 32001 | F26: Մանկապարտեզների նոր շենքերի կառուցում | G26: =+G28 -> 226678.9 | H26: =+H28 -> 287782.8 | I26: =+I28 -> 433427.9 | J26: =+J28 -> 433427.9
F27: այդ թվում` ըստ կատարողների
F28: ՀՀ քաղաքաշինության կոմիտե | G28: =+G30 -> 226678.9 | H28: =+H30 -> 287782.8 | I28: =+I30 -> 433427.9 | J28: =+J30 -> 433427.9
F29: այդ թվում՝ բյուջետային ծախսերի տնտեսագիտական դասակարգման հոդվածներ
F30: ԸՆԴԱՄԵՆԸ ԾԱԽՍԵՐ | G30: =G31 -> 226678.9 | H30: =H31 -> 287782.8 | I30: =I31 -> 433427.9 | J30: =J31 -> 433427.9
F31: ՈՉ ՖԻՆԱՆՍԱԿԱՆ ԱԿՏԻՎՆԵՐԻ ԳԾՈՎ ԾԱԽՍԵՐ | G31: =+G32 -> 226678.9 | H31: =+H32 -> 287782.8 | I31: =+I32 -> 433427.9 | J31: =+J32 -> 433427.9
F32: ՀԻՄՆԱԿԱՆ ՄԻՋՈՑՆԵՐ | G32: =+G33 -> 226678.9 | H32: =+H33 -> 287782.8 | I32: =+I33 -> 433427.9 | J32: =+J33 -> 433427.9
F33: ՇԵՆՔԵՐ ԵՎ ՇԻՆՈՒԹՅՈՒՆՆԵՐ | G33: =+G34 -> 226678.9 | H33: =+H34 -> 287782.8 | I33: =+I34 -> 433427.9 | J33: =+J34 -> 433427.9
F34: - Շենքերի և շինությունների շինարարություն | G34: =+'Հավելված N 4'!E61 -> 226678.9 | H34: =+'Հավելված N 4'!F61 -> 287782.8 | I34: =+'Հավելված N 4'!G61 -> 433427.9 | J34: =+'Հավելված N 4'!H61 -> 433427.9
B35: 02 | F35: Միջնակարգ ընդհանուր կրթություն | G35: =+G37 -> -348614.8 | H35: =+H37 -> -462150.4 | I35: =+I37 -> -494801.3 | J35: =+J37 -> -702901
F36: այդ թվում`
F37: Հիմնական ընդհանուր կրթություն | G37: =+G39 -> -348614.8 | H37: =+H39 -> -462150.4 | I37: =+I39 -> -494801.3 | J37: =+J39 -> -702901
C38: 01 | F38: այդ թվում`
F39: ՀՀ կրթության, գիտության, մշակույթի և սպորտի նախարարություն | G39: =+G41+G52 -> -348614.8 | H39: =+H41+H52 -> -462150.4 | I39: =+I41+I52 -> -494801.3 | J39: =+J41+J52 -> -702901
F40: այդ թվում`
D41: 1192 | E41: Կրթության որակի ապահովում | G41: =+G43 -> 10000 | H41: =+H43 -> 0 | I41: =+I43 -> 0 | J41: =+J43 -> 0
F42: այդ թվում`
E43: 32007 | F43: ՀՀ պետական դպրոցների՝ ԳՏՃՄ լաբորատորիաներով ապահովում | G43: =+G45 -> 10000 | H43: =+H45 -> 0 | I43: =+I45 -> 0 | J43: =+J45 -> 0
F44: այդ թվում` ըստ կատարողների
F45: ՀՀ կրթության, գիտության, մշակույթի և սպորտի նախարարություն | G45: =+G47 -> 10000 | H45: =+H47 -> 0 | I45: =+I47 -> 0 | J45: =+J47 -> 0
F46: այդ թվում՝ բյուջետային ծախսերի տնտեսագիտական դասակարգման հոդվածներ
F47: ԸՆԴԱՄԵՆԸ ԾԱԽՍԵՐ | G47: =G48 -> 10000 | H47: =H48 -> 0 | I47: =I48 -> 0 | J47: =J48 -> 0
F48: ՈՉ ՖԻՆԱՆՍԱԿԱՆ ԱԿՏԻՎՆԵՐԻ ԳԾՈՎ ԾԱԽՍԵՐ | G48: =+G49 -> 10000 | H48: =+H49 -> 0 | I48: =+I49 -> 0 | J48: =+J49 -> 0
F49: ՀԻՄՆԱԿԱՆ ՄԻՋՈՑՆԵՐ | G49: =+G50 -> 10000 | H49: =+H50 -> 0 | I49: =+I50 -> 0 | J49: =+J50 -> 0
F50: ՄԵՔԵՆԱՆԵՐ ԵՎ ՍԱՐՔԱՎՈՐՈՒՄՆԵՐ | G50: =+G51 -> 10000 | H50: =+H51 -> 0 | I50: =+I51 -> 0 | J50: =+J51 -> 0
F51: - Այլ մեքենաներ և սարքավորումներ | G51: =+'Հավելված N 4'!E58 -> 10000 | H51: =+'Հավելված N 4'!F58 -> 0 | I51: =+'Հավելված N 4'!G58 -> 0 | J51: =+'Հավելված N 4'!H58 -> 0
D52: 1236 | E52: Հանրակրթական և նախադպրոցական հաստատությունների հիմնում, կառուցում, բարելավում | G52: =+G54+G65+G74+G85 -> -358614.8 | H52: =+H54+H65+H74+H85 -> -462150.4 | I52: =+I54+I65+I74+I85 -> -494801.3 | J52: =+J54+J65+J74+J85 -> -702901
F53: այդ թվում`
E54: 32003 | F54: Հանրակրթական դպրոցների նոր շենքերի կառուցում | G54: =+G56 -> 14972.7 | H54: =+H56 -> 174094.3 | I54: =+I56 -> 319266.7 | J54: =+J56 -> 279975.3
F55: այդ թվում` ըստ կատարողների
F56: ՀՀ քաղաքաշինության կոմիտե | G56: =+G58 -> 14972.7 | H56: =+H58 -> 174094.3 | I56: =+I58 -> 319266.7 | J56: =+J58 -> 279975.3
F57: այդ թվում՝ բյուջետային ծախսերի տնտեսագիտական դասակարգման հոդվածներ
F58: ԸՆԴԱՄԵՆԸ ԾԱԽՍԵՐ | G58: =G59 -> 14972.7 | H58: =H59 -> 174094.3 | I58: =I59 -> 319266.7 | J58: =J59 -> 279975.3
F59: ՈՉ ՖԻՆԱՆՍԱԿԱՆ ԱԿՏԻՎՆԵՐԻ ԳԾՈՎ ԾԱԽՍԵՐ | G59: =+G60 -> 14972.7 | H59: =+H60 -> 174094.3 | I59: =+I60 -> 319266.7 | J59: =+J60 -> 279975.3
F60: ՀԻՄՆԱԿԱՆ ՄԻՋՈՑՆԵՐ | G60: =+G61+G63 -> 14972.7 | H60: =+H61+H63 -> 174094.3 | I60: =+I61+I63 -> 319266.7 | J60: =+J61+J63 -> 279975.3
F61: ՇԵՆՔԵՐ ԵՎ ՇԻՆՈՒԹՅՈՒՆՆԵՐ | G61: =+G62 -> 14972.7 | H61: =+H62 -> 151594.3 | I61: =+I62 -> 296766.7 | J61: =+J62 -> 257475.3
F62: - Շենքերի և շինությունների շինարարություն | G62: =+'Հավելված N 4'!E76+'Հավելված N 4'!E77+'Հավելված N 4'!E80+'Հավելված N 4'!E84+'Հավելված N 4'!E85+'Հավելված N 4'!E87+'Հավելված N 4'!E89+'Հավելված N 4'!E90+'Հավելված N 4'!E91+'Հավելված N 4'!E92+'Հավելված N 4'!E93+'Հավելված N 4'!E95 -> 14972.7 | H62: =+'Հավելված N 4'!F76+'Հավելված N 4'!F77+'Հավելված N 4'!F80+'Հավելված N 4'!F84+'Հավելված N 4'!F85+'Հավելված N 4'!F87+'Հավելված N 4'!F89+'Հավելված N 4'!F90+'Հավելված N 4'!F91+'Հավելված N 4'!F92+'Հավելված N 4'!F93+'Հավելված N 4'!F95 -> 151594.3 | I62: =+'Հավելված N 4'!G76+'Հավելված N 4'!G77+'Հավելված N 4'!G80+'Հավելված N 4'!G84+'Հավելված N 4'!G85+'Հավելված N 4'!G87+'Հավելված N 4'!G89+'Հավելված N 4'!G90+'Հավելված N 4'!G91+'Հավելված N 4'!G92+'Հավելված N 4'!G93+'Հավելված N 4'!G95 -> 296766.7 | J62: =+'Հավելված N 4'!H76+'Հավելված N 4'!H77+'Հավելված N 4'!H80+'Հավելված N 4'!H84+'Հավելված N 4'!H85+'Հավելված N 4'!H87+'Հավելված N 4'!H89+'Հավելված N 4'!H90+'Հավելված N 4'!H91+'Հավելված N 4'!H92+'Հավելված N 4'!H93+'Հավելված N 4'!H95 -> 257475.3
F63: ԱՅԼ ՀԻՄՆԱԿԱՆ ՄԻՋՈՑՆԵՐ | G63: =+G64 -> 0 | H63: =+H64 -> 22500 | I63: =+I64 -> 22500 | J63: =+J64 -> 22500
F64: - Նախագծահետազոտական ծախսեր | G64: =+'Հավելված N 4'!E79+'Հավելված N 4'!E82+'Հավելված N 4'!E96 -> 0 | H64: =+'Հավելված N 4'!F79+'Հավելված N 4'!F82+'Հավելված N 4'!F96 -> 22500 | I64: =+'Հավելված N 4'!G79+'Հավելված N 4'!G82+'Հավելված N 4'!G96 -> 22500 | J64: =+'Հավելված N 4'!H79+'Հավելված N 4'!H82+'Հավելված N 4'!H96 -> 22500
E65: 32004 | F65: Հանրակրթական դպրոցների շենքերի վերակառուցում, հիմնանորոգում | G65: =+G67 -> 0 | H65: =+H67 -> 14390 | I65: =+I67 -> 14390 | J65: =+J67 -> 14390
F66: այդ թվում` ըստ կատարողների
F67: ՀՀ քաղաքաշինության կոմիտե | G67: =+G69 -> 0 | H67: =+H69 -> 14390 | I67: =+I69 -> 14390 | J67: =+J69 -> 14390
F68: այդ թվում՝ բյուջետային ծախսերի տնտեսագիտական դասակարգման հոդվածներ
F69: ԸՆԴԱՄԵՆԸ ԾԱԽՍԵՐ | G69: =G70 -> 0 | H69: =H70 -> 14390 | I69: =I70 -> 14390 | J69: =J70 -> 14390
F70: ՈՉ ՖԻՆԱՆՍԱԿԱՆ ԱԿՏԻՎՆԵՐԻ ԳԾՈՎ ԾԱԽՍԵՐ | G70: =+G71 -> 0 | H70: =+H71 -> 14390 | I70: =+I71 -> 14390 | J70: =+J71 -> 14390
F71: ՀԻՄՆԱԿԱՆ ՄԻՋՈՑՆԵՐ | G71: =+G72 -> 0 | H71: =+H72 -> 14390 | I71: =+I72 -> 14390 | J71: =+J72 -> 14390
F72: ԱՅԼ ՀԻՄՆԱԿԱՆ ՄԻՋՈՑՆԵՐ | G72: =+G73 -> 0 | H72: =+H73 -> 14390 | I72: =+I73 -> 14390 | J72: =+J73 -> 14390
F73: - Նախագծահետազոտական ծախսեր | G73: =+'Հավելված N 4'!E99 -> 0 | H73: =+'Հավելված N 4'!F99 -> 14390 | I73: =+'Հավելված N 4'!G99 -> 14390 | J73: =+'Հավելված N 4'!H99 -> 14390
E74: 32005 | F74: Կրթահամալիրների կառուցում | G74: =+G76 -> -363587.5 | H74: =+H76 -> -650634.7 | I74: =+I76 -> -828458 | J74: =+J76 -> -997266.3
F75: այդ թվում` ըստ կատարողների
F76: ՀՀ քաղաքաշինության կոմիտե | G76: =+G78 -> -363587.5 | H76: =+H78 -> -650634.7 | I76: =+I78 -> -828458 | J76: =+J78 -> -997266.3
F77: այդ թվում՝ բյուջետային ծախսերի տնտեսագիտական դասակարգման հոդվածներ
F78: ԸՆԴԱՄԵՆԸ ԾԱԽՍԵՐ | G78: =G79 -> -363587.5 | H78: =H79 -> -650634.7 | I78: =I79 -> -828458 | J78: =J79 -> -997266.3
F79: ՈՉ ՖԻՆԱՆՍԱԿԱՆ ԱԿՏԻՎՆԵՐԻ ԳԾՈՎ ԾԱԽՍԵՐ | G79: =+G80 -> -363587.5 | H79: =+H80 -> -650634.7 | I79: =+I80 -> -828458 | J79: =+J80 -> -997266.3
F80: ՀԻՄՆԱԿԱՆ ՄԻՋՈՑՆԵՐ | G80: =+G81+G83 -> -363587.5 | H80: =+H81+H83 -> -650634.7 | I80: =+I81+I83 -> -828458 | J80: =+J81+J83 -> -997266.3
F81: ՇԵՆՔԵՐ ԵՎ ՇԻՆՈՒԹՅՈՒՆՆԵՐ | G81: =+G82 -> -363587.5 | H81: =+H82 -> -692634.7 | I81: =+I82 -> -870458 | J81: =+J82 -> -1039266.3
F82: - Շենքերի և շինությունների շինարարություն | G82: =+'Հավելված N 4'!E109+'Հավելված N 4'!E115+'Հավելված N 4'!E116+'Հավելված N 4'!E117 -> -363587.5 | H82: =+'Հավելված N 4'!F109+'Հավելված N 4'!F115+'Հավելված N 4'!F116+'Հավելված N 4'!F117 -> -692634.7 | I82: =+'Հավելված N 4'!G109+'Հավելված N 4'!G115+'Հավելված N 4'!G116+'Հավելված N 4'!G117 -> -870458 | J82: =+'Հավելված N 4'!H109+'Հավելված N 4'!H115+'Հավելված N 4'!H116+'Հավելված N 4'!H117 -> -1039266.3
F83: ԱՅԼ ՀԻՄՆԱԿԱՆ ՄԻՋՈՑՆԵՐ | G83: =+G84 -> 0 | H83: =+H84 -> 42000 | I83: =+I84 -> 42000 | J83: =+J84 -> 42000
F84: - Նախագծահետազոտական ծախսեր | G84: =+'Հավելված N 4'!E108+'Հավելված N 4'!E111+'Հավելված N 4'!E113+'Հավելված N 4'!E119+'Հավելված N 4'!E121 -> 0 | H84: =+'Հավելված N 4'!F108+'Հավելված N 4'!F111+'Հավելված N 4'!F113+'Հավելված N 4'!F119+'Հավելված N 4'!F121 -> 42000 | I84: =+'Հավելված N 4'!G108+'Հավելված N 4'!G111+'Հավելված N 4'!G113+'Հավելված N 4'!G119+'Հավելված N 4'!G121 -> 42000 | J84: =+'Հավելված N 4'!H108+'Հավելված N 4'!H111+'Հավելված N 4'!H113+'Հավելված N 4'!H119+'Հավելված N 4'!H121 -> 42000
E85: 32006 | F85: Հանրակրթական դպրոցների, մանկապարտեզների և կրթահամալիրների գույքով և տեխնիկայով ապահովում | G85: =+G87 -> -10000 | H85: =+H87 -> 0 | I85: =+I87 -> 0 | J85: =+J87 -> 0
F86: այդ թվում` ըստ կատարողների
F87: ՀՀ կրթության, գիտության, մշակույթի և սպորտի նախարարություն | G87: =+G89 -> -10000 | H87: =+H89 -> 0 | I87: =+I89 -> 0 | J87: =+J89 -> 0
F88: այդ թվում՝ բյուջետային ծախսերի տնտեսագիտական դասակարգման հոդվածներ
F89: ԸՆԴԱՄԵՆԸ ԾԱԽՍԵՐ | G89: =G90 -> -10000 | H89: =H90 -> 0 | I89: =I90 -> 0 | J89: =J90 -> 0
F90: ՈՉ ՖԻՆԱՆՍԱԿԱՆ ԱԿՏԻՎՆԵՐԻ ԳԾՈՎ ԾԱԽՍԵՐ | G90: =+G91 -> -10000 | H90: =+H91 -> 0 | I90: =+I91 -> 0 | J90: =+J91 -> 0
F91: ՀԻՄՆԱԿԱՆ ՄԻՋՈՑՆԵՐ | G91: =+G92 -> -10000 | H91: =+H92 -> 0 | I91: =+I92 -> 0 | J91: =+J92 -> 0
F92: ՄԵՔԵՆԱՆԵՐ ԵՎ ՍԱՐՔԱՎՈՐՈՒՄՆԵՐ | G92: =+G93 -> -10000 | H92: =+H93 -> 0 | I92: =+I93 -> 0 | J92: =+J93 -> 0
F93: - Այլ մեքենաներ և սարքավորումներ | G93: =+'Հավելված N 4'!E124 -> -10000 | H93: =+'Հավելված N 4'!F124 -> 0 | I93: =+'Հավելված N 4'!G124 -> 0 | J93: =+'Հավելված N 4'!H124 -> 0
B94: 06 | F94: Կրթությանը տրամադրվող օժանդակ ծառայություններ | G94: =+G96 -> 121935.9 | H94: =+H96 -> 174367.6 | I94: =+I96 -> 61373.4 | J94: =+J96 -> 269473.1
F95: այդ թվում`
C96: 01 | F96: Կրթությանը տրամադրվող օժանդակ ծառայություններ | G96: =+G98 -> 121935.9 | H96: =+H98 -> 174367.6 | I96: =+I98 -> 61373.4 | J96: =+J98 -> 269473.1
F97: այդ թվում`
F98: ՀՀ կրթության, գիտության, մշակույթի և սպորտի նախարարություն | G98: =+G100+G122 -> 121935.9 | H98: =+H100+H122 -> 174367.6 | I98: =+I100+I122 -> 61373.4 | J98: =+J100+J122 -> 269473.1
F99: այդ թվում`
D100: 1163 | E100: Մասսայական սպորտ | G100: =+G102+G111 -> 5193.7 | H100: =+H102+H111 -> -60948.1 | I100: =+I102+I111 -> -173942.3 | J100: =+J102+J111 -> 34157.4
F101: այդ թվում`
E102: 12001 | F102: Աջակցություն համայնքներին մարզական հաստատությունների շենքային պայմանների բարելավման համար | G102: =+G104 -> -63849.1 | H102: =+H104 -> -224033.4 | I102: =+I104 -> -472624.1 | J102: =+J104 -> -264524.4
F103: այդ թվում` ըստ կատարողների
F104: ՀՀ քաղաքաշինության կոմիտե | G104: =+G106 -> -63849.1 | H104: =+H106 -> -224033.4 | I104: =+I106 -> -472624.1 | J104: =+J106 -> -264524.4
F105: այդ թվում՝ բյուջետային ծախսերի տնտեսագիտական դասակարգման հոդվածներ
...

Sheet Հավելված N 3
F1: Հավելված N 3
F2: ՀՀ կառավարության 2025 թվականի
F3: ______________ ի ___Ն որոշման
A5: «ՀԱՅԱUՏԱՆԻ ՀԱՆՐԱՊԵՏՈՒԹՅԱՆ 2025 ԹՎԱԿԱՆԻ ՊԵՏԱԿԱՆ ԲՅՈՒՋԵԻ ՄԱUԻՆ» ՀԱՅԱUՏԱՆԻ ՀԱՆՐԱՊԵՏՈՒԹՅԱՆ OՐԵՆՔԻ N 1 ՀԱՎԵԼՎԱԾԻ N 3 ԱՂՅՈՒՍԱԿՈՒՄ ԿԱՏԱՐՎՈՂ ՓՈՓՈԽՈՒԹՅՈՒՆՆԵՐԸ ԵՎ ԼՐԱՑՈՒՄՆԵՐԸ
G8: հազ. դրամներով
A9: Ծրագրային դասիչ | C9: Բյուջետային գլխավոր կարգադրիչների, ծրագրերի, միջոցառումների, միջոցառումները կատարող պետական մարմինների և ուղղությունների անվանումները | D9: Ընդամենը | E9: Ցուցանիշների փոփոխությունը (ավելացումները նշված են դրական նշանով, իսկ նվազեցումները՝ փակագծերում)
A10: Ծրագիր | B10: Միջոցառում | E10: Կառուցման աշխատանքներ | F10: Վերակառուցման, վերանորոգման և վերականգնման աշխատանքներ | G10: Նախագծահե- տազոտական, գեոդեզիա- քարտեզագրա- կան աշխա- տանքներ | H10: Ոչ ֆինանսական այլ ակտիվների ձեռքբերում
C11: ԸՆԴԱՄԵՆԸ | D11: =SUM(E11:H11) -> 0 | E11: =+E13 -> -337770.2 | F11: =+F13 -> 223166.2 | G11: =+G13 -> 114604 | H11: =+H13 -> 0
C12: այդ թվում՝
C13: ՀՀ ԿՐԹՈՒԹՅԱՆ, ԳԻՏՈՒԹՅԱՆ, ՄՇԱԿՈՒՅԹԻ ԵՎ ՍՊՈՐՏԻ ՆԱԽԱՐԱՐՈՒԹՅՈՒՆ | D13: =SUM(E13:H13) -> 0 | E13: =+ROUND(E15+E19+E26+E35+E50+E60+E80+E84,1) -> -337770.2 | F13: =+ROUND(F15+F19+F26+F35+F50+F60+F80+F84,1) -> 223166.2 | G13: =+ROUND(G15+G19+G26+G35+G50+G60+G80+G84,1) -> 114604 | H13: =+ROUND(H15+H19+H26+H35+H50+H60+H80+H84,1) -> 0
C14: այդ թվում`
A15: 1163 | B15: 12001 | C15: Աջակցություն համայնքներին մարզական հաստատությունների շենքային պայմանների բարելավման համար | D15: =SUM(E15:H15) -> -264524.4 | E15: =+E17 -> -264524.4 | F15: =+F17 -> 0 | G15: =+G17 -> 0 | H15: =+H17 -> 0
C16: այդ թվում`
C17: ՀՀ Շիրակի մարզ | D17: =SUM(E17:H17) -> -264524.4 | E17: =+E18 -> -264524.4 | F17: =+F18 -> 0 | G17: =+G18 -> 0 | H17: =+H18 -> 0
C18: Արթուր Ալեքսանյանի անվան նոր սպորտային համալիր | D18: =+E18+F18+G18+H18 -> -264524.4 | E18: =+'Հավելված N 7'!I72+'Հավելված N 7'!I74+'Հավելված N 7'!I75 -> -264524.4
A19: 1163 | B19: 32001 | C19: Մարզական օբյեկտների շինարարություն | D19: =SUM(E19:H19) -> 298681.8 | E19: =+E21+E24 -> 272437.8 | F19: =+F21+F24 -> 0 | G19: =+G21+G24 -> 26244 | H19: =+H21+H24 -> 0
C20: այդ թվում`
C21: Երևան քաղաք | D21: =SUM(E21:H21) -> 297437.3 | E21: =+E22+E23 -> 271193.3 | F21: =+F22+F23 -> 0 | G21: =+G22+G23 -> 26244 | H21: =+H22+H23 -> 0
C22: Հեծանվային սպորտի և Հրանտ Շահինյանի անվան սպորտային, գեղարվեստական մարմնամարզության և ակրոբատիկայի օլիմպիական մանկապատանեկան մարզադպրոցներ | D22: =+E22+F22+G22+H22 -> 271193.3 | E22: =+'Հավելված N 7'!I78+'Հավելված N 7'!I81+'Հավելված N 7'!I82 -> 271193.3
C23: Արթուր Աբրահամի անվան մարզահամալիր | D23: =+E23+F23+G23+H23 -> 26244 | G23: =+'Հավելված N 7'!I83+'Հավելված N 7'!I84 -> 26244
C24: ՀՀ Տավուշի մարզ | D24: =SUM(E24:H24) -> 1244.5 | E24: =+E25 -> 1244.5 | F24: =+F25 -> 0 | G24: =+G25 -> 0 | H24: =+H25 -> 0
C25: Աճարկուտ բնակավայրում մեկցանցանի բասկետբոլի դաշտի կառուցում | D25: =+E25+F25+G25+H25 -> 1244.5 | E25: =+'Հավելված N 7'!I79 -> 1244.5
A26: 1183 | B26: 32007 | C26: Հանրակրթական կրթություն իրականացնող ուսումնական հաստատությունների նոր մարզադահլիճների կառուցում | D26: =SUM(E26:H26) -> 3159.5 | E26: =+E28+E31+E33 -> 2679.5 | F26: =+F28+F31+F33 -> 0 | G26: =+G28+G31+G33 -> 480 | H26: =+H28+H31+H33 -> 0
C27: այդ թվում`
C28: Երևան քաղաք | D28: =SUM(E28:H28) -> 1097.9 | E28: =+E29+E30 -> 1097.9 | F28: =+F29+F30 -> 0 | G28: =+G29+G30 -> 0 | H28: =+H29+H30 -> 0
C29: «Երևանի Միքայել Նալբանդյանի անվան հ.33 հիմնական դպրոց» ՊՈԱԿ | D29: =+E29+F29+G29+H29 -> 630.2 | E29: =+'Հավելված N 7'!I88 -> 630.2
C30: «Երևանի Ս. Խանզադյանի անվան հ. 184 ավագ դպրոց» ՊՈԱԿ | D30: =+E30+F30+G30+H30 -> 467.7 | E30: =+'Հավելված N 7'!I89 -> 467.7
C31: ՀՀ Արմավիրի մարզ | D31: =SUM(E31:H31) -> 480 | E31: =+E32 -> 0 | F31: =+F32 -> 0 | G31: =+G32 -> 480 | H31: =+H32 -> 0
C32: «Մրգաստանի միջնակարգ դպրոց» ՊՈԱԿ | D32: =+E32+F32+G32+H32 -> 480 | G32: =+'Հավելված N 7'!I91 -> 480
C33: ՀՀ Գեղարքունիքի մարզ | D33: =SUM(E33:H33) -> 1581.6 | E33: =+E34 -> 1581.6 | F33: =+F34 -> 0 | G33: =+G34 -> 0 | H33: =+H34 -> 0
C34: ՀՀ Գեղարքունիքի մարզի Գագարինի միջնակարգ դպրոց ՊՈԱԿ | D34: =+E34+F34+G34+H34 -> 1581.6 | E34: =+'Հավելված N 7'!I87+'Հավելված N 7'!I90 -> 1581.6
A35: 1183 | B35: 32009 | C35: Հանրակրթական կրթություն իրականացնող ուսումնական հաստատությունների մարզադահլիճների վերակառուցում | D35: =SUM(E35:H35) -> 232156.2 | E35: =+E37+E41+E44+E46+E48 -> 0 | F35: =+F37+F41+F44+F46+F48 -> 223166.2 | G35: =+G37+G41+G44+G46+G48 -> 8990 | H35: =+H37+H41+H44+H46+H48 -> 0
C36: այդ թվում`
C37: Երևան քաղաք | D37: =SUM(E37:H37) -> 136356 | E37: =+E38+E39+E40 -> 0 | F37: =+F38+F39+F40 -> 136356 | G37: =+G38+G39+G40 -> 0 | H37: =+H38+H39+H40 -> 0
C38: «Երևանի Մ. Սարյանի անվան հ. 86 հիմնական դպրոց» ՊՈԱԿ | D38: =+E38+F38+G38+H38 -> 2022.1 | F38: =+'Հավելված N 7'!I94+'Հավելված N 7'!I98+'Հավելված N 7'!I104 -> 2022.1
C39: «Երևանի Վ. Թեքեյանի անվան թիվ 92 հիմնական դպրոց» ՊՈԱԿ | D39: =SUM(E39:H39) -> 133333.8 | F39: =+'Հավելված N 7'!I95+'Հավելված N 7'!I99+'Հավելված N 7'!I105 -> 133333.8
C40: «Երևանի հ. 37 հիմնական դպրոց» ՊՈԱԿ | D40: =SUM(E40:H40) -> 1000.1 | F40: =+'Հավելված N 7'!I100+'Հավելված N 7'!I106 -> 1000.1
C41: ՀՀ Գեղարքունիքի մարզ | D41: =SUM(E41:H41) -> 1936.6 | E41: =+E42+E43 -> 0 | F41: =+F42+F43 -> 1936.6 | G41: =+G42+G43 -> 0 | H41: =+H42+H43 -> 0
C42: «Ակունք գյուղի միջնակարգ դպրոց» ՊՈԱԿ | D42: =+E42+F42+G42+H42 -> 777.7 | F42: ='Հավելված N 7'!I101+'Հավելված N 7'!I107 -> 777.7
C43: «Վ․ Գետաշենի թիվ 2 միջնակարգ դպրոց» ՊՈԱԿ | D43: =+E43+F43+G43+H43 -> 1158.9 | F43: ='Հավելված N 7'!I102+'Հավելված N 7'!I108 -> 1158.9
C44: ՀՀ Լոռու մարզ | D44: =SUM(E44:H44) -> 84873.6 | E44: =+E45 -> 0 | F44: =+F45 -> 84873.6 | G44: =+G45 -> 0 | H44: =+H45 -> 0
C45: «Ալավերդու թիվ 12 հիմնական դպրոց» ՊՈԱԿ | D45: =+E45+F45+G45+H45 -> 84873.6 | F45: =+'Հավելված N 7'!I96+'Հավելված N 7'!I103+'Հավելված N 7'!I109 -> 84873.6
C46: ՀՀ Շիրակի մարզ | D46: =SUM(E46:H46) -> 3960 | E46: =+E47 -> 0 | F46: =+F47 -> 0 | G46: =+G47 -> 3960 | H46: =+H47 -> 0
C47: «ք. Մարալիկի թիվ 1 միջնակարգ դպրոց» ՊՈԱԿ | D47: =+E47+F47+G47+H47 -> 3960 | G47: =+'Հավելված N 7'!I110+'Հավելված N 7'!I112 -> 3960
C48: ՀՀ Սյունիքի մարզ | D48: =SUM(E48:H48) -> 5030 | E48: =+E49 -> 0 | F48: =+F49 -> 0 | G48: =+G49 -> 5030 | H48: =+H49 -> 0
C49: «ք. Գորիսի Ա.Բակունցի անվան թիվ 1 ավագ դպրոց»ՊՈԱԿ | D49: =+E49+F49+G49+H49 -> 5030 | G49: =+'Հավելված N 7'!I111+'Հավելված N 7'!I113 -> 5030
A50: 1236 | B50: 32001 | C50: Մանկապարտեզների նոր շենքերի կառուցում | D50: =SUM(E50:H50) -> 433427.9 | E50: =+E52+E54+E56+E58 -> 433427.9 | F50: =+F52+F54+F56+F58 -> 0 | G50: =+G52+G54+G56+G58 -> 0 | H50: =+H52+H54+H56+H58 -> 0
C51: այդ թվում`
C52: ՀՀ Արմավիրի մարզ | D52: =SUM(E52:H52) -> 277 | E52: =+E53 -> 277 | F52: =+F53 -> 0 | G52: =+G53 -> 0 | H52: =+H53 -> 0
C53: ՀՀ Արմավիրի մարզի Այգևան համայնքում «Մոդուլային» տիպի 144 տեղ հզորությամբ մսուր-մանկապարտեզ | D53: =+E53+F53+G53+H53 -> 277 | E53: =+'Հավելված N 7'!I19 -> 277
C54: ՀՀ Գեղարքունիքի մարզ | D54: =SUM(E54:H54) -> 5149.8 | E54: =+E55 -> 5149.8 | F54: =+F55 -> 0 | G54: =+G55 -> 0 | H54: =+H55 -> 0
C55: ՀՀ Գեղարքունիքի մարզի Աստղաձոր համայնքում «Մոդուլային» տիպի 144 տեղ հզորությամբ մսուր-մանկապարտեզ | D55: =+E55+F55+G55+H55 -> 5149.8 | E55: =+'Հավելված N 7'!I20+'Հավելված N 7'!I23 -> 5149.8
C56: ՀՀ Լոռու մարզ | D56: =SUM(E56:H56) -> 1169.5 | E56: =+E57 -> 1169.5 | F56: =+F57 -> 0 | G56: =+G57 -> 0 | H56: =+H57 -> 0
C57: ՀՀ Լոռու մարզի Սպիտակ համայնքում «Մոդուլային» տիպի 144 տեղ հզորությամբ մսուր-մանկապարտեզ | D57: =+E57+F57+G57+H57 -> 1169.5 | E57: =+'Հավելված N 7'!I21+'Հավելված N 7'!I24 -> 1169.5
C58: ՀՀ Տավուշի մարզ | D58: =SUM(E58:H58) -> 426831.6 | E58: =+E59 -> 426831.6 | F58: =+F59 -> 0 | G58: =+G59 -> 0 | H58: =+H59 -> 0
C59: ՀՀ Տավուշի մարզի Այրում համայնքի Բագրատաշեն բնակավայրում «Մոդուլային» տիպի 144 տեղ հզորությամբ մսուր-մանկապարտեզ | D59: =+E59+F59+G59+H59 -> 426831.6 | E59: =+'Հավելված N 7'!I17+'Հավելված N 7'!I22+'Հավելված N 7'!I25 -> 426831.6
A60: 1236 | B60: 32003 | C60: Հանրակրթական դպրոցների նոր շենքերի կառուցում | D60: =SUM(E60:H60) -> 279975.3 | E60: =+E62+E64+E67+E69+E72+E74+E77 -> 257475.3 | F60: =+F62+F64+F67+F69+F72+F74+F77 -> 0 | G60: =+G62+G64+G67+G69+G72+G74+G77 -> 22500 | H60: =+H62+H64+H67+H69+H72+H74+H77 -> 0
C61: այդ թվում`
C62: ՀՀ Արագածոտնի մարզ | D62: =SUM(E62:H62) -> 198084.2 | E62: =SUM(E63:E63) -> 198084.2 | F62: =SUM(F63:F63) -> 0 | G62: =SUM(G63:G63) -> 0 | H62: =SUM(H63:H63) -> 0
C63: «Լուսակնի միջնակարգ դպրոց» ՊՈԱԿ | D63: =+E63+F63+G63+H63 -> 198084.2 | E63: =+'Հավելված N 7'!I30+'Հավելված N 7'!I34+1133.2 -> 198084.2
C64: ՀՀ Արարատի մարզ | D64: =SUM(E64:H64) -> 8248.3 | E64: =+E65+E66 -> 748.3 | F64: =+F65+F66 -> 0 | G64: =+G65+G66 -> 7500 | H64: =+H65+H66 -> 0
C65: «Նիզամիի միջնակարգ դպրոց» ՊՈԱԿ | D65: =+E65+F65+G65+H65 -> 7500 | G65: =+'Հավելված N 7'!I41+'Հավելված N 7'!I44 -> 7500
C66: «Մասիսի թիվ 5 ավագ դպրոց» ՊՈԱԿ | D66: =+E66+F66+G66+H66 -> 748.3 | E66: =+'Հավելված N 7'!I37+'Հավելված N 7'!I40 -> 748.3
C67: ՀՀ Արմավիրի մարզ | D67: =SUM(E67:H67) -> 7500 | E67: =SUM(E68:E68) -> 0 | F67: =SUM(F68:F68) -> 0 | G67: =SUM(G68:G68) -> 7500 | H67: =SUM(H68:H68) -> 0
C68: «Հայկաշենի Գ. Կիրակոսյանի անվան միջնակարգ դպրոց» ՊՈԱԿ | D68: =+E68+F68+G68+H68 -> 7500 | G68: =+'Հավելված N 7'!I42+'Հավելված N 7'!I45 -> 7500
C69: ՀՀ Գեղարքունիքի մարզ | D69: =SUM(E69:H69) -> 150469.6 | E69: =SUM(E70:E71) -> 150469.6 | F69: =SUM(F70:F71) -> 0 | G69: =SUM(G70:G71) -> 0 | H69: =SUM(H70:H71) -> 0
C70: «Լեռնահովիտ գյուղի Վ. Բարեղամյանի անվան հիմնական դպրոց» ՊՈԱԿ | D70: =+E70+F70+G70+H70 -> 149072.2 | E70: =+'Հավելված N 7'!I31+5614.4+1224.9 -> 149072.2
C71: «Ջիլի միջնակարգ դպրոց» ՊՈԱԿ | D71: =+E71+F71+G71+H71 -> 1397.4 | E71: =1204.6+192.8 -> 1397.4
C72: ՀՀ Շիրակի մարզ | D72: =SUM(E72:H72) -> 190 | E72: =+E73 -> 190 | F72: =+F73 -> 0 | G72: =+G73 -> 0 | H72: =+H73 -> 0
C73: «Արեգնադեմի միջնակարգ դպրոց» ՊՈԱԿ | D73: =+E73+F73+G73+H73 -> 190 | E73: 190
C74: ՀՀ Սյունիքի մարզ | D74: =SUM(E74:H74) -> 197541.7 | E74: =+E75+E76 -> 197541.7 | F74: =+F75+F76 -> 0 | G74: =+G75+G76 -> 0 | H74: =+H75+H76 -> 0
C75: «Վաղատինի միջնակարգ դպրոց» ՊՈԱԿ | D75: =+E75+F75+G75+H75 -> 291.7 | E75: 291.7
C76: «Դարբասի միջնակարգ դպրոց» ՊՈԱԿ | D76: =+E76+F76+G76+H76 -> 197250 | E76: =+'Հավելված N 7'!I32+6533.7+1095.1 -> 197250
C77: ՀՀ Տավուշի մարզ | D77: =SUM(E77:H77) -> -282058.5 | E77: =+E78+E79 -> -289558.5 | F77: =+F78+F79 -> 0 | G77: =+G78+G79 -> 7500 | H77: =+H78+H79 -> 0
C78: «Դովեղի միջնակարգ դպրոց» ՊՈԱԿ | D78: =+E78+F78+G78+H78 -> -289558.5 | E78: =+'Հավելված N 7'!I29+'Հավելված N 7'!I36-1677.2 -> -289558.5
C79: «Նավուրի միջնակարգ դպրոց» ՊՈԱԿ | D79: =+E79+F79+G79+H79 -> 7500 | G79: =+'Հավելված N 7'!I43+'Հավելված N 7'!I46 -> 7500
A80: 1236 | B80: 32004 | C80: Հանրակրթական դպրոցների շենքերի վերակառուցում, հիմնանորոգում | D80: =SUM(E80:H80) -> 14390 | E80: =+E82 -> 0 | F80: =+F82 -> 0 | G80: =+G82 -> 14390 | H80: =+H82 -> 0
C81: այդ թվում`
C82: Երևան քաղաք | D82: =SUM(E82:H82) -> 14390 | E82: =+E83 -> 0 | F82: =+F83 -> 0 | G82: =+G83 -> 14390 | H82: =+H83 -> 0
C83: «Երևանի թիվ 22 հիմնական դպրոց» ՊՈԱԿ | D83: =+E83+F83+G83+H83 -> 14390 | G83: =+'Հավելված N 7'!I49+'Հավելված N 7'!I50 -> 14390
A84: 1236 | B84: 32005 | C84: Կրթահամալիրների կառուցում | D84: =SUM(E84:H84) -> -997266.3 | E84: =+E86+E88+E90+E92+E96+E98 -> -1039266.3 | F84: =+F86+F88+F90+F92+F96+F98 -> 0 | G84: =+G86+G88+G90+G92+G96+G98 -> 42000 | H84: =+H86+H88+H90+H92+H96+H98 -> 0
C85: այդ թվում`
C86: ՀՀ Արագածոտնի մարզ | D86: =SUM(E86:H86) -> 7500 | E86: =+E87 -> 0 | F86: =+F87 -> 0 | G86: =+G87 -> 7500 | H86: =+H87 -> 0
C87: գ․ Հացաշենի մոդուլային կրթահամալիր | D87: =+E87+F87+G87+H87 -> 7500 | G87: =+'Հավելված N 7'!I60+'Հավելված N 7'!I65 -> 7500
C88: ՀՀ Գեղարքունիքի մարզ | D88: =SUM(E88:H88) -> 7500 | E88: =+E89 -> 0 | F88: =+F89 -> 0 | G88: =+G89 -> 7500 | H88: =+H89 -> 0
C89: գ․ Արփունքի մոդուլային կրթահամալիր | D89: =+E89+F89+G89+H89 -> 7500 | G89: =+'Հավելված N 7'!I61+'Հավելված N 7'!I66 -> 7500
C90: ՀՀ Կոտայքի մարզ | D90: =SUM(E90:H90) -> 7500 | E90: =+E91 -> 0 | F90: =+F91 -> 0 | G90: =+G91 -> 7500 | H90: =+H91 -> 0
C91: գ․ Նուռնուսի մոդուլային կրթահամալիր | D91: =+E91+F91+G91+H91 -> 7500 | G91: =+'Հավելված N 7'!I62+'Հավելված N 7'!I67 -> 7500
C92: ՀՀ Սյունիքի մարզ | D92: =SUM(E92:H92) -> -1039266.3 | E92: =+E93+E94+E95 -> -1039266.3 | F92: =+F93+F94+F95 -> 0 | G92: =+G93+G94+G95 -> 0 | H92: =+H93+H94+H95 -> 0
C93: Սիսիան համայնքի Գորայքի կրթահամալիր | D93: =+E93+F93+G93+H93 -> -249565.8 | E93: =+'Հավելված N 7'!I53+'Հավելված N 7'!I57 -> -249565.8
C94: Սիսիան համայնքի Ախլաթյանի կրթահամալիր | D94: =+E94+F94+G94+H94 -> -549549.6 | E94: =+'Հավելված N 7'!I55+'Հավելված N 7'!I58 -> -549549.6
C95: Տեղ համայնքի Քարաշենի կրթահամալիր | D95: =+E95+F95+G95+H95 -> -240150.9 | E95: =+'Հավելված N 7'!I54+'Հավելված N 7'!I59 -> -240150.9
C96: ՀՀ Վայոց Ձորի մարզ | D96: =SUM(E96:H96) -> 7500 | E96: =+E97 -> 0 | F96: =+F97 -> 0 | G96: =+G97 -> 7500 | H96: =+H97 -> 0
C97: գ․ Գողթանիկի մոդուլային կրթահամալիր | D97: =+E97+F97+G97+H97 -> 7500 | G97: =+'Հավելված N 7'!I63+'Հավելված N 7'!I68 -> 7500
C98: ՀՀ Տավուշի մարզ | D98: =SUM(E98:H98) -> 12000 | E98: =+E99 -> 0 | F98: =+F99 -> 0 | G98: =+G99 -> 12000 | H98: =+H99 -> 0
C99: գ․ Գոշի մոդուլային կրթահամալիր | D99: =+E99+F99+G99+H99 -> 12000 | G99: =+'Հավելված N 7'!I64 -> 12000

Sheet Հավելված N 4
G1: Հավելված N 4
E2: ՀՀ կառավարության 2025 թվականի
G3: ______________ ի ___Ն որոշման
B6: ՀԱՅԱՍՏԱՆԻ ՀԱՆՐԱՊԵՏՈՒԹՅԱՆ ԿԱՌԱՎԱՐՈՒԹՅԱՆ 2024 ԹՎԱԿԱՆԻ ԴԵԿՏԵՄԲԵՐԻ 27-Ի N 2060-Ն ՈՐՈՇՄԱՆ N 5 ՀԱՎԵԼՎԱԾԻ N 2 ԱՂՅՈՒՍԱԿՈՒՄ ԿԱՏԱՐՎՈՂ ՓՈՓՈԽՈՒԹՅՈՒՆՆԵՐԸ ԵՎ ԼՐԱՑՈՒՄՆԵՐԸ
H8: հազ. դրամներով
B9: Ծրագրային դասիչ | D9: Բյուջետային գլխավոր կարգադրիչների, ծրագրերի, միջոցառումների, միջոցառումները կատարող պետական մարմինների և ուղղությունների անվանումները | E9: Ցուցանիշների փոփոխությունը (ավելացումները նշված են դրական նշանով, իսկ նվազեցումները՝ փակագծերում)
B10: Ծրագիր | C10: Միջոցառում | E10: Առաջին եռամսյակ | F10: Առաջին կիսամյակ | G10: Ինն ամիս | H10: Տարի
D11: ՀՀ ԿՐԹՈՒԹՅԱՆ, ԳԻՏՈՒԹՅԱՆ, ՄՇԱԿՈՒՅԹԻ ԵՎ ՍՊՈՐՏԻ ՆԱԽԱՐԱՐՈՒԹՅՈՒՆ | E11: =+E13+E19+E28+E39+E56+E59+E71+E97+E103+E122 -> 1.7462298e-10 | F11: =+F13+F19+F28+F39+F56+F59+F71+F97+F103+F122 -> 0 | G11: =+G13+G19+G28+G39+G56+G59+G71+G97+G103+G122 -> 0 | H11: =+H13+H19+H28+H39+H56+H59+H71+H97+H103+H122 -> 0
D12: այդ թվում՝
B13: 1163 | C13: 12001 | D13: Աջակցություն համայնքներին մարզական հաստատությունների շենքային պայմանների բարելավման համար | E13: =+E15 -> -63849.1 | F13: =+F15 -> -224033.4 | G13: =+G15 -> -472624.1 | H13: =+H15 -> -264524.4
D14: այդ թվում` ըստ կատարողների
D15: ՀՀ քաղաքաշինության կոմիտե | E15: =+E17 -> -63849.1 | F15: =+F17 -> -224033.4 | G15: =+G17 -> -472624.1 | H15: =+H17 -> -264524.4
D16: այդ թվում՝ ըստ ուղղությունների
D17: ՀՀ Շիրակի մարզ | E17: =+E18 -> -63849.1 | F17: =+F18 -> -224033.4 | G17: =+G18 -> -472624.1 | H17: =+H18 -> -264524.4
D18: =+'Հավելված N 3'!C18 -> Արթուր Ալեքսանյանի անվան նոր սպորտային համալիր | E18: =-61066.8-2105.5-676.8 -> -63849.1 | F18: =-215686.4-6316.4-2030.6 -> -224033.4 | G18: =-453875.7-14738.3-4010.1 -> -472624.1 | H18: =+'Հավելված N 3'!D18 -> -264524.4
B19: 1163 | C19: 32001 | D19: Մարզական օբյեկտների շինարարություն | E19: =+E21 -> 69042.8 | F19: =+F21 -> 163085.3 | G19: =+G21 -> 298681.8 | H19: =+H21 -> 298681.8
D20: այդ թվում` ըստ կատարողների
D21: ՀՀ քաղաքաշինության կոմիտե | E21: =+E23+E26 -> 69042.8 | F21: =+F23+F26 -> 163085.3 | G21: =+G23+G26 -> 298681.8 | H21: =+H23+H26 -> 298681.8
D22: այդ թվում՝ ըստ ուղղությունների
D23: Երևան քաղաք | E23: =+E24+E25 -> 67798.3 | F23: =+F24+F25 -> 161840.8 | G23: =+G24+G25 -> 297437.3 | H23: =+H24+H25 -> 297437.3
D24: =+'Հավելված N 3'!C22 -> Հեծանվային սպորտի և Հրանտ Շահինյանի անվան սպորտային, գեղարվեստական մարմնամարզության և ակրոբատիկայի օլիմպիական մանկապատանեկան մարզադպրոցներ | E24: =65265.1+1976.5+556.7 -> 67798.3 | F24: =130530.3+3953.1+1113.4 -> 135596.8 | G24: =+H24 -> 271193.3 | H24: =+'Հավելված N 3'!D22 -> 271193.3
D25: =+'Հավելված N 3'!C23 -> Արթուր Աբրահամի անվան մարզահամալիր | E25: 0 | F25: =+H25 -> 26244 | G25: =+H25 -> 26244 | H25: =+'Հավելված N 3'!D23 -> 26244
D26: ՀՀ Տավուշի մարզ | E26: =+E27 -> 1244.5 | F26: =+F27 -> 1244.5 | G26: =+G27 -> 1244.5 | H26: =+H27 -> 1244.5
D27: =+'Հավելված N 3'!C25 -> Աճարկուտ բնակավայրում մեկցանցանի բասկետբոլի դաշտի կառուցում | E27: =+H27 -> 1244.5 | F27: =+H27 -> 1244.5 | G27: =+H27 -> 1244.5 | H27: =+'Հավելված N 3'!D25 -> 1244.5
B28: 1183 | C28: 32007 | D28: Հանրակրթական կրթություն իրականացնող ուսումնական հաստատությունների նոր մարզադահլիճների կառուցում | E28: =+E30 -> 2679.5 | F28: =+F30 -> 3159.5 | G28: =+G30 -> 3159.5 | H28: =+H30 -> 3159.5
D29: այդ թվում` ըստ կատարողների
D30: ՀՀ քաղաքաշինության կոմիտե | E30: =+E32+E35+E37 -> 2679.5 | F30: =+F32+F35+F37 -> 3159.5 | G30: =+G32+G35+G37 -> 3159.5 | H30: =+H32+H35+H37 -> 3159.5
D31: այդ թվում՝ ըստ ուղղությունների
D32: Երևան քաղաք | E32: =+E33+E34 -> 1097.9 | F32: =+F33+F34 -> 1097.9 | G32: =+G33+G34 -> 1097.9 | H32: =+H33+H34 -> 1097.9
D33: =+'Հավելված N 3'!C29 -> «Երևանի Միքայել Նալբանդյանի անվան հ.33 հիմնական դպրոց» ՊՈԱԿ | E33: =+H33 -> 630.2 | F33: =+H33 -> 630.2 | G33: =+H33 -> 630.2 | H33: =+'Հավելված N 3'!D29 -> 630.2
D34: =+'Հավելված N 3'!C30 -> «Երևանի Ս. Խանզադյանի անվան հ. 184 ավագ դպրոց» ՊՈԱԿ | E34: =+H34 -> 467.7 | F34: =+H34 -> 467.7 | G34: =+H34 -> 467.7 | H34: =+'Հավելված N 3'!D30 -> 467.7
D35: ՀՀ Արմավիրի մարզ | E35: =+E36 -> 0 | F35: =+F36 -> 480 | G35: =+G36 -> 480 | H35: =+H36 -> 480
D36: =+'Հավելված N 3'!C32 -> «Մրգաստանի միջնակարգ դպրոց» ՊՈԱԿ | E36: 0 | F36: =+H36 -> 480 | G36: =+H36 -> 480 | H36: =+'Հավելված N 3'!D32 -> 480
D37: ՀՀ Գեղարքունիքի մարզ | E37: =+E38 -> 1581.6 | F37: =+F38 -> 1581.6 | G37: =+G38 -> 1581.6 | H37: =+H38 -> 1581.6
D38: =+'Հավելված N 3'!C34 -> ՀՀ Գեղարքունիքի մարզի Գագարինի միջնակարգ դպրոց ՊՈԱԿ | E38: =+H38 -> 1581.6 | F38: =+H38 -> 1581.6 | G38: =+H38 -> 1581.6 | H38: =+'Հավելված N 3'!D34 -> 1581.6
B39: 1183 | C39: 32009 | D39: Հանրակրթական կրթություն իրականացնող ուսումնական հաստատությունների մարզադահլիճների վերակառուցում | E39: =+E41 -> 114062.7 | F39: =+F41 -> 232156.2 | G39: =+G41 -> 232156.2 | H39: =+H41 -> 232156.2
D40: այդ թվում` ըստ կատարողների
D41: ՀՀ քաղաքաշինության կոմիտե | E41: =+E43+E47+E50+E52+E54 -> 114062.7 | F41: =+F43+F47+F50+F52+F54 -> 232156.2 | G41: =+G43+G47+G50+G52+G54 -> 232156.2 | H41: =+H43+H47+H50+H52+H54 -> 232156.2
D42: այդ թվում՝ ըստ ուղղությունների
D43: Երևան քաղաք | E43: =+E44+E45+E46 -> 69689.2 | F43: =+F44+F45+F46 -> 136356 | G43: =+G44+G45+G46 -> 136356 | H43: =+H44+H45+H46 -> 136356
D44: =+'Հավելված N 3'!C38 -> «Երևանի Մ. Սարյանի անվան հ. 86 հիմնական դպրոց» ՊՈԱԿ | E44: =+H44 -> 2022.1 | F44: =+H44 -> 2022.1 | G44: =+H44 -> 2022.1 | H44: =+'Հավելված N 3'!D38 -> 2022.1
D45: =+'Հավելված N 3'!C39 -> «Երևանի Վ. Թեքեյանի անվան թիվ 92 հիմնական դպրոց» ՊՈԱԿ | E45: =63716.4+2381.8+568.8 -> 66667 | F45: =+H45 -> 133333.8 | G45: =+H45 -> 133333.8 | H45: =+'Հավելված N 3'!D39 -> 133333.8
D46: =+'Հավելված N 3'!C40 -> «Երևանի հ. 37 հիմնական դպրոց» ՊՈԱԿ | E46: =+H46 -> 1000.1 | F46: =+H46 -> 1000.1 | G46: =+H46 -> 1000.1 | H46: =+'Հավելված N 3'!D40 -> 1000.1
D47: ՀՀ Գեղարքունիքի մարզ | E47: =+E48+E49 -> 1936.6 | F47: =+F48+F49 -> 1936.6 | G47: =+G48+G49 -> 1936.6 | H47: =+H48+H49 -> 1936.6
D48: =+'Հավելված N 3'!C42 -> «Ակունք գյուղի միջնակարգ դպրոց» ՊՈԱԿ | E48: =+H48 -> 777.7 | F48: =+H48 -> 777.7 | G48: =+H48 -> 777.7 | H48: =+'Հավելված N 3'!D42 -> 777.7
D49: =+'Հավելված N 3'!C43 -> «Վ․ Գետաշենի թիվ 2 միջնակարգ դպրոց» ՊՈԱԿ | E49: =+H49 -> 1158.9 | F49: =+H49 -> 1158.9 | G49: =+H49 -> 1158.9 | H49: =+'Հավելված N 3'!D43 -> 1158.9
D50: ՀՀ Լոռու մարզ | E50: =+E51 -> 42436.9 | F50: =+F51 -> 84873.6 | G50: =+G51 -> 84873.6 | H50: =+H51 -> 84873.6
D51: =+'Հավելված N 3'!C45 -> «Ալավերդու թիվ 12 հիմնական դպրոց» ՊՈԱԿ | E51: =40208.4+1775.3+453.2 -> 42436.9 | F51: =+H51 -> 84873.6 | G51: =+H51 -> 84873.6 | H51: =+'Հավելված N 3'!D45 -> 84873.6
D52: ՀՀ Շիրակի մարզ | E52: =+E53 -> 0 | F52: =+F53 -> 3960 | G52: =+G53 -> 3960 | H52: =+H53 -> 3960
D53: =+'Հավելված N 3'!C47 -> «ք. Մարալիկի թիվ 1 միջնակարգ դպրոց» ՊՈԱԿ | E53: 0 | F53: =+H53 -> 3960 | G53: =+H53 -> 3960 | H53: =+'Հավելված N 3'!D47 -> 3960
D54: ՀՀ Սյունիքի մարզ | E54: =+E55 -> 0 | F54: =+F55 -> 5030 | G54: =+G55 -> 5030 | H54: =+H55 -> 5030
D55: =+'Հավելված N 3'!C49 -> «ք. Գորիսի Ա.Բակունցի անվան թիվ 1 ավագ դպրոց»ՊՈԱԿ | E55: 0 | F55: =+H55 -> 5030 | G55: =+H55 -> 5030 | H55: =+'Հավելված N 3'!D49 -> 5030
B56: 1192 | C56: 32007 | D56: ՀՀ պետական դպրոցների՝ ԳՏՃՄ լաբորատորիաներով ապահովում | E56: =+E58 -> 10000 | F56: =+F58 -> 0 | G56: =+G58 -> 0 | H56: =+H58 -> 0
D57: այդ թվում` ըստ կատարողների
D58: ՀՀ կրթության, գիտության, մշակույթի և սպորտի նախարարություն | E58: 10000 | F58: 0 | G58: 0 | H58: 0
B59: 1236 | C59: 32001 | D59: Մանկապարտեզների նոր շենքերի կառուցում | E59: =+E61 -> 226678.9 | F59: =+F61 -> 287782.8 | G59: =+G61 -> 433427.9 | H59: =+H61 -> 433427.9
D60: այդ թվում` ըստ կատարողների
D61: ՀՀ քաղաքաշինության կոմիտե | E61: =+E63+E65+E67+E69 -> 226678.9 | F61: =+F63+F65+F67+F69 -> 287782.8 | G61: =+G63+G65+G67+G69 -> 433427.9 | H61: =+H63+H65+H67+H69 -> 433427.9
D62: այդ թվում՝ ըստ ուղղությունների
D63: ՀՀ Արմավիրի մարզ | E63: =SUM(E64:E64) -> 277 | F63: =SUM(F64:F64) -> 277 | G63: =SUM(G64:G64) -> 277 | H63: =SUM(H64:H64) -> 277
D64: =+'Հավելված N 3'!C53 -> ՀՀ Արմավիրի մարզի Այգևան համայնքում «Մոդուլային» տիպի 144 տեղ հզորությամբ մսուր-մանկապարտեզ | E64: =+H64 -> 277 | F64: =+H64 -> 277 | G64: =+H64 -> 277 | H64: =+'Հավելված N 3'!D53 -> 277
D65: ՀՀ Գեղարքունիքի մարզ | E65: =SUM(E66:E66) -> 5149.8 | F65: =SUM(F66:F66) -> 5149.8 | G65: =SUM(G66:G66) -> 5149.8 | H65: =SUM(H66:H66) -> 5149.8
D66: =+'Հավելված N 3'!C55 -> ՀՀ Գեղարքունիքի մարզի Աստղաձոր համայնքում «Մոդուլային» տիպի 144 տեղ հզորությամբ մսուր-մանկապարտեզ | E66: =+H66 -> 5149.8 | F66: =+H66 -> 5149.8 | G66: =+H66 -> 5149.8 | H66: =+'Հավելված N 3'!D55 -> 5149.8
D67: ՀՀ Լոռու մարզ | E67: =SUM(E68:E68) -> 1169.5 | F67: =SUM(F68:F68) -> 1169.5 | G67: =SUM(G68:G68) -> 1169.5 | H67: =SUM(H68:H68) -> 1169.5
D68: =+'Հավելված N 3'!C57 -> ՀՀ Լոռու մարզի Սպիտակ համայնքում «Մոդուլային» տիպի 144 տեղ հզորությամբ մսուր-մանկապարտեզ | E68: =+H68 -> 1169.5 | F68: =+H68 -> 1169.5 | G68: =+H68 -> 1169.5 | H68: =+'Հավելված N 3'!D57 -> 1169.5
D69: ՀՀ Տավուշի մարզ | E69: =SUM(E70:E70) -> 220082.6 | F69: =SUM(F70:F70) -> 281186.5 | G69: =SUM(G70:G70) -> 426831.6 | H69: =SUM(H70:H70) -> 426831.6
D70: =+'Հավելված N 3'!C59 -> ՀՀ Տավուշի մարզի Այրում համայնքի Բագրատաշեն բնակավայրում «Մոդուլային» տիպի 144 տեղ հզորությամբ մսուր-մանկապարտեզ | E70: =213253.4+4498.2+2331 -> 220082.6 | F70: =272465.6+5744.2+2976.7 -> 281186.5 | G70: =+H70 -> 426831.6 | H70: =+'Հավելված N 3'!D59 -> 426831.6
B71: 1236 | C71: 32003 | D71: Հանրակրթական դպրոցների նոր շենքերի կառուցում | E71: =+E73 -> 14972.7 | F71: =+F73 -> 174094.3 | G71: =+G73 -> 319266.7 | H71: =+H73 -> 279975.3
D72: այդ թվում` ըստ կատարողների
D73: ՀՀ քաղաքաշինության կոմիտե | E73: =+E75+E78+E81+E83+E86+E88+E94 -> 14972.7 | F73: =+F75+F78+F81+F83+F86+F88+F94 -> 174094.3 | G73: =+G75+G78+G81+G83+G86+G88+G94 -> 319266.7 | H73: =+H75+H78+H81+H83+H86+H88+H94 -> 279975.3
D74: այդ թվում՝ ըստ ուղղությունների
D75: ՀՀ Արագածոտնի մարզ | E75: =+E76+E77 -> 256751.7 | F75: =+F76+F77 -> 440091.5 | G75: =+G76+G77 -> 364483.7 | H75: =+H76+H77 -> 198084.2
D76: =+'Հավելված N 3'!C63 -> «Լուսակնի միջնակարգ դպրոց» ՊՈԱԿ | E76: =47505.3+1732.5+283.3 -> 49521.1 | F76: =156409+5400+950 -> 162759 | G76: =+H76 -> 198084.2 | H76: =+'Հավելված N 3'!D63 -> 198084.2
D77: գ. Ներքին Սասնաշենի միջնակարգ դպրոց | E77: =200000+7230.6 -> 207230.6 | F77: =267655.9+9676.6 -> 277332.5 | G77: =160593.5+5806 -> 166399.5 | H77: 0
D78: ՀՀ Արարատի մարզ | E78: =+E79+E80 -> 748.3 | F78: =+F79+F80 -> 8248.3 | G78: =+G79+G80 -> 8248.3 | H78: =+H79+H80 -> 8248.3
D79: =+'Հավելված N 3'!C65 -> «Նիզամիի միջնակարգ դպրոց» ՊՈԱԿ | E79: 0 | F79: =+H79 -> 7500 | G79: =+H79 -> 7500 | H79: =+'Հավելված N 3'!D65 -> 7500
D80: =+'Հավելված N 3'!C66 -> «Մասիսի թիվ 5 ավագ դպրոց» ՊՈԱԿ | E80: =+H80 -> 748.3 | F80: =+H80 -> 748.3 | G80: =+H80 -> 748.3 | H80: =+'Հավելված N 3'!D66 -> 748.3
D81: ՀՀ Արմավիրի մարզ | E81: =SUM(E82:E82) -> 0 | F81: =SUM(F82:F82) -> 7500 | G81: =SUM(G82:G82) -> 7500 | H81: =SUM(H82:H82) -> 7500
D82: =+'Հավելված N 3'!C68 -> «Հայկաշենի Գ. Կիրակոսյանի անվան միջնակարգ դպրոց» ՊՈԱԿ | E82: 0 | F82: =+H82 -> 7500 | G82: =+H82 -> 7500 | H82: =+'Հավելված N 3'!D68 -> 7500
D83: ՀՀ Լոռու մարզ | E83: =SUM(E84:E85) -> 1397.4 | F83: =SUM(F84:F85) -> 75933.6 | G83: =SUM(G84:G85) -> 150469.6 | H83: =SUM(H84:H85) -> 150469.6
D84: =+'Հավելված N 3'!C70 -> «Լեռնահովիտ գյուղի Վ. Բարեղամյանի անվան հիմնական դպրոց» ՊՈԱԿ | E84: 0 | F84: =71116.5+2807.2+612.5 -> 74536.2 | G84: =+H84 -> 149072.2 | H84: =+'Հավելված N 3'!D70 -> 149072.2
D85: =+'Հավելված N 3'!C71 -> «Ջիլի միջնակարգ դպրոց» ՊՈԱԿ | E85: =+H85 -> 1397.4 | F85: =+H85 -> 1397.4 | G85: =+H85 -> 1397.4 | H85: =+'Հավելված N 3'!D71 -> 1397.4
D86: ՀՀ Շիրակի մարզ | E86: =SUM(E87:E87) -> 190 | F86: =SUM(F87:F87) -> 190 | G86: =SUM(G87:G87) -> 190 | H86: =SUM(H87:H87) -> 190
D87: =+'Հավելված N 3'!C73 -> «Արեգնադեմի միջնակարգ դպրոց» ՊՈԱԿ | E87: =+H87 -> 190 | F87: =+H87 -> 190 | G87: =+H87 -> 190 | H87: =+'Հավելված N 3'!D73 -> 190
D88: ՀՀ Սյունիքի մարզ | E88: =+E89+E90+E91+E92+E93 -> -105818.7 | F88: =+F89+F90+F91+F92+F93 -> -76465.8 | G88: =+G89+G90+G91+G92+G93 -> 70187.2 | H88: =+H89+H90+H91+H92+H93 -> 197541.7
D89: =+'Հավելված N 3'!C75 -> «Վաղատինի միջնակարգ դպրոց» ՊՈԱԿ | E89: =+H89 -> 291.7 | F89: =+H89 -> 291.7 | G89: =+H89 -> 291.7 | H89: =+'Հավելված N 3'!D75 -> 291.7
D90: =+'Հավելված N 3'!C76 -> «Դարբասի միջնակարգ դպրոց» ՊՈԱԿ | E90: =47405.3+1633.5+273.8 -> 49312.6 | F90: =126414.2+4355.8+730.1 -> 131500.1 | G90: =+H90 -> 197250 | H90: =+'Հավելված N 3'!D76 -> 197250
D91: «գ. Անգեղակոթի միջնակարգ դպրոց» ՊՈԱԿ | E91: =-50000-1807.6 -> -51807.6 | F91: =-67000-2419.2 -> -69419.2 | G91: =-41000-1451.5 -> -42451.5 | H91: 0
D92: «գ. Բռնակոթի միջնակարգ դպրոց» ՊՈԱԿ | E92: =-50000-1807.6 -> -51807.6 | F92: =-67000-2419.2 -> -69419.2 | G92: =-41000-1451.5 -> -42451.5 | H92: 0
D93: «գ. Կոռնիձորի միջնակարգ դպրոց» ՊՈԱԿ | E93: =-50000-1807.8 -> -51807.8 | F93: =-67000-2419.2 -> -69419.2 | G93: =-41000-1451.5 -> -42451.5 | H93: 0
D94: ՀՀ Տավուշի մարզ | E94: =+E95+E96 -> -138296 | F94: =+F95+F96 -> -281403.3 | G94: =+G95+G96 -> -281812.1 | H94: =+H95+H96 -> -282058.5
D95: =+'Հավելված N 3'!C78 -> «Դովեղի միջնակարգ դպրոց» ՊՈԱԿ | E95: =-135974.9-1912.3-408.8 -> -138296 | F95: =-285000-2881.3-1022 -> -288903.3 | G95: =-285000-2881.3-1430.8 -> -289312.1 | H95: =+'Հավելված N 3'!D78 -> -289558.5
D96: =+'Հավելված N 3'!C79 -> «Նավուրի միջնակարգ դպրոց» ՊՈԱԿ | E96: 0 | F96: =+H96 -> 7500 | G96: =+H96 -> 7500 | H96: =+'Հավելված N 3'!D79 -> 7500
B97: 1236 | C97: 32004 | D97: Հանրակրթական դպրոցների շենքերի վերակառուցում, հիմնանորոգում | E97: =+E99 -> 0 | F97: =+F99 -> 14390 | G97: =+G99 -> 14390 | H97: =+H99 -> 14390
D98: այդ թվում` ըստ կատարողների
D99: ՀՀ քաղաքաշինության կոմիտե | E99: =+E101 -> 0 | F99: =+F101 -> 14390 | G99: =+G101 -> 14390 | H99: =+H101 -> 14390
D100: այդ թվում՝ ըստ ուղղությունների
D101: Երևան քաղաք | E101: =+E102 -> 0 | F101: =+F102 -> 14390 | G101: =+G102 -> 14390 | H101: =+H102 -> 14390
D102: =+'Հավելված N 3'!C83 -> «Երևանի թիվ 22 հիմնական դպրոց» ՊՈԱԿ | E102: 0 | F102: =+H102 -> 14390 | G102: =+H102 -> 14390 | H102: =+'Հավելված N 3'!D83 -> 14390
B103: 1236 | C103: 32005 | D103: Կրթահամալիրների կառուցում | E103: =+E105 -> -363587.5 | F103: =+F105 -> -650634.7 | G103: =+G105 -> -828458 | H103: =+H105 -> -997266.3
...

Sheet Հավելված N 5
K1: Հավելված N 5
K2: ՀՀ կառավարության 2025 թվականի
K3: ______________ ի ___Ն որոշման
A6: ՀԱՅԱՍՏԱՆԻ ՀԱՆՐԱՊԵՏՈՒԹՅԱՆ ԿԱՌԱՎԱՐՈՒԹՅԱՆ 2024 ԹՎԱԿԱՆԻ ԴԵԿՏԵՄԲԵՐԻ 27-Ի N 2060-Ն ՈՐՈՇՄԱՆ N 9 ՀԱՎԵԼՎԱԾՈՒՄ ԿԱՏԱՐՎՈՂ ՓՈՓՈԽՈՒԹՅՈՒՆՆԵՐԸ ԵՎ ԼՐԱՑՈՒՄՆԵՐԸ
A9: ԲԳԿ | B9: Ծրագիր | D9: Միջոցառում | H9: Իրականացնողը/ ակտիվն օգտագործողը/ շահառուի ընտրության չափորոշիչը | I9: Արդյունքային չափորոշիչը | J9: Ցուցանիշների փոփոխությունը (ավելացումները նշված են դրական նշանով, իսկ նվազեցումները՝ փակագծերում)
B10: Դասիչը | C10: Անվանումը | D10: Դասիչը | E10: Անվանումը | F10: Նկարագրությունը | G10: Տեսակը | J10: Առաջին եռամսյակ | K10: Առաջին կիսամյակ | L10: Ինն ամիս | M10: Տարի
A11: ԸՆԴԱՄԵՆԸ | J11: =+J13 -> 0 | K11: =+K13 -> 0 | L11: =+L13 -> 1.1641532e-10 | M11: =+M13 -> 0
A12: այդ թվում՝
A13: ՀՀ ԿՐԹՈՒԹՅԱՆ, ԳԻՏՈՒԹՅԱՆ, ՄՇԱԿՈԻՅԹԻ ԵՎ ՍՊՈՐՏԻ ՆԱԽԱՐԱՐՈՒԹՅՈՒՆ | J13: =+J14+J27+J40+J46 -> 0 | K13: =+K14+K27+K40+K46 -> 0 | L13: =+L14+L27+L40+L46 -> 1.1641532e-10 | M13: =+M14+M27+M40+M46 -> 0
B14: 1163 | C14: Մասսայական սպորտ | J14: =+J15+J19 -> 5193.7 | K14: =+K15+K19 -> -60948.1 | L14: =+L15+L19 -> -173942.3 | M14: =+M15+M19 -> 34157.4
D15: 1163 - 12001 | E15: Աջակցություն համայնքներին մարզական հաստատությունների շենքային պայմանների բարելավման համար | J15: =+'Հավելված N 1'!G17 -> -63849.1 | K15: =+'Հավելված N 1'!H17 -> -224033.4 | L15: =+'Հավելված N 1'!I17 -> -472624.1 | M15: =+'Հավելված N 1'!J17 -> -264524.4
F16: Համայնքային ենթակայության մարզական հաստատությունների վերանորոգում և կառուցում
G17: Տրանսֆերտների տրամադրում
H18: Շահառուների ընտրության չափորոշիչները` ՀՀ համայնքների ենթակայության մարզական հաստատությունների շենքային պայմանների բարելավման անհրաժեշտությունը
D19: 1163 - 32001 | E19: Մարզական օբյեկտների շինարարություն | J19: =+'Հավելված N 1'!G18 -> 69042.8 | K19: =+'Հավելված N 1'!H18 -> 163085.3 | L19: =+'Հավելված N 1'!I18 -> 298681.8 | M19: =+'Հավելված N 1'!J18 -> 298681.8
F20: Մարզական օբյեկտների շենքերի (մասնաշենքերի) կառուցում (համաշինարարական աշխատանքներ, ջեռուցման համակարգի իրականացում, ներքին հարդարում, տարածքի բարեկարգում) և նախագծում
G21: Այլ պետական կազմակերպությունների կողմից օգտագործվող ոչ ֆինանսական ակտիվների հետ գործառնություններ
H22: Ակտիվն օգտագործող կազմակերպության անվանումը` Մարզական հաստատություններ
I23: Նախագծանահաշվային փաստաթղթերի քանակ, հատ | K23: 1 | M23: 1
I24: Կառուցման ենթակա օբյյեկտների թիվ, հատ | K24: 2 | M24: 2
I25: Հաստատությունների քանակ, որոնց շինարարական աշխատանքների ավարտվածության աստիճանը 100% է, հատ | K25: 1 | M25: 2
B27: 1183 | C27: Ապահով դպրոց | J27: =+J28+J32 -> 116742.2 | K27: =+K28+K32 -> 235315.7 | L27: =+L28+L32 -> 235315.7 | M27: =+M28+M32 -> 235315.7
D28: 1183 - 32007 | E28: Հանրակրթական կրթություն իրականացնող ուսումնական հաստատությունների նոր մարզադահլիճների կառուցում | J28: =+'Հավելված N 1'!G20 -> 2679.5 | K28: =+'Հավելված N 1'!H20 -> 3159.5 | L28: =+'Հավելված N 1'!I20 -> 3159.5 | M28: =+'Հավելված N 1'!J20 -> 3159.5
F29: Հանրակրթական ուսուցում իրականացնող ուսումնական հաստատությունների նոր մարզադահլիճների կառուցման նախագծանախահաշվային փաստաթղթերի մշակում
G30: Այլ պետական կազմակերպությունների կողմից օգտագործվող ոչ ֆինանսական ակտիվների հետ գործառնություններ
H31: Ակտիվն օգտագործող կազմակերպությունների անվանումները` Հանրակրթական դպրոցներ
D32: 1183 - 32009 | E32: Հանրակրթական կրթություն իրականացնող ուսումնական հաստատությունների մարզադահլիճների վերակառուցում | J32: =+'Հավելված N 1'!G21 -> 114062.7 | K32: =+'Հավելված N 1'!H21 -> 232156.2 | L32: =+'Հավելված N 1'!I21 -> 232156.2 | M32: =+'Հավելված N 1'!J21 -> 232156.2
F33: Հանրակրթական ուսուցում իրականացնող ուսումնական հաստատությունների մարզադահլիճների վերակառուցման նախագծանախահաշվային փաստաթղթերի մշակում
G34: Այլ պետական կազմակերպությունների կողմից օգտագործվող ոչ ֆինանսական ակտիվների հետ գործառնություններ
H35: Ակտիվն օգտագործող կազմակերպությունների անվանումները` Հանրակրթական դպրոցներ
I36: Հիմնանորոգվող ուսումնական հաստատությունների քանակ, հատ | J36: 2 | K36: 2 | L36: 2 | M36: 2
I37: Նախագծանախահաշվային փաստաթղթերի քանակ, հատ | K37: 2 | L37: 2 | M37: 2
I38: Հաստատությունների քանակ, որոնց շինարարական աշխատանքների ավարտվածության աստիճանը 100 տոկոս է | K38: 2 | L38: 2 | M38: 2
B40: 1192 | C40: Կրթության որակի ապահովում | J40: =+J41 -> 10000 | K40: =+K41 -> 0 | L40: =+L41 -> 0 | M40: =+M41 -> 0
D41: 1192 - 32007 | E41: ՀՀ պետական դպրոցների` ԳՏՃՄ լաբորատորիաներով ապահովում | J41: =+'Հավելված N 1'!G23 -> 10000 | K41: =+'Հավելված N 1'!H23 -> 0 | L41: =+'Հավելված N 1'!I23 -> 0 | M41: =+'Հավելված N 1'!J23 -> 0
F42: ՀՀ պետական դպրոցների համար ԳՏՃՄ առարկաների լաբորատոր սարքավարումների և կահույքի ձեռքբերում
G43: Այլ պետական կազմակերպությունների կողմից օգտագործվող ոչ ֆինանսական ակտիվների հետ գործառնություններ
H44: Ակտիվն օգտագործող կազմակերպության անվանումը` Հանրակրթական ուսումնական հաստատություններ
B46: 1236 | C46: Հանրակրթական և նախադպրոցական հաստատությունների հիմնում, կառուցում, բարելավում | J46: =+J47+J53+J61+J66+J72 -> -131935.9 | K46: =+K47+K53+K61+K66+K72 -> -174367.6 | L46: =+L47+L53+L61+L66+L72 -> -61373.4 | M46: =+M47+M53+M61+M66+M72 -> -269473.1
D47: 1236 - 32001 | E47: Մանկապարտեզների նոր շենքերի կառուցում | J47: =+'Հավելված N 1'!G25 -> 226678.9 | K47: =+'Հավելված N 1'!H25 -> 287782.8 | L47: =+'Հավելված N 1'!I25 -> 433427.9 | M47: =+'Հավելված N 1'!J25 -> 433427.9
F48: Նախադպրոցական կրթության հասանելիության ապահովման նպատակով՛ մանկապարտեզների հիմնում, նոր շենքերի (մասնաշենքերի), ներառյալ՛ «Մոդուլային» տիպի շենքերի կառուցում և նախագծում
G49: Այլ պետական կազմակերպությունների կողմից օգտագործվող ոչ ֆինանսական ակտիվների հետ գործառնություններ
H50: Ակտիվն օգտագործող կազմակերպության անվանումը` Նախադպրոցական կրթություն իրականացնող ուսումնական հաստատություններ
I51: Կառուցվող մանկապարտեզների քանակ, հատ | J51: 1 | K51: 1 | L51: 1 | M51: 1
I52: Հաստատությունների քանակ, որոնց շինարարական աշխատանքների ավարտվածության աստիճանը 100 տոկոս է | J52: 0 | K52: 0 | L52: 1 | M52: 1
D53: 1236 - 32003 | E53: Հանրակրթական դպրոցների նոր շենքերի կառուցում | J53: =+'Հավելված N 1'!G26 -> 14972.7 | K53: =+'Հավելված N 1'!H26 -> 174094.3 | L53: =+'Հավելված N 1'!I26 -> 319266.7 | M53: =+'Հավելված N 1'!J26 -> 279975.3
F54: ՀՀ մարզերում կրթական որակյալ ծառայությունների հասանելիության ապահովման ծրագրի շրջանակներում հանրակրթական և նախադպրոցական կրթության հասանելիության ապահովման նպատակով կրթական կենտրոնների կառուցում
G55: Այլ պետական կազմակերպությունների կողմից օգտագործվող ոչ ֆինանսական ակտիվների հետ գործառնություններ
H56: Ակտիվն օգտագործող կազմակերպությունների անվանումները` Հանրակրթական դպրոցներ
I57: Կառուցվող մոդուլային դպրոցների թիվը, հատ | J57: 2 | K57: 3 | L57: 3 | M57: 3
I58: Մոդուլային դպրոցների թիվը, որոնց շինարարական աշխատանքների ավարտվածության աստիճանը 100 տոկոս է | J58: 0 | K58: 0 | L58: 3 | M58: 3
I59: Տարվա ընթացքում կառուցումն ավարտված մոդուլային դպրոցների ընդհանուր հզորությունը (շահառուների թիվը), մարդ | J59: 0 | K59: 0 | L59: 350 | M59: 350
I60: Նախագծանախահաշվային փաստաթղթերի քանակ, հատ | J60: 0 | K60: 3 | L60: 3 | M60: 3
D61: 1236 - 32004 | E61: Հանրակրթական դպրոցների շենքերի վերակառուցում, հիմնանորոգում | J61: =+'Հավելված N 1'!G27 -> 0 | K61: =+'Հավելված N 1'!H27 -> 14390 | L61: =+'Հավելված N 1'!I27 -> 14390 | M61: =+'Հավելված N 1'!J27 -> 14390
F62: Դպրոցական պարտադիր կրթության հասանելիության ապահովման նպատակով՛ հանրակրթական դպրոցների շենքերի (մասնաշենքերի), վերակառուցում, հիմնանորոգում և նախագծում
G63: Այլ պետական կազմակերպությունների կողմից օգտագործվող ոչ ֆինանսական ակտիվների հետ գործառնություններ
H64: Ակտիվն օգտագործող կազմակերպությունների անվանումները` Հանրակրթական դպրոցներ
I65: Նախագծանախահաշվային փաստաթղթերի քանակ, հատ | J65: 0 | K65: 1 | L65: 1 | M65: 1
D66: 1236 - 32005 | E66: Կրթահամալիրների կառուցում | J66: =+'Հավելված N 1'!G28 -> -363587.5 | K66: =+'Հավելված N 1'!H28 -> -650634.7 | L66: =+'Հավելված N 1'!I28 -> -828458 | M66: =+'Հավելված N 1'!J28 -> -997266.3
F67: ՀՀ մարզերում կրթական որակյալ ծառայությունների հասանելիության ապահովման ծրագրի շրջանակներում հանրակրթական և նախադպրոցական կրթության հասանելիության ապահովման նպատակով կրթական կենտրոնների կառուցում
G68: Այլ պետական կազմակերպությունների կողմից օգտագործվող ոչ ֆինանսական ակտիվների հետ գործառնություններ
H69: Ակտիվն օգտագործող կազմակերպությունների անվանումները` Ստեղծվող կրթահամալիրներ
I70: Սյունիքի մարզում ՀՀ-ում կրթական որակյալ ծառայությունների հասանելիության ապահովման ծրագրի շրջանակներում կառուցվող կրթահամալիրների (կրթական կենտրոնների) քանակ, հատ | J70: -3 | K70: -3 | L70: -3 | M70: -3
I71: Նախագծանախահաշվային փաստաթղթերի քանակ, հատ | J71: 0 | K71: 5 | L71: 5 | M71: 5
D72: 1236 - 32006 | E72: Հանրակրթական դպրոցների, մանկապարտեզների և կրթահամալիրների գույքով և տեխնիկայով ապահովում | J72: =+'Հավելված N 1'!G29 -> -10000 | K72: =+'Հավելված N 1'!H29 -> 0 | L72: =+'Հավելված N 1'!I29 -> 0 | M72: =+'Հավելված N 1'!J29 -> 0
F73: Կրթական ժամանակակից նորմերին և կրթական չափորոշիչներին համապատասխան ուսուցման ծրագրերն իրականացնելու նպատակով հանրակրթական և նախադպրոցական հաստատությունների համար գույքի և տեխնիկայի ձեռքբերում
G74: Այլ պետական կազմակերպությունների կողմից օգտագործվող ոչ ֆինանսական ակտիվների հետ գործառնություններ
H75: Ակտիվն օգտագործող կազմակերպությունների անվանումները` Հանրակրթական դպրոցներ, մանկապարտեզներ և կրթահամալիրներ

Sheet Հավելված N 6
K1: Հավելված N 6
K2: ՀՀ կառավարության 2025 թվականի
K3: ______________ ի ___Ն որոշման
A6: ՀԱՅԱՍՏԱՆԻ ՀԱՆՐԱՊԵՏՈՒԹՅԱՆ ԿԱՌԱՎԱՐՈՒԹՅԱՆ 2024 ԹՎԱԿԱՆԻ ԴԵԿՏԵՄԲԵՐԻ 27-Ի N 2060-Ն ՈՐՈՇՄԱՆ N 9.1 ՀԱՎԵԼՎԱԾՈՒՄ ԿԱՏԱՐՎՈՂ ՓՈՓՈԽՈՒԹՅՈՒՆՆԵՐԸ ԵՎ ԼՐԱՑՈՒՄՆԵՐԸ
A9: ԲՍԿ | B9: Ծրագիր | D9: Միջոցառում | H9: Իրականացնողը/ ակտիվն օգտագործողը/ շահառուի ընտրության չափորոշիչը | I9: Արդյունքային չափորոշիչը | J9: Ցուցանիշների փոփոխությունը (ավելացումները նշված են դրական նշանով, իսկ նվազեցումները՝ փակագծերում)
B10: Դասիչը | C10: Անվանումը | D10: Դասիչը | E10: Անվանումը | F10: Նկարագրությունը | G10: Տեսակը | J10: Առաջին եռամսյակ | K10: Առաջին կիսամյակ | L10: Ինն ամիս | M10: Տարի
A11: ԸՆԴԱՄԵՆԸ | J11: =+J13+J26 -> 0 | K11: =+K13+K26 -> 0 | L11: =+L13+L26 -> 1.1641532e-10 | M11: =+M13+M26 -> 0
A12: այդ թվում՝
A13: ՀՀ ԿՐԹՈՒԹՅԱՆ, ԳԻՏՈՒԹՅԱՆ, ՄՇԱԿՈԻՅԹԻ ԵՎ ՍՊՈՐՏԻ ՆԱԽԱՐԱՐՈՒԹՅՈՒՆ | J13: =+J14+J20 -> 0 | K13: =+K14+K20 -> 0 | L13: =+L14+L20 -> 0 | M13: =+M14+M20 -> 0
B14: 1192 | C14: Կրթության որակի ապահովում | J14: =+J15 -> 10000 | K14: =+K15 -> 0 | L14: =+L15 -> 0 | M14: =+M15 -> 0
D15: 1192 - 32007 | E15: ՀՀ պետական դպրոցների` ԳՏՃՄ լաբորատորիաներով ապահովում | J15: =+'Հավելված N 2'!G45 -> 10000 | K15: =+'Հավելված N 2'!H45 -> 0 | L15: =+'Հավելված N 2'!I45 -> 0 | M15: =+'Հավելված N 2'!J45 -> 0
F16: ՀՀ պետական դպրոցների համար ԳՏՃՄ առարկաների լաբորատոր սարքավարումների և կահույքի ձեռքբերում
G17: Այլ պետական կազմակերպությունների կողմից օգտագործվող ոչ ֆինանսական ակտիվների հետ գործառնություններ
H18: Ակտիվն օգտագործող կազմակերպության անվանումը` Հանրակրթական ուսումնական հաստատություններ
B20: 1236 | C20: Հանրակրթական և նախադպրոցական հաստատությունների հիմնում, կառուցում, բարելավում | J20: =+J21 -> -10000 | K20: =+K21 -> 0 | L20: =+L21 -> 0 | M20: =+M21 -> 0
D21: 1236 - 32006 | E21: Հանրակրթական դպրոցների, մանկապարտեզների և կրթահամալիրների գույքով և տեխնիկայով ապահովում | J21: =+'Հավելված N 2'!G87 -> -10000 | K21: =+'Հավելված N 2'!H87 -> 0 | L21: =+'Հավելված N 2'!I87 -> 0 | M21: =+'Հավելված N 2'!J87 -> 0
F22: Կրթական ժամանակակից նորմերին և կրթական չափորոշիչներին համապատասխան ուսուցման ծրագրերն իրականացնելու նպատակով հանրակրթական և նախադպրոցական հաստատությունների համար գույքի և տեխնիկայի ձեռքբերում
G23: Այլ պետական կազմակերպությունների կողմից օգտագործվող ոչ ֆինանսական ակտիվների հետ գործառնություններ
H24: Ակտիվն օգտագործող կազմակերպությունների անվանումները` Հանրակրթական դպրոցներ, մանկապարտեզներ և կրթահամալիրներ
A26: ՀՀ ՔԱՂԱՔԱՇԻՆՈՒԹՅԱՆ ԿՈՄԻՏԵ | J26: =+J27+J40+J53 -> 0 | K26: =+K27+K40+K53 -> 0 | L26: =+L27+L40+L53 -> 1.1641532e-10 | M26: =+M27+M40+M53 -> 0
B27: 1163 | C27: Մասսայական սպորտ | J27: =+J28+J32 -> 5193.7 | K27: =+K28+K32 -> -60948.1 | L27: =+L28+L32 -> -173942.3 | M27: =+M28+M32 -> 34157.4
D28: 1163 - 12001 | E28: Աջակցություն համայնքներին մարզական հաստատությունների շենքային պայմանների բարելավման համար | J28: =+'Հավելված N 2'!G104 -> -63849.1 | K28: =+'Հավելված N 2'!H104 -> -224033.4 | L28: =+'Հավելված N 2'!I104 -> -472624.1 | M28: =+'Հավելված N 2'!J104 -> -264524.4
F29: Համայնքային ենթակայության մարզական հաստատությունների վերանորոգում և կառուցում
G30: Տրանսֆերտների տրամադրում
H31: Շահառուների ընտրության չափորոշիչները` ՀՀ համայնքների ենթակայության մարզական հաստատությունների շենքային պայմանների բարելավման անհրաժեշտությունը
D32: 1163 - 32001 | E32: Մարզական օբյեկտների շինարարություն | J32: =+'Հավելված N 2'!G113 -> 69042.8 | K32: =+'Հավելված N 2'!H113 -> 163085.3 | L32: =+'Հավելված N 2'!I113 -> 298681.8 | M32: =+'Հավելված N 2'!J113 -> 298681.8
F33: Մարզական օբյեկտների շենքերի (մասնաշենքերի) կառուցում (համաշինարարական աշխատանքներ, ջեռուցման համակարգի իրականացում, ներքին հարդարում, տարածքի բարեկարգում) և նախագծում
G34: Այլ պետական կազմակերպությունների կողմից օգտագործվող ոչ ֆինանսական ակտիվների հետ գործառնություններ
H35: Ակտիվն օգտագործող կազմակերպության անվանումը` Մարզական հաստատություններ
I36: Նախագծանահաշվային փաստաթղթերի քանակ, հատ | K36: 1 | M36: 1
I37: Կառուցման ենթակա օբյյեկտների թիվ, հատ | K37: 2 | M37: 2
I38: Հաստատությունների քանակ, որոնց շինարարական աշխատանքների ավարտվածության աստիճանը 100% է, հատ | K38: 1 | M38: 2
B40: 1183 | C40: Ապահով դպրոց | J40: =+J41+J45 -> 116742.2 | K40: =+K41+K45 -> 235315.7 | L40: =+L41+L45 -> 235315.7 | M40: =+M41+M45 -> 235315.7
D41: 1183 - 32007 | E41: Հանրակրթական կրթություն իրականացնող ուսումնական հաստատությունների նոր մարզադահլիճների կառուցում | J41: =+'Հավելված N 2'!G124 -> 2679.5 | K41: =+'Հավելված N 2'!H124 -> 3159.5 | L41: =+'Հավելված N 2'!I124 -> 3159.5 | M41: =+'Հավելված N 2'!J124 -> 3159.5
F42: Հանրակրթական ուսուցում իրականացնող ուսումնական հաստատությունների նոր մարզադահլիճների կառուցման նախագծանախահաշվային փաստաթղթերի մշակում
G43: Այլ պետական կազմակերպությունների կողմից օգտագործվող ոչ ֆինանսական ակտիվների հետ գործառնություններ
H44: Ակտիվն օգտագործող կազմակերպությունների անվանումները` Հանրակրթական դպրոցներ
D45: 1183 - 32009 | E45: Հանրակրթական կրթություն իրականացնող ուսումնական հաստատությունների մարզադահլիճների վերակառուցում | J45: =+'Հավելված N 2'!G137 -> 114062.7 | K45: =+'Հավելված N 2'!H137 -> 232156.2 | L45: =+'Հավելված N 2'!I137 -> 232156.2 | M45: =+'Հավելված N 2'!J137 -> 232156.2
F46: Հանրակրթական ուսուցում իրականացնող ուսումնական հաստատությունների մարզադահլիճների վերակառուցման նախագծանախահաշվային փաստաթղթերի մշակում
G47: Այլ պետական կազմակերպությունների կողմից օգտագործվող ոչ ֆինանսական ակտիվների հետ գործառնություններ
H48: Ակտիվն օգտագործող կազմակերպությունների անվանումները` Հանրակրթական դպրոցներ
I49: Հիմնանորոգվող ուսումնական հաստատությունների քանակ, հատ | J49: 2 | K49: 2 | L49: 2 | M49: 2
I50: Նախագծանախահաշվային փաստաթղթերի քանակ, հատ | K50: 2 | L50: 2 | M50: 2
I51: Հաստատությունների քանակ, որոնց շինարարական աշխատանքների ավարտվածության աստիճանը 100 տոկոս է | K51: 2 | L51: 2 | M51: 2
B53: 1236 | C53: Հանրակրթական և նախադպրոցական հաստատությունների հիմնում, կառուցում, բարելավում | J53: =+J54+J60+J68+J73 -> -121935.9 | K53: =+K54+K60+K68+K73 -> -174367.6 | L53: =+L54+L60+L68+L73 -> -61373.4 | M53: =+M54+M60+M68+M73 -> -269473.1
D54: 1236 - 32001 | E54: Մանկապարտեզների նոր շենքերի կառուցում | J54: =+'Հավելված N 2'!G28 -> 226678.9 | K54: =+'Հավելված N 2'!H28 -> 287782.8 | L54: =+'Հավելված N 2'!I28 -> 433427.9 | M54: =+'Հավելված N 2'!J28 -> 433427.9
F55: Նախադպրոցական կրթության հասանելիության ապահովման նպատակով՛ մանկապարտեզների հիմնում, նոր շենքերի (մասնաշենքերի), ներառյալ՛ «Մոդուլային» տիպի շենքերի կառուցում և նախագծում
G56: Այլ պետական կազմակերպությունների կողմից օգտագործվող ոչ ֆինանսական ակտիվների հետ գործառնություններ
H57: Ակտիվն օգտագործող կազմակերպության անվանումը` Նախադպրոցական կրթություն իրականացնող ուսումնական հաստատություններ
I58: Կառուցվող մանկապարտեզների քանակ, հատ | J58: 1 | K58: 1 | L58: 1 | M58: 1
I59: Հաստատությունների քանակ, որոնց շինարարական աշխատանքների ավարտվածության աստիճանը 100 տոկոս է | J59: 0 | K59: 0 | L59: 1 | M59: 1
D60: 1236 - 32003 | E60: Հանրակրթական դպրոցների նոր շենքերի կառուցում | J60: =+'Հավելված N 2'!G56 -> 14972.7 | K60: =+'Հավելված N 2'!H56 -> 174094.3 | L60: =+'Հավելված N 2'!I56 -> 319266.7 | M60: =+'Հավելված N 2'!J56 -> 279975.3
F61: ՀՀ մարզերում կրթական որակյալ ծառայությունների հասանելիության ապահովման ծրագրի շրջանակներում հանրակրթական և նախադպրոցական կրթության հասանելիության ապահովման նպատակով կրթական կենտրոնների կառուցում
G62: Այլ պետական կազմակերպությունների կողմից օգտագործվող ոչ ֆինանսական ակտիվների հետ գործառնություններ
H63: Ակտիվն օգտագործող կազմակերպությունների անվանումները` Հանրակրթական դպրոցներ
I64: Կառուցվող մոդուլային դպրոցների թիվը, հատ | J64: 2 | K64: 3 | L64: 3 | M64: 3
I65: Մոդուլային դպրոցների թիվը, որոնց շինարարական աշխատանքների ավարտվածության աստիճանը 100 տոկոս է | J65: 0 | K65: 0 | L65: 3 | M65: 3
I66: Տարվա ընթացքում կառուցումն ավարտված մոդուլային դպրոցների ընդհանուր հզորությունը (շահառուների թիվը), մարդ | J66: 0 | K66: 0 | L66: 350 | M66: 350
I67: Նախագծանախահաշվային փաստաթղթերի քանակ, հատ | J67: 0 | K67: 3 | L67: 3 | M67: 3
D68: 1236 - 32004 | E68: Հանրակրթական դպրոցների շենքերի վերակառուցում, հիմնանորոգում | J68: =+'Հավելված N 2'!G65 -> 0 | K68: =+'Հավելված N 2'!H65 -> 14390 | L68: =+'Հավելված N 2'!I65 -> 14390 | M68: =+'Հավելված N 2'!J65 -> 14390
F69: Դպրոցական պարտադիր կրթության հասանելիության ապահովման նպատակով՛ հանրակրթական դպրոցների շենքերի (մասնաշենքերի), վերակառուցում, հիմնանորոգում և նախագծում
G70: Այլ պետական կազմակերպությունների կողմից օգտագործվող ոչ ֆինանսական ակտիվների հետ գործառնություններ
H71: Ակտիվն օգտագործող կազմակերպությունների անվանումները` Հանրակրթական դպրոցներ
I72: Նախագծանախահաշվային փաստաթղթերի քանակ, հատ | J72: 0 | K72: 1 | L72: 1 | M72: 1
D73: 1236 - 32005 | E73: Կրթահամալիրների կառուցում | J73: =+'Հավելված N 2'!G74 -> -363587.5 | K73: =+'Հավելված N 2'!H74 -> -650634.7 | L73: =+'Հավելված N 2'!I74 -> -828458 | M73: =+'Հավելված N 2'!J74 -> -997266.3
F74: ՀՀ մարզերում կրթական որակյալ ծառայությունների հասանելիության ապահովման ծրագրի շրջանակներում հանրակրթական և նախադպրոցական կրթության հասանելիության ապահովման նպատակով կրթական կենտրոնների կառուցում
G75: Այլ պետական կազմակերպությունների կողմից օգտագործվող ոչ ֆինանսական ակտիվների հետ գործառնություններ
H76: Ակտիվն օգտագործող կազմակերպությունների անվանումները` Ստեղծվող կրթահամալիրներ
I77: Սյունիքի մարզում ՀՀ-ում կրթական որակյալ ծառայությունների հասանելիության ապահովման ծրագրի շրջանակներում կառուցվող կրթահամալիրների (կրթական կենտրոնների) քանակ, հատ | J77: -3 | K77: -3 | L77: -3 | M77: -3
I78: Նախագծանախահաշվային փաստաթղթերի քանակ, հատ | J78: 0 | K78: 5 | L78: 5 | M78: 5

Sheet Հավելված N 7
H1: Հավելված N 7
H2: ՀՀ կառավարության 2025 թվականի
H3: ______________ ի ___Ն որոշման
A6: ՀԱՅԱՍՏԱՆԻ ՀԱՆՐԱՊԵՏՈՒԹՅԱՆ ԿԱՌԱՎԱՐՈՒԹՅԱՆ 2024 ԹՎԱԿԱՆԻ ԴԵԿՏԵՄԲԵՐԻ 27-Ի N 2060-Ն N 10 ՀԱՎԵԼՎԱԾՈՒՄ ԿԱՏԱՐՎՈՂ ՓՈՓՈԽՈՒԹՅՈՒՆՆԵՐԸ ԵՎ ԼՐԱՑՈՒՄՆԵՐԸ
A10: Կոդը | B10: Անվանումը | E10: Գնման ձևը | F10: Չափման միավորը | G10: Միավորի գինը | H10: Ցուցանիշների փոփոխությունը (ավելացումները նշված են դրական նշանով, իսկ նվազեցումները՝ փակագծերում)
H11: Քանակը | I11: Գումարը (հազար դրամ)
A12: 1 | B12: 2 | E12: 3 | F12: 4 | G12: 5 | H12: 6 | I12: 7
A13: ՀՀ քաղաքաշինության կոմիտե | I13: =+I14+I26+I69 -> 0
A14: Բաժին N 09 | B14: Խումբ N 01 | C14: Դաս N 01 | D14: Նախադպրոցական կրթություն | I14: =+I15 -> 433427.9
A15: 1236-32001 | B15: Մանկապարտեզների նոր շենքերի կառուցում | I15: =+I16+I18 -> 433427.9
B16: ՄԱՍ II. ԱՇԽԱՏԱՆՔՆԵՐ | I16: =+I17 -> 413571.6
A17: 45221142 | B17: ընդհանուր շինարարական աշխատանքներ | E17: ԲՄ | F17: դրամ | G17: 413571600 | H17: 1 | I17: =+ROUNDUP(H17*G17/1000,1) -> 413571.6
B18: ՄԱՍ III. ԾԱՌԱՅՈՒԹՅՈՒՆՆԵՐ | I18: =SUM(I19:I25) -> 19856.3
A19: 71351540 | B19: տեխնիկական հսկողության ծառայություններ | E19: ԳՀ | F19: դրամ | G19: 277000 | H19: 1 | I19: =+ROUNDUP(H19*G19/1000,1) -> 277
A20: 71351540 | B20: տեխնիկական հսկողության ծառայություններ | E20: ԳՀ | F20: դրամ | G20: 469100 | H20: 1 | I20: =+ROUNDUP(H20*G20/1000,1) -> 469.1
A21: 71351540 | B21: տեխնիկական հսկողության ծառայություններ | E21: ԳՀ | F21: դրամ | G21: 576600 | H21: 1 | I21: =+ROUNDUP(H21*G21/1000,1) -> 576.6
A22: 71351540 | B22: տեխնիկական հսկողության ծառայություններ | E22: ԳՀ | F22: դրամ | G22: 8734000 | H22: 1 | I22: =+ROUNDUP(H22*G22/1000,1) -> 8734
A23: 98111140 | B23: հեղինակային հսկողության ծառայություններ | E23: ՄԱ | F23: դրամ | G23: 4680700 | H23: 1 | I23: =+ROUNDUP(H23*G23/1000,1) -> 4680.7
A24: 98111140 | B24: հեղինակային հսկողության ծառայություններ | E24: ՄԱ | F24: դրամ | G24: 592900 | H24: 1 | I24: =+ROUNDUP(H24*G24/1000,1) -> 592.9
A25: 98111140 | B25: հեղինակային հսկողության ծառայություններ | E25: ՄԱ | F25: դրամ | G25: 4526000 | H25: 1 | I25: =+ROUNDUP(H25*G25/1000,1) -> 4526
A26: Բաժին N 09 | B26: Խումբ N 02 | C26: Դաս N 01 | D26: Հիմնական ընդհանուր կրթություն | I26: =+I27+I47+I51 -> -702901
A27: 1236-32003 | B27: Հանրակրթական դպրոցների նոր շենքերի կառուցում | I27: =+I28+I33 -> 279975.3
B28: ՄԱՍ II. ԱՇԽԱՏԱՆՔՆԵՐ | I28: =SUM(I29:I32) -> 236875.1
A29: 45211231-7 | B29: միջնակարգ դպրոցների կառուցման աշխատանքներ | E29: ԲՄ | F29: դրամ | I29: -285000
A30: 45211231 | B30: միջնակարգ դպրոցների կառուցման աշխատանքներ | E30: ԲՄ | F30: դրամ | G30: 190021000 | H30: 1 | I30: =+ROUNDUP(H30*G30/1000,1) -> 190021
A31: 45211231 | B31: միջնակարգ դպրոցների կառուցման աշխատանքներ | E31: ԲՄ | F31: դրամ | G31: 142232900 | H31: 1 | I31: =+ROUNDUP(H31*G31/1000,1) -> 142232.9
A32: 45211231 | B32: միջնակարգ դպրոցների կառուցման աշխատանքներ | E32: ԲՄ | F32: դրամ | G32: 189621200 | H32: 1 | I32: =+ROUNDUP(H32*G32/1000,1) -> 189621.2
B33: ՄԱՍ III. ԾԱՌԱՅՈՒԹՅՈՒՆՆԵՐ | I33: =SUM(I34:I46) -> 43100.2
A34: 71351540-3 | B34: տեխնիկական հսկողության ծառայություններ | E34: ԳՀ | F34: դրամ | I34: 6930
A35: 71351540-13 | B35: տեխնիկական հսկողության ծառայություններ | E35: ԳՀ | F35: դրամ | I35: =291.7+6533.7 -> 6825.4
A36: 71351540-15 | B36: տեխնիկական հսկողության ծառայություններ | E36: ԳՀ | F36: դրամ | I36: -2881.3
A37: 71351540 | B37: տեխնիկական հսկողության ծառայություններ | E37: ԳՀ | F37: դրամ | G37: 566300 | H37: =--1 -> 1 | I37: =+ROUNDUP(H37*G37/1000,1) -> 566.3
A38: 71351540 | B38: տեխնիկական հսկողության ծառայություններ | E38: ԳՀ | F38: դրամ | G38: =5614400+1204600 -> 6819000 | H38: =--1 -> 1 | I38: =+ROUNDUP(H38*G38/1000,1) -> 6819
A39: 98111140-2 | B39: հեղինակային հսկողության ծառայություններ | E39: ՄԱ | F39: դրամ | I39: =1133.2+1224.9+192.8+190+1095.1-1677.2 -> 2158.8
A40: 98111140 | B40: հեղինակային հսկողության ծառայություններ | E40: ՄԱ | F40: դրամ | G40: 182000 | H40: 1 | I40: =+ROUNDUP(H40*G40/1000,1) -> 182
A41: 71241200 | B41: նախագծերի պատրաստում, ծախսերի գնահատում | E41: ՄԱ | F41: դրամ | G41: 7000000 | H41: 1 | I41: =+ROUNDUP(H41*G41/1000,1) -> 7000
A42: 71241200 | B42: նախագծերի պատրաստում, ծախսերի գնահատում | E42: ՄԱ | F42: դրամ | G42: 7000000 | H42: 1 | I42: =+ROUNDUP(H42*G42/1000,1) -> 7000
A43: 71241200 | B43: նախագծերի պատրաստում, ծախսերի գնահատում | E43: ՄԱ | F43: դրամ | G43: 7000000 | H43: 1 | I43: =+ROUNDUP(H43*G43/1000,1) -> 7000
A44: 50531140 | B44: փորձաքննության ծառայություններ | E44: ԳՀ | F44: դրամ | G44: 500000 | H44: 1 | I44: =+ROUND(H44*G44/1000,1) -> 500
A45: 50531140 | B45: փորձաքննության ծառայություններ | E45: ԳՀ | F45: դրամ | G45: 500000 | H45: 1 | I45: =+ROUND(H45*G45/1000,1) -> 500
A46: 50531140 | B46: փորձաքննության ծառայություններ | E46: ԳՀ | F46: դրամ | G46: 500000 | H46: 1 | I46: =+ROUND(H46*G46/1000,1) -> 500
A47: 1236-32004 | B47: Հանրակրթական դպրոցների շենքերի վերակառուցում, հիմնանորոգում | I47: =+I48 -> 14390
B48: ՄԱՍ III. ԾԱՌԱՅՈՒԹՅՈՒՆՆԵՐ | I48: =SUM(I49:I50) -> 14390
A49: 71241200 | B49: նախագծերի պատրաստում, ծախսերի գնահատում | E49: ԳՀ | F49: դրամ | G49: 13200000 | H49: 1 | I49: =+ROUNDUP(H49*G49/1000,1) -> 13200
A50: 50531140 | B50: փորձաքննության ծառայություններ | E50: ԳՀ | F50: դրամ | G50: 1190000 | H50: 1 | I50: =+ROUND(H50*G50/1000,1) -> 1190
A51: 1236-32005 | B51: Կրթահամալիրների կառուցում | I51: =+I52+I56 -> -997266.3
B52: ՄԱՍ II. ԱՇԽԱՏԱՆՔՆԵՐ | I52: =SUM(I53:I55) -> -992702.1
A53: 45221142-8 | B53: ընդհանուր շինարարական աշխատանքներ | E53: ՀԲՄ | F53: դրամ | G53: 237666600 | H53: -1 | I53: =+ROUND(H53*G53/1000,1) -> -237666.6
A54: 45221142-15 | B54: ընդհանուր շինարարական աշխատանքներ | E54: ՀԲՄ | F54: դրամ | G54: 228595900 | H54: -1 | I54: =+ROUND(H54*G54/1000,1) -> -228595.9
A55: 45221142-18 | B55: ընդհանուր շինարարական աշխատանքներ | E55: ՀԲՄ | F55: դրամ | G55: 526439600 | H55: -1 | I55: =+ROUND(H55*G55/1000,1) -> -526439.6
B56: ՄԱՍ III. ԾԱՌԱՅՈՒԹՅՈՒՆՆԵՐ | I56: =SUM(I57:I68) -> -4564.2
A57: 71351540-8 | B57: տեխնիկական հսկողության ծառայություններ | E57: ԳՀ | F57: դրամ | G57: 11899200 | H57: -1 | I57: =+ROUND(H57*G57/1000,1) -> -11899.2
A58: 71351540-12 | B58: տեխնիկական հսկողության ծառայություններ | E58: ԳՀ | F58: դրամ | G58: 23110000 | H58: -1 | I58: =+ROUNDUP(H58*G58/1000,1) -> -23110
A59: 71351540-15 | B59: տեխնիկական հսկողության ծառայություններ | E59: ԳՀ | F59: դրամ | G59: 11555000 | H59: -1 | I59: =+ROUNDUP(H59*G59/1000,1) -> -11555
A60: 71241200 | B60: նախագծերի պատրաստում, ծախսերի գնահատում | E60: ՄԱ | F60: դրամ | G60: 7000000 | H60: 1 | I60: =+ROUNDUP(H60*G60/1000,1) -> 7000
A61: 71241200 | B61: նախագծերի պատրաստում, ծախսերի գնահատում | E61: ՄԱ | F61: դրամ | G61: 7000000 | H61: 1 | I61: =+ROUNDUP(H61*G61/1000,1) -> 7000
A62: 71241200 | B62: նախագծերի պատրաստում, ծախսերի գնահատում | E62: ՄԱ | F62: դրամ | G62: 7000000 | H62: 1 | I62: =+ROUNDUP(H62*G62/1000,1) -> 7000
A63: 71241200 | B63: նախագծերի պատրաստում, ծախսերի գնահատում | E63: ՄԱ | F63: դրամ | G63: 7000000 | H63: 1 | I63: =+ROUNDUP(H63*G63/1000,1) -> 7000
A64: 71241200 | B64: նախագծերի պատրաստում, ծախսերի գնահատում | E64: ԳՀ | F64: դրամ | G64: 12000000 | H64: 1 | I64: =+ROUNDUP(H64*G64/1000,1) -> 12000
A65: 50531140 | B65: փորձաքննության ծառայություններ | E65: ԳՀ | F65: դրամ | G65: 500000 | H65: 1 | I65: =+ROUND(H65*G65/1000,1) -> 500
A66: 50531140 | B66: փորձաքննության ծառայություններ | E66: ԳՀ | F66: դրամ | G66: 500000 | H66: 1 | I66: =+ROUND(H66*G66/1000,1) -> 500
A67: 50531140 | B67: փորձաքննության ծառայություններ | E67: ԳՀ | F67: դրամ | G67: 500000 | H67: 1 | I67: =+ROUND(H67*G67/1000,1) -> 500
A68: 50531140 | B68: փորձաքննության ծառայություններ | E68: ԳՀ | F68: դրամ | G68: 500000 | H68: 1 | I68: =+ROUND(H68*G68/1000,1) -> 500
A69: Բաժին N 09 | B69: Խումբ N 06 | C69: Դաս N 01 | D69: Կրթությանը տրամադրվող օժանդակ ծառայություններ | I69: =+I70+I76+I85+I92 -> 269473.1
A70: 1163-12001 | B70: Աջակցություն համայնքներին մարզական հաստատությունների շենքային պայմանների բարելավման համար | I70: =+I71+I73 -> -264524.4
B71: ՄԱՍ II. ԱՇԽԱՏԱՆՔՆԵՐ | I71: =+I72 -> -245286.1
A72: 45211131-1 | B72: մարզական օբյեկտների շինարարական աշխատանքներ | E72: ՀԲՄ | F72: դրամ | I72: -245286.1
B73: ՄԱՍ III. ԾԱՌԱՅՈՒԹՅՈՒՆՆԵՐ | I73: =SUM(I74:I75) -> -19238.3
A74: 71351540-1 | B74: տեխնիկական հսկողության ծառայություններ | E74: ԳՀ | F74: դրամ | I74: -15151.3
A75: 98111140-1 | B75: հեղինակային հսկողության ծառայություններ | E75: ՄԱ | F75: դրամ | I75: -4087
A76: 1163-32001 | B76: Մարզական օբյեկտների շինարարություն | I76: =+I77+I80 -> 298681.8
B77: ՄԱՍ II. ԱՇԽԱՏԱՆՔՆԵՐ | I77: =SUM(I78:I79) -> 262305
A78: 45221142 | B78: ընդհանուր շինարարական աշխատանքներ | E78: ԲՄ | F78: դրամ | G78: 261060500 | H78: 1 | I78: =+ROUNDUP(H78*G78/1000,1) -> 261060.5
A79: 45221142 | B79: ընդհանուր շինարարական աշխատանքներ | E79: ԳՀ | F79: դրամ | G79: 1244500 | H79: 1 | I79: =+ROUNDUP(H79*G79/1000,1) -> 1244.5
B80: ՄԱՍ III. ԾԱՌԱՅՈՒԹՅՈՒՆՆԵՐ | I80: =SUM(I81:I84) -> 36376.8
A81: 71351540 | B81: տեխնիկական հսկողության ծառայություններ | E81: ԳՀ | F81: դրամ | G81: 7906100 | H81: 1 | I81: =+ROUNDUP(H81*G81/1000,1) -> 7906.1
A82: 98111140 | B82: հեղինակային հսկողության ծառայություններ | E82: ՄԱ | F82: դրամ | G82: 2226700 | H82: 1 | I82: =+ROUNDUP(H82*G82/1000,1) -> 2226.7
A83: 71241200 | B83: նախագծերի պատրաստում, ծախսերի գնահատում | E83: ՀՄԱ | F83: դրամ | G83: 24624000 | H83: 1 | I83: =+ROUNDUP(H83*G83/1000,1) -> 24624
A84: 50531140 | B84: փորձաքննության ծառայություններ | E84: ԳՀ | F84: դրամ | G84: 1620000 | H84: 1 | I84: =+ROUND(H84*G84/1000,1) -> 1620
A85: 1183-32007 | B85: Հանրակրթական կրթություն իրականացնող ուսումնական հաստատությունների նոր մարզադահլիճների կառուցում | I85: =+I86 -> 3159.5
B86: ՄԱՍ III. ԾԱՌԱՅՈՒԹՅՈՒՆՆԵՐ | I86: =SUM(I87:I91) -> 3159.5
A87: 71351540 | B87: տեխնիկական հսկողության ծառայություններ | E87: ԳՀ | F87: դրամ | G87: 1222900 | H87: 1 | I87: =+ROUNDUP(H87*G87/1000,1) -> 1222.9
A88: 98111140 | B88: հեղինակային հսկողության ծառայություններ | E88: ՄԱ | F88: դրամ | G88: 630200 | H88: 1 | I88: =+ROUNDUP(H88*G88/1000,1) -> 630.2
A89: 98111140 | B89: հեղինակային հսկողության ծառայություններ | E89: ՄԱ | F89: դրամ | G89: 467700 | H89: 1 | I89: =+ROUNDUP(H89*G89/1000,1) -> 467.7
A90: 98111140 | B90: հեղինակային հսկողության ծառայություններ | E90: ՄԱ | F90: դրամ | G90: 358700 | H90: 1 | I90: =+ROUNDUP(H90*G90/1000,1) -> 358.7
A91: 50531140 | B91: փորձաքննության ծառայություններ | E91: ԳՀ | F91: դրամ | G91: 480000 | H91: 1 | I91: =+ROUND(H91*G91/1000,1) -> 480
A92: 1183-32009 | B92: Հանրակրթական կրթություն իրականացնող ուսումնական հաստատությունների մարզադահլիճների վերակառուցում | I92: =+I93+I97 -> 232156.2
B93: ՄԱՍ II. ԱՇԽԱՏԱՆՔՆԵՐ | I93: =SUM(I94:I96) -> 209158.4
A94: 45451700 | B94: վերակառուցման աշխատանքներ | E94: ԲՄ | F94: դրամ | G94: 1308830 | H94: 1 | I94: =+ROUNDUP(H94*G94/1000,1) -> 1308.9
A95: 45451700 | B95: վերակառուցման աշխատանքներ | E95: ԲՄ | F95: դրամ | G95: 127432800 | H95: 1 | I95: =+ROUNDUP(H95*G95/1000,1) -> 127432.8
A96: 45451700 | B96: վերակառուցման աշխատանքներ | E96: ԲՄ | F96: դրամ | G96: 80416700 | H96: 1 | I96: =+ROUNDUP(H96*G96/1000,1) -> 80416.7
B97: ՄԱՍ III. ԾԱՌԱՅՈՒԹՅՈՒՆՆԵՐ | I97: =SUM(I98:I113) -> 22997.8
A98: 71351540 | B98: տեխնիկական հսկողության ծառայություններ | E98: ԳՀ | F98: դրամ | G98: 635700 | H98: 1 | I98: =+ROUNDUP(H98*G98/1000,1) -> 635.7
A99: 71351540 | B99: տեխնիկական հսկողության ծառայություններ | E99: ԳՀ | F99: դրամ | G99: 4763500 | H99: 1 | I99: =+ROUNDUP(H99*G99/1000,1) -> 4763.5
A100: 71351540 | B100: տեխնիկական հսկողության ծառայություններ | E100: ԳՀ | F100: դրամ | G100: 114300 | H100: 1 | I100: =+ROUNDUP(H100*G100/1000,1) -> 114.3
A101: 71351540 | B101: տեխնիկական հսկողության ծառայություններ | E101: ԳՀ | F101: դրամ | G101: 528600 | H101: 1 | I101: =+ROUNDUP(H101*G101/1000,1) -> 528.6
A102: 71351540 | B102: տեխնիկական հսկողության ծառայություններ | E102: ԳՀ | F102: դրամ | G102: 357700 | H102: 1 | I102: =+ROUNDUP(H102*G102/1000,1) -> 357.7
A103: 71351540 | B103: տեխնիկական հսկողության ծառայություններ | E103: ԳՀ | F103: դրամ | G103: 3550600 | H103: 1 | I103: =+ROUNDUP(H103*G103/1000,1) -> 3550.6
A104: 98111140 | B104: հեղինակային հսկողության ծառայություններ | E104: ՄԱ | F104: դրամ | G104: 77500 | H104: 1 | I104: =+ROUNDUP(H104*G104/1000,1) -> 77.5
A105: 98111140 | B105: հեղինակային հսկողության ծառայություններ | E105: ՄԱ | F105: դրամ | G105: 1137500 | H105: 1 | I105: =+ROUNDUP(H105*G105/1000,1) -> 1137.5
...
