Workbook
Name a: #REF!
Name a: #REF!
Name a: #REF!
Name AgencyCode: #REF!
Name AgencyCode: #REF!
Name AgencyCode: #REF!
Name AgencyCode: #REF!
Name AgencyCode: #REF!
Name AgencyCode: #REF!
Name AgencyName: #REF!
Name AgencyName: #REF!
Name AgencyName: #REF!
Name åû: #REF!
Name åû: #REF!
Name davit: #REF!
Name davit: #REF!
Name Functional1: #REF!
Name Functional1: #REF!
Name Functional1: #REF!
Name ggg: #REF!
Name ggg: #REF!
Name mas: #REF!
Name mas: #REF!
Name mass: #REF!
Name mass: #REF!
Name PANature: #REF!
Name PANature: #REF!
Name PANature: #REF!
Name PAType: #REF!
Name PAType: #REF!
Name PAType: #REF!
Name Performance2: #REF!
Name Performance2: #REF!
Name Performance2: #REF!
Name PerformanceType: #REF!
Name PerformanceType: #REF!
Name PerformanceType: #REF!
Name x: #REF!
Name x: #REF!
Name Հավելված: #REF!
Name Հավելված: #REF!
Name Հավելված10: #REF!
Name Հավելված10: #REF!
Name Հավելված11: #REF!
Name Հավելված11: #REF!
Name Հավելված20: #REF!
Name Հավելված20: #REF!
Name Հավելված9: #REF!
Name Հավելված9: #REF!
Name Մաս: #REF!
Name Մաս: #REF!
Name շախմատիստ: #REF!
Name շախմատիստ: #REF!

Sheet Հավելված N 1
F1: Հավելված N 1
F2: ՀՀ կառավարության 2025 թվականի
F3: ______________ ի ___Ն որոշման
A6: «ՀԱՅԱUՏԱՆԻ ՀԱՆՐԱՊԵՏՈՒԹՅԱՆ 2025 ԹՎԱԿԱՆԻ ՊԵՏԱԿԱՆ ԲՅՈՒՋԵԻ ՄԱUԻՆ» ՀԱՅԱUՏԱՆԻ ՀԱՆՐԱՊԵՏՈՒԹՅԱՆ OՐԵՆՔԻ N 1 ՀԱՎԵԼՎԱԾԻ N 2 ԱՂՅՈՒՍԱԿՈՒՄ ԿԱՏԱՐՎՈՂ ՎԵՐԱԲԱՇԽՈՒՄԸ ԵՎ ՀԱՅԱՍՏԱՆԻ ՀԱՆՐԱՊԵՏՈՒԹՅԱՆ ԿԱՌԱՎԱՐՈՒԹՅԱՆ 2024 ԹՎԱԿԱՆԻ ԴԵԿՏԵՄԲԵՐԻ 27-Ի N 2060-Ն ՈՐՈՇՄԱՆ N 5 ՀԱՎԵԼՎԱԾԻ N 1 ԱՂՅՈՒՍԱԿՈՒՄ ԿԱՏԱՐՎՈՂ ՓՈՓՈԽՈՒԹՅՈՒՆՆԵՐԸ ԵՎ ԼՐԱՑՈՒՄՆԵՐԸ
J9: հազ. դրամներով
A10: ԲԳԿ | B10: Ծրագրային դասիչը | D10: ԲԳԿ/Ծրագրի /միջոցառման անվանումը | E10: Ծրագրի նպատակը/Միջոցառման նկարագրությունը | F10: Վերջնական արդյունքի նկարագրությունը/Միջոցառման տեսակը | G10: Ցուցանիշների փոփոխությունը (ավելացումները նշված են դրական նշանով, իսկ նվազեցումները փակագծերում)
G11: Առաջին եռամսյակ | H11: Առաջին կիսամյակ | I11: Ինն ամիս | J11: Տարի
B12: Ծրագիր | C12: Միջոցառում
A13: ԸՆԴԱՄԵՆԸ | G13: =+G15 -> 0 | H13: =+H15 -> 0 | I13: =+I15 -> 1.1641532e-10 | J13: =+J15 -> 0
A14: այդ թվում՝
A15: ՀՀ ԿՐԹՈՒԹՅԱՆ, ԳԻՏՈՒԹՅԱՆ, ՄՇԱԿՈՒՅԹԻ ԵՎ ՍՊՈՐՏԻ ՆԱԽԱՐԱՐՈՒԹՅՈՒՆ | G15: =+G16+G19+G22+G24 -> 0 | H15: =+H16+H19+H22+H24 -> 0 | I15: =+I16+I19+I22+I24 -> 1.1641532e-10 | J15: =+J16+J19+J22+J24 -> 0
B16: 1163 | D16: Մասսայական սպորտ | E16: Բնակչության շրջանում առողջ ապրելակերպի արմատավորում, անհատի բազմակողմանի ու ներդաշնակ զարգացման գործում ֆիզիկական կուլտուրայի և սպորտի դերի բարձրացում | F16: Սպորտի նկատմամբ հետաքրքրվածության և մասնակցության ընդլայնում | G16: =+G17+G18 -> 5193.7 | H16: =+H17+H18 -> -60948.1 | I16: =+I17+I18 -> -173942.3 | J16: =+J17+J18 -> 34157.4
C17: 1163 - 12001 | D17: Աջակցություն համայնքներին մարզական հաստատությունների շենքային պայմանների բարելավման համար | E17: Համայնքային ենթակայության մարզական հաստատությունների վերանորոգում և կառուցում | F17: Տրանսֆերտների տրամադրում | G17: =+'Հավելված N 2'!G102 -> -63849.1 | H17: =+'Հավելված N 2'!H102 -> -224033.4 | I17: =+'Հավելված N 2'!I102 -> -472624.1 | J17: =+'Հավելված N 2'!J102 -> -264524.4
C18: 1163 - 32001 | D18: Մարզական օբյեկտների շինարարություն | E18: Մարզական օբյեկտների շենքերի (մասնաշենքերի) կառուցում (համաշինարարական աշխատանքներ, ջեռուցման համակարգի իրականացում, ներքին հարդարում, տարածքի բարեկարգում) և նախագծում | F18: Այլ պետական կազմակերպությունների կողմից օգտագործվող ոչ ֆինանսական ակտիվների հետ գործառնություններ | G18: =+'Հավելված N 2'!G111 -> 69042.8 | H18: =+'Հավելված N 2'!H111 -> 163085.3 | I18: =+'Հավելված N 2'!I111 -> 298681.8 | J18: =+'Հավելված N 2'!J111 -> 298681.8
B19: 1183 | D19: Ապահով դպրոց | E19: Դպրոցներին սպառնացող աղետների ռիսկի կառավարման կարողությունների հզորացում, դպրոցի անձնակազմի և աշակերտների անվտանգության ապահովման մակարդակի բարձրացում՛ կիրառելով ներառական և երեխայակենտրոն մոտեցում | F19: Դպրոցական միջավայրի բարելավում | G19: =+G20+G21 -> 116742.2 | H19: =+H20+H21 -> 235315.7 | I19: =+I20+I21 -> 235315.7 | J19: =+J20+J21 -> 235315.7
C20: 1183 - 32007 | D20: Հանրակրթական կրթություն իրականացնող ուսումնական հաստատությունների նոր մարզադահլիճների կառուցում | E20: Հանրակրթական ուսուցում իրականացնող ուսումնական հաստատությունների նոր մարզադահլիճների կառուցման նախագծանախահաշվային փաստաթղթերի մշակում | F20: Այլ պետական կազմակերպությունների կողմից օգտագործվող ոչ ֆինանսական ակտիվների հետ գործառնություններ | G20: =+'Հավելված N 2'!G124 -> 2679.5 | H20: =+'Հավելված N 2'!H124 -> 3159.5 | I20: =+'Հավելված N 2'!I124 -> 3159.5 | J20: =+'Հավելված N 2'!J124 -> 3159.5
C21: 1183 - 32009 | D21: Հանրակրթական կրթություն իրականացնող ուսումնական հաստատությունների մարզադահլիճների վերակառուցում | E21: Հանրակրթական ուսուցում իրականացնող ուսումնական հաստատությունների մարզադահլիճների վերակառուցման նախագծանախահաշվային փաստաթղթերի մշակում | F21: Այլ պետական կազմակերպությունների կողմից օգտագործվող ոչ ֆինանսական ակտիվների հետ գործառնություններ | G21: =+'Հավելված N 2'!G135 -> 114062.7 | H21: =+'Հավելված N 2'!H135 -> 232156.2 | I21: =+'Հավելված N 2'!I135 -> 232156.2 | J21: =+'Հավելված N 2'!J135 -> 232156.2
B22: 1192 | D22: Կրթության որակի ապահովում | E22: Ընթացիկ աշխատանքների, բարեփոխումների և նոր նախաձեռնությունների միջոցով ֆորմալ և ոչ-ֆորմալ կրթության ոլորտում իրականացվող միջոցառումների, մատուցվող ծառայությունների բովանդակության և կազմակերպման որակի շարունակական բարելավում | F22: Նախադպրոցականից մինչև հետբուհական կրթության որակի, այն է սովորողների, միջավայրի, ծրագրերի և ուսումնական նյութերի բովանդակության, գործընթացների, ինչպես նաև վերջնարդյունքների որակի բարելավում ըստ ներպետական և միջազգային ցուցիչների | G22: =+G23 -> 10000 | H22: =+H23 -> 0 | I22: =+I23 -> 0 | J22: =+J23 -> 0
C23: 1192 - 32007 | D23: ՀՀ պետական դպրոցների` ԳՏՃՄ լաբորատորիաներով ապահովում | E23: ՀՀ պետական դպրոցների համար ԳՏՃՄ առարկաների լաբորատոր սարքավարումների և կահույքի ձեռքբերում | F23: Այլ պետական կազմակերպությունների կողմից օգտագործվող ոչ ֆինանսական ակտիվների հետ գործառնություններ | G23: =+'Հավելված N 2'!G43 -> 10000 | H23: =+'Հավելված N 2'!H43 -> 0 | I23: =+'Հավելված N 2'!I43 -> 0 | J23: =+'Հավելված N 2'!J43 -> 0
B24: 1236 | D24: Հանրակրթական և նախադպրոցական հաստատությունների հիմնում, կառուցում, բարելավում | E24: Առնվազն 300 դպրոցի և 500 մանկապարտեզի կառուցման, վերակառուցման, հիմնանորոգման ծրագրերի իրականացում ՀՀ պետական բյուջեի միջոցների շրջանակներում | F24: Կրթական միջավայրի բարելավում | G24: =+G25+G26+G27+G28+G29 -> -131935.9 | H24: =+H25+H26+H27+H28+H29 -> -174367.6 | I24: =+I25+I26+I27+I28+I29 -> -61373.4 | J24: =+J25+J26+J27+J28+J29 -> -269473.1
C25: 1236 - 32001 | D25: Մանկապարտեզների նոր շենքերի կառուցում | E25: Նախադպրոցական կրթության հասանելիության ապահովման նպատակով՛ մանկապարտեզների հիմնում, նոր շենքերի (մասնաշենքերի), ներառյալ՛ ,Մոդուլայինե տիպի շենքերի կառուցում և նախագծում | F25: Այլ պետական կազմակերպությունների կողմից օգտագործվող ոչ ֆինանսական ակտիվների հետ գործառնություններ | G25: =+'Հավելված N 2'!G26 -> 226678.9 | H25: =+'Հավելված N 2'!H26 -> 287782.8 | I25: =+'Հավելված N 2'!I26 -> 433427.9 | J25: =+'Հավելված N 2'!J26 -> 433427.9
C26: 1236 - 32003 | D26: Հանրակրթական դպրոցների նոր շենքերի կառուցում | E26: ՀՀ մարզերում կրթական որակյալ ծառայությունների հասանելիության ապահովման ծրագրի շրջանակներում հանրակրթական և նախադպրոցական կրթության հասանելիության ապահովման նպատակով կրթական կենտրոնների կառուցում | F26: Այլ պետական կազմակերպությունների կողմից օգտագործվող ոչ ֆինանսական ակտիվների հետ գործառնություններ | G26: =+'Հավելված N 2'!G54 -> 14972.7 | H26: =+'Հավելված N 2'!H54 -> 174094.3 | I26: =+'Հավելված N 2'!I54 -> 319266.7 | J26: =+'Հավելված N 2'!J54 -> 279975.3
C27: 1236 - 32004 | D27: Հանրակրթական դպրոցների շենքերի վերակառուցում, հիմնանորոգում | E27: Դպրոցական պարտադիր կրթության հասանելիության ապահովման նպատակով՛ հանրակրթական դպրոցների շենքերի (մասնաշենքերի), վերակառուցում, հիմնանորոգում և նախագծում | F27: Այլ պետական կազմակերպությունների կողմից օգտագործվող ոչ ֆինանսական ակտիվների հետ գործառնություններ | G27: =+'Հավելված N 2'!G65 -> 0 | H27: =+'Հավելված N 2'!H65 -> 14390 | I27: =+'Հավելված N 2'!I65 -> 14390 | J27: =+'Հավելված N 2'!J65 -> 14390
C28: 1236 - 32005 | D28: Կրթահամալիրների կառուցում | E28: ՀՀ մարզերում կրթական որակյալ ծառայությունների հասանելիության ապահովման ծրագրի շրջանակներում հանրակրթական և նախադպրոցական կրթության հասանելիության ապահովման նպատակով կրթական կենտրոնների կառուցում | F28: Այլ պետական կազմակերպությունների կողմից օգտագործվող ոչ ֆինանսական ակտիվների հետ գործառնություններ | G28: =+'Հավելված N 2'!G74 -> -363587.5 | H28: =+'Հավելված N 2'!H74 -> -650634.7 | I28: =+'Հավելված N 2'!I74 -> -828458 | J28: =+'Հավելված N 2'!J74 -> -997266.3
C29: 1236 - 32006 | D29: Հանրակրթական դպրոցների, մանկապարտեզների և կրթահամալիրների գույքով և տեխնիկայով ապահովում | E29: Կրթական ժամանակակից նորմերին և կրթական չափորոշիչներին համապատասխան ուսուցման ծրագրերն իրականացնելու նպատակով հանրակրթական և նախադպրոցական հաստատությունների համար գույքի և տեխնիկայի ձեռքբերում | F29: Այլ պետական կազմակերպությունների կողմից օգտագործվող ոչ ֆինանսական ակտիվների հետ գործառնություններ | G29: =+'Հավելված N 2'!G85 -> -10000 | H29: =+'Հավելված N 2'!H85 -> 0 | I29: =+'Հավելված N 2'!I85 -> 0 | J29: =+'Հավելված N 2'!J85 -> 0

Sheet Հավելված N 2
F1: Հավելված N 2
F2: ՀՀ կառավարության 2025 թվականի
F3: ______________ ի ___Ն որոշման
A7: ՀԱՅԱՍՏԱՆԻ ՀԱՆՐԱՊԵՏՈՒԹՅԱՆ ԿԱՌԱՎԱՐՈՒԹՅԱՆ 2024 ԹՎԱԿԱՆԻ ԴԵԿՏԵՄԲԵՐԻ 27-Ի N 2060-Ն ՈՐՈՇՄԱՆ N 3 ԵՎ N 4 ՀԱՎԵԼՎԱԾՆԵՐՈՒՄ ԿԱՏԱՐՎՈՂ ՓՈՓՈԽՈՒԹՅՈՒՆՆԵՐԸ ԵՎ ԼՐԱՑՈՒՄՆԵՐԸ
J10: հազ. դրամներով
A11: Գործառական դասիչը | D11: Ծրագրային դասիչը | F11: Բյուջետային հատկացումների գլխավոր կարգադրիչների, ծրագրերի, միջոցառումների և միջոցառումները կատարող պետական մարմինների անվանումները | G11: Ցուցանիշների փոփոխությունը (ավելացումները նշված են դրական նշանով, իսկ նվազեցումները փակագծերում)
A12: Բաժին | B12: Խումբ | C12: Դաս | D12: Ծրագիր | E12: Միջոցառում | G12: Առաջին եռամսյակ | H12: Առաջին կիսամյակ | I12: Ինն ամիս | J12: Տարի
F13: ԸՆԴԱՄԵՆԸ | G13: =+G15 -> 0 | H13: =+H15 -> 0 | I13: =+I15 -> 5.8207661e-11 | J13: =+J15 -> 0
F14: այդ թվում՝
F15: ՀՀ ԿՐԹՈՒԹՅԱՆ, ԳԻՏՈՒԹՅԱՆ, ՄՇԱԿՈՒՅԹԻ ԵՎ ՍՊՈՐՏԻ ՆԱԽԱՐԱՐՈՒԹՅՈՒՆ | G15: =+G16 -> 0 | H15: =+H16 -> 0 | I15: =+I16 -> 5.8207661e-11 | J15: =+J16 -> 0
A16: 09 | F16: ԿՐԹՈՒԹՅՈՒՆ | G16: =+G18+G35+G94 -> 0 | H16: =+H18+H35+H94 -> 0 | I16: =+I18+I35+I94 -> 5.8207661e-11 | J16: =+J18+J35+J94 -> 0
F17: այդ թվում`
B18: 01 | F18: Նախադպրոցական և տարրական ընդհանուր կրթություն | G18: =+G20 -> 226678.9 | H18: =+H20 -> 287782.8 | I18: =+I20 -> 433427.9 | J18: =+J20 -> 433427.9
F19: այդ թվում`
C20: 01 | F20: Նախադպրոցական կրթություն | G20: =+G22 -> 226678.9 | H20: =+H22 -> 287782.8 | I20: =+I22 -> 433427.9 | J20: =+J22 -> 433427.9
F21: այդ թվում`
F22: ՀՀ կրթության, գիտության, մշակույթի և սպորտի նախարարություն | G22: =+G24 -> 226678.9 | H22: =+H24 -> 287782.8 | I22: =+I24 -> 433427.9 | J22: =+J24 -> 433427.9
F23: այդ թվում`
D24: 1236 | E24: Հանրակրթական և նախադպրոցական հաստատությունների հիմնում, կառուցում, բարելավում | G24: =+G26 -> 226678.9 | H24: =+H26 -> 287782.8 | I24: =+I26 -> 433427.9 | J24: =+J26 -> 433427.9
F25: այդ թվում`
E26: 32001 | F26: Մանկապարտեզների նոր շենքերի կառուցում | G26: =+G28 -> 226678.9 | H26: =+H28 -> 287782.8 | I26: =+I28 -> 433427.9 | J26: =+J28 -> 433427.9
F27: այդ թվում` ըստ կատարողների
F28: ՀՀ քաղաքաշինության կոմիտե | G28: =+G30 -> 226678.9 | H28: =+H30 -> 287782.8 | I28: =+I30 -> 433427.9 | J28: =+J30 -> 433427.9
F29: այդ թվում՝ բյուջետային ծախսերի տնտեսագիտական դասակարգման հոդվածներ
F30: ԸՆԴԱՄԵՆԸ ԾԱԽՍԵՐ | G30: =G31 -> 226678.9 | H30: =H31 -> 287782.8 | I30: =I31 -> 433427.9 | J30: =J31 -> 433427.9
F31: ՈՉ ՖԻՆԱՆՍԱԿԱՆ ԱԿՏԻՎՆԵՐԻ ԳԾՈՎ ԾԱԽՍԵՐ | G31: =+G32 -> 226678.9 | H31: =+H32 -> 287782.8 | I31: =+I32 -> 433427.9 | J31: =+J32 -> 433427.9
F32: ՀԻՄՆԱԿԱՆ ՄԻՋՈՑՆԵՐ | G32: =+G33 -> 226678.9 | H32: =+H33 -> 287782.8 | I32: =+I33 -> 433427.9 | J32: =+J33 -> 433427.9
F33: ՇԵՆՔԵՐ ԵՎ ՇԻՆՈՒԹՅՈՒՆՆԵՐ | G33: =+G34 -> 226678.9 | H33: =+H34 -> 287782.8 | I33: =+I34 -> 433427.9 | J33: =+J34 -> 433427.9
F34: - Շենքերի և շինությունների շինարարություն | G34: =+'Հավելված N 4'!E61 -> 226678.9 | H34: =+'Հավելված N 4'!F61 -> 287782.8 | I34: =+'Հավելված N 4'!G61 -> 433427.9 | J34: =+'Հավելված N 4'!H61 -> 433427.9
B35: 02 | F35: Միջնակարգ ընդհանուր կրթություն | G35: =+G37 -> -348614.8 | H35: =+H37 -> -462150.4 | I35: =+I37 -> -494801.3 | J35: =+J37 -> -702901
F36: այդ թվում`
F37: Հիմնական ընդհանուր կրթություն | G37: =+G39 -> -348614.8 | H37: =+H39 -> -462150.4 | I37: =+I39 -> -494801.3 | J37: =+J39 -> -702901
C38: 01 | F38: այդ թվում`
F39: ՀՀ կրթության, գիտության, մշակույթի և սպորտի նախարարություն | G39: =+G41+G52 -> -348614.8 | H39: =+H41+H52 -> -462150.4 | I39: =+I41+I52 -> -494801.3 | J39: =+J41+J52 -> -702901
F40: այդ թվում`
D41: 1192 | E41: Կրթության որակի ապահովում | G41: =+G43 -> 10000 | H41: =+H43 -> 0 | I41: =+I43 -> 0 | J41: =+J43 -> 0
F42: այդ թվում`
E43: 32007 | F43: ՀՀ պետական դպրոցների՝ ԳՏՃՄ լաբորատորիաներով ապահովում | G43: =+G45 -> 10000 | H43: =+H45 -> 0 | I43: =+I45 -> 0 | J43: =+J45 -> 0
F44: այդ թվում` ըստ կատարողների
F45: ՀՀ կրթության, գիտության, մշակույթի և սպորտի նախարարություն | G45: =+G47 -> 10000 | H45: =+H47 -> 0 | I45: =+I47 -> 0 | J45: =+J47 -> 0
...

Sheet Հավելված N 3
F1: Հավելված N 3
F2: ՀՀ կառավարության 2025 թվականի
F3: ______________ ի ___Ն որոշման
A5: «ՀԱՅԱUՏԱՆԻ ՀԱՆՐԱՊԵՏՈՒԹՅԱՆ 2025 ԹՎԱԿԱՆԻ ՊԵՏԱԿԱՆ ԲՅՈՒՋԵԻ ՄԱUԻՆ» ՀԱՅԱUՏԱՆԻ ՀԱՆՐԱՊԵՏՈՒԹՅԱՆ OՐԵՆՔԻ N 1 ՀԱՎԵԼՎԱԾԻ N 3 ԱՂՅՈՒՍԱԿՈՒՄ ԿԱՏԱՐՎՈՂ ՓՈՓՈԽՈՒԹՅՈՒՆՆԵՐԸ ԵՎ ԼՐԱՑՈՒՄՆԵՐԸ
G8: հազ. դրամներով
A9: Ծրագրային դասիչ | C9: Բյուջետային գլխավոր կարգադրիչների, ծրագրերի, միջոցառումների, միջոցառումները կատարող պետական մարմինների և ուղղությունների անվանումները | D9: Ընդամենը | E9: Ցուցանիշների փոփոխությունը (ավելացումները նշված են դրական նշանով, իսկ նվազեցումները՝ փակագծերում)
A10: Ծրագիր | B10: Միջոցառում | E10: Կառուցման աշխատանքներ | F10: Վերակառուցման, վերանորոգման և վերականգնման աշխատանքներ | G10: Նախագծահե- տազոտական, գեոդեզիա- քարտեզագրա- կան աշխա- տանքներ | H10: Ոչ ֆինանսական այլ ակտիվների ձեռքբերում
C11: ԸՆԴԱՄԵՆԸ | D11: =SUM(E11:H11) -> 0 | E11: =+E13 -> -337770.2 | F11: =+F13 -> 223166.2 | G11: =+G13 -> 114604 | H11: =+H13 -> 0
C12: այդ թվում՝
C13: ՀՀ ԿՐԹՈՒԹՅԱՆ, ԳԻՏՈՒԹՅԱՆ, ՄՇԱԿՈՒՅԹԻ ԵՎ ՍՊՈՐՏԻ ՆԱԽԱՐԱՐՈՒԹՅՈՒՆ | D13: =SUM(E13:H13) -> 0 | E13: =+ROUND(E15+E19+E26+E35+E50+E60+E80+E84,1) -> -337770.2 | F13: =+ROUND(F15+F19+F26+F35+F50+F60+F80+F84,1) -> 223166.2 | G13: =+ROUND(G15+G19+G26+G35+G50+G60+G80+G84,1) -> 114604 | H13: =+ROUND(H15+H19+H26+H35+H50+H60+H80+H84,1) -> 0
C14: այդ թվում`
A15: 1163 | B15: 12001 | C15: Աջակցություն համայնքներին մարզական հաստատությունների շենքային պայմանների բարելավման համար | D15: =SUM(E15:H15) -> -264524.4 | E15: =+E17 -> -264524.4 | F15: =+F17 -> 0 | G15: =+G17 -> 0 | H15: =+H17 -> 0
C16: այդ թվում`
C17: ՀՀ Շիրակի մարզ | D17: =SUM(E17:H17) -> -264524.4 | E17: =+E18 -> -264524.4 | F17: =+F18 -> 0 | G17: =+G18 -> 0 | H17: =+H18 -> 0
C18: Արթուր Ալեքսանյանի անվան նոր սպորտային համալիր | D18: =+E18+F18+G18+H18 -> -264524.4 | E18: =+'Հավելված N 7'!I72+'Հավելված N 7'!I74+'Հավելված N 7'!I75 -> -264524.4
A19: 1163 | B19: 32001 | C19: Մարզական օբյեկտների շինարարություն | D19: =SUM(E19:H19) -> 298681.8 | E19: =+E21+E24 -> 272437.8 | F19: =+F21+F24 -> 0 | G19: =+G21+G24 -> 26244 | H19: =+H21+H24 -> 0
C20: այդ թվում`
C21: Երևան քաղաք | D21: =SUM(E21:H21) -> 297437.3 | E21: =+E22+E23 -> 271193.3 | F21: =+F22+F23 -> 0 | G21: =+G22+G23 -> 26244 | H21: =+H22+H23 -> 0
C22: Հեծանվային սպորտի և Հրանտ Շահինյանի անվան սպորտային, գեղարվեստական մարմնամարզության և ակրոբատիկայի օլիմպիական մանկապատանեկան մարզադպրոցներ | D22: =+E22+F22+G22+H22 -> 271193.3 | E22: =+'Հավելված N 7'!I78+'Հավելված N 7'!I81+'Հավելված N 7'!I82 -> 271193.3
C23: Արթուր Աբրահամի անվան մարզահամալիր | D23: =+E23+F23+G23+H23 -> 26244 | G23: =+'Հավելված N 7'!I83+'Հավելված N 7'!I84 -> 26244
C24: ՀՀ Տավուշի մարզ | D24: =SUM(E24:H24) -> 1244.5 | E24: =+E25 -> 1244.5 | F24: =+F25 -> 0 | G24: =+G25 -> 0 | H24: =+H25 -> 0
C25: Աճարկուտ բնակավայրում մեկցանցանի բասկետբոլի դաշտի կառուցում | D25: =+E25+F25+G25+H25 -> 1244.5 | E25: =+'Հավելված N 7'!I79 -> 1244.5
A26: 1183 | B26: 32007 | C26: Հանրակրթական կրթություն իրականացնող ուսումնական հաստատությունների նոր մարզադահլիճների կառուցում | D26: =SUM(E26:H26) -> 3159.5 | E26: =+E28+E31+E33 -> 2679.5 | F26: =+F28+F31+F33 -> 0 | G26: =+G28+G31+G33 -> 480 | H26: =+H28+H31+H33 -> 0
C27: այդ թվում`
C28: Երևան քաղաք | D28: =SUM(E28:H28) -> 1097.9 | E28: =+E29+E30 -> 1097.9 | F28: =+F29+F30 -> 0 | G28: =+G29+G30 -> 0 | H28: =+H29+H30 -> 0
C29: «Երևանի Միքայել Նալբանդյանի անվան հ.33 հիմնական դպրոց» ՊՈԱԿ | D29: =+E29+F29+G29+H29 -> 630.2 | E29: =+'Հավելված N 7'!I88 -> 630.2
C30: «Երևանի Ս. Խանզադյանի անվան հ. 184 ավագ դպրոց» ՊՈԱԿ | D30: =+E30+F30+G30+H30 -> 467.7 | E30: =+'Հավելված N 7'!I89 -> 467.7
C31: ՀՀ Արմավիրի մարզ | D31: =SUM(E31:H31) -> 480 | E31: =+E32 -> 0 | F31: =+F32 -> 0 | G31: =+G32 -> 480 | H31: =+H32 -> 0
C32: «Մրգաստանի միջնակարգ դպրոց» ՊՈԱԿ | D32: =+E32+F32+G32+H32 -> 480 | G32: =+'Հավելված N 7'!I91 -> 480
C33: ՀՀ Գեղարքունիքի մարզ | D33: =SUM(E33:H33) -> 1581.6 | E33: =+E34 -> 1581.6 | F33: =+F34 -> 0 | G33: =+G34 -> 0 | H33: =+H34 -> 0
C34: ՀՀ Գեղարքունիքի մարզի Գագարինի միջնակարգ դպրոց ՊՈԱԿ | D34: =+E34+F34+G34+H34 -> 1581.6 | E34: =+'Հավելված N 7'!I87+'Հավելված N 7'!I90 -> 1581.6
A35: 1183 | B35: 32009 | C35: Հանրակրթական կրթություն իրականացնող ուսումնական հաստատությունների մարզադահլիճների վերակառուցում | D35: =SUM(E35:H35) -> 232156.2 | E35: =+E37+E41+E44+E46+E48 -> 0 | F35: =+F37+F41+F44+F46+F48 -> 223166.2 | G35: =+G37+G41+G44+G46+G48 -> 8990 | H35: =+H37+H41+H44+H46+H48 -> 0
C36: այդ թվում`
C37: Երևան քաղաք | D37: =SUM(E37:H37) -> 136356 | E37: =+E38+E39+E40 -> 0 | F37: =+F38+F39+F40 -> 136356 | G37: =+G38+G39+G40 -> 0 | H37: =+H38+H39+H40 -> 0
C38: «Երևանի Մ. Սարյանի անվան հ. 86 հիմնական դպրոց» ՊՈԱԿ | D38: =+E38+F38+G38+H38 -> 2022.1 | F38: =+'Հավելված N 7'!I94+'Հավելված N 7'!I98+'Հավելված N 7'!I104 -> 2022.1
C39: «Երևանի Վ. Թեքեյանի անվան թիվ 92 հիմնական դպրոց» ՊՈԱԿ | D39: =SUM(E39:H39) -> 133333.8 | F39: =+'Հավելված N 7'!I95+'Հավելված N 7'!I99+'Հավելված N 7'!I105 -> 133333.8
C40: «Երևանի հ. 37 հիմնական դպրոց» ՊՈԱԿ | D40: =SUM(E40:H40) -> 1000.1 | F40: =+'Հավելված N 7'!I100+'Հավելված N 7'!I106 -> 1000.1
C41: ՀՀ Գեղարքունիքի մարզ | D41: =SUM(E41:H41) -> 1936.6 | E41: =+E42+E43 -> 0 | F41: =+F42+F43 -> 1936.6 | G41: =+G42+G43 -> 0 | H41: =+H42+H43 -> 0
C42: «Ակունք գյուղի միջնակարգ դպրոց» ՊՈԱԿ | D42: =+E42+F42+G42+H42 -> 777.7 | F42: ='Հավելված N 7'!I101+'Հավելված N 7'!I107 -> 777.7
C43: «Վ․ Գետաշենի թիվ 2 միջնակարգ դպրոց» ՊՈԱԿ | D43: =+E43+F43+G43+H43 -> 1158.9 | F43: ='Հավելված N 7'!I102+'Հավելված N 7'!I108 -> 1158.9
...

Sheet Հավելված N 4
G1: Հավելված N 4
E2: ՀՀ կառավարության 2025 թվականի
G3: ______________ ի ___Ն որոշման
B6: ՀԱՅԱՍՏԱՆԻ ՀԱՆՐԱՊԵՏՈՒԹՅԱՆ ԿԱՌԱՎԱՐՈՒԹՅԱՆ 2024 ԹՎԱԿԱՆԻ ԴԵԿՏԵՄԲԵՐԻ 27-Ի N 2060-Ն ՈՐՈՇՄԱՆ N 5 ՀԱՎԵԼՎԱԾԻ N 2 ԱՂՅՈՒՍԱԿՈՒՄ ԿԱՏԱՐՎՈՂ ՓՈՓՈԽՈՒԹՅՈՒՆՆԵՐԸ ԵՎ ԼՐԱՑՈՒՄՆԵՐԸ
H8: հազ. դրամներով
B9: Ծրագրային դասիչ | D9: Բյուջետային գլխավոր կարգադրիչների, ծրագրերի, միջոցառումների, միջոցառումները կատարող պետական մարմինների և ուղղությունների անվանումները | E9: Ցուցանիշների փոփոխությունը (ավելացումները նշված են դրական նշանով, իսկ նվազեցումները՝ փակագծերում)
B10: Ծրագիր | C10: Միջոցառում | E10: Առաջին եռամսյակ | F10: Առաջին կիսամյակ | G10: Ինն ամիս | H10: Տարի
D11: ՀՀ ԿՐԹՈՒԹՅԱՆ, ԳԻՏՈՒԹՅԱՆ, ՄՇԱԿՈՒՅԹԻ ԵՎ ՍՊՈՐՏԻ ՆԱԽԱՐԱՐՈՒԹՅՈՒՆ | E11: =+E13+E19+E28+E39+E56+E59+E71+E97+E103+E122 -> 1.7462298e-10 | F11: =+F13+F19+F28+F39+F56+F59+F71+F97+F103+F122 -> 0 | G11: =+G13+G19+G28+G39+G56+G59+G71+G97+G103+G122 -> 0 | H11: =+H13+H19+H28+H39+H56+H59+H71+H97+H103+H122 -> 0
D12: այդ թվում՝
B13: 1163 | C13: 12001 | D13: Աջակցություն համայնքներին մարզական հաստատությունների շենքային պայմանների բարելավման համար | E13: =+E15 -> -63849.1 | F13: =+F15 -> -224033.4 | G13: =+G15 -> -472624.1 | H13: =+H15 -> -264524.4
D14: այդ թվում` ըստ կատարողների
D15: ՀՀ քաղաքաշինության կոմիտե | E15: =+E17 -> -63849.1 | F15: =+F17 -> -224033.4 | G15: =+G17 -> -472624.1 | H15: =+H17 -> -264524.4
D16: այդ թվում՝ ըստ ուղղությունների
D17: ՀՀ Շիրակի մարզ | E17: =+E18 -> -63849.1 | F17: =+F18 -> -224033.4 | G17: =+G18 -> -472624.1 | H17: =+H18 -> -264524.4
D18: =+'Հավելված N 3'!C18 -> Արթուր Ալեքսանյանի անվան նոր սպորտային համալիր | E18: =-61066.8-2105.5-676.8 -> -63849.1 | F18: =-215686.4-6316.4-2030.6 -> -224033.4 | G18: =-453875.7-14738.3-4010.1 -> -472624.1 | H18: =+'Հավելված N 3'!D18 -> -264524.4
B19: 1163 | C19: 32001 | D19: Մարզական օբյեկտների շինարարություն | E19: =+E21 -> 69042.8 | F19: =+F21 -> 163085.3 | G19: =+G21 -> 298681.8 | H19: =+H21 -> 298681.8
D20: այդ թվում` ըստ կատարողների
D21: ՀՀ քաղաքաշինության կոմիտե | E21: =+E23+E26 -> 69042.8 | F21: =+F23+F26 -> 163085.3 | G21: =+G23+G26 -> 298681.8 | H21: =+H23+H26 -> 298681.8
D22: այդ թվում՝ ըստ ուղղությունների
D23: Երևան քաղաք | E23: =+E24+E25 -> 67798.3 | F23: =+F24+F25 -> 161840.8 | G23: =+G24+G25 -> 297437.3 | H23: =+H24+H25 -> 297437.3
D24: =+'Հավելված N 3'!C22 -> Հեծանվային սպորտի և Հրանտ Շահինյանի անվան սպորտային, գեղարվեստական մարմնամարզության և ակրոբատիկայի օլիմպիական մանկապատանեկան մարզադպրոցներ | E24: =65265.1+1976.5+556.7 -> 67798.3 | F24: =130530.3+3953.1+1113.4 -> 135596.8 | G24: =+H24 -> 271193.3 | H24: =+'Հավելված N 3'!D22 -> 271193.3
D25: =+'Հավելված N 3'!C23 -> Արթուր Աբրահամի անվան մարզահամալիր | E25: 0 | F25: =+H25 -> 26244 | G25: =+H25 -> 26244 | H25: =+'Հավելված N 3'!D23 -> 26244
D26: ՀՀ Տավուշի մարզ | E26: =+E27 -> 1244.5 | F26: =+F27 -> 1244.5 | G26: =+G27 -> 1244.5 | H26: =+H27 -> 1244.5
D27: =+'Հավելված N 3'!C25 -> Աճարկուտ բնակավայրում մեկցանցանի բասկետբոլի դաշտի կառուցում | E27: =+H27 -> 1244.5 | F27: =+H27 -> 1244.5 | G27: =+H27 -> 1244.5 | H27: =+'Հավելված N 3'!D25 -> 1244.5
B28: 1183 | C28: 32007 | D28: Հանրակրթական կրթություն իրականացնող ուսումնական հաստատությունների նոր մարզադահլիճների կառուցում | E28: =+E30 -> 2679.5 | F28: =+F30 -> 3159.5 | G28: =+G30 -> 3159.5 | H28: =+H30 -> 3159.5
D29: այդ թվում` ըստ կատարողների
D30: ՀՀ քաղաքաշինության կոմիտե | E30: =+E32+E35+E37 -> 2679.5 | F30: =+F32+F35+F37 -> 3159.5 | G30: =+G32+G35+G37 -> 3159.5 | H30: =+H32+H35+H37 -> 3159.5
D31: այդ թվում՝ ըստ ուղղությունների
D32: Երևան քաղաք | E32: =+E33+E34 -> 1097.9 | F32: =+F33+F34 -> 1097.9 | G32: =+G33+G34 -> 1097.9 | H32: =+H33+H34 -> 1097.9
D33: =+'Հավելված N 3'!C29 -> «Երևանի Միքայել Նալբանդյանի անվան հ.33 հիմնական դպրոց» ՊՈԱԿ | E33: =+H33 -> 630.2 | F33: =+H33 -> 630.2 | G33: =+H33 -> 630.2 | H33: =+'Հավելված N 3'!D29 -> 630.2
D34: =+'Հավելված N 3'!C30 -> «Երևանի Ս. Խանզադյանի անվան հ. 184 ավագ դպրոց» ՊՈԱԿ | E34: =+H34 -> 467.7 | F34: =+H34 -> 467.7 | G34: =+H34 -> 467.7 | H34: =+'Հավելված N 3'!D30 -> 467.7
D35: ՀՀ Արմավիրի մարզ | E35: =+E36 -> 0 | F35: =+F36 -> 480 | G35: =+G36 -> 480 | H35: =+H36 -> 480
D36: =+'Հավելված N 3'!C32 -> «Մրգաստանի միջնակարգ դպրոց» ՊՈԱԿ | E36: 0 | F36: =+H36 -> 480 | G36: =+H36 -> 480 | H36: =+'Հավելված N 3'!D32 -> 480
D37: ՀՀ Գեղարքունիքի մարզ | E37: =+E38 -> 1581.6 | F37: =+F38 -> 1581.6 | G37: =+G38 -> 1581.6 | H37: =+H38 -> 1581.6
D38: =+'Հավելված N 3'!C34 -> ՀՀ Գեղարքունիքի մարզի Գագարինի միջնակարգ դպրոց ՊՈԱԿ | E38: =+H38 -> 1581.6 | F38: =+H38 -> 1581.6 | G38: =+H38 -> 1581.6 | H38: =+'Հավելված N 3'!D34 -> 1581.6
B39: 1183 | C39: 32009 | D39: Հանրակրթական կրթություն իրականացնող ուսումնական հաստատությունների մարզադահլիճների վերակառուցում | E39: =+E41 -> 114062.7 | F39: =+F41 -> 232156.2 | G39: =+G41 -> 232156.2 | H39: =+H41 -> 232156.2
D40: այդ թվում` ըստ կատարողների
D41: ՀՀ քաղաքաշինության կոմիտե | E41: =+E43+E47+E50+E52+E54 -> 114062.7 | F41: =+F43+F47+F50+F52+F54 -> 232156.2 | G41: =+G43+G47+G50+G52+G54 -> 232156.2 | H41: =+H43+H47+H50+H52+H54 -> 232156.2
D42: այդ թվում՝ ըստ ուղղությունների
D43: Երևան քաղաք | E43: =+E44+E45+E46 -> 69689.2 | F43: =+F44+F45+F46 -> 136356 | G43: =+G44+G45+G46 -> 136356 | H43: =+H44+H45+H46 -> 136356
...

Sheet Հավելված N 5
K1: Հավելված N 5
K2: ՀՀ կառավարության 2025 թվականի
K3: ______________ ի ___Ն որոշման
A6: ՀԱՅԱՍՏԱՆԻ ՀԱՆՐԱՊԵՏՈՒԹՅԱՆ ԿԱՌԱՎԱՐՈՒԹՅԱՆ 2024 ԹՎԱԿԱՆԻ ԴԵԿՏԵՄԲԵՐԻ 27-Ի N 2060-Ն ՈՐՈՇՄԱՆ N 9 ՀԱՎԵԼՎԱԾՈՒՄ ԿԱՏԱՐՎՈՂ ՓՈՓՈԽՈՒԹՅՈՒՆՆԵՐԸ ԵՎ ԼՐԱՑՈՒՄՆԵՐԸ
A9: ԲԳԿ | B9: Ծրագիր | D9: Միջոցառում | H9: Իրականացնողը/ ակտիվն օգտագործողը/ շահառուի ընտրության չափորոշիչը | I9: Արդյունքային չափորոշիչը | J9: Ցուցանիշների փոփոխությունը (ավելացումները նշված են դրական նշանով, իսկ նվազեցումները՝ փակագծերում)
B10: Դասիչը | C10: Անվանումը | D10: Դասիչը | E10: Անվանումը | F10: Նկարագրությունը | G10: Տեսակը | J10: Առաջին եռամսյակ | K10: Առաջին կիսամյակ | L10: Ինն ամիս | M10: Տարի
A11: ԸՆԴԱՄԵՆԸ | J11: =+J13 -> 0 | K11: =+K13 -> 0 | L11: =+L13 -> 1.1641532e-10 | M11: =+M13 -> 0
A12: այդ թվում՝
A13: ՀՀ ԿՐԹՈՒԹՅԱՆ, ԳԻՏՈՒԹՅԱՆ, ՄՇԱԿՈԻՅԹԻ ԵՎ ՍՊՈՐՏԻ ՆԱԽԱՐԱՐՈՒԹՅՈՒՆ | J13: =+J14+J27+J40+J46 -> 0 | K13: =+K14+K27+K40+K46 -> 0 | L13: =+L14+L27+L40+L46 -> 1.1641532e-10 | M13: =+M14+M27+M40+M46 -> 0
B14: 1163 | C14: Մասսայական սպորտ | J14: =+J15+J19 -> 5193.7 | K14: =+K15+K19 -> -60948.1 | L14: =+L15+L19 -> -173942.3 | M14: =+M15+M19 -> 34157.4
D15: 1163 - 12001 | E15: Աջակցություն համայնքներին մարզական հաստատությունների շենքային պայմանների բարելավման համար | J15: =+'Հավելված N 1'!G17 -> -63849.1 | K15: =+'Հավելված N 1'!H17 -> -224033.4 | L15: =+'Հավելված N 1'!I17 -> -472624.1 | M15: =+'Հավելված N 1'!J17 -> -264524.4
F16: Համայնքային ենթակայության մարզական հաստատությունների վերանորոգում և կառուցում
G17: Տրանսֆերտների տրամադրում
H18: Շահառուների ընտրության չափորոշիչները` ՀՀ համայնքների ենթակայության մարզական հաստատությունների շենքային պայմանների բարելավման անհրաժեշտությունը
D19: 1163 - 32001 | E19: Մարզական օբյեկտների շինարարություն | J19: =+'Հավելված N 1'!G18 -> 69042.8 | K19: =+'Հավելված N 1'!H18 -> 163085.3 | L19: =+'Հավելված N 1'!I18 -> 298681.8 | M19: =+'Հավելված N 1'!J18 -> 298681.8
F20: Մարզական օբյեկտների շենքերի (մասնաշենքերի) կառուցում (համաշինարարական աշխատանքներ, ջեռուցման համակարգի իրականացում, ներքին հարդարում, տարածքի բարեկարգում) և նախագծում
G21: Այլ պետական կազմակերպությունների կողմից օգտագործվող ոչ ֆինանսական ակտիվների հետ գործառնություններ
H22: Ակտիվն օգտագործող կազմակերպության անվանումը` Մարզական հաստատություններ
I23: Նախագծանահաշվային փաստաթղթերի քանակ, հատ | K23: 1 | M23: 1
I24: Կառուցման ենթակա օբյյեկտների թիվ, հատ | K24: 2 | M24: 2
I25: Հաստատությունների քանակ, որոնց շինարարական աշխատանքների ավարտվածության աստիճանը 100% է, հատ | K25: 1 | M25: 2
B27: 1183 | C27: Ապահով դպրոց | J27: =+J28+J32 -> 116742.2 | K27: =+K28+K32 -> 235315.7 | L27: =+L28+L32 -> 235315.7 | M27: =+M28+M32 -> 235315.7
D28: 1183 - 32007 | E28: Հանրակրթական կրթություն իրականացնող ուսումնական հաստատությունների նոր մարզադահլիճների կառուցում | J28: =+'Հավելված N 1'!G20 -> 2679.5 | K28: =+'Հավելված N 1'!H20 -> 3159.5 | L28: =+'Հավելված N 1'!I20 -> 3159.5 | M28: =+'Հավելված N 1'!J20 -> 3159.5
F29: Հանրակրթական ուսուցում իրականացնող ուսումնական հաստատությունների նոր մարզադահլիճների կառուցման նախագծանախահաշվային փաստաթղթերի մշակում
G30: Այլ պետական կազմակերպությունների կողմից օգտագործվող ոչ ֆինանսական ակտիվների հետ գործառնություններ
H31: Ակտիվն օգտագործող կազմակերպությունների անվանումները` Հանրակրթական դպրոցներ
D32: 1183 - 32009 | E32: Հանրակրթական կրթություն իրականացնող ուսումնական հաստատությունների մարզադահլիճների վերակառուցում | J32: =+'Հավելված N 1'!G21 -> 114062.7 | K32: =+'Հավելված N 1'!H21 -> 232156.2 | L32: =+'Հավելված N 1'!I21 -> 232156.2 | M32: =+'Հավելված N 1'!J21 -> 232156.2
F33: Հանրակրթական ուսուցում իրականացնող ուսումնական հաստատությունների մարզադահլիճների վերակառուցման նախագծանախահաշվային փաստաթղթերի մշակում
G34: Այլ պետական կազմակերպությունների կողմից օգտագործվող ոչ ֆինանսական ակտիվների հետ գործառնություններ
H35: Ակտիվն օգտագործող կազմակերպությունների անվանումները` Հանրակրթական դպրոցներ
I36: Հիմնանորոգվող ուսումնական հաստատությունների քանակ, հատ | J36: 2 | K36: 2 | L36: 2 | M36: 2
I37: Նախագծանախահաշվային փաստաթղթերի քանակ, հատ | K37: 2 | L37: 2 | M37: 2
I38: Հաստատությունների քանակ, որոնց շինարարական աշխատանքների ավարտվածության աստիճանը 100 տոկոս է | K38: 2 | L38: 2 | M38: 2
B40: 1192 | C40: Կրթության որակի ապահովում | J40: =+J41 -> 10000 | K40: =+K41 -> 0 | L40: =+L41 -> 0 | M40: =+M41 -> 0
D41: 1192 - 32007 | E41: ՀՀ պետական դպրոցների` ԳՏՃՄ լաբորատորիաներով ապահովում | J41: =+'Հավելված N 1'!G23 -> 10000 | K41: =+'Հավելված N 1'!H23 -> 0 | L41: =+'Հավելված N 1'!I23 -> 0 | M41: =+'Հավելված N 1'!J23 -> 0
F42: ՀՀ պետական դպրոցների համար ԳՏՃՄ առարկաների լաբորատոր սարքավարումների և կահույքի ձեռքբերում
G43: Այլ պետական կազմակերպությունների կողմից օգտագործվող ոչ ֆինանսական ակտիվների հետ գործառնություններ
H44: Ակտիվն օգտագործող կազմակերպության անվանումը` Հանրակրթական ուսումնական հաստատություններ
B46: 1236 | C46: Հանրակրթական և նախադպրոցական հաստատությունների հիմնում, կառուցում, բարելավում | J46: =+J47+J53+J61+J66+J72 -> -131935.9 | K46: =+K47+K53+K61+K66+K72 -> -174367.6 | L46: =+L47+L53+L61+L66+L72 -> -61373.4 | M46: =+M47+M53+M61+M66+M72 -> -269473.1
D47: 1236 - 32001 | E47: Մանկապարտեզների նոր շենքերի կառուցում | J47: =+'Հավելված N 1'!G25 -> 226678.9 | K47: =+'Հավելված N 1'!H25 -> 287782.8 | L47: =+'Հավելված N 1'!I25 -> 433427.9 | M47: =+'Հավելված N 1'!J25 -> 433427.9
...

Sheet Հավելված N 6
K1: Հավելված N 6
K2: ՀՀ կառավարության 2025 թվականի
K3: ______________ ի ___Ն որոշման
A6: ՀԱՅԱՍՏԱՆԻ ՀԱՆՐԱՊԵՏՈՒԹՅԱՆ ԿԱՌԱՎԱՐՈՒԹՅԱՆ 2024 ԹՎԱԿԱՆԻ ԴԵԿՏԵՄԲԵՐԻ 27-Ի N 2060-Ն ՈՐՈՇՄԱՆ N 9.1 ՀԱՎԵԼՎԱԾՈՒՄ ԿԱՏԱՐՎՈՂ ՓՈՓՈԽՈՒԹՅՈՒՆՆԵՐԸ ԵՎ ԼՐԱՑՈՒՄՆԵՐԸ
A9: ԲՍԿ | B9: Ծրագիր | D9: Միջոցառում | H9: Իրականացնողը/ ակտիվն օգտագործողը/ շահառուի ընտրության չափորոշիչը | I9: Արդյունքային չափորոշիչը | J9: Ցուցանիշների փոփոխությունը (ավելացումները նշված են դրական նշանով, իսկ նվազեցումները՝ փակագծերում)
B10: Դասիչը | C10: Անվանումը | D10: Դասիչը | E10: Անվանումը | F10: Նկարագրությունը | G10: Տեսակը | J10: Առաջին եռամսյակ | K10: Առաջին կիսամյակ | L10: Ինն ամիս | M10: Տարի
A11: ԸՆԴԱՄԵՆԸ | J11: =+J13+J26 -> 0 | K11: =+K13+K26 -> 0 | L11: =+L13+L26 -> 1.1641532e-10 | M11: =+M13+M26 -> 0
A12: այդ թվում՝
A13: ՀՀ ԿՐԹՈՒԹՅԱՆ, ԳԻՏՈՒԹՅԱՆ, ՄՇԱԿՈԻՅԹԻ ԵՎ ՍՊՈՐՏԻ ՆԱԽԱՐԱՐՈՒԹՅՈՒՆ | J13: =+J14+J20 -> 0 | K13: =+K14+K20 -> 0 | L13: =+L14+L20 -> 0 | M13: =+M14+M20 -> 0
B14: 1192 | C14: Կրթության որակի ապահովում | J14: =+J15 -> 10000 | K14: =+K15 -> 0 | L14: =+L15 -> 0 | M14: =+M15 -> 0
D15: 1192 - 32007 | E15: ՀՀ պետական դպրոցների` ԳՏՃՄ լաբորատորիաներով ապահովում | J15: =+'Հավելված N 2'!G45 -> 10000 | K15: =+'Հավելված N 2'!H45 -> 0 | L15: =+'Հավելված N 2'!I45 -> 0 | M15: =+'Հավելված N 2'!J45 -> 0
F16: ՀՀ պետական դպրոցների համար ԳՏՃՄ առարկաների լաբորատոր սարքավարումների և կահույքի ձեռքբերում
G17: Այլ պետական կազմակերպությունների կողմից օգտագործվող ոչ ֆինանսական ակտիվների հետ գործառնություններ
H18: Ակտիվն օգտագործող կազմակերպության անվանումը` Հանրակրթական ուսումնական հաստատություններ
B20: 1236 | C20: Հանրակրթական և նախադպրոցական հաստատությունների հիմնում, կառուցում, բարելավում | J20: =+J21 -> -10000 | K20: =+K21 -> 0 | L20: =+L21 -> 0 | M20: =+M21 -> 0
D21: 1236 - 32006 | E21: Հանրակրթական դպրոցների, մանկապարտեզների և կրթահամալիրների գույքով և տեխնիկայով ապահովում | J21: =+'Հավելված N 2'!G87 -> -10000 | K21: =+'Հավելված N 2'!H87 -> 0 | L21: =+'Հավելված N 2'!I87 -> 0 | M21: =+'Հավելված N 2'!J87 -> 0
F22: Կրթական ժամանակակից նորմերին և կրթական չափորոշիչներին համապատասխան ուսուցման ծրագրերն իրականացնելու նպատակով հանրակրթական և նախադպրոցական հաստատությունների համար գույքի և տեխնիկայի ձեռքբերում
G23: Այլ պետական կազմակերպությունների կողմից օգտագործվող ոչ ֆինանսական ակտիվների հետ գործառնություններ
H24: Ակտիվն օգտագործող կազմակերպությունների անվանումները` Հանրակրթական դպրոցներ, մանկապարտեզներ և կրթահամալիրներ
A26: ՀՀ ՔԱՂԱՔԱՇԻՆՈՒԹՅԱՆ ԿՈՄԻՏԵ | J26: =+J27+J40+J53 -> 0 | K26: =+K27+K40+K53 -> 0 | L26: =+L27+L40+L53 -> 1.1641532e-10 | M26: =+M27+M40+M53 -> 0
B27: 1163 | C27: Մասսայական սպորտ | J27: =+J28+J32 -> 5193.7 | K27: =+K28+K32 -> -60948.1 | L27: =+L28+L32 -> -173942.3 | M27: =+M28+M32 -> 34157.4
D28: 1163 - 12001 | E28: Աջակցություն համայնքներին մարզական հաստատությունների շենքային պայմանների բարելավման համար | J28: =+'Հավելված N 2'!G104 -> -63849.1 | K28: =+'Հավելված N 2'!H104 -> -224033.4 | L28: =+'Հավելված N 2'!I104 -> -472624.1 | M28: =+'Հավելված N 2'!J104 -> -264524.4
F29: Համայնքային ենթակայության մարզական հաստատությունների վերանորոգում և կառուցում
G30: Տրանսֆերտների տրամադրում
H31: Շահառուների ընտրության չափորոշիչները` ՀՀ համայնքների ենթակայության մարզական հաստատությունների շենքային պայմանների բարելավման անհրաժեշտությունը
D32: 1163 - 32001 | E32: Մարզական օբյեկտների շինարարություն | J32: =+'Հավելված N 2'!G113 -> 69042.8 | K32: =+'Հավելված N 2'!H113 -> 163085.3 | L32: =+'Հավելված N 2'!I113 -> 298681.8 | M32: =+'Հավելված N 2'!J113 -> 298681.8
F33: Մարզական օբյեկտների շենքերի (մասնաշենքերի) կառուցում (համաշինարարական աշխատանքներ, ջեռուցման համակարգի իրականացում, ներքին հարդարում, տարածքի բարեկարգում) և նախագծում
G34: Այլ պետական կազմակերպությունների կողմից օգտագործվող ոչ ֆինանսական ակտիվների հետ գործառնություններ
H35: Ակտիվն օգտագործող կազմակերպության անվանումը` Մարզական հաստատություններ
I36: Նախագծանահաշվային փաստաթղթերի քանակ, հատ | K36: 1 | M36: 1
I37: Կառուցման ենթակա օբյյեկտների թիվ, հատ | K37: 2 | M37: 2
I38: Հաստատությունների քանակ, որոնց շինարարական աշխատանքների ավարտվածության աստիճանը 100% է, հատ | K38: 1 | M38: 2
B40: 1183 | C40: Ապահով դպրոց | J40: =+J41+J45 -> 116742.2 | K40: =+K41+K45 -> 235315.7 | L40: =+L41+L45 -> 235315.7 | M40: =+M41+M45 -> 235315.7
D41: 1183 - 32007 | E41: Հանրակրթական կրթություն իրականացնող ուսումնական հաստատությունների նոր մարզադահլիճների կառուցում | J41: =+'Հավելված N 2'!G124 -> 2679.5 | K41: =+'Հավելված N 2'!H124 -> 3159.5 | L41: =+'Հավելված N 2'!I124 -> 3159.5 | M41: =+'Հավելված N 2'!J124 -> 3159.5
F42: Հանրակրթական ուսուցում իրականացնող ուսումնական հաստատությունների նոր մարզադահլիճների կառուցման նախագծանախահաշվային փաստաթղթերի մշակում
G43: Այլ պետական կազմակերպությունների կողմից օգտագործվող ոչ ֆինանսական ակտիվների հետ գործառնություններ
H44: Ակտիվն օգտագործող կազմակերպությունների անվանումները` Հանրակրթական դպրոցներ
D45: 1183 - 32009 | E45: Հանրակրթական կրթություն իրականացնող ուսումնական հաստատությունների մարզադահլիճների վերակառուցում | J45: =+'Հավելված N 2'!G137 -> 114062.7 | K45: =+'Հավելված N 2'!H137 -> 232156.2 | L45: =+'Հավելված N 2'!I137 -> 232156.2 | M45: =+'Հավելված N 2'!J137 -> 232156.2
F46: Հանրակրթական ուսուցում իրականացնող ուսումնական հաստատությունների մարզադահլիճների վերակառուցման նախագծանախահաշվային փաստաթղթերի մշակում
G47: Այլ պետական կազմակերպությունների կողմից օգտագործվող ոչ ֆինանսական ակտիվների հետ գործառնություններ
...

Sheet Հավելված N 7
H1: Հավելված N 7
H2: ՀՀ կառավարության 2025 թվականի
H3: ______________ ի ___Ն որոշման
A6: ՀԱՅԱՍՏԱՆԻ ՀԱՆՐԱՊԵՏՈՒԹՅԱՆ ԿԱՌԱՎԱՐՈՒԹՅԱՆ 2024 ԹՎԱԿԱՆԻ ԴԵԿՏԵՄԲԵՐԻ 27-Ի N 2060-Ն N 10 ՀԱՎԵԼՎԱԾՈՒՄ ԿԱՏԱՐՎՈՂ ՓՈՓՈԽՈՒԹՅՈՒՆՆԵՐԸ ԵՎ ԼՐԱՑՈՒՄՆԵՐԸ
A10: Կոդը | B10: Անվանումը | E10: Գնման ձևը | F10: Չափման միավորը | G10: Միավորի գինը | H10: Ցուցանիշների փոփոխությունը (ավելացումները նշված են դրական նշանով, իսկ նվազեցումները՝ փակագծերում)
H11: Քանակը | I11: Գումարը (հազար դրամ)
A12: 1 | B12: 2 | E12: 3 | F12: 4 | G12: 5 | H12: 6 | I12: 7
A13: ՀՀ քաղաքաշինության կոմիտե | I13: =+I14+I26+I69 -> 0
A14: Բաժին N 09 | B14: Խումբ N 01 | C14: Դաս N 01 | D14: Նախադպրոցական կրթություն | I14: =+I15 -> 433427.9
A15: 1236-32001 | B15: Մանկապարտեզների նոր շենքերի կառուցում | I15: =+I16+I18 -> 433427.9
B16: ՄԱՍ II. ԱՇԽԱՏԱՆՔՆԵՐ | I16: =+I17 -> 413571.6
A17: 45221142 | B17: ընդհանուր շինարարական աշխատանքներ | E17: ԲՄ | F17: դրամ | G17: 413571600 | H17: 1 | I17: =+ROUNDUP(H17*G17/1000,1) -> 413571.6
B18: ՄԱՍ III. ԾԱՌԱՅՈՒԹՅՈՒՆՆԵՐ | I18: =SUM(I19:I25) -> 19856.3
A19: 71351540 | B19: տեխնիկական հսկողության ծառայություններ | E19: ԳՀ | F19: դրամ | G19: 277000 | H19: 1 | I19: =+ROUNDUP(H19*G19/1000,1) -> 277
A20: 71351540 | B20: տեխնիկական հսկողության ծառայություններ | E20: ԳՀ | F20: դրամ | G20: 469100 | H20: 1 | I20: =+ROUNDUP(H20*G20/1000,1) -> 469.1
A21: 71351540 | B21: տեխնիկական հսկողության ծառայություններ | E21: ԳՀ | F21: դրամ | G21: 576600 | H21: 1 | I21: =+ROUNDUP(H21*G21/1000,1) -> 576.6
A22: 71351540 | B22: տեխնիկական հսկողության ծառայություններ | E22: ԳՀ | F22: դրամ | G22: 8734000 | H22: 1 | I22: =+ROUNDUP(H22*G22/1000,1) -> 8734
A23: 98111140 | B23: հեղինակային հսկողության ծառայություններ | E23: ՄԱ | F23: դրամ | G23: 4680700 | H23: 1 | I23: =+ROUNDUP(H23*G23/1000,1) -> 4680.7
A24: 98111140 | B24: հեղինակային հսկողության ծառայություններ | E24: ՄԱ | F24: դրամ | G24: 592900 | H24: 1 | I24: =+ROUNDUP(H24*G24/1000,1) -> 592.9
A25: 98111140 | B25: հեղինակային հսկողության ծառայություններ | E25: ՄԱ | F25: դրամ | G25: 4526000 | H25: 1 | I25: =+ROUNDUP(H25*G25/1000,1) -> 4526
A26: Բաժին N 09 | B26: Խումբ N 02 | C26: Դաս N 01 | D26: Հիմնական ընդհանուր կրթություն | I26: =+I27+I47+I51 -> -702901
A27: 1236-32003 | B27: Հանրակրթական դպրոցների նոր շենքերի կառուցում | I27: =+I28+I33 -> 279975.3
B28: ՄԱՍ II. ԱՇԽԱՏԱՆՔՆԵՐ | I28: =SUM(I29:I32) -> 236875.1
A29: 45211231-7 | B29: միջնակարգ դպրոցների կառուցման աշխատանքներ | E29: ԲՄ | F29: դրամ | I29: -285000
A30: 45211231 | B30: միջնակարգ դպրոցների կառուցման աշխատանքներ | E30: ԲՄ | F30: դրամ | G30: 190021000 | H30: 1 | I30: =+ROUNDUP(H30*G30/1000,1) -> 190021
A31: 45211231 | B31: միջնակարգ դպրոցների կառուցման աշխատանքներ | E31: ԲՄ | F31: դրամ | G31: 142232900 | H31: 1 | I31: =+ROUNDUP(H31*G31/1000,1) -> 142232.9
A32: 45211231 | B32: միջնակարգ դպրոցների կառուցման աշխատանքներ | E32: ԲՄ | F32: դրամ | G32: 189621200 | H32: 1 | I32: =+ROUNDUP(H32*G32/1000,1) -> 189621.2
B33: ՄԱՍ III. ԾԱՌԱՅՈՒԹՅՈՒՆՆԵՐ | I33: =SUM(I34:I46) -> 43100.2
A34: 71351540-3 | B34: տեխնիկական հսկողության ծառայություններ | E34: ԳՀ | F34: դրամ | I34: 6930
A35: 71351540-13 | B35: տեխնիկական հսկողության ծառայություններ | E35: ԳՀ | F35: դրամ | I35: =291.7+6533.7 -> 6825.4
A36: 71351540-15 | B36: տեխնիկական հսկողության ծառայություններ | E36: ԳՀ | F36: դրամ | I36: -2881.3
A37: 71351540 | B37: տեխնիկական հսկողության ծառայություններ | E37: ԳՀ | F37: դրամ | G37: 566300 | H37: =--1 -> 1 | I37: =+ROUNDUP(H37*G37/1000,1) -> 566.3
A38: 71351540 | B38: տեխնիկական հսկողության ծառայություններ | E38: ԳՀ | F38: դրամ | G38: =5614400+1204600 -> 6819000 | H38: =--1 -> 1 | I38: =+ROUNDUP(H38*G38/1000,1) -> 6819
A39: 98111140-2 | B39: հեղինակային հսկողության ծառայություններ | E39: ՄԱ | F39: դրամ | I39: =1133.2+1224.9+192.8+190+1095.1-1677.2 -> 2158.8
A40: 98111140 | B40: հեղինակային հսկողության ծառայություններ | E40: ՄԱ | F40: դրամ | G40: 182000 | H40: 1 | I40: =+ROUNDUP(H40*G40/1000,1) -> 182
A41: 71241200 | B41: նախագծերի պատրաստում, ծախսերի գնահատում | E41: ՄԱ | F41: դրամ | G41: 7000000 | H41: 1 | I41: =+ROUNDUP(H41*G41/1000,1) -> 7000
A42: 71241200 | B42: նախագծերի պատրաստում, ծախսերի գնահատում | E42: ՄԱ | F42: դրամ | G42: 7000000 | H42: 1 | I42: =+ROUNDUP(H42*G42/1000,1) -> 7000
A43: 71241200 | B43: նախագծերի պատրաստում, ծախսերի գնահատում | E43: ՄԱ | F43: դրամ | G43: 7000000 | H43: 1 | I43: =+ROUNDUP(H43*G43/1000,1) -> 7000
A44: 50531140 | B44: փորձաքննության ծառայություններ | E44: ԳՀ | F44: դրամ | G44: 500000 | H44: 1 | I44: =+ROUND(H44*G44/1000,1) -> 500
A45: 50531140 | B45: փորձաքննության ծառայություններ | E45: ԳՀ | F45: դրամ | G45: 500000 | H45: 1 | I45: =+ROUND(H45*G45/1000,1) -> 500
...
