Workbook
Name \A: #REF!
Name \A: #REF!
Name \A: #REF!
Name _tab10: #REF!
Name _tab10: #REF!
Name _tab10: #REF!
Name _tab11: #REF!
Name _tab11: #REF!
Name _tab11: #REF!
Name _tab12: #REF!
Name _tab12: #REF!
Name _tab12: #REF!
Name _tab13: #REF!
Name _tab13: #REF!
Name _tab13: #REF!
Name _tab14: #REF!
Name _tab14: #REF!
Name _tab14: #REF!
Name _tab15: #REF!
Name _tab15: #REF!
Name _tab15: #REF!
Name _tab16: #REF!
Name _tab16: #REF!
Name _tab16: #REF!
Name _tab17: #REF!
Name _tab17: #REF!
Name _tab17: #REF!
Name _tab18: #REF!
Name _tab18: #REF!
Name _tab18: #REF!
Name _tab19: #REF!
Name _tab19: #REF!
Name _tab19: #REF!
Name _tab20: #REF!
Name _tab20: #REF!
Name _tab20: #REF!
Name _tab21: #REF!
Name _tab21: #REF!
Name _tab21: #REF!
Name _tab22: #REF!
Name _tab22: #REF!
Name _tab22: #REF!
Name _tab23: #REF!
Name _tab23: #REF!
Name _tab23: #REF!
Name _tab24: #REF!
Name _tab24: #REF!
Name _tab24: #REF!
Name _tab5: #REF!
Name _tab5: #REF!
Name _tab5: #REF!
Name _tab6: #REF!
Name _tab6: #REF!
Name _tab6: #REF!
Name _tab7: #REF!
Name _tab7: #REF!
Name _tab7: #REF!
Name _tab8: #REF!
Name _tab8: #REF!
Name _tab8: #REF!

Sheet Havelvats 1
A1: Հավելված 1 ՀՀ կառավարության 2025 թվականի____________ի N _____-Ն որոշման
A3: «ՀԱՅԱՍՏԱՆԻ ՀԱՆՐԱՊԵՏՈՒԹՅԱՆ 2025 ԹՎԱԿԱՆԻ ՊԵՏԱԿԱՆ ԲՅՈՒՋԵԻ ՄԱՍԻՆ» ՕՐԵՆՔԻ N 1 ՀԱՎԵԼՎԱԾԻ N 2 ԱՂՅՈՒՍԱԿՈՒՄ ԿԱՏԱՐՎՈՂ ՎԵՐԱԲԱՇԽՈՒՄԸ, ՀԱՅԱՍՏԱՆԻ ՀԱՆՐԱՊԵՏՈՒԹՅԱՆ ԿԱՌԱՎԱՐՈՒԹՅԱՆ 2024 ԹՎԱԿԱՆԻ ԴԵԿՏԵՄԲԵՐԻ 27-Ի N 2060-Ն ՈՐՈՇՄԱՆ N 5 ՀԱՎԵԼՎԱԾԻ N 1 ԱՂՅՈՒՍԱԿՈՒՄ ԿԱՏԱՐՎՈՂ ՓՈՓՈԽՈՒԹՅՈՒՆԸ
G4: հազար դրամներով
A5: ԲԳԿ | B5: Ծրագրային դասիչը | D5: ԲԳԿ/Ծրագրի /միջոցառման անվանումը | E5: Ծրագրի նպատակը/Միջոցառման նկարագրույունը | F5: Վերջնական արդյունքի նկարագրությունը/Միջոցառման տեսակը | G5: Ցուցանիշների փոփոխությունը (ավելացումները նշված են դրական նշանով, իսկ նվազեցումները՝ փակագծերում)
B6: Ծրագիր | C6: Միջոցառում | G6: Առաջին եռամսյակ | H6: Առաջին կիսամյակ | I6: Ինն ամիս | J6: Տարի
A7: ԸՆԴԱՄԵՆԸ | G7: =G8 -> 0 | H7: =H8 -> 0 | I7: =I8 -> 0 | J7: =J8 -> 0
A8: ՀՀ շրջակա միջավայրի նախարարություն | G8: =G9 -> 0 | H8: =H9 -> 0 | I8: =I9 -> 0 | J8: =J9 -> 0
B9: 1173 | D9: Անտառների կառավարում | E9: Անտառային տարածքների կայուն կառավարում | F9: Կայուն կառավարվող անտառային տարածքների աճ | G9: =G10+G11 -> 0 | H9: =H10+H11 -> 0 | I9: =I10+I11 -> 0 | J9: =J10+J11 -> 0
C10: 1173 - 11001 | D10: Էկոպարեկային ծառայություն | E10: Անտառներում և բնության հատուկ պահպանվող տարածքներում պահպանության իրականացում և համակարգում | F10: Ծառայությունների մատուցում | G10: ='Havelvats 4'!G19 -> -331800 | H10: ='Havelvats 4'!H19 -> -331800 | I10: ='Havelvats 4'!I19 -> -331800 | J10: ='Havelvats 4'!J19 -> -331800
C11: 1173 - 31001 | D11: Էկոպարեկային ծառայության տեխնիկական կարողությունների ընդլայնում | E11: Էկոպարեկային ծառայության տեխնիկական հագեցվածության բարելավում | F11: Պետական մարմինների կողմից օգտագործվող ոչ ֆինանսական ակտիվների հետ գործառնություններ | G11: ='Havelvats 4'!G28 -> 331800 | H11: ='Havelvats 4'!H28 -> 331800 | I11: ='Havelvats 4'!I28 -> 331800 | J11: ='Havelvats 4'!J28 -> 331800

Sheet Havelvats 2
A1: Հավելված 2 ՀՀ կառավարության 2025 թվականի____________ի N _____-Ն որոշման
A3: «ՀԱՅԱՍՏԱՆԻ ՀԱՆՐԱՊԵՏՈՒԹՅԱՆ 2025 ԹՎԱԿԱՆԻ ՊԵՏԱԿԱՆ ԲՅՈՒՋԵԻ ՄԱՍԻՆ» ՕՐԵՆՔԻ N 1 ՀԱՎԵԼՎԱԾԻ N 3 ԱՂՅՈՒՍԱԿՈՒՄ ԿԱՏԱՐՎՈՂ ՓՈՓՈԽՈՒԹՅՈՒՆԸ
E4: հազար դրամներով
A5: Ծրագրային դասիչ | C5: Բյուջետային գլխավոր կարգադրիչների, ծրագրերի, միջոցառումների և ուղղությունների անվանումները | D5: Ընդամենը | E5: Ցուցանիշների փոփոխությունը (ավելացումները նշված են դրական նշանով)
E6: այդ թվում`
A7: Ծրագիր | B7: Միջոց առում | E7: Կառուցման աշխատանքներ | F7: Վերակառուցման, վերանորոգման և վերականգնման աշխատանքներ | G7: Նախագծահե- տազոտական, գեոդեզիա- քարտեզագրական աշխատանքներ | H7: Ոչ ֆինանսական այլ ակտիվների ձեռքբերում
C8: ԸՆԴԱՄԵՆԸ | D8: =D9 -> 331800 | E8: =E9 -> 0 | F8: =F9 -> 0 | G8: =G9 -> 0 | H8: =H9 -> 331800
C9: ՀՀ շրջակա միջավայրի նախարարություն | D9: =D11 -> 331800 | E9: =E11 -> 0 | F9: =F11 -> 0 | G9: =G11 -> 0 | H9: =H11 -> 331800
C10: այդ թվում՛
A11: 1173 | B11: 31001 | C11: Էկոպարեկային ծառայության տեխնիկական կարողությունների ընդլայնում | D11: =SUM(E11:H11) -> 331800 | E11: 0 | F11: 0 | G11: 0 | H11: ='Havelvats 4'!J28 -> 331800

Sheet Havelvats 3
A1: Հավելված 3 ՀՀ կառավարության 2025 թվականի____________ի N _____-Ն որոշման
A3: ՀԱՅԱՍՏԱՆԻ ՀԱՆՐԱՊԵՏՈՒԹՅԱՆ ԿԱՌԱՎԱՐՈՒԹՅԱՆ 2024 ԹՎԱԿԱՆԻ ԴԵԿՏԵՄԲԵՐԻ 27-Ի N 2060-Ն ՈՐՈՇՄԱՆ N 5 ՀԱՎԵԼՎԱԾԻ N 2 ԱՂՅՈՒՍԱԿՈՒՄ ԿԱՏԱՐՎՈՂ ՓՈՓՈԽՈՒԹՅՈՒՆԸ
F5: հազար դրամներով
A6: Ծրագրային դասիչ | C6: Բյուջետային գլխավոր կարգադրիչների, ծրագրերի, միջոցառումների և ուղղությունների անվանումները | D6: Ցուցանիշների փոփոխությունը (ավելացումները նշված են դրական նշանով)
A7: Ծրագիր | B7: Միջոց առում | D7: Առաջին եռամսյակ | E7: Առաջին կիսամյակ | F7: Ինն ամիս | G7: Տարի
C8: ԸՆԴԱՄԵՆԸ | D8: =D9 -> 331800 | E8: =E9 -> 331800 | F8: =F9 -> 331800 | G8: =G9 -> 331800
C9: ՀՀ շրջակա միջավայրի նախարարություն | D9: =D11 -> 331800 | E9: =E11 -> 331800 | F9: =F11 -> 331800 | G9: =G11 -> 331800
C10: այդ թվում՛
A11: 1173 | B11: 31001 | C11: Էկոպարեկային ծառայության տեխնիկական կարողությունների ընդլայնում | D11: =D13 -> 331800 | E11: =E13 -> 331800 | F11: =F13 -> 331800 | G11: =G13 -> 331800
C12: այդ թվում` ըստ կատարողների
C13: ՀՀ շրջակա միջավայրի նախարարության Էկոպարեկային ծառայություն | D13: ='Havelvats 4'!G28 -> 331800 | E13: ='Havelvats 4'!H28 -> 331800 | F13: ='Havelvats 4'!I28 -> 331800 | G13: ='Havelvats 4'!J28 -> 331800

Sheet Havelvats 4
F1: Հավելված 4 ՀՀ կառավարության 2025 թվականի____________ի N _____-Ն որոշման
A3: ՀԱՅԱՍՏԱՆԻ ՀԱՆՐԱՊԵՏՈՒԹՅԱՆ ԿԱՌԱՎԱՐՈՒԹՅԱՆ 2024 ԹՎԱԿԱՆԻ ԴԵԿՏԵՄԲԵՐԻ 27-Ի N 2060-Ն ՈՐՈՇՄԱՆ NN 3 ԵՎ 4 ՀԱՎԵԼՎԱԾՆԵՐՈՒՄ ԿԱՏԱՐՎՈՂ ՓՈՓՈԽՈՒԹՅՈՒՆՆԵՐԸ ԵՎ ԼՐԱՑՈՒՄՆԵՐԸ
J4: հազար դրամներով
A5: Գործառնական դասիչ | D5: Ծրագրային դասիչը | F5: Բյուջետային ծախսերի գործառական դասակարգման բաժինների, խմբերի և դասերի, բյուջետային ծրագրերի միջոցառումների, բյուջետային հատկացումների գլխավոր կարգադրիչների անվանումները | G5: Ցուցանիշների փոփոխությունը (ավելացումները նշված են դրական նշանով, իսկ նվազեցումները՝ փակագծերում)
A6: Բաժին | B6: Խումբ | C6: Դաս | D6: Ծրագիր | E6: Միջոցառում | G6: Առաջին եռամսյակ | H6: Առաջին կիսամյակ | I6: Ինն ամիս | J6: Տարի
F7: ԸՆԴԱՄԵՆԸ ԾԱԽՍԵՐ | G7: =G9 -> 0 | H7: =H9 -> 0 | I7: =I9 -> 0 | J7: =J9 -> 0
F8: այդ թվում`
A9: 05 | F9: ՇՐՋԱԿԱ ՄԻՋԱՎԱՅՐԻ ՊԱՇՏՊԱՆՈՒԹՅՈՒՆ | G9: =G11 -> 0 | H9: =H11 -> 0 | I9: =I11 -> 0 | J9: =J11 -> 0
F10: այդ թվում`
B11: 06 | F11: Շրջակա միջավայրի պաշտպանություն (այլ դասերին չպատկանող) | G11: =G13 -> 0 | H11: =H13 -> 0 | I11: =I13 -> 0 | J11: =J13 -> 0
F12: այդ թվում`
C13: 01 | F13: Շրջակա միջավայրի պաշտպանություն (այլ դասերին չպատկանող) | G13: =G15 -> 0 | H13: =H15 -> 0 | I13: =I15 -> 0 | J13: =J15 -> 0
F14: այդ թվում`
F15: ՀՀ շրջակա միջավայրի նախարարություն | G15: =G17 -> 0 | H15: =H17 -> 0 | I15: =I17 -> 0 | J15: =J17 -> 0
F16: այդ թվում`
D17: 1173 | F17: Անտառների կառավարում | G17: =G19+G28 -> 0 | H17: =H19+H28 -> 0 | I17: =I19+I28 -> 0 | J17: =J19+J28 -> 0
F18: այդ թվում`
E19: 11001 | F19: Էկոպարեկային ծառայություն | G19: =G21 -> -331800 | H19: =H21 -> -331800 | I19: =I21 -> -331800 | J19: =J21 -> -331800
F20: այդ թվում` ըստ կատարողների
F21: ՀՀ շրջակա միջավայրի նախարարության Էկոպարեկային ծառայություն | G21: =G23 -> -331800 | H21: =H23 -> -331800 | I21: =I23 -> -331800 | J21: =J23 -> -331800
F22: այդ թվում` բյուջետային ծախսերի տնտեսագիտական դասակարգման հոդվածներ
F23: ԸՆԴԱՄԵՆԸ ԾԱԽՍԵՐ | G23: =G24 -> -331800 | H23: =H24 -> -331800 | I23: =I24 -> -331800 | J23: =J24 -> -331800
F24: ԸՆԹԱՑԻԿ ԾԱԽՍԵՐ | G24: =G25 -> -331800 | H24: =H25 -> -331800 | I24: =I25 -> -331800 | J24: =J25 -> -331800
F25: ԱՇԽԱՏԱՆՔԻ ՎԱՐՁԱՏՐՈՒԹՅՈՒՆ | G25: =G26 -> -331800 | H25: =H26 -> -331800 | I25: =I26 -> -331800 | J25: =J26 -> -331800
F26: Դրամով վճարվող աշխատավարձեր և հավելավճարներ | G26: =G27 -> -331800 | H26: =H27 -> -331800 | I26: =I27 -> -331800 | J26: =J27 -> -331800
F27: - Աշխատողների աշխատավարձեր և հավելավճարներ | G27: -331800 | H27: -331800 | I27: -331800 | J27: -331800
E28: 31001 | F28: Էկոպարեկային ծառայության տեխնիկական կարողությունների ընդլայնում | G28: =G30 -> 331800 | H28: =H30 -> 331800 | I28: =I30 -> 331800 | J28: =J30 -> 331800
F29: այդ թվում` ըստ կատարողների
F30: ՀՀ շրջակա միջավայրի նախարարության Էկոպարեկային ծառայություն | G30: =G32 -> 331800 | H30: =H32 -> 331800 | I30: =I32 -> 331800 | J30: =J32 -> 331800
F31: այդ թվում` բյուջետային ծախսերի տնտեսագիտական դասակարգման հոդվածներ
F32: ԸՆԴԱՄԵՆԸ ԾԱԽՍԵՐ | G32: =G33 -> 331800 | H32: =H33 -> 331800 | I32: =I33 -> 331800 | J32: =J33 -> 331800
F33: ՈՉ ՖԻՆԱՆՍԱԿԱՆ ԱԿՏԻՎՆԵՐԻ ԳԾՈՎ ԾԱԽՍԵՐ | G33: =G34 -> 331800 | H33: =H34 -> 331800 | I33: =I34 -> 331800 | J33: =J34 -> 331800
F34: ՀԻՄՆԱԿԱՆ ՄԻՋՈՑՆԵՐ | G34: =G35 -> 331800 | H34: =H35 -> 331800 | I34: =I35 -> 331800 | J34: =J35 -> 331800
F35: ՄԵՔԵՆԱՆԵՐ ԵՎ ՍԱՐՔԱՎՈՐՈՒՄՆԵՐ | G35: =G36 -> 331800 | H35: =H36 -> 331800 | I35: =I36 -> 331800 | J35: =J36 -> 331800
F36: -Տրանսպորտային սարքավորումներ | G36: 331800 | H36: 331800 | I36: 331800 | J36: 331800

Sheet Havelvats 5
A1: Հավելված 5 ՀՀ կառավարության 2025 թվականի____________ի N _____-Ն որոշման
A3: ՀԱՅԱՍՏԱՆԻ ՀԱՆՐԱՊԵՏՈՒԹՅԱՆ ԿԱՌԱՎԱՐՈՒԹՅԱՆ 2024 ԹՎԱԿԱՆԻ ԴԵԿՏԵՄԲԵՐԻ 27-Ի N 2060-Ն ՈՐՈՇՄԱՆ N 9 ՀԱՎԵԼՎԱԾՈՒՄ ԿԱՏԱՐՎՈՂ ՓՈՓՈԽՈՒԹՅՈՒՆՆԵՐԸ ԵՎ ԼՐԱՑՈՒՄՆԵՐԸ
A5: ԲԳԿ | B5: Ծրագիր | D5: Միջոցառում | H5: Իրականացնողը/ ակտիվն օգտագործողը/ շահառուի ընտրության չափորոշիչը | I5: Արդյունքային չափորոշիչը | J5: Ցուցանիշների փոփոխությունը (ավելացումները նշված են դրական նշանով, իսկ նվազեցումները՝ փակագծերում)
B6: Դասիչը | C6: Անվա-նումը | D6: Դասիչը | E6: Անվա-նումը | F6: Նկարագրու-թյունը | G6: Տեսակը | J6: Առաջին եռամսյակ | K6: Առաջին կիսամյակ | L6: Ինն ամիս | M6: Տարի
A7: ԸՆԴԱՄԵՆԸ | J7: =J8 -> 0 | K7: =K8 -> 0 | L7: =L8 -> 0 | M7: =M8 -> 0
A8: ՀՀ շրջակա միջավայրի նախարարություն | J8: =J9 -> 0 | K8: =K9 -> 0 | L8: =L9 -> 0 | M8: =M9 -> 0
B9: 1173 | C9: Անտառների կառավարում | J9: =J10+J14 -> 0 | K9: =K10+K14 -> 0 | L9: =L10+L14 -> 0 | M9: =M10+M14 -> 0
D10: 1173 - 11001 | E10: Էկոպարեկային ծառայություն | J10: ='Havelvats 4'!G19 -> -331800 | K10: ='Havelvats 4'!H19 -> -331800 | L10: ='Havelvats 4'!I19 -> -331800 | M10: ='Havelvats 4'!J19 -> -331800
F11: Անտառներում և բնության հատուկ պահպանվող տարածքներում պահպանության իրականացում և համակարգում
G12: Ծառայությունների մատուցում
H13: Ծառայությունը մատուցողի անվանումը` Շրջակա միջավայրի նախարարության էկոպարեկային ծառայություն
D14: 1173 - 31001 | E14: Էկոպարեկային ծառայության տեխնիկական կարողությունների ընդլայնում | J14: ='Havelvats 4'!G28 -> 331800 | K14: ='Havelvats 4'!H28 -> 331800 | L14: ='Havelvats 4'!I28 -> 331800 | M14: ='Havelvats 4'!J28 -> 331800
F15: Էկոպարեկային ծառայության տեխնիկական հագեցվածության բարելավում
G16: Պետական մարմինների կողմից օգտագործվող ոչ ֆինանսական ակտիվների հետ գործառնություններ
H17: Ակտիվն օգտագործող կազմակերպության անվանումը` Շրջակա միջավայրի նախարարության Էկոպարեկային ծառայություն
I18: Տրանսպորտային սարքավորումներ (փոքրածավալ բեռնատարներ (պիկապներ)) քանակ, հատ | K18: 22 | M18: 22
I19: Շրջակա միջավայրի նախարարության էկոպարեկային ծառայության ՀՀ Սյունիքի մարզային վարչության գործառնական մեքենաների հագեցվածություն, տոկոս | K19: 100 | M19: 100

Sheet Havelvats 6
A1: Հավելված 6 ՀՀ կառավարության 2025 թվականի____________ի N _____-Ն որոշման
A3: ՀԱՅԱՍՏԱՆԻ ՀԱՆՐԱՊԵՏՈՒԹՅԱՆ ԿԱՌԱՎԱՐՈՒԹՅԱՆ 2024 ԹՎԱԿԱՆԻ ԴԵԿՏԵՄԲԵՐԻ 27-Ի N 2060-Ն ՈՐՈՇՄԱՆ N 9․1 ՀԱՎԵԼՎԱԾՈՒՄ ԿԱՏԱՐՎՈՂ ՓՈՓՈԽՈՒԹՅՈՒՆՆԵՐԸ ԵՎ ԼՐԱՑՈՒՄՆԵՐԸ
A5: ԲՍԿ | B5: Ծրագիր | D5: Միջոցառում | H5: Իրականացնողը/ ակտիվն օգտագործողը/ շահառուի ընտրության չափորոշիչը | I5: Արդյունքային չափորոշիչը | J5: Ցուցանիշների փոփոխությունը (ավելացումները նշված են դրական նշանով, իսկ նվազեցումները՝ փակագծերում)
B6: Դասիչը | C6: Անվանումը | D6: Դասիչը | E6: Անվանումը | F6: Նկարագրությունը | G6: Տեսակը | J6: Առաջին եռամսյակ | K6: Առաջին կիսամյակ | L6: Ինն ամիս | M6: Տարի
A7: ԸՆԴԱՄԵՆԸ | J7: =J8 -> 0 | K7: =K8 -> 0 | L7: =L8 -> 0 | M7: =M8 -> 0
A8: ՀՀ շրջակա միջավայրի նախարարության Էկոպարեկային ծառայություն | J8: =J9 -> 0 | K8: =K9 -> 0 | L8: =L9 -> 0 | M8: =M9 -> 0
B9: 1173 | C9: Անտառների կառավարում | J9: =J10+J14 -> 0 | K9: =K10+K14 -> 0 | L9: =L10+L14 -> 0 | M9: =M10+M14 -> 0
D10: 1173 - 11001 | E10: Էկոպարեկային ծառայություն | J10: ='Havelvats 4'!G19 -> -331800 | K10: ='Havelvats 4'!H19 -> -331800 | L10: ='Havelvats 4'!I19 -> -331800 | M10: ='Havelvats 4'!J19 -> -331800
F11: Անտառներում և բնության հատուկ պահպանվող տարածքներում պահպանության իրականացում և համակարգում
G12: Ծառայությունների մատուցում
H13: Ծառայությունը մատուցողի անվանումը` Շրջակա միջավայրի նախարարության էկոպարեկային ծառայություն
D14: 1173 - 31001 | E14: Էկոպարեկային ծառայության տեխնիկական կարողությունների ընդլայնում | J14: ='Havelvats 4'!G28 -> 331800 | K14: ='Havelvats 4'!H28 -> 331800 | L14: ='Havelvats 4'!I28 -> 331800 | M14: ='Havelvats 4'!J28 -> 331800
F15: Էկոպարեկային ծառայության տեխնիկական հագեցվածության բարելավում
G16: Պետական մարմինների կողմից օգտագործվող ոչ ֆինանսական ակտիվների հետ գործառնություններ
H17: Ակտիվն օգտագործող կազմակերպության անվանումը` Շրջակա միջավայրի նախարարության Էկոպարեկային ծառայություն
I18: Տրանսպորտային սարքավորումներ (փոքրածավալ բեռնատարներ (պիկապներ)) քանակ, հատ | K18: 22 | M18: 22
I19: Շրջակա միջավայրի նախարարության էկոպարեկային ծառայության ՀՀ Սյունիքի մարզային վարչության գործառնական մեքենաների հագեցվածություն, տոկոս | K19: 100 | M19: 100

Sheet Havelvats 7
D1: Հավելված 7 ՀՀ կառավարության 2025 թվականի____________ի N _____-Ն որոշման
A3: ՀԱՅԱՍՏԱՆԻ ՀԱՆՐԱՊԵՏՈՒԹՅԱՆ ԿԱՌԱՎԱՐՈՒԹՅԱՆ 2024 ԹՎԱԿԱՆԻ ԴԵԿՏԵՄԲԵՐԻ 27-Ի N 2060-Ն ՈՐՈՇՄԱՆ N 10 ՀԱՎԵԼՎԱԾՈՒՄ ԿԱՏԱՐՎՈՂ ՓՈՓՈԽՈՒԹՅՈՒՆՆԵՐԸ ԵՎ ԼՐԱՑՈՒՄՆԵՐԸ
H4: հազար դրամներով
A5: Կոդը | B5: Անվանումը | E5: Գնման ձևը | F5: Չափման միավորը | G5: Ցուցանիշների փոփոխությունները (ավելացումները նշված են դրական նշանով)
G6: Միավորի գինը | H6: Քանակը | I6: Գումարը (հազար դրամով)
A7: ՀՀ շրջակա միջավայրի նախարարության Էկոպարեկային ծառայություն | I7: =I8 -> 331800
A8: Բաժին N 05 | B8: Խումբ N 06 | C8: Դաս N 01 | D8: Շրջակա միջավայրի պաշտպանություն (այլ դասերին չպատկանող) | I8: =I9 -> 331800
A9: 1173 31001 | B9: Էկոպարեկային ծառայության տեխնիկական կարողությունների ընդլայնում | I9: =I10 -> 331800
B10: ՄԱՍ I. Ա Պ Ր Ա Ն Ք Ն Ե Ր | I10: =SUM(I11:I15) -> 331800
A11: 34131100/1 | B11: Փոքրածավալ բեռնատարներ (պիկապներ) | E11: ԷԱՃ | F11: հատ | G11: 15900000 | H11: 4 | I11: =G11*H11/1000 -> 63600
A12: 34131100/2 | B12: Փոքրածավալ բեռնատարներ (պիկապներ) | E12: ԷԱՃ | F12: հատ | G12: 14900000 | H12: 5 | I12: =G12*H12/1000 -> 74500
A13: 34131100/3 | B13: Փոքրածավալ բեռնատարներ (պիկապներ) | E13: ԷԱՃ | F13: հատ | G13: 14900000 | H13: 5 | I13: =G13*H13/1000 -> 74500
A14: 34131100/4 | B14: Փոքրածավալ բեռնատարներ (պիկապներ) | E14: ԷԱՃ | F14: հատ | G14: 14900000 | H14: 5 | I14: =G14*H14/1000 -> 74500
A15: 34131100/5 | B15: Փոքրածավալ բեռնատարներ (պիկապներ) | E15: ԷԱՃ | F15: հատ | G15: 14900000 | H15: 3 | I15: =G15*H15/1000 -> 44700
