Workbook
Name a: #REF!
Name a: #REF!
Name a: #REF!
Name a: #REF!
Name a: #REF!
Name a: #REF!
Name AgencyCode: #REF!
Name AgencyCode: #REF!
Name AgencyCode: #REF!
Name AgencyCode: #REF!
Name AgencyCode: #REF!
Name AgencyCode: #REF!
Name AgencyCode: #REF!
Name AgencyCode: #REF!
Name AgencyName: #REF!
Name AgencyName: #REF!
Name AgencyName: #REF!
Name AgencyName: #REF!
Name AgencyName: #REF!
Name åû: #REF!
Name åû: #REF!
Name davit: #REF!
Name davit: #REF!
Name davit: #REF!
Name davit: #REF!
Name Functional1: #REF!
Name Functional1: #REF!
Name Functional1: #REF!
Name Functional1: #REF!
Name Functional1: #REF!
Name ggg: #REF!
Name ggg: #REF!
Name ggg: #REF!
Name ggg: #REF!
Name mas: #REF!
Name mass: #REF!
Name PANature: #REF!
Name PANature: #REF!
Name PANature: #REF!
Name PANature: #REF!
Name PANature: #REF!
Name PAType: #REF!
Name PAType: #REF!
Name PAType: #REF!
Name PAType: #REF!
Name PAType: #REF!
Name Performance2: #REF!
Name Performance2: #REF!
Name Performance2: #REF!
Name Performance2: #REF!
Name Performance2: #REF!
Name PerformanceType: #REF!
Name PerformanceType: #REF!
Name PerformanceType: #REF!
Name PerformanceType: #REF!
Name PerformanceType: #REF!
Name x: #REF!
Name x: #REF!
Name Հավելված: #REF!
Name Հավելված: #REF!

Sheet Հավելված N 1
C1: Հավելված N 1
C2: ՀՀ կառավարության 2024 թվականի
C3: ______________ ի ___Ն որոշման
A6: «ՀԱՅԱUՏԱՆԻ ՀԱՆՐԱՊԵՏՈՒԹՅԱՆ 2024 ԹՎԱԿԱՆԻ ՊԵՏԱԿԱՆ ԲՅՈՒՋԵԻ ՄԱUԻՆ» ՀԱՅԱUՏԱՆԻ ՀԱՆՐԱՊԵՏՈՒԹՅԱՆ OՐԵՆՔԻ N 1 ՀԱՎԵԼՎԱԾԻ N 2 ԱՂՅՈՒՍԱԿՈՒՄ ԿԱՏԱՐՎՈՂ ՎԵՐԱԲԱՇԽՈՒՄԸ ԵՎ ՀԱՅԱՍՏԱՆԻ ՀԱՆՐԱՊԵՏՈՒԹՅԱՆ ԿԱՌԱՎԱՐՈՒԹՅԱՆ 2023 ԹՎԱԿԱՆԻ ԴԵԿՏԵՄԲԵՐԻ 28-Ի N 2323-Ն ՈՐՈՇՄԱՆ N 5 ՀԱՎԵԼՎԱԾԻ N 1 ԱՂՅՈՒՍԱԿՈՒՄ ԿԱՏԱՐՎՈՂ ՓՈՓՈԽՈՒԹՅՈՒՆՆԵՐԸ ԵՎ ԼՐԱՑՈՒՄՆԵՐԸ
D9: հազ. դրամներով
A10: Ծրագրային դասիչը | C10: Բյուջետային հատկացումների գլխավոր կարգադրիչների, ծրագրերի և միջոցառումների անվանումները | D10: Ցուցանիշների փոփոխությունը (ավելացումները նշված են դրական նշանով, իսկ նվազեցումները փակագծերում)
A11: Ծրագիր | B11: Միջոցառում | D11: Տարի
A12: 1192 | C12: ԸՆԴԱՄԵՆԸ | D12: 0
C13: այդ թվում
C14: ՀՀ ԿՐԹՈՒԹՅԱՆ, ԳԻՏՈՒԹՅԱՆ, ՄՇԱԿՈՒՅԹԻ ԵՎ ՍՊՈՐՏԻ ՆԱԽԱՐԱՐՈՒԹՅՈՒՆ | D14: 0
A15: 1045 | C15: Ծրագրի անվանումը`
C16: Նախնական (արհեստագործական) և միջին մասնագիտական կրթություն | D16: =+D23 -> -115386
C17: Ծրագրի նպատակը`
C18: Աշխատաշուկայի արդի պահանջներին համապատասխան նախնական մասնագիտական (արհեստագործական) և միջին մասնագիտական կրթության որակավորում ունեցող մասնագետների պատրաստում, կրթության մատչելիության ապահովում:
C19: Վերջնական արդյունքի նկարագրությունը`
C20: Նախնական (արհեստագործական) և միջին մասնագիտական կրթության գրավչության բարձրացում, մատչելի և մրցունակ նախնական (արհեստագործական) և միջին մասնագիտական կրթության ապահովում
C21: Ծրագրի միջոցառումներ
B22: 32001 | C22: Միջոցառման անվանումը`
C23: Նախնական մասնագիտական (արհեստագործական) և միջին մասնագիտական ուսումնական հաստատությունների շենքային պայմանների բարելավում | D23: =+'Հավելված N 2'!G187 -> -115386
C24: Միջոցառման նկարագրությունը`
C25: ՆՄՄԿՈՒ հաստատությունների շենքերի հիմնանորոգման և նախագծման (շինարարական աշխատանքներ, ջեռուցման համակարգի ստեղծում, ներքին հարդարում, տարածքի բարեկարգում) աշխատանքների իրականացում
C26: Միջոցառման տեսակը
C27: Այլ պետական կազմակերպությունների կողմից օգտագործվող ոչ ֆինանսական ակտիվների հետ գործառնություններ
A28: 1075 | C28: Ծրագրի անվանումը`
C29: Մշակութային ժառանգության ծրագիր | D29: =+D36+D42 -> -291203.7
C30: Ծրագրի նպատակը`
C31: Մշակութային ժառանգության պահպանում, օգտագործում, համալրում և հանրահռչակում
C32: Վերջնական արդյունքի նկարագրությունը`
C33: Մշակութային ժառանգության շարունակական պահպանում, մշակութային զբոսաշրջության զարգացում և խթանում
C34: Ծրագրի միջոցառումներ
B35: 21001 | C35: Միջոցառման անվանումը`
C36: Հուշարձանների ամրակայում, նորոգում և վերականգնում | D36: =+'Հավելված N 2'!G75 -> -132019.2
C37: Միջոցառման նկարագրությունը`
C38: Հուշարձանների գիտանախագծային փաստաթղթերի կազմում, հրատապ ուսումնասիրում, վավերագրման և ուսումնասիրման աշխատանքներ, հետախուզում և հնագիտական պեղում, ամրակայում, նորոգում և վերականգնում
C39: Միջոցառման տեսակը
C40: Հանրության կողմից անմիջականորեն օգտագործվող ակտիվների հետ կապված միջոցառումներ
B41: 32001 | C41: Միջոցառման անվանումը`
C42: Ներդրումներ թանգարանների և պատկերասրահների հիմնանորոգման համար | D42: =+'Հավելված N 2'!G26 -> -159184.5
C43: Միջոցառման նկարագրությունը`
C44: Թանգարանների և պատկերասրահների շենքերի, մասնաշենքերի հիմնանորոգում, համաշինարարական աշխատանքներ, ջեռուցման համակարգի իրականացում, ներքին հարդարում, տարածքի բարեկարգում և նախագծում
...

Sheet Հավելված N 2
F1: Հավելված N 2
F2: ՀՀ կառավարության 2024 թվականի
F3: ______________ ի ___Ն որոշման
A7: ՀԱՅԱՍՏԱՆԻ ՀԱՆՐԱՊԵՏՈՒԹՅԱՆ ԿԱՌԱՎԱՐՈՒԹՅԱՆ 2023 ԹՎԱԿԱՆԻ ԴԵԿՏԵՄԲԵՐԻ 28-Ի N 2323-Ն ՈՐՈՇՄԱՆ N 3 ԵՎ N 4 ՀԱՎԵԼՎԱԾՆԵՐՈՒՄ ԿԱՏԱՐՎՈՂ ՓՈՓՈԽՈՒԹՅՈՒՆՆԵՐԸ ԵՎ ԼՐԱՑՈՒՄՆԵՐԸ
G10: հազ. դրամներով
A11: Գործառական դասիչը | D11: Ծրագրային դասիչը | F11: Բյուջետային հատկացումների գլխավոր կարգադրիչների, ծրագրերի, միջոցառումների և միջոցառումները կատարող պետական մարմինների անվանումները | G11: Ցուցանիշների փոփոխությունը (ավելացումները նշված են դրական նշանով, իսկ նվազեցումները փակագծերում)
A12: Բաժին | B12: Խումբ | C12: Դաս | D12: Ծրագիր | E12: Միջոցառում | G12: Տարի
F13: ԸՆԴԱՄԵՆԸ | G13: =+G15+G234 -> 0
F14: այդ թվում՝
F15: ՀՀ ԿՐԹՈՒԹՅԱՆ, ԳԻՏՈՒԹՅԱՆ, ՄՇԱԿՈՒՅԹԻ ԵՎ ՍՊՈՐՏԻ ՆԱԽԱՐԱՐՈՒԹՅՈՒՆ | G15: =+G16+G86 -> 0
A16: 08 | F16: ՀԱՆԳԻՍՏ, ՄՇԱԿՈՒՅԹ ԵՎ ԿՐՈՆ | G16: =+G18 -> -419149.9
F17: այդ թվում`
B18: 02 | F18: Մշակութային ծառայություններ | G18: =+G20+G41+G69 -> -419149.9
F19: այդ թվում`
C20: 02 | F20: Թանգարաններ և ցուցասրահներ | G20: =+G22 -> -159184.5
F21: այդ թվում`
F22: ՀՀ կրթության, գիտության, մշակույթի և սպորտի նախարարություն | G22: =+G24 -> -159184.5
F23: այդ թվում`
D24: 1075 | E24: Մշակութային ժառանգության ծրագիր | G24: =+G26 -> -159184.5
F25: այդ թվում`
E26: 32001 | F26: Ներդրումներ թանգարանների և պատկերասրահների հիմնանորոգման համար | G26: =+G28 -> -159184.5
F27: այդ թվում` ըստ կատարողների
F28: ՀՀ կրթության, գիտության, մշակույթի և սպորտի նախարարություն | G28: =+G30 -> -159184.5
F29: այդ թվում՝ բյուջետային ծախսերի տնտեսագիտական դասակարգման հոդվածներ
F30: ԸՆԴԱՄԵՆԸ ԾԱԽՍԵՐ | G30: =G31+G37 -> -159184.5
F31: ԸՆԹԱՑԻԿ ԾԱԽՍԵՐ | G31: =+G32+G35 -> 45888.3
F32: ԴՐԱՄԱՇՆՈՐՀՆԵՐ | G32: =+G33 -> 3888.3
F33: ԿԱՊԻՏԱԼԴՐԱՄԱՇՆՈՐՀՆԵՐ ՊԵՏԱԿԱՆ ՀԱՏՎԱԾԻ ԱՅԼ ՄԱԿԱՐԴԱԿՆԵՐԻՆ | G33: =+G34 -> 3888.3
F34: - Կապիտալ դրամաշնորհներ պետական և համայնքային ոչ առևտրային կազմակերպություններին | G34: =+'Հավելված N 6'!G16 -> 3888.3
F35: ԱՅԼ ԾԱԽՍԵՐ | G35: =+G36 -> 42000
F36: Հարկեր, պարտադիր վճարներ և տույժեր, որոնք կառավարման տարբեր մակարդակների կողմից կիրառվում են միմյանց նկատմամբ | G36: 42000
F37: ՈՉ ՖԻՆԱՆՍԱԿԱՆ ԱԿՏԻՎՆԵՐԻ ԳԾՈՎ ԾԱԽՍԵՐ | G37: =+G38 -> -205072.8
F38: ՀԻՄՆԱԿԱՆ ՄԻՋՈՑՆԵՐ | G38: =+G39 -> -205072.8
F39: ՇԵՆՔԵՐ ԵՎ ՇԻՆՈՒԹՅՈՒՆՆԵՐ | G39: =+G40 -> -205072.8
F40: - Շենքերի և շինությունների կապիտալ վերանորոգում | G40: =+'Հավելված N 4'!E53 -> -205072.8
C41: 05 | F41: Արվեստ | G41: =+G43 -> -127946.2
F42: այդ թվում`
F43: ՀՀ կրթության, գիտության, մշակույթի և սպորտի նախարարություն | G43: =+G45 -> -127946.2
F44: այդ թվում`
D45: 1168 | E45: Արվեստների ծրագիր | G45: =+G47+G60 -> -127946.2
...

Sheet Հավելված N 3
F1: Հավելված N 3
F2: ՀՀ կառավարության 2024 թվականի
F3: ______________ ի ___Ն որոշման
A5: «ՀԱՅԱUՏԱՆԻ ՀԱՆՐԱՊԵՏՈՒԹՅԱՆ 2024 ԹՎԱԿԱՆԻ ՊԵՏԱԿԱՆ ԲՅՈՒՋԵԻ ՄԱUԻՆ» ՀԱՅԱUՏԱՆԻ ՀԱՆՐԱՊԵՏՈՒԹՅԱՆ OՐԵՆՔԻ N 1 ՀԱՎԵԼՎԱԾԻ N 3 ԱՂՅՈՒՍԱԿՈՒՄ ԿԱՏԱՐՎՈՂ ՓՈՓՈԽՈՒԹՅՈՒՆՆԵՐԸ ԵՎ ԼՐԱՑՈՒՄՆԵՐԸ
G8: հազ. դրամներով
A9: Ծրագրային դասիչ | C9: Բյուջետային գլխավոր կարգադրիչների, ծրագրերի, միջոցառումների, միջոցառումները կատարող պետական մարմինների և ուղղությունների անվանումները | D9: Ընդամենը | E9: Ցուցանիշների փոփոխությունը (ավելացումները նշված են դրական նշանով, իսկ նվազեցումները՝ փակագծերում)
A10: Ծրագիր | B10: Միջոցառում | E10: Կառուցման աշխատանքներ | F10: Վերակառուցման, վերանորոգման և վերականգնման աշխատանքներ | G10: Նախագծահե- տազոտական, գեոդեզիա- քարտեզագրա- կան աշխա- տանքներ | H10: Ոչ ֆինանսական այլ ակտիվների ձեռքբերում
C11: ԸՆԴԱՄԵՆԸ | D11: =SUM(E11:H11) -> -122690.3 | E11: =+E13 -> 298769.6 | F11: =+F13 -> -317858.3 | G11: =+G13 -> -16383.2 | H11: =+H13 -> -87218.4
C12: այդ թվում՝
C13: ՀՀ ԿՐԹՈՒԹՅԱՆ, ԳԻՏՈՒԹՅԱՆ, ՄՇԱԿՈՒՅԹԻ ԵՎ ՍՊՈՐՏԻ ՆԱԽԱՐԱՐՈՒԹՅՈՒՆ | D13: =SUM(E13:H13) -> -122690.3 | E13: =+E15+E26+E49+E53+E57+E61+E65+E69+E73+E79+E83 -> 298769.6 | F13: =+F15+F26+F49+F53+F57+F61+F65+F69+F73+F79+F83 -> -317858.3 | G13: =+G15+G26+G49+G53+G57+G61+G65+G69+G73+G79+G83 -> -16383.2 | H13: =+H15+H26+H49+H53+H57+H61+H65+H69+H73+H79+H83 -> -87218.4
C14: այդ թվում`
A15: 1045 | B15: 32001 | C15: Նախնական մասնագիտական (արհեստագործական) և միջին մասնագիտական ուսումնական հաստատությունների շենքային պայմանների բարելավում | D15: =SUM(E15:H15) -> -125464.2 | E15: =+E17+E21+E23 -> 0 | F15: =+F17+F21+F23 -> -103100.2 | G15: =+G17+G21+G23 -> -22364 | H15: =+H17+H21+H23 -> 0
C16: այդ թվում`
C17: Երևան քաղաք | D17: =SUM(E17:H17) -> -214917.6 | E17: =+E18+E19+E20 -> 0 | F17: =+F18+F19+F20 -> -194894.7 | G17: =+G18+G19+G20 -> -20022.9 | H17: =+H18+H19+H20 -> 0
C18: «Երևանի հ․8 արհեստագործական պետական ուսումնարան» ՊՈԱԿ | D18: =+E18+F18+G18+H18 -> -194894.7 | F18: =+'Հավելված N 10'!I93+'Հավելված N 10'!I97+'Հավելված N 10'!I101 -> -194894.7
C19: «Երևանի Շառլ Ազնավուրի անվան մշակույթի և արվեստի պետական քոլեջ» ՊՈԱԿ | D19: =+E19+F19+G19+H19 -> -7298.9 | G19: =+'Հավելված N 10'!I104+'Հավելված N 10'!I107 -> -7298.9
C20: «Երևանի զարդարվեստի պետական արհեստագործական ուսումնարան» ՊՈԱԿ | D20: =+E20+F20+G20+H20 -> -12724 | G20: =+'Հավելված N 10'!I105+'Հավելված N 10'!I108 -> -12724
C21: ՀՀ Լոռու մարզ | D21: =SUM(E21:H21) -> 104891.2 | E21: =+E22 -> 0 | F21: =+F22 -> 104891.2 | G21: =+G22 -> 0 | H21: =+H22 -> 0
C22: «Վանաձորի Կ. Ղարաքեշիշյանի անվան N 1 արհեստագործական պետական ուսումնարան» ՊՈԱԿ | D22: =+E22+F22+G22+H22 -> 104891.2 | F22: =+'Հավելված N 10'!I94+'Հավելված N 10'!I98+'Հավելված N 10'!I100+'Հավելված N 10'!I102 -> 104891.2
C23: ՀՀ Շիրակի մարզ | D23: =SUM(E23:H23) -> -15437.8 | E23: =+E24+E25 -> 0 | F23: =+F24+F25 -> -13096.7 | G23: =+G24+G25 -> -2341.1 | H23: =+H24+H25 -> 0
C24: «Արթիկի պետական քոլեջ» ՊՈԱԿ | D24: =+E24+F24+G24+H24 -> -13096.7 | F24: =+'Հավելված N 10'!I95+'Հավելված N 10'!I99+'Հավելված N 10'!I103 -> -13096.7
C25: «Գյումրու պետական բժշկական քոլեջ» ՊՈԱԿ | D25: =+E25+F25+G25+H25 -> -2341.1 | G25: =+'Հավելված N 10'!I106+'Հավելված N 10'!I109 -> -2341.1
A26: 1075 | B26: 21001 | C26: Հուշարձանների ամրակայում, նորոգում և վերականգնում | D26: =SUM(E26:H26) -> -132019.2 | E26: =+E28+E45 -> 0 | F26: =+F28+F45 -> -133899.2 | G26: =+G28+G45 -> 1880 | H26: =+H28+H45 -> 0
C27: այդ թվում`
C28: 1. Վերականգնողական աշխատանքներ | D28: =SUM(E28:H28) -> -133899.2 | E28: =+E30+E32+E36+E38+E40 -> 0 | F28: =+F30+F32+F36+F38+F40 -> -133899.2 | G28: =+G30+G32+G36+G38+G40 -> 0 | H28: =+H30+H32+H36+H38+H40 -> 0
C29: որից`
C30: Երևան քաղաք | D30: =SUM(E30:H30) -> 37296.8 | E30: =+E31 -> 0 | F30: =+F31 -> 37296.8 | G30: =+G31 -> 0 | H30: =+H31 -> 0
C31: Հայոց ցեղասպանության հուշահամալիրի և թանգարանի հիմնանորոգում և բարեկարգում | D31: =+E31+F31+G31+H31 -> 37296.8 | F31: =+'Հավելված N 10'!I46+'Հավելված N 10'!I61+'Հավելված N 10'!I70 -> 37296.8
C32: ՀՀ Արագածոտնի մարզ | D32: =SUM(E32:H32) -> -17732 | E32: =+E33+E34+E35 -> 0 | F32: =+F33+F34+F35 -> -17732 | G32: =+G33+G34+G35 -> 0 | H32: =+H33+H34+H35 -> 0
C33: Փարպի համայնքի 5-րդ դարի Ծիրանավոր եկեղեցու ամրակայում, վերականգնում և տարածքի բարեկարգում | D33: =+E33+F33+G33+H33 -> -9340.4 | F33: =+'Հավելված N 10'!I41+'Հավելված N 10'!I54+'Հավելված N 10'!I71 -> -9340.4
C34: Ամբերդ ամրոցի հրատապ ամրակայման ենթակա հատվածների նորոգում և վերականգնում | D34: =+E34+F34+G34+H34 -> -40309.7 | F34: =+'Հավելված N 10'!I42+'Հավելված N 10'!I55+'Հավելված N 10'!I64+'Հավելված N 10'!I66+'Հավելված N 10'!I73 -> -40309.7
C35: Ագարակ համայնքի, «Ագարակ» պատմամշակութային արգելոցի վաղ բրոնզե դարի կացարանների, միջնադարյան համալիրի և պարսպապատի վերականգնում և ամրակայում | D35: =+E35+F35+G35+H35 -> 31918.1 | F35: =+'Հավելված N 10'!I48+'Հավելված N 10'!I62+'Հավելված N 10'!I65 -> 31918.1
C36: ՀՀ Արմավիրի մարզ | D36: =SUM(E36:H36) -> -17624.9 | E36: =+E37 -> 0 | F36: =+F37 -> -17624.9 | G36: =+G37 -> 0 | H36: =+H37 -> 0
C37: ՀՀ Արմավիրի մարզի Այգեշատ համայնքի Թարգմանչաց եկեղեցու վերականգնում | D37: =+E37+F37+G37+H37 -> -17624.9 | F37: =+'Հավելված N 10'!I47+'Հավելված N 10'!I56+'Հավելված N 10'!I74 -> -17624.9
C38: ՀՀ Լոռու մարզ | D38: =SUM(E38:H38) -> -15615.7 | E38: =+E39 -> 0 | F38: =+F39 -> -15615.7 | G38: =+G39 -> 0 | H38: =+H39 -> 0
C39: Ամրակիցի Սբ․ Նիկոլայ Հրաշագործ ռուսական եկեղեցու վերականգնման աժխատանքներ | D39: =+E39+F39+G39+H39 -> -15615.7 | F39: =+'Հավելված N 10'!I43+'Հավելված N 10'!I57+'Հավելված N 10'!I67 -> -15615.7
C40: ՀՀ Տավուշի մարզ | D40: =SUM(E40:H40) -> -120223.4 | E40: =+E41+E42+E43+E44 -> 0 | F40: =+F41+F42+F43+F44 -> -120223.4 | G40: =+G41+G42+G43+G44 -> 0 | H40: =+H41+H42+H43+H44 -> 0
C41: Տավուշի մարզի «Սրվեղ» վանական համալիրի ամրակայում, վերականգնում և տարածքի բարեկարգում | D41: =+E41+F41+G41+H41 -> -34530.6 | F41: =+'Հավելված N 10'!I44+'Հավելված N 10'!I51+'Հավելված N 10'!I60+'Հավելված N 10'!I68 -> -34530.6
C42: Տավուշի մարզի «Տավուշ» ամրոցի պարիսպների, կից կառույցների, եկեղեցուամրակայում, վերականգնում և տարածքի բարեկարգում | D42: =+E42+F42+G42+H42 -> -43975.8 | F42: =+'Հավելված N 10'!I45+'Հավելված N 10'!I52+'Հավելված N 10'!I58+'Հավելված N 10'!I59+'Հավելված N 10'!I69 -> -43975.8
C43: Դիլիջան համայնքի Հ.Շարամբեյանի անվան ժողովրդական արվեստների թանգարանի նորոգում, ամրակայում | D43: =+E43+F43+G43+H43 -> 2304.8 | F43: =+'Հավելված N 10'!I49 -> 2304.8
...

Sheet Հավելված N 4
C1: Հավելված N 4
C2: ՀՀ կառավարության 2024 թվականի
C3: ______________ ի ___Ն որոշման
B6: ՀԱՅԱՍՏԱՆԻ ՀԱՆՐԱՊԵՏՈՒԹՅԱՆ ԿԱՌԱՎԱՐՈՒԹՅԱՆ 2023 ԹՎԱԿԱՆԻ ԴԵԿՏԵՄԲԵՐԻ 28-Ի N 2323-Ն ՈՐՈՇՄԱՆ N 5 ՀԱՎԵԼՎԱԾԻ N 2 ԱՂՅՈՒՍԱԿՈՒՄ ԿԱՏԱՐՎՈՂ ՓՈՓՈԽՈՒԹՅՈՒՆՆԵՐԸ ԵՎ ԼՐԱՑՈՒՄՆԵՐԸ
E8: հազ. դրամներով
B9: Ծրագրային դասիչ | D9: Բյուջետային գլխավոր կարգադրիչների, ծրագրերի, միջոցառումների, միջոցառումները կատարող պետական մարմինների և ուղղությունների անվանումները | E9: Ցուցանիշների փոփոխությունը (ավելացումները նշված են դրական նշանով, իսկ նվազեցումները՝ փակագծերում)
B10: Ծրագիր | C10: Միջոցառում | E10: Տարի
D11: ՀՀ ԿՐԹՈՒԹՅԱՆ, ԳԻՏՈՒԹՅԱՆ, ՄՇԱԿՈՒՅԹԻ ԵՎ ՍՊՈՐՏԻ ՆԱԽԱՐԱՐՈՒԹՅՈՒՆ | E11: =+E13+E26+E51+E57+E63+E69+E75+E81+E87+E95+E101 -> -122690.3
D12: այդ թվում՝
B13: 1045 | C13: 32001 | D13: Նախնական մասնագիտական (արհեստագործական) և միջին մասնագիտական ուսումնական հաստատությունների շենքային պայմանների բարելավում | E13: =+E15 -> -125464.2
D14: այդ թվում` ըստ կատարողների
D15: ՀՀ կրթության, գիտության, մշակույթի և սպորտի նախարարություն | E15: =+E17+E21+E23 -> -125464.2
D16: այդ թվում`ըստ ուղղությունների
D17: Երևան քաղաք | E17: =+E18+E19+E20 -> -214917.6
D18: =+'Հավելված N 3'!C18 -> «Երևանի հ․8 արհեստագործական պետական ուսումնարան» ՊՈԱԿ | E18: =+'Հավելված N 3'!D18 -> -194894.7
D19: =+'Հավելված N 3'!C19 -> «Երևանի Շառլ Ազնավուրի անվան մշակույթի և արվեստի պետական քոլեջ» ՊՈԱԿ | E19: =+'Հավելված N 3'!D19 -> -7298.9
D20: =+'Հավելված N 3'!C20 -> «Երևանի զարդարվեստի պետական արհեստագործական ուսումնարան» ՊՈԱԿ | E20: =+'Հավելված N 3'!D20 -> -12724
D21: ՀՀ Լոռու մարզ | E21: =+E22 -> 104891.2
D22: =+'Հավելված N 3'!C22 -> «Վանաձորի Կ. Ղարաքեշիշյանի անվան N 1 արհեստագործական պետական ուսումնարան» ՊՈԱԿ | E22: =+'Հավելված N 3'!D22 -> 104891.2
D23: ՀՀ Շիրակի մարզ | E23: =+E24+E25 -> -15437.8
D24: =+'Հավելված N 3'!C24 -> «Արթիկի պետական քոլեջ» ՊՈԱԿ | E24: =+'Հավելված N 3'!D24 -> -13096.7
D25: =+'Հավելված N 3'!C25 -> «Գյումրու պետական բժշկական քոլեջ» ՊՈԱԿ | E25: =+'Հավելված N 3'!D25 -> -2341.1
B26: 1075 | C26: 21001 | D26: Հուշարձանների ամրակայում, նորոգում և վերականգնում | E26: =+E28 -> -132019.2
D27: այդ թվում` ըստ կատարողների
D28: ՀՀ կրթության, գիտության, մշակույթի և սպորտի նախարարություն | E28: =+E30+E47 -> -132019.2
D29: այդ թվում`ըստ ուղղությունների
D30: 1. Վերականգնողական աշխատանքներ | E30: =+E32+E34+E38+E40+E42 -> -133899.2
D31: որից`
D32: Երևան քաղաք | E32: =+E33 -> 37296.8
D33: =+'Հավելված N 3'!C31 -> Հայոց ցեղասպանության հուշահամալիրի և թանգարանի հիմնանորոգում և բարեկարգում | E33: =+'Հավելված N 3'!D31 -> 37296.8
D34: ՀՀ Արագածոտնի մարզ | E34: =+E35+E36+E37 -> -17732
D35: =+'Հավելված N 3'!C33 -> Փարպի համայնքի 5-րդ դարի Ծիրանավոր եկեղեցու ամրակայում, վերականգնում և տարածքի բարեկարգում | E35: =+'Հավելված N 3'!D33 -> -9340.4
D36: =+'Հավելված N 3'!C34 -> Ամբերդ ամրոցի հրատապ ամրակայման ենթակա հատվածների նորոգում և վերականգնում | E36: =+'Հավելված N 3'!D34 -> -40309.7
D37: =+'Հավելված N 3'!C35 -> Ագարակ համայնքի, «Ագարակ» պատմամշակութային արգելոցի վաղ բրոնզե դարի կացարանների, միջնադարյան համալիրի և պարսպապատի վերականգնում և ամրակայում | E37: =+'Հավելված N 3'!D35 -> 31918.1
D38: ՀՀ Արմավիրի մարզ | E38: =+E39 -> -17624.9
D39: =+'Հավելված N 3'!C37 -> ՀՀ Արմավիրի մարզի Այգեշատ համայնքի Թարգմանչաց եկեղեցու վերականգնում | E39: =+'Հավելված N 3'!D37 -> -17624.9
D40: ՀՀ Լոռու մարզ | E40: =+E41 -> -15615.7
D41: =+'Հավելված N 3'!C39 -> Ամրակիցի Սբ․ Նիկոլայ Հրաշագործ ռուսական եկեղեցու վերականգնման աժխատանքներ | E41: =+'Հավելված N 3'!D39 -> -15615.7
D42: ՀՀ Տավուշի մարզ | E42: =+E43+E44+E45+E46 -> -120223.4
D43: =+'Հավելված N 3'!C41 -> Տավուշի մարզի «Սրվեղ» վանական համալիրի ամրակայում, վերականգնում և տարածքի բարեկարգում | E43: =+'Հավելված N 3'!D41 -> -34530.6
...

Sheet Հավելված N 5
E1: Հավելված N 5
E2: ՀՀ կառավարության 2024 թվականի
E3: ______________ ի ___Ն որոշման
A6: «ՀԱՅԱՍՏԱՆԻ ՀԱՆՐԱՊԵՏՈՒԹՅԱՆ 2024 ԹՎԱԿԱՆԻ ՊԵՏԱԿԱՆ ԲՅՈՒՋԵԻ ՄԱՍԻՆ» ՕՐԵՆՔԻ N 1 ՀԱՎԵԼՎԱԾԻ N 4 ԱՂՅՈՒՍԱԿՈՒՄ ԵՎ ՀԱՅԱՍՏԱՆԻ ՀԱՆՐԱՊԵՏՈՒԹՅԱՆ ԿԱՌԱՎԱՐՈՒԹՅԱՆ 2023 ԹՎԱԿԱՆԻ ԴԵԿՏԵՄԲԵՐԻ 28-Ի N 2323-Ն ՈՐՈՇՄԱՆ N 5 ՀԱՎԵԼՎԱԾԻ N 3 ԱՂՅՈՒՍԱԿՈՒՄ ԿԱՏԱՐՎՈՂ ԼՐԱՑՈՒՄԸ
F8: հազ. դրամներով
A9: Ծրագրային դասիչը | C9: Բյուջետային հատկացումների գլխավոր կարգադրիչների, ծրագրերի, միջոցառումների և միջոցառումները կատարող պետական մարմինների անվանումները
D10: Տարի
D11: Ընդամենը | E11: այդ թվում`
A12: Ծրագիր | B12: Միջոցառում | E12: Վարկային միջոցներ | F12: Համաֆինան սավորում
C13: ԸՆԴԱՄԵՆԸ | D13: =+E13+F13 -> 24427 | E13: =+E15 -> 0 | F13: =+F15 -> 24427
C14: այդ թվում`
C15: ՈՉ ՖԻՆԱՆՍԱԿԱՆ ԱԿՏԻՎՆԵՐԻ ԳԾՈՎ ԾԱԽՍԵՐ | D15: =+E15+F15 -> 24427 | E15: =+E16 -> 0 | F15: =+F16 -> 24427
C16: ՀՀ կրթության, գիտության, մշակույթի և սպորտի նախարարություն | D16: =+E16+F16 -> 24427 | E16: =+E18 -> 0 | F16: =+F18 -> 24427
C17: այդ թվում`
A18: 1192 | C18: Կրթության որակի ապահովում | D18: =+E18+F18 -> 24427 | E18: =+E20 -> 0 | F18: =+F20 -> 24427
C19: այդ թվում`
B20: 11023 | C20: Համաշխարհային բանկի աջակցությամբ իրականացվող Կրթության բարելավման ծրագրի լրացուցիչ ֆինանսավորում վարկային ծրագիր | D20: =+E20+F20 -> 24427 | E20: =+E22 -> 0 | F20: =+F22 -> 24427
C21: այդ թվում` ըստ կատարողների
C22: ՀՀ կրթության , գիտության, մշակույթի և սպորտի նախարարություն | D22: =+E22+F22 -> 24427 | E22: =+E24 -> 0 | F22: =+F24 -> 24427
C23: այդ թվում` բյուջետային ծախսերի տնտեսագիտական դասակարգման հոդվածներ
C24: ԸՆԴԱՄԵՆԸ ԾԱԽՍԵՐ | D24: =+E24+F24 -> 24427 | E24: =+E25 -> 0 | F24: =+F25 -> 24427
C25: ԸՆԹԱՑԻԿ ԾԱԽՍԵՐ | D25: =+E25+F25 -> 24427 | E25: =+E26 -> 0 | F25: =+F26 -> 24427
C26: ԴՐԱՄԱՇՆՈՐՀՆԵՐ | D26: =+E26+F26 -> 24427 | E26: =+E27 -> 0 | F26: =+F27 -> 24427
C27: Ընթացիկ դրամաշնորհներ պետական հատվածի այլ մակարդակներին | D27: =+E27+F27 -> 24427 | E27: =+E28 -> 0 | F27: =+F28 -> 24427
C28: - Այլ ընթացիկ դրամաշնորհներ | D28: =+E28+F28 -> 24427 | F28: 24427

Sheet Հավելված N 6
F1: Հավելված N 6
F2: ՀՀ կառավարության 2024 թվականի
F3: ______________ ի ___Ն որոշման
A6: ՀԱՅԱՍՏԱՆԻ ՀԱՆՐԱՊԵՏՈՒԹՅԱՆ ԿԱՌԱՎԱՐՈՒԹՅԱՆ 2023 ԹՎԱԿԱՆԻ ԴԵԿՏԵՄԲԵՐԻ 28-Ի N 2323-Ն ՈՐՈՇՄԱՆ N 5 ՀԱՎԵԼՎԱԾԻ N 7 ԱՂՅՈՒՍԱԿՈՒՄ ԿԱՏԱՐՎՈՂ ԼՐԱՑՈՒՄՆԵՐԸ
A7: հազար դրամ
A8: Ծրագրային դասիչը | D8: Բյուջետային հատկացումների գլխավոր կարգադրիչների, ծրագրերի, միջոցառումների և միջոցառումները կատարող պետական մարմինների անվանումները | F8: Միջոցառումները կատարող պետական մարմինների և դրամաշնորհ ստացող տնտեսվարող սուբյեկտների անվանումները | G8: Ցուցանիշների փոփոխությունը (ավելացումները նշված են դրական նշանով)
A9: Ծրագիր | B9: Միջոցառում | G9: Տարի
A10: ՀՀ կրթության, գիտության, մշակույթի և սպորտի նախարարություն | G10: =+G11+G15+G18+G22 -> 55953.7
A11: 1045 | B11: Նախնական (արհեստագործական) և միջին մասնագիտական կրթություն | G11: =+G12 -> 10078.2
B12: 32001 | C12: Նախնական մասնագիտական (արհեստագործական) և միջին մասնագիտական ուսումնական հաստատությունների շենքային պայմանների բարելավում | G12: =+G13 -> 10078.2
F13: ՀՀ կրթության, գիտության, մշակույթի և սպորտի նախարարություն | G13: =+G14 -> 10078.2
F14: «Երևանի հ․ 1 արհեստագործական պետական ուսումնարան» ՊՈԱԿ | G14: 10078.2
A15: 1075 | B15: Մշակութային ժառանգության ծրագիր | G15: =+G16 -> 3888.3
B16: 32001 | C16: Ներդրումներ թանգարանների և պատկերասրահների հիմնանորոգման համար | F16: ՀՀ կրթության, գիտության, մշակույթի և սպորտի նախարարություն | G16: =+G17 -> 3888.3
F17: «Ռուսական արվեստի թանգարան (պրոֆեսոր Ա. Աբրահամյանի հավաքածու)» ՊՈԱԿ | G17: =1988.3+1900 -> 3888.3
A18: 1168 | B18: Արվեստների ծրագիր | G18: =+G19 -> 10047.4
B19: 32001 | C19: Ներդրումներ թատրոնների և համերգային կազմակերպությունների շենքերի կապիտալ վերանորոգման համար | G19: =+G20 -> 10047.4
F20: ՀՀ կրթության, գիտության, մշակույթի և սպորտի նախարարություն | G20: =+G21 -> 10047.4
F21: «Հայաստանի ազգային ֆիլհարմոնիկ նվագախումբ» ՊՈԱԿ | G21: 10047.4
A22: 1183 | B22: Ապահով դպրոց | G22: =+G23+G26 -> 31939.8
B23: 11002 | C23: Աջակցություն դպրոցներին «Արագ արձագանքման ֆոնդի» շրջանակում հրատապ խնդիրների լուծման համար | G23: =+G24 -> 30000
F24: ՀՀ կրթության, գիտության, մշակույթի և սպորտի նախարարություն | G24: =+G25 -> 30000
F25: Հանրակրթական դպրոցներ | G25: 30000
B26: 32001 | C26: Կրթական օբյեկտների շենքային պայմանների բարելավում | G26: =+G27 -> 1939.8
F27: ՀՀ տարածքային կառավարման և ենթակառուցվածքների նախարարություն | G27: =+G28 -> 1939.8
F28: «Երևանի Մ․ Նալբանդյանի անվան թիվ 33 հիմնական դպրոց» ՊՈԱԿ | G28: 1939.8

Sheet Հավելված N 7
D1: Հավելված N 7
D2: ՀՀ կառավարության 2024 թվականի
D3: ______________ ի ___Ն որոշման
A5: ՀԱՅԱՍՏԱՆԻ ՀԱՆՐԱՊԵՏՈՒԹՅԱՆ ԿԱՌԱՎԱՐՈՒԹՅԱՆ 2023 ԹՎԱԿԱՆԻ ԴԵԿՏԵՄԲԵՐԻ 28-Ի N 2323-Ն ՈՐՈՇՄԱՆ N 8 ՀԱՎԵԼՎԱԾԻ ՑԱՆԿՈՒՄ ԿԱՏԱՐՎՈՂ ՓՈՓՈԽՈՒԹՅՈՒՆԸ ԵՎ ԼՐԱՑՈՒՄԸ
A9: Ծրագրային դասիչը | C9: Բյուջետային հատակացումների գլխավոր կարգադրիչներ, ծրագրերի, միջոցառումների և միջոցառումներն իրականացնող պետական մարմինների անվանումները | D9: Ցուցանիշների փոփոխությունը (ավելացումները նշված են դրական նշանով, իսկ նվազեցումները՝ փակագծերում)
A10: Ծրագիր | B10: Միջոցառում
A11: 1183 | C11: Ապահով դպրոց | D11: =+D12 -> 1939.8
B12: 32001 | C12: Կրթական օբյեկտների շենքային պայմանների բարելավում | D12: =+'Հավելված N 6'!G27 -> 1939.8
A13: 1236 | C13: Հանրակրթական և նախադպրոցական հաստատությունների հիմնում, կառուցում, բարելավում | D13: =+D14 -> -41378.4
B14: 32002 | C14: Մանկապարտեզների շենքերի վերակառուցում, հիմնանորոգում | D14: =+'Հավելված N 4'!E89 -> -41378.4

Sheet Հավելված N 8
C1: Հավելված N 8
C2: ՀՀ կառավարության 2024 թվականի
C3: ______________ ի ___Ն որոշման
B6: ՀԱՅԱՍՏԱՆԻ ՀԱՆՐԱՊԵՏՈՒԹՅԱՆ ԿԱՌԱՎԱՐՈՒԹՅԱՆ 2023 ԹՎԱԿԱՆԻ ԴԵԿՏԵՄԲԵՐԻ 28-Ի N 2323-Ն ՈՐՈՇՄԱՆ N 9 ՀԱՎԵԼՎԱԾԻ NN 9.13 ԵՎ 9.48 ԱՂՅՈՒՍԱԿՆԵՐՈՒՄ ԿԱՏԱՐՎՈՂ ՓՈՓՈԽՈՒԹՅՈՒՆՆԵՐԸ ԵՎ ԼՐԱՑՈՒՄՆԵՐԸ
A8: Աղյուսակ 9․13
C9: ՀՀ կրթության, գիտության, մշակույթի և սպորտի նախարարություն
B10: ՄԱՍ 2. ՊԵՏԱԿԱՆ ՄԱՐՄՆԻ ԳԾՈՎ ԱՐԴՅՈՒՆՔԱՅԻՆ (ԿԱՏԱՐՈՂԱԿԱՆ) ՑՈՒՑԱՆԻՇՆԵՐԸ
B13: Ծրագրի դասիչը | C13: Ծրագրի անվանումը
B14: 1045 | C14: Նախնական (արհեստագործական) և միջին մասնագիտական կրթություն
B16: Ծրագրի միջոցառումները
B17: Ծրագրի դասիչը՝ | C17: 1045 | D17: Ցուցանիշների փոփոխությունը (ավելացումները նշված են դրական նշանով, իսկ նվազեցումները՝ փակագծերում)
B18: Միջոցառման դասիչը՝ | C18: 32001 | D18: Տարի
B19: Միջոցառման անվանումը` | C19: Նախնական մասնագիտական (արհեստագործական) և միջին մասնագիտական ուսումնական հաստատությունների շենքային պայմանների բարելավում
B20: Նկարագրությունը` | C20: ՆՄՄԿՈՒ հաստատությունների շենքերի հիմնանորոգման և նախագծման (շինարարական աշխատանքներ, ջեռուցման համակարգի ստեղծում, ներքին հարդարում, տարածքի բարեկարգում) աշխատանքների իրականացում
B21: Միջոցառման տեսակը` | C21: Այլ պետական կազմակերպությունների կողմից օգտագործվող ոչ ֆինանսական ակտիվների հետ գործառնություններ
B22: Ակտիվն օգտագործող կազմակերպությունների անվանումները | C22: Միջին մասնագիտական ուսումնական հաստատություններ
B23: Արդյունքի չափորոշիչներ
B24: Մասնակի նորոգվող նախնական (արհեստագործական) և միջին մասնագիտական ուսումնական հաստատությունների քանակ, հատ | D24: 1
B25: Միջոցառման վրա կատարվող ծախսը (հազար դրամ) | D25: =+'Հավելված N 1'!D23 -> -115386
B27: Ծրագրի դասիչը | C27: Ծրագրի անվանումը
B28: 1075 | C28: Մշակութային ժառանգության ծրագիր
B30: Ծրագրի միջոցառումները
B31: Ծրագրի դասիչը՝ | C31: 1075 | D31: Ցուցանիշների փոփոխությունը (ավելացումները նշված են դրական նշանով, իսկ նվազեցումները՝ փակագծերում)
B32: Միջոցառման դասիչը՝ | C32: 21001 | D32: Տարի
B33: Միջոցառման անվանումը` | C33: Հուշարձանների ամրակայում, նորոգում և վերականգնում
B34: Նկարագրությունը` | C34: Հուշարձանների գիտանախագծային փաստաթղթերի կազմում, հրատապ ուսումնասիրում, վավերագրման և ուսումնասիրման աշխատանքներ, հետախուզում և հնագիտական պեղում, ամրակայում, նորոգում և վերականգնում
B35: Միջոցառման տեսակը` | C35: Հանրության կողմից անմիջականորեն օգտագործվող ակտիվների հետ կապված միջոցառումներ
B36: Ակտիվն օգտագործող կազմակերպությունների անվանումները | C36: Մասնագիտացված կազմակերպություն
B37: Արդյունքի չափորոշիչներ
B38: Հուշարձանների նախագծման, փորձաքննության աշխատանքներ, քանակ | D38: 1
B39: Միջոցառման վրա կատարվող ծախսը (հազար դրամ) | D39: =+'Հավելված N 1'!D36 -> -132019.2
B41: Ծրագրի միջոցառումները
B42: Ծրագրի դասիչը՝ | C42: 1075 | D42: Ցուցանիշների փոփոխությունը (ավելացումները նշված են դրական նշանով, իսկ նվազեցումները՝ փակագծերում)
B43: Միջոցառման դասիչը՝ | C43: 32001 | D43: Տարի
B44: Միջոցառման անվանումը` | C44: Ներդրումներ թանգարանների և պատկերասրահների հիմնանորոգման համար
B45: Նկարագրությունը` | C45: Թանգարանների և պատկերասրահների շենքերի, մասնաշենքերի հիմնանորոգում, համաշինարարական աշխատանքներ, ջեռուցման համակարգի իրականացում, ներքին հարդարում, տարածքի բարեկարգում և նախագծում
B46: Միջոցառման տեսակը` | C46: Այլ պետական կազմակերպությունների կողմից օգտագործվող ոչ ֆինանսական ակտիվների հետ գործառնություններ
B47: Ակտիվն օգտագործող կազմակերպությունների անվանումները | C47: Թանգարաններ և պատկերասրահներ
B48: Արդյունքի չափորոշիչներ
B49: Հիմնանորոգվող թանգարաններ և պատկերասրահներ քանակ, հատ | D49: -1
...

Sheet Հավելված N 9
C1: Հավելված N 9
C2: ՀՀ կառավարության 2024 թվականի
C3: ______________ ի ___Ն որոշման
B6: ՀԱՅԱՍՏԱՆԻ ՀԱՆՐԱՊԵՏՈՒԹՅԱՆ ԿԱՌԱՎԱՐՈՒԹՅԱՆ 2023 ԹՎԱԿԱՆԻ ԴԵԿՏԵՄԲԵՐԻ 28-Ի N 2323-Ն ՈՐՈՇՄԱՆ N 9.1 ՀԱՎԵԼՎԱԾԻ NN 9.1.8, 9.1.13, 9.1.39, 9․1․54 ԵՎ 9.1.58 ԱՂՅՈՒՍԱԿՆԵՐՈՒՄ ԿԱՏԱՐՎՈՂ ՓՈՓՈԽՈՒԹՅՈՒՆՆԵՐԸ ԵՎ ԼՐԱՑՈՒՄՆԵՐԸ
A8: Աղյուսակ 9․1.8
C9: ՀՀ տարածքային կառավարման և ենթակառուցվածքների նախարարություն
B10: ՄԱՍ 1. ՊԵՏԱԿԱՆ ՄԱՐՄՆԻ ԳԾՈՎ ԱՐԴՅՈՒՆՔԱՅԻՆ (ԿԱՏԱՐՈՂԱԿԱՆ) ՑՈՒՑԱՆԻՇՆԵՐԸ
B13: Ծրագրի դասիչը | C13: Ծրագրի անվանումը
B14: 1183 | C14: Ապահով դպրոց
B16: Ծրագրի միջոցառումները
B17: Ծրագրի դասիչը՝ | C17: 1183 | D17: Ցուցանիշների փոփոխությունը (ավելացումները նշված են դրական նշանով)
B18: Միջոցառման դասիչը՝ | C18: 32001 | D18: Տարի
B19: Միջոցառման անվանումը` | C19: Կրթական օբյեկտների շենքային պայմանների բարելավում
B20: Նկարագրությունը` | C20: Կրթական օբյեկտների շենքերի (մասնաշենքերի) հիմնանորոգում (համաշինարարական աշխատանքներ, ջեռուցման համակարգի իրականացում, ներքին հարդարում, տարածքի բարեկարգում) և նախագծում
B21: Միջոցառման տեսակը` | C21: Այլ պետական կազմակերպությունների կողմից օգտագործվող ոչ ֆինանսական ակտիվների հետ գործառնություններ
B22: Ակտիվն օգտագործող կազմակերպությունների անվանումները | C22: Հանրակրթական դպրոցներ
B23: Արդյունքի չափորոշիչներ
B24: Միջոցառման վրա կատարվող ծախսը (հազար դրամ) | D24: =+'Հավելված N 2'!G206 -> 1939.8
B26: Ծրագրի դասիչը | C26: Ծրագրի անվանումը
B27: 1236 | C27: Հանրակրթական և նախադպրոցական հաստատությունների հիմնում, կառուցում, բարելավում
B29: Ծրագրի դասիչը՝ | C29: 1236 | D29: Ցուցանիշների փոփոխությունը (նվազեցումները նշված են փակագծերում)
B30: Միջոցառման դասիչը՝ | C30: 32002 | D30: Տարի
B31: Միջոցառման անվանումը` | C31: Մանկապարտեզների շենքերի վերակառուցում, հիմնանորոգում
B32: Նկարագրությունը` | C32: Նախադպրոցական կրթության հասանելիության ապահովման նպատակով՛ մանկապարտեզների շենքերի (մասնաշենքերի), վերակառուցում, հիմնանորոգում և նախագծում
B33: Միջոցառման տեսակը` | C33: Այլ պետական կազմակերպությունների կողմից օգտագործվող ոչ ֆինանսական ակտիվների հետ գործառնություններ
B34: Շահառուների ընտրության չափորոշիչները° | C34: Նախադպրոցական կրթությույն իրականացնող ուսումնական հաստատություններ
B35: Արդյունքի չափորոշիչներ
B36: Միջոցառման վրա կատարվող ծախսը (հազար դրամ) | D36: =+'Հավելված N 2'!G111 -> -41378.4
A44: Աղյուսակ 9․1.13
C45: ՀՀ կրթության, գիտության, մշակույթի և սպորտի նախարարություն
B46: ՄԱՍ 1. ՊԵՏԱԿԱՆ ՄԱՐՄՆԻ ԳԾՈՎ ԱՐԴՅՈՒՆՔԱՅԻՆ (ԿԱՏԱՐՈՂԱԿԱՆ) ՑՈՒՑԱՆԻՇՆԵՐԸ
B49: Ծրագրի դասիչը | C49: Ծրագրի անվանումը
B50: 1045 | C50: Նախնական (արհեստագործական) և միջին մասնագիտական կրթություն
B52: Ծրագրի միջոցառումները
B53: Ծրագրի դասիչը՝ | C53: 1045 | D53: Ցուցանիշների փոփոխությունը (ավելացումները նշված են դրական նշանով, իսկ նվազեցումները՝ փակագծերում)
B54: Միջոցառման դասիչը՝ | C54: 32001 | D54: Տարի
B55: Միջոցառման անվանումը` | C55: Նախնական մասնագիտական (արհեստագործական) և միջին մասնագիտական ուսումնական հաստատությունների շենքային պայմանների բարելավում
B56: Նկարագրությունը` | C56: ՆՄՄԿՈՒ հաստատությունների շենքերի հիմնանորոգման և նախագծման (շինարարական աշխատանքներ, ջեռուցման համակարգի ստեղծում, ներքին հարդարում, տարածքի բարեկարգում) աշխատանքների իրականացում
B57: Միջոցառման տեսակը` | C57: Այլ պետական կազմակերպությունների կողմից օգտագործվող ոչ ֆինանսական ակտիվների հետ գործառնություններ
B58: Ակտիվն օգտագործող կազմակերպությունների անվանումները | C58: Միջին մասնագիտական ուսումնական հաստատություններ
...

Sheet Հավելված N 10
H1: Հավելված N 10
H2: ՀՀ կառավարության 2024 թվականի
H3: ______________ ի ___Ն որոշման
A6: ՀԱՅԱՍՏԱՆԻ ՀԱՆՐԱՊԵՏՈՒԹՅԱՆ ԿԱՌԱՎԱՐՈՒԹՅԱՆ 2023 ԹՎԱԿԱՆԻ ԴԵԿՏԵՄԲԵՐԻ 28-Ի N 2323-Ն N 10 ՀԱՎԵԼՎԱԾՈՒՄ ԿԱՏԱՐՎՈՂ ՓՈՓՈԽՈՒԹՅՈՒՆՆԵՐԸ ԵՎ ԼՐԱՑՈՒՄՆԵՐԸ
A10: Կոդը | B10: Անվանումը | E10: Գնման ձևը | F10: Չափման միավորը | G10: Միավորի գինը | H10: Ցուցանիշների փոփոխությունը (ավելացումները նշված են դրական նշանով, իսկ նվազեցումները՝ փակագծերում)
H11: Քանակը | I11: Գումարը (հազար դրամ)
A12: 1 | B12: 2 | E12: 3 | F12: 4 | G12: 5 | H12: 6 | I12: 7
A13: ՀՀ կրթության, գիտության, մշակույթի և սպորտի նախարարություն | I13: =+I14+I21+I38+I77+I86+I90 -> -654656.5
A14: Բաժին N 08 | B14: Խումբ N 02 | C14: Դաս N 02 | D14: Թանգարաններ և ցուցասրահներ | I14: =+I15 -> -205072.8
A15: 1075-32001 | B15: Ներդրումներ թանգարանների և պատկերասրահների հիմնանորոգման համար | I15: =+I16+I18 -> -205072.8
B16: ՄԱՍ II. ԱՇԽԱՏԱՆՔՆԵՐ | I16: =+I17 -> -203504.3
A17: 45611200-1 | B17: մշակութային օբյեկտների հիմնանորոգում | E17: ԲՄ | F17: դրամ | G17: 203504300 | H17: -1 | I17: =ROUNDDOWN(H17*G17/1000,1) -> -203504.3
B18: ՄԱՍ III. ԾԱՌԱՅՈՒԹՅՈՒՆՆԵՐ | I18: =SUM(I19:I20) -> -1568.5
A19: 71351540-1 | B19: տեխնիկական հսկողության ծառայություններ | E19: ԳՀ | F19: դրամ | G19: 321800 | H19: -1 | I19: =ROUNDDOWN(H19*G19/1000,1) -> -321.8
A20: 98111140-1 | B20: հեղինակային հսկողության ծառայություններ | E20: ՄԱ | F20: դրամ | G20: 1246700 | H20: -1 | I20: =ROUNDDOWN(H20*G20/1000,1) -> -1246.7
A21: Բաժին N 08 | B21: Խումբ N 02 | C21: Դաս N 05 | D21: Արվեստ | I21: =+I22+I28 -> -137993.6
A22: 1168-32001 | B22: Ներդրումներ թատրոնների և համերգային կազմակերպությունների շենքերի կապիտալ վերանորոգման համար | I22: =+I23+I25 -> -92743.6
B23: ՄԱՍ II. ԱՇԽԱՏԱՆՔՆԵՐ | I23: =+I24 -> -90393.4
A24: 45611200-1 | B24: մշակութային օբյեկտների հիմնանորոգում | E24: ԲՄ | F24: դրամ | G24: 90393400 | H24: -1 | I24: =ROUNDDOWN(H24*G24/1000,1) -> -90393.4
B25: ՄԱՍ III. ԾԱՌԱՅՈՒԹՅՈՒՆՆԵՐ | I25: =SUM(I26:I27) -> -2350.2
A26: 71351540-1 | B26: տեխնիկական հսկողության ծառայություններ | E26: ԳՀ | F26: դրամ | G26: 1807900 | H26: -1 | I26: =ROUNDDOWN(H26*G26/1000,1) -> -1807.9
A27: 98111140-1 | B27: հեղինակային հսկողության ծառայություններ | E27: ՄԱ | F27: դրամ | G27: 542300 | H27: -1 | I27: =ROUNDDOWN(H27*G27/1000,1) -> -542.3
A28: 1168-32008 | B28: Երաժշտական գործիքների ձեռքբերում | I28: =+I29 -> -45250
B29: ՄԱՍ I. ԱՊՐԱՆՔՆԵՐ | I29: =SUM(I30:I37) -> -45250
A30: 37311180-2 | B30: սաքսոֆոններ | E30: ԳՀ | F30: հատ | G30: 3560000 | H30: -1 | I30: =ROUNDDOWN(H30*G30/1000,1) -> -3560
A31: 37311180-1 | B31: սաքսոֆոններ | E31: ԳՀ | F31: հատ | G31: 1200000 | H31: -1 | I31: =ROUNDDOWN(H31*G31/1000,1) -> -1200
A32: 37311580-11 | B32: այլ երաժշտական գործիքներ | E32: ԲՄ | F32: հատ | G32: 35145000 | H32: -1 | I32: =ROUNDDOWN(H32*G32/1000,1) -> -35145
A33: 37311140-2 | B33: ստեղնաշարային այլ գործիքներ | E33: ԳՀ | F33: հատ | G33: 161000 | H33: -1 | I33: =ROUNDDOWN(H33*G33/1000,1) -> -161
A34: 37311160-3 | B34: տրոմբոններ | E34: ԳՀ | F34: հատ | G34: 517000 | H34: -2 | I34: =ROUNDDOWN(H34*G34/1000,1) -> -1034
A35: 37311200-2 | B35: շեփորներ | E35: ԳՀ | F35: հատ | G35: 1310000 | H35: -2 | I35: =ROUNDDOWN(H35*G35/1000,1) -> -2620
A36: 37321100-3 | B36: երաժշտական գործիքների պարագաներ | E36: ԳՀ | F36: հատ | G36: 180000 | H36: -1 | I36: =ROUNDDOWN(H36*G36/1000,1) -> -180
A37: 37311180-7 | B37: սաքսոֆոններ | E37: ԳՀ | F37: հատ | G37: 1350000 | H37: -1 | I37: =ROUNDDOWN(H37*G37/1000,1) -> -1350
A38: Բաժին N 08 | B38: Խումբ N 02 | C38: Դաս N 07 | D38: Հուշարձանների և մշակութային արժեքների վերականգնում և պահպանում | I38: =+I39 -> -132019.2
A39: 1075-21001 | B39: Հուշարձանների ամրակայում, նորոգում և վերականգնում | I39: =+I40+I53 -> -132019.2
B40: ՄԱՍ II. ԱՇԽԱՏԱՆՔՆԵՐ | I40: =SUM(I41:I52) -> -131087.5
A41: 45451600-1 | B41: վերականգնողական աշխատանքներ | E41: ԲՄ | F41: դրամ | I41: -9272.1
A42: 45451600-2 | B42: վերականգնողական աշխատանքներ | E42: ԲՄ | F42: դրամ | I42: =-38169.3-21.6-516.9 -> -38707.8
A43: 45451600-7 | B43: վերականգնողական աշխատանքներ | E43: ԲՄ | F43: դրամ | I43: =-3731.7-11444.6 -> -15176.3
A44: 45451600-11 | B44: վերականգնողական աշխատանքներ | E44: ԲՄ | F44: դրամ | G44: 33804132 | H44: -1 | I44: =ROUNDDOWN(H44*G44/1000,1) -> -33804.1
A45: 45451600-12 | B45: վերականգնողական աշխատանքներ | E45: ԲՄ | F45: դրամ | G45: 32363728 | H45: -1 | I45: =ROUNDDOWN(H45*G45/1000,1) -> -32363.7
...

Sheet Հավելված N 11
F1: Հավելված N 11
G2: ՀՀ կառավարության 2024 թվականի
G3: ______________ ի ___Ն որոշման
A6: ՀԱՅԱՍՏԱՆԻ ՀԱՆՐԱՊԵՏՈՒԹՅԱՆ 2024 ԹՎԱԿԱՆԻ ՊԵՏԱԿԱՆ ԲՅՈՒՋԵՈՎ ՆԱԽԱՏԵՍՎԱԾ՝ ՀԱՅԱՍՏԱՆԻ ՀԱՆՐԱՊԵՏՈՒԹՅԱՆ ԿԱՌԱՎԱՐՈՒԹՅԱՆ ՊԱՀՈՒՍՏԱՅԻՆ ՖՈՆԴԻՑ ՀԱՏԿԱՑՈՒՄՆԵՐ ԿԱՏԱՐԵԼՈՒ ՎԵՐԱԲԵՐՅԱԼ
A9: Գործառական դասիչը | D9: Ծրագրային դասիչը | F9: Բյուջետային հատկացումների գլխավոր կարգադրիչների, ծրագրերի, միջոցառումների և միջոցառումները կատարող պետական մարմինների անվանումները | G9: Ցուցանիշների փոփոխությունը (ավելացումները նշված են դրական նշանով, իսկ նվազեցումները՝ փակագծերում)
A10: Բաժին | B10: Խումբ | C10: Դաս | D10: Ծրագիր | E10: Միջոցառում | G10: Տարի
F11: ԸՆԴԱՄԵՆԸ | G11: =+G13+G33 -> 0
F12: այդ թվում
F13: ՀՀ ԿԱՌԱՎԱՐՈՒԹՅՈՒՆ | G13: =+G14 -> -4100.8
A14: 11 | F14: ՀԻՄՆԱԿԱՆ ԲԱԺԻՆՆԵՐԻՆ ՉԴԱՍՎՈՂ ՊԱՀՈՒՍՏԱՅԻՆ ՖՈՆԴԵՐ | G14: =+G16 -> -4100.8
F15: այդ թվում`
B16: 01 | F16: ՀՀ կառավարության և համայնքների պահուստային ֆոնդ | G16: =+G18 -> -4100.8
F17: այդ թվում`
C18: 01 | F18: ՀՀ կառավարության պահուստային ֆոնդ | G18: =+G20 -> -4100.8
F19: այդ թվում`
F20: ՀՀ կառավարություն | G20: =+G22 -> -4100.8
F21: այդ թվում`
D22: 1139 | E22: ՀՀ կառավարության պահուստային ֆոնդ | F22: ՀՀ կառավարության պահուստային ֆոնդ | G22: =+G24 -> -4100.8
F23: այդ թվում`
E24: 11001 | F24: ՀՀ կառավարության պահուստային ֆոնդ | G24: =+G26 -> -4100.8
F25: այդ թվում` ըստ կատարողների
F26: ՀՀ կառավարություն | G26: =+G28 -> -4100.8
F27: այդ թվում՝ բյուջետային ծախսերի տնտեսագիտական դասակարգման հոդվածներ
F28: ԸՆԴԱՄԵՆԸ ԾԱԽՍԵՐ | G28: =+G29 -> -4100.8
F29: ԸՆԹԱՑԻԿ ԾԱԽՍԵՐ | G29: =+G30 -> -4100.8
F30: ԱՅԼ ԾԱԽՍԵՐ | G30: =+G31 -> -4100.8
F31: Պահուստային միջոցներ | G31: =+'Հավելված N 2'!G260 -> -4100.8
F33: ՀՀ ԿՐԹՈՒԹՅԱՆ, ԳԻՏՈՒԹՅԱՆ, ՄՇԱԿՈՒՅԹԻ ԵՎ ՍՊՈՐՏԻ ՆԱԽԱՐԱՐՈՒԹՅՈՒՆ | G33: =+G34 -> 4100.8
A34: 09 | F34: ԿՐԹՈՒԹՅՈՒՆ | G34: =+G36 -> 4100.8
F35: այդ թվում`
B36: 05 | F36: Ըստ մակարդակների չդասակարգվող կրթություն | G36: =+G38 -> 4100.8
F37: այդ թվում`
C38: 01 | F38: Արտադպրոցական դաստիարակություն | G38: =+G40 -> 4100.8
F39: այդ թվում`
F40: ՀՀ կրթության, գիտության, մշակույթի և սպորտի նախարարություն | G40: =+G42 -> 4100.8
F41: այդ թվում`
D42: 1148 | E42: Արտադպրոցական դաստիարակության ծրագիր | G42: =+G44 -> 4100.8
F43: այդ թվում`
E44: 32005 | F44: Արտադպրոցական դաստիարակություն իրականացնող կազմակերպությունների շենքային պայմանների բարելավում | G44: =+G46 -> 4100.8
F45: այդ թվում` ըստ կատարողների
...
