Workbook
Name a: #REF!
Name a: #REF!
Name a: #REF!
Name a: #REF!
Name a: #REF!
Name a: #REF!
Name AgencyCode: #REF!
Name AgencyCode: #REF!
Name AgencyCode: #REF!
Name AgencyCode: #REF!
Name AgencyCode: #REF!
Name AgencyCode: #REF!
Name AgencyCode: #REF!
Name AgencyCode: #REF!
Name AgencyName: #REF!
Name AgencyName: #REF!
Name AgencyName: #REF!
Name AgencyName: #REF!
Name AgencyName: #REF!
Name åû: #REF!
Name åû: #REF!
Name davit: #REF!
Name davit: #REF!
Name davit: #REF!
Name davit: #REF!
Name Functional1: #REF!
Name Functional1: #REF!
Name Functional1: #REF!
Name Functional1: #REF!
Name Functional1: #REF!
Name ggg: #REF!
Name ggg: #REF!
Name ggg: #REF!
Name ggg: #REF!
Name mas: #REF!
Name mass: #REF!
Name PANature: #REF!
Name PANature: #REF!
Name PANature: #REF!
Name PANature: #REF!
Name PANature: #REF!
Name PAType: #REF!
Name PAType: #REF!
Name PAType: #REF!
Name PAType: #REF!
Name PAType: #REF!
Name Performance2: #REF!
Name Performance2: #REF!
Name Performance2: #REF!
Name Performance2: #REF!
Name Performance2: #REF!
Name PerformanceType: #REF!
Name PerformanceType: #REF!
Name PerformanceType: #REF!
Name PerformanceType: #REF!
Name PerformanceType: #REF!
Name x: #REF!
Name x: #REF!
Name Հավելված: #REF!
Name Հավելված: #REF!

Sheet Հավելված N 1
C1: Հավելված N 1
C2: ՀՀ կառավարության 2024 թվականի
C3: ______________ ի ___Ն որոշման
A6: «ՀԱՅԱUՏԱՆԻ ՀԱՆՐԱՊԵՏՈՒԹՅԱՆ 2024 ԹՎԱԿԱՆԻ ՊԵՏԱԿԱՆ ԲՅՈՒՋԵԻ ՄԱUԻՆ» ՀԱՅԱUՏԱՆԻ ՀԱՆՐԱՊԵՏՈՒԹՅԱՆ OՐԵՆՔԻ N 1 ՀԱՎԵԼՎԱԾԻ N 2 ԱՂՅՈՒՍԱԿՈՒՄ ԿԱՏԱՐՎՈՂ ՎԵՐԱԲԱՇԽՈՒՄԸ ԵՎ ՀԱՅԱՍՏԱՆԻ ՀԱՆՐԱՊԵՏՈՒԹՅԱՆ ԿԱՌԱՎԱՐՈՒԹՅԱՆ 2023 ԹՎԱԿԱՆԻ ԴԵԿՏԵՄԲԵՐԻ 28-Ի N 2323-Ն ՈՐՈՇՄԱՆ N 5 ՀԱՎԵԼՎԱԾԻ N 1 ԱՂՅՈՒՍԱԿՈՒՄ ԿԱՏԱՐՎՈՂ ՓՈՓՈԽՈՒԹՅՈՒՆՆԵՐԸ ԵՎ ԼՐԱՑՈՒՄՆԵՐԸ
D9: հազ. դրամներով
A10: Ծրագրային դասիչը | C10: Բյուջետային հատկացումների գլխավոր կարգադրիչների, ծրագրերի և միջոցառումների անվանումները | D10: Ցուցանիշների փոփոխությունը (ավելացումները նշված են դրական նշանով, իսկ նվազեցումները փակագծերում)
A11: Ծրագիր | B11: Միջոցառում | D11: Տարի
A12: 1192 | C12: ԸՆԴԱՄԵՆԸ | D12: 0
C13: այդ թվում
C14: ՀՀ ԿՐԹՈՒԹՅԱՆ, ԳԻՏՈՒԹՅԱՆ, ՄՇԱԿՈՒՅԹԻ ԵՎ ՍՊՈՐՏԻ ՆԱԽԱՐԱՐՈՒԹՅՈՒՆ | D14: 0
A15: 1045 | C15: Ծրագրի անվանումը`
C16: Նախնական (արհեստագործական) և միջին մասնագիտական կրթություն | D16: =+D23 -> -115386
C17: Ծրագրի նպատակը`
C18: Աշխատաշուկայի արդի պահանջներին համապատասխան նախնական մասնագիտական (արհեստագործական) և միջին մասնագիտական կրթության որակավորում ունեցող մասնագետների պատրաստում, կրթության մատչելիության ապահովում:
C19: Վերջնական արդյունքի նկարագրությունը`
C20: Նախնական (արհեստագործական) և միջին մասնագիտական կրթության գրավչության բարձրացում, մատչելի և մրցունակ նախնական (արհեստագործական) և միջին մասնագիտական կրթության ապահովում
C21: Ծրագրի միջոցառումներ
B22: 32001 | C22: Միջոցառման անվանումը`
C23: Նախնական մասնագիտական (արհեստագործական) և միջին մասնագիտական ուսումնական հաստատությունների շենքային պայմանների բարելավում | D23: =+'Հավելված N 2'!G187 -> -115386
C24: Միջոցառման նկարագրությունը`
C25: ՆՄՄԿՈՒ հաստատությունների շենքերի հիմնանորոգման և նախագծման (շինարարական աշխատանքներ, ջեռուցման համակարգի ստեղծում, ներքին հարդարում, տարածքի բարեկարգում) աշխատանքների իրականացում
C26: Միջոցառման տեսակը
C27: Այլ պետական կազմակերպությունների կողմից օգտագործվող ոչ ֆինանսական ակտիվների հետ գործառնություններ
A28: 1075 | C28: Ծրագրի անվանումը`
C29: Մշակութային ժառանգության ծրագիր | D29: =+D36+D42 -> -291203.7
C30: Ծրագրի նպատակը`
C31: Մշակութային ժառանգության պահպանում, օգտագործում, համալրում և հանրահռչակում
C32: Վերջնական արդյունքի նկարագրությունը`
C33: Մշակութային ժառանգության շարունակական պահպանում, մշակութային զբոսաշրջության զարգացում և խթանում
C34: Ծրագրի միջոցառումներ
B35: 21001 | C35: Միջոցառման անվանումը`
C36: Հուշարձանների ամրակայում, նորոգում և վերականգնում | D36: =+'Հավելված N 2'!G75 -> -132019.2
C37: Միջոցառման նկարագրությունը`
C38: Հուշարձանների գիտանախագծային փաստաթղթերի կազմում, հրատապ ուսումնասիրում, վավերագրման և ուսումնասիրման աշխատանքներ, հետախուզում և հնագիտական պեղում, ամրակայում, նորոգում և վերականգնում
C39: Միջոցառման տեսակը
C40: Հանրության կողմից անմիջականորեն օգտագործվող ակտիվների հետ կապված միջոցառումներ
B41: 32001 | C41: Միջոցառման անվանումը`
C42: Ներդրումներ թանգարանների և պատկերասրահների հիմնանորոգման համար | D42: =+'Հավելված N 2'!G26 -> -159184.5
C43: Միջոցառման նկարագրությունը`
C44: Թանգարանների և պատկերասրահների շենքերի, մասնաշենքերի հիմնանորոգում, համաշինարարական աշխատանքներ, ջեռուցման համակարգի իրականացում, ներքին հարդարում, տարածքի բարեկարգում և նախագծում
C45: Միջոցառման տեսակը
C46: Այլ պետական կազմակերպությունների կողմից օգտագործվող ոչ ֆինանսական ակտիվների հետ գործառնություններ
A47: 1148 | C47: Ծրագրի անվանումը`
C48: Արտադպրոցական դաստիարակության ծրագիր | D48: =+D55 -> 4100.8
C49: Ծրագրի նպատակը`
C50: Նպաստել հանրակրթական ուսուցման համակարգում ընդգրկված երեխաների ֆիզիկական, հոգևոր և գեղագիտական զարգացմանը, բնապահպանական և կիրառական գիտելիքների ձեռքբերմանը
C51: Վերջնական արդյունքի նկարագրությունը`
C52: Ստեղծել պայմաններ սովորողների ազատ ժամանացի կազմակերպան միջոցով նրանց հետաքրքրությունների բացահայտման, ձևավորման և զարգացման համար
C53: Ծրագրի միջոցառումներ
B54: 32005 | C54: Միջոցառման անվանումը`
C55: Արտադպրոցական դաստիարակություն իրականացնող կազմակերպությունների շենքային պայմանների բարելավում | D55: =+'Հավելված N 2'!G170 -> 4100.8
C56: Միջոցառման նկարագրությունը`
C57: Կառույցների տեխնիկական կարողությունների և աշխատանքային միջավայրի բարելավում
C58: Միջոցառման տեսակը
C59: Այլ պետական կազմակերպությունների կողմից օգտագործվող ոչ ֆինանսական ակտիվների հետ գործառնություններ
A60: 1168 | C60: Ծրագրի անվանումը`
C61: Արվեստների ծրագիր | D61: =+D68+D74 -> -127946.2
C62: Ծրագրի նպատակը`
C63: Նպաստել ազգային հենքի վրա ժամանակակից թատերարվեստի, երաժշտարվեստի, կերպարվեստի և պարարվեստի զարգացմանը և հանրահռչակմանը
C64: Վերջնական արդյունքի նկարագրությունը`
C65: Մրցունակ արվեստային արտադրանքի ստեղծում, ստեղծագործական գործընթացների խթանում, արվեստի նոր նախագծերի ներդրում և մշակութային կյանքում հասարակության ներգրավում
C66: Ծրագրի միջոցառումներ
B67: 32001 | C67: Միջոցառման անվանումը`
C68: Ներդրումներ թատրոնների և համերգային կազմակերպությունների շենքերի կապիտալ վերանորոգման համար | D68: =+'Հավելված N 2'!G47 -> -82696.2
C69: Միջոցառման նկարագրությունը`
C70: Թատրոնների և համերգային կազմակերպությունների շենքերի մասնաշենքերի հիմնանորոգում, համաշինարարական աշխատանքներ, ջեռուցման համակարգի իրականացում, ներքին հարդարում, տարածքի բարեկարգում և նախագծում
C71: Միջոցառման տեսակը
C72: Այլ պետական կազմակերպությունների կողմից օգտագործվող ոչ ֆինանսական ակտիվների հետ գործառնություններ
B73: 32008 | C73: Միջոցառման անվանումը`
C74: Երաժշտական գործիքների ձեռքբերում | D74: =+'Հավելված N 2'!G60 -> -45250
C75: Միջոցառման նկարագրությունը`
C76: Թատերահամերգային կազմակերպությունների երաժշտական գործիքներով ապահովում
C77: Միջոցառման տեսակը
C78: Այլ պետական կազմակերպությունների կողմից օգտագործվող ոչ ֆինանսական ակտիվների հետ գործառնություններ
A79: 1183 | C79: Ծրագրի անվանումը`
C80: Ապահով դպրոց | D80: =+D87+D93+D99 -> 15780
C81: Ծրագրի նպատակը`
C82: Դպրոցներին սպառնացող աղետների ռիսկի կառավարման կարողությունների հզորացում, դպրոցի անձնակազմի և աշակերտների անվտանգության ապահովման մակարդակի բարձրացում՛ կիրառելով ներառական և երեխայակենտրոն մոտեցում
C83: Վերջնական արդյունքի նկարագրությունը`
C84: Դպրոցական միջավայրի բարելավում
C85: Ծրագրի միջոցառումներ
B86: 11002 | C86: Միջոցառման անվանումը`
C87: Աջակցություն դպրոցներին «Արագ արձագանքման ֆոնդի» շրջանակում՛ հրատապ խնդիրների լուծման համար | D87: =+'Հավելված N 2'!G133 -> 30000
C88: Միջոցառման նկարագրությունը`
C89: Դպրոցներում արտակարգ իրավիճակների և չնախատեսված հանգամանքների հետևանքով առաջացած խնդիրների լուծման նպատակով ընթացիկ աշխատանքների իրականացում
C90: Միջոցառման տեսակը
C91: Ծառայությունների մատուցում
B92: 32001 | C92: Միջոցառման անվանումը`
C93: Մանկապարտեզների նոր շենքերի կառուցում | D93: =+'Հավելված N 2'!G204 -> 1939.8
C94: Միջոցառման նկարագրությունը`
C95: Նախադպրոցական կրթության հասանելիության ապահովման նպատակով՛ մանկապարտեզների հիմնում, նոր շենքերի (մասնաշենքերի), ներառյալ՛ ,Մոդուլայինե տիպի շենքերի կառուցում և նախագծում
C96: Միջոցառման տեսակը
C97: Այլ պետական կազմակերպությունների կողմից օգտագործվող ոչ ֆինանսական ակտիվների հետ գործառնություններ
B98: 32004 | C98: Միջոցառման անվանումը`
C99: Ավագ մակարդակի կրթություն իրականացնող ուսումնական հաստատությունների շենքային պայմանների բարելավում | D99: =+'Հավելված N 2'!G213 -> -16159.8
C100: Միջոցառման նկարագրությունը`
C101: Ավագ դպրոցների շենքային պայմանների բարելավում
C102: Միջոցառման տեսակը
C103: Այլ պետական կազմակերպությունների կողմից օգտագործվող ոչ ֆինանսական ակտիվների հետ գործառնություններ
A104: 1192 | C104: Ծրագրի անվանումը`
...

Sheet Հավելված N 2
F1: Հավելված N 2
F2: ՀՀ կառավարության 2024 թվականի
F3: ______________ ի ___Ն որոշման
A7: ՀԱՅԱՍՏԱՆԻ ՀԱՆՐԱՊԵՏՈՒԹՅԱՆ ԿԱՌԱՎԱՐՈՒԹՅԱՆ 2023 ԹՎԱԿԱՆԻ ԴԵԿՏԵՄԲԵՐԻ 28-Ի N 2323-Ն ՈՐՈՇՄԱՆ N 3 ԵՎ N 4 ՀԱՎԵԼՎԱԾՆԵՐՈՒՄ ԿԱՏԱՐՎՈՂ ՓՈՓՈԽՈՒԹՅՈՒՆՆԵՐԸ ԵՎ ԼՐԱՑՈՒՄՆԵՐԸ
G10: հազ. դրամներով
A11: Գործառական դասիչը | D11: Ծրագրային դասիչը | F11: Բյուջետային հատկացումների գլխավոր կարգադրիչների, ծրագրերի, միջոցառումների և միջոցառումները կատարող պետական մարմինների անվանումները | G11: Ցուցանիշների փոփոխությունը (ավելացումները նշված են դրական նշանով, իսկ նվազեցումները փակագծերում)
A12: Բաժին | B12: Խումբ | C12: Դաս | D12: Ծրագիր | E12: Միջոցառում | G12: Տարի
F13: ԸՆԴԱՄԵՆԸ | G13: =+G15+G234 -> 0
F14: այդ թվում՝
F15: ՀՀ ԿՐԹՈՒԹՅԱՆ, ԳԻՏՈՒԹՅԱՆ, ՄՇԱԿՈՒՅԹԻ ԵՎ ՍՊՈՐՏԻ ՆԱԽԱՐԱՐՈՒԹՅՈՒՆ | G15: =+G16+G86 -> 0
A16: 08 | F16: ՀԱՆԳԻՍՏ, ՄՇԱԿՈՒՅԹ ԵՎ ԿՐՈՆ | G16: =+G18 -> -419149.9
F17: այդ թվում`
B18: 02 | F18: Մշակութային ծառայություններ | G18: =+G20+G41+G69 -> -419149.9
F19: այդ թվում`
C20: 02 | F20: Թանգարաններ և ցուցասրահներ | G20: =+G22 -> -159184.5
F21: այդ թվում`
F22: ՀՀ կրթության, գիտության, մշակույթի և սպորտի նախարարություն | G22: =+G24 -> -159184.5
F23: այդ թվում`
D24: 1075 | E24: Մշակութային ժառանգության ծրագիր | G24: =+G26 -> -159184.5
F25: այդ թվում`
E26: 32001 | F26: Ներդրումներ թանգարանների և պատկերասրահների հիմնանորոգման համար | G26: =+G28 -> -159184.5
F27: այդ թվում` ըստ կատարողների
F28: ՀՀ կրթության, գիտության, մշակույթի և սպորտի նախարարություն | G28: =+G30 -> -159184.5
F29: այդ թվում՝ բյուջետային ծախսերի տնտեսագիտական դասակարգման հոդվածներ
F30: ԸՆԴԱՄԵՆԸ ԾԱԽՍԵՐ | G30: =G31+G37 -> -159184.5
F31: ԸՆԹԱՑԻԿ ԾԱԽՍԵՐ | G31: =+G32+G35 -> 45888.3
F32: ԴՐԱՄԱՇՆՈՐՀՆԵՐ | G32: =+G33 -> 3888.3
F33: ԿԱՊԻՏԱԼԴՐԱՄԱՇՆՈՐՀՆԵՐ ՊԵՏԱԿԱՆ ՀԱՏՎԱԾԻ ԱՅԼ ՄԱԿԱՐԴԱԿՆԵՐԻՆ | G33: =+G34 -> 3888.3
F34: - Կապիտալ դրամաշնորհներ պետական և համայնքային ոչ առևտրային կազմակերպություններին | G34: =+'Հավելված N 6'!G16 -> 3888.3
F35: ԱՅԼ ԾԱԽՍԵՐ | G35: =+G36 -> 42000
F36: Հարկեր, պարտադիր վճարներ և տույժեր, որոնք կառավարման տարբեր մակարդակների կողմից կիրառվում են միմյանց նկատմամբ | G36: 42000
F37: ՈՉ ՖԻՆԱՆՍԱԿԱՆ ԱԿՏԻՎՆԵՐԻ ԳԾՈՎ ԾԱԽՍԵՐ | G37: =+G38 -> -205072.8
F38: ՀԻՄՆԱԿԱՆ ՄԻՋՈՑՆԵՐ | G38: =+G39 -> -205072.8
F39: ՇԵՆՔԵՐ ԵՎ ՇԻՆՈՒԹՅՈՒՆՆԵՐ | G39: =+G40 -> -205072.8
F40: - Շենքերի և շինությունների կապիտալ վերանորոգում | G40: =+'Հավելված N 4'!E53 -> -205072.8
C41: 05 | F41: Արվեստ | G41: =+G43 -> -127946.2
F42: այդ թվում`
F43: ՀՀ կրթության, գիտության, մշակույթի և սպորտի նախարարություն | G43: =+G45 -> -127946.2
F44: այդ թվում`
D45: 1168 | E45: Արվեստների ծրագիր | G45: =+G47+G60 -> -127946.2
F46: այդ թվում`
E47: 32001 | F47: Ներդրումներ թատրոնների և համերգային կազմակերպությունների շենքերի կապիտալ վերանորոգման համար | G47: =+G49 -> -82696.2
F48: այդ թվում` ըստ կատարողների
F49: ՀՀ կրթության, գիտության, մշակույթի և սպորտի նախարարություն | G49: =+G51 -> -82696.2
F50: այդ թվում՝ բյուջետային ծախսերի տնտեսագիտական դասակարգման հոդվածներ
F51: ԸՆԴԱՄԵՆԸ ԾԱԽՍԵՐ | G51: =G52+G56 -> -82696.2
F52: ԸՆԹԱՑԻԿ ԾԱԽՍԵՐ | G52: =+G53 -> 10047.4
F53: ԴՐԱՄԱՇՆՈՐՀՆԵՐ | G53: =+G54 -> 10047.4
F54: ԿԱՊԻՏԱԼԴՐԱՄԱՇՆՈՐՀՆԵՐ ՊԵՏԱԿԱՆ ՀԱՏՎԱԾԻ ԱՅԼ ՄԱԿԱՐԴԱԿՆԵՐԻՆ | G54: =+G55 -> 10047.4
F55: - Կապիտալ դրամաշնորհներ պետական և համայնքային ոչ առևտրային կազմակերպություններին | G55: =+'Հավելված N 6'!G20 -> 10047.4
F56: ՈՉ ՖԻՆԱՆՍԱԿԱՆ ԱԿՏԻՎՆԵՐԻ ԳԾՈՎ ԾԱԽՍԵՐ | G56: =+G57 -> -92743.6
F57: ՀԻՄՆԱԿԱՆ ՄԻՋՈՑՆԵՐ | G57: =+G58 -> -92743.6
F58: ՇԵՆՔԵՐ ԵՎ ՇԻՆՈՒԹՅՈՒՆՆԵՐ | G58: =+G59 -> -92743.6
F59: - Շենքերի և շինությունների կապիտալ վերանորոգում | G59: =+'Հավելված N 4'!E65 -> -92743.6
E60: 32008 | F60: Երաժշտական գործիքների ձեռքբերում | G60: =+G62 -> -45250
F61: այդ թվում` ըստ կատարողների
F62: ՀՀ կրթության, գիտության, մշակույթի և սպորտի նախարարություն | G62: =+G64 -> -45250
F63: այդ թվում՝ բյուջետային ծախսերի տնտեսագիտական դասակարգման հոդվածներ
F64: ԸՆԴԱՄԵՆԸ ԾԱԽՍԵՐ | G64: =+G65 -> -45250
F65: ՈՉ ՖԻՆԱՆՍԱԿԱՆ ԱԿՏԻՎՆԵՐԻ ԳԾՈՎ ԾԱԽՍԵՐ | G65: =+G66 -> -45250
F66: ՀԻՄՆԱԿԱՆ ՄԻՋՈՑՆԵՐ | G66: =+G67 -> -45250
F67: ՄԵՔԵՆԱՆԵՐ ԵՎ ՍԱՐՔԱՎՈՐՈՒՄՆԵՐ | G67: =+G68 -> -45250
F68: - Այլ մեքենաներ և սարքավորումներ | G68: =+'Հավելված N 4'!E71 -> -45250
C69: 07 | F69: Հուշարձանների և մշակութային արժեքների վերականգնում և պահպանում | G69: =+G71 -> -132019.2
F70: այդ թվում`
F71: ՀՀ կրթության, գիտության, մշակույթի և սպորտի նախարարություն | G71: =+G73 -> -132019.2
F72: այդ թվում`
D73: 1075 | E73: Մշակութային ժառանգության ծրագիր | G73: =+G75 -> -132019.2
F74: այդ թվում`
E75: 21001 | F75: Հուշարձանների ամրակայում, նորոգում և վերականգնում | G75: =+G77 -> -132019.2
F76: այդ թվում` ըստ կատարողների
F77: ՀՀ կրթության, գիտության, մշակույթի և սպորտի նախարարություն | G77: =+G79 -> -132019.2
F78: այդ թվում՝ բյուջետային ծախսերի տնտեսագիտական դասակարգման հոդվածներ
F79: ԸՆԴԱՄԵՆԸ ԾԱԽՍԵՐ | G79: =+G80 -> -132019.2
F80: ՈՉ ՖԻՆԱՆՍԱԿԱՆ ԱԿՏԻՎՆԵՐԻ ԳԾՈՎ ԾԱԽՍԵՐ | G80: =+G81 -> -132019.2
F81: ՀԻՄՆԱԿԱՆ ՄԻՋՈՑՆԵՐ | G81: =+G82+G84 -> -132019.2
F82: ՇԵՆՔԵՐ ԵՎ ՇԻՆՈՒԹՅՈՒՆՆԵՐ | G82: =+G83 -> -133899.2
F83: - Շենքերի և շինությունների կապիտալ վերանորոգում | G83: =+'Հավելված N 4'!E30 -> -133899.2
F84: ԱՅԼ ՀԻՄՆԱԿԱՆ ՄԻՋՈՑՆԵՐ | G84: =+G85 -> 1880
F85: - Նախագծահետազոտական ծախսեր | G85: =+'Հավելված N 4'!E47 -> 1880
A86: 09 | F86: ԿՐԹՈՒԹՅՈՒՆ | G86: =+G88+G125+G162+G179 -> 419149.9
F87: այդ թվում`
B88: 01 | F88: Նախադպրոցական և տարրական ընդհանուր կրթություն | G88: =+G90 -> 495669.6
F89: այդ թվում`
C90: 01 | F90: Նախադպրոցական կրթություն | G90: =+G92 -> 495669.6
F91: այդ թվում`
F92: ՀՀ կրթության, գիտության, մշակույթի և սպորտի նախարարություն | G92: =+G94 -> 495669.6
F93: այդ թվում`
D94: 1236 | E94: Հանրակրթական և նախադպրոցական հաստատությունների հիմնում, կառուցում, բարելավում | G94: =+G96+G109 -> 495669.6
F95: այդ թվում`
E96: 32001 | F96: Մանկապարտեզների նոր շենքերի կառուցում | G96: =+G98 -> 262552.3
F97: այդ թվում` ըստ կատարողների
F98: ՀՀ քաղաքաշինության կոմիտե | G98: =+G100 -> 262552.3
F99: այդ թվում՝ բյուջետային ծախսերի տնտեսագիտական դասակարգման հոդվածներ
F100: ԸՆԴԱՄԵՆԸ ԾԱԽՍԵՐ | G100: =+G101+G105 -> 262552.3
F101: ԸՆԹԱՑԻԿ ԾԱԽՍԵՐ | G101: =+G102 -> 309.6
F102: ԾԱՌԱՅՈՒԹՅՈՒՆՆԵՐԻ ԵՎ ԱՊՐԱՆՔՆԵՐԻ ՁԵՌՔ ԲԵՐՈՒՄ | G102: =+G103 -> 309.6
F103: ԱՅԼ ՄԱՍՆԱԳԻՏԱԿԱՆ ԾԱՌԱՅՈՒԹՅՈՒՆՆԵՐԻ ՁԵՌՔ ԲԵՐՈՒՄ | G103: =+G104 -> 309.6
F104: - Մասնագիտական ծառայություններ | G104: =+'Հավելված N 10'!I123 -> 309.6
F105: ՈՉ ՖԻՆԱՆՍԱԿԱՆ ԱԿՏԻՎՆԵՐԻ ԳԾՈՎ ԾԱԽՍԵՐ | G105: =+G106 -> 262242.7
...

Sheet Հավելված N 3
F1: Հավելված N 3
F2: ՀՀ կառավարության 2024 թվականի
F3: ______________ ի ___Ն որոշման
A5: «ՀԱՅԱUՏԱՆԻ ՀԱՆՐԱՊԵՏՈՒԹՅԱՆ 2024 ԹՎԱԿԱՆԻ ՊԵՏԱԿԱՆ ԲՅՈՒՋԵԻ ՄԱUԻՆ» ՀԱՅԱUՏԱՆԻ ՀԱՆՐԱՊԵՏՈՒԹՅԱՆ OՐԵՆՔԻ N 1 ՀԱՎԵԼՎԱԾԻ N 3 ԱՂՅՈՒՍԱԿՈՒՄ ԿԱՏԱՐՎՈՂ ՓՈՓՈԽՈՒԹՅՈՒՆՆԵՐԸ ԵՎ ԼՐԱՑՈՒՄՆԵՐԸ
G8: հազ. դրամներով
A9: Ծրագրային դասիչ | C9: Բյուջետային գլխավոր կարգադրիչների, ծրագրերի, միջոցառումների, միջոցառումները կատարող պետական մարմինների և ուղղությունների անվանումները | D9: Ընդամենը | E9: Ցուցանիշների փոփոխությունը (ավելացումները նշված են դրական նշանով, իսկ նվազեցումները՝ փակագծերում)
A10: Ծրագիր | B10: Միջոցառում | E10: Կառուցման աշխատանքներ | F10: Վերակառուցման, վերանորոգման և վերականգնման աշխատանքներ | G10: Նախագծահե- տազոտական, գեոդեզիա- քարտեզագրա- կան աշխա- տանքներ | H10: Ոչ ֆինանսական այլ ակտիվների ձեռքբերում
C11: ԸՆԴԱՄԵՆԸ | D11: =SUM(E11:H11) -> -122690.3 | E11: =+E13 -> 298769.6 | F11: =+F13 -> -317858.3 | G11: =+G13 -> -16383.2 | H11: =+H13 -> -87218.4
C12: այդ թվում՝
C13: ՀՀ ԿՐԹՈՒԹՅԱՆ, ԳԻՏՈՒԹՅԱՆ, ՄՇԱԿՈՒՅԹԻ ԵՎ ՍՊՈՐՏԻ ՆԱԽԱՐԱՐՈՒԹՅՈՒՆ | D13: =SUM(E13:H13) -> -122690.3 | E13: =+E15+E26+E49+E53+E57+E61+E65+E69+E73+E79+E83 -> 298769.6 | F13: =+F15+F26+F49+F53+F57+F61+F65+F69+F73+F79+F83 -> -317858.3 | G13: =+G15+G26+G49+G53+G57+G61+G65+G69+G73+G79+G83 -> -16383.2 | H13: =+H15+H26+H49+H53+H57+H61+H65+H69+H73+H79+H83 -> -87218.4
C14: այդ թվում`
A15: 1045 | B15: 32001 | C15: Նախնական մասնագիտական (արհեստագործական) և միջին մասնագիտական ուսումնական հաստատությունների շենքային պայմանների բարելավում | D15: =SUM(E15:H15) -> -125464.2 | E15: =+E17+E21+E23 -> 0 | F15: =+F17+F21+F23 -> -103100.2 | G15: =+G17+G21+G23 -> -22364 | H15: =+H17+H21+H23 -> 0
C16: այդ թվում`
C17: Երևան քաղաք | D17: =SUM(E17:H17) -> -214917.6 | E17: =+E18+E19+E20 -> 0 | F17: =+F18+F19+F20 -> -194894.7 | G17: =+G18+G19+G20 -> -20022.9 | H17: =+H18+H19+H20 -> 0
C18: «Երևանի հ․8 արհեստագործական պետական ուսումնարան» ՊՈԱԿ | D18: =+E18+F18+G18+H18 -> -194894.7 | F18: =+'Հավելված N 10'!I93+'Հավելված N 10'!I97+'Հավելված N 10'!I101 -> -194894.7
C19: «Երևանի Շառլ Ազնավուրի անվան մշակույթի և արվեստի պետական քոլեջ» ՊՈԱԿ | D19: =+E19+F19+G19+H19 -> -7298.9 | G19: =+'Հավելված N 10'!I104+'Հավելված N 10'!I107 -> -7298.9
C20: «Երևանի զարդարվեստի պետական արհեստագործական ուսումնարան» ՊՈԱԿ | D20: =+E20+F20+G20+H20 -> -12724 | G20: =+'Հավելված N 10'!I105+'Հավելված N 10'!I108 -> -12724
C21: ՀՀ Լոռու մարզ | D21: =SUM(E21:H21) -> 104891.2 | E21: =+E22 -> 0 | F21: =+F22 -> 104891.2 | G21: =+G22 -> 0 | H21: =+H22 -> 0
C22: «Վանաձորի Կ. Ղարաքեշիշյանի անվան N 1 արհեստագործական պետական ուսումնարան» ՊՈԱԿ | D22: =+E22+F22+G22+H22 -> 104891.2 | F22: =+'Հավելված N 10'!I94+'Հավելված N 10'!I98+'Հավելված N 10'!I100+'Հավելված N 10'!I102 -> 104891.2
C23: ՀՀ Շիրակի մարզ | D23: =SUM(E23:H23) -> -15437.8 | E23: =+E24+E25 -> 0 | F23: =+F24+F25 -> -13096.7 | G23: =+G24+G25 -> -2341.1 | H23: =+H24+H25 -> 0
C24: «Արթիկի պետական քոլեջ» ՊՈԱԿ | D24: =+E24+F24+G24+H24 -> -13096.7 | F24: =+'Հավելված N 10'!I95+'Հավելված N 10'!I99+'Հավելված N 10'!I103 -> -13096.7
C25: «Գյումրու պետական բժշկական քոլեջ» ՊՈԱԿ | D25: =+E25+F25+G25+H25 -> -2341.1 | G25: =+'Հավելված N 10'!I106+'Հավելված N 10'!I109 -> -2341.1
A26: 1075 | B26: 21001 | C26: Հուշարձանների ամրակայում, նորոգում և վերականգնում | D26: =SUM(E26:H26) -> -132019.2 | E26: =+E28+E45 -> 0 | F26: =+F28+F45 -> -133899.2 | G26: =+G28+G45 -> 1880 | H26: =+H28+H45 -> 0
C27: այդ թվում`
C28: 1. Վերականգնողական աշխատանքներ | D28: =SUM(E28:H28) -> -133899.2 | E28: =+E30+E32+E36+E38+E40 -> 0 | F28: =+F30+F32+F36+F38+F40 -> -133899.2 | G28: =+G30+G32+G36+G38+G40 -> 0 | H28: =+H30+H32+H36+H38+H40 -> 0
C29: որից`
C30: Երևան քաղաք | D30: =SUM(E30:H30) -> 37296.8 | E30: =+E31 -> 0 | F30: =+F31 -> 37296.8 | G30: =+G31 -> 0 | H30: =+H31 -> 0
C31: Հայոց ցեղասպանության հուշահամալիրի և թանգարանի հիմնանորոգում և բարեկարգում | D31: =+E31+F31+G31+H31 -> 37296.8 | F31: =+'Հավելված N 10'!I46+'Հավելված N 10'!I61+'Հավելված N 10'!I70 -> 37296.8
C32: ՀՀ Արագածոտնի մարզ | D32: =SUM(E32:H32) -> -17732 | E32: =+E33+E34+E35 -> 0 | F32: =+F33+F34+F35 -> -17732 | G32: =+G33+G34+G35 -> 0 | H32: =+H33+H34+H35 -> 0
C33: Փարպի համայնքի 5-րդ դարի Ծիրանավոր եկեղեցու ամրակայում, վերականգնում և տարածքի բարեկարգում | D33: =+E33+F33+G33+H33 -> -9340.4 | F33: =+'Հավելված N 10'!I41+'Հավելված N 10'!I54+'Հավելված N 10'!I71 -> -9340.4
C34: Ամբերդ ամրոցի հրատապ ամրակայման ենթակա հատվածների նորոգում և վերականգնում | D34: =+E34+F34+G34+H34 -> -40309.7 | F34: =+'Հավելված N 10'!I42+'Հավելված N 10'!I55+'Հավելված N 10'!I64+'Հավելված N 10'!I66+'Հավելված N 10'!I73 -> -40309.7
C35: Ագարակ համայնքի, «Ագարակ» պատմամշակութային արգելոցի վաղ բրոնզե դարի կացարանների, միջնադարյան համալիրի և պարսպապատի վերականգնում և ամրակայում | D35: =+E35+F35+G35+H35 -> 31918.1 | F35: =+'Հավելված N 10'!I48+'Հավելված N 10'!I62+'Հավելված N 10'!I65 -> 31918.1
C36: ՀՀ Արմավիրի մարզ | D36: =SUM(E36:H36) -> -17624.9 | E36: =+E37 -> 0 | F36: =+F37 -> -17624.9 | G36: =+G37 -> 0 | H36: =+H37 -> 0
C37: ՀՀ Արմավիրի մարզի Այգեշատ համայնքի Թարգմանչաց եկեղեցու վերականգնում | D37: =+E37+F37+G37+H37 -> -17624.9 | F37: =+'Հավելված N 10'!I47+'Հավելված N 10'!I56+'Հավելված N 10'!I74 -> -17624.9
C38: ՀՀ Լոռու մարզ | D38: =SUM(E38:H38) -> -15615.7 | E38: =+E39 -> 0 | F38: =+F39 -> -15615.7 | G38: =+G39 -> 0 | H38: =+H39 -> 0
C39: Ամրակիցի Սբ․ Նիկոլայ Հրաշագործ ռուսական եկեղեցու վերականգնման աժխատանքներ | D39: =+E39+F39+G39+H39 -> -15615.7 | F39: =+'Հավելված N 10'!I43+'Հավելված N 10'!I57+'Հավելված N 10'!I67 -> -15615.7
C40: ՀՀ Տավուշի մարզ | D40: =SUM(E40:H40) -> -120223.4 | E40: =+E41+E42+E43+E44 -> 0 | F40: =+F41+F42+F43+F44 -> -120223.4 | G40: =+G41+G42+G43+G44 -> 0 | H40: =+H41+H42+H43+H44 -> 0
C41: Տավուշի մարզի «Սրվեղ» վանական համալիրի ամրակայում, վերականգնում և տարածքի բարեկարգում | D41: =+E41+F41+G41+H41 -> -34530.6 | F41: =+'Հավելված N 10'!I44+'Հավելված N 10'!I51+'Հավելված N 10'!I60+'Հավելված N 10'!I68 -> -34530.6
C42: Տավուշի մարզի «Տավուշ» ամրոցի պարիսպների, կից կառույցների, եկեղեցուամրակայում, վերականգնում և տարածքի բարեկարգում | D42: =+E42+F42+G42+H42 -> -43975.8 | F42: =+'Հավելված N 10'!I45+'Հավելված N 10'!I52+'Հավելված N 10'!I58+'Հավելված N 10'!I59+'Հավելված N 10'!I69 -> -43975.8
C43: Դիլիջան համայնքի Հ.Շարամբեյանի անվան ժողովրդական արվեստների թանգարանի նորոգում, ամրակայում | D43: =+E43+F43+G43+H43 -> 2304.8 | F43: =+'Հավելված N 10'!I49 -> 2304.8
C44: Կիրանց գյուղի Սուրբ Երրորդություն եկեղեցու վերականգնում | D44: =+E44+F44+G44+H44 -> -44021.8 | F44: =+'Հավելված N 10'!I50+'Հավելված N 10'!I63+'Հավելված N 10'!I72 -> -44021.8
C45: 2. Վավերագրման և ուսումնասիրման աշխատանքներ, (այդ թվում՝ հետախուզումև պեղում), գիտանախագծային փաստաթղթերի կազմում և փորձաքննում | D45: =SUM(E45:H45) -> 1880 | E45: =+E47 -> 0 | F45: =+F47 -> 0 | G45: =+G47 -> 1880 | H45: =+H47 -> 0
C46: որից`
C47: ՀՀ Տավուշի մարզ | D47: =SUM(E47:H47) -> 1880 | E47: =+E48 -> 0 | F47: =+F48 -> 0 | G47: =+G48 -> 1880 | H47: =+H48 -> 0
C48: Դիլիջան համայնքի Հ.Շարամբեյանի անվան ժողովրդական արվեստների թանգարանի տարածքի բարեկարգման գիտանախագծային փաստաթղթերի մշակում | D48: =+E48+F48+G48+H48 -> 1880 | G48: =+'Հավելված N 10'!I75+'Հավելված N 10'!I76 -> 1880
A49: 1075 | B49: 32001 | C49: Ներդրումներ թանգարանների և պատկերասրահների հիմնանորոգման համար | D49: =SUM(E49:H49) -> -205072.8 | E49: =+E51 -> 0 | F49: =+F51 -> -205072.8 | G49: =+G51 -> 0 | H49: =+H51 -> 0
C50: այդ թվում`
C51: Երևան քաղաք | D51: =SUM(E51:H51) -> -205072.8 | E51: =+E52 -> 0 | F51: =+F52 -> -205072.8 | G51: =+G52 -> 0 | H51: =+H52 -> 0
C52: «Հ. Թումանյանի թանգարան» ՊՈԱԿ | D52: =+E52+F52+G52+H52 -> -205072.8 | F52: =+'Հավելված N 10'!I17+'Հավելված N 10'!I19+'Հավելված N 10'!I20 -> -205072.8
A53: 1148 | B53: 32005 | C53: Արտադպրոցական դաստիարակություն իրականացնող կազմակերպությունների շենքային պայմանների բարելավում | D53: =SUM(E53:H53) -> 4100.8 | E53: =+E55 -> 0 | F53: =+F55 -> 0 | G53: =+G55 -> 4100.8 | H53: =+H55 -> 0
C54: այդ թվում`
C55: Երևան քաղաք | D55: =SUM(E55:H55) -> 4100.8 | E55: =+E56 -> 0 | F55: =+F56 -> 0 | G55: =+G56 -> 4100.8 | H55: =+H56 -> 0
C56: «Տիգրան Պետրոսյանի անվան շախմատի-տուն մարզադպրոց» ՊՈԱԿ | D56: =+E56+F56+G56+H56 -> 4100.8 | G56: =+'Հավելված N 10'!I89 -> 4100.8
A57: 1168 | B57: 32001 | C57: Ներդրումներ թատրոնների և համերգային կազմակերպությունների շենքերի կապիտալ վերանորոգման համար | D57: =+E57+F57+G57+H57 -> -92743.6 | E57: =+E59 -> 0 | F57: =+F59 -> -92743.6 | G57: =+G59 -> 0 | H57: =+H59 -> 0
C58: այդ թվում`
C59: Երևան քաղաք | D59: =SUM(E59:H59) -> -92743.6 | E59: =+E60 -> 0 | F59: =+F60 -> -92743.6 | G59: =+G60 -> 0 | H59: =+H60 -> 0
C60: «Հայաստանի պետական սիմֆոնիկ նվագախումբ» ՊՈԱԿ | D60: =+E60+F60+G60+H60 -> -92743.6 | F60: =+'Հավելված N 10'!I24+'Հավելված N 10'!I26+'Հավելված N 10'!I27 -> -92743.6
A61: 1168 | B61: 32008 | C61: Երաժշտական գործիքների ձեռքբերում | D61: =+E61+F61+G61+H61 -> -45250 | E61: =+E63 -> 0 | F61: =+F63 -> 0 | G61: =+G63 -> 0 | H61: =+H63 -> -45250
C62: այդ թվում` ըստ կատարողների
C63: Երևան քաղաք | D63: =SUM(E63:H63) -> -45250 | E63: =+E64 -> 0 | F63: =+F64 -> 0 | G63: =+G64 -> 0 | H63: =+H64 -> -45250
C64: «Հայաստանի էստրադային ջազ-նվագախումբ» ՊՈԱԿ | D64: =+E64+F64+G64+H64 -> -45250 | H64: =+'Հավելված N 10'!I29 -> -45250
A65: 1183 | B65: 32004 | C65: Ավագ մակարդակի կրթություն իրականացնող ուսումնական հաստատությունների շենքային պայմանների բարելավում | D65: =+E65+F65+G65+H65 -> -16159.8 | E65: =+E67 -> 0 | F65: =+F67 -> -16159.8 | G65: =+G67 -> 0 | H65: =+H67 -> 0
C66: այդ թվում`
C67: ՀՀ Շիրակի մարզ | D67: =SUM(E67:H67) -> -16159.8 | E67: =+E68 -> 0 | F67: =+F68 -> -16159.8 | G67: =+G68 -> 0 | H67: =+H68 -> 0
C68: «Գյումրու «Ֆոտոն» վարժարան» ՊՈԱԿ | D68: =+E68+F68+G68+H68 -> -16159.8 | F68: =+'Հավելված N 10'!I112 -> -16159.8
A69: 1236 | B69: 32001 | C69: Մանկապարտեզների նոր շենքերի կառուցում | D69: =SUM(E69:H69) -> 262242.7 | E69: =+E71 -> 262242.7 | F69: =+F71 -> 0 | G69: =+G71 -> 0 | H69: =+H71 -> 0
C70: այդ թվում`
C71: ՀՀ Արմավիրի մարզ | D71: =SUM(E71:H71) -> 262242.7 | E71: =+E72 -> 262242.7 | F71: =+F72 -> 0 | G71: =+G72 -> 0 | H71: =+H72 -> 0
C72: Փշատավան համայնքում «Մոդուլային» տիպի 144 տեղ հզորությամբ մսուր-մանկապարտեզ | D72: =+E72+F72+G72+H72 -> 262242.7 | E72: =+'Հավելված N 10'!I119+'Հավելված N 10'!I121+'Հավելված N 10'!I122 -> 262242.7
A73: 1236 | B73: 32002 | C73: Մանկապարտեզների շենքերի վերակառուցում, հիմնանորոգում | D73: =SUM(E73:H73) -> 233117.3 | E73: =+E75+E76 -> 0 | F73: =+F75+F76 -> 233117.3 | G73: =+G75+G76 -> 0 | H73: =+H75+H76 -> 0
C74: այդ թվում`
C75: Մանկապարտեզների շենքերի վերակառուցում, հիմնանորոգում | D75: =SUM(E75:H75) -> 274495.7 | E75: =+E76+E77 -> 0 | F75: =274495.7 -> 274495.7 | G75: =+G76+G77 -> 0 | H75: =+H76+H77 -> 0
C76: Երևան քաղաք | D76: =SUM(E76:H76) -> -41378.4 | E76: =+E77+E78 -> 0 | F76: =+F77+F78 -> -41378.4 | G76: =+G77+G78 -> 0 | H76: =+H77+H78 -> 0
C77: Մալաթիա-Սեբաստիա վարչական շրջանի հ.77 մանկապարտեզի բակի բարեկարգում | D77: =+E77+F77+G77+H77 -> 14343 | F77: 14343
C78: Նոր Նորք վարչական շրջանի հ. 109 մանկապարտեզի բակի բարեկարգում | D78: =+E78+F78+G78+H78 -> -55721.4 | F78: -55721.4
A79: 1236 | B79: 32003 | C79: Հանրակրթական դպրոցների նոր շենքերի կառուցում | D79: =SUM(E79:H79) -> 36526.9 | E79: =+E81 -> 36526.9 | F79: =+F81 -> 0 | G79: =+G81 -> 0 | H79: =+H81 -> 0
C80: այդ թվում`
C81: ՀՀ Արագածոտնի մարզ | D81: =SUM(E81:H81) -> 36526.9 | E81: =+E82 -> 36526.9 | F81: =+F82 -> 0 | G81: =+G82 -> 0 | H81: =+H82 -> 0
C82: «Լուսակնի միջնակարգ դպրոց» ՊՈԱԿ | D82: =+E82+F82+G82+H82 -> 36526.9 | E82: =+'Հավելված N 10'!I127 -> 36526.9
A83: 1236 | B83: 32006 | C83: Հանրակրթական դպրոցների, մանկապարտեզների և կրթահամալիրների գույքով և տեխնիկայով ապահովում | D83: =+E83+F83+G83+H83 -> -41968.4 | E83: =+E85+E97+E100+E112+E117+E127+E130+E132 -> 0 | F83: =+F85+F97+F100+F112+F117+F127+F130+F132 -> 0 | G83: =+G85+G97+G100+G112+G117+G127+G130+G132 -> 0 | H83: =+H85+H97+H100+H112+H117+H127+H130+H132 -> -41968.4
C84: այդ թվում`
C85: Երևան քաղաք | D85: =SUM(E85:H85) -> 60508.4 | E85: =+E86+E87+E88+E89+E90+E91+E92+E93+E94+E95+E96 -> 0 | F85: =+F86+F87+F88+F89+F90+F91+F92+F93+F94+F95+F96 -> 0 | G85: =+G86+G87+G88+G89+G90+G91+G92+G93+G94+G95+G96 -> 0 | H85: =+H86+H87+H88+H89+H90+H91+H92+H93+H94+H95+H96 -> 60508.4
C86: «Երևանի թիվ 191 հիմնական դպրոց» ՊՈԱԿ | D86: =+E86+F86+G86+H86 -> 24944.5 | H86: 24944.5
C87: «Երևանի Տ․Շեվչենկոյի անվան թիվ 42 ավագ դպրոց» ՊՈԱԿ | D87: =+E87+F87+G87+H87 -> 3696.7 | H87: 3696.7
C88: «Երևանի Մ․ Խորենացու անվան թիվ 143 հիմնական դպրոց» ՊՈԱԿ | D88: =+E88+F88+G88+H88 -> 25063.2 | H88: 25063.2
C89: «Երևանի Մ. Սարյանի անվան հ. 86 հիմնական դպրոց» ՊՈԱԿ | D89: =+E89+F89+G89+H89 -> 850.5 | H89: 850.5
C90: «Երևանի Միքայել Նալբանդյանի անվան հ.33 հիմնական դպրոց» ՊՈԱԿ | D90: =+E90+F90+G90+H90 -> 850.5 | H90: 850.5
C91: «Երևանի Ս. Խանզադյանի անվան հ. 184 ավագ դպրոց» ՊՈԱԿ | D91: =+E91+F91+G91+H91 -> 850.5 | H91: 850.5
C92: «Երևանի Ա. Երզնկյանի անվան հ. 118 ավագ դպրոց» ՊՈԱԿ | D92: =+E92+F92+G92+H92 -> 850.5 | H92: 850.5
C93: «Երևանի Սիլվա Կապուտիկյանի անվան հ. 145 հիմնական դպրոց» ՊՈԱԿ | D93: =+E93+F93+G93+H93 -> 850.5 | H93: 850.5
C94: «Երևանի Վ. Թեքեյանի անվան թիվ 92 հիմնական դպրոց» ՊՈԱԿ-ի մարզադահլիճի վերակառուցում | D94: =+E94+F94+G94+H94 -> 850.5 | H94: 850.5
C95: «Երևանի հ. 37 հիմնական դպրոց» ՊՈԱԿ-ի մարզադահլիճի վերակառուցում | D95: =+E95+F95+G95+H95 -> 850.5 | H95: 850.5
C96: «Երևանի հ. 136 հիմնական դպրոց» ՊՈԱԿ-ի մարզադահլիճի վերակառուցում | D96: =+E96+F96+G96+H96 -> 850.5 | H96: 850.5
C97: ՀՀ Արարատի մարզ | D97: =SUM(E97:H97) -> -11415.5 | E97: =+E98+E99 -> 0 | F97: =+F98+F99 -> 0 | G97: =+G98+G99 -> 0 | H97: =+H98+H99 -> -11415.5
C98: «Փոքր Վեդու Մարգար Հովհաննիսյանի անվան միջնակարգ դպրոց» ՊՈԱԿ | D98: =+E98+F98+G98+H98 -> -12266 | H98: -12266
C99: «Թալինի ավագ դպրոց» ՊՈԱԿ | D99: =+E99+F99+G99+H99 -> 850.5 | H99: 850.5
C100: ՀՀ Արմավիրի մարզ | D100: =SUM(E100:H100) -> -3060.5 | E100: =+E101+E102+E103+E104+E105+E106+E107+E108+E109+E110+E111 -> 0 | F100: =+F101+F102+F103+F104+F105+F106+F107+F108+F109+F110+F111 -> 0 | G100: =+G101+G102+G103+G104+G105+G106+G107+G108+G109+G110+G111 -> 0 | H100: =+H101+H102+H103+H104+H105+H106+H107+H108+H109+H110+H111 -> -3060.5
C101: «Փարաքարի միջնակարգ դպրոց» ՊՈԱԿ | D101: =+E101+F101+G101+H101 -> -16601.3 | H101: -16601.3
C102: «Վաղարշապատի Մ․Գորկու անվան թիվ 5 ավագ դպրոց» ՊՈԱԿ | D102: =+E102+F102+G102+H102 -> 5886.3 | H102: 5886.3
C103: «Արտիմետի միջնակարգ դպրոց» ՊՈԱԿ | D103: =+E103+F103+G103+H103 -> 850.5 | H103: 850.5
...

Sheet Հավելված N 4
C1: Հավելված N 4
C2: ՀՀ կառավարության 2024 թվականի
C3: ______________ ի ___Ն որոշման
B6: ՀԱՅԱՍՏԱՆԻ ՀԱՆՐԱՊԵՏՈՒԹՅԱՆ ԿԱՌԱՎԱՐՈՒԹՅԱՆ 2023 ԹՎԱԿԱՆԻ ԴԵԿՏԵՄԲԵՐԻ 28-Ի N 2323-Ն ՈՐՈՇՄԱՆ N 5 ՀԱՎԵԼՎԱԾԻ N 2 ԱՂՅՈՒՍԱԿՈՒՄ ԿԱՏԱՐՎՈՂ ՓՈՓՈԽՈՒԹՅՈՒՆՆԵՐԸ ԵՎ ԼՐԱՑՈՒՄՆԵՐԸ
E8: հազ. դրամներով
B9: Ծրագրային դասիչ | D9: Բյուջետային գլխավոր կարգադրիչների, ծրագրերի, միջոցառումների, միջոցառումները կատարող պետական մարմինների և ուղղությունների անվանումները | E9: Ցուցանիշների փոփոխությունը (ավելացումները նշված են դրական նշանով, իսկ նվազեցումները՝ փակագծերում)
B10: Ծրագիր | C10: Միջոցառում | E10: Տարի
D11: ՀՀ ԿՐԹՈՒԹՅԱՆ, ԳԻՏՈՒԹՅԱՆ, ՄՇԱԿՈՒՅԹԻ ԵՎ ՍՊՈՐՏԻ ՆԱԽԱՐԱՐՈՒԹՅՈՒՆ | E11: =+E13+E26+E51+E57+E63+E69+E75+E81+E87+E95+E101 -> -122690.3
D12: այդ թվում՝
B13: 1045 | C13: 32001 | D13: Նախնական մասնագիտական (արհեստագործական) և միջին մասնագիտական ուսումնական հաստատությունների շենքային պայմանների բարելավում | E13: =+E15 -> -125464.2
D14: այդ թվում` ըստ կատարողների
D15: ՀՀ կրթության, գիտության, մշակույթի և սպորտի նախարարություն | E15: =+E17+E21+E23 -> -125464.2
D16: այդ թվում`ըստ ուղղությունների
D17: Երևան քաղաք | E17: =+E18+E19+E20 -> -214917.6
D18: =+'Հավելված N 3'!C18 -> «Երևանի հ․8 արհեստագործական պետական ուսումնարան» ՊՈԱԿ | E18: =+'Հավելված N 3'!D18 -> -194894.7
D19: =+'Հավելված N 3'!C19 -> «Երևանի Շառլ Ազնավուրի անվան մշակույթի և արվեստի պետական քոլեջ» ՊՈԱԿ | E19: =+'Հավելված N 3'!D19 -> -7298.9
D20: =+'Հավելված N 3'!C20 -> «Երևանի զարդարվեստի պետական արհեստագործական ուսումնարան» ՊՈԱԿ | E20: =+'Հավելված N 3'!D20 -> -12724
D21: ՀՀ Լոռու մարզ | E21: =+E22 -> 104891.2
D22: =+'Հավելված N 3'!C22 -> «Վանաձորի Կ. Ղարաքեշիշյանի անվան N 1 արհեստագործական պետական ուսումնարան» ՊՈԱԿ | E22: =+'Հավելված N 3'!D22 -> 104891.2
D23: ՀՀ Շիրակի մարզ | E23: =+E24+E25 -> -15437.8
D24: =+'Հավելված N 3'!C24 -> «Արթիկի պետական քոլեջ» ՊՈԱԿ | E24: =+'Հավելված N 3'!D24 -> -13096.7
D25: =+'Հավելված N 3'!C25 -> «Գյումրու պետական բժշկական քոլեջ» ՊՈԱԿ | E25: =+'Հավելված N 3'!D25 -> -2341.1
B26: 1075 | C26: 21001 | D26: Հուշարձանների ամրակայում, նորոգում և վերականգնում | E26: =+E28 -> -132019.2
D27: այդ թվում` ըստ կատարողների
D28: ՀՀ կրթության, գիտության, մշակույթի և սպորտի նախարարություն | E28: =+E30+E47 -> -132019.2
D29: այդ թվում`ըստ ուղղությունների
D30: 1. Վերականգնողական աշխատանքներ | E30: =+E32+E34+E38+E40+E42 -> -133899.2
D31: որից`
D32: Երևան քաղաք | E32: =+E33 -> 37296.8
D33: =+'Հավելված N 3'!C31 -> Հայոց ցեղասպանության հուշահամալիրի և թանգարանի հիմնանորոգում և բարեկարգում | E33: =+'Հավելված N 3'!D31 -> 37296.8
D34: ՀՀ Արագածոտնի մարզ | E34: =+E35+E36+E37 -> -17732
D35: =+'Հավելված N 3'!C33 -> Փարպի համայնքի 5-րդ դարի Ծիրանավոր եկեղեցու ամրակայում, վերականգնում և տարածքի բարեկարգում | E35: =+'Հավելված N 3'!D33 -> -9340.4
D36: =+'Հավելված N 3'!C34 -> Ամբերդ ամրոցի հրատապ ամրակայման ենթակա հատվածների նորոգում և վերականգնում | E36: =+'Հավելված N 3'!D34 -> -40309.7
D37: =+'Հավելված N 3'!C35 -> Ագարակ համայնքի, «Ագարակ» պատմամշակութային արգելոցի վաղ բրոնզե դարի կացարանների, միջնադարյան համալիրի և պարսպապատի վերականգնում և ամրակայում | E37: =+'Հավելված N 3'!D35 -> 31918.1
D38: ՀՀ Արմավիրի մարզ | E38: =+E39 -> -17624.9
D39: =+'Հավելված N 3'!C37 -> ՀՀ Արմավիրի մարզի Այգեշատ համայնքի Թարգմանչաց եկեղեցու վերականգնում | E39: =+'Հավելված N 3'!D37 -> -17624.9
D40: ՀՀ Լոռու մարզ | E40: =+E41 -> -15615.7
D41: =+'Հավելված N 3'!C39 -> Ամրակիցի Սբ․ Նիկոլայ Հրաշագործ ռուսական եկեղեցու վերականգնման աժխատանքներ | E41: =+'Հավելված N 3'!D39 -> -15615.7
D42: ՀՀ Տավուշի մարզ | E42: =+E43+E44+E45+E46 -> -120223.4
D43: =+'Հավելված N 3'!C41 -> Տավուշի մարզի «Սրվեղ» վանական համալիրի ամրակայում, վերականգնում և տարածքի բարեկարգում | E43: =+'Հավելված N 3'!D41 -> -34530.6
D44: =+'Հավելված N 3'!C42 -> Տավուշի մարզի «Տավուշ» ամրոցի պարիսպների, կից կառույցների, եկեղեցուամրակայում, վերականգնում և տարածքի բարեկարգում | E44: =+'Հավելված N 3'!D42 -> -43975.8
D45: =+'Հավելված N 3'!C43 -> Դիլիջան համայնքի Հ.Շարամբեյանի անվան ժողովրդական արվեստների թանգարանի նորոգում, ամրակայում | E45: =+'Հավելված N 3'!D43 -> 2304.8
D46: =+'Հավելված N 3'!C44 -> Կիրանց գյուղի Սուրբ Երրորդություն եկեղեցու վերականգնում | E46: =+'Հավելված N 3'!D44 -> -44021.8
D47: 2. Վավերագրման և ուսումնասիրման աշխատանքներ, (այդ թվում՝ հետախուզումև պեղում), գիտանախագծային փաստաթղթերի կազմում և փորձաքննում | E47: =+E49 -> 1880
D48: որից`
D49: ՀՀ Տավուշի մարզ | E49: =+E50 -> 1880
D50: =+'Հավելված N 3'!C48 -> Դիլիջան համայնքի Հ.Շարամբեյանի անվան ժողովրդական արվեստների թանգարանի տարածքի բարեկարգման գիտանախագծային փաստաթղթերի մշակում | E50: =+'Հավելված N 3'!D48 -> 1880
B51: 1075 | C51: 32001 | D51: Ներդրումներ թանգարանների և պատկերասրահների հիմնանորոգման համար | E51: =+E53 -> -205072.8
D52: այդ թվում` ըստ կատարողների
D53: ՀՀ կրթության, գիտության, մշակույթի և սպորտի նախարարություն | E53: =+E55 -> -205072.8
D54: այդ թվում`ըստ ուղղությունների
D55: Երևան քաղաք | E55: =+E56 -> -205072.8
D56: =+'Հավելված N 3'!C52 -> «Հ. Թումանյանի թանգարան» ՊՈԱԿ | E56: =+'Հավելված N 3'!D52 -> -205072.8
B57: 1148 | C57: 32005 | D57: Արտադպրոցական դաստիարակություն իրականացնող կազմակերպությունների շենքային պայմանների բարելավում | E57: =+E59 -> 4100.8
D58: այդ թվում` ըստ կատարողների
D59: ՀՀ կրթության, գիտության, մշակույթի և սպորտի նախարարություն | E59: =+E61 -> 4100.8
D60: այդ թվում`ըստ ուղղությունների
D61: Երևան քաղաք | E61: =+E62 -> 4100.8
D62: =+'Հավելված N 3'!C56 -> «Տիգրան Պետրոսյանի անվան շախմատի-տուն մարզադպրոց» ՊՈԱԿ | E62: =+'Հավելված N 3'!D56 -> 4100.8
B63: 1168 | C63: 32001 | D63: Ներդրումներ թատրոնների և համերգային կազմակերպությունների շենքերի կապիտալ վերանորոգման համար | E63: =+E65 -> -92743.6
D64: այդ թվում` ըստ կատարողների
D65: ՀՀ կրթության, գիտության, մշակույթի և սպորտի նախարարություն | E65: =+E67 -> -92743.6
D66: այդ թվում`ըստ ուղղությունների
D67: Երևան քաղաք | E67: =+E68 -> -92743.6
D68: =+'Հավելված N 3'!C60 -> «Հայաստանի պետական սիմֆոնիկ նվագախումբ» ՊՈԱԿ | E68: =+'Հավելված N 3'!D60 -> -92743.6
B69: 1168 | C69: 32008 | D69: Երաժշտական գործիքների ձեռքբերում | E69: =+E71 -> -45250
D70: այդ թվում` ըստ կատարողների
D71: ՀՀ կրթության, գիտության, մշակույթի և սպորտի նախարարություն | E71: =+E73 -> -45250
D72: այդ թվում`ըստ ուղղությունների
D73: Երևան քաղաք | E73: =+E74 -> -45250
D74: =+'Հավելված N 3'!C64 -> «Հայաստանի էստրադային ջազ-նվագախումբ» ՊՈԱԿ | E74: =+'Հավելված N 3'!D64 -> -45250
B75: 1183 | C75: 32004 | D75: Ավագ մակարդակի կրթություն իրականացնող ուսումնական հաստատությունների շենքային պայմանների բարելավում | E75: =+E77 -> -16159.8
D76: այդ թվում` ըստ կատարողների
D77: ՀՀ կրթության, գիտության, մշակույթի և սպորտի նախարարություն | E77: =+E79 -> -16159.8
D78: այդ թվում`ըստ ուղղությունների
D79: ՀՀ Շիրակի մարզ | E79: =+E80 -> -16159.8
D80: =+'Հավելված N 3'!C68 -> «Գյումրու «Ֆոտոն» վարժարան» ՊՈԱԿ | E80: =+'Հավելված N 3'!D68 -> -16159.8
B81: 1236 | C81: 32001 | D81: Մանկապարտեզների նոր շենքերի կառուցում | E81: =+E83 -> 262242.7
D82: այդ թվում` ըստ կատարողների
D83: ՀՀ քաղաքաշինության կոմիտե | E83: =+E85 -> 262242.7
D84: այդ թվում`ըստ ուղղությունների
D85: ՀՀ Արմավիրի մարզ | E85: =+E86 -> 262242.7
D86: =+'Հավելված N 3'!C72 -> Փշատավան համայնքում «Մոդուլային» տիպի 144 տեղ հզորությամբ մսուր-մանկապարտեզ | E86: =+'Հավելված N 3'!D72 -> 262242.7
B87: 1236 | C87: 32002 | D87: Մանկապարտեզների շենքերի վերակառուցում, հիմնանորոգում | E87: =+E89+E94 -> 233117.3
D88: այդ թվում` ըստ կատարողների
D89: ՀՀ տարածքային կառավարման և ենթակառուցվածքների նախարարություն | E89: =+E91 -> -41378.4
D90: այդ թվում`ըստ ուղղությունների
D91: Երևան քաղաք | E91: =+E92+E93 -> -41378.4
D92: =+'Հավելված N 3'!C77 -> Մալաթիա-Սեբաստիա վարչական շրջանի հ.77 մանկապարտեզի բակի բարեկարգում | E92: =+'Հավելված N 3'!D77 -> 14343
D93: =+'Հավելված N 3'!C78 -> Նոր Նորք վարչական շրջանի հ. 109 մանկապարտեզի բակի բարեկարգում | E93: =+'Հավելված N 3'!D78 -> -55721.4
D94: ՀՀ կառավարություն | E94: =+'Հավելված N 3'!D75 -> 274495.7
B95: 1236 | C95: 32003 | D95: Հանրակրթական դպրոցների նոր շենքերի կառուցում | E95: =+E97 -> 36526.9
D96: այդ թվում` ըստ կատարողների
D97: ՀՀ քաղաքաշինության կոմիտե | E97: =+E99 -> 36526.9
D98: այդ թվում`ըստ ուղղությունների
D99: ՀՀ Արագածոտնի մարզ | E99: =+E100 -> 36526.9
D100: =+'Հավելված N 3'!C82 -> «Լուսակնի միջնակարգ դպրոց» ՊՈԱԿ | E100: =+'Հավելված N 3'!D82 -> 36526.9
B101: 1236 | C101: 32006 | D101: Հանրակրթական դպրոցների, մանկապարտեզների և կրթահամալիրների գույքով և տեխնիկայով ապահովում | E101: =+E103 -> -41968.4
D102: այդ թվում` ըստ կատարողների
D103: ՀՀ կրթության, գիտության, մշակույթի և սպորտի նախարարություն | E103: =+E104+E116+E119+E131+E136+E146+E149+E151 -> -41968.4
...

Sheet Հավելված N 5
E1: Հավելված N 5
E2: ՀՀ կառավարության 2024 թվականի
E3: ______________ ի ___Ն որոշման
A6: «ՀԱՅԱՍՏԱՆԻ ՀԱՆՐԱՊԵՏՈՒԹՅԱՆ 2024 ԹՎԱԿԱՆԻ ՊԵՏԱԿԱՆ ԲՅՈՒՋԵԻ ՄԱՍԻՆ» ՕՐԵՆՔԻ N 1 ՀԱՎԵԼՎԱԾԻ N 4 ԱՂՅՈՒՍԱԿՈՒՄ ԵՎ ՀԱՅԱՍՏԱՆԻ ՀԱՆՐԱՊԵՏՈՒԹՅԱՆ ԿԱՌԱՎԱՐՈՒԹՅԱՆ 2023 ԹՎԱԿԱՆԻ ԴԵԿՏԵՄԲԵՐԻ 28-Ի N 2323-Ն ՈՐՈՇՄԱՆ N 5 ՀԱՎԵԼՎԱԾԻ N 3 ԱՂՅՈՒՍԱԿՈՒՄ ԿԱՏԱՐՎՈՂ ԼՐԱՑՈՒՄԸ
F8: հազ. դրամներով
A9: Ծրագրային դասիչը | C9: Բյուջետային հատկացումների գլխավոր կարգադրիչների, ծրագրերի, միջոցառումների և միջոցառումները կատարող պետական մարմինների անվանումները
D10: Տարի
D11: Ընդամենը | E11: այդ թվում`
A12: Ծրագիր | B12: Միջոցառում | E12: Վարկային միջոցներ | F12: Համաֆինան սավորում
C13: ԸՆԴԱՄԵՆԸ | D13: =+E13+F13 -> 24427 | E13: =+E15 -> 0 | F13: =+F15 -> 24427
C14: այդ թվում`
C15: ՈՉ ՖԻՆԱՆՍԱԿԱՆ ԱԿՏԻՎՆԵՐԻ ԳԾՈՎ ԾԱԽՍԵՐ | D15: =+E15+F15 -> 24427 | E15: =+E16 -> 0 | F15: =+F16 -> 24427
C16: ՀՀ կրթության, գիտության, մշակույթի և սպորտի նախարարություն | D16: =+E16+F16 -> 24427 | E16: =+E18 -> 0 | F16: =+F18 -> 24427
C17: այդ թվում`
A18: 1192 | C18: Կրթության որակի ապահովում | D18: =+E18+F18 -> 24427 | E18: =+E20 -> 0 | F18: =+F20 -> 24427
C19: այդ թվում`
B20: 11023 | C20: Համաշխարհային բանկի աջակցությամբ իրականացվող Կրթության բարելավման ծրագրի լրացուցիչ ֆինանսավորում վարկային ծրագիր | D20: =+E20+F20 -> 24427 | E20: =+E22 -> 0 | F20: =+F22 -> 24427
C21: այդ թվում` ըստ կատարողների
C22: ՀՀ կրթության , գիտության, մշակույթի և սպորտի նախարարություն | D22: =+E22+F22 -> 24427 | E22: =+E24 -> 0 | F22: =+F24 -> 24427
C23: այդ թվում` բյուջետային ծախսերի տնտեսագիտական դասակարգման հոդվածներ
C24: ԸՆԴԱՄԵՆԸ ԾԱԽՍԵՐ | D24: =+E24+F24 -> 24427 | E24: =+E25 -> 0 | F24: =+F25 -> 24427
C25: ԸՆԹԱՑԻԿ ԾԱԽՍԵՐ | D25: =+E25+F25 -> 24427 | E25: =+E26 -> 0 | F25: =+F26 -> 24427
C26: ԴՐԱՄԱՇՆՈՐՀՆԵՐ | D26: =+E26+F26 -> 24427 | E26: =+E27 -> 0 | F26: =+F27 -> 24427
C27: Ընթացիկ դրամաշնորհներ պետական հատվածի այլ մակարդակներին | D27: =+E27+F27 -> 24427 | E27: =+E28 -> 0 | F27: =+F28 -> 24427
C28: - Այլ ընթացիկ դրամաշնորհներ | D28: =+E28+F28 -> 24427 | F28: 24427

Sheet Հավելված N 6
F1: Հավելված N 6
F2: ՀՀ կառավարության 2024 թվականի
F3: ______________ ի ___Ն որոշման
A6: ՀԱՅԱՍՏԱՆԻ ՀԱՆՐԱՊԵՏՈՒԹՅԱՆ ԿԱՌԱՎԱՐՈՒԹՅԱՆ 2023 ԹՎԱԿԱՆԻ ԴԵԿՏԵՄԲԵՐԻ 28-Ի N 2323-Ն ՈՐՈՇՄԱՆ N 5 ՀԱՎԵԼՎԱԾԻ N 7 ԱՂՅՈՒՍԱԿՈՒՄ ԿԱՏԱՐՎՈՂ ԼՐԱՑՈՒՄՆԵՐԸ
A7: հազար դրամ
A8: Ծրագրային դասիչը | D8: Բյուջետային հատկացումների գլխավոր կարգադրիչների, ծրագրերի, միջոցառումների և միջոցառումները կատարող պետական մարմինների անվանումները | F8: Միջոցառումները կատարող պետական մարմինների և դրամաշնորհ ստացող տնտեսվարող սուբյեկտների անվանումները | G8: Ցուցանիշների փոփոխությունը (ավելացումները նշված են դրական նշանով)
A9: Ծրագիր | B9: Միջոցառում | G9: Տարի
A10: ՀՀ կրթության, գիտության, մշակույթի և սպորտի նախարարություն | G10: =+G11+G15+G18+G22 -> 55953.7
A11: 1045 | B11: Նախնական (արհեստագործական) և միջին մասնագիտական կրթություն | G11: =+G12 -> 10078.2
B12: 32001 | C12: Նախնական մասնագիտական (արհեստագործական) և միջին մասնագիտական ուսումնական հաստատությունների շենքային պայմանների բարելավում | G12: =+G13 -> 10078.2
F13: ՀՀ կրթության, գիտության, մշակույթի և սպորտի նախարարություն | G13: =+G14 -> 10078.2
F14: «Երևանի հ․ 1 արհեստագործական պետական ուսումնարան» ՊՈԱԿ | G14: 10078.2
A15: 1075 | B15: Մշակութային ժառանգության ծրագիր | G15: =+G16 -> 3888.3
B16: 32001 | C16: Ներդրումներ թանգարանների և պատկերասրահների հիմնանորոգման համար | F16: ՀՀ կրթության, գիտության, մշակույթի և սպորտի նախարարություն | G16: =+G17 -> 3888.3
F17: «Ռուսական արվեստի թանգարան (պրոֆեսոր Ա. Աբրահամյանի հավաքածու)» ՊՈԱԿ | G17: =1988.3+1900 -> 3888.3
A18: 1168 | B18: Արվեստների ծրագիր | G18: =+G19 -> 10047.4
B19: 32001 | C19: Ներդրումներ թատրոնների և համերգային կազմակերպությունների շենքերի կապիտալ վերանորոգման համար | G19: =+G20 -> 10047.4
F20: ՀՀ կրթության, գիտության, մշակույթի և սպորտի նախարարություն | G20: =+G21 -> 10047.4
F21: «Հայաստանի ազգային ֆիլհարմոնիկ նվագախումբ» ՊՈԱԿ | G21: 10047.4
A22: 1183 | B22: Ապահով դպրոց | G22: =+G23+G26 -> 31939.8
B23: 11002 | C23: Աջակցություն դպրոցներին «Արագ արձագանքման ֆոնդի» շրջանակում հրատապ խնդիրների լուծման համար | G23: =+G24 -> 30000
F24: ՀՀ կրթության, գիտության, մշակույթի և սպորտի նախարարություն | G24: =+G25 -> 30000
F25: Հանրակրթական դպրոցներ | G25: 30000
B26: 32001 | C26: Կրթական օբյեկտների շենքային պայմանների բարելավում | G26: =+G27 -> 1939.8
F27: ՀՀ տարածքային կառավարման և ենթակառուցվածքների նախարարություն | G27: =+G28 -> 1939.8
F28: «Երևանի Մ․ Նալբանդյանի անվան թիվ 33 հիմնական դպրոց» ՊՈԱԿ | G28: 1939.8

Sheet Հավելված N 7
D1: Հավելված N 7
D2: ՀՀ կառավարության 2024 թվականի
D3: ______________ ի ___Ն որոշման
A5: ՀԱՅԱՍՏԱՆԻ ՀԱՆՐԱՊԵՏՈՒԹՅԱՆ ԿԱՌԱՎԱՐՈՒԹՅԱՆ 2023 ԹՎԱԿԱՆԻ ԴԵԿՏԵՄԲԵՐԻ 28-Ի N 2323-Ն ՈՐՈՇՄԱՆ N 8 ՀԱՎԵԼՎԱԾԻ ՑԱՆԿՈՒՄ ԿԱՏԱՐՎՈՂ ՓՈՓՈԽՈՒԹՅՈՒՆԸ ԵՎ ԼՐԱՑՈՒՄԸ
A9: Ծրագրային դասիչը | C9: Բյուջետային հատակացումների գլխավոր կարգադրիչներ, ծրագրերի, միջոցառումների և միջոցառումներն իրականացնող պետական մարմինների անվանումները | D9: Ցուցանիշների փոփոխությունը (ավելացումները նշված են դրական նշանով, իսկ նվազեցումները՝ փակագծերում)
A10: Ծրագիր | B10: Միջոցառում
A11: 1183 | C11: Ապահով դպրոց | D11: =+D12 -> 1939.8
B12: 32001 | C12: Կրթական օբյեկտների շենքային պայմանների բարելավում | D12: =+'Հավելված N 6'!G27 -> 1939.8
A13: 1236 | C13: Հանրակրթական և նախադպրոցական հաստատությունների հիմնում, կառուցում, բարելավում | D13: =+D14 -> -41378.4
B14: 32002 | C14: Մանկապարտեզների շենքերի վերակառուցում, հիմնանորոգում | D14: =+'Հավելված N 4'!E89 -> -41378.4

Sheet Հավելված N 8
C1: Հավելված N 8
C2: ՀՀ կառավարության 2024 թվականի
C3: ______________ ի ___Ն որոշման
B6: ՀԱՅԱՍՏԱՆԻ ՀԱՆՐԱՊԵՏՈՒԹՅԱՆ ԿԱՌԱՎԱՐՈՒԹՅԱՆ 2023 ԹՎԱԿԱՆԻ ԴԵԿՏԵՄԲԵՐԻ 28-Ի N 2323-Ն ՈՐՈՇՄԱՆ N 9 ՀԱՎԵԼՎԱԾԻ NN 9.13 ԵՎ 9.48 ԱՂՅՈՒՍԱԿՆԵՐՈՒՄ ԿԱՏԱՐՎՈՂ ՓՈՓՈԽՈՒԹՅՈՒՆՆԵՐԸ ԵՎ ԼՐԱՑՈՒՄՆԵՐԸ
A8: Աղյուսակ 9․13
C9: ՀՀ կրթության, գիտության, մշակույթի և սպորտի նախարարություն
B10: ՄԱՍ 2. ՊԵՏԱԿԱՆ ՄԱՐՄՆԻ ԳԾՈՎ ԱՐԴՅՈՒՆՔԱՅԻՆ (ԿԱՏԱՐՈՂԱԿԱՆ) ՑՈՒՑԱՆԻՇՆԵՐԸ
B13: Ծրագրի դասիչը | C13: Ծրագրի անվանումը
B14: 1045 | C14: Նախնական (արհեստագործական) և միջին մասնագիտական կրթություն
B16: Ծրագրի միջոցառումները
B17: Ծրագրի դասիչը՝ | C17: 1045 | D17: Ցուցանիշների փոփոխությունը (ավելացումները նշված են դրական նշանով, իսկ նվազեցումները՝ փակագծերում)
B18: Միջոցառման դասիչը՝ | C18: 32001 | D18: Տարի
B19: Միջոցառման անվանումը` | C19: Նախնական մասնագիտական (արհեստագործական) և միջին մասնագիտական ուսումնական հաստատությունների շենքային պայմանների բարելավում
B20: Նկարագրությունը` | C20: ՆՄՄԿՈՒ հաստատությունների շենքերի հիմնանորոգման և նախագծման (շինարարական աշխատանքներ, ջեռուցման համակարգի ստեղծում, ներքին հարդարում, տարածքի բարեկարգում) աշխատանքների իրականացում
B21: Միջոցառման տեսակը` | C21: Այլ պետական կազմակերպությունների կողմից օգտագործվող ոչ ֆինանսական ակտիվների հետ գործառնություններ
B22: Ակտիվն օգտագործող կազմակերպությունների անվանումները | C22: Միջին մասնագիտական ուսումնական հաստատություններ
B23: Արդյունքի չափորոշիչներ
B24: Մասնակի նորոգվող նախնական (արհեստագործական) և միջին մասնագիտական ուսումնական հաստատությունների քանակ, հատ | D24: 1
B25: Միջոցառման վրա կատարվող ծախսը (հազար դրամ) | D25: =+'Հավելված N 1'!D23 -> -115386
B27: Ծրագրի դասիչը | C27: Ծրագրի անվանումը
B28: 1075 | C28: Մշակութային ժառանգության ծրագիր
B30: Ծրագրի միջոցառումները
B31: Ծրագրի դասիչը՝ | C31: 1075 | D31: Ցուցանիշների փոփոխությունը (ավելացումները նշված են դրական նշանով, իսկ նվազեցումները՝ փակագծերում)
B32: Միջոցառման դասիչը՝ | C32: 21001 | D32: Տարի
B33: Միջոցառման անվանումը` | C33: Հուշարձանների ամրակայում, նորոգում և վերականգնում
B34: Նկարագրությունը` | C34: Հուշարձանների գիտանախագծային փաստաթղթերի կազմում, հրատապ ուսումնասիրում, վավերագրման և ուսումնասիրման աշխատանքներ, հետախուզում և հնագիտական պեղում, ամրակայում, նորոգում և վերականգնում
B35: Միջոցառման տեսակը` | C35: Հանրության կողմից անմիջականորեն օգտագործվող ակտիվների հետ կապված միջոցառումներ
B36: Ակտիվն օգտագործող կազմակերպությունների անվանումները | C36: Մասնագիտացված կազմակերպություն
B37: Արդյունքի չափորոշիչներ
B38: Հուշարձանների նախագծման, փորձաքննության աշխատանքներ, քանակ | D38: 1
B39: Միջոցառման վրա կատարվող ծախսը (հազար դրամ) | D39: =+'Հավելված N 1'!D36 -> -132019.2
B41: Ծրագրի միջոցառումները
B42: Ծրագրի դասիչը՝ | C42: 1075 | D42: Ցուցանիշների փոփոխությունը (ավելացումները նշված են դրական նշանով, իսկ նվազեցումները՝ փակագծերում)
B43: Միջոցառման դասիչը՝ | C43: 32001 | D43: Տարի
B44: Միջոցառման անվանումը` | C44: Ներդրումներ թանգարանների և պատկերասրահների հիմնանորոգման համար
B45: Նկարագրությունը` | C45: Թանգարանների և պատկերասրահների շենքերի, մասնաշենքերի հիմնանորոգում, համաշինարարական աշխատանքներ, ջեռուցման համակարգի իրականացում, ներքին հարդարում, տարածքի բարեկարգում և նախագծում
B46: Միջոցառման տեսակը` | C46: Այլ պետական կազմակերպությունների կողմից օգտագործվող ոչ ֆինանսական ակտիվների հետ գործառնություններ
B47: Ակտիվն օգտագործող կազմակերպությունների անվանումները | C47: Թանգարաններ և պատկերասրահներ
B48: Արդյունքի չափորոշիչներ
B49: Հիմնանորոգվող թանգարաններ և պատկերասրահներ քանակ, հատ | D49: -1
B50: Մասնակի նորոգվող թանգարաններ և պատկերասրահներ քանակ, հատ | D50: 1
B51: Միջոցառման վրա կատարվող ծախսը (հազար դրամ) | D51: =+'Հավելված N 1'!D42 -> -159184.5
B53: Ծրագրի դասիչը | C53: Ծրագրի անվանումը
B54: 1148 | C54: Արտադպրոցական դաստիարակության ծրագիր
B56: Ծրագրի միջոցառումները
B57: Ծրագրի դասիչը՝ | C57: 1148 | D57: Ցուցանիշների փոփոխությունը (ավելացումները նշված են դրական նշանով)
B58: Միջոցառման դասիչը՝ | C58: 32005 | D58: Տարի
B59: Միջոցառման անվանումը` | C59: Արտադպրոցական դաստիարակություն իրականացնող կազմակերպությունների շենքային պայմանների բարելավում
B60: Նկարագրությունը` | C60: Կառույցների տեխնիկական կարողությունների և աշխատանքային միջավայրի բարելավում
B61: Միջոցառման տեսակը` | C61: Այլ պետական կազմակերպությունների կողմից օգտագործվող ոչ ֆինանսական ակտիվների հետ գործառնություններ
B62: Ակտիվն օգտագործող կազմակերպության անվանումը | C62: Արտադպրոցական դաստիարակություն իրականացնող կազմակերպություններ
B63: Արդյունքի չափորոշիչներ
B64: Միջոցառման վրա կատարվող ծախսը (հազար դրամ) | D64: =+'Հավելված N 1'!D55 -> 4100.8
B66: Ծրագրի դասիչը | C66: Ծրագրի անվանումը
B67: 1168 | C67: Արվեստների ծրագիր
B69: Ծրագրի միջոցառումները
B70: Ծրագրի դասիչը՝ | C70: 1168 | D70: Ցուցանիշների փոփոխությունը (ավելացումները նշված են դրական նշանով, իսկ նվազեցումները՝ փակագծերում)
B71: Միջոցառման դասիչը՝ | C71: 32001 | D71: Տարի
B72: Միջոցառման անվանումը` | C72: Ներդրումներ թատրոնների և համերգային կազմակերպությունների շենքերի կապիտալ վերանորոգման համար
B73: Նկարագրությունը` | C73: Թատրոնների և համերգային կազմակերպությունների շենքերի մասնաշենքերի հիմնանորոգում, համաշինարարական աշխատանքներ, ջեռուցման համակարգի իրականացում, ներքին հարդարում, տարածքի բարեկարգում և նախագծում
B74: Միջոցառման տեսակը` | C74: Այլ պետական կազմակերպությունների կողմից օգտագործվող ոչ ֆինանսական ակտիվների հետ գործառնություններ
B75: Ակտիվն օգտագործող կազմակերպությունների անվանումները | C75: Թատրոններ և համերգային կազմակերպություններ
B76: Արդյունքի չափորոշիչներ
B77: 'Հիմնանորոգվող համերգային կազմակերպությունների քանակ, հատ | D77: -1
B78: Մասնակի նորոգվող համերգային կազմակերպությունների քանակ, հատ | D78: 1
B79: Միջոցառման վրա կատարվող ծախսը (հազար դրամ) | D79: =+'Հավելված N 1'!D68 -> -82696.2
B81: Ծրագրի միջոցառումները
B82: Ծրագրի դասիչը՝ | C82: 1168 | D82: Ցուցանիշների փոփոխությունը (նվազեցումները նշված են փակագծերում)
B83: Միջոցառման դասիչը՝ | C83: 32008 | D83: Տարի
B84: Միջոցառման անվանումը` | C84: Երաժշտական գործիքների ձեռքբերում
B85: Նկարագրությունը` | C85: Թատերահամերգային կազմակերպությունների երաժշտական գործիքներով ապահովում
B86: Միջոցառման տեսակը` | C86: Այլ պետական կազմակերպությունների կողմից օգտագործվող ոչ ֆինանսական ակտիվների հետ գործառնություններ
B87: Ակտիվն օգտագործող կազմակերպությունների անվանումները | C87: Թատրոններ և համերգային կազմակերպություններ
B88: Արդյունքի չափորոշիչներ
B89: Միջոցառման վրա կատարվող ծախսը (հազար դրամ) | D89: =+'Հավելված N 1'!D74 -> -45250
B91: Ծրագրի դասիչը | C91: Ծրագրի անվանումը
B92: 1183 | C92: Ապահով դպրոց
B94: Ծրագրի միջոցառումները
B95: Ծրագրի դասիչը՝ | C95: 1183 | D95: Ցուցանիշների փոփոխությունը (ավելացումները նշված են դրական նշանով)
B96: Միջոցառման դասիչը՝ | C96: 11002 | D96: Տարի
B97: Միջոցառման անվանումը` | C97: Աջակցություն դպրոցներին «Արագ արձագանքման ֆոնդի» շրջանակում՛ հրատապ խնդիրների լուծման համար
B98: Նկարագրությունը` | C98: Դպրոցներում արտակարգ իրավիճակների և չնախատեսված հանգամանքների հետևանքով առաջացած խնդիրների լուծման նպատակով ընթացիկ աշխատանքների իրականացում
B99: Միջոցառման տեսակը` | C99: Ծառայությունների մատուցում
B100: Ծառայությունը մատուցող կազմակերպության(ների) անվանում(ներ)ը՛ | C100: Մասնագիտացված կազմակերպություններ
B101: Արդյունքի չափորոշիչներ
B102: Շահառու դպրոցների թիվը | D102: 14
B103: Միջոցառման վրա կատարվող ծախսը (հազար դրամ) | D103: =+'Հավելված N 1'!D87 -> 30000
B105: Ծրագրի միջոցառումները
B106: Ծրագրի դասիչը՝ | C106: 1183 | D106: Ցուցանիշների փոփոխությունը (ավելացումները նշված են դրական նշանով)
B107: Միջոցառման դասիչը՝ | C107: 32001 | D107: Տարի
B108: Միջոցառման անվանումը` | C108: Կրթական օբյեկտների շենքային պայմանների բարելավում
B109: Նկարագրությունը` | C109: Կրթական օբյեկտների շենքերի (մասնաշենքերի) հիմնանորոգում (համաշինարարական աշխատանքներ, ջեռուցման համակարգի իրականացում, ներքին հարդարում, տարածքի բարեկարգում) և նախագծում
B110: Միջոցառման տեսակը` | C110: Այլ պետական կազմակերպությունների կողմից օգտագործվող ոչ ֆինանսական ակտիվների հետ գործառնություններ
B111: Ակտիվն օգտագործող կազմակերպությունների անվանումները | C111: Հանրակրթական դպրոցներ
B112: Արդյունքի չափորոշիչներ
B113: Միջոցառման վրա կատարվող ծախսը (հազար դրամ) | D113: =+'Հավելված N 1'!D93 -> 1939.8
B115: Ծրագրի միջոցառումները
B116: Ծրագրի դասիչը՝ | C116: 1183 | D116: Ցուցանիշների փոփոխությունը (նվազեցումները նշված են փակագծերում)
B117: Միջոցառման դասիչը՝ | C117: 32004 | D117: Տարի
B118: Միջոցառման անվանումը` | C118: Ավագ մակարդակի կրթություն իրականացնող ուսումնական հաստատությունների շենքային պայմանների բարելավում
...

Sheet Հավելված N 9
C1: Հավելված N 9
C2: ՀՀ կառավարության 2024 թվականի
C3: ______________ ի ___Ն որոշման
B6: ՀԱՅԱՍՏԱՆԻ ՀԱՆՐԱՊԵՏՈՒԹՅԱՆ ԿԱՌԱՎԱՐՈՒԹՅԱՆ 2023 ԹՎԱԿԱՆԻ ԴԵԿՏԵՄԲԵՐԻ 28-Ի N 2323-Ն ՈՐՈՇՄԱՆ N 9.1 ՀԱՎԵԼՎԱԾԻ NN 9.1.8, 9.1.13, 9.1.39, 9․1․54 ԵՎ 9.1.58 ԱՂՅՈՒՍԱԿՆԵՐՈՒՄ ԿԱՏԱՐՎՈՂ ՓՈՓՈԽՈՒԹՅՈՒՆՆԵՐԸ ԵՎ ԼՐԱՑՈՒՄՆԵՐԸ
A8: Աղյուսակ 9․1.8
C9: ՀՀ տարածքային կառավարման և ենթակառուցվածքների նախարարություն
B10: ՄԱՍ 1. ՊԵՏԱԿԱՆ ՄԱՐՄՆԻ ԳԾՈՎ ԱՐԴՅՈՒՆՔԱՅԻՆ (ԿԱՏԱՐՈՂԱԿԱՆ) ՑՈՒՑԱՆԻՇՆԵՐԸ
B13: Ծրագրի դասիչը | C13: Ծրագրի անվանումը
B14: 1183 | C14: Ապահով դպրոց
B16: Ծրագրի միջոցառումները
B17: Ծրագրի դասիչը՝ | C17: 1183 | D17: Ցուցանիշների փոփոխությունը (ավելացումները նշված են դրական նշանով)
B18: Միջոցառման դասիչը՝ | C18: 32001 | D18: Տարի
B19: Միջոցառման անվանումը` | C19: Կրթական օբյեկտների շենքային պայմանների բարելավում
B20: Նկարագրությունը` | C20: Կրթական օբյեկտների շենքերի (մասնաշենքերի) հիմնանորոգում (համաշինարարական աշխատանքներ, ջեռուցման համակարգի իրականացում, ներքին հարդարում, տարածքի բարեկարգում) և նախագծում
B21: Միջոցառման տեսակը` | C21: Այլ պետական կազմակերպությունների կողմից օգտագործվող ոչ ֆինանսական ակտիվների հետ գործառնություններ
B22: Ակտիվն օգտագործող կազմակերպությունների անվանումները | C22: Հանրակրթական դպրոցներ
B23: Արդյունքի չափորոշիչներ
B24: Միջոցառման վրա կատարվող ծախսը (հազար դրամ) | D24: =+'Հավելված N 2'!G206 -> 1939.8
B26: Ծրագրի դասիչը | C26: Ծրագրի անվանումը
B27: 1236 | C27: Հանրակրթական և նախադպրոցական հաստատությունների հիմնում, կառուցում, բարելավում
B29: Ծրագրի դասիչը՝ | C29: 1236 | D29: Ցուցանիշների փոփոխությունը (նվազեցումները նշված են փակագծերում)
B30: Միջոցառման դասիչը՝ | C30: 32002 | D30: Տարի
B31: Միջոցառման անվանումը` | C31: Մանկապարտեզների շենքերի վերակառուցում, հիմնանորոգում
B32: Նկարագրությունը` | C32: Նախադպրոցական կրթության հասանելիության ապահովման նպատակով՛ մանկապարտեզների շենքերի (մասնաշենքերի), վերակառուցում, հիմնանորոգում և նախագծում
B33: Միջոցառման տեսակը` | C33: Այլ պետական կազմակերպությունների կողմից օգտագործվող ոչ ֆինանսական ակտիվների հետ գործառնություններ
B34: Շահառուների ընտրության չափորոշիչները° | C34: Նախադպրոցական կրթությույն իրականացնող ուսումնական հաստատություններ
B35: Արդյունքի չափորոշիչներ
B36: Միջոցառման վրա կատարվող ծախսը (հազար դրամ) | D36: =+'Հավելված N 2'!G111 -> -41378.4
A44: Աղյուսակ 9․1.13
C45: ՀՀ կրթության, գիտության, մշակույթի և սպորտի նախարարություն
B46: ՄԱՍ 1. ՊԵՏԱԿԱՆ ՄԱՐՄՆԻ ԳԾՈՎ ԱՐԴՅՈՒՆՔԱՅԻՆ (ԿԱՏԱՐՈՂԱԿԱՆ) ՑՈՒՑԱՆԻՇՆԵՐԸ
B49: Ծրագրի դասիչը | C49: Ծրագրի անվանումը
B50: 1045 | C50: Նախնական (արհեստագործական) և միջին մասնագիտական կրթություն
B52: Ծրագրի միջոցառումները
B53: Ծրագրի դասիչը՝ | C53: 1045 | D53: Ցուցանիշների փոփոխությունը (ավելացումները նշված են դրական նշանով, իսկ նվազեցումները՝ փակագծերում)
B54: Միջոցառման դասիչը՝ | C54: 32001 | D54: Տարի
B55: Միջոցառման անվանումը` | C55: Նախնական մասնագիտական (արհեստագործական) և միջին մասնագիտական ուսումնական հաստատությունների շենքային պայմանների բարելավում
B56: Նկարագրությունը` | C56: ՆՄՄԿՈՒ հաստատությունների շենքերի հիմնանորոգման և նախագծման (շինարարական աշխատանքներ, ջեռուցման համակարգի ստեղծում, ներքին հարդարում, տարածքի բարեկարգում) աշխատանքների իրականացում
B57: Միջոցառման տեսակը` | C57: Այլ պետական կազմակերպությունների կողմից օգտագործվող ոչ ֆինանսական ակտիվների հետ գործառնություններ
B58: Ակտիվն օգտագործող կազմակերպությունների անվանումները | C58: Միջին մասնագիտական ուսումնական հաստատություններ
B59: Արդյունքի չափորոշիչներ
B60: Մասնակի նորոգվող նախնական (արհեստագործական) և միջին մասնագիտական ուսումնական հաստատությունների քանակ, հատ | D60: 1
B61: Միջոցառման վրա կատարվող ծախսը (հազար դրամ) | D61: =+'Հավելված N 2'!G189 -> -115386
B63: Ծրագրի դասիչը | C63: Ծրագրի անվանումը
B64: 1075 | C64: Մշակութային ժառանգության ծրագիր
B66: Ծրագրի միջոցառումները
B67: Ծրագրի դասիչը՝ | C67: 1075 | D67: Ցուցանիշների փոփոխությունը (ավելացումները նշված են դրական նշանով, իսկ նվազեցումները՝ փակագծերում)
B68: Միջոցառման դասիչը՝ | C68: 21001 | D68: Տարի
B69: Միջոցառման անվանումը` | C69: Հուշարձանների ամրակայում, նորոգում և վերականգնում
B70: Նկարագրությունը` | C70: Հուշարձանների գիտանախագծային փաստաթղթերի կազմում, հրատապ ուսումնասիրում, վավերագրման և ուսումնասիրման աշխատանքներ, հետախուզում և հնագիտական պեղում, ամրակայում, նորոգում և վերականգնում
B71: Միջոցառման տեսակը` | C71: Հանրության կողմից անմիջականորեն օգտագործվող ակտիվների հետ կապված միջոցառումներ
B72: Ակտիվն օգտագործող կազմակերպությունների անվանումները | C72: Մասնագիտացված կազմակերպություն
B73: Արդյունքի չափորոշիչներ
B74: Հուշարձանների նախագծման, փորձաքննության աշխատանքներ, քանակ | D74: 1
B75: Միջոցառման վրա կատարվող ծախսը (հազար դրամ) | D75: =+'Հավելված N 2'!G77 -> -132019.2
B77: Ծրագրի միջոցառումները
B78: Ծրագրի դասիչը՝ | C78: 1075 | D78: Ցուցանիշների փոփոխությունը (ավելացումները նշված են դրական նշանով, իսկ նվազեցումները՝ փակագծերում)
B79: Միջոցառման դասիչը՝ | C79: 32001 | D79: Տարի
B80: Միջոցառման անվանումը` | C80: Ներդրումներ թանգարանների և պատկերասրահների հիմնանորոգման համար
B81: Նկարագրությունը` | C81: Թանգարանների և պատկերասրահների շենքերի, մասնաշենքերի հիմնանորոգում, համաշինարարական աշխատանքներ, ջեռուցման համակարգի իրականացում, ներքին հարդարում, տարածքի բարեկարգում և նախագծում
B82: Միջոցառման տեսակը` | C82: Այլ պետական կազմակերպությունների կողմից օգտագործվող ոչ ֆինանսական ակտիվների հետ գործառնություններ
B83: Ակտիվն օգտագործող կազմակերպությունների անվանումները | C83: Թանգարաններ և պատկերասրահներ
B84: Արդյունքի չափորոշիչներ
B85: Հիմնանորոգվող թանգարաններ և պատկերասրահներ քանակ, հատ | D85: -1
B86: Մասնակի նորոգվող թանգարաններ և պատկերասրահներ քանակ, հատ | D86: 1
B87: Միջոցառման վրա կատարվող ծախսը (հազար դրամ) | D87: =+'Հավելված N 2'!G28 -> -159184.5
B89: Ծրագրի դասիչը | C89: Ծրագրի անվանումը
B90: 1148 | C90: Արտադպրոցական դաստիարակության ծրագիր
B92: Ծրագրի միջոցառումները
B93: Ծրագրի դասիչը՝ | C93: 1148 | D93: Ցուցանիշների փոփոխությունը (ավելացումները նշված են դրական նշանով)
B94: Միջոցառման դասիչը՝ | C94: 32005 | D94: Տարի
B95: Միջոցառման անվանումը` | C95: Արտադպրոցական դաստիարակություն իրականացնող կազմակերպությունների շենքային պայմանների բարելավում
B96: Նկարագրությունը` | C96: Կառույցների տեխնիկական կարողությունների և աշխատանքային միջավայրի բարելավում
B97: Միջոցառման տեսակը` | C97: Այլ պետական կազմակերպությունների կողմից օգտագործվող ոչ ֆինանսական ակտիվների հետ գործառնություններ
B98: Ակտիվն օգտագործող կազմակերպության անվանումը | C98: Արտադպրոցական դաստիարակություն իրականացնող կազմակերպություններ
B99: Արդյունքի չափորոշիչներ
B100: Միջոցառման վրա կատարվող ծախսը (հազար դրամ) | D100: =+'Հավելված N 2'!G172 -> 4100.8
B102: Ծրագրի դասիչը | C102: Ծրագրի անվանումը
B103: 1168 | C103: Արվեստների ծրագիր
B105: Ծրագրի միջոցառումները
B106: Ծրագրի դասիչը՝ | C106: 1168 | D106: Ցուցանիշների փոփոխությունը (ավելացումները նշված են դրական նշանով, իսկ նվազեցումները՝ փակագծերում)
B107: Միջոցառման դասիչը՝ | C107: 32001 | D107: Տարի
B108: Միջոցառման անվանումը` | C108: Ներդրումներ թատրոնների և համերգային կազմակերպությունների շենքերի կապիտալ վերանորոգման համար
B109: Նկարագրությունը` | C109: Թատրոնների և համերգային կազմակերպությունների շենքերի մասնաշենքերի հիմնանորոգում, համաշինարարական աշխատանքներ, ջեռուցման համակարգի իրականացում, ներքին հարդարում, տարածքի բարեկարգում և նախագծում
B110: Միջոցառման տեսակը` | C110: Այլ պետական կազմակերպությունների կողմից օգտագործվող ոչ ֆինանսական ակտիվների հետ գործառնություններ
B111: Ակտիվն օգտագործող կազմակերպությունների անվանումները | C111: Թատրոններ և համերգային կազմակերպություններ
B112: Արդյունքի չափորոշիչներ
B113: 'Հիմնանորոգվող համերգային կազմակերպությունների քանակ, հատ | D113: -1
B114: Մասնակի նորոգվող համերգային կազմակերպությունների քանակ, հատ | D114: 1
B115: Միջոցառման վրա կատարվող ծախսը (հազար դրամ) | D115: =+'Հավելված N 2'!G49 -> -82696.2
B117: Ծրագրի միջոցառումները
B118: Ծրագրի դասիչը՝ | C118: 1168 | D118: Ցուցանիշների փոփոխությունը (նվազեցումները նշված են փակագծերում)
B119: Միջոցառման դասիչը՝ | C119: 32008 | D119: Տարի
B120: Միջոցառման անվանումը` | C120: Երաժշտական գործիքների ձեռքբերում
B121: Նկարագրությունը` | C121: Թատերահամերգային կազմակերպությունների երաժշտական գործիքներով ապահովում
B122: Միջոցառման տեսակը` | C122: Այլ պետական կազմակերպությունների կողմից օգտագործվող ոչ ֆինանսական ակտիվների հետ գործառնություններ
B123: Ակտիվն օգտագործող կազմակերպությունների անվանումները | C123: Թատրոններ և համերգային կազմակերպություններ
B124: Արդյունքի չափորոշիչներ
B125: Միջոցառման վրա կատարվող ծախսը (հազար դրամ) | D125: =+'Հավելված N 2'!G62 -> -45250
B127: Ծրագրի դասիչը | C127: Ծրագրի անվանումը
...

Sheet Հավելված N 10
H1: Հավելված N 10
H2: ՀՀ կառավարության 2024 թվականի
H3: ______________ ի ___Ն որոշման
A6: ՀԱՅԱՍՏԱՆԻ ՀԱՆՐԱՊԵՏՈՒԹՅԱՆ ԿԱՌԱՎԱՐՈՒԹՅԱՆ 2023 ԹՎԱԿԱՆԻ ԴԵԿՏԵՄԲԵՐԻ 28-Ի N 2323-Ն N 10 ՀԱՎԵԼՎԱԾՈՒՄ ԿԱՏԱՐՎՈՂ ՓՈՓՈԽՈՒԹՅՈՒՆՆԵՐԸ ԵՎ ԼՐԱՑՈՒՄՆԵՐԸ
A10: Կոդը | B10: Անվանումը | E10: Գնման ձևը | F10: Չափման միավորը | G10: Միավորի գինը | H10: Ցուցանիշների փոփոխությունը (ավելացումները նշված են դրական նշանով, իսկ նվազեցումները՝ փակագծերում)
H11: Քանակը | I11: Գումարը (հազար դրամ)
A12: 1 | B12: 2 | E12: 3 | F12: 4 | G12: 5 | H12: 6 | I12: 7
A13: ՀՀ կրթության, գիտության, մշակույթի և սպորտի նախարարություն | I13: =+I14+I21+I38+I77+I86+I90 -> -654656.5
A14: Բաժին N 08 | B14: Խումբ N 02 | C14: Դաս N 02 | D14: Թանգարաններ և ցուցասրահներ | I14: =+I15 -> -205072.8
A15: 1075-32001 | B15: Ներդրումներ թանգարանների և պատկերասրահների հիմնանորոգման համար | I15: =+I16+I18 -> -205072.8
B16: ՄԱՍ II. ԱՇԽԱՏԱՆՔՆԵՐ | I16: =+I17 -> -203504.3
A17: 45611200-1 | B17: մշակութային օբյեկտների հիմնանորոգում | E17: ԲՄ | F17: դրամ | G17: 203504300 | H17: -1 | I17: =ROUNDDOWN(H17*G17/1000,1) -> -203504.3
B18: ՄԱՍ III. ԾԱՌԱՅՈՒԹՅՈՒՆՆԵՐ | I18: =SUM(I19:I20) -> -1568.5
A19: 71351540-1 | B19: տեխնիկական հսկողության ծառայություններ | E19: ԳՀ | F19: դրամ | G19: 321800 | H19: -1 | I19: =ROUNDDOWN(H19*G19/1000,1) -> -321.8
A20: 98111140-1 | B20: հեղինակային հսկողության ծառայություններ | E20: ՄԱ | F20: դրամ | G20: 1246700 | H20: -1 | I20: =ROUNDDOWN(H20*G20/1000,1) -> -1246.7
A21: Բաժին N 08 | B21: Խումբ N 02 | C21: Դաս N 05 | D21: Արվեստ | I21: =+I22+I28 -> -137993.6
A22: 1168-32001 | B22: Ներդրումներ թատրոնների և համերգային կազմակերպությունների շենքերի կապիտալ վերանորոգման համար | I22: =+I23+I25 -> -92743.6
B23: ՄԱՍ II. ԱՇԽԱՏԱՆՔՆԵՐ | I23: =+I24 -> -90393.4
A24: 45611200-1 | B24: մշակութային օբյեկտների հիմնանորոգում | E24: ԲՄ | F24: դրամ | G24: 90393400 | H24: -1 | I24: =ROUNDDOWN(H24*G24/1000,1) -> -90393.4
B25: ՄԱՍ III. ԾԱՌԱՅՈՒԹՅՈՒՆՆԵՐ | I25: =SUM(I26:I27) -> -2350.2
A26: 71351540-1 | B26: տեխնիկական հսկողության ծառայություններ | E26: ԳՀ | F26: դրամ | G26: 1807900 | H26: -1 | I26: =ROUNDDOWN(H26*G26/1000,1) -> -1807.9
A27: 98111140-1 | B27: հեղինակային հսկողության ծառայություններ | E27: ՄԱ | F27: դրամ | G27: 542300 | H27: -1 | I27: =ROUNDDOWN(H27*G27/1000,1) -> -542.3
A28: 1168-32008 | B28: Երաժշտական գործիքների ձեռքբերում | I28: =+I29 -> -45250
B29: ՄԱՍ I. ԱՊՐԱՆՔՆԵՐ | I29: =SUM(I30:I37) -> -45250
A30: 37311180-2 | B30: սաքսոֆոններ | E30: ԳՀ | F30: հատ | G30: 3560000 | H30: -1 | I30: =ROUNDDOWN(H30*G30/1000,1) -> -3560
A31: 37311180-1 | B31: սաքսոֆոններ | E31: ԳՀ | F31: հատ | G31: 1200000 | H31: -1 | I31: =ROUNDDOWN(H31*G31/1000,1) -> -1200
A32: 37311580-11 | B32: այլ երաժշտական գործիքներ | E32: ԲՄ | F32: հատ | G32: 35145000 | H32: -1 | I32: =ROUNDDOWN(H32*G32/1000,1) -> -35145
A33: 37311140-2 | B33: ստեղնաշարային այլ գործիքներ | E33: ԳՀ | F33: հատ | G33: 161000 | H33: -1 | I33: =ROUNDDOWN(H33*G33/1000,1) -> -161
A34: 37311160-3 | B34: տրոմբոններ | E34: ԳՀ | F34: հատ | G34: 517000 | H34: -2 | I34: =ROUNDDOWN(H34*G34/1000,1) -> -1034
A35: 37311200-2 | B35: շեփորներ | E35: ԳՀ | F35: հատ | G35: 1310000 | H35: -2 | I35: =ROUNDDOWN(H35*G35/1000,1) -> -2620
A36: 37321100-3 | B36: երաժշտական գործիքների պարագաներ | E36: ԳՀ | F36: հատ | G36: 180000 | H36: -1 | I36: =ROUNDDOWN(H36*G36/1000,1) -> -180
A37: 37311180-7 | B37: սաքսոֆոններ | E37: ԳՀ | F37: հատ | G37: 1350000 | H37: -1 | I37: =ROUNDDOWN(H37*G37/1000,1) -> -1350
A38: Բաժին N 08 | B38: Խումբ N 02 | C38: Դաս N 07 | D38: Հուշարձանների և մշակութային արժեքների վերականգնում և պահպանում | I38: =+I39 -> -132019.2
A39: 1075-21001 | B39: Հուշարձանների ամրակայում, նորոգում և վերականգնում | I39: =+I40+I53 -> -132019.2
B40: ՄԱՍ II. ԱՇԽԱՏԱՆՔՆԵՐ | I40: =SUM(I41:I52) -> -131087.5
A41: 45451600-1 | B41: վերականգնողական աշխատանքներ | E41: ԲՄ | F41: դրամ | I41: -9272.1
A42: 45451600-2 | B42: վերականգնողական աշխատանքներ | E42: ԲՄ | F42: դրամ | I42: =-38169.3-21.6-516.9 -> -38707.8
A43: 45451600-7 | B43: վերականգնողական աշխատանքներ | E43: ԲՄ | F43: դրամ | I43: =-3731.7-11444.6 -> -15176.3
A44: 45451600-11 | B44: վերականգնողական աշխատանքներ | E44: ԲՄ | F44: դրամ | G44: 33804132 | H44: -1 | I44: =ROUNDDOWN(H44*G44/1000,1) -> -33804.1
A45: 45451600-12 | B45: վերականգնողական աշխատանքներ | E45: ԲՄ | F45: դրամ | G45: 32363728 | H45: -1 | I45: =ROUNDDOWN(H45*G45/1000,1) -> -32363.7
A46: 45451600-13 | B46: վերականգնողական աշխատանքներ | E46: ԲՄ | F46: դրամ | I46: 35375.8
A47: 45451600-16 | B47: վերականգնողական աշխատանքներ | E47: ՀԲՄ | F47: դրամ | I47: =-257.7-16809.3 -> -17067
A48: 45451600-17 | B48: վերականգնողական աշխատանքներ | E48: ԲՄ | F48: դրամ | I48: =33192-1414 -> 31778
A49: 45451600-18 | B49: վերականգնողական աշխատանքներ | E49: ԲՄ | F49: դրամ | I49: 2304.8
A50: 45451600-20 | B50: վերականգնողական աշխատանքներ | E50: ԳՀ | F50: դրամ | I50: =-10688.8-32289.5+30 -> -42948.3
A51: 45451600-22 | B51: վերականգնողական աշխատանքներ | E51: ԲՄ | F51: դրամ | I51: =-162.6-82 -> -244.6
A52: 45451600-23 | B52: վերականգնողական աշխատանքներ | E52: ԲՄ | F52: դրամ | G52: 10962272 | H52: -1 | I52: =ROUNDDOWN(H52*G52/1000,1) -> -10962.2
B53: ՄԱՍ III. ԾԱՌԱՅՈՒԹՅՈՒՆՆԵՐ | I53: =SUM(I54:I76) -> -931.7
A54: 71351540-1 | B54: տեխնիկական հսկողության ծառայություններ | E54: ԳՀ | F54: դրամ | I54: -29.3
A55: 71351540-2 | B55: տեխնիկական հսկողության ծառայություններ | E55: ԳՀ | F55: դրամ | G55: 937350 | H55: -1 | I55: =ROUNDDOWN(H55*G55/1000,1) -> -937.3
A56: 71351540-3 | B56: տեխնիկական հսկողության ծառայություններ | E56: ԳՀ | F56: դրամ | I56: =-263.7-120 -> -383.7
A57: 71351540-7 | B57: տեխնիկական հսկողության ծառայություններ | E57: ԳՀ | F57: դրամ | I57: =-320.4-27.7 -> -348.1
A58: 71351540-12 | B58: տեխնիկական հսկողության ծառայություններ | E58: ԳՀ | F58: դրամ | G58: 92890 | H58: -1 | I58: =ROUND(H58*G58/1000,1) -> -92.9
A59: 71351540-12 | B59: տեխնիկական հսկողության ծառայություններ | E59: ԳՀ | F59: դրամ | I59: -232.1
A60: 71351540-13 | B60: տեխնիկական հսկողության ծառայություններ | E60: ԳՀ | F60: դրամ | I60: =-233.2-78.9 -> -312.1
A61: 71351540-14 | B61: տեխնիկական հսկողության ծառայություններ | E61: ԳՀ | F61: դրամ | I61: 1628.3
A62: 71351540-15 | B62: տեխնիկական հսկողության ծառայություններ | E62: ԳՀ | F62: դրամ | I62: -35.8
A63: 71351540-17 | B63: տեխնիկական հսկողության ծառայություններ | E63: ԳՀ | F63: դրամ | I63: =-65.8-542 -> -607.8
A64: 71351540-531 | B64: տեխնիկական հսկողության ծառայություններ | E64: ԳՀ | F64: դրամ | I64: -48.5
A65: 98111140-1 | B65: հեղինակային հսկողության ծառայություններ | E65: ՄԱ | F65: դրամ | I65: 175.9
A66: 98111140-4 | B66: հեղինակային հսկողության ծառայություններ | E66: ՄԱ | F66: դրամ | I66: =-116.1-350 -> -466.1
A67: 98111140-9 | B67: հեղինակային հսկողության ծառայություններ | E67: ՄԱ | F67: դրամ | I67: =-91.3 -> -91.3
A68: 98111140-14 | B68: հեղինակային հսկողության ծառայություններ | E68: ՄԱ | F68: դրամ | I68: -169.8
A69: 98111140-15 | B69: հեղինակային հսկողության ծառայություններ | E69: ՄԱ | F69: դրամ | G69: 324900 | H69: -1 | I69: =+ROUNDDOWN(H69*G69/1000,1) -> -324.9
A70: 98111140-16 | B70: հեղինակային հսկողության ծառայություններ | E70: ՄԱ | F70: դրամ | I70: 292.7
A71: 98111140-17 | B71: հեղինակային հսկողության ծառայություններ | E71: ԳՀ | F71: դրամ | I71: -39
A72: 98111140-18 | B72: հեղինակային հսկողության ծառայություններ | E72: ՄԱ | F72: դրամ | I72: =-2.7-463 -> -465.7
A73: 98111140-19 | B73: հեղինակային հսկողության ծառայություններ | E73: ՄԱ | F73: դրամ | G73: 150000 | H73: -1 | I73: =+ROUNDDOWN(H73*G73/1000,1) -> -150
A74: 98111140-20 | B74: հեղինակային հսկողության ծառայություններ | E74: ՄԱ | F74: դրամ | I74: -174.2
A75: 71241200-528 | B75: նախագծերի պատրաստում, ծախսերի գնահատում | E75: ԳՀ | F75: դրամ | G75: 1700000 | H75: 1 | I75: =+ROUNDDOWN(H75*G75/1000,1) -> 1700
A76: 50531140 | B76: փորձաքննության ծառայություններ | E76: ԳՀ | F76: դրամ | G76: 180000 | H76: 1 | I76: =+ROUNDDOWN(H76*G76/1000,1) -> 180
A77: Բաժին N 09 | B77: Խումբ N 02 | C77: Դաս N 01 | D77: Հիմնական ընդհանուր կրթություն | I77: =+I78 -> -42047.7
A78: 1236-32006 | B78: Հանրակրթական դպրոցների, մանկապարտեզների և կրթահամալիրների գույքով և տեխնիկայով ապահովում | I78: =+I79 -> -42047.7
B79: ՄԱՍ I. ԱՊՐԱՆՔՆԵՐ | I79: =SUM(I80:I85) -> -42047.7
A80: 39161110-8 | B80: դպրոցական կահույք | E80: ԳՀ | F80: լրակազմ | I80: -10944.4
A81: 39161110-9 | B81: դպրոցական կահույք | E81: ԳՀ | F81: լրակազմ | I81: -16601.3
A82: 39121600-13 | B82: խոհանոցային կահույք | E82: ԳՀ | F82: լրակազմ | I82: -384.8
A83: 39121600-1 | B83: խոհանոցային կահույք | E83: ԳՀ | F83: լրակազմ | I83: -1040
A84: 39121600-8 | B84: խոհանոցային կահույք | E84: ԳՀ | F84: լրակազմ | I84: -811.2
A85: 39161110-10 | B85: դպրոցական կահույք | E85: ԳՀ | F85: լրակազմ | I85: -12266
A86: Բաժին N 09 | B86: Խումբ N 05 | C86: Դաս N 01 | D86: Արտադպրոցական դաստիարակություն | I86: =+I87 -> 4100.8
A87: 1148-32005 | B87: Արտադպրոցական դաստիարակություն իրականացնող կազմակերպությունների շենքային պայմանների բարելավում | I87: =+I88 -> 4100.8
B88: ՄԱՍ III. ԾԱՌԱՅՈՒԹՅՈՒՆՆԵՐ | I88: =+I89 -> 4100.8
A89: 71241200-536 | B89: նախագծերի պատրաստում, ծախսերի գնահատում | E89: ԳՀ | F89: դրամ | G89: 4100796 | H89: 1 | I89: =+ROUND(H89*G89/1000,1) -> 4100.8
A90: Բաժին N 09 | B90: Խումբ N 06 | C90: Դաս N 01 | D90: Կրթությանը տրամադրվող օժանդակ ծառայություններ | I90: =+I91+I110 -> -141624
A91: 1045-32001 | B91: Նախնական մասնագիտական (արհեստագործական) և միջին մասնագիտական ուսումնական հաստատությունների շենքային պայմանների բարելավում | I91: =+I92+I96 -> -125464.2
B92: ՄԱՍ II. ԱՇԽԱՏԱՆՔՆԵՐ | I92: =SUM(I93:I95) -> -97646.5
A93: 45611100-1 | B93: կրթական օբյեկտների հիմնանորոգում | E93: ԲՄ | F93: դրամ | I93: -191216.8
A94: 45611100-523 | B94: կրթական օբյեկտների հիմնանորոգում | E94: ԲՄ | F94: դրամ | I94: =93758.8+12227.7 -> 105986.5
A95: 45231129-3 | B95: ջեռուցման հետ կապված աշխատանքներ | E95: ԳՀ | F95: դրամ | I95: =-6086-6330.2 -> -12416.2
B96: ՄԱՍ III. ԾԱՌԱՅՈՒԹՅՈՒՆՆԵՐ | I96: =SUM(I97:I109) -> -27817.7
A97: 71351540-1 | B97: տեխնիկական հսկողության ծառայություններ | E97: ԳՀ | F97: դրամ | I97: -2679.5
A98: 71351540-2 | B98: տեխնիկական հսկողության ծառայություններ | E98: ԳՀ | F98: դրամ | G98: 2292900 | H98: -1 | I98: =+ROUND(G98*H98/1000,1) -> -2292.9
A99: 71351540-3 | B99: տեխնիկական հսկողության ծառայություններ | E99: ԳՀ | F99: դրամ | I99: =-545.6-68.5 -> -614.1
A100: 71351540-528 | B100: տեխնիկական հսկողության ծառայություններ | E100: ԳՀ | F100: դրամ | I100: 604.8
A101: 98111140-1 | B101: հեղինակային հսկողության ծառայություններ | E101: ՄԱ | F101: դրամ | I101: -998.4
A102: 98111140-2 | B102: հեղինակային հսկողության ծառայություններ | E102: ՄԱ | F102: դրամ | I102: 592.8
A103: 98111140-3 | B103: հեղինակային հսկողության ծառայություններ | E103: ՄԱ | F103: դրամ | I103: =-7.7-58.7 -> -66.4
A104: 71241200-1 | B104: նախագծերի պատրաստում, ծախսերի գնահատում | E104: ԳՀ | F104: դրամ | G104: 6782500 | H104: -1 | I104: =+ROUND(G104*H104/1000,1) -> -6782.5
A105: 71241200-2 | B105: նախագծերի պատրաստում, ծախսերի գնահատում | E105: ԳՀ | F105: դրամ | I105: -11882.6
...

Sheet Հավելված N 11
F1: Հավելված N 11
G2: ՀՀ կառավարության 2024 թվականի
G3: ______________ ի ___Ն որոշման
A6: ՀԱՅԱՍՏԱՆԻ ՀԱՆՐԱՊԵՏՈՒԹՅԱՆ 2024 ԹՎԱԿԱՆԻ ՊԵՏԱԿԱՆ ԲՅՈՒՋԵՈՎ ՆԱԽԱՏԵՍՎԱԾ՝ ՀԱՅԱՍՏԱՆԻ ՀԱՆՐԱՊԵՏՈՒԹՅԱՆ ԿԱՌԱՎԱՐՈՒԹՅԱՆ ՊԱՀՈՒՍՏԱՅԻՆ ՖՈՆԴԻՑ ՀԱՏԿԱՑՈՒՄՆԵՐ ԿԱՏԱՐԵԼՈՒ ՎԵՐԱԲԵՐՅԱԼ
A9: Գործառական դասիչը | D9: Ծրագրային դասիչը | F9: Բյուջետային հատկացումների գլխավոր կարգադրիչների, ծրագրերի, միջոցառումների և միջոցառումները կատարող պետական մարմինների անվանումները | G9: Ցուցանիշների փոփոխությունը (ավելացումները նշված են դրական նշանով, իսկ նվազեցումները՝ փակագծերում)
A10: Բաժին | B10: Խումբ | C10: Դաս | D10: Ծրագիր | E10: Միջոցառում | G10: Տարի
F11: ԸՆԴԱՄԵՆԸ | G11: =+G13+G33 -> 0
F12: այդ թվում
F13: ՀՀ ԿԱՌԱՎԱՐՈՒԹՅՈՒՆ | G13: =+G14 -> -4100.8
A14: 11 | F14: ՀԻՄՆԱԿԱՆ ԲԱԺԻՆՆԵՐԻՆ ՉԴԱՍՎՈՂ ՊԱՀՈՒՍՏԱՅԻՆ ՖՈՆԴԵՐ | G14: =+G16 -> -4100.8
F15: այդ թվում`
B16: 01 | F16: ՀՀ կառավարության և համայնքների պահուստային ֆոնդ | G16: =+G18 -> -4100.8
F17: այդ թվում`
C18: 01 | F18: ՀՀ կառավարության պահուստային ֆոնդ | G18: =+G20 -> -4100.8
F19: այդ թվում`
F20: ՀՀ կառավարություն | G20: =+G22 -> -4100.8
F21: այդ թվում`
D22: 1139 | E22: ՀՀ կառավարության պահուստային ֆոնդ | F22: ՀՀ կառավարության պահուստային ֆոնդ | G22: =+G24 -> -4100.8
F23: այդ թվում`
E24: 11001 | F24: ՀՀ կառավարության պահուստային ֆոնդ | G24: =+G26 -> -4100.8
F25: այդ թվում` ըստ կատարողների
F26: ՀՀ կառավարություն | G26: =+G28 -> -4100.8
F27: այդ թվում՝ բյուջետային ծախսերի տնտեսագիտական դասակարգման հոդվածներ
F28: ԸՆԴԱՄԵՆԸ ԾԱԽՍԵՐ | G28: =+G29 -> -4100.8
F29: ԸՆԹԱՑԻԿ ԾԱԽՍԵՐ | G29: =+G30 -> -4100.8
F30: ԱՅԼ ԾԱԽՍԵՐ | G30: =+G31 -> -4100.8
F31: Պահուստային միջոցներ | G31: =+'Հավելված N 2'!G260 -> -4100.8
F33: ՀՀ ԿՐԹՈՒԹՅԱՆ, ԳԻՏՈՒԹՅԱՆ, ՄՇԱԿՈՒՅԹԻ ԵՎ ՍՊՈՐՏԻ ՆԱԽԱՐԱՐՈՒԹՅՈՒՆ | G33: =+G34 -> 4100.8
A34: 09 | F34: ԿՐԹՈՒԹՅՈՒՆ | G34: =+G36 -> 4100.8
F35: այդ թվում`
B36: 05 | F36: Ըստ մակարդակների չդասակարգվող կրթություն | G36: =+G38 -> 4100.8
F37: այդ թվում`
C38: 01 | F38: Արտադպրոցական դաստիարակություն | G38: =+G40 -> 4100.8
F39: այդ թվում`
F40: ՀՀ կրթության, գիտության, մշակույթի և սպորտի նախարարություն | G40: =+G42 -> 4100.8
F41: այդ թվում`
D42: 1148 | E42: Արտադպրոցական դաստիարակության ծրագիր | G42: =+G44 -> 4100.8
F43: այդ թվում`
E44: 32005 | F44: Արտադպրոցական դաստիարակություն իրականացնող կազմակերպությունների շենքային պայմանների բարելավում | G44: =+G46 -> 4100.8
F45: այդ թվում` ըստ կատարողների
F46: ՀՀ կրթության, գիտության, մշակույթի և սպորտի նախարարություն | G46: =+G48 -> 4100.8
F47: այդ թվում՝ բյուջետային ծախսերի տնտեսագիտական դասակարգման հոդվածներ
F48: ԸՆԴԱՄԵՆԸ ԾԱԽՍԵՐ | G48: =+G49 -> 4100.8
F49: ՈՉ ՖԻՆԱՆՍԱԿԱՆ ԱԿՏԻՎՆԵՐԻ ԳԾՈՎ ԾԱԽՍԵՐ | G49: =+G50 -> 4100.8
F50: ՀԻՄՆԱԿԱՆ ՄԻՋՈՑՆԵՐ | G50: =+G51 -> 4100.8
F51: ԱՅԼ ՀԻՄՆԱԿԱՆ ՄԻՋՈՑՆԵՐ | G51: =+G52 -> 4100.8
F52: - Նախագծահետազոտական ծախսեր | G52: =+'Հավելված N 2'!G178 -> 4100.8
