Workbook
Name _tab10: #REF!
Name _tab11: #REF!
Name _tab12: #REF!
Name _tab13: #REF!
Name _tab14: #REF!
Name _tab15: #REF!
Name _tab16: #REF!
Name _tab17: #REF!
Name _tab18: #REF!
Name _tab19: #REF!
Name _tab20: #REF!
Name _tab21: #REF!
Name _tab22: #REF!
Name _tab23: #REF!
Name _tab24: #REF!
Name _tab5: #REF!
Name _tab6: #REF!
Name _tab7: #REF!
Name _tab8: #REF!
Name _tab9: #REF!
Name AgencyCode: #REF!
Name AgencyCode: #REF!
Name AgencyName: #REF!
Name AgencyName: #REF!
Name åû: #REF!
Name åû: #REF!
Name davit: #REF!
Name davit: #REF!
Name Functional1: #REF!
Name Functional1: #REF!
Name ggg: #REF!
Name ggg: #REF!
Name hav: #REF!
Name havelvac: #REF!
Name mas: #REF!
Name mas: #REF!
Name mass: #REF!
Name mass: #REF!
Name PANature: #REF!
Name PANature: #REF!
Name par_count: #REF!,#REF!,#REF!,#REF!,#REF!,#REF!,#REF!,#REF!,#REF!,#REF!,#REF!,#REF!,#REF!,#REF!,#REF!
Name par_qual: #REF!,#REF!,#REF!,#REF!,#REF!
Name par_time: #REF!,#REF!,#REF!,#REF!
Name par2.12s: #REF!
Name par2.4s: #REF!,#REF!,#REF!,#REF!,#REF!,#REF!,#REF!,#REF!,#REF!,#REF!,#REF!,#REF!,#REF!,#REF!,#REF!,#REF!
Name par2.5s: #REF!,#REF!
Name par2.6s: #REF!,#REF!,#REF!,#REF!
Name par2.7s: #REF!,#REF!
Name par2.9s: #REF!,#REF!,#REF!,#REF!,#REF!,#REF!,#REF!,#REF!,#REF!,#REF!,#REF!,#REF!,#REF!,#REF!,#REF!,#REF!
Name par4.10s: #REF!,#REF!
Name par4.11d: #REF!,#REF!,#REF!,#REF!,#REF!
Name par4.12d: #REF!
Name par4.13s: #REF!
Name par4.14: #REF!,#REF!,#REF!,#REF!,#REF!,#REF!
Name par4.15: #REF!,#REF!,#REF!
Name par4.16: #REF!,#REF!,#REF!
Name par4.17: #REF!,#REF!,#REF!,#REF!
Name par4.18d: #REF!,#REF!
Name par4.19s: #REF!
Name par4.20f: #REF!

Sheet h1
C1: Հավելված N 1
C2: ՀՀ կառավարության 2024 թվականի
C3: ______________ ի ___Ն որոշման
B5: «ՀԱՅԱUՏԱՆԻ ՀԱՆՐԱՊԵՏՈՒԹՅԱՆ 2024 ԹՎԱԿԱՆԻ ՊԵՏԱԿԱՆ ԲՅՈՒՋԵԻ ՄԱUԻՆ» OՐԵՆՔԻ N 1 ՀԱՎԵԼՎԱԾԻ N 2 ԱՂՅՈՒՍԱԿՈՒՄ ԿԱՏԱՐՎՈՂ ՎԵՐԱԲԱՇԽՈՒՄԸ ԵՎ ՀԱՅԱՍՏԱՆԻ ՀԱՆՐԱՊԵՏՈՒԹՅԱՆ ԿԱՌԱՎԱՐՈՒԹՅԱՆ 2023 ԹՎԱԿԱՆԻ ԴԵԿՏԵՄԲԵՐԻ 28-Ի N 2323-Ն ՈՐՈՇՄԱՆ N 5 ՀԱՎԵԼՎԱԾԻ N 1 ԱՂՅՈՒՍԱԿՈՒՄ ԿԱՏԱՐՎՈՂ ՓՈՓՈԽՈՒԹՅՈՒՆՆԵՐԸ
E7: (հազ. դրամ)
B8: Ծրագրային դասիչը | D8: Բյուջետային հատկացումների գլխավոր կարգադրիչների, ծրագրերի և միջոցառումների անվանումները | E8: Ցուցանիշների փոփոխությունը (ավելացումները նշված են դրական նշանով, նվազեցումները՝ փակագծերում)
B9: Ծրագիր | C9: Միջոցառում | E9: Տարի
D10: ԸՆԴԱՄԵՆԸ | E10: =E12+E32+E102+E116+E130 -> 0
D11: այդ թվում՝
D12: ՀՀ վարչապետի աշխատակազմ | E12: =E13 -> -185272.9
B13: 1018 | D13: Ծրագրի անվանումը` | E13: =E20+E26 -> -185272.9
D14: Պետական հատվածի արդիականացման ծրագիր
D15: Ծրագրի նպատակը`
D16: Ընտրված էլեկտրոնային կառավարման կատարելագործված ծառայությունների հասանելիության բարելավում
D17: Վերջնական արդյունքի նկարագրությունը`
D18: Ծառայությունների մատուցման էլեկտրոնային կառավարման լուծումների իրագործում, հանրային հատվածի արդիականացման և կառավարման բարեփոխումների ընդգրկուն ընթացքի ապահովում:
D19: Ծրագրի միջոցառումներ
C20: 11004 | D20: Միջոցառման անվանումը` | E20: ='h2'!H23 -> -30750.4
D21: Համաշխարհային բանկի աջակցությամբ իրականացվող Պետական հատվածի արդիականացման չորրորդ ծրագրի շրջանակներում խորհրդատվական ծառայությունների ձեռքբերում
D22: Միջոցառման նկարագրությունը`
D23: ՀՀ հանրային հատվածի բարեփոխումների մշակման և իրականացման խորհրդատվական ծառայությունների ձեռքբերում
D24: Միջոցառման տեսակը
D25: Ծառայությունների մատուցում
C26: 32003 | D26: Միջոցառման անվանումը` | E26: ='h2'!H31 -> -154522.5
D27: Համաշխարհային բանկի աջակցությամբ իրականացվող Պետական հատվածի արդիականացման չորրորդ ծրագրի շրջանակներում էլեկտրոնային կառավարման համակարգերի և սարքավորումների ձեռքբերում
D28: Միջոցառման նկարագրությունը`
D29: Համաշխարհային բանկի աջակցությամբ իրականացվող Պետական հատվածի արդիականացման չորրորդ ծրագրի շրջանակներում էլեկտրոնային կառավարման համակարգերի և սարքավորումների ձեռքբերում
D30: Միջոցառման տեսակը
D31: Այլ պետական կազմակերպությունների կողմից օգտագործվող ոչ ֆինանսական ակտիվների հետ գործառնություններ
D32: ՀՀ տարածքային կառավարման և ենթակառուցվածքների նախարարություն | E32: =+E33+E52+E83 -> -852588.3
B33: 1004 | D33: Ծրագրի անվանումը` | E33: =+E40+E46 -> -242250
D34: Ոռոգման համակարգի առողջացում
D35: Ծրագրի նպատակը`
D36: Ոռոգման ծառայությունների հասանելիության և մատչելիության ապահովում
D37: Վերջնական արդյունքի նկարագրությունը`
D38: Ոռոգման ջրի մատակարարման արդյունավետության և հասանելիության բարելավում՝ կորուստների կրճատում
D39: Ծրագրի միջոցառումներ
C40: =+'h3'!C43 -> 31005 | D40: Միջոցառման անվանումը` | E40: =+'h3'!E43 -> -62370
D41: =+'h3'!D43 -> Եվրասիական զարգացման բանկի աջակցությամբ իրականացվող ոռոգման համակարգերի զարգացման ծրագրի շրջանակներում ջրային տնտեսության ենթակառուցվածքների հիմնանորոգում
D42: Միջոցառման նկարագրությունը`
...

Sheet h2
H1: Հավելված N 2
F2: ՀՀ կառավարության 2024 թվականի
F3: -----------------ի N -----------Ն որոշման
B5: ՀԱՅԱՍՏԱՆԻ ՀԱՆՐԱՊԵՏՈՒԹՅԱՆ ԿԱՌԱՎԱՐՈՒԹՅԱՆ 2023 ԹՎԱԿԱՆԻ ԴԵԿՏԵՄԲԵՐԻ 28-Ի N 2323-Ն ՈՐՈՇՄԱՆ NN 3 ԵՎ 4 ՀԱՎԵԼՎԱԾՆԵՐՈՒՄ ԿԱՏԱՐՎՈՂ ՓՈՓՈԽՈՒԹՅՈՒՆՆԵՐԸ
H6: (հազ. դրամ)
B7: Գործառական դասիչը | E7: Ծրագրային դասիչը | G7: Բյուջետային ծախսերի գործառական դասակարգման բաժինների, խմբերի և դասերի, բյուջետային ծրագրերի միջոցառումների, բյուջետային հատկացումների գլխավոր կարգադրիչների անվանումները | H7: Ցուցանիշների փոփոխությունը (ավելացումները նշված են դրական նշանով, նվազեցումները` փակագծերում)
B8: Բաժինը | C8: Խումբը | D8: Դասը | E8: Ծրագիր | F8: Միջոցառում | H8: Տարի
G9: ԸՆԴԱՄԵՆԸ | H9: =H11+H40+H139+H160+H183 -> 0
G10: այդ թվում՝
G11: ՀՀ վարչապետի աշխատակազմ | H11: =H13 -> -185272.9
G12: այդ թվում`
B13: 01 | G13: ԸՆԴՀԱՆՈՒՐ ԲՆՈՒՅԹԻ ՀԱՆՐԱՅԻՆ ԾԱՌԱՅՈՒԹՅՈՒՆՆԵՐ | H13: =H15 -> -185272.9
G14: այդ թվում`
C15: 06 | G15: Ընդհանուր բնույթի հանրային ծառայություններ (այլ դասերին չպատկանող) | H15: =H17 -> -185272.9
G16: այդ թվում`
D17: 01 | G17: Ընդհանուր բնույթի հանրային ծառայություններ (այլ դասերին չպատկանող) | H17: =H19 -> -185272.9
G18: այդ թվում`
G19: ՀՀ վարչապետի աշխատակազմ | H19: =H21 -> -185272.9
G20: այդ թվում`
E21: 1018 | G21: Պետական հատվածի արդիականացման ծրագիր | H21: =H23+H31 -> -185272.9
G22: այդ թվում`
F23: 11004 | G23: Համաշխարհային բանկի աջակցությամբ իրականացվող Պետական հատվածի արդիականացման չորրորդ ծրագրի շրջանակներում խորհրդատվական ծառայությունների ձեռքբերում | H23: =H25 -> -30750.4
G24: այդ թվում` ըստ կատարողների
G25: ՀՀ վարչապետի աշխատակազմ | H25: =H28 -> -30750.4
G26: այդ թվում` բյուջետային ծախսերի տնտեսագիտական դասակարգման հոդվածներ
G27: ԸՆԴԱՄԵՆԸ ԾԱԽՍԵՐ | H27: =H28 -> -30750.4
G28: ԸՆԹԱՑԻԿ ԾԱԽՍԵՐ | H28: =H29 -> -30750.4
G29: ԱՅԼ ԾԱԽՍԵՐ | H29: =H30 -> -30750.4
G30: Այլ ծախսեր | H30: ='h3'!E28 -> -30750.4
F31: 32003 | G31: Համաշխարհային բանկի աջակցությամբ իրականացվող Պետական հատվածի արդիականացման չորրորդ ծրագրի շրջանակներում էլեկտրոնային կառավարման համակարգերի և սարքավորումների ձեռքբերում | H31: =H33 -> -154522.5
G32: այդ թվում` ըստ կատարողների
G33: ՀՀ վարչապետի աշխատակազմ | H33: =H35 -> -154522.5
G34: այդ թվում` բյուջետային ծախսերի տնտեսագիտական դասակարգման հոդվածներ
G35: ԸՆԴԱՄԵՆԸ ԾԱԽՍԵՐ | H35: =H36 -> -154522.5
G36: ՈՉ ՖԻՆԱՆՍԱԿԱՆ ԱԿՏԻՎՆԵՐԻ ԳԾՈՎ ԾԱԽՍԵՐ | H36: =H37 -> -154522.5
G37: ՀԻՄՆԱԿԱՆ ՄԻՋՈՑՆԵՐ | H37: =H38 -> -154522.5
G38: ՄԵՔԵՆԱՆԵՐ ԵՎ ՍԱՐՔԱՎՈՐՈՒՄՆԵՐ | H38: =H39 -> -154522.5
G39: - Այլ մեքենաներ և սարքավորումներ | H39: ='h3'!E37 -> -154522.5
G40: ՀՀ ՏԱՐԱԾՔԱՅԻՆ ԿԱՌԱՎԱՐՄԱՆ ԵՎ ԵՆԹԱԿԱՌՈՒՑՎԱԾՔՆԵՐԻ ՆԱԽԱՐԱՐՈՒԹՅՈՒՆ | H40: =+H42+H113 -> -852588.3
G41: այդ թվում`
...

Sheet h3
G1: Հավելված N 3
G2: ՀՀ կառավարության 2024 թվականի
G3: ______________ ի ___Ն որոշման
B5: «ՀԱՅԱՍՏԱՆԻ ՀԱՆՐԱՊԵՏՈՒԹՅԱՆ 2024 ԹՎԱԿԱՆԻ ՊԵՏԱԿԱՆ ԲՅՈՒՋԵԻ ՄԱՍԻՆ» ՀԱՅԱՍՏԱՆԻ ՀԱՆՐԱՊԵՏՈՒԹՅԱՆ ՕՐԵՆՔԻ N 1 ՀԱՎԵԼՎԱԾԻ N 4 ԱՂՅՈՒՍԱԿՈՒՄ ԵՎ ՀԱՅԱՍՏԱՆԻ ՀԱՆՐԱՊԵՏՈՒԹՅԱՆ ԿԱՌԱՎԱՐՈՒԹՅԱՆ 2023 ԹՎԱԿԱՆԻ ԴԵԿՏԵՄԲԵՐԻ 28-Ի N 2323-Ն ՈՐՈՇՄԱՆ N 5 ՀԱՎԵԼՎԱԾԻ N 3 ԱՂՅՈՒՍԱԿՈՒՄ ԿԱՏԱՐՎՈՂ ՓՈՓՈԽՈՒԹՅՈՒՆՆԵՐԸ
G7: (հազ. դրամ)
B8: Ծրագրային դասիչը | D8: Բյուջետային հատկացումների գլխավոր կարգադրիչների, ծրագրերի, միջոցառումների և միջոցառումները կատարող պետական մարմինների անվանումները | E8: Ցուցանիշների փոփոխությունը (ավելացումները նշված են դրական նշանով, իսկ նվազեցումները` փակագծերում)
E10: Տարի
B11: ծրագիրը | C11: միջոցառումը | E11: ընդամենը | F11: այդ թվում՝
F12: վարկային միջոցներ | G12: համաֆինան_x000D_ սավորում
D13: ԸՆԴԱՄԵՆԸ | E13: =F13+G13 -> 0 | F13: =+F15+F16 -> 0 | G13: =+G15+G16 -> 0
D14: այդ թվում`
D15: ԸՆԹԱՑԻԿ ԾԱԽՍԵՐ | E15: =+F15+G15 -> -76050.4 | F15: =+F68+F76+F85+F26 -> -66266.4 | G15: =+G68+G76+G85+G26 -> -9784
D16: - ՈՉ ՖԻՆԱՆՍԱԿԱՆ ԱԿՏԻՎՆԵՐԻ ԳԾՈՎ ԾԱԽՍԵՐ | E16: =F16+G16 -> 76050.4 | F16: =F34+F48+F57+F94+F107+F116+F128+F140+F155 -> 66266.4 | G16: =G34+G48+G57+G94+G107+G116+G128+G140+G155 -> 9784
D17: ՀՀ վարչապետի աշխատակազմ | E17: =E19 -> -185272.9 | F17: =F19 -> -150317.7 | G17: =G19 -> -34955.2 | I17: =+F40+F61+F100+F121+F133+F148+F17 -> 0 | J17: =+G40+G61+G100+G121+G133+G148+G17 -> 0
D18: այդ թվում`
B19: 1018 | D19: Պետական հատվածի արդիականացման ծրագիր | E19: =F19+G19 -> -185272.9 | F19: =F21+F29 -> -150317.7 | G19: =G21+G29 -> -34955.2
D20: այդ թվում`
C21: 11004 | D21: Համաշխարհային բանկի աջակցությամբ իրականացվող Պետական հատվածի արդիականացման չորրորդ ծրագրի շրջանակներում խորհրդատվական ծառայությունների ձեռքբերում | E21: =F21+G21 -> -30750.4 | F21: =F23 -> -20966.4 | G21: =G23 -> -9784
D22: այդ թվում` ըստ կատարողների
D23: ՀՀ վարչապետի աշխատակազմ | E23: =F23+G23 -> -30750.4 | F23: =F25 -> -20966.4 | G23: =G25 -> -9784
D24: այդ թվում` բյուջետային ծախսերի տնտեսագիտական դասակարգման հոդվածներ
D25: ԸՆԴԱՄԵՆԸ ԾԱԽՍԵՐ | E25: =F25+G25 -> -30750.4 | F25: =F26 -> -20966.4 | G25: =G26 -> -9784
D26: ԸՆԹԱՑԻԿ ԾԱԽՍԵՐ | E26: =F26+G26 -> -30750.4 | F26: =F27 -> -20966.4 | G26: =G27 -> -9784
D27: ԱՅԼ ԾԱԽՍԵՐ | E27: =F27+G27 -> -30750.4 | F27: =F28 -> -20966.4 | G27: =G28 -> -9784
D28: Այլ ծախսեր | E28: =F28+G28 -> -30750.4 | F28: -20966.4 | G28: -9784
C29: 32003 | D29: Համաշխարհային բանկի աջակցությամբ իրականացվող Պետական հատվածի արդիականացման չորրորդ ծրագրի շրջանակներում էլեկտրոնային կառավարման համակարգերի և սարքավորումների ձեռքբերում | E29: =F29+G29 -> -154522.5 | F29: =F31 -> -129351.3 | G29: =G31 -> -25171.2
D30: այդ թվում` ըստ կատարողների
D31: ՀՀ վարչապետի աշխատակազմ | E31: =F31+G31 -> -154522.5 | F31: =F33 -> -129351.3 | G31: =G33 -> -25171.2
D32: այդ թվում` բյուջետային ծախսերի տնտեսագիտական դասակարգման հոդվածներ
D33: ԸՆԴԱՄԵՆԸ ԾԱԽՍԵՐ | E33: =E34 -> -154522.5 | F33: =F34 -> -129351.3 | G33: =G34 -> -25171.2
D34: ՈՉ ՖԻՆԱՆՍԱԿԱՆ ԱԿՏԻՎՆԵՐԻ ԳԾՈՎ ԾԱԽՍԵՐ | E34: =E35 -> -154522.5 | F34: =F35 -> -129351.3 | G34: =G35 -> -25171.2
D35: ՀԻՄՆԱԿԱՆ ՄԻՋՈՑՆԵՐ | E35: =E36 -> -154522.5 | F35: =F36 -> -129351.3 | G35: =G36 -> -25171.2
D36: ՄԵՔԵՆԱՆԵՐ ԵՎ ՍԱՐՔԱՎՈՐՈՒՄՆԵՐ | E36: =F36+G36 -> -154522.5 | F36: =F37 -> -129351.3 | G36: =G37 -> -25171.2
D37: - Այլ մեքենաներ և սարքավորումներ | E37: =F37+G37 -> -154522.5 | F37: -129351.3 | G37: -25171.2
D38: ՀՀ տարածքային կառավարման և ենթակառուցվածքների նախարարություն | E38: =F38+G38 -> -852588.3 | F38: =+F40+F61+F100 -> -746200 | G38: =+G40+G61+G100 -> -106388.3 | P38: =+F13-75000 -> -75000
D39: այդ թվում`
B40: 1004 | D40: Ոռոգման համակարգի առողջացում | E40: =+F40+G40 -> -242250 | F40: =+F43+F52 -> -197900 | G40: =+G43+G52 -> -44350
D41: այդ թվում`
D42: Այլ ծախսեր | E42: =F42+G42 -> -57900 | G42: -57900 | M42: -75000 | N42: -45000
C43: 31005 | D43: Եվրասիական զարգացման բանկի աջակցությամբ իրականացվող ոռոգման համակարգերի զարգացման ծրագրի շրջանակներում ջրային տնտեսության ենթակառուցվածքների հիմնանորոգում | E43: =F43+G43 -> -62370 | F43: =+F45 -> -52200 | G43: =+G45 -> -10170
...

Sheet h4
B1: Հավելված N 4
B2: ՀՀ կառավարության 2024 թվականի
B3: ______________ ի ___Ն որոշման
B5: ՀԱՅԱՍՏԱՆԻ ՀԱՆՐԱՊԵՏՈՒԹՅԱՆ ԿԱՌԱՎԱՐՈՒԹՅԱՆ 2023 ԹՎԱԿԱՆԻ ԴԵԿՏԵՄԲԵՐԻ 28-Ի N 2323-Ն ՈՐՈՇՄԱՆ N 9 ՀԱՎԵԼՎԱԾԻ N 9.3, 9.7, 9.10, 9.13 ԵՎ N 9.25 ԱՂՅՈՒՍԱԿՆԵՐՈՒՄ ԿԱՏԱՐՎՈՂ ՓՈՓՈԽՈՒԹՅՈՒՆՆԵՐԸ ԵՎ ԼՐԱՑՈՒՄՆԵՐԸ
D6: Աղյուսակ N 9.3
B7: ՀՀ վարչապետի աշխատակազմ
B8: ՄԱՍ 2. ՊԵՏԱԿԱՆ ՄԱՐՄՆԻ ԳԾՈՎ ԱՐԴՅՈՒՆՔԱՅԻՆ (ԿԱՏԱՐՈՂԱԿԱՆ) ՑՈՒՑԱՆԻՇՆԵՐԸ
B10: Ծրագրի դասիչը | C10: Ծրագրի անվանումը
B11: 1018 | C11: Պետական հատվածի արդիականացման ծրագիր
B13: Ծրագրի միջոցառումները
B14: Ծրագրի դասիչը` | C14: 1018 | D14: Ցուցանիշների փոփոխությունը (նվազեցումները նշված են փակագծերում)
B15: Միջոցառման դասիչը` | C15: 11004 | D15: Տարի
B16: Միջոցառման անվանումը` | C16: Համաշխարհային բանկի աջակցությամբ իրականացվող Պետական հատվածի արդիականացման չորրորդ ծրագրի շրջանակներում խորհրդատվական ծառայությունների ձեռքբերում
B17: Նկարագրությունը` | C17: ՀՀ հանրային հատվածի բարեփոխումների մշակման և իրականացման խորհրդատվական ծառայությունների ձեռքբերում
B18: Միջոցառման տեսակը` | C18: Ծառայությունների մատուցում
B19: Ակտիվն օգտագործող կազմակերպության անվանումը | C19: Մասնագիտացված միավոր
B20: Արդյունքի չափորոշիչներ
B21: Մրցակցության պաշտպանության հանձնաժողովի գործերի կառավարման էլ. համակարգի նոր մոդուլի արտաքին դիզայնի և ֆունկցիոնալության մշակում, տոկոս | D21: -100
B22: Միջոցառման վրա կատարվող ծախսը (հազար դրամ) | D22: ='h2'!H23 -> -30750.4
B25: Ծրագրի դասիչը` | C25: 1018 | D25: Ցուցանիշների փոփոխությունը (նվազեցումները նշված են փակագծերում)
B26: Միջոցառման դասիչը` | C26: 32003
B27: Միջոցառման անվանումը` | C27: Համաշխարհային բանկի աջակցությամբ իրականացվող Պետական հատվածի արդիականացման չորրորդ ծրագրի շրջանակներում էլեկտրոնային կառավարման համակարգերի և սարքավորումների ձեռքբերում
B28: Նկարագրությունը` | C28: Համաշխարհային բանկի աջակցությամբ իրականացվող Պետական հատվածի արդիականացման չորրորդ ծրագրի շրջանակներում էլեկտրոնային կառավարման համակարգերի և սարքավորումների ձեռքբերում
B29: Միջոցառման տեսակը` | C29: Այլ պետական կազմակերպությունների կողմից օգտագործվող ոչ ֆինանսական ակտիվների հետ գործառնություններ
B30: Ակտիվն օգտագործող կազմակերպության անվանումը | C30: ՀՀ հանրային հատվածի կազմակերպություններ
B31: Արդյունքի չափորոշիչներ
B32: Հարկ վճարողների նոր անհատական հաշվի քարտի էլեկտրոնային համակարգի ներդրում, հատ | D32: -1
B33: Միջոցառման վրա կատարվող ծախսը (հազար դրամ) | D33: ='h2'!H31 -> -154522.5
D36: Աղյուսակ N 9.7
B37: ՀՀ տարածքային կառավարման և ենթակառուցվածքների նախարարություն
B38: ՄԱՍ 2. ՊԵՏԱԿԱՆ ՄԱՐՄՆԻ ԳԾՈՎ ԱՐԴՅՈՒՆՔԱՅԻՆ (ԿԱՏԱՐՈՂԱԿԱՆ) ՑՈՒՑԱՆԻՇՆԵՐԸ
B40: Ծրագրի դասիչը | C40: Ծրագրի անվանումը
B41: 1004 | C41: Ոռոգման համակարգի առողջացում
B43: Ծրագրի միջոցառումները
B44: Ծրագրի դասիչը` | C44: 1004 | D44: Ցուցանիշների փոփոխությունը (նվազեցումները նշված են փակագծերում)
B45: Միջոցառման դասիչը` | C45: 31005 | D45: Տարի
B46: Միջոցառման անվանումը` | C46: Եվրասիական զարգացման բանկի աջակցությամբ իրականացվող ոռոգման համակարգերի զարգացման ծրագրի շրջանակներում ջրային տնտեսության ենթակառուցվածքների հիմնանորոգում
B47: Նկարագրությունը` | C47: Եվրասիական զարգացման բանկի աջակցությամբ իրականացվող ոռոգման համակարգերի զարգացման ծրագիր
B48: Միջոցառման տեսակը` | C48: Պետական մարմինների կողմից օգտագործվող ոչ ֆինանսական ակտիվների հետ գործառնություններ
B49: Ակտիվն օգտագործող կազմակերպության(ների) անվանում(ները)՛ | C49: Մասնագիտացված միավոր
...

Sheet h5
B1: Հավելված N 5
B2: ՀՀ կառավարության 2024 թվականի
B3: ______________ ի ___Ն որոշման
B5: ՀԱՅԱՍՏԱՆԻ ՀԱՆՐԱՊԵՏՈՒԹՅԱՆ ԿԱՌԱՎԱՐՈՒԹՅԱՆ 2023 ԹՎԱԿԱՆԻ ԴԵԿՏԵՄԲԵՐԻ 28-Ի N 2323-Ն ՈՐՈՇՄԱՆ N 9.1 ՀԱՎԵԼՎԱԾԻ N9.1.3, 9.1.7, 9.1.10, 9.1.25 ԵՎ N 9.1.27 ԱՂՅՈՒՍԱԿՆԵՐՈՒՄ ԿԱՏԱՐՎՈՂ ՓՈՓՈԽՈՒԹՅՈՒՆՆԵՐԸ ԵՎ ԼՐԱՑՈՒՄՆԵՐԸ
D7: Աղյուսակ N 9.1. 3
B8: ՀՀ վարչապետի աշխատակազմ
B9: ՄԱՍ 1. ՊԵՏԱԿԱՆ ՄԱՐՄՆԻ ԳԾՈՎ ԱՐԴՅՈՒՆՔԱՅԻՆ (ԿԱՏԱՐՈՂԱԿԱՆ) ՑՈՒՑԱՆԻՇՆԵՐԸ
B11: Ծրագրի դասիչը | C11: Ծրագրի անվանումը
B12: 1018 | C12: Պետական հատվածի արդիականացման ծրագիր
B14: Ծրագրի միջոցառումները
B15: Ծրագրի դասիչը` | C15: 1018 | D15: Ցուցանիշների փոփոխությունը (նվազեցումները նշված են փակագծերում)
B16: Միջոցառման դասիչը` | C16: 11004 | D16: Տարի
B17: Միջոցառման անվանումը` | C17: Համաշխարհային բանկի աջակցությամբ իրականացվող Պետական հատվածի արդիականացման չորրորդ ծրագրի շրջանակներում խորհրդատվական ծառայությունների ձեռքբերում
B18: Նկարագրությունը` | C18: ՀՀ հանրային հատվածի բարեփոխումների մշակման և իրականացման խորհրդատվական ծառայությունների ձեռքբերում
B19: Միջոցառման տեսակը` | C19: Ծառայությունների մատուցում
B20: Ակտիվն օգտագործող կազմակերպության անվանումը | C20: Մասնագիտացված միավոր
B21: Արդյունքի չափորոշիչներ
B22: Մրցակցության պաշտպանության հանձնաժողովի գործերի կառավարման էլ. համակարգի նոր մոդուլի արտաքին դիզայնի և ֆունկցիոնալության մշակում, տոկոս | D22: -100
B23: Միջոցառման վրա կատարվող ծախսը (հազար դրամ) | D23: ='h3'!E21 -> -30750.4
B25: Ծրագրի դասիչը` | C25: 1018 | D25: Ցուցանիշների փոփոխությունը (նվազեցումները նշված են փակագծերում)
B26: Միջոցառման դասիչը` | C26: 32003 | D26: Տարի
B27: Միջոցառման անվանումը` | C27: Համաշխարհային բանկի աջակցությամբ իրականացվող Պետական հատվածի արդիականացման չորրորդ ծրագրի շրջանակներում էլեկտրոնային կառավարման համակարգերի և սարքավորումների ձեռքբերում
B28: Նկարագրությունը` | C28: Համաշխարհային բանկի աջակցությամբ իրականացվող Պետական հատվածի արդիականացման չորրորդ ծրագրի շրջանակներում էլեկտրոնային կառավարման համակարգերի և սարքավորումների ձեռքբերում
B29: Միջոցառման տեսակը` | C29: Այլ պետական կազմակերպությունների կողմից օգտագործվող ոչ ֆինանսական ակտիվների հետ գործառնություններ
B30: Ակտիվն օգտագործող կազմակերպության անվանումը | C30: ՀՀ հանրային հատվածի կազմակերպություններ
B31: Արդյունքի չափորոշիչներ
B32: Հարկ վճարողների նոր անհատական հաշվի քարտի էլեկտրոնային համակարգի ներդրում, հատ | D32: -1
B33: Միջոցառման վրա կատարվող ծախսը (հազար դրամ) | D33: ='h2'!H31 -> -154522.5
D36: Աղյուսակ N 9.1.7
B37: ՀՀ տարածքային կառավարման և ենթակառուցվածքների նախարարություն
B38: ՄԱՍ 1. ՊԵՏԱԿԱՆ ՄԱՐՄՆԻ ԳԾՈՎ ԱՐԴՅՈՒՆՔԱՅԻՆ (ԿԱՏԱՐՈՂԱԿԱՆ) ՑՈՒՑԱՆԻՇՆԵՐԸ
B40: Ծրագրի դասիչը | C40: Ծրագրի անվանումը
B41: =+'h4'!B65 -> 1049 | C41: =+'h4'!C65 -> Ճանապարհային ցանցի բարելավում
B42: Ծրագրի միջոցառումները
B43: Ծրագրի դասիչը` | C43: 1049 | D43: Ցուցանիշների փոփոխությունը (նվազեցումները նշված են փակագծերում)
B44: Միջոցառման դասիչը` | C44: 11009 | D44: Տարի
B45: Միջոցառման անվանումը` | C45: Ասիական զարգացման բանկի աջակցությամբ իրականացվող Հյուսիս-հարավ միջանցքի զարգացման ծրագրի համակարգում և կառավարում ( Տրանշ 2)
B46: Նկարագրությունը` | C46: Խորհրդատվական ծառայություններ և պահպանման ծախսեր
B47: Միջոցառման տեսակը` | C47: Ծառայությունների մատուցում
B48: Միջոցառումն իրականացնողի անվանումը՛ | C48: Մասնագիտացված միավոր
...
