Workbook
Name _tab10: #REF!
Name _tab11: #REF!
Name _tab12: #REF!
Name _tab13: #REF!
Name _tab14: #REF!
Name _tab15: #REF!
Name _tab16: #REF!
Name _tab17: #REF!
Name _tab18: #REF!
Name _tab19: #REF!
Name _tab20: #REF!
Name _tab21: #REF!
Name _tab22: #REF!
Name _tab23: #REF!
Name _tab24: #REF!
Name _tab5: #REF!
Name _tab6: #REF!
Name _tab7: #REF!
Name _tab8: #REF!
Name _tab9: #REF!
Name AgencyCode: #REF!
Name AgencyCode: #REF!
Name AgencyName: #REF!
Name AgencyName: #REF!
Name åû: #REF!
Name åû: #REF!
Name davit: #REF!
Name davit: #REF!
Name Functional1: #REF!
Name Functional1: #REF!
Name ggg: #REF!
Name ggg: #REF!
Name hav: #REF!
Name havelvac: #REF!
Name mas: #REF!
Name mas: #REF!
Name mass: #REF!
Name mass: #REF!
Name PANature: #REF!
Name PANature: #REF!
Name par_count: #REF!,#REF!,#REF!,#REF!,#REF!,#REF!,#REF!,#REF!,#REF!,#REF!,#REF!,#REF!,#REF!,#REF!,#REF!
Name par_qual: #REF!,#REF!,#REF!,#REF!,#REF!
Name par_time: #REF!,#REF!,#REF!,#REF!
Name par2.12s: #REF!
Name par2.4s: #REF!,#REF!,#REF!,#REF!,#REF!,#REF!,#REF!,#REF!,#REF!,#REF!,#REF!,#REF!,#REF!,#REF!,#REF!,#REF!
Name par2.5s: #REF!,#REF!
Name par2.6s: #REF!,#REF!,#REF!,#REF!
Name par2.7s: #REF!,#REF!
Name par2.9s: #REF!,#REF!,#REF!,#REF!,#REF!,#REF!,#REF!,#REF!,#REF!,#REF!,#REF!,#REF!,#REF!,#REF!,#REF!,#REF!
Name par4.10s: #REF!,#REF!
Name par4.11d: #REF!,#REF!,#REF!,#REF!,#REF!
Name par4.12d: #REF!
Name par4.13s: #REF!
Name par4.14: #REF!,#REF!,#REF!,#REF!,#REF!,#REF!
Name par4.15: #REF!,#REF!,#REF!
Name par4.16: #REF!,#REF!,#REF!
Name par4.17: #REF!,#REF!,#REF!,#REF!
Name par4.18d: #REF!,#REF!
Name par4.19s: #REF!
Name par4.20f: #REF!

Sheet h1
C1: Հավելված N 1
C2: ՀՀ կառավարության 2024 թվականի
C3: ______________ ի ___Ն որոշման
B5: «ՀԱՅԱUՏԱՆԻ ՀԱՆՐԱՊԵՏՈՒԹՅԱՆ 2024 ԹՎԱԿԱՆԻ ՊԵՏԱԿԱՆ ԲՅՈՒՋԵԻ ՄԱUԻՆ» OՐԵՆՔԻ N 1 ՀԱՎԵԼՎԱԾԻ N 2 ԱՂՅՈՒՍԱԿՈՒՄ ԿԱՏԱՐՎՈՂ ՎԵՐԱԲԱՇԽՈՒՄԸ ԵՎ ՀԱՅԱՍՏԱՆԻ ՀԱՆՐԱՊԵՏՈՒԹՅԱՆ ԿԱՌԱՎԱՐՈՒԹՅԱՆ 2023 ԹՎԱԿԱՆԻ ԴԵԿՏԵՄԲԵՐԻ 28-Ի N 2323-Ն ՈՐՈՇՄԱՆ N 5 ՀԱՎԵԼՎԱԾԻ N 1 ԱՂՅՈՒՍԱԿՈՒՄ ԿԱՏԱՐՎՈՂ ՓՈՓՈԽՈՒԹՅՈՒՆՆԵՐԸ
E7: (հազ. դրամ)
B8: Ծրագրային դասիչը | D8: Բյուջետային հատկացումների գլխավոր կարգադրիչների, ծրագրերի և միջոցառումների անվանումները | E8: Ցուցանիշների փոփոխությունը (ավելացումները նշված են դրական նշանով, նվազեցումները՝ փակագծերում)
B9: Ծրագիր | C9: Միջոցառում | E9: Տարի
D10: ԸՆԴԱՄԵՆԸ | E10: =E12+E32+E102+E116+E130 -> 0
D11: այդ թվում՝
D12: ՀՀ վարչապետի աշխատակազմ | E12: =E13 -> -185272.9
B13: 1018 | D13: Ծրագրի անվանումը` | E13: =E20+E26 -> -185272.9
D14: Պետական հատվածի արդիականացման ծրագիր
D15: Ծրագրի նպատակը`
D16: Ընտրված էլեկտրոնային կառավարման կատարելագործված ծառայությունների հասանելիության բարելավում
D17: Վերջնական արդյունքի նկարագրությունը`
D18: Ծառայությունների մատուցման էլեկտրոնային կառավարման լուծումների իրագործում, հանրային հատվածի արդիականացման և կառավարման բարեփոխումների ընդգրկուն ընթացքի ապահովում:
D19: Ծրագրի միջոցառումներ
C20: 11004 | D20: Միջոցառման անվանումը` | E20: ='h2'!H23 -> -30750.4
D21: Համաշխարհային բանկի աջակցությամբ իրականացվող Պետական հատվածի արդիականացման չորրորդ ծրագրի շրջանակներում խորհրդատվական ծառայությունների ձեռքբերում
D22: Միջոցառման նկարագրությունը`
D23: ՀՀ հանրային հատվածի բարեփոխումների մշակման և իրականացման խորհրդատվական ծառայությունների ձեռքբերում
D24: Միջոցառման տեսակը
D25: Ծառայությունների մատուցում
C26: 32003 | D26: Միջոցառման անվանումը` | E26: ='h2'!H31 -> -154522.5
D27: Համաշխարհային բանկի աջակցությամբ իրականացվող Պետական հատվածի արդիականացման չորրորդ ծրագրի շրջանակներում էլեկտրոնային կառավարման համակարգերի և սարքավորումների ձեռքբերում
D28: Միջոցառման նկարագրությունը`
D29: Համաշխարհային բանկի աջակցությամբ իրականացվող Պետական հատվածի արդիականացման չորրորդ ծրագրի շրջանակներում էլեկտրոնային կառավարման համակարգերի և սարքավորումների ձեռքբերում
D30: Միջոցառման տեսակը
D31: Այլ պետական կազմակերպությունների կողմից օգտագործվող ոչ ֆինանսական ակտիվների հետ գործառնություններ
D32: ՀՀ տարածքային կառավարման և ենթակառուցվածքների նախարարություն | E32: =+E33+E52+E83 -> -852588.3
B33: 1004 | D33: Ծրագրի անվանումը` | E33: =+E40+E46 -> -242250
D34: Ոռոգման համակարգի առողջացում
D35: Ծրագրի նպատակը`
D36: Ոռոգման ծառայությունների հասանելիության և մատչելիության ապահովում
D37: Վերջնական արդյունքի նկարագրությունը`
D38: Ոռոգման ջրի մատակարարման արդյունավետության և հասանելիության բարելավում՝ կորուստների կրճատում
D39: Ծրագրի միջոցառումներ
C40: =+'h3'!C43 -> 31005 | D40: Միջոցառման անվանումը` | E40: =+'h3'!E43 -> -62370
D41: =+'h3'!D43 -> Եվրասիական զարգացման բանկի աջակցությամբ իրականացվող ոռոգման համակարգերի զարգացման ծրագրի շրջանակներում ջրային տնտեսության ենթակառուցվածքների հիմնանորոգում
D42: Միջոցառման նկարագրությունը`
D43: Եվրասիական զարգացման բանկի աջակցությամբ իրականացվող ոռոգման համակարգերի զարգացման ծրագիր
D44: Միջոցառման տեսակը
D45: Պետական մարմինների կողմից օգտագործվող ոչ ֆինանսական ակտիվների հետ գործառնություններ
C46: =+'h3'!C52 -> 31006 | D46: Միջոցառման անվանումը` | E46: =+'h3'!E52 -> -179880
D47: =+'h3'!D52 -> Գերմանիայի զարգացման վարկերի բանկի աջակցությամբ իրականացվող Ախուրյան գետի ջրային ռեսուրսների ինտեգրացված կառավարման ծրագրի երկրորդ փուլի շրջանակներում ջրային տնտեսության ենթակառուցվածքների հիմնանորոգում
D48: Միջոցառման նկարագրությունը`
D49: Գերմանիայի զարգացման վարկերի բանկի աջակցությամբ իրականացվող Ախուրյան գետի ջրային ռեսուրսների ինտեգրացված կառավարման ծրագրի երկրորդ փուլ
D50: Միջոցառման տեսակը
D51: Պետական մարմինների կողմից օգտագործվող ոչ ֆինանսական ակտիվների հետ գործառնություններ
B52: 1049 | D52: Ծրագրի անվանումը` | E52: =+E59+E65+E71+E77 -> -278300
D53: Ճանապարհային ցանցի բարելավում
D54: Ծրագրի նպատակը`
D55: Ճանապարհային ցանցի բարելավում և անվտանգ երթևեկության ապահովում
D56: Վերջնական արդյունքի նկարագրությունը`
D57: Ճանապարհների ծածկի որակի և փոխադրումների արդյունավետության բարե լավում, ճանապարհների վիճակով պայմանավորված պատահարների նվազում
D58: Ծրագրի միջոցառումներ
C59: =+'h3'!C63 -> 11009 | D59: Միջոցառման անվանումը` | E59: =+'h3'!E63 -> -5300
D60: =+'h3'!D63 -> Ասիական զարգացման բանկի աջակցությամբ իրականացվող Հյուսիս-հարավ միջանցքի զարգացման ծրագրի համակարգում և կառավարում (Տրանշ 2)
D61: Միջոցառման նկարագրությունը`
D62: Խորհրդատվական ծառայություններ և պահպանման ծախսեր
D63: Միջոցառման տեսակը
D64: Ծառայությունների մատուցում
C65: =+'h3'!C71 -> 11011 | D65: Միջոցառման անվանումը` | E65: =+'h3'!E71 -> -15000
D66: =+'h3'!D71 -> Ասիական զարգացման բանկի աջակցությամբ իրականացվող Հյուսիս-հարավ միջանցքի զարգացման ծրագրի համակարգում և կառավարում (Տրանշ 3)
D67: Միջոցառման նկարագրությունը`
D68: Խորհրդատվական ծառայություններ և պահպանման ծախսեր
D69: Միջոցառման տեսակը
D70: Ծառայությունների մատուցում
C71: =+'h3'!C80 -> 11012 | D71: Միջոցառման անվանումը` | E71: =+'h3'!E80 -> -25000
D72: =+'h3'!D80 -> Եվրասիական զարգացման բանկի աջակցությամբ իրականացվող Հյուսիս-հարավ միջանցքի զարգացման ծրագրի համակարգում և կառավարում
D73: Միջոցառման նկարագրությունը`
D74: Խորհրդատվական ծառայություններ և պահպանման ծախսեր
D75: Միջոցառման տեսակը
D76: Ծառայությունների մատուցում
C77: =+'h3'!C89 -> 21011 | D77: Միջոցառման անվանումը` | E77: =+'h3'!E89 -> -233000
D78: =+'h3'!D89 -> Ասիական զարգացման բանկի աջակցությամբ իրականացվող Հյուսիս-հարավ միջանցքի զարգացման վարկային ծրագիր, Տրանշ 3
D79: Միջոցառման նկարագրությունը`
D80: Հատված Թալին-Լանջիկ 71+500 կմ-90+200 կմ կառուցման շինարարական աշխատանքներ
D81: Միջոցառման տեսակը
D82: Հանրության կողմից անմիջականորեն օգտագործվող ակտիվների հետ կապված միջոցառումներ
B83: 1072 | D83: Ծրագրի անվանումը` | E83: =+E90+E96 -> -332038.3
D84: Ծրագրի անվանումը`
D85: Ջրամատակարարաման և ջրահեռացման բարելավում
D86: Ծրագրի նպատակը`
D87: Ջրամատակարարման ծառայությունների հասանելիության և մատչելիության ապահովում
D88: Վերջնական արդյունքի նկարագրությունը`
D89: Խմելու ջրի մատակարարման և ջրահեռացման համակարգի բարելավում, կորուստների կրճատում
C90: =+'h3'!C102 -> 31001 | D90: Միջոցառման անվանումը` | E90: =+'h3'!E102 -> -226038.3
D91: =+'h3'!D102 -> Գերմանիայի զարգացման վարկերի բանկի աջակցությամբ իրականացվող ջրամատակարարման և ջրահեռացման ենթակառուցվածքների վերականգնման ծրագրի երրորդ փուլի շրջանակներում ջրամատակարարման և ջրահեռացման ենթակառուցվածքների հիմնանորոգում
D92: Միջոցառման նկարագրությունը`
D93: 6 քաղաքների և 37 գյուղական բնակավայրերի ջրամատակարարման և ջրահեռացման համակարգերի հատվածների հրատապ (մասնակի) վերականգնման աշխատանքներ
D94: Միջոցառման տեսակը
D95: Պետական մարմինների կողմից օգտագործվող ոչ ֆինանսական ակտիվների հետ գործառնություններ
C96: =+'h3'!C111 -> 31002 | D96: Միջոցառման անվանումը` | E96: =+'h3'!E111 -> -106000
D97: =+'h3'!D111 -> Եվրոպական ներդրումային բանկի աջակցությամբ իրականացվող ջրամատակարարման և ջրահեռացման ենթակառուցվածքների վերականգնման ծրագրի երրորդ փուլի շրջանակներում ջրամատակարարման և ջրահեռացման ենթակառուցվածքների հիմնանորոգում
D98: Միջոցառման նկարագրությունը`
D99: 6 քաղաքների և 37 գյուղական բնակավայրերի ջրամատակարարման և ջրահեռացման համակարգերի հատվածների հրատապ (մասնակի) վերականգնման աշխատանքներ
D100: Միջոցառման տեսակը
D101: Պետական մարմինների կողմից օգտագործվող ոչ ֆինանսական ակտիվների հետ գործառնություններ
D102: =+'h3'!D120 -> ՀՀ կրթության, գիտության, մշակույթի և սպորտի նախարարություն | E102: =+E103 -> 2197760.8
...

Sheet h2
H1: Հավելված N 2
F2: ՀՀ կառավարության 2024 թվականի
F3: -----------------ի N -----------Ն որոշման
B5: ՀԱՅԱՍՏԱՆԻ ՀԱՆՐԱՊԵՏՈՒԹՅԱՆ ԿԱՌԱՎԱՐՈՒԹՅԱՆ 2023 ԹՎԱԿԱՆԻ ԴԵԿՏԵՄԲԵՐԻ 28-Ի N 2323-Ն ՈՐՈՇՄԱՆ NN 3 ԵՎ 4 ՀԱՎԵԼՎԱԾՆԵՐՈՒՄ ԿԱՏԱՐՎՈՂ ՓՈՓՈԽՈՒԹՅՈՒՆՆԵՐԸ
H6: (հազ. դրամ)
B7: Գործառական դասիչը | E7: Ծրագրային դասիչը | G7: Բյուջետային ծախսերի գործառական դասակարգման բաժինների, խմբերի և դասերի, բյուջետային ծրագրերի միջոցառումների, բյուջետային հատկացումների գլխավոր կարգադրիչների անվանումները | H7: Ցուցանիշների փոփոխությունը (ավելացումները նշված են դրական նշանով, նվազեցումները` փակագծերում)
B8: Բաժինը | C8: Խումբը | D8: Դասը | E8: Ծրագիր | F8: Միջոցառում | H8: Տարի
G9: ԸՆԴԱՄԵՆԸ | H9: =H11+H40+H139+H160+H183 -> 0
G10: այդ թվում՝
G11: ՀՀ վարչապետի աշխատակազմ | H11: =H13 -> -185272.9
G12: այդ թվում`
B13: 01 | G13: ԸՆԴՀԱՆՈՒՐ ԲՆՈՒՅԹԻ ՀԱՆՐԱՅԻՆ ԾԱՌԱՅՈՒԹՅՈՒՆՆԵՐ | H13: =H15 -> -185272.9
G14: այդ թվում`
C15: 06 | G15: Ընդհանուր բնույթի հանրային ծառայություններ (այլ դասերին չպատկանող) | H15: =H17 -> -185272.9
G16: այդ թվում`
D17: 01 | G17: Ընդհանուր բնույթի հանրային ծառայություններ (այլ դասերին չպատկանող) | H17: =H19 -> -185272.9
G18: այդ թվում`
G19: ՀՀ վարչապետի աշխատակազմ | H19: =H21 -> -185272.9
G20: այդ թվում`
E21: 1018 | G21: Պետական հատվածի արդիականացման ծրագիր | H21: =H23+H31 -> -185272.9
G22: այդ թվում`
F23: 11004 | G23: Համաշխարհային բանկի աջակցությամբ իրականացվող Պետական հատվածի արդիականացման չորրորդ ծրագրի շրջանակներում խորհրդատվական ծառայությունների ձեռքբերում | H23: =H25 -> -30750.4
G24: այդ թվում` ըստ կատարողների
G25: ՀՀ վարչապետի աշխատակազմ | H25: =H28 -> -30750.4
G26: այդ թվում` բյուջետային ծախսերի տնտեսագիտական դասակարգման հոդվածներ
G27: ԸՆԴԱՄԵՆԸ ԾԱԽՍԵՐ | H27: =H28 -> -30750.4
G28: ԸՆԹԱՑԻԿ ԾԱԽՍԵՐ | H28: =H29 -> -30750.4
G29: ԱՅԼ ԾԱԽՍԵՐ | H29: =H30 -> -30750.4
G30: Այլ ծախսեր | H30: ='h3'!E28 -> -30750.4
F31: 32003 | G31: Համաշխարհային բանկի աջակցությամբ իրականացվող Պետական հատվածի արդիականացման չորրորդ ծրագրի շրջանակներում էլեկտրոնային կառավարման համակարգերի և սարքավորումների ձեռքբերում | H31: =H33 -> -154522.5
G32: այդ թվում` ըստ կատարողների
G33: ՀՀ վարչապետի աշխատակազմ | H33: =H35 -> -154522.5
G34: այդ թվում` բյուջետային ծախսերի տնտեսագիտական դասակարգման հոդվածներ
G35: ԸՆԴԱՄԵՆԸ ԾԱԽՍԵՐ | H35: =H36 -> -154522.5
G36: ՈՉ ՖԻՆԱՆՍԱԿԱՆ ԱԿՏԻՎՆԵՐԻ ԳԾՈՎ ԾԱԽՍԵՐ | H36: =H37 -> -154522.5
G37: ՀԻՄՆԱԿԱՆ ՄԻՋՈՑՆԵՐ | H37: =H38 -> -154522.5
G38: ՄԵՔԵՆԱՆԵՐ ԵՎ ՍԱՐՔԱՎՈՐՈՒՄՆԵՐ | H38: =H39 -> -154522.5
G39: - Այլ մեքենաներ և սարքավորումներ | H39: ='h3'!E37 -> -154522.5
G40: ՀՀ ՏԱՐԱԾՔԱՅԻՆ ԿԱՌԱՎԱՐՄԱՆ ԵՎ ԵՆԹԱԿԱՌՈՒՑՎԱԾՔՆԵՐԻ ՆԱԽԱՐԱՐՈՒԹՅՈՒՆ | H40: =+H42+H113 -> -852588.3
G41: այդ թվում`
B42: 04 | G42: ՏՆՏԵՍԱԿԱՆ ՀԱՐԱԲԵՐՈՒԹՅՈՒՆՆԵՐ | H42: =+H44+H70 -> -520550
G43: այդ թվում`
C44: 02 | G44: Գյուղատնտեսություն, անտառային տնտեսություն, ձկնորսություն և որսորդություն | H44: =H46 -> -242250
G45: այդ թվում`
D46: 04 | G46: Ոռոգում | H46: =H48 -> -242250
G47: այդ թվում`
G48: ՀՀ տարածքային կառավարման և ենթակառուցվածքների նախարարություն | H48: =H50 -> -242250
G49: այդ թվում`
E50: 1004 | G50: Ոռոգման համակարգի առողջացում | H50: =H52+H61 -> -242250
G51: այդ թվում`
F52: =+'h3'!C43 -> 31005 | G52: =+'h3'!D43 -> Եվրասիական զարգացման բանկի աջակցությամբ իրականացվող ոռոգման համակարգերի զարգացման ծրագրի շրջանակներում ջրային տնտեսության ենթակառուցվածքների հիմնանորոգում | H52: =H54 -> -62370
G53: այդ թվում` ըստ կատարողների
G54: ՀՀ տարածքային կառավարման և ենթակառուցվածքների նախարարության ջրային կոմիտե | H54: =H56 -> -62370
G55: այդ թվում` բյուջետային ծախսերի տնտեսագիտական դասակարգման հոդվածներ
G56: ԸՆԴԱՄԵՆԸ ԾԱԽՍԵՐ | H56: =H57 -> -62370
G57: ՈՉ ՖԻՆԱՆՍԱԿԱՆ ԱԿՏԻՎՆԵՐԻ ԳԾՈՎ ԾԱԽՍԵՐ | H57: =H58 -> -62370
G58: ՀԻՄՆԱԿԱՆ ՄԻՋՈՑՆԵՐ | H58: =H59 -> -62370
G59: ՇԵՆՔԵՐ ԵՎ ՇԻՆՈՒԹՅՈՒՆՆԵՐ | H59: =H60 -> -62370
G60: - Շենքերի և շինությունների շինարարություն | H60: ='h3'!E51 -> -62370
F61: =+'h3'!C52 -> 31006 | G61: =+'h3'!D52 -> Գերմանիայի զարգացման վարկերի բանկի աջակցությամբ իրականացվող Ախուրյան գետի ջրային ռեսուրսների ինտեգրացված կառավարման ծրագրի երկրորդ փուլի շրջանակներում ջրային տնտեսության ենթակառուցվածքների հիմնանորոգում | H61: =H63 -> -179880
G62: այդ թվում` ըստ կատարողների
G63: ՀՀ տարածքային կառավարման և ենթակառուցվածքների նախարարության ջրային կոմիտե | H63: =H65 -> -179880
G64: այդ թվում` բյուջետային ծախսերի տնտեսագիտական դասակարգման հոդվածներ
G65: ԸՆԴԱՄԵՆԸ ԾԱԽՍԵՐ | H65: =H66 -> -179880
G66: ՈՉ ՖԻՆԱՆՍԱԿԱՆ ԱԿՏԻՎՆԵՐԻ ԳԾՈՎ ԾԱԽՍԵՐ | H66: =H67 -> -179880
G67: ՀԻՄՆԱԿԱՆ ՄԻՋՈՑՆԵՐ | H67: =H68 -> -179880
G68: ՇԵՆՔԵՐ ԵՎ ՇԻՆՈՒԹՅՈՒՆՆԵՐ | H68: =H69 -> -179880
G69: - Շենքերի և շինությունների շինարարություն | H69: ='h3'!E60 -> -179880
C70: 05 | G70: Տրանսպորտ | H70: =H72 -> -278300
G71: այդ թվում`
D72: 01 | G72: Ճանապարհային տրանսպորտ | H72: =+H74 -> -278300
G73: այդ թվում`
E74: 1049 | G74: =+'h3'!D61 -> Ճանապարհային ցանցի բարելավում | H74: =+H76+H84+H93+H102 -> -278300
G75: այդ թվում`
F76: =+'h3'!C63 -> 11009 | G76: =+'h3'!D63 -> Ասիական զարգացման բանկի աջակցությամբ իրականացվող Հյուսիս-հարավ միջանցքի զարգացման ծրագրի համակարգում և կառավարում (Տրանշ 2) | H76: =H78 -> -5300
G77: այդ թվում` ըստ կատարողների
G78: =+'h3'!D65 -> ՀՀ տարածքային կառավարման և ենթակառուցվածքների նախարարություն | H78: =H80 -> -5300
G79: այդ թվում` բյուջետային ծախսերի տնտեսագիտական դասակարգման հոդվածներ
G80: ԸՆԴԱՄԵՆԸ ԾԱԽՍԵՐ | H80: =H81 -> -5300
G81: ԸՆԹԱՑԻԿ ԾԱԽՍԵՐ | H81: =H82 -> -5300
G82: ԱՅԼ ԾԱԽՍԵՐ | H82: =H83 -> -5300
G83: Այլ ծախսեր | H83: =+'h3'!E63 -> -5300
F84: =+'h3'!C71 -> 11011 | G84: =+'h3'!D71 -> Ասիական զարգացման բանկի աջակցությամբ իրականացվող Հյուսիս-հարավ միջանցքի զարգացման ծրագրի համակարգում և կառավարում (Տրանշ 3) | H84: =+H86 -> -15000
G85: այդ թվում` ըստ կատարողների
G86: =+'h3'!D73 -> ՀՀ տարածքային կառավարման և ենթակառուցվածքների նախարարություն | H86: =+H88 -> -15000
G87: այդ թվում` բյուջետային ծախսերի տնտեսագիտական դասակարգման հոդվածներ
G88: ԸՆԴԱՄԵՆԸ ԾԱԽՍԵՐ | H88: =+H89 -> -15000
G89: ԸՆԹԱՑԻԿ ԾԱԽՍԵՐ | H89: =+H90 -> -15000
G90: ԱՇԽԱՏԱՆՔԻ ՎԱՐՁԱՏՐՈՒԹՅՈՒՆ | H90: =+H91 -> -15000
G91: Դրամով վճարվող աշխատավարձեր և հավելավճարներ | H91: =+H92 -> -15000
G92: - Աշխատողների աշխատավարձեր և հավելավճարներ | H92: =+'h3'!E79 -> -15000
F93: =+'h3'!C80 -> 11012 | G93: =+'h3'!D80 -> Եվրասիական զարգացման բանկի աջակցությամբ իրականացվող Հյուսիս-հարավ միջանցքի զարգացման ծրագրի համակարգում և կառավարում | H93: =+H95 -> -25000
G94: այդ թվում` ըստ կատարողների
G95: =+'h3'!D82 -> ՀՀ տարածքային կառավարման և ենթակառուցվածքների նախարարություն | H95: =+H97 -> -25000
G96: այդ թվում` բյուջետային ծախսերի տնտեսագիտական դասակարգման հոդվածներ
G97: ԸՆԴԱՄԵՆԸ ԾԱԽՍԵՐ | H97: =+H98 -> -25000
G98: ԸՆԹԱՑԻԿ ԾԱԽՍԵՐ | H98: =+H99 -> -25000
G99: ԱՇԽԱՏԱՆՔԻ ՎԱՐՁԱՏՐՈՒԹՅՈՒՆ | H99: =+H100 -> -25000
G100: Դրամով վճարվող աշխատավարձեր և հավելավճարներ | H100: =+H101 -> -25000
G101: - Աշխատողների աշխատավարձեր և հավելավճարներ | H101: =+'h3'!E88 -> -25000
...

Sheet h3
G1: Հավելված N 3
G2: ՀՀ կառավարության 2024 թվականի
G3: ______________ ի ___Ն որոշման
B5: «ՀԱՅԱՍՏԱՆԻ ՀԱՆՐԱՊԵՏՈՒԹՅԱՆ 2024 ԹՎԱԿԱՆԻ ՊԵՏԱԿԱՆ ԲՅՈՒՋԵԻ ՄԱՍԻՆ» ՀԱՅԱՍՏԱՆԻ ՀԱՆՐԱՊԵՏՈՒԹՅԱՆ ՕՐԵՆՔԻ N 1 ՀԱՎԵԼՎԱԾԻ N 4 ԱՂՅՈՒՍԱԿՈՒՄ ԵՎ ՀԱՅԱՍՏԱՆԻ ՀԱՆՐԱՊԵՏՈՒԹՅԱՆ ԿԱՌԱՎԱՐՈՒԹՅԱՆ 2023 ԹՎԱԿԱՆԻ ԴԵԿՏԵՄԲԵՐԻ 28-Ի N 2323-Ն ՈՐՈՇՄԱՆ N 5 ՀԱՎԵԼՎԱԾԻ N 3 ԱՂՅՈՒՍԱԿՈՒՄ ԿԱՏԱՐՎՈՂ ՓՈՓՈԽՈՒԹՅՈՒՆՆԵՐԸ
G7: (հազ. դրամ)
B8: Ծրագրային դասիչը | D8: Բյուջետային հատկացումների գլխավոր կարգադրիչների, ծրագրերի, միջոցառումների և միջոցառումները կատարող պետական մարմինների անվանումները | E8: Ցուցանիշների փոփոխությունը (ավելացումները նշված են դրական նշանով, իսկ նվազեցումները` փակագծերում)
E10: Տարի
B11: ծրագիրը | C11: միջոցառումը | E11: ընդամենը | F11: այդ թվում՝
F12: վարկային միջոցներ | G12: համաֆինան_x000D_ սավորում
D13: ԸՆԴԱՄԵՆԸ | E13: =F13+G13 -> 0 | F13: =+F15+F16 -> 0 | G13: =+G15+G16 -> 0
D14: այդ թվում`
D15: ԸՆԹԱՑԻԿ ԾԱԽՍԵՐ | E15: =+F15+G15 -> -76050.4 | F15: =+F68+F76+F85+F26 -> -66266.4 | G15: =+G68+G76+G85+G26 -> -9784
D16: - ՈՉ ՖԻՆԱՆՍԱԿԱՆ ԱԿՏԻՎՆԵՐԻ ԳԾՈՎ ԾԱԽՍԵՐ | E16: =F16+G16 -> 76050.4 | F16: =F34+F48+F57+F94+F107+F116+F128+F140+F155 -> 66266.4 | G16: =G34+G48+G57+G94+G107+G116+G128+G140+G155 -> 9784
D17: ՀՀ վարչապետի աշխատակազմ | E17: =E19 -> -185272.9 | F17: =F19 -> -150317.7 | G17: =G19 -> -34955.2 | I17: =+F40+F61+F100+F121+F133+F148+F17 -> 0 | J17: =+G40+G61+G100+G121+G133+G148+G17 -> 0
D18: այդ թվում`
B19: 1018 | D19: Պետական հատվածի արդիականացման ծրագիր | E19: =F19+G19 -> -185272.9 | F19: =F21+F29 -> -150317.7 | G19: =G21+G29 -> -34955.2
D20: այդ թվում`
C21: 11004 | D21: Համաշխարհային բանկի աջակցությամբ իրականացվող Պետական հատվածի արդիականացման չորրորդ ծրագրի շրջանակներում խորհրդատվական ծառայությունների ձեռքբերում | E21: =F21+G21 -> -30750.4 | F21: =F23 -> -20966.4 | G21: =G23 -> -9784
D22: այդ թվում` ըստ կատարողների
D23: ՀՀ վարչապետի աշխատակազմ | E23: =F23+G23 -> -30750.4 | F23: =F25 -> -20966.4 | G23: =G25 -> -9784
D24: այդ թվում` բյուջետային ծախսերի տնտեսագիտական դասակարգման հոդվածներ
D25: ԸՆԴԱՄԵՆԸ ԾԱԽՍԵՐ | E25: =F25+G25 -> -30750.4 | F25: =F26 -> -20966.4 | G25: =G26 -> -9784
D26: ԸՆԹԱՑԻԿ ԾԱԽՍԵՐ | E26: =F26+G26 -> -30750.4 | F26: =F27 -> -20966.4 | G26: =G27 -> -9784
D27: ԱՅԼ ԾԱԽՍԵՐ | E27: =F27+G27 -> -30750.4 | F27: =F28 -> -20966.4 | G27: =G28 -> -9784
D28: Այլ ծախսեր | E28: =F28+G28 -> -30750.4 | F28: -20966.4 | G28: -9784
C29: 32003 | D29: Համաշխարհային բանկի աջակցությամբ իրականացվող Պետական հատվածի արդիականացման չորրորդ ծրագրի շրջանակներում էլեկտրոնային կառավարման համակարգերի և սարքավորումների ձեռքբերում | E29: =F29+G29 -> -154522.5 | F29: =F31 -> -129351.3 | G29: =G31 -> -25171.2
D30: այդ թվում` ըստ կատարողների
D31: ՀՀ վարչապետի աշխատակազմ | E31: =F31+G31 -> -154522.5 | F31: =F33 -> -129351.3 | G31: =G33 -> -25171.2
D32: այդ թվում` բյուջետային ծախսերի տնտեսագիտական դասակարգման հոդվածներ
D33: ԸՆԴԱՄԵՆԸ ԾԱԽՍԵՐ | E33: =E34 -> -154522.5 | F33: =F34 -> -129351.3 | G33: =G34 -> -25171.2
D34: ՈՉ ՖԻՆԱՆՍԱԿԱՆ ԱԿՏԻՎՆԵՐԻ ԳԾՈՎ ԾԱԽՍԵՐ | E34: =E35 -> -154522.5 | F34: =F35 -> -129351.3 | G34: =G35 -> -25171.2
D35: ՀԻՄՆԱԿԱՆ ՄԻՋՈՑՆԵՐ | E35: =E36 -> -154522.5 | F35: =F36 -> -129351.3 | G35: =G36 -> -25171.2
D36: ՄԵՔԵՆԱՆԵՐ ԵՎ ՍԱՐՔԱՎՈՐՈՒՄՆԵՐ | E36: =F36+G36 -> -154522.5 | F36: =F37 -> -129351.3 | G36: =G37 -> -25171.2
D37: - Այլ մեքենաներ և սարքավորումներ | E37: =F37+G37 -> -154522.5 | F37: -129351.3 | G37: -25171.2
D38: ՀՀ տարածքային կառավարման և ենթակառուցվածքների նախարարություն | E38: =F38+G38 -> -852588.3 | F38: =+F40+F61+F100 -> -746200 | G38: =+G40+G61+G100 -> -106388.3 | P38: =+F13-75000 -> -75000
D39: այդ թվում`
B40: 1004 | D40: Ոռոգման համակարգի առողջացում | E40: =+F40+G40 -> -242250 | F40: =+F43+F52 -> -197900 | G40: =+G43+G52 -> -44350
D41: այդ թվում`
D42: Այլ ծախսեր | E42: =F42+G42 -> -57900 | G42: -57900 | M42: -75000 | N42: -45000
C43: 31005 | D43: Եվրասիական զարգացման բանկի աջակցությամբ իրականացվող ոռոգման համակարգերի զարգացման ծրագրի շրջանակներում ջրային տնտեսության ենթակառուցվածքների հիմնանորոգում | E43: =F43+G43 -> -62370 | F43: =+F45 -> -52200 | G43: =+G45 -> -10170
D44: այդ թվում` ըստ կատարողների
D45: ՀՀ տարածքային կառավարման և ենթակառուցվածքների նախարարության ջրային կոմիտե | E45: =F45+G45 -> -62370 | F45: =+F47 -> -52200 | G45: =+G47 -> -10170
D46: այդ թվում` բյուջետային ծախսերի տնտեսագիտական դասակարգման հոդվածներ
D47: ԸՆԴԱՄԵՆԸ ԾԱԽՍԵՐ | E47: =F47+G47 -> -62370 | F47: =+F48 -> -52200 | G47: =+G48 -> -10170
D48: ՈՉ ՖԻՆԱՆՍԱԿԱՆ ԱԿՏԻՎՆԵՐԻ ԳԾՈՎ ԾԱԽՍԵՐ | E48: =F48+G48 -> -62370 | F48: =+F49 -> -52200 | G48: =+G49 -> -10170
D49: ՀԻՄՆԱԿԱՆ ՄԻՋՈՑՆԵՐ | E49: =F49+G49 -> -62370 | F49: =+F50 -> -52200 | G49: =+G50 -> -10170
D50: ՇԵՆՔԵՐ ԵՎ ՇԻՆՈՒԹՅՈՒՆՆԵՐ | E50: =F50+G50 -> -62370 | F50: =+F51 -> -52200 | G50: =+G51 -> -10170
D51: - Շենքերի և շինությունների շինարարություն | E51: =F51+G51 -> -62370 | F51: -52200 | G51: -10170
C52: 31006 | D52: Գերմանիայի զարգացման վարկերի բանկի աջակցությամբ իրականացվող Ախուրյան գետի ջրային ռեսուրսների ինտեգրացված կառավարման ծրագրի երկրորդ փուլի շրջանակներում ջրային տնտեսության ենթակառուցվածքների հիմնանորոգում | E52: =F52+G52 -> -179880 | F52: =+F54 -> -145700 | G52: =+G54 -> -34180
D53: այդ թվում` ըստ կատարողների
D54: ՀՀ տարածքային կառավարման և ենթակառուցվածքների նախարարության ջրային կոմիտե | E54: =F54+G54 -> -179880 | F54: =+F56 -> -145700 | G54: =+G56 -> -34180
D55: այդ թվում` բյուջետային ծախսերի տնտեսագիտական դասակարգման հոդվածներ
D56: ԸՆԴԱՄԵՆԸ ԾԱԽՍԵՐ | E56: =F56+G56 -> -179880 | F56: =+F57 -> -145700 | G56: =+G57 -> -34180
D57: ՈՉ ՖԻՆԱՆՍԱԿԱՆ ԱԿՏԻՎՆԵՐԻ ԳԾՈՎ ԾԱԽՍԵՐ | E57: =F57+G57 -> -179880 | F57: =+F58 -> -145700 | G57: =+G58 -> -34180
D58: ՀԻՄՆԱԿԱՆ ՄԻՋՈՑՆԵՐ | E58: =F58+G58 -> -179880 | F58: =+F59 -> -145700 | G58: =+G59 -> -34180
D59: ՇԵՆՔԵՐ ԵՎ ՇԻՆՈՒԹՅՈՒՆՆԵՐ | E59: =F59+G59 -> -179880 | F59: =+F60 -> -145700 | G59: =+G60 -> -34180
D60: - Շենքերի և շինությունների շինարարություն | E60: =F60+G60 -> -179880 | F60: -145700 | G60: -34180
B61: 1049 | D61: Ճանապարհային ցանցի բարելավում | E61: =+F61+G61 -> -278300 | F61: =+F63+F71+F80+F89 -> -278300 | G61: =+G63+G71+G80+G89 -> 0
D62: այդ թվում`
C63: 11009 | D63: Ասիական զարգացման բանկի աջակցությամբ իրականացվող Հյուսիս-հարավ միջանցքի զարգացման ծրագրի համակարգում և կառավարում (Տրանշ 2) | E63: =F63+G63 -> -5300 | F63: =+F65 -> -5300 | G63: =+G65 -> 0
D64: այդ թվում` ըստ կատարողների
D65: ՀՀ տարածքային կառավարման և ենթակառուցվածքների նախարարություն | E65: =F65+G65 -> -5300 | F65: =+F67 -> -5300 | G65: =+G67 -> 0
D66: այդ թվում` բյուջետային ծախսերի տնտեսագիտական դասակարգման հոդվածներ
D67: ԸՆԴԱՄԵՆԸ ԾԱԽՍԵՐ | E67: =F67+G67 -> -5300 | F67: =+F68 -> -5300 | G67: =+G68 -> 0
D68: ԸՆԹԱՑԻԿ ԾԱԽՍԵՐ | E68: =F68+G68 -> -5300 | F68: =+F69 -> -5300 | G68: =+G69 -> 0
D69: ԱՅԼ ԾԱԽՍԵՐ | E69: =F69+G69 -> -5300 | F69: =+F70 -> -5300 | G69: =+G70 -> 0
D70: Այլ ծախսեր | E70: =F70+G70 -> -5300 | F70: -5300
C71: 11011 | D71: Ասիական զարգացման բանկի աջակցությամբ իրականացվող Հյուսիս-հարավ միջանցքի զարգացման ծրագրի համակարգում և կառավարում (Տրանշ 3) | E71: =F71+G71 -> -15000 | F71: =+F73 -> -15000 | G71: =+G73 -> 0
D72: այդ թվում` ըստ կատարողների
D73: ՀՀ տարածքային կառավարման և ենթակառուցվածքների նախարարություն | E73: =F73+G73 -> -15000 | F73: =+F75 -> -15000 | G73: =+G75 -> 0
D74: այդ թվում` բյուջետային ծախսերի տնտեսագիտական դասակարգման հոդվածներ
D75: ԸՆԴԱՄԵՆԸ ԾԱԽՍԵՐ | E75: =F75+G75 -> -15000 | F75: =+F76 -> -15000 | G75: =+G76 -> 0
D76: ԸՆԹԱՑԻԿ ԾԱԽՍԵՐ | E76: =F76+G76 -> -15000 | F76: =+F77 -> -15000 | G76: =+G77 -> 0
D77: ԱՇԽԱՏԱՆՔԻ ՎԱՐՁԱՏՐՈՒԹՅՈՒՆ | E77: =F77+G77 -> -15000 | F77: =+F78 -> -15000 | G77: =+G78 -> 0
D78: Դրամով վճարվող աշխատավարձեր և հավելավճարներ | E78: =F78+G78 -> -15000 | F78: =+F79 -> -15000 | G78: =+G79 -> 0
D79: - Աշխատողների աշխատավարձեր և հավելավճարներ | E79: =F79+G79 -> -15000 | F79: -15000
C80: 11012 | D80: Եվրասիական զարգացման բանկի աջակցությամբ իրականացվող Հյուսիս-հարավ միջանցքի զարգացման ծրագրի համակարգում և կառավարում | E80: =F80+G80 -> -25000 | F80: =+F82 -> -25000 | G80: =+G82 -> 0
D81: այդ թվում` ըստ կատարողների
D82: ՀՀ տարածքային կառավարման և ենթակառուցվածքների նախարարություն | E82: =F82+G82 -> -25000 | F82: =+F84 -> -25000 | G82: =+G84 -> 0
D83: այդ թվում` բյուջետային ծախսերի տնտեսագիտական դասակարգման հոդվածներ
D84: ԸՆԴԱՄԵՆԸ ԾԱԽՍԵՐ | E84: =F84+G84 -> -25000 | F84: =+F85 -> -25000 | G84: =+G85 -> 0
D85: ԸՆԹԱՑԻԿ ԾԱԽՍԵՐ | E85: =F85+G85 -> -25000 | F85: =+F86 -> -25000 | G85: =+G86 -> 0
D86: ԱՇԽԱՏԱՆՔԻ ՎԱՐՁԱՏՐՈՒԹՅՈՒՆ | E86: =F86+G86 -> -25000 | F86: =+F87 -> -25000 | G86: =+G87 -> 0
D87: Դրամով վճարվող աշխատավարձեր և հավելավճարներ | E87: =F87+G87 -> -25000 | F87: =+F88 -> -25000 | G87: =+G88 -> 0
D88: - Աշխատողների աշխատավարձեր և հավելավճարներ | E88: =F88+G88 -> -25000 | F88: -25000
C89: 21011 | D89: Ասիական զարգացման բանկի աջակցությամբ իրականացվող Հյուսիս-հարավ միջանցքի զարգացման վարկային ծրագիր, Տրանշ 3 | E89: =F89+G89 -> -233000 | F89: =F91 -> -233000 | G89: =G91 -> 0
D90: այդ թվում` ըստ կատարողների
D91: ՀՀ տարածքային կառավարման և ենթակառուցվածքների նախարարություն | E91: =F91+G91 -> -233000 | F91: =F93 -> -233000 | G91: =G93 -> 0
D92: այդ թվում` բյուջետային ծախսերի տնտեսագիտական դասակարգման հոդվածներ
D93: ԸՆԴԱՄԵՆԸ ԾԱԽՍԵՐ | E93: =F93+G93 -> -233000 | F93: =F94 -> -233000 | G93: =G94 -> 0
D94: ՈՉ ՖԻՆԱՆՍԱԿԱՆ ԱԿՏԻՎՆԵՐԻ ԳԾՈՎ ԾԱԽՍԵՐ | E94: =F94+G94 -> -233000 | F94: =F95 -> -233000 | G94: =G95 -> 0
D95: ՀԻՄՆԱԿԱՆ ՄԻՋՈՑՆԵՐ | E95: =F95+G95 -> -233000 | F95: =+F96+F98 -> -233000 | G95: =+G96+G98 -> 0
D96: ՇԵՆՔԵՐ ԵՎ ՇԻՆՈՒԹՅՈՒՆՆԵՐ | E96: =F96+G96 -> -165000 | F96: =F97 -> -165000 | G96: =G97 -> 0
D97: - Շենքերի և շինությունների շինարարություն | E97: =F97+G97 -> -165000 | F97: -165000 | G97: 0
D98: ԱՅԼ ՀԻՄՆԱԿԱՆ ՄԻՋՈՑՆԵՐ | E98: =F98+G98 -> -68000 | F98: =F99 -> -68000 | G98: =G99 -> 0
D99: - Նախագծահետազոտական ծախսեր | E99: =F99+G99 -> -68000 | F99: -68000
B100: 1072 | D100: Ջրամատակարարաման և ջրահեռացման բարելավում | E100: =+F100+G100 -> -332038.3 | F100: =+F102+F111 -> -270000 | G100: =+G102+G111 -> -62038.3
D101: այդ թվում`
C102: 31001 | D102: Գերմանիայի զարգացման վարկերի բանկի աջակցությամբ իրականացվող ջրամատակարարման և ջրահեռացման ենթակառուցվածքների վերականգնման ծրագրի երրորդ փուլի շրջանակներում ջրամատակարարման և ջրահեռացման ենթակառուցվածքների հիմնանորոգում | E102: =F102+G102 -> -226038.3 | F102: =+F104 -> -172000 | G102: =+G104 -> -54038.3
D103: այդ թվում` ըստ կատարողների
...

Sheet h4
B1: Հավելված N 4
B2: ՀՀ կառավարության 2024 թվականի
B3: ______________ ի ___Ն որոշման
B5: ՀԱՅԱՍՏԱՆԻ ՀԱՆՐԱՊԵՏՈՒԹՅԱՆ ԿԱՌԱՎԱՐՈՒԹՅԱՆ 2023 ԹՎԱԿԱՆԻ ԴԵԿՏԵՄԲԵՐԻ 28-Ի N 2323-Ն ՈՐՈՇՄԱՆ N 9 ՀԱՎԵԼՎԱԾԻ N 9.3, 9.7, 9.10, 9.13 ԵՎ N 9.25 ԱՂՅՈՒՍԱԿՆԵՐՈՒՄ ԿԱՏԱՐՎՈՂ ՓՈՓՈԽՈՒԹՅՈՒՆՆԵՐԸ ԵՎ ԼՐԱՑՈՒՄՆԵՐԸ
D6: Աղյուսակ N 9.3
B7: ՀՀ վարչապետի աշխատակազմ
B8: ՄԱՍ 2. ՊԵՏԱԿԱՆ ՄԱՐՄՆԻ ԳԾՈՎ ԱՐԴՅՈՒՆՔԱՅԻՆ (ԿԱՏԱՐՈՂԱԿԱՆ) ՑՈՒՑԱՆԻՇՆԵՐԸ
B10: Ծրագրի դասիչը | C10: Ծրագրի անվանումը
B11: 1018 | C11: Պետական հատվածի արդիականացման ծրագիր
B13: Ծրագրի միջոցառումները
B14: Ծրագրի դասիչը` | C14: 1018 | D14: Ցուցանիշների փոփոխությունը (նվազեցումները նշված են փակագծերում)
B15: Միջոցառման դասիչը` | C15: 11004 | D15: Տարի
B16: Միջոցառման անվանումը` | C16: Համաշխարհային բանկի աջակցությամբ իրականացվող Պետական հատվածի արդիականացման չորրորդ ծրագրի շրջանակներում խորհրդատվական ծառայությունների ձեռքբերում
B17: Նկարագրությունը` | C17: ՀՀ հանրային հատվածի բարեփոխումների մշակման և իրականացման խորհրդատվական ծառայությունների ձեռքբերում
B18: Միջոցառման տեսակը` | C18: Ծառայությունների մատուցում
B19: Ակտիվն օգտագործող կազմակերպության անվանումը | C19: Մասնագիտացված միավոր
B20: Արդյունքի չափորոշիչներ
B21: Մրցակցության պաշտպանության հանձնաժողովի գործերի կառավարման էլ. համակարգի նոր մոդուլի արտաքին դիզայնի և ֆունկցիոնալության մշակում, տոկոս | D21: -100
B22: Միջոցառման վրա կատարվող ծախսը (հազար դրամ) | D22: ='h2'!H23 -> -30750.4
B25: Ծրագրի դասիչը` | C25: 1018 | D25: Ցուցանիշների փոփոխությունը (նվազեցումները նշված են փակագծերում)
B26: Միջոցառման դասիչը` | C26: 32003
B27: Միջոցառման անվանումը` | C27: Համաշխարհային բանկի աջակցությամբ իրականացվող Պետական հատվածի արդիականացման չորրորդ ծրագրի շրջանակներում էլեկտրոնային կառավարման համակարգերի և սարքավորումների ձեռքբերում
B28: Նկարագրությունը` | C28: Համաշխարհային բանկի աջակցությամբ իրականացվող Պետական հատվածի արդիականացման չորրորդ ծրագրի շրջանակներում էլեկտրոնային կառավարման համակարգերի և սարքավորումների ձեռքբերում
B29: Միջոցառման տեսակը` | C29: Այլ պետական կազմակերպությունների կողմից օգտագործվող ոչ ֆինանսական ակտիվների հետ գործառնություններ
B30: Ակտիվն օգտագործող կազմակերպության անվանումը | C30: ՀՀ հանրային հատվածի կազմակերպություններ
B31: Արդյունքի չափորոշիչներ
B32: Հարկ վճարողների նոր անհատական հաշվի քարտի էլեկտրոնային համակարգի ներդրում, հատ | D32: -1
B33: Միջոցառման վրա կատարվող ծախսը (հազար դրամ) | D33: ='h2'!H31 -> -154522.5
D36: Աղյուսակ N 9.7
B37: ՀՀ տարածքային կառավարման և ենթակառուցվածքների նախարարություն
B38: ՄԱՍ 2. ՊԵՏԱԿԱՆ ՄԱՐՄՆԻ ԳԾՈՎ ԱՐԴՅՈՒՆՔԱՅԻՆ (ԿԱՏԱՐՈՂԱԿԱՆ) ՑՈՒՑԱՆԻՇՆԵՐԸ
B40: Ծրագրի դասիչը | C40: Ծրագրի անվանումը
B41: 1004 | C41: Ոռոգման համակարգի առողջացում
B43: Ծրագրի միջոցառումները
B44: Ծրագրի դասիչը` | C44: 1004 | D44: Ցուցանիշների փոփոխությունը (նվազեցումները նշված են փակագծերում)
B45: Միջոցառման դասիչը` | C45: 31005 | D45: Տարի
B46: Միջոցառման անվանումը` | C46: Եվրասիական զարգացման բանկի աջակցությամբ իրականացվող ոռոգման համակարգերի զարգացման ծրագրի շրջանակներում ջրային տնտեսության ենթակառուցվածքների հիմնանորոգում
B47: Նկարագրությունը` | C47: Եվրասիական զարգացման բանկի աջակցությամբ իրականացվող ոռոգման համակարգերի զարգացման ծրագիր
B48: Միջոցառման տեսակը` | C48: Պետական մարմինների կողմից օգտագործվող ոչ ֆինանսական ակտիվների հետ գործառնություններ
B49: Ակտիվն օգտագործող կազմակերպության(ների) անվանում(ները)՛ | C49: Մասնագիտացված միավոր
B50: Արդյունքի չափորոշիչներ
B51: Հիմնանորոգվող ոռոգման ցանցերի երկարություն, կմ | D51: -0.8
B52: Միջոցառման վրա կատարվող ծախսը (հազար դրամ) | D52: ='h1'!E40 -> -62370
B54: Ծրագրի դասիչը` | C54: 1004 | D54: Ցուցանիշների փոփոխությունը (նվազեցումները նշված են փակագծերում)
B55: Միջոցառման դասիչը` | C55: 31006 | D55: Տարի
B56: Միջոցառման անվանումը` | C56: Գերմանիայի զարգացման վարկերի բանկի աջակցությամբ իրականացվող Ախուրյան գետի ջրային ռեսուրսների ինտեգրացված կառավարման ծրագրի երկրորդ փուլի շրջանակներում ջրային տնտեսության ենթակառուցվածքների հիմնանորոգում
B57: Նկարագրությունը` | C57: Գերմանիայի զարգացման վարկերի բանկի աջակցությամբ իրականացվող Ախուրյան գետի ջրային ռեսուրսների ինտեգրացված կառավարման ծրագրի երկրորդ փուլ
B58: Միջոցառման տեսակը` | C58: Պետական մարմինների կողմից օգտագործվող ոչ ֆինանսական ակտիվների հետ գործառնություններ
B59: Ակտիվն օգտագործող կազմակերպության(ների) անվանում(ները)՛ | C59: Մասնագիտացված միավոր
B60: Արդյունքի չափորոշիչներ
B61: Միջոցառման վրա կատարվող ծախսը (հազար դրամ) | D61: =+'h3'!E52 -> -179880
B64: Ծրագրի դասիչը | C64: Ծրագրի անվանումը
B65: 1049 | C65: =+'h3'!D61 -> Ճանապարհային ցանցի բարելավում
B67: Ծրագրի միջոցառումները
B68: Ծրագրի դասիչը` | C68: 1049 | D68: Ցուցանիշների փոփոխությունը (նվազեցումները նշված են փակագծերում)
B69: Միջոցառման դասիչը` | C69: 11009 | D69: Տարի
B70: Միջոցառման անվանումը` | C70: Ասիական զարգացման բանկի աջակցությամբ իրականացվող Հյուսիս-հարավ միջանցքի զարգացման ծրագրի համակարգում և կառավարում ( Տրանշ 2)
B71: Նկարագրությունը` | C71: Խորհրդատվական ծառայություններ և պահպանման ծախսեր
B72: Միջոցառման տեսակը` | C72: Ծառայությունների մատուցում
B73: Միջոցառումն իրականացնողի անվանումը՛ | C73: Մասնագիտացված միավոր
B74: Արդյունքի չափորոշիչներ
B75: Միջոցառման վրա կատարվող ծախսը (հազար դրամ) | D75: =+'h3'!E63 -> -5300
B77: Ծրագրի դասիչը` | C77: 1049 | D77: Ցուցանիշների փոփոխությունը (նվազեցումները նշված են փակագծերում)
B78: Միջոցառման դասիչը` | C78: 11011 | D78: Տարի
B79: Միջոցառման անվանումը` | C79: Ասիական զարգացման բանկի աջակցությամբ իրականացվող Հյուսիս-հարավ միջանցքի զարգացման ծրագրի համակարգում և կառավարում (Տրանշ 3)
B80: Նկարագրությունը` | C80: Խորհրդատվական ծառայություններ և պահպանման ծախսեր
B81: Միջոցառման տեսակը` | C81: Ծառայությունների մատուցում
B82: Միջոցառումն իրականացնողի անվանումը՛ | C82: Մասնագիտացված միավոր
B83: Արդյունքի չափորոշիչներ
B84: Միջոցառման վրա կատարվող ծախսը (հազար դրամ) | D84: =+'h3'!E71 -> -15000
B86: Ծրագրի դասիչը` | C86: 1049 | D86: Ցուցանիշների փոփոխությունը (նվազեցումները նշված են փակագծերում)
B87: Միջոցառման դասիչը` | C87: 11012 | D87: Տարի
B88: Միջոցառման անվանումը` | C88: Եվրասիական զարգացման բանկի աջակցությամբ իրականացվող Հյուսիս-հարավ միջանցքի զարգացման ծրագրի համակարգում և կառավարում
B89: Նկարագրությունը` | C89: Խորհրդատվական ծառայություններ և պահպանման ծախսեր
B90: Միջոցառման տեսակը` | C90: Ծառայությունների մատուցում
B91: Միջոցառումն իրականացնողի անվանումը՛ | C91: Մասնագիտացված միավոր
B92: Արդյունքի չափորոշիչներ
B93: Միջոցառման վրա կատարվող ծախսը (հազար դրամ) | D93: =+'h3'!E80 -> -25000
B95: Ծրագրի դասիչը` | C95: 1049 | D95: Ցուցանիշների փոփոխությունը (նվազեցումները նշված են փակագծերում)
B96: Միջոցառման դասիչը` | C96: 21011 | D96: Տարի
B97: Միջոցառման անվանումը` | C97: Ասիական զարգացման բանկի աջակցությամբ իրականացվող Հյուսիս-հարավ միջանցքի զարգացման վարկային ծրագիր, Տրանշ 3
B98: Նկարագրությունը` | C98: Հատված Թալին-Լանջիկ 71+500 կմ-90+200 կմ կառուցման շինարարական աշխատանքներ
B99: Միջոցառման տեսակը` | C99: Հանրության կողմից անմիջականորեն օգտագործվող ակտիվների հետ կապված միջոցառումներ
B100: Միջոցառումն իրականացնողի անվանումը՛ | C100: Մասնագիտացված միավոր
B101: Արդյունքի չափորոշիչներ
B102: Միջոցառման վրա կատարվող ծախսը (հազար դրամ) | D102: =+'h3'!E89 -> -233000
B105: Ծրագրի դասիչը | C105: Ծրագրի անվանումը
B106: =+'h3'!B100 -> 1072 | C106: =+'h3'!D100 -> Ջրամատակարարաման և ջրահեռացման բարելավում
B108: Ծրագրի միջոցառումները
B109: Ծրագրի դասիչը` | C109: 1072 | D109: Ցուցանիշների փոփոխությունը (նվազեցումները նշված են փակագծերում)
B110: Միջոցառման դասիչը` | C110: 31001 | D110: Տարի
B111: Միջոցառման անվանումը` | C111: Գերմանիայի զարգացման վարկերի բանկի աջակցությամբ իրականացվող ջրամատակարարման և ջրահեռացման ենթակառուցվածքների վերականգնման ծրագրի երրորդ փուլի շրջանակներում ջրամատակարարման և ջրահեռացման ենթակառուցվածքների հիմնանորոգում
B112: Նկարագրությունը` | C112: 6 քաղաքների և 37 գյուղական բնակավայրերի ջրամատակարարման և ջրահեռացման համակարգերի հատվածների հրատապ (մասնակի) վերականգնման աշխատանքներ
B113: Միջոցառման տեսակը` | C113: Պետական մարմինների կողմից օգտագործվող ոչ ֆինանսական ակտիվների հետ գործառնություններ
B114: Ակտիվն օգտագործող կազմակերպության(ների) անվանում(ները)՛ | C114: Մասնագիտացված միավոր
B115: Արդյունքի չափորոշիչներ
B116: Միջոցառման վրա կատարվող ծախսը (հազար դրամ) | D116: =+'h3'!E102 -> -226038.3
B118: Ծրագրի դասիչը` | C118: 1072 | D118: Ցուցանիշների փոփոխությունը (նվազեցումները նշված են փակագծերում)
B119: Միջոցառման դասիչը` | C119: 31002 | D119: Տարի
B120: Միջոցառման անվանումը` | C120: Եվրոպական ներդրումային բանկի աջակցությամբ իրականացվող ջրամատակարարման և ջրահեռացման ենթակառուցվածքների վերականգնման ծրագրի երրորդ փուլի շրջանակներում ջրամատակարարման և ջրահեռացման ենթակառուցվածքների հիմնանորոգում
...

Sheet h5
B1: Հավելված N 5
B2: ՀՀ կառավարության 2024 թվականի
B3: ______________ ի ___Ն որոշման
B5: ՀԱՅԱՍՏԱՆԻ ՀԱՆՐԱՊԵՏՈՒԹՅԱՆ ԿԱՌԱՎԱՐՈՒԹՅԱՆ 2023 ԹՎԱԿԱՆԻ ԴԵԿՏԵՄԲԵՐԻ 28-Ի N 2323-Ն ՈՐՈՇՄԱՆ N 9.1 ՀԱՎԵԼՎԱԾԻ N9.1.3, 9.1.7, 9.1.10, 9.1.25 ԵՎ N 9.1.27 ԱՂՅՈՒՍԱԿՆԵՐՈՒՄ ԿԱՏԱՐՎՈՂ ՓՈՓՈԽՈՒԹՅՈՒՆՆԵՐԸ ԵՎ ԼՐԱՑՈՒՄՆԵՐԸ
D7: Աղյուսակ N 9.1. 3
B8: ՀՀ վարչապետի աշխատակազմ
B9: ՄԱՍ 1. ՊԵՏԱԿԱՆ ՄԱՐՄՆԻ ԳԾՈՎ ԱՐԴՅՈՒՆՔԱՅԻՆ (ԿԱՏԱՐՈՂԱԿԱՆ) ՑՈՒՑԱՆԻՇՆԵՐԸ
B11: Ծրագրի դասիչը | C11: Ծրագրի անվանումը
B12: 1018 | C12: Պետական հատվածի արդիականացման ծրագիր
B14: Ծրագրի միջոցառումները
B15: Ծրագրի դասիչը` | C15: 1018 | D15: Ցուցանիշների փոփոխությունը (նվազեցումները նշված են փակագծերում)
B16: Միջոցառման դասիչը` | C16: 11004 | D16: Տարի
B17: Միջոցառման անվանումը` | C17: Համաշխարհային բանկի աջակցությամբ իրականացվող Պետական հատվածի արդիականացման չորրորդ ծրագրի շրջանակներում խորհրդատվական ծառայությունների ձեռքբերում
B18: Նկարագրությունը` | C18: ՀՀ հանրային հատվածի բարեփոխումների մշակման և իրականացման խորհրդատվական ծառայությունների ձեռքբերում
B19: Միջոցառման տեսակը` | C19: Ծառայությունների մատուցում
B20: Ակտիվն օգտագործող կազմակերպության անվանումը | C20: Մասնագիտացված միավոր
B21: Արդյունքի չափորոշիչներ
B22: Մրցակցության պաշտպանության հանձնաժողովի գործերի կառավարման էլ. համակարգի նոր մոդուլի արտաքին դիզայնի և ֆունկցիոնալության մշակում, տոկոս | D22: -100
B23: Միջոցառման վրա կատարվող ծախսը (հազար դրամ) | D23: ='h3'!E21 -> -30750.4
B25: Ծրագրի դասիչը` | C25: 1018 | D25: Ցուցանիշների փոփոխությունը (նվազեցումները նշված են փակագծերում)
B26: Միջոցառման դասիչը` | C26: 32003 | D26: Տարի
B27: Միջոցառման անվանումը` | C27: Համաշխարհային բանկի աջակցությամբ իրականացվող Պետական հատվածի արդիականացման չորրորդ ծրագրի շրջանակներում էլեկտրոնային կառավարման համակարգերի և սարքավորումների ձեռքբերում
B28: Նկարագրությունը` | C28: Համաշխարհային բանկի աջակցությամբ իրականացվող Պետական հատվածի արդիականացման չորրորդ ծրագրի շրջանակներում էլեկտրոնային կառավարման համակարգերի և սարքավորումների ձեռքբերում
B29: Միջոցառման տեսակը` | C29: Այլ պետական կազմակերպությունների կողմից օգտագործվող ոչ ֆինանսական ակտիվների հետ գործառնություններ
B30: Ակտիվն օգտագործող կազմակերպության անվանումը | C30: ՀՀ հանրային հատվածի կազմակերպություններ
B31: Արդյունքի չափորոշիչներ
B32: Հարկ վճարողների նոր անհատական հաշվի քարտի էլեկտրոնային համակարգի ներդրում, հատ | D32: -1
B33: Միջոցառման վրա կատարվող ծախսը (հազար դրամ) | D33: ='h2'!H31 -> -154522.5
D36: Աղյուսակ N 9.1.7
B37: ՀՀ տարածքային կառավարման և ենթակառուցվածքների նախարարություն
B38: ՄԱՍ 1. ՊԵՏԱԿԱՆ ՄԱՐՄՆԻ ԳԾՈՎ ԱՐԴՅՈՒՆՔԱՅԻՆ (ԿԱՏԱՐՈՂԱԿԱՆ) ՑՈՒՑԱՆԻՇՆԵՐԸ
B40: Ծրագրի դասիչը | C40: Ծրագրի անվանումը
B41: =+'h4'!B65 -> 1049 | C41: =+'h4'!C65 -> Ճանապարհային ցանցի բարելավում
B42: Ծրագրի միջոցառումները
B43: Ծրագրի դասիչը` | C43: 1049 | D43: Ցուցանիշների փոփոխությունը (նվազեցումները նշված են փակագծերում)
B44: Միջոցառման դասիչը` | C44: 11009 | D44: Տարի
B45: Միջոցառման անվանումը` | C45: Ասիական զարգացման բանկի աջակցությամբ իրականացվող Հյուսիս-հարավ միջանցքի զարգացման ծրագրի համակարգում և կառավարում ( Տրանշ 2)
B46: Նկարագրությունը` | C46: Խորհրդատվական ծառայություններ և պահպանման ծախսեր
B47: Միջոցառման տեսակը` | C47: Ծառայությունների մատուցում
B48: Միջոցառումն իրականացնողի անվանումը՛ | C48: Մասնագիտացված միավոր
B49: Արդյունքի չափորոշիչներ
B50: Միջոցառման վրա կատարվող ծախսը (հազար դրամ) | D50: =+'h4'!D75 -> -5300
B52: Ծրագրի դասիչը` | C52: 1049 | D52: Ցուցանիշների փոփոխությունը (նվազեցումները նշված են փակագծերում)
B53: Միջոցառման դասիչը` | C53: 11011 | D53: Տարի
B54: Միջոցառման անվանումը` | C54: Ասիական զարգացման բանկի աջակցությամբ իրականացվող Հյուսիս-հարավ միջանցքի զարգացման ծրագրի համակարգում և կառավարում (Տրանշ 3)
B55: Նկարագրությունը` | C55: Խորհրդատվական ծառայություններ և պահպանման ծախսեր
B56: Միջոցառման տեսակը` | C56: Ծառայությունների մատուցում
B57: Միջոցառումն իրականացնողի անվանումը՛ | C57: Մասնագիտացված միավոր
B58: Արդյունքի չափորոշիչներ
B59: Միջոցառման վրա կատարվող ծախսը (հազար դրամ) | D59: =+'h4'!D84 -> -15000
B61: Ծրագրի դասիչը` | C61: 1049 | D61: Ցուցանիշների փոփոխությունը (նվազեցումները նշված են փակագծերում)
B62: Միջոցառման դասիչը` | C62: 11012 | D62: Տարի
B63: Միջոցառման անվանումը` | C63: Եվրասիական զարգացման բանկի աջակցությամբ իրականացվող Հյուսիս-հարավ միջանցքի զարգացման ծրագրի համակարգում և կառավարում
B64: Նկարագրությունը` | C64: Խորհրդատվական ծառայություններ և պահպանման ծախսեր
B65: Միջոցառման տեսակը` | C65: Ծառայությունների մատուցում
B66: Միջոցառումն իրականացնողի անվանումը՛ | C66: Մասնագիտացված միավոր
B67: Արդյունքի չափորոշիչներ
B68: Միջոցառման վրա կատարվող ծախսը (հազար դրամ) | D68: =+'h4'!D93 -> -25000
B70: Ծրագրի դասիչը` | C70: 1049 | D70: Ցուցանիշների փոփոխությունը (նվազեցումները նշված են փակագծերում)
B71: Միջոցառման դասիչը` | C71: 21011 | D71: Տարի
B72: Միջոցառման անվանումը` | C72: Ասիական զարգացման բանկի աջակցությամբ իրականացվող Հյուսիս-հարավ միջանցքի զարգացման վարկային ծրագիր, Տրանշ 3
B73: Նկարագրությունը` | C73: Հատված Թալին-Լանջիկ 71+500 կմ-90+200 կմ կառուցման շինարարական աշխատանքներ
B74: Միջոցառման տեսակը` | C74: Հանրության կողմից անմիջականորեն օգտագործվող ակտիվների հետ կապված միջոցառումներ
B75: Միջոցառումն իրականացնողի անվանումը՛ | C75: Մասնագիտացված միավոր
B76: Արդյունքի չափորոշիչներ
B77: Միջոցառման վրա կատարվող ծախսը (հազար դրամ) | D77: =+'h4'!D102 -> -233000
B79: Ծրագրի դասիչը | C79: Ծրագրի անվանումը
B80: =+'h4'!B150 -> 1189 | C80: =+'h4'!C150 -> Դպրոցների սեյսմիկ անվտանգության մակարդակի բարձրացման ծրագիր
B82: Ծրագրի միջոցառումները
B83: Ծրագրի դասիչը` | C83: =+'h4'!C153 -> 1189 | D83: Ցուցանիշների փոփոխությունը (ավելացումները նշված են դրական նշանով)
B84: Միջոցառման դասիչը` | C84: =+'h4'!C154 -> 12003 | D84: Տարի
B85: Միջոցառման անվանումը` | C85: =+'h4'!C155 -> Ասիական զարգացման բանկի աջակցությամբ իրականացվող դպրոցների սեյսմիկ պաշտպանության ծրագրի լրացուցիչ ֆինանսավորման շրջանակներում ՀՀ դպրոցների սեյսմիկ անվտանգության բարելավմանն ուղղված միջոցառումներ
B86: Նկարագրությունը` | C86: =+'h4'!C156 -> Դպրոցների սեյսմիկ պաշտպանության լրացուցիչ ֆինանսավորման ծրագիր, դպրոցների շենքերի կառուցման, ամրացման շինարարական աշխատանքներ, շինարարական ստանդարտների արդիականացում, արտակարգ իրավիճակներին արձագանքման ծրագրի մշակում
B87: Միջոցառման տեսակը` | C87: =+'h4'!C157 -> Տրանսֆերտների տրամադրում
B88: Միջոցառումն իրականացնողի անվանումը՛ | C88: Մասնագիտացված միավոր
B89: Արդյունքի չափորոշիչներ
B90: Միջոցառման վրա կատարվող ծախսը (հազար դրամ) | D90: =+'h3'!E123 -> 2197760.8
D92: Աղյուսակ N 9.1.10
B93: ՀՀ էկոնոմիկայի նախարարություն
B94: ՄԱՍ 1. ՊԵՏԱԿԱՆ ՄԱՐՄՆԻ ԳԾՈՎ ԱՐԴՅՈՒՆՔԱՅԻՆ (ԿԱՏԱՐՈՂԱԿԱՆ) ՑՈՒՑԱՆԻՇՆԵՐԸ
B96: Ծրագրի դասիչը | C96: Ծրագրի անվանումը
B97: =+'h3'!B133 -> 1190 | C97: =+'h3'!D133 -> Զբոսաշրջության զարգացման ծրագիր
B99: Ծրագրի միջոցառումները | D99: հազար դրամով
B100: Ծրագրի դասիչը` | C100: =+'h4'!C135 -> 1190 | D100: Ցուցանիշների փոփոխությունը (ավելացումները նշված են դրական նշանով, նվազեցումները նշված են փակագծերում)
B101: Միջոցառման դասիչը` | C101: =+'h4'!C136 -> 12001 | D101: Տարի
B102: Միջոցառման անվանումը` | C102: =+'h4'!C137 -> Համաշխարհային բանկի աջակցությամբ իրականացվող Տեղական տնտեսության և ենթակառուցվածքների զարգացման ծրագրի շրջանակներում ՀՀ տարբեր մարզերում զբոսաշրջության հետ կապված ենթակառուցվածքների բարելավմանն ուղղված միջոցառումներ
B103: Նկարագրությունը` | C103: =+'h4'!C138 -> Ընտրված մարզերում զբոսաշրջության հետ կապված ենթակառուցվածքների, այդ թվում` ճանապարհների, ավտոկայանատեղերի, ջրամատակարարման համակարգերի, լուսավորության վերանորոգում և նորովի կառուցում
B104: Միջոցառման տեսակը` | C104: =+'h4'!C139 -> Տրանսֆերտների տրամադրում
B105: Միջոցառումն իրականացնողի անվանումը՛ | C105: Մասնագիտացված միավոր
B106: Արդյունքի չափորոշիչներ
B107: Կարողությունների զարգացման նպատակով գույքով հագեցված զբոսաշրջային կենտրոն կառավարող կազմակերպությունների թիվ | D107: 1
B108: Միջոցառման վրա կատարվող ծախսը (հազար դրամ) | D108: =+'h3'!E135 -> -199899.6
D111: Աղյուսակ 9.1.25
B113: ՀՀ տարածքային կառավարման և ենթակառուցվածքների նախարարության ջրային կոմիտե
B114: ՄԱՍ 1. ՊԵՏԱԿԱՆ ՄԱՐՄՆԻ ԳԾՈՎ ԱՐԴՅՈՒՆՔԱՅԻՆ (ԿԱՏԱՐՈՂԱԿԱՆ) ՑՈՒՑԱՆԻՇՆԵՐԸ
B116: Ծրագրի դասիչը | C116: Ծրագրի անվանումը
B117: 1004 | C117: Ոռոգման համակարգի առողջացում
B119: Ծրագրի միջոցառումները
B120: Ծրագրի դասիչը` | C120: =+'h4'!C44 -> 1004 | D120: Ցուցանիշների փոփոխությունը (նվազեցումները նշված են փակագծերում)
B121: Միջոցառման դասիչը` | C121: =+'h4'!C45 -> 31005 | D121: Տարի
...
