Workbook
Name AgencyCode: #REF!
Name AgencyCode: #REF!
Name AgencyCode: #REF!
Name AgencyCode: #REF!
Name AgencyCode: #REF!
Name AgencyCode: #REF!
Name AgencyCode: #REF!
Name AgencyName: #REF!
Name AgencyName: #REF!
Name AgencyName: #REF!
Name AgencyName: #REF!
Name AgencyName: #REF!
Name åû: #REF!
Name åû: #REF!
Name åû: #REF!
Name davit: #REF!
Name davit: #REF!
Name davit: #REF!
Name Functional1: #REF!
Name Functional1: #REF!
Name Functional1: #REF!
Name Functional1: #REF!
Name Functional1: #REF!
Name ggg: #REF!
Name ggg: #REF!
Name ggg: #REF!
Name mas: #REF!
Name mas: #REF!
Name mas: #REF!
Name mass: #REF!
Name mass: #REF!
Name mass: #REF!
Name PANature: #REF!
Name PANature: #REF!
Name PANature: #REF!
Name PANature: #REF!
Name PANature: #REF!
Name PAType: #REF!
Name PAType: #REF!
Name PAType: #REF!
Name PAType: #REF!
Name PAType: #REF!
Name Performance2: #REF!
Name Performance2: #REF!
Name Performance2: #REF!
Name Performance2: #REF!
Name Performance2: #REF!
Name PerformanceType: #REF!
Name PerformanceType: #REF!
Name PerformanceType: #REF!
Name PerformanceType: #REF!
Name PerformanceType: #REF!
Name x: #REF!
Name x: #REF!
Name x: #REF!
Name Հավելված: #REF!
Name Հավելված: #REF!
Name Հավելված: #REF!
Name Հավելված: #REF!
Name Հավելված: #REF!

Sheet h1
F1: Հավելված N 1
F2: ՀՀ կառավարության 2024 թվականի
F3: ______________ ի ___Ն որոշման
B4: «ՀԱՅԱUՏԱՆԻ ՀԱՆՐԱՊԵՏՈՒԹՅԱՆ 2024 ԹՎԱԿԱՆԻ ՊԵՏԱԿԱՆ ԲՅՈՒՋԵԻ ՄԱUԻՆ» OՐԵՆՔԻ N 1 ՀԱՎԵԼՎԱԾԻ N 2 ԱՂՅՈՒՍԱԿՈՒՄ ԿԱՏԱՐՎՈՂ ՎԵՐԱԲԱՇԽՈՒՄԸ ԵՎ ՀԱՅԱՍՏԱՆԻ ՀԱՆՐԱՊԵՏՈՒԹՅԱՆ ԿԱՌԱՎԱՐՈՒԹՅԱՆ 2023 ԹՎԱԿԱՆԻ ԴԵԿՏԵՄԲԵՐԻ 28-Ի N 2323-Ն ՈՐՈՇՄԱՆ N 5 ՀԱՎԵԼՎԱԾԻ N 1 ԱՂՅՈՒՍԱԿՈՒՄ ԿԱՏԱՐՎՈՂ ՓՈՓՈԽՈՒԹՅՈՒՆՆԵՐԸ
E5: հազ. դրամ
B6: Ծրագրային դասիչը | D6: Բյուջետային հատկացումների գլխավոր կարգադրիչների, ծրագրերի և միջոցառումների անվանումները | E6: Ցուցանիշների փոփոխությունը (ավելացումները նշված են դրական նշանով, իսկ նվազեցումները` փակագծերում)
B7: Ծրագիր | C7: Միջոցառում | E7: Տարի
B8: 1192 | D8: ԸՆԴԱՄԵՆԸ | E8: =+E9 -> 0
D9: ՀՀ տարածքային կառավարման և ենթակառուցվածքների նախարարություն | E9: =E11+E29 -> 0
B10: 1049 | D10: Ծրագրի անվանումը`
D11: Ճանապարհային ցանցի բարելավում | E11: =E17+E23 -> -1792572.4
D12: Ծրագրի նպատակը`
D13: Ճանապարհային ցանցի բարելավում և անվտանգ երթևեկության ապահովում
D14: Վերջնական արդյունքի նկարագրությունը`
D15: Ճանապարհների ծածկի որակի և փոխադրումների արդյունավետության բարելավում, ճանապարհների վիճակով պայմանավորված պատահարների նվազում
D16: Ծրագրի միջոցառումներ
C17: 21001 | D17: Միջոցառման անվանումը` | E17: ='h2'!D14 -> -1685080.9
D18: Պետական նշանակության ավտոճանապարհների հիմնանորոգում
D19: Միջոցառման նկարագրությունը`
D20: Միջպետական, հանրապետական և մարզային նշանակության ավտոճոնապարհների քայքայված ծածկի վերանորոգում, մաշված ծածկի փոխարինում
D21: Միջոցառման տեսակը
D22: Հանրության կողմից անմիջականորեն օգտագործվող ակտիվների հետ կապված միջոցառումներ
C23: 21002 | D23: Միջոցառման անվանումը` | E23: ='h2'!D47 -> -107491.5
D24: Տրանսպորտային օբյեկտների հիմնանորոգում
D25: Միջոցառման նկարագրությունը`
D26: Ավտոմոբիլային ճանապարհների վրա գտնվող կամուրջների հիմնանորոգում
D27: Միջոցառման տեսակը
D28: Հանրության կողմից անմիջականորեն օգտագործվող ակտիվների հետ կապված միջոցառումներ
B29: 1212 | D29: Ծրագրի անվանումը` | E29: =E36 -> 1792572.4
D30: Տարածքային զարգացում
D31: Ծրագրի նպատակը`
D32: Տարածքային համաչափ զարգացման խթանում
D33: Վերջնական արդյունքի նկարագրությունը`
D34: ՀՀ համայնքների կառավարման արդյունավետության բարձրացում և տնտեսական գործունեության խթանում
D35: Ծրագրի միջոցառումներ
C36: 12007 | D36: Միջոցառման անվանումը` | E36: ='h4'!G23 -> 1792572.4
D37: ՀՀ մարզերին սուբվենցիաների տրամադրում՛ ենթակառուցվածքների զարգացման նպատակով
D38: Միջոցառման նկարագրությունը`
D39: ՀՀ մարզերին սուբվենցիաների տրամադրում՛ ենթակառուցվածքների զարգացման նպատակով
D40: Միջոցառման տեսակը
D41: Տրանսֆերտների տրամադրում
A43: ՀԱՅԱՍՏԱՆԻ ՀԱՆՐԱՊԵՏՈՒԹՅԱՆ ՎԱՐՉԱՊԵՏԻ ԱՇԽԱՏԱԿԱԶՄԻ ՂԵԿԱՎԱՐ՝Ա.ՀԱՐՈՒԹՅՈՒՆՅԱՆ

Sheet h2
H1: Հավելված N 2
H2: ՀՀ կառավարության 2024 թվականի
H3: ______________ ի ___Ն որոշման
A5: «ՀԱՅԱՍՏԱՆԻ ՀԱՆՐԱՊԵՏՈՒԹՅԱՆ 2024 ԹՎԱԿԱՆԻ ՊԵՏԱԿԱՆ ԲՅՈՒՋԵԻ ՄԱՍԻՆ» ՕՐԵՆՔԻ N 1 ՀԱՎԵԼՎԱԾԻ N 3 ԱՂՅՈՒՍԱԿՈՒՄ ԿԱՏԱՐՎՈՂ ՓՈՓՈԽՈՒԹՅՈՒՆՆԵՐԸ ԵՎ ԼՐԱՑՈՒՄՆԵՐԸ
G6: հազ. դրամ
A7: Ծրագրային դասիչ | C7: Բյուջետային գլխավոր կարգադրիչների, ծրագրերի, միջոցառումների և ուղղությունների անվանումները | D7: Ցուցանիշների փոփոխությունը (ավելացումները նշված են դրական նշանով, իսկ նվազեցումները` փակագծերում)
D8: Ընդամենը, | E8: այդ թվում՝
A9: Ծրագիր | B9: Միջոցառում | E9: Կառուցման աշխատանքներ | F9: Վերակառուցման, վերանորոգման և վերականգնման աշխատանքներ | G9: Նախագծահե- տազոտական, գեոդեզիա- քարտեզագրա- կան աշխա- տանքներ | H9: Ոչ ֆինանսական այլ ակտիվների ձեռքբերում
C10: ԸՆԴԱՄԵՆԸ | D10: =+E10+F10+G10+H10 -> -1792572.4 | E10: =+E12 -> 101479.3 | F10: =+F12 -> -1894051.7 | G10: =+G12 -> 0 | H10: =+H12 -> 0
C11: այդ թվում՝
C12: ՀՀ ՏԱՐԱԾՔԱՅԻՆ ԿԱՌԱՎԱՐՄԱՆ ԵՎ ԵՆԹԱԿԱՌՈՒՑՎԱԾՔՆԵՐԻ ՆԱԽԱՐԱՐՈՒԹՅՈՒՆ | D12: =+E12+F12+G12+H12 -> -1792572.4 | E12: =E14+E47 -> 101479.3 | F12: =F14+F47 -> -1894051.7 | G12: =G14+G47 -> 0 | H12: =H14+H47 -> 0
C13: այդ թվում`
A14: 1049 | B14: 21001 | C14: Պետական նշանակության ավտոճանապարհների հիմնանորոգում | D14: =+E14+F14+G14+H14 -> -1685080.9 | E14: =+E16+E34+E24 -> 101479.3 | F14: =+F16+F34+F24 -> -1786560.2 | G14: =+G16+G34+G24 -> 0 | H14: =+H16+H34+H24 -> 0
C15: այդ թվում`
B16: 1 | C16: Միջպետական նշանակության ավտոճանապարհներ, այդ թվում | D16: =+E16+F16+G16+H16 -> -564332.2 | E16: =SUM(E17:E23) -> 0 | F16: =SUM(F17:F23) -> -564332.2 | G16: =SUM(G17:G23) -> 0 | H16: =SUM(H17:H23) -> 0
C17: Մ-2, (Սյունիք) /Մ-2/ - Աղվանի- Տաթև - /Մ-2/ միջպետական նշանակության ավտոճանապարհի Վերին Խոտանանը շրջանցող ճանապարհահատվածի կառուցում (II փուլ) | D17: =+E17+F17+G17+H17 -> -33012.5 | F17: -33012.5
C18: /Մ-2/-Տաթև-Աղվանի-/Մ-2/(Սյունիք) միջպետական նշանակության ավտոճանապարհի կմ0+000-կմ19+500 հատվածի հիմնանորոգում | D18: =+E18+F18+G18+H18 -> -74443.2 | F18: -74443.2
C19: Մ-5, Երևան - Արմավիր - ՀՀ սահման միջպետական նշանակության ավտոճանապարհի կմ17+530-կմ18+200, կմ25+593 - կմ29+385 և կմ32+675 - կմ33+833 աջակողմյան և ձախակողմյան հատվածների հիմնանորոգում և Մ-5 Երևան-Արմավիր-ՀՀ սահման ա/ճ-ի կմ 35+457 - կմ 37+054 հատվածի ջրահեռացման համակարգի վերականգնում | D19: =+E19+F19+G19+H19 -> -3496.4 | F19: -3496.4
C20: Մ-5, Երևան - Արմավիր - ՀՀ սահման միջպետական նշանակության ավտոճանապարհի կմ58+400-կմ63+100 հատվածի հիմնանորոգում | D20: =+E20+F20+G20+H20 -> -11809.6 | F20: -11809.6
C21: Մ-10, Սևան-Մարտունի-Գետափ միջպետական նշանակության ավտոճանապարհի կմ66+000-կմ79+060 հատվածի հիմնանորոգում | D21: =+E21+F21+G21+H21 -> -1610.9 | F21: -1610.9
C22: Մ-10, Սևան-Մարտունի-Գետափ միջպետական նշանակության ավտոճանապարհի կմ80+590-կմ94+590 հատվածի հիմնանորոգում | D22: =+E22+F22+G22+H22 -> -407006.8 | F22: -407006.8
C23: Մ-12, /Մ-2/ (Գորիս) – ՀՀ սահման միջպետական նշանակության ավտոճանապարհի կմ0+000 - կմ4+000 հատվածի հիմնանորոգում | D23: =+E23+F23+G23+H23 -> -32952.8 | F23: -32952.8
B24: 2 | C24: Հանրապետական նշանակության ավտոճանապարհներ, այդ թվում | D24: =+E24+F24+G24+H24 -> -1227971.8 | E24: =SUM(E25:E33) -> 0 | F24: =SUM(F25:F33) -> -1227971.8 | G24: =SUM(G25:G33) -> 0 | H24: =SUM(H25:H33) -> 0
C25: Հ-1, Վ. Պտղնու տրանսպորտային հանգույց - Ջրաբեր-Հրազդան -Հրազդանի քրեակատարողական հիմնարկ հանրապետական նշանակության ավտոճանապարհի կմ33+500 - կմ37+700 հատվածի հիմնանորոգում | D25: =+E25+F25+G25+H25 -> -5383.6 | F25: -5383.6
C26: Հ-5, /Հ-6/-Նոր Գեղի-Արգել-Արզական-Հրազդան հանրապետական նշանակության ավտոճանապարհի կմ25+200 - կմ36+000 հատվածի հիմնանորոգում | D26: =+E26+F26+G26+H26 -> -7782.5 | F26: -7782.5
C27: Հ-7, /Հ-5/ - Կարենիս - Չարենցավան /Հ-1/ (Ֆանտան)հանրապետական նշանակության ավտոճանապարհի կմ7+580 - կմ10+200 հատվածի հիմնանորոգում | D27: =+E27+F27+G27+H27 -> -11123 | F27: -11123
C28: Հ-16, /Մ-5/ - Մեծամոր – ՀԱԷԿ - /Մ-5/ հանրապետական նշանակության ավտոճանապարհի կմ0+000 - կմ10+700 հատվածի հիմնանորոգում | D28: =+E28+F28+G28+H28 -> -8929.4 | F28: -8929.4
C29: Հ-21, /Հ-75/ - Հոռոմ-Արթիկ-Ալագյազ հանրապետական նշանակության ավտոճանապարհի կմ29+600 - կմ32+700 հատվածի հիմնանորոգում | D29: =+E29+F29+G29+H29 -> -38262.2 | F29: -38262.2
C30: Հ-26, /Մ-4/ - Ենոքավան – Կարմիրգյուղ (գյուղատեղի) - /Մ-16/ հանրապետական նշանակության ավտոճանապարհի կմ 0+000-կմ6+300 հատվածի հիմնանորոգում | D30: =+E30+F30+G30+H30 -> 76821.3 | F30: 76821.3
C31: Հ-29,Սևան - Ծաղկունք – Զովաբեր հանրապետական նշանակության ավտոճանապարհի կմ 0+000-կմ 18+200 հատվածի հիմնորոգում (բացառությամբ կմ 11+000-կմ 12+000 հատվածի) | D31: =+E31+F31+G31+H31 -> -54172 | F31: -54172
C32: Հ-33, /Մ-3 /Ստեփանավան-Ագարակ-Յաղդան-/Հ-35/ հանրապետական նշանակության ավտոճանապարհի կմ0+000-կմ8+100 հատվածի հիմնանորոգում | D32: =+E32+F32+G32+H32 -> -34302.2 | F32: -34302.2
C33: Հ38,/Հ-30/ (Թթուջուր) – /Հ-36/ (Նավուր) հանրապետական նշանակության ավտոճանապարհի կմ 0+000-կմ 15+100 հատվածի հիմնանորոգում | D33: =+E33+F33+G33+H33 -> -1144838.2 | F33: -1144838.2
B34: 3 | C34: Մարզային նշանակության ավտոճանապարհներ, այդ թվում | D34: =+E34+F34+G34+H34 -> 107223.1 | E34: =SUM(E35:E46) -> 101479.3 | F34: =SUM(F35:F46) -> 5743.8 | G34: =SUM(G35:G46) -> 0 | H34: =SUM(H35:H46) -> 0
C35: Տ-1-62,/Հ-4/ - Երնջաթափ - Շողակն ավտոճանապարհի կմ0+000-կմ3+400 հատվածի հիմնանորոգում | D35: =+E35+F35+G35+H35 -> -928.8 | F35: -928.8
C36: Տ-1-63,/Հ-81/ (Թաթուլ) – Կանաչ - Հակո ավտոճանապարհի կմ0+000 - կմ12+100 հատվածի հիմնանորոգում | D36: =+E36+F36+G36+H36 -> -2145.1 | F36: -2145.1
C37: Տ-3-14, /Մ-5/-Մրգաշատ-Ալաշկերտ-գ․Արմավիր (Տ-3-16) ավտոճանապարհի կմ0+000 - կմ1+300, կմ3+000-կմ4+200 և կմ4+700-կմ6+200 հատվածների հիմնանորոգում | D37: =+E37+F37+G37+H37 -> 53477.6 | F37: 53477.6
C38: Տ-3-18,Ակնալիճ (Տ-3-6) – Զարթոնք – Արևիկ (Տ-3-50) կմ0+000-կմ3+628 հատվածի հիմնանորոգում | D38: =+E38+F38+G38+H38 -> -6530.3 | F38: -6530.3
C39: Տ-5-24,/Մ-3/ (Ստեփանավան) – Արմանիս – Ուրասար – Կաթնաղբյուր տեղական նշանակության ավտոճանապարհի կմ 6+600-կմ 15+200 հատվածի և Կաթնաղբյուր համայնքի 8-րդ և 9-րդ փողոցների հիմնանորոգում | D39: =+E39+F39+G39+H39 -> -6475 | F39: -6475
C40: Տ-7-53, Հ-21/ (Նոր Կյանք) – Փանիկ - Արևշատ - /Հ-21/ (Մեծ Մանթաշ) ավտոճանապարհի կմ0+000 - կմ12+800 հատվածի հիմնանորոգում | D40: =+E40+F40+G40+H40 -> -13067.8 | F40: -13067.8
C41: Տ-10-9, /Հ-36/ - Չինչին (Տ-10-38) ավտոճանապարհի կմ0+000 - կմ10+000 հատվածի հիմնանորոգում | D41: =+E41+F41+G41+H41 -> 132164 | F41: 132164
C42: Տ-10-30, /Մ-16/ - Աճարկուտ - Կիրանց պատմական հուշարձան ավտոճանապարհի 3,5 կմ երկարությամբ հատվածի վերակառուցում | D42: =+E42+F42+G42+H42 -> -11318.8 | F42: -11318.8
C43: Տ-10-34, /Մ-4/ - Լեռնային Հայաստան առողջարան ավտոճանապարհի կմ0+000 - կմ2+200 հատվածի հիմնանորոգում | D43: =+E43+F43+G43+H43 -> -1878.8 | F43: -1878.8
C44: Տ-8-93, Լծեն-Տաթև ավտոճանապարհի վերակառուցում (Քարաթափման կանխարգելիչ միջոցառումներ) | D44: =+E44+F44+G44+H44 -> -1999.8 | F44: -1999.8
C45: Որոտան-Խոտ ավտոճանապարհի վերակառուցում | D45: =+E45+F45+G45+H45 -> -34074.1 | F45: -34074.1
C46: /Տ-1-21/(Եղիպատրուշ բնակավայր) ճանապարհից դեպի «Մայլեռ» լեռնային հանգստավայր տանող 3 կմ երկարությամբ և 8 մետր լայնությամբ երթևեկելի մասով ասֆալտապատ ավտոճանապարհի կառուցում | D46: =+E46+F46+G46+H46 -> 0 | E46: 101479.3 | F46: -101479.3
A47: 1049 | B47: 21002 | C47: Տրանսպորտային օբյեկտների հիմնանորոգում | D47: =+E47+F47+G47+H47 -> -107491.5 | E47: =SUM(E49:E50) -> 0 | F47: =SUM(F49:F51) -> -107491.5 | G47: =SUM(G49:G51) -> 0 | H47: =SUM(H49:H51) -> 0
C48: այդ թվում`
C49: Հ-22, /Մ-6/-Դսեղ-/Հ-70/ հանրապետական նշանակության ավտոճանապարհի առաջին կիլոմետրում գտնվող կամրջի հիմնանորոգում | D49: =+E49+F49+G49+H49 -> -336.1 | F49: -336.1
C50: Սևանի տրանսպորտային հանգույցի հիմնանորոգում | D50: =+E50+F50+G50+H50 -> -107125.2 | F50: -107125.2
C51: Մ-10, Սևան-Մարտունի-Գետափ միջպետական նշանակության ավտոճանապարհի կմ117+042-ում գտնվող կամրջի հիմնանորոգում | D51: =+E51+F51+G51+H51 -> -30.2 | F51: -30.2
A54: ՀԱՅԱՍՏԱՆԻ ՀԱՆՐԱՊԵՏՈՒԹՅԱՆ ՎԱՐՉԱՊԵՏԻ ԱՇԽԱՏԱԿԱԶՄԻ ՂԵԿԱՎԱՐ՝Ա.ՀԱՐՈՒԹՅՈՒՆՅԱՆ

Sheet h3.
D1: Հավելված №3
D2: ՀՀ կառավարության 2024 թվականի
D3: -------------- ի № ---- -Ն որոշման
A5: «ՀԱՅԱՍՏԱՆԻ ՀԱՆՐԱՊԵՏՈՒԹՅԱՆ 2024 ԹՎԱԿԱՆԻ ՊԵՏԱԿԱՆ ԲՅՈՒՋԵԻ ՄԱՍԻՆ» ՕՐԵՆՔԻ N 1 ՀԱՎԵԼՎԱԾԻ N 7 ԱՂՅՈՒՍԱԿՈՒՄ ԵՎ ՀԱՅԱՍՏԱՆԻ ՀԱՆՐԱՊԵՏՈՒԹՅԱՆ ԿԱՌԱՎԱՐՈՒԹՅԱՆ 2023 ԹՎԱԿԱՆԻ ԴԵԿՏԵՄԲԵՐԻ 28-Ի N 2323-Ն ՈՐՈՇՄԱՆ N 5 ՀԱՎԵԼՎԱԾԻ N 6 ԱՂՅՈՒՍԱԿՈՒՄ ԿԱՏԱՐՎՈՂ ՓՈՓՈԽՈՒԹՅՈՒՆԸ ԵՎ ԼՐԱՑՈՒՄՆԵՐԸ
D6: հազար դրամ
A7: Ծրագրային դասիչը | C7: Հատկացումների տրամադրման նպատակները և բյուջետային գլխավոր կարգադրիչների, ծրագրերի, միջոցառումների և կատարող պետական մարմնի անվանումները | D7: Ցուցանիշների փոփոխությունը (ավելացումները նշված են դրական նշանով, իսկ նվազեցումները` փակագծերում)
A8: Ծրագիր | B8: Միջոցառում | D8: Տարի
C9: ԸՆԴԱՄԵՆԸ | D9: =+D11 -> 1792572.4
C10: այդ թվում
C11: Կապիտալ սուբվենցիաներ համայնքներին | D11: =+D13 -> 1792572.4
C12: այդ թվում`
C13: ՀՀ տարածքային կառավարման և ենթակառուցվածքների նախարարություն | D13: =+D15 -> 1792572.4
C14: այդ թվում`
A15: 1212 | C15: Տարածքային զարգացում | D15: =+D17 -> 1792572.4
C16: այդ թվում`
B17: 12007 | C17: ՀՀ մարզերին սուբվենցիաների տրամադրում՝ ենթակառուցվածքների զարգացման նպատակով | D17: =D20+D27+D31+D52+D55+D61+D77+D81+D41+D72+D19 -> 1792572.4
C18: այդ թվում` ըստ կատարողների
C19: ՀՀ կառավարություն | D19: ='h4'!G31 -> -1602507.1
C20: ՀՀ Արագածոտնի մարզպետի աշխատակազմ | D20: =SUM(D22:D26) -> 879823.7
C21: այդ թվում` ըստ ուղղությունների
C22: Արագածավան համայնքի Արագածավան և Արտենի բնակավայրերի միջդաշտային ոռոգման համակարգի հիմնանորոգում /Արտենի/ | D22: 10775.6
C23: Ալագյազ համայնքի Ճարճակիս բնակավայրի գերեզմանատների ցանկապատում | D23: 6388
C24: Ալագյազ համայնքի Ալագյազ, Ճարճակիս, Միրաք, Ջամշլու, Կանիաշիր և Ավշեն բնակավայրերի փողոցների լուսավորության ցանցի ընդլայնում | D24: 7686.3
C25: Ալագյազ համայնքի Ալագյազ բնակավայրում խմելու ջրի ջրագծի կառուցում, Միրաք և Ռյա Թազա բնակավայրերում՝ վերանորոգում | D25: 26589.4
C26: Ապարան համայնքի Ապարան, Արագած, Արայի, Ափնագյուղ, Եղիպատրուշ, Ծաղկաշեն, Լուսագյուղ, Կայք, Չքնաղ, Վարդենիս, Վարդենուտ, Մելիքգյուղ, Քուչակ, Հարթավան․ Շենավան, Սարալանջ, Նիգավան, Թթուջուր, Ձորագլուխ, Երնջատափ Շողակն բնակավայրերի ներհամայնքային ճանապարհների ասֆալտապատում /գյուղական բնակավայրեր/ | D26: 828384.4
C27: ՀՀ Արարատի մարզպետի աշխատակազմ | D27: =SUM(D29:D30) -> 97488
C28: այդ թվում` ըստ ուղղությունների
C29: Արարատ համայնքի Արարատ քաղաքի, Զանգակատուն, Վարդաշատ, Պարույր Սևակ, Երասխ, Արարատ, Ավշար և Նոյակերտ բնակավայրերի ճանապարհների վերանորոգում ասֆալտապատմամբ /Արարատ ՈԿՖ բանավան/ | D29: 43614.7
C30: Արարատ համայնքի Նոյակերտ, Արմաշ և Երասխ բնակավայրերի գազաֆիկացում | D30: 53873.3
C31: ՀՀ Արմավիրի մարզպետի աշխատակազմ | D31: =SUM(D33:D40) -> 393225
C32: այդ թվում` ըստ ուղղությունների
C33: Արմավիր համայնքի Արմավիր քաղաքի թիվ 2 մանկապարտեզ ՀՈԱԿ-ի հիմնանորոգում, թիվ 3 և թիվ 7 մանկապարտեզ ՀՈԱԿ-ների ջեռուցման համակարգերի կառուցում, գազաֆիկացում, հին դռների և պատուհանների նորով փոխարինում, Մյասնիկյան գյուղի մանկապարտեզ ՀՈԱԿ-ի ջեռուցման համակարգի կառուցում և սանհանգույցի վերանորոգում,Արաքս գյուղի մանկապարտեզի շենքի հիմնանորոգում, Լուկաշին գյուղի մանկապարտեզ ՀՈԱԿ-ի , ջեռուցման համակարգի կառուցում, Սարդարապատ գյուղի մանկապարտեզ ՀՈԱԿ-ի հիմնանորոգում, գազաֆիկացում և ջեռուցման համակարգի կառուցում/Արմավիր քաղաքի թիվ 2 մանկապարտեզ ՀՈԱԿ-ի հիմնանորոգում և Արաքս գյուղի մանկապարտեզի շենքի հիմնանորոգում/լրացուցիչ/ | D33: 100943.3
C34: Մեծամոր համայնքի ք.Մեծամորի թիվ 2, թիվ 3 մանկապարտեզների հիմնանորոգման և հարակից տարածքների բարեկարգման, Տարոնիկ և Տանձուտ բնակավայրերի մանկապարտեզների հիմնանորոգման աշխատանքներ/Տարոնիկ բնակավայրի մանկապարտեզի հիմնանորոգման աշխատանքներ | D34: 43030.4
C35: Խոյ համայնքի Աղավնատուն գյուղի Բ.Ներսիսյան 2-րդ նրբ., Ս.Վիրաբյան, Երիտասարդական 3-րդ, Հարավ-Արևելյան 2-րդ փողոցների, Արշալույս գյուղի 27, 28, 29, 32-րդ փողոցների և Մոնթեավան գյուղի 1-ին և 7-րդ փողոցների գազիֆիկացում/Մոնթեավան գյուղի 1-ին և 7-րդ փողոցների գազիֆիկացում/ | D35: 17120.3
C36: Խոյ համայնքի Գեղակերտ գյուղում Մ.Սարյան, Մարշալ Բաղրամյան փողոցների և Մ.Մարշալ Բաղրամյան փողոցից մինչև մշակույթի տան հարակից տարածքի, Մոնթեավան գյուղում I-ին փողոցի /համայնքի կենտրոնական փողոց/, Այգեշատ գյուղի Երիտասարդական և Մայիսյան փողոցների, Դողս գյուղում Դողս-Աղավնատուն տանող ճանապարհի, Լեռնամերձ գյուղի Բարեկամություն փողոցի /գերեզմաններ տանող ճանապարհ/ ասֆալտապատման աշխատանքներ /Այգեշատ գյուղի Երիտասարդական և Մայիսյան փողոցների, Լեռնամերձ գյուղի Բարեկամություն փողոցի /գերեզմաններ տանող ճանապարհ/ | D36: 43046.5
C37: Արմավիր համայնքի Արմավիր քաղաքի թիվ 2 մսուր-մանկապարտեզ» ՀՈԱԿ-ի, «ՀՀ Արմավիրի մարզի Արմավիր համայնքի Արմավիր քաղաքի թիվ 11 մսուր-մանկապարտեզ» ՀՈԱԿ-ի, ՀՀ Արմավիրի մարզի Արմավիր համայնքի Արմավիր քաղաքի թիվ 12 մանկապարտեզի, ՀՀ Արմավիրի մարզի Արմավիր համայնքի Արաքս գյուղի մանկապարտեզի, ՀՀ Արմավիրի մարզի Արմավիր համայնքի Խանջյան գյուղի մանկապարտեզի գույքի և սարքավորումների ձեռքբերում / Սարդարապատ գյուղի մանկապարտեզի գույքի և սարքավորումների ձեռքբերում՝Արմավիր քաղաքի թիվ 12 մանկապարտեզի փոխարեն/ | D37: 1337.3
C38: Մեծամոր համայնքի Ալաշկերտ, Ամասիա, Արգավանդ, Արևիկ, Բամբակաշատ, Գետաշեն, Հայկավան, Նալբանդյան, Նոր Արմավիր, Նոր Արտագերս, Նոր Կեսարիա, Շենավան, Ջանֆիդա, Ջրաշեն, Վարդանաշեն, Փշատավան, Տարոնիկ և Մրգաշատ բնակավայրերի խմելու ջրամատակարարման ցանցերի կառուցում/Ջանֆիդա և Մրգաշատ բնակավայրի խմելու ջրամատակարարման ցանցի կառուցում և Արևիկ բնակավայրի խմելու ջրամատակարարման ցանցի կառուցում/ | D38: 106877.4
C39: Արաքս համայնքի Ջրառատ գյուղի մշակույթի տան վերանորոգում և Արաքս բնակավայրի մշակույթի տան երկրորդ հարկի վերանորոգում /Ջրառատ գյուղի մշակույթի տան վերանորոգում/ | D39: 66714.3
C40: Արաքս համայնքի Ջրառատ գյուղի փողոցների լուսավորության անցկացման աշխատանքներ, Գայ գյուղի փողոցների արտաքին լուսավորության անցկացման աշխատանքներ, Ապագա գյուղի փողոցների լուսավորության անցկացման աշխատանքներ/Գայ գյուղի փողոցների արտաքին լուսավորության անցկացման աշխատանքներ, Ապագա գյուղի փողոցների լուսավորության անցկացման աշխատանքներ/ | D40: 14155.5
C41: ՀՀ Գեղարքունիքի մարզպետի աշխատակազմ | D41: =SUM(D43:D51) -> 880155.8
C42: այդ թվում` ըստ ուղղությունների
C43: Ճամբարակ համայնքի Ճամբարակ քաղաքի Բաղրամյան 13, Տ. Մեծի 30, Տ. Մեծի 4, Տ. Մեծի 8 և Գ. Նժդեհի 21 բազմաբնակարան բնակելի շենքերի տանիքների վերանորոգման աշխատանքներ /Բաղրամյան 13, Տ.Մեծի 30 և Տ.Մեծի 8 բազմաբնակարան բնակելի շենքերի տանիքների վերանորոգման աշխատանքներ/ | D43: 37046.9
C44: Մարտունի համայնքի «Վարդենիկ բնակավայրում արցախյան 44 օրյա պատերազմի զոհերի հիշատակը հավերժացնող հուշահամալիրի կառուցում» | D44: 41196.9
C45: Մարտունի համայնքի Արծվանիստ, Ծովինար, Զոլաքար, Աստղաձոր, Մադինա, Ն․Գետաշեն, Լիճք, Ձորագյուղ, Վարդաձոր, Երանոս բնակավայրերում խմելու նոր ջրագծերի և Լիճք, Ձորագյուղ, Երանոս բնակավայրերում խմելու ջրի ջրահավաք ավազանների կառուցում ծրագիր /Արծվանիստ, Զոլաքար, Աստղաձոր, Մադինա, Ն․Գետաշեն, Վարդաձոր, Երանոս/ | D45: 202450.1
C46: Մարտունի համայնքի « Մարտունի քաղաքի Պռոշյան 4, Չարենցի 2, Երևանյան 46, Մյասնիկյան 53 և Վարդենիկ բնակավայրի Բանավան թաղամասի 6-րդ բազմաբնակարան բնակելի շենքերի տանիքների վերանորոգում»/Բանավան թաղամասի 6-րդ բազմաբնակարան բնակելի շենքերի տանիքների վերանորոգում/ | D46: 8057.1
C47: Մարտունի համայնքի «Մարտունի քաղաքի, Ծովինար, Զոլաքար, Վաղաշեն, Գեղհովիտ, Վ․ Գետաշեն, Լիճք, Ծակքար, և Երանոս բնակավայրերի տարբեր փողոցներում նոր լուսավորության համակարգերի կառուցում» | D47: 47792.4
C48: Մարտունի համայնքի Մարտունի քաղաքի Նարեկացի, Թումանյան, Արցախի, Պարույր Սևակի, Կոմիտասի փողոցների, Շահումյան փողոցի հարակից հատվածի, Վարդենիկ բնակավայրի Կամո Շահինյան փողոցի, Վարդաձոր բնակավայրի Ալաշկերտ փողոցի և 10-րդ փողոցի հատման խաչմերուկ ընկած հատվածի, Ծովինար բնակավայրի 3-րդ թաղամասի 3-րդ փողոցի հարակից հրապարակի մայթերի կառուցում քարե սալիկներով/ք․ Մարտունի փողոցներ/ | D48: 152309.8
C49: Վարդենիս համայնքի Վարդենիս քաղաքի Գայի փողոցի ասֆալտապատում, միակողմանի մայթի կառուցում, Վ. Համբարձումյան փողոցի ասֆալտապատում, 6 բազմաբնակարան շենքի բակերի ասֆալտապատում, Արփունք բնակավայր տանող ճանապարհի ասֆալտապատում, Ակունք բնակավայրի 13-րդ փողոցի ասֆալտապատում, Տորֆավան բնակավայրի կենտրոնական փողոցի ասֆալտապատում, Ծովակ բնակավայրի 1 փողոցի, 11 փակուղի հասեցի ճանապարհի ասֆալտապատում, Կարճաղբյուր բնակավայրի 11-րդ և 13-րդ փողոցների ասֆալտապատում /Երիտասարդության փող 14 և 16 շենքեր/ | D49: 12244.5
C50: Վարդենիս համայնքի «Փամբակ, Արփունք, Ծովակ, Խաչաղբյուր, Ավազան, Ակունք, Կարճաղբյուր, Լճավան բնակավայրերում լուսավորության ցանցի կառուցում | D50: 29058.1
C51: Գավառ համայնքի Գավառ քաղաքում, Նորատուս, Կարմիրգյուղ, Գանձակ, Սարուխան, Հայրավանք, Ծովազարդ, Լճափ, Գեղարքունիք բնակավայրերում ասֆալտապատման աշխատանքների իրականացում /Գավառ քաղաքում (Դեմիրճյան փողոց), Հացառատ և Արծվաքար թաղամասերում, Նորատուս, Կարմիրգյուղ, Գանձակ, Սարուխան (Անդրանիկի փողոց), Հայրավանք, Ծովազարդ և Լճափ/ | D51: 350000
C52: ՀՀ Լոռու մարզպետի աշխատակազմ | D52: =SUM(D54:D54) -> 8691
C53: այդ թվում` ըստ ուղղությունների
C54: Լերմոնտովո խոշորացված համայնքի փողոցների վերանորոգում՝ ասֆալտի շերտի վերականգնում | D54: 8691
C55: ՀՀ Կոտայքի մարզպետի աշխատակազմ | D55: =SUM(D57:D60) -> 458732.3
C56: այդ թվում` ըստ ուղղությունների
C57: Նոր Հաճն համայնքի Թեղենիք բնակավայրի համայնքային կենտրոնի շենքի հիմնանորոգում | D57: 645.4
C58: Աբովյան համայնքի Աբովյան քաղաքի Էդ. Ավագյան փողոցի ասֆալտապատում, ջրահեռացման համակարգիկառուցում և մայթերի հիմնանորոգում, Առինջ նակավայրի Պ Սևակի թաղամաս 4-րդ փողոցի, Խ բովյան թաղամաս 15-րդ փողոցի,Աբովյանթաղամաս11-րդ փողոցի , Բ թաղամասի 2-րդ փողոցի ,Ա թաղամասի 1-ին փողոցի Խ Աբովյան թաղամաս 10-րդ փողոցի 1-ին փակուղի, Արամուս բնակավայրի Ջերմատան փողոցի Ջրմուղի փողոցի 1-ին նրբ 2-րդ փողոցի և 2-րդ փ 1-ին նրբ, Ջերմատան փող 1-ին նրբ, Բալահովիտ բնակավայրի 1-ին փողոց 1-ն նրբ 9-րդ փողոց, Ծաղկունք 3-րդ փողոց/մասնակի/, Գեղաշեն բնակավայրի 5-րդ փողոցի 2-րդ նրբ ,3-րդ փողոց 2-րդ նրբ 1-ին փողոց 5-րդ նրբ, 1-ին փողոց 6-րդ նրբ, 1-ին թաղամաս 4-րդ փողոց, 1-ին թաղամաս 3-րդ փողոց, 3-րդ փողոց, Կաթնաղբյուր բնակավայրի 4-րդ փողոց, Կամարիս բնակավայրի 4-րդ փողոց, Մայակովսկի բնակավայրի 15րդ փողոց, Պտղնի բնակավայրի 1-ին փողոց և Վերին Պտղնի բնակավայրի Նորավան թաղամասի 1-րդ փողոց ասֆատապատման աշխատանքներ | D58: 19369.6
C59: Ակունք համայնքի Ակունք բնակավայրի 13-րդ, 17-րդ,18-րդ, Կոտայք բնակավայրի 1-ին, Զառ բնակավայրի Ռ. Վասիլյան, Հատիս բնակավայրի 1-ին, Զովաշեն բնակավայրի 2-րդ, Սևաբերդ բնակավայրի 2-րդ փողոցների ասֆալտապատում | D59: 37952.5
C60: Նաիրի համայնքի Եղվարդ քաղաքի, Զովունի, Քասախ, Պռոշյան, Արագյուղ, Բուժական, Զորավան և Սարալանջ բնակավայրերի ասֆալտապատման աշխատանքներ/ Եղվարդ քաղաքի, Պռոշյան, Արագյուղ, Բուժական, Զորավան և Սարալանջ բնակավայրերի ասֆալտապատման աշխատանքներ | D60: 400764.8
C61: ՀՀ Շիրակի մարզպետի աշխատակազմ | D61: =SUM(D63:D71) -> 477211.2
C62: այդ թվում` ըստ ուղղությունների
C63: Ախուրյան համայնքի Շիրակ գյուղի չգազաֆիկացված հատվածի գազաֆիկացման աշխատանքներ | D63: 48578.7
C64: Ախուրյան համայնքի Հայկավան բնակավայրի գազաֆիկացման աշխատանքներ | D64: 49216.8
C65: Ախուրյան համայնքի Հովունի բնակավայրի Սբ. Աստվածածին եկեղեցի տանող ճանապարհի և Հացիկ բնակավայրի 13-րդ փողոցի ասֆալտապատում | D65: 55217.6
C66: Ախուրյան համայնքի Այգաբաց բնակավայրի 2-րդ և 8-րդ փողոցների ասֆալտապատում | D66: 39529.7
C67: Ախուրյան համայնքի Ախուրյան բնակավայրի Հ․ Հովսեփյան փողոցի ասֆալտապատման աշխատանքներ | D67: 76001
C68: Ախուրյան համայնքի Ոսկեհասկ բնակավայրի կենտրոնական ճանապարհի և Ազատան բնակավայրի ներհամայնքային ճանապարհի ասֆալտապատման աշխատանքներ /Ոսկեհասկ/ | D68: 103140.8
C69: Արթիկ համայնքի թվով 14 բնակավայրերի ներհամայնքային ճանապարհների տուֆ քարով սալապատում /Փանիկ, Հոռոմ, Սպանդարյան/ | D69: 55473.6
C70: Աշոցք համայնքի Թորոսգյուղ բնակավայրի 1-ին փողոցի և Բավրա բնակավայրի 6-րդ փողոցի սալարկում | D70: 33103
C71: Աշոցք համայնքի Աշոցք բնակավայրի կենտրոնական հրապարակի և Մեծ Սեպասար բնակավայրի 1-ին փողոցի ասֆալտապատում | D71: 16950
C72: ՀՀ Սյունիքի մարզպետի աշխատակազմ | D72: =SUM(D74:D76) -> 41824.6
C73: այդ թվում` ըստ ուղղությունների
C74: Կապան համայնքի Եղվարդ և Ծավ բնակ. Հասարակական շենքերի նորոգում և կառուցում/՝ Եղվարդ բնակավայրի կենցաղի տան վերանորոգում, Ծավ բնակավայրի կենցաղի տան վերանորոգում, Ըրկենանց բնակավայրում վարչական շենքի կառուցում և տարածքի բարեկարգում, Վանեք բնակավայրում վարչական շենքի կառուցում և տարածքի բարեկարգում, Եղեգ բնակավայրում վարչական շենքի կառուցում և տարածքի բարեկարգում, Ներքին Խոտանան բնակավայրում վարչական շենքի կառուցում և տարածքի բարեկարգում, Դավիթ Համբարձումյանի անվան մանկապատանեկան մարզադպրոց ՀՈԱԿ-ի շենքի մասնակի վերանորոգում և ջեռուցման համակարգի վերականգնում, Կապան քաղաքի Վաչագան թաղամասի հանդիսությունների սրահի մասնակի վերանորոգում և Օխտար բնակավայրի ակումբի շենքի հիմնանորոգում» /Դավիթ Համբարձումյանի անվան մանկապատանեկան մարզադպրոց/ | D74: 2855.5
C75: Կապան համայնքի «Դավիթ Բեկ բնակավայրի ջրամատակարարում, Սրաշեն բնակավայրի խմելու ջրամատակարարման ապահովում և Կաղնուտ բնակավայրի խմելու ջրամատակարարման ապահովում» /Դավիթ Բեկ բնակավայրի ջրամատակարարում/ | D75: 25064.6
C76: Կապան համայնքի «Կապան քաղաքի Շինարարների փողոցի թիվ 8/43 հասցեում և Բաղաբերդ թաղամասի թիվ 6/83 հասցեում գտնվող ակումբ-գրադարանների նորոգում /Կապան քաղաքի Բաղաբերդ թաղամասի թիվ 6/83 հասցեում գտնվող ակումբ-գրադարան/ | D76: 13904.5
C77: ՀՀ Վայոց ձորի մարզպետի աշխատակազմ | D77: =SUM(D79:D80) -> 82225.4
C78: այդ թվում` ըստ ուղղությունների
C79: Արենի համայնքի Ելփին բնակավայրում մանկապարտեզի շենքի կառուցում | D79: 81797.9
C80: Եղեգնաձոր համայնքի Գետափ բնակավայրի ներհամայնքային փողոցների ասֆալտապատում /1-ին փուլ/ | D80: 427.5
C81: ՀՀ Տավուշի մարզպետի աշխատակազմ | D81: =SUM(D83:D85) -> 75702.5
C82: այդ թվում` ըստ ուղղությունների
C83: Նոյեմբերյան համայնքի Կողբ, Նոյեմբերյան, Ոսկեպար, Հաղթանակ Այրում, Կոթի և Արճիս բնակավայրերի փողոցների տուֆապատում /Հաղթանակ/ | D83: 8406
C84: Բերդ համայնքի Վ․Կ․ Աղբյուր, Արծվաբերդ, Նորաշեն բնակավայրերի խմելու ջրի արտաքին ցանցի ջրընդունիչների կապիտալ վերանորոգում և նորերի կառուցում, Նավուր բնակավայրի խմելու ջրի ներքին ցանցի վերանորոգում/Նավուր բնակավայրի խմելու ջրի ներքին ցանցի վերանորոգում/ | D84: 18977.3
C85: Իջևան համայնքի Իջևան, Վազաշեն, Խաշթառակ և Սևքար բն․ ճանապարհի հիմնանորոգում և սալիկապատում տուֆ քարով /Իջևան բն․ Ղալումյան փողոց/ | D85: 48319.2
B87: ՀԱՅԱՍՏԱՆԻ ՀԱՆՐԱՊԵՏՈՒԹՅԱՆ ՎԱՐՉԱՊԵՏԻ ԱՇԽԱՏԱԿԱԶՄԻ ՂԵԿԱՎԱՐ՝Ա.ՀԱՐՈՒԹՅՈՒՆՅԱՆ

Sheet h4
G1: Հավելված N 4
G2: ՀՀ կառավարության 2024 թվականի
G3: ______________ ի ___Ն որոշման
A5: ՀԱՅԱՍՏԱՆԻ ՀԱՆՐԱՊԵՏՈՒԹՅԱՆ ԿԱՌԱՎԱՐՈՒԹՅԱՆ 2023 ԹՎԱԿԱՆԻ ԴԵԿՏԵՄԲԵՐԻ 28-Ի N 2323-Ն ՈՐՈՇՄԱՆ N 3 ԵՎ N 4 ՀԱՎԵԼՎԱԾՆԵՐՈՒՄ ԿԱՏԱՐՎՈՂ ՓՈՓՈԽՈՒԹՅՈՒՆՆԵՐԸ ԵՎ ԼՐԱՑՈՒՄՆԵՐԸ
G7: հազ. դրամ
A8: Գործառական դասիչը | D8: Ծրագրային դասիչը | F8: Բյուջետային հատկացումների գլխավոր կարգադրիչների, ծրագրերի, միջոցառումների և միջոցառումները կատարող պետական մարմինների անվանումները | G8: Ցուցանիշների փոփոխությունը (ավելացումները նշված են դրական նշանով, իսկ նվազեցումները` փակագծերում)
A9: Բաժին | B9: Խումբ | C9: Դաս | D9: Ծրագիր | E9: Միջոցառում | G9: Տարի
F10: ԸՆԴԱՄԵՆԸ | G10: =+G12 -> 0
F11: այդ թվում
F12: ՀՀ տարածքային կառավարման և ենթակառուցվածքների նախարարություն | G12: =G13+G104 -> 0
A13: 01 | F13: ԸՆԴՀԱՆՈՒՐ ԲՆՈՒՅԹԻ ՀԱՆՐԱՅԻՆ ԾԱՌԱՅՈՒԹՅՈՒՆՆԵՐ | G13: =G15 -> 1792572.4
F14: այդ թվում՝
B15: 08 | F15: Կառավարության տարբեր մակարդակների միջև իրականացվող ընդհանուր բնույթի տրանսֆերտներ | G15: =G17 -> 1792572.4
F16: այդ թվում՝
C17: 01 | F17: Կառավարության տարբեր մակարդակների միջև իրականացվող ընդհանուր բնույթի տրանսֆերտներ | G17: =G21 -> 1792572.4
F18: այդ թվում՝
F19: ՀՀ տարածքային կառավարման և ենթակառուցվածքների նախարարություն | G19: =G21 -> 1792572.4
F20: այդ թվում՝
D21: 1212 | F21: Տարածքային զարգացում | G21: =G23 -> 1792572.4
F22: այդ թվում`
E23: 12007 | F23: ՀՀ մարզերին սուբվենցիաների տրամադրում՛ ենթակառուցվածքների զարգացման նպատակով_x000D_ | G23: =G25+G32+G39+G46+G53+G60+G67+G74+G81+G88+G95 -> 1792572.4
F24: այդ թվում` ըստ կատարողների
F25: ՀՀ կառավարություն | G25: =G27 -> -1602507.1
F26: այդ թվում` բյուջետային ծախսերի տնտեսագիտական դասակարգման հոդվածներ
F27: ԸՆԴԱՄԵՆԸ ԾԱԽՍԵՐ | G27: =G28 -> -1602507.1
F28: ԸՆԹԱՑԻԿ ԾԱԽՍԵՐ | G28: =G29 -> -1602507.1
F29: ԴՐԱՄԱՇՆՈՐՀՆԵՐ | G29: =G30 -> -1602507.1
F30: Կապիտալ դրամաշնորհներ պետական հատվածի այլ մակարդակներին | G30: =G31 -> -1602507.1
F31: - Կապիտալ սուբվենցիաներ համայնքներին | G31: -1602507.1
F32: ՀՀ Արագածոտնի մարզպետի աշխատակազմ | G32: =G34 -> 879823.7
F33: այդ թվում` բյուջետային ծախսերի տնտեսագիտական դասակարգման հոդվածներ
F34: ԸՆԴԱՄԵՆԸ ԾԱԽՍԵՐ | G34: =G35 -> 879823.7
F35: ԸՆԹԱՑԻԿ ԾԱԽՍԵՐ | G35: =G36 -> 879823.7
F36: ԴՐԱՄԱՇՆՈՐՀՆԵՐ | G36: =G37 -> 879823.7
F37: Կապիտալ դրամաշնորհներ պետական հատվածի այլ մակարդակներին | G37: =G38 -> 879823.7
F38: - Կապիտալ սուբվենցիաներ համայնքներին | G38: ='h3.'!D20 -> 879823.7
F39: ՀՀ Արարատի մարզպետի աշխատակազմ | G39: =G41 -> 97488
F40: այդ թվում` բյուջետային ծախսերի տնտեսագիտական դասակարգման հոդվածներ
F41: ԸՆԴԱՄԵՆԸ ԾԱԽՍԵՐ | G41: =G42 -> 97488
F42: ԸՆԹԱՑԻԿ ԾԱԽՍԵՐ | G42: =G43 -> 97488
F43: ԴՐԱՄԱՇՆՈՐՀՆԵՐ | G43: =G44 -> 97488
F44: Կապիտալ դրամաշնորհներ պետական հատվածի այլ մակարդակներին | G44: =G45 -> 97488
F45: - Կապիտալ սուբվենցիաներ համայնքներին | G45: 97488
F46: ՀՀ Արմավիրի մարզպետի աշխատակազմ | G46: =G48 -> 393225
F47: այդ թվում` բյուջետային ծախսերի տնտեսագիտական դասակարգման հոդվածներ
F48: ԸՆԴԱՄԵՆԸ ԾԱԽՍԵՐ | G48: =G49 -> 393225
F49: ԸՆԹԱՑԻԿ ԾԱԽՍԵՐ | G49: =G50 -> 393225
F50: ԴՐԱՄԱՇՆՈՐՀՆԵՐ | G50: =G51 -> 393225
F51: Կապիտալ դրամաշնորհներ պետական հատվածի այլ մակարդակներին | G51: =G52 -> 393225
F52: - Կապիտալ սուբվենցիաներ համայնքներին | G52: 393225
F53: ՀՀ Գեղարքունիքի մարզպետի աշխատակազմ | G53: =G55 -> 880155.8
F54: այդ թվում` բյուջետային ծախսերի տնտեսագիտական դասակարգման հոդվածներ
F55: ԸՆԴԱՄԵՆԸ ԾԱԽՍԵՐ | G55: =G56 -> 880155.8
F56: ԸՆԹԱՑԻԿ ԾԱԽՍԵՐ | G56: =G57 -> 880155.8
F57: ԴՐԱՄԱՇՆՈՐՀՆԵՐ | G57: =G58 -> 880155.8
F58: Կապիտալ դրամաշնորհներ պետական հատվածի այլ մակարդակներին | G58: =G59 -> 880155.8
F59: - Կապիտալ սուբվենցիաներ համայնքներին | G59: 880155.8
F60: ՀՀ Լոռու մարզպետի աշխատակազմ | G60: =G62 -> 8691
F61: այդ թվում` բյուջետային ծախսերի տնտեսագիտական դասակարգման հոդվածներ
F62: ԸՆԴԱՄԵՆԸ ԾԱԽՍԵՐ | G62: =G63 -> 8691
F63: ԸՆԹԱՑԻԿ ԾԱԽՍԵՐ | G63: =G64 -> 8691
F64: ԴՐԱՄԱՇՆՈՐՀՆԵՐ | G64: =G65 -> 8691
F65: Կապիտալ դրամաշնորհներ պետական հատվածի այլ մակարդակներին | G65: =G66 -> 8691
F66: - Կապիտալ սուբվենցիաներ համայնքներին | G66: 8691
F67: ՀՀ Կոտայքի մարզպետի աշխատակազմ | G67: =G69 -> 458732.3
F68: այդ թվում` բյուջետային ծախսերի տնտեսագիտական դասակարգման հոդվածներ
F69: ԸՆԴԱՄԵՆԸ ԾԱԽՍԵՐ | G69: =G70 -> 458732.3
F70: ԸՆԹԱՑԻԿ ԾԱԽՍԵՐ | G70: =G71 -> 458732.3
F71: ԴՐԱՄԱՇՆՈՐՀՆԵՐ | G71: =G72 -> 458732.3
F72: Կապիտալ դրամաշնորհներ պետական հատվածի այլ մակարդակներին | G72: =G73 -> 458732.3
F73: - Կապիտալ սուբվենցիաներ համայնքներին | G73: 458732.3
F74: ՀՀ Շիրակի մարզպետի աշխատակազմ | G74: =G76 -> 477211.2
F75: այդ թվում` բյուջետային ծախսերի տնտեսագիտական դասակարգման հոդվածներ
F76: ԸՆԴԱՄԵՆԸ ԾԱԽՍԵՐ | G76: =G77 -> 477211.2
F77: ԸՆԹԱՑԻԿ ԾԱԽՍԵՐ | G77: =G78 -> 477211.2
F78: ԴՐԱՄԱՇՆՈՐՀՆԵՐ | G78: =G79 -> 477211.2
F79: Կապիտալ դրամաշնորհներ պետական հատվածի այլ մակարդակներին | G79: =G80 -> 477211.2
F80: - Կապիտալ սուբվենցիաներ համայնքներին | G80: ='h3.'!D61 -> 477211.2
F81: ՀՀ Սյունիքի մարզպետի աշխատակազմ | G81: =G83 -> 41824.6
F82: այդ թվում` բյուջետային ծախսերի տնտեսագիտական դասակարգման հոդվածներ
F83: ԸՆԴԱՄԵՆԸ ԾԱԽՍԵՐ | G83: =G84 -> 41824.6
F84: ԸՆԹԱՑԻԿ ԾԱԽՍԵՐ | G84: =G85 -> 41824.6
F85: ԴՐԱՄԱՇՆՈՐՀՆԵՐ | G85: =G86 -> 41824.6
F86: Կապիտալ դրամաշնորհներ պետական հատվածի այլ մակարդակներին | G86: =G87 -> 41824.6
F87: - Կապիտալ սուբվենցիաներ համայնքներին | G87: 41824.6
F88: ՀՀ Վայոց ձորի մարզպետի աշխատակազմ | G88: =G90 -> 82225.4
F89: այդ թվում` բյուջետային ծախսերի տնտեսագիտական դասակարգման հոդվածներ
F90: ԸՆԴԱՄԵՆԸ ԾԱԽՍԵՐ | G90: =G91 -> 82225.4
F91: ԸՆԹԱՑԻԿ ԾԱԽՍԵՐ | G91: =G92 -> 82225.4
F92: ԴՐԱՄԱՇՆՈՐՀՆԵՐ | G92: =G93 -> 82225.4
F93: Կապիտալ դրամաշնորհներ պետական հատվածի այլ մակարդակներին | G93: =G94 -> 82225.4
F94: - Կապիտալ սուբվենցիաներ համայնքներին | G94: 82225.4
F95: ՀՀ Տավուշի մարզպետի աշխատակազմ | G95: =G97 -> 75702.5
F96: այդ թվում` բյուջետային ծախսերի տնտեսագիտական դասակարգման հոդվածներ
F97: ԸՆԴԱՄԵՆԸ ԾԱԽՍԵՐ | G97: =G98 -> 75702.5
F98: ԸՆԹԱՑԻԿ ԾԱԽՍԵՐ | G98: =G99 -> 75702.5
F99: ԴՐԱՄԱՇՆՈՐՀՆԵՐ | G99: =G100 -> 75702.5
F100: Կապիտալ դրամաշնորհներ պետական հատվածի այլ մակարդակներին | G100: =G101 -> 75702.5
F101: - Կապիտալ սուբվենցիաներ համայնքներին | G101: 75702.5
A102: 04 | F102: ՏՆՏԵՍԱԿԱՆ ՀԱՐԱԲԵՐՈՒԹՅՈՒՆՆԵՐ | G102: =G104 -> -1792572.4
...

Sheet h5
E1: Հավելված 5
E2: ՀՀ կառավարության 2024 թվականի
E3: ______________ ի ___Ն որոշման
A5: ՀԱՅԱՍՏԱՆԻ ՀԱՆՐԱՊԵՏՈՒԹՅԱՆ ԿԱՌԱՎԱՐՈՒԹՅԱՆ 2023 ԹՎԱԿԱՆԻ ԴԵԿՏԵՄԲԵՐԻ 28-Ի N 2323-Ն ՈՐՈՇՄԱՆ N 5 ՀԱՎԵԼՎԱԾԻ N 2 ԱՂՅՈՒՍԱԿՈՒՄ ԿԱՏԱՐՎՈՂ ՓՈՓՈԽՈՒԹՅՈՒՆՆԵՐԸ ԵՎ ԼՐԱՑՈՒՄՆԵՐԸ
E7: հազ․ դրամ
B8: Ծրագրային դասիչը | D8: Հատկացումների տրամադրման նպատակները և բյուջետային գլխավոր կարգադրիչների, ծրագրերի, միջոցառումների և կատարող պետական մարմնի անվանումները | E8: Ցուցանիշների փոփոխությունը (ավելացումները նշված են դրական նշանով, իսկ նվազեցումները` փակագծերում)
B9: Ծրագիր | C9: Միջոցառում | E9: Տարի
D10: ԸՆԴԱՄԵՆԸ | E10: =+E12 -> -1792572.4
D11: այդ թվում՝
D12: ՀՀ ՏԱՐԱԾՔԱՅԻՆ ԿԱՌԱՎԱՐՄԱՆ ԵՎ ԵՆԹԱԿԱՌՈՒՑՎԱԾՔՆԵՐԻ ՆԱԽԱՐԱՐՈՒԹՅՈՒՆ | E12: =+E14+E48 -> -1792572.4
D13: այդ թվում`
B14: 1049 | C14: 21001 | D14: Պետական նշանակության ավտոճանապարհների հիմնանորոգում | E14: =E16 -> -1685080.9
D15: այդ թվում` ըստ կատարողների
D16: ՀՀ տարածքային կառավարման և ենթակառուցվածքների նախարարություն | E16: =E18+E26+E36 -> -1685080.9
D17: այդ թվում՝ ըստ ուղղությունների
C18: 1 | D18: ='h2'!C16 -> Միջպետական նշանակության ավտոճանապարհներ, այդ թվում | E18: =SUM(E19:E25) -> -564332.2
D19: ='h2'!C17 -> Մ-2, (Սյունիք) /Մ-2/ - Աղվանի- Տաթև - /Մ-2/ միջպետական նշանակության ավտոճանապարհի Վերին Խոտանանը շրջանցող ճանապարհահատվածի կառուցում (II փուլ) | E19: ='h2'!D17 -> -33012.5
D20: ='h2'!C18 -> /Մ-2/-Տաթև-Աղվանի-/Մ-2/(Սյունիք) միջպետական նշանակության ավտոճանապարհի կմ0+000-կմ19+500 հատվածի հիմնանորոգում | E20: ='h2'!D18 -> -74443.2
D21: ='h2'!C19 -> Մ-5, Երևան - Արմավիր - ՀՀ սահման միջպետական նշանակության ավտոճանապարհի կմ17+530-կմ18+200, կմ25+593 - կմ29+385 և կմ32+675 - կմ33+833 աջակողմյան և ձախակողմյան հատվածների հիմնանորոգում և Մ-5 Երևան-Արմավիր-ՀՀ սահման ա/ճ-ի կմ 35+457 - կմ 37+054 հատվածի ջրահեռացման համակարգի վերականգնում | E21: ='h2'!D19 -> -3496.4
D22: ='h2'!C20 -> Մ-5, Երևան - Արմավիր - ՀՀ սահման միջպետական նշանակության ավտոճանապարհի կմ58+400-կմ63+100 հատվածի հիմնանորոգում | E22: ='h2'!D20 -> -11809.6
D23: ='h2'!C21 -> Մ-10, Սևան-Մարտունի-Գետափ միջպետական նշանակության ավտոճանապարհի կմ66+000-կմ79+060 հատվածի հիմնանորոգում | E23: ='h2'!D21 -> -1610.9
D24: ='h2'!C22 -> Մ-10, Սևան-Մարտունի-Գետափ միջպետական նշանակության ավտոճանապարհի կմ80+590-կմ94+590 հատվածի հիմնանորոգում | E24: ='h2'!D22 -> -407006.8
D25: ='h2'!C23 -> Մ-12, /Մ-2/ (Գորիս) – ՀՀ սահման միջպետական նշանակության ավտոճանապարհի կմ0+000 - կմ4+000 հատվածի հիմնանորոգում | E25: ='h2'!D23 -> -32952.8
C26: 2 | D26: ='h2'!C24 -> Հանրապետական նշանակության ավտոճանապարհներ, այդ թվում | E26: =SUM(E27:E35) -> -1227971.8
D27: ='h2'!C25 -> Հ-1, Վ. Պտղնու տրանսպորտային հանգույց - Ջրաբեր-Հրազդան -Հրազդանի քրեակատարողական հիմնարկ հանրապետական նշանակության ավտոճանապարհի կմ33+500 - կմ37+700 հատվածի հիմնանորոգում | E27: ='h2'!D25 -> -5383.6
D28: ='h2'!C26 -> Հ-5, /Հ-6/-Նոր Գեղի-Արգել-Արզական-Հրազդան հանրապետական նշանակության ավտոճանապարհի կմ25+200 - կմ36+000 հատվածի հիմնանորոգում | E28: ='h2'!D26 -> -7782.5
D29: ='h2'!C27 -> Հ-7, /Հ-5/ - Կարենիս - Չարենցավան /Հ-1/ (Ֆանտան)հանրապետական նշանակության ավտոճանապարհի կմ7+580 - կմ10+200 հատվածի հիմնանորոգում | E29: ='h2'!D27 -> -11123
D30: ='h2'!C28 -> Հ-16, /Մ-5/ - Մեծամոր – ՀԱԷԿ - /Մ-5/ հանրապետական նշանակության ավտոճանապարհի կմ0+000 - կմ10+700 հատվածի հիմնանորոգում | E30: ='h2'!D28 -> -8929.4
D31: ='h2'!C29 -> Հ-21, /Հ-75/ - Հոռոմ-Արթիկ-Ալագյազ հանրապետական նշանակության ավտոճանապարհի կմ29+600 - կմ32+700 հատվածի հիմնանորոգում | E31: ='h2'!D29 -> -38262.2
D32: ='h2'!C30 -> Հ-26, /Մ-4/ - Ենոքավան – Կարմիրգյուղ (գյուղատեղի) - /Մ-16/ հանրապետական նշանակության ավտոճանապարհի կմ 0+000-կմ6+300 հատվածի հիմնանորոգում | E32: ='h2'!D30 -> 76821.3
D33: ='h2'!C31 -> Հ-29,Սևան - Ծաղկունք – Զովաբեր հանրապետական նշանակության ավտոճանապարհի կմ 0+000-կմ 18+200 հատվածի հիմնորոգում (բացառությամբ կմ 11+000-կմ 12+000 հատվածի) | E33: ='h2'!D31 -> -54172
D34: ='h2'!C32 -> Հ-33, /Մ-3 /Ստեփանավան-Ագարակ-Յաղդան-/Հ-35/ հանրապետական նշանակության ավտոճանապարհի կմ0+000-կմ8+100 հատվածի հիմնանորոգում | E34: ='h2'!D32 -> -34302.2
D35: ='h2'!C33 -> Հ38,/Հ-30/ (Թթուջուր) – /Հ-36/ (Նավուր) հանրապետական նշանակության ավտոճանապարհի կմ 0+000-կմ 15+100 հատվածի հիմնանորոգում | E35: ='h2'!D33 -> -1144838.2
C36: 3 | D36: Մարզային նշանակության ավտոճանապարհներ, այդ թվում | E36: =SUM(E37:E47) -> 107223.1
D37: ='h2'!C35 -> Տ-1-62,/Հ-4/ - Երնջաթափ - Շողակն ավտոճանապարհի կմ0+000-կմ3+400 հատվածի հիմնանորոգում | E37: ='h2'!D35 -> -928.8
D38: ='h2'!C36 -> Տ-1-63,/Հ-81/ (Թաթուլ) – Կանաչ - Հակո ավտոճանապարհի կմ0+000 - կմ12+100 հատվածի հիմնանորոգում | E38: ='h2'!D36 -> -2145.1
D39: ='h2'!C37 -> Տ-3-14, /Մ-5/-Մրգաշատ-Ալաշկերտ-գ․Արմավիր (Տ-3-16) ավտոճանապարհի կմ0+000 - կմ1+300, կմ3+000-կմ4+200 և կմ4+700-կմ6+200 հատվածների հիմնանորոգում | E39: ='h2'!D37 -> 53477.6
D40: ='h2'!C38 -> Տ-3-18,Ակնալիճ (Տ-3-6) – Զարթոնք – Արևիկ (Տ-3-50) կմ0+000-կմ3+628 հատվածի հիմնանորոգում | E40: ='h2'!D38 -> -6530.3
D41: ='h2'!C39 -> Տ-5-24,/Մ-3/ (Ստեփանավան) – Արմանիս – Ուրասար – Կաթնաղբյուր տեղական նշանակության ավտոճանապարհի կմ 6+600-կմ 15+200 հատվածի և Կաթնաղբյուր համայնքի 8-րդ և 9-րդ փողոցների հիմնանորոգում | E41: ='h2'!D39 -> -6475
D42: ='h2'!C40 -> Տ-7-53, Հ-21/ (Նոր Կյանք) – Փանիկ - Արևշատ - /Հ-21/ (Մեծ Մանթաշ) ավտոճանապարհի կմ0+000 - կմ12+800 հատվածի հիմնանորոգում | E42: ='h2'!D40 -> -13067.8
D43: ='h2'!C41 -> Տ-10-9, /Հ-36/ - Չինչին (Տ-10-38) ավտոճանապարհի կմ0+000 - կմ10+000 հատվածի հիմնանորոգում | E43: ='h2'!D41 -> 132164
D44: ='h2'!C42 -> Տ-10-30, /Մ-16/ - Աճարկուտ - Կիրանց պատմական հուշարձան ավտոճանապարհի 3,5 կմ երկարությամբ հատվածի վերակառուցում | E44: ='h2'!D42 -> -11318.8
D45: ='h2'!C43 -> Տ-10-34, /Մ-4/ - Լեռնային Հայաստան առողջարան ավտոճանապարհի կմ0+000 - կմ2+200 հատվածի հիմնանորոգում | E45: ='h2'!D43 -> -1878.8
D46: ='h2'!C44 -> Տ-8-93, Լծեն-Տաթև ավտոճանապարհի վերակառուցում (Քարաթափման կանխարգելիչ միջոցառումներ) | E46: ='h2'!D44 -> -1999.8
D47: ='h2'!C45 -> Որոտան-Խոտ ավտոճանապարհի վերակառուցում | E47: ='h2'!D45 -> -34074.1
B48: 1049 | C48: 21002 | D48: Տրանսպորտային օբյեկտների հիմնանորոգում | E48: =E50 -> -107491.5
D49: այդ թվում` ըստ կատարողների
D50: ՀՀ տարածքային կառավարման և ենթակառուցվածքների նախարարություն | E50: =SUM(E51:E54) -> -107491.5
D51: այդ թվում՝ ըստ ուղղությունների
D52: ='h2'!C49 -> Հ-22, /Մ-6/-Դսեղ-/Հ-70/ հանրապետական նշանակության ավտոճանապարհի առաջին կիլոմետրում գտնվող կամրջի հիմնանորոգում | E52: ='h2'!D49 -> -336.1
D53: ='h2'!C50 -> Սևանի տրանսպորտային հանգույցի հիմնանորոգում | E53: ='h2'!D50 -> -107125.2
D54: ='h2'!C51 -> Մ-10, Սևան-Մարտունի-Գետափ միջպետական նշանակության ավտոճանապարհի կմ117+042-ում գտնվող կամրջի հիմնանորոգում | E54: ='h2'!D51 -> -30.2
C57: ՀԱՅԱՍՏԱՆԻ ՀԱՆՐԱՊԵՏՈՒԹՅԱՆ ՎԱՐՉԱՊԵՏԻ ԱՇԽԱՏԱԿԱԶՄԻ ՂԵԿԱՎԱՐ՝Ա.ՀԱՐՈՒԹՅՈՒՆՅԱՆ

Sheet h6
D1: Հավելված N 6
D2: ՀՀ կառավարության 2024 թվականի
D3: ______________ ի ___Ն որոշման
B5: ՀԱՅԱՍՏԱՆԻ ՀԱՆՐԱՊԵՏՈՒԹՅԱՆ ԿԱՌԱՎԱՐՈՒԹՅԱՆ 2023 ԹՎԱԿԱՆԻ ԴԵԿՏԵՄԲԵՐԻ 28-Ի N 2323-Ն ՈՐՈՇՄԱՆ N 9 ՀԱՎԵԼՎԱԾԻ NN 9.7 ԱՂՅՈՒՍԱԿՈՒՄ ԿԱՏԱՐՎՈՂ ՓՈՓՈԽՈՒԹՅՈՒՆՆԵՐԸ ԵՎ ԼՐԱՑՈՒՄՆԵՐԸ
D7: Աղյուսակ 9.7
B8: ՀՀ տարածքային կառավարման և ենթակառուցվածքների նախարարություն
B9: ՄԱՍ 2. ՊԵՏԱԿԱՆ ՄԱՐՄՆԻ ԳԾՈՎ ԱՐԴՅՈՒՆՔԱՅԻՆ (ԿԱՏԱՐՈՂԱԿԱՆ) ՑՈՒՑԱՆԻՇՆԵՐԸ
B11: Ծրագրի դասիչը | C11: Ծրագրի անվանումը
B12: 1049 | C12: Ճանապարհային ցանցի բարելավում
B14: Ծրագրի միջոցառումները
B15: Ծրագրի դասիչը` | C15: 1049 | D15: Ցուցանիշների փոփոխությունը (նվազեցումները նշված են փակագծերում)
B16: Միջոցառման դասիչը` | C16: 21001 | D16: Տարի
B17: Միջոցառման անվանումը` | C17: Պետական նշանակության ավտոճանապարհների հիմնանորոգում
B18: Նկարագրությունը` | C18: Միջպետական, հանրապետական և մարզային նշանակության ավտոճոնապարհների քայքայված ծածկի վերանորոգում, մաշված ծածկի փոխարինում
B19: Միջոցառման տեսակը` | C19: Հանրության կողմից անմիջականորեն օգտագործվող ակտիվների հետ կապված միջոցառումներ
B20: Միջոցառումն իրականացնողի անվանումը | C20: Մասնագիտացված միավոր
B21: Արդյունքի չափորոշիչներ
B22: Հանրապետական նշանակության ավտոճանապարհներ, կմ | D22: -6
B23: Միջոցառման վրա կատարվող ծախսը (հազար դրամ) | D23: ='h4'!G112 -> -1685080.9
B25: Ծրագրի դասիչը` | C25: 1049 | D25: Ցուցանիշների փոփոխությունը (նվազեցումները նշված են փակագծերում)
B26: Միջոցառման դասիչը` | C26: 21002 | D26: Տարի
B27: Միջոցառման անվանումը` | C27: Տրանսպորտային օբյեկտների հիմնանորոգում
B28: Նկարագրությունը` | C28: Ավտոմոբիլային ճանապարհների վրա գտնվող կամուրջների հիմնանորոգում
B29: Միջոցառման տեսակը` | C29: Հանրության կողմից անմիջականորեն օգտագործվող ակտիվների հետ կապված միջոցառումներ
B30: Միջոցառումն իրականացնողի անվանումը | C30: Մասնագիտացված միավոր
B31: Արդյունքի չափորոշիչներ
B32: Միջոցառման վրա կատարվող ծախսը (հազար դրամ) | D32: ='h4'!G122 -> -107491.5
B35: Ծրագրի դասիչը | C35: Ծրագրի անվանումը
B36: 1212 | C36: Տարածքային զարգացում
B38: Ծրագրի միջոցառումները
B39: Ծրագրի դասիչը` | C39: 1212 | D39: Ցուցանիշների փոփոխությունը (ավելացումները նշված են դրական նշանով)
B40: Միջոցառման դասիչը` | C40: 12007 | D40: Տարի
B41: Միջոցառման անվանումը` | C41: ՀՀ մարզերին սուբվենցիաների տրամադրում` ենթակառուցվածքների զարգացման նպատակով_x000D_
B42: Նկարագրությունը` | C42: ՀՀ մարզերին սուբվենցիաների տրամադրում` ենթակառուցվածքների զարգացման նպատակով
B43: Միջոցառման տեսակը` | C43: Տրանսֆերտների տրամադրում
B44: Միջոցառումն իրականացնողի անվանումը | C44: ՀՀ համայնքներ
B45: Արդյունքի չափորոշիչներ
B46: Ծրագրերի քանակ, հատ | D46: ='h7'!D50+'h7'!D68+'h7'!D86+'h7'!D104+'h7'!D123+'h7'!D141+'h7'!D159+'h7'!D177+'h7'!D195+'h7'!D214 -> 33
B47: Միջոցառման վրա կատարվող ծախսը (հազար դրամ) | D47: ='h4'!G23 -> 1792572.4
B50: ՀԱՅԱՍՏԱՆԻ ՀԱՆՐԱՊԵՏՈՒԹՅԱՆ ՎԱՐՉԱՊԵՏԻ ԱՇԽԱՏԱԿԱԶՄԻ ՂԵԿԱՎԱՐ՝ Ա.ՀԱՐՈՒԹՅՈՒՆՅԱՆ

Sheet h7
D1: Հավելված N 7
D2: ՀՀ կառավարության 2024 թվականի
D3: ______________ ի ___Ն որոշման
B5: ՀԱՅԱՍՏԱՆԻ ՀԱՆՐԱՊԵՏՈՒԹՅԱՆ ԿԱՌԱՎԱՐՈՒԹՅԱՆ 2023 ԹՎԱԿԱՆԻ ԴԵԿՏԵՄԲԵՐԻ 28-Ի № 2323-Ն ՈՐՈՇՄԱՆ № 9.1 ՀԱՎԵԼՎԱԾԻ № 9.1.7, 9.1.48, 9.1.49, 9.1.50, 9.1.51, 9.1.52, 9.1.53, 9.1.54, 9.1.55, 9.1.56,9.1.57 ԵՎ 9.1.58 ԱՂՅՈՒՍԱԿՆԵՐՈՒՄ ԿԱՏԱՐՎՈՂ ՓՈՓՈԽՈՒԹՅՈՒՆԸ ԵՎ ԼՐԱՑՈՒՄՆԵՐԸ
D8: Աղյուսակ 9.1.7
B9: ՀՀ տարածքային կառավարման և ենթակառուցվածքների նախարարություն
B10: ՄԱՍ 1. ՊԵՏԱԿԱՆ ՄԱՐՄՆԻ ԳԾՈՎ ԱՐԴՅՈՒՆՔԱՅԻՆ (ԿԱՏԱՐՈՂԱԿԱՆ) ՑՈՒՑԱՆԻՇՆԵՐԸ
B12: Ծրագրի դասիչը | C12: Ծրագրի անվանումը
B13: 1049 | C13: Ճանապարհային ցանցի բարելավում
B15: Ծրագրի միջոցառումները
B16: Ծրագրի դասիչը` | C16: 1049 | D16: Ցուցանիշների փոփոխությունը (նվազեցումները նշված են փակագծերում)
B17: Միջոցառման դասիչը` | C17: 21001 | D17: Տարի
B18: Միջոցառման անվանումը` | C18: Պետական նշանակության ավտոճանապարհների հիմնանորոգում
B19: Նկարագրությունը` | C19: Միջպետական, հանրապետական և մարզային նշանակության ավտոճոնապարհների քայքայված ծածկի վերանորոգում, մաշված ծածկի փոխարինում
B20: Միջոցառման տեսակը` | C20: Հանրության կողմից անմիջականորեն օգտագործվող ակտիվների հետ կապված միջոցառումներ
B21: Միջոցառումն իրականացնողի անվանումը | C21: Մասնագիտացված միավոր
B22: Արդյունքի չափորոշիչներ
B23: Հանրապետական նշանակության ավտոճանապարհներ, կմ | D23: -6
B24: Միջոցառման վրա կատարվող ծախսը (հազար դրամ) | D24: ='h4'!G114 -> -1685080.9
B26: Ծրագրի դասիչը` | C26: 1049 | D26: Ցուցանիշների փոփոխությունը (նվազեցումները նշված են փակագծերում)
B27: Միջոցառման դասիչը` | C27: ='h6'!C26 -> 21002 | D27: Տարի
B28: Միջոցառման անվանումը` | C28: ='h6'!C27 -> Տրանսպորտային օբյեկտների հիմնանորոգում
B29: Նկարագրությունը` | C29: ='h6'!C28 -> Ավտոմոբիլային ճանապարհների վրա գտնվող կամուրջների հիմնանորոգում
B30: Միջոցառման տեսակը` | C30: ='h6'!C29 -> Հանրության կողմից անմիջականորեն օգտագործվող ակտիվների հետ կապված միջոցառումներ
B31: Միջոցառումն իրականացնողի անվանումը | C31: ='h6'!C30 -> Մասնագիտացված միավոր
B32: Արդյունքի չափորոշիչներ
B33: Միջոցառման վրա կատարվող ծախսը (հազար դրամ) | D33: ='h4'!G124 -> -107491.5
D34: Աղյուսակ 9.1.48
B35: ՀՀ Արագածոտնի մարզպետի աշխատակազմ
B37: ՄԱՍ 1. ՊԵՏԱԿԱՆ ՄԱՐՄՆԻ ԳԾՈՎ ԱՐԴՅՈՒՆՔԱՅԻՆ (ԿԱՏԱՐՈՂԱԿԱՆ) ՑՈՒՑԱՆԻՇՆԵՐԸ
B39: Ծրագրի դասիչը | C39: Ծրագրի անվանումը
B40: 1212 | C40: Տարածքային զարգացում
B42: Ծրագրի միջոցառումները
B43: Ծրագրի դասիչը` | C43: 1212 | D43: Ցուցանիշների փոփոխությունը (ավելացումները նշված են դրական նշանով)
B44: Միջոցառման դասիչը` | C44: 12007 | D44: Տարի
B45: Միջոցառման անվանումը` | C45: ՀՀ մարզերին սուբվենցիաների տրամադրում` ենթակառուցվածքների զարգացման նպատակով_x000D_
B46: Նկարագրությունը` | C46: ՀՀ մարզերին սուբվենցիաների տրամադրում` ենթակառուցվածքների զարգացման նպատակով
B47: Միջոցառման տեսակը` | C47: Տրանսֆերտների տրամադրում
B48: Շահառուների ընտրության չափանիշները | C48: ՀՀ կառավարության 16. 11.2006 թվականի «ՀՀ պետական բյուջեից համայնքներին սուբվենցիաների տրամադրման կարգը հաստատելու մասին» 1708-Ն որոշում
B49: Արդյունքի չափորոշիչներ
B50: Ծրագրերի քանակ, հատ | D50: 5
B51: Միջոցառման վրա կատարվող ծախսը (հազար դրամ) | D51: ='h4'!G32 -> 879823.7
D52: Աղյուսակ 9.1.49
B53: ՀՀ Արարատի մարզպետի աշխատակազմ
B55: ՄԱՍ 1. ՊԵՏԱԿԱՆ ՄԱՐՄՆԻ ԳԾՈՎ ԱՐԴՅՈՒՆՔԱՅԻՆ (ԿԱՏԱՐՈՂԱԿԱՆ) ՑՈՒՑԱՆԻՇՆԵՐԸ
B57: Ծրագրի դասիչը | C57: Ծրագրի անվանումը
B58: 1212 | C58: Տարածքային զարգացում
B60: Ծրագրի միջոցառումները
B61: Ծրագրի դասիչը` | C61: 1212 | D61: Ցուցանիշների փոփոխությունը (ավելացումները նշված են դրական նշանով)
B62: Միջոցառման դասիչը` | C62: 12007 | D62: Տարի
B63: Միջոցառման անվանումը` | C63: ՀՀ մարզերին սուբվենցիաների տրամադրում` ենթակառուցվածքների զարգացման նպատակով_x000D_
B64: Նկարագրությունը` | C64: ՀՀ մարզերին սուբվենցիաների տրամադրում` ենթակառուցվածքների զարգացման նպատակով
B65: Միջոցառման տեսակը` | C65: Տրանսֆերտների տրամադրում
B66: Շահառուների ընտրության չափանիշները | C66: ՀՀ կառավարության 16. 11.2006 թվականի «ՀՀ պետական բյուջեից համայնքներին սուբվենցիաների տրամադրման կարգը հաստատելու մասին» 1708-Ն որոշում
B67: Արդյունքի չափորոշիչներ
B68: Ծրագրերի քանակ, հատ | D68: 2
B69: Միջոցառման վրա կատարվող ծախսը (հազար դրամ) | D69: ='h4'!G39 -> 97488
D71: Աղյուսակ 9.1.50
B72: ՀՀ Արմավիրի մարզպետի աշխատակազմ
B73: ՄԱՍ 1. ՊԵՏԱԿԱՆ ՄԱՐՄՆԻ ԳԾՈՎ ԱՐԴՅՈՒՆՔԱՅԻՆ (ԿԱՏԱՐՈՂԱԿԱՆ) ՑՈՒՑԱՆԻՇՆԵՐԸ
B75: Ծրագրի դասիչը | C75: Ծրագրի անվանումը
B76: 1212 | C76: Տարածքային զարգացում
B78: Ծրագրի միջոցառումները
B79: Ծրագրի դասիչը` | C79: 1212 | D79: Ցուցանիշների փոփոխությունը (ավելացումները նշված են դրական նշանով)
B80: Միջոցառման դասիչը` | C80: 12007 | D80: Տարի
B81: Միջոցառման անվանումը` | C81: ՀՀ մարզերին սուբվենցիաների տրամադրում` ենթակառուցվածքների զարգացման նպատակով_x000D_
B82: Նկարագրությունը` | C82: ՀՀ մարզերին սուբվենցիաների տրամադրում` ենթակառուցվածքների զարգացման նպատակով
B83: Միջոցառման տեսակը` | C83: Տրանսֆերտների տրամադրում
B84: Շահառուների ընտրության չափանիշները | C84: ՀՀ կառավարության 16. 11.2006 թվականի «ՀՀ պետական բյուջեից համայնքներին սուբվենցիաների տրամադրման կարգը հաստատելու մասին» 1708-Ն որոշում
B85: Արդյունքի չափորոշիչներ
B86: Ծրագրերի քանակ, հատ | D86: 8
B87: Միջոցառման վրա կատարվող ծախսը (հազար դրամ) | D87: ='h4'!G46 -> 393225
D89: Աղյուսակ 9.1.51
B90: ՀՀ Գեղարքունիքի մարզպետի աշխատակազմ
B91: ՄԱՍ 1. ՊԵՏԱԿԱՆ ՄԱՐՄՆԻ ԳԾՈՎ ԱՐԴՅՈՒՆՔԱՅԻՆ (ԿԱՏԱՐՈՂԱԿԱՆ) ՑՈՒՑԱՆԻՇՆԵՐԸ
B93: Ծրագրի դասիչը | C93: Ծրագրի անվանումը
B94: 1212 | C94: Տարածքային զարգացում
B96: Ծրագրի միջոցառումները
B97: Ծրագրի դասիչը` | C97: 1212 | D97: Ցուցանիշների փոփոխությունը (ավելացումները նշված են դրական նշանով)
B98: Միջոցառման դասիչը` | C98: 12007 | D98: Տարի
B99: Միջոցառման անվանումը` | C99: ՀՀ մարզերին սուբվենցիաների տրամադրում` ենթակառուցվածքների զարգացման նպատակով_x000D_
B100: Նկարագրությունը` | C100: ՀՀ մարզերին սուբվենցիաների տրամադրում` ենթակառուցվածքների զարգացման նպատակով
B101: Միջոցառման տեսակը` | C101: Տրանսֆերտների տրամադրում
B102: Շահառուների ընտրության չափանիշները | C102: ՀՀ կառավարության 16. 11.2006 թվականի «ՀՀ պետական բյուջեից համայնքներին սուբվենցիաների տրամադրման կարգը հաստատելու մասին» 1708-Ն որոշում
B103: Արդյունքի չափորոշիչներ
B104: Ծրագրերի քանակ, հատ | D104: 3
B105: Միջոցառման վրա կատարվող ծախսը (հազար դրամ) | D105: ='h4'!G53 -> 880155.8
D107: Աղյուսակ 9.1.52
B108: ՀՀ Լոռու մարզպետի աշխատակազմ
B110: ՄԱՍ 1. ՊԵՏԱԿԱՆ ՄԱՐՄՆԻ ԳԾՈՎ ԱՐԴՅՈՒՆՔԱՅԻՆ (ԿԱՏԱՐՈՂԱԿԱՆ) ՑՈՒՑԱՆԻՇՆԵՐԸ
B112: Ծրագրի դասիչը | C112: Ծրագրի անվանումը
B113: 1212 | C113: Տարածքային զարգացում
B115: Ծրագրի միջոցառումները
B116: Ծրագրի դասիչը` | C116: 1212 | D116: Ցուցանիշների փոփոխությունը (ավելացումները նշված են դրական նշանով)
B117: Միջոցառման դասիչը` | C117: 12007 | D117: Տարի
B118: Միջոցառման անվանումը` | C118: ՀՀ մարզերին սուբվենցիաների տրամադրում` ենթակառուցվածքների զարգացման նպատակով_x000D_
B119: Նկարագրությունը` | C119: ՀՀ մարզերին սուբվենցիաների տրամադրում` ենթակառուցվածքների զարգացման նպատակով
B120: Միջոցառման տեսակը` | C120: Տրանսֆերտների տրամադրում
B121: Շահառուների ընտրության չափանիշները | C121: ՀՀ կառավարության 16. 11.2006 թվականի «ՀՀ պետական բյուջեից համայնքներին սուբվենցիաների տրամադրման կարգը հաստատելու մասին» 1708-Ն որոշում
B122: Արդյունքի չափորոշիչներ
...

Sheet h8
H1: Հավելված N 8
H2: ՀՀ կառավարության 2024 թվականի
H3: ______________ ի ___Ն որոշման
B5: ՀԱՅԱՍՏԱՆԻ ՀԱՆՐԱՊԵՏՈՒԹՅԱՆ ԿԱՌԱՎԱՐՈՒԹՅԱՆ 2023 ԹՎԱԿԱՆԻ ԴԵԿՏԵՄԲԵՐԻ 28-Ի N 2323-Ն ՈՐՈՇՄԱՆ N 10 ՀԱՎԵԼՎԱԾՈՒՄ ԿԱՏԱՐՎՈՂ ՓՈՓՈԽՈՒԹՅՈՒՆՆԵՐԸ ԵՎ ԼՐԱՑՈՒՄՆԵՐԸ
B7: Կոդը | C7: Անվանումը | D7: Գնման ձևը | E7: Չափման միավորը | F7: Միավորի գինը | G7: Ցուցանիշների փոփոխությունը (ավելացումները նշված են դրական նշանով, իսկ նվազեցումները` փակագծերում)
G8: Քանակը | H8: Գումարը (հազար դրամով)
B9: ՀՀ տարածքային կառավարման և ենթակառուցվածքների նախարարություն | H9: =+H10 -> -1792572.4
B10: Բաժին N 04 | C10: Խումբ N 05 | D10: Դաս N 01 | E10: Ճանապարհային տրանսպորտ | H10: =+H11+H49 -> -1792572.4
B11: 1049 21001 | C11: Պետական նշանակության ավտոճանապարհների հիմնանորոգում | H11: =SUM(H12+H39) -> -1685080.9
B12: ՄԱՍ II. ԱՇԽԱՏԱՆՔՆԵՐ | H12: =SUM(H13:H38) -> -1662673.7
B13: 45231177/65 | C13: ճանապարհների վերանորոգման աշխատանքներ | D13: ՀԲՄ | E13: դրամ | H13: -27652.5
B14: 45231177/650 | C14: ճանապարհների վերանորոգման աշխատանքներ | D14: ԲՄ | E14: դրամ | H14: -74443.2
B15: 45231177/44 | C15: ճանապարհների վերանորոգման աշխատանքներ | D15: ՀԲՄ | E15: դրամ | H15: -3496.4
B16: 45231177/552 | C16: ճանապարհների վերանորոգման աշխատանքներ | D16: ԲՄ | E16: դրամ | H16: -11809.6
B17: 45231177 /107 | C17: ճանապարհների վերանորոգման աշխատանքներ | D17: ՀԲՄ | E17: դրամ | H17: -1610.9
B18: 45231177 /6 | C18: ճանապարհների վերանորոգման աշխատանքներ | D18: ԲՄ | E18: դրամ | H18: -401184.5
B19: 45231177 /638 | C19: ճանապարհների վերանորոգման աշխատանքներ | D19: ՀԲՄ | E19: դրամ | H19: -31952.8
B20: 45231177 /77 | C20: ճանապարհների վերանորոգման աշխատանքներ | D20: ՀԲՄ | E20: դրամ | H20: -5383.6
B21: 45231177 /89 | C21: ճանապարհների վերանորոգման աշխատանքներ | D21: ՀԲՄ | E21: դրամ | H21: -7782.5
B22: 45231177 /49 | C22: ճանապարհների վերանորոգման աշխատանքներ | D22: ԲՄ | E22: դրամ | H22: -11123
B23: 45231177 /655 | C23: ճանապարհների վերանորոգման աշխատանքներ | D23: ՀԲՄ | E23: դրամ | H23: -38262.2
B24: 45231177 /648 | C24: ճանապարհների վերանորոգման աշխատանքներ | D24: ԲՄ | E24: դրամ | F24: 76821300 | G24: 1 | H24: =+G24*F24/1000 -> 76821.3
B25: 45231177 /583 | C25: ճանապարհների վերանորոգման աշխատանքներ | D25: ԲՄ | E25: դրամ | H25: -53477.6
B26: 45231177 /505 | C26: ճանապարհների վերանորոգման աշխատանքներ | D26: ՀԲՄ | E26: դրամ | H26: -33701.1
B27: 45231177 /17 | C27: ճանապարհների վերանորոգման աշխատանքներ | D27: ՀԲՄ | E27: դրամ | H27: -1144838.2
B28: 45231177 /654 | C28: ճանապարհների վերանորոգման աշխատանքներ | D28: ՀԲՄ | E28: դրամ | H28: -928.8
B29: 45231177 /652 | C29: ճանապարհների վերանորոգման աշխատանքներ | D29: ՀԲՄ | E29: դրամ | H29: -2145.1
B30: 45231177 /566 | C30: ճանապարհների վերանորոգման աշխատանքներ | D30: ԲՄ | E30: դրամ | F30: 53477600 | G30: 1 | H30: =+G30*F30/1000 -> 53477.6
B31: 45231177 /42 | C31: ճանապարհների վերանորոգման աշխատանքներ | D31: ՀԲՄ | E31: դրամ | H31: -6530.3
B32: 45231177 /87 | C32: ճանապարհների վերանորոգման աշխատանքներ | D32: ՀԲՄ | E32: դրամ | H32: -6475
B33: 45231177 /656 | C33: ճանապարհների վերանորոգման աշխատանքներ | D33: ՀԲՄ | E33: դրամ | H33: -13067.8
B34: 45231177 /568 | C34: ճանապարհների վերանորոգման աշխատանքներ | D34: ՀԲՄ | E34: դրամ | F34: 132164000 | G34: 1 | H34: =+G34*F34/1000 -> 132164
B35: 45231177 /108 | C35: ճանապարհների վերանորոգման աշխատանքներ | D35: ՀՄԱ | E35: դրամ | H35: -11318.8
B36: 45231177 /649 | C36: ճանապարհների վերանորոգման աշխատանքներ | D36: ԲՄ | E36: դրամ | H36: -1878.8
B37: 45231177 /109 | C37: ճանապարհների վերանորոգման աշխատանքներ | D37: ՀՄԱ | E37: դրամ | H37: -1999.8
B38: 45231177 /144 | C38: ճանապարհների վերանորոգման աշխատանքներ | D38: ՄԱ | E38: դրամ | H38: -34074.1
B39: ՄԱՍ III. ԾԱՌԱՅՈՒԹՅՈՒՆՆԵՐ | H39: =SUM(H40:H48) -> -22407.2
B40: 71351540/105 | C40: տեխնիկական հսկողության ծառայություններ | D40: ՀՄԱ | E40: դրամ | H40: -5360
B41: 71351540/6 | C41: տեխնիկական հսկողության ծառայություններ | D41: ԲՄ | E41: դրամ | H41: -2476.4
B42: 71351540/9 | C42: տեխնիկական հսկողության ծառայություններ | D42: ՀԲՄ | E42: դրամ | H42: -1000
B43: 71351540/81 | C43: տեխնիկական հսկողության ծառայություններ | D43: ՀՄԱ | E43: դրամ | H43: -8929.4
B44: 71351540/586 | C44: տեխնիկական հսկողության ծառայություններ | D44: ԲՄ | E44: դրամ | H44: -244.6
B45: 71351540/89 | C45: տեխնիկական հսկողության ծառայություններ | D45: ԳՀ | E45: դրամ | H45: -374.5
B46: 98111140/6 | C46: հեղինակային հսկողության ծառայություններ | D46: ՄԱ | E46: դրամ | H46: -3345.9
B47: 98111140 /93 | C47: հեղինակային հսկողության ծառայություններ | D47: ՄԱ | E47: դրամ | H47: -449.8
B48: 98111140/59 | C48: հեղինակային հսկողության ծառայություններ | D48: ՄԱ | E48: դրամ | H48: -226.6
B49: 1049 21002 | C49: Տրանսպորտային օբյեկտների հիմնանորոգում | H49: =H50 -> -107491.5
B50: ՄԱՍ II ԱՇԽԱՏԱՆՔՆԵՐ | H50: =SUM(H51:H53) -> -107491.5
B51: 45221117/13 | C51: կամուրջների կառուցման շինարարական աշխատանքներ | D51: ՀՄԱ | E51: դրամ | H51: -336.1
B52: 45221100/3 | C52: կամուրջների կառուցման շինարարական աշխատանքներ | D52: ՀԲՄ | E52: դրամ | H52: -107125.2
B53: 45221117/516 | C53: կամուրջների վերանորոգման շինարարական աշխատանքներ | D53: ԲՄ | E53: դրամ | H53: -30.2
B55: ՀԱՅԱՍՏԱՆԻ ՀԱՆՐԱՊԵՏՈՒԹՅԱՆ ՎԱՐՉԱՊԵՏԻ ԱՇԽԱՏԱԿԱԶՄԻ ՂԵԿԱՎԱՐ՝ Ա.ՀԱՐՈՒԹՅՈՒՆՅԱՆ
