Workbook
Name _tab10: #REF!
Name _tab10: #REF!
Name _tab10: #REF!
Name _tab10: #REF!
Name _tab10: #REF!
Name _tab10: #REF!
Name _tab10: #REF!
Name _tab10: #REF!
Name _tab11: #REF!
Name _tab11: #REF!
Name _tab11: #REF!
Name _tab11: #REF!
Name _tab11: #REF!
Name _tab11: #REF!
Name _tab11: #REF!
Name _tab11: #REF!
Name _tab12: #REF!
Name _tab12: #REF!
Name _tab12: #REF!
Name _tab12: #REF!
Name _tab12: #REF!
Name _tab12: #REF!
Name _tab12: #REF!
Name _tab12: #REF!
Name _tab13: #REF!
Name _tab13: #REF!
Name _tab13: #REF!
Name _tab13: #REF!
Name _tab13: #REF!
Name _tab13: #REF!
Name _tab13: #REF!
Name _tab13: #REF!
Name _tab14: #REF!
Name _tab14: #REF!
Name _tab14: #REF!
Name _tab14: #REF!
Name _tab14: #REF!
Name _tab14: #REF!
Name _tab14: #REF!
Name _tab14: #REF!
Name _tab15: #REF!
Name _tab15: #REF!
Name _tab15: #REF!
Name _tab15: #REF!
Name _tab15: #REF!
Name _tab15: #REF!
Name _tab15: #REF!
Name _tab15: #REF!
Name _tab16: #REF!
Name _tab16: #REF!
Name _tab16: #REF!
Name _tab16: #REF!
Name _tab16: #REF!
Name _tab16: #REF!
Name _tab16: #REF!
Name _tab16: #REF!
Name _tab17: #REF!
Name _tab17: #REF!
Name _tab17: #REF!
Name _tab17: #REF!

Sheet ՕՀ-1 Ա-2 և Հ-5 Ա-1
B1: Հավելված N 1
B2: ՀՀ կառավարության 2024 թվականի
B3: ______________ ի N___ -Ն որոշման
B5: «ՀԱՅԱՍՏԱՆԻ ՀԱՆՐԱՊԵՏՈՒԹՅԱՆ 2024 ԹՎԱԿԱՆԻ ՊԵՏԱԿԱՆ ԲՅՈՒՋԵԻ ՄԱՍԻՆ» ՀԱՅԱՍՏԱՆԻ ՀԱՆՐԱՊԵՏՈՒԹՅԱՆ ՕՐԵՆՔԻ N 1 ՀԱՎԵԼՎԱԾԻ N 2 ԱՂՅՈՒՍԱԿՈՒՄ ԿԱՏԱՐՎՈՂ ՎԵՐԱԲԱՇԽՈՒՄԸ ԵՎ ՀԱՅԱՍՏԱՆԻ ՀԱՆՐԱՊԵՏՈՒԹՅԱՆ ԿԱՌԱՎԱՐՈՒԹՅԱՆ 2023 ԹՎԱԿԱՆԻ ԴԵԿՏԵՄԲԵՐԻ 28-Ի N 2323-Ն ՈՐՈՇՄԱՆ N 5 ՀԱՎԵԼՎԱԾԻ N 1 ԱՂՅՈՒՍԱԿՈՒՄ ԿԱՏԱՐՎՈՂ ՓՈՓՈԽՈՒԹՅՈՒՆՆԵՐԸ
E6: հազար դրամ
B7: Ծրագրային դասիչը | D7: Բյուջետային հատկացումների գլխավոր կարգադրիչների, ծրագրերի և միջոցառումների անվանումները | E7: Ցուցանիշների փոփոխությունը (ավելացումները նշված են դրական նշանով, իսկ նվազեցումները՝ փակագծերում)
B8: ծրագիր | C8: միջո-ցառում | E8: տարի
D9: Ընդամենը | E9: =ROUND(E10+E55, 4) -> 0
D10: ՀՀ պաշտպանության նախարարություն | E10: =ROUND(E11+E30, 4) -> 0
B11: 1169 | D11: Ծրագրի անվանումը՝ | E11: =SUM(E18:E29) -> 496017.31
D12: ՀՀ պաշտպանության ապահովում
D13: Ծրագրի նպատակը՝
D14: ՀՀ ԶՈւ ռազմավարական ծավալումն ապահովող մարտական պատրաստականության պահպանում՝ արտաքին թշնամուց ՀՀ պետական սահմանների պաշտպանության ապահովում
D15: Վերջնական արդյունքի նկարագրությունը՝
D16: ՀՀ ԶՈւ ռազմավարական ծավալումն ապահովող մարտական պատրաստականության պահպանում
B17: Ծրագրի միջոցառումներ
C18: 11001 | D18: Միջոցառման անվանումը՝ | E18: =+'Հ-3 և 4'!H21 -> -26741771
D19: Ռազմական կարիքների բավարարում
D20: Միջոցառման նկարագրությունը՝
D21: Ընթացիկ գործունեության ապահովման գործողություններ
D22: Միջոցառման տեսակը
D23: Ծառայությունների մատուցում
C24: 31001 | D24: Միջոցառման անվանումը՝ | E24: ='Հ-3 և 4'!H50 -> 27237788
D25: ՀՀ պաշտպանության նախարարության շենքային պայմանների բարելավում
D26: Միջոցառման նկարագրությունը՝
D27: Պաշտպանության կարիքների համար բնակելի, գրասենյակային և այլ նշանակության շենքերի և շինությունների կառուցում
D28: Միջոցառման տեսակը
D29: Պետական մարմինների կողմից օգտագործվող ոչ ֆինանսական ակտիվների հետ գործառնություններ
B30: 1204 | D30: Ծրագրի անվանումը՝ | E30: =E37+E43+E49+E55 -> -496017.31
D31: Ռազմաբժշկական սպասարկում և առողջապահական ծառայություններ
D32: Ծրագրի նպատակը՝
D33: Զինծառայողների, ինչպես նաև նրանց ընտանիքների անդամների առողջության պահպանում, որակյալ բժշկական ծառայություններով ապահովում
D34: Վերջնական արդյունքի նկարագրությունը՝
D35: Ծառայողական պարտականությունների արդյունավետ կատարմանը խոչընդոտող հիվանդությունների կանխարգելում և առողջական խնդիրների լուծում
B36: Ծրագրի միջոցառումներ
C37: 11001 | D37: Միջոցառման անվանումը՝ | E37: =+'Հ-3 և 4'!H89 -> -107100
D38: Զինծառայողներին, ինչպես նաև նրանց ընտանիքի անդամներին բժշկական օգնության ծառայություններ
D39: Միջոցառման նկարագրությունը՝
D40: ՊՆ համակարգում վերականգնողական մասնագիտացված բուժօգնության գծով ծառայությունների տրամադրում
D41: Միջոցառման տեսակը
...

Sheet ՕՀ-1 Ա-3
H1: Հավելված N 2
H2: ՀՀ կառավարության 2024 թվականի
H3: ___________ ___-ի N _______ -Ն որոշման
A5: «ՀԱՅԱՍՏԱՆԻ ՀԱՆՐԱՊԵՏՈՒԹՅԱՆ 2024 ԹՎԱԿԱՆԻ ՊԵՏԱԿԱՆ ԲՅՈՒՋԵԻ ՄԱՍԻՆ» ՀԱՅԱՍՏԱՆԻ ՀԱՆՐԱՊԵՏՈՒԹՅԱՆ ՕՐԵՆՔԻ N 1 ՀԱՎԵԼՎԱԾԻ N 3 ԱՂՅՈՒՍԱԿՈՒՄ ԿԱՏԱՐՎՈՂ ՓՈՓՈԽՈՒԹՅՈՒՆԸ
H6: հազար դրամով
A7: Ծրագրային դասիչ | C7: Բյուջետային գլխավոր կարգադրիչների, ծրագրերի, միջոցառումների և ուղղությունների անվանումները | D7: Ցուցանիշների փոփոխությունը (ավելացումները նշված են դրական նշանով, իսկ նվազեցումները՝ փակագծերում)
A8: Ծրագիր | B8: Միջոցառում | D8: Ընդամենը | E8: այդ թվում՝
E9: Կառուցման աշխատանքներ | F9: Վերակառուցման, վերանորոգման և վերականգնման աշխատանքներ | G9: Նախագծահե- տազոտական, գեոդեզիա- քարտեզագրա- կան աշխա- տանքներ | H9: Ոչ ֆինանսական այլ ակտիվների ձեռքբերում
C10: ԸՆԴԱՄԵՆԸ | D10: =D12 -> 27237788 | E10: =E12 -> 27237788
C11: այդ թվում՝
C12: ՀՀ պաշտպանության նախարարություն | D12: =+D14 -> 27237788 | E12: =+E14 -> 27237788
C13: այդ թվում`
A14: 1169 | B14: 31001 | C14: ՀՀ պաշտպանության նախարարության շենքային պայմանների բարելավում | D14: =SUM(E14:H14) -> 27237788 | E14: ='Հ-3 և 4'!H50 -> 27237788
G18: Տնտեսում
G19: 1169 11001 | H19: =-1025992.592-97905 -> -1123897.6 | I19: =+H19+H20 -> -1258741.5
F20: ոգ | G20: 1169 11001 | H20: ='Հ-10'!$L$13 -> -134843.92
G21: 1169 31001 | I21: =+H21+H22 -> -4355.142
F22: ոգ | G22: 1169 31001 | H22: ='Հ-10'!$L$314 -> -4355.142
G23: 1204 11004 | H23: ='Հ-10'!$L$371 -> -66220.026
G24: 1204 11001 | H24: ='Հ-10'!$L$970 -> 0
G25: 1204 11003 | H25: ='Հ-10'!$L$978 -> 0
H26: =SUM(H19:H25) -> -1329316.7

Sheet Հ-3 և 4
B1: Հավելված N 3
B2: ՀՀ կառավարության 2024 թվականի
B3: ______________ ի N ___ -Ն որոշման
B5: ՀԱՅԱՍՏԱՆԻ ՀԱՆՐԱՊԵՏՈՒԹՅԱՆ ԿԱՌԱՎԱՐՈՒԹՅԱՆ 2023 ԹՎԱԿԱՆԻ ԴԵԿՏԵՄԲԵՐԻ 28-Ի N 2323-Ն
B6: ՈՐՈՇՄԱՆ N 3 և N 4 ՀԱՎԵԼՎԱԾՆԵՐՈՒՄ ԿԱՏԱՐՎՈՂ ՓՈՓՈԽՈՒԹՅՈՒՆՆԵՐԸ
H7: հազար դրամ
B8: Գործառական դասիչը | E8: Ծրագրային դասիչը | G8: Բյուջետային ծախսերի գործառական դասակարգման բաժինների, խմբերի և դասերի, բյուջետային ծրագրերի միջոցառումների, բյուջետային հատկացումների գլխավոր կարգադրիչների անվանումները | H8: Ցուցանիշների փոփոխությունը (ավելացումները նշված են դրական նշանով, իսկ նվազեցումները՝ փակագծերում)
B9: բաժին | C9: խումբ | D9: դաս | E9: ծրագիր | F9: միջոցառում | H9: տարի
G10: ԸՆԴԱՄԵՆԸ ԾԱԽՍԵՐ այդ թվում՝ | H10: =ROUND(H11+H62, 4) -> 0
B11: 02 | G11: ՊԱՇՏՊԱՆՈՒԹՅՈՒՆ | H11: =H13 -> 496017.31
G12: այդ թվում`
C13: 01 | G13: Ռազմական պաշտպանություն | H13: =H15 -> 496017.31
G14: այդ թվում`
D15: 01 | G15: Ռազմական պաշտպանություն | H15: =H17 -> 496017.31
G16: այդ թվում`
G17: ՀՀ պաշտպանության նախարարություն | H17: =H19 -> 496017.31
G18: այդ թվում`
E19: 1169 | G19: ՀՀ պաշտպանության ապահովում | H19: =H50+H21 -> 496017.31
G20: այդ թվում`
F21: 11001 | G21: Ռազմական կարիքների բավարարում | H21: =H23 -> -26741771
G22: այդ թվում` ըստ կատարողների
G23: ՀՀ պաշտպանության նախարարություն | H23: =H25 -> -26741771
G24: այդ թվում` բյուջետային ծախսերի տնտեսագիտական դասակարգման հոդվածներ
G25: ԸՆԴԱՄԵՆԸ ԾԱԽՍԵՐ | H25: =H26 -> -26741771
G26: ԸՆԹԱՑԻԿ ԾԱԽՍԵՐ | H26: =H27+H47 -> -26741771
G27: ԾԱՌԱՅՈՒԹՅՈՒՆՆԵՐԻ ԵՎ ԱՊՐԱՆՔՆԵՐԻ ՁԵՌՔ ԲԵՐՈՒՄ | H27: =H28+H32+H37+H39+H41 -> -677885.58
G28: ՇԱՐՈՒՆԱԿԱԿԱՆ ԾԱԽՍԵՐ | H28: =H29+H30+H31 -> -491902
G29: - Էներգետիկ ծառայություններ | H29: ='Հ-10'!$P$12 -> -479444.6 | J29: 4212
G30: - Կոմունալ ծառայություններ | H30: ='Հ-10'!$P$13 -> -12344 | J30: 4213
G31: - Կապի ծառայություններ | H31: ='Հ-10'!$P$14 -> -113.4 | J31: 4214
G32: ՊԱՅՄԱՆԱԳՐԱՅԻՆ ԱՅԼ ԾԱՌԱՅՈՒԹՅՈՒՆՆԵՐԻ ՁԵՌՔ ԲԵՐՈՒՄ | H32: =SUM(H33:H36) -> -39269.289
G33: - Աշխատակազմի մասնագիտական զարգացման ծառայություններ | H33: ='Հ-10'!$P$15 -> -12437.4 | J33: 4233
G34: - Տեղեկատվական ծառայություններ | H34: ='Հ-10'!$P$16 -> -863.75 | J34: 4234
G35: - Ներկայացուցչական ծախսեր | H35: ='Հ-10'!$P$17 -> -15824.159 | J35: 4237
G36: - Ընդհանուր բնույթի այլ ծառայություններ | H36: ='Հ-10'!$P$18 -> -10143.98 | J36: 4239
G37: ԱՅԼ ՄԱՍՆԱԳԻՏԱԿԱՆ ԾԱՌԱՅՈՒԹՅՈՒՆՆԵՐԻ ՁԵՌՔ ԲԵՐՈՒՄ | H37: =H38 -> -1100
G38: - Մասնագիտական ծառայություններ | H38: ='Հ-10'!$P$19 -> -1100 | J38: 4241
G39: ԸՆԹԱՑԻԿ ՆՈՐՈԳՈՒՄ ԵՎ ՊԱՀՊԱՆՈՒՄ (ԾԱՌԱՅՈՒԹՅՈՒՆՆԵՐ ԵՎ ՆՅՈՒԹԵՐ) | H39: =H40 -> -11261.239
G40: - Մեքենաների և սարքավորումների ընթացիկ նորոգում և պահպանում | H40: ='Հ-10'!$P$20 -> -11261.239 | J40: 4252
G41: ՆՅՈՒԹԵՐ (ԱՊՐԱՆՔՆԵՐ) | H41: =SUM(H42:H46) -> -134353.06
...

Sheet Պահուստ
B1: Հավելված N 4
B2: ՀՀ կառավարության 2024 թվականի
B3: ______________ ի N ___ -Ն որոշման
B5: ՀԱՅԱՍՏԱՆԻ ՀԱՆՐԱՊԵՏՈՒԹՅԱՆ ԿԱՌԱՎԱՐՈՒԹՅԱՆ ՊԱՀՈՒՍՏԱՅԻՆ ՖՈՆԴԻՑ ՀԱՏԿԱՑՈՒՄՆԵՐ
H6: հազար դրամ
B7: Գործառական դասիչը | E7: Ծրագրային դասիչը | G7: Բյուջետային ծախսերի գործառական դասակարգման բաժինների, խմբերի և դասերի, բյուջետային ծրագրերի միջոցառումների, բյուջետային հատկացումների գլխավոր կարգադրիչների անվանումները | H7: Ցուցանիշների փոփոխությունը (ավելացումները նշված են դրական նշանով, իսկ նվազեցումները՝ փակագծերում)
B8: բաժին | C8: խումբ | D8: դաս | E8: ծրագիր | F8: միջոցառում | H8: տարի
G9: ԸՆԴԱՄԵՆԸ ԾԱԽՍԵՐ այդ թվում՝ | H9: =H10+H29 -> 0
B10: 02 | G10: ՊԱՇՏՊԱՆՈՒԹՅՈՒՆ | H10: =H12 -> 1329316.7
G11: այդ թվում`
C12: 01 | G12: Ռազմական պաշտպանություն | H12: =H14 -> 1329316.7
G13: այդ թվում`
D14: 01 | G14: Ռազմական պաշտպանություն | H14: =H16 -> 1329316.7
G15: այդ թվում`
G16: ՀՀ պաշտպանության նախարարություն | H16: =H18 -> 1329316.7
G17: այդ թվում`
E18: 1169 | G18: ՀՀ պաշտպանության ապահովում | H18: =H20 -> 1329316.7
G19: այդ թվում`
F20: 31001 | G20: ՀՀ պաշտպանության նախարարության շենքային պայմանների բարելավում | H20: =H22 -> 1329316.7
G21: այդ թվում` ըստ կատարողների
G22: ՀՀ պաշտպանության նախարարություն | H22: =H24 -> 1329316.7
G23: այդ թվում` բյուջետային ծախսերի տնտեսագիտական դասակարգման հոդվածներ
G24: ԸՆԴԱՄԵՆԸ ԾԱԽՍԵՐ | H24: =H25 -> 1329316.7
G25: ՈՉ ՖԻՆԱՆՍԱԿԱՆ ԱԿՏԻՎՆԵՐԻ ԳԾՈՎ ԾԱԽՍԵՐ | H25: =H26 -> 1329316.7
G26: ՀԻՄՆԱԿԱՆ ՄԻՋՈՑՆԵՐ | H26: =+H27 -> 1329316.7
G27: ՇԵՆՔԵՐ և ՇԻՆՈՒԹՅՈՒՆՆԵՐ | H27: =SUM(H28:H28) -> 1329316.7
G28: - Շենքերի և շինությունների շինարարություն | H28: =-H46 -> 1329316.7 | J28: 5112
B29: 11 | G29: ՀԻՄՆԱԿԱՆ ԲԱԺԻՆՆԵՐԻՆ ՉԴԱՍՎՈՂ ՊԱՀՈՒՍՏԱՅԻՆ ՖՈՆԴԵՐ | H29: =H31 -> -1329316.7
G30: այդ թվում`
C31: 01 | G31: ՀՀ կառավարության և համայնքների պահուստային ֆոնդ | H31: =H33 -> -1329316.7
G32: այդ թվում`
D33: 01 | G33: ՀՀ կառավարության պահուստային ֆոնդ | H33: =H35 -> -1329316.7
G34: այդ թվում`
G35: ՀՀ կառավարություն | H35: =H37 -> -1329316.7
G36: այդ թվում`
E37: 1139 | G37: ՀՀ կառավարության պահուստային ֆոնդ | H37: =H39 -> -1329316.7
G38: այդ թվում`
F39: 11001 | G39: ՀՀ կառավարության պահուստային ֆոնդ | H39: =H41 -> -1329316.7
G40: այդ թվում` ըստ կատարողների
G41: ՀՀ կառավարություն | H41: =H43 -> -1329316.7
...

Sheet Հ-5 Ա-2
B1: Հավելված N 5
B2: ='Հ-3 և 4'!B2 -> ՀՀ կառավարության 2024 թվականի
B3: ='Հ-3 և 4'!B3 -> ______________ ի N ___ -Ն որոշման
B5: ='Հ-3 և 4'!B5:H5 -> ՀԱՅԱՍՏԱՆԻ ՀԱՆՐԱՊԵՏՈՒԹՅԱՆ ԿԱՌԱՎԱՐՈՒԹՅԱՆ 2023 ԹՎԱԿԱՆԻ ԴԵԿՏԵՄԲԵՐԻ 28-Ի N 2323-Ն
B6: ՈՐՈՇՄԱՆ N 5 ՀԱՎԵԼՎԱԾԻ N 2 ԱՂՅՈՒՍԱԿՈՒՄ ԿԱՏԱՐՎՈՂ ՓՈՓՈԽՈՒԹՅՈՒՆՆԵՐԸ
E7: հազար դրամ
B8: Ծրագրային դասիչ | D8: Բյուջետային գլխավոր կարգադրիչների, ծրագրերի, միջոցառումների և ուղղությունների անվանումները | E8: Ցուցանիշների փոփոխությունը (ավելացումները նշված են դրական նշանով)
B9: ծրագիր | C9: միջո-ցառում | E9: տարի
D10: ԸՆԴԱՄԵՆԸ | E10: =E12 -> 27237788
D11: այդ թվում՝
D12: ՀՀ պաշտպանության նախարարություն | E12: =E14 -> 27237788
D13: այդ թվում`
B14: 1169 | C14: 31001 | D14: ՀՀ պաշտպանության նախարարության շենքային պայմանների բարելավում | E14: =E16 -> 27237788
D15: այդ թվում` ըստ կատարողների
D16: ՀՀ պաշտպանության նախարարություն | E16: ='Հ-3 և 4'!H50 -> 27237788

Sheet Հ-9 Ա-9.14
B1: Հավելված N 6
B2: ='Հ-3 և 4'!B2 -> ՀՀ կառավարության 2024 թվականի
B3: ='Հ-3 և 4'!B3 -> ______________ ի N ___ -Ն որոշման
B5: =+'Հ-3 և 4'!B5:H5 -> ՀԱՅԱՍՏԱՆԻ ՀԱՆՐԱՊԵՏՈՒԹՅԱՆ ԿԱՌԱՎԱՐՈՒԹՅԱՆ 2023 ԹՎԱԿԱՆԻ ԴԵԿՏԵՄԲԵՐԻ 28-Ի N 2323-Ն
B6: ՈՐՈՇՄԱՆ N 9 ՀԱՎԵԼՎԱԾԻ N 9.14 ԵՎ N 9.48 ԱՂՅՈՒՍԱԿՆԵՐՈՒՄ ԿԱՏԱՐՎՈՂ ՓՈՓՈԽՈՒԹՅՈՒՆՆԵՐԸ
B8: ՀՀ պաշտպանության նախարարություն
B10: ՄԱՍ 2. ՊԵՏԱԿԱՆ ՄԱՐՄՆԻ ԳԾՈՎ ԱՐԴՅՈՒՆՔԱՅԻՆ (ԿԱՏԱՐՈՂԱԿԱՆ) ՑՈՒՑԱՆԻՇՆԵՐԸ
B12: Ծրագրի դասիչը | C12: Ծրագրի անվանումը
B13: 1169 | C13: ՀՀ պաշտպանության ապահովում
B15: Ծրագրի միջոցառումները
B17: Ծրագրի դասիչը` | C17: 1169 | D17: Ցուցանիշների փոփոխությունը (նվազեցումները նշված են փակագծերում)
B18: Միջոցառման դասիչը` | C18: 11001 | D18: տարի
B19: Միջոցառման անվանումը` | C19: Ռազմական կարիքների բավարարում
B20: Նկարագրությունը` | C20: Ընթացիկ գործունեության ապահովման գործողություններ
B21: Միջոցառման տեսակը` | C21: Ծառայությունների մատուցում
B22: Ծառայությունը մատուցող կազմակերպության(ների) անվանում(ներ)ը՛ | C22: ՀՀ պաշտպանության նախարարություն
B23: Արդյունքի չափորոշիչներ
B24: Չի սահմանվում
B25: Միջոցառման վրա կատարվող ծախսը (հազար դրամ) | D25: =+'Հ-3 և 4'!H21 -> -26741771
B27: Ծրագրի դասիչը` | C27: 1169 | D27: Ցուցանիշների փոփոխությունը (ավելացումները նշված են դրական նշանով)
B28: Միջոցառման դասիչը` | C28: 31001 | D28: տարի
B29: Միջոցառման անվանումը` | C29: ՀՀ պաշտպանության նախարարության շենքային պայմանների բարելավում
B30: Նկարագրությունը` | C30: Պաշտպանության կարիքների համար բնակելի, գրասենյակային և այլ նշանակության շենքերի և շինությունների կառուցում
B31: Միջոցառման տեսակը` | C31: Պետական մարմինների կողմից օգտագործվող ոչ ֆինանսական ակտիվների հետ գործառնություններ
B32: Ակտիվն օգտագործող կազմակերպության(ների) անվանում(ներ)ը՝ | C32: ՀՀ պաշտպանության նախարարություն
B33: Արդյունքի չափորոշիչներ
B34: Չի սահմանվում
B35: Միջոցառման վրա կատարվող ծախսը (հազար դրամ) | D35: ='Հ-3 և 4'!H50 -> 27237788
B37: Ծրագրի դասիչը | C37: Ծրագրի անվանումը
B38: 1204 | C38: Ռազմաբժշկական սպասարկում և առողջապահական ծառայություններ
B40: Ծրագրի միջոցառումները
B42: Ծրագրի դասիչը` | C42: 1204 | D42: Ցուցանիշների փոփոխությունը (նվազեցումները նշված են փակագծերում)
B43: Միջոցառման դասիչը` | C43: 11001 | D43: տարի
B44: Միջոցառման անվանումը` | C44: Զինծառայողներին, ինչպես նաև նրանց ընտանիքի անդամներին բժշկական օգնության ծառայություններ
B45: Նկարագրությունը` | C45: ՊՆ համակարգում վերականգնողական մասնագիտացված բուժօգնության գծով ծառայությունների տրամադրում
B46: Միջոցառման տեսակը` | C46: Ծառայությունների մատուցում
B47: Ծառայությունը մատուցող կազմակերպության(ների) անվանում(ներ)ը՛ | C47: «Գնումների մասին» ՀՀ օրենքի համաձայն ընտրված կազմակերպություն
B48: Արդյունքի չափորոշիչներ
B49: Միջոցառման վրա կատարվող ծախսը (հազար դրամ) | D49: ='Հ-3 և 4'!H89 -> -107100
B51: Ծրագրի միջոցառումները
...

Sheet Հ-9 Ա-9.1.14
B1: Հավելված N 7
B2: ='Հ-3 և 4'!B2 -> ՀՀ կառավարության 2024 թվականի
B3: ='Հ-3 և 4'!B3 -> ______________ ի N ___ -Ն որոշման
B5: =+'Հ-3 և 4'!B5:H5 -> ՀԱՅԱՍՏԱՆԻ ՀԱՆՐԱՊԵՏՈՒԹՅԱՆ ԿԱՌԱՎԱՐՈՒԹՅԱՆ 2023 ԹՎԱԿԱՆԻ ԴԵԿՏԵՄԲԵՐԻ 28-Ի N 2323-Ն
B6: ՈՐՈՇՄԱՆ N 9.1 ՀԱՎԵԼՎԱԾԻ N 9.1.14 ԵՎ N 9.1.58 ԱՂՅՈՒՍԱԿՆԵՐՈՒՄ ԿԱՏԱՐՎՈՂ ՓՈՓՈԽՈՒԹՅՈՒՆՆԵՐԸ
B8: ՀՀ պաշտպանության նախարարություն
B10: ՄԱՍ 1. ՊԵՏԱԿԱՆ ՄԱՐՄՆԻ ԳԾՈՎ ԱՐԴՅՈՒՆՔԱՅԻՆ (ԿԱՏԱՐՈՂԱԿԱՆ) ՑՈՒՑԱՆԻՇՆԵՐԸ
B12: Ծրագրի դասիչը | C12: Ծրագրի անվանումը
B13: 1169 | C13: ՀՀ պաշտպանության ապահովում
B15: Ծրագրի միջոցառումները
B17: Ծրագրի դասիչը` | C17: 1169 | D17: Ցուցանիշների փոփոխությունը (նվազեցումները նշված են փակագծերում)
B18: Միջոցառման դասիչը` | C18: 11001 | D18: տարի
B19: Միջոցառման անվանումը` | C19: Ռազմական կարիքների բավարարում
B20: Նկարագրությունը` | C20: Ընթացիկ գործունեության ապահովման գործողություններ
B21: Միջոցառման տեսակը` | C21: Ծառայությունների մատուցում
B22: Ծառայությունը մատուցող կազմակերպության(ների) անվանում(ներ)ը՛ | C22: ՀՀ պաշտպանության նախարարություն
B23: Արդյունքի չափորոշիչներ
B24: Չի սահմանվում
B25: Միջոցառման վրա կատարվող ծախսը (հազար դրամ) | D25: =+'Հ-3 և 4'!H21 -> -26741771
B27: Ծրագրի դասիչը` | C27: 1169 | D27: Ցուցանիշների փոփոխությունը (ավելացումները նշված են դրական նշանով)
B28: Միջոցառման դասիչը` | C28: 31001 | D28: տարի
B29: Միջոցառման անվանումը` | C29: ՀՀ պաշտպանության նախարարության շենքային պայմանների բարելավում
B30: Նկարագրությունը` | C30: Պաշտպանության կարիքների համար բնակելի, գրասենյակային և այլ նշանակության շենքերի և շինությունների կառուցում
B31: Միջոցառման տեսակը` | C31: Պետական մարմինների կողմից օգտագործվող ոչ ֆինանսական ակտիվների հետ գործառնություններ
B32: Ակտիվն օգտագործող կազմակերպության(ների) անվանում(ներ)ը՝ | C32: ՀՀ պաշտպանության նախարարություն
B33: Արդյունքի չափորոշիչներ
B34: Չի սահմանվում
B35: Միջոցառման վրա կատարվող ծախսը (հազար դրամ) | D35: ='Հ-3 և 4'!H50 -> 27237788
B37: Ծրագրի դասիչը | C37: Ծրագրի անվանումը
B38: 1204 | C38: Ռազմաբժշկական սպասարկում և առողջապահական ծառայություններ
B40: Ծրագրի միջոցառումները
B42: Ծրագրի դասիչը` | C42: 1204 | D42: Ցուցանիշների փոփոխությունը (նվազեցումները նշված են փակագծերում)
B43: Միջոցառման դասիչը` | C43: 11001 | D43: տարի
B44: Միջոցառման անվանումը` | C44: Զինծառայողներին, ինչպես նաև նրանց ընտանիքի անդամներին բժշկական օգնության ծառայություններ
B45: Նկարագրությունը` | C45: ՊՆ համակարգում վերականգնողական մասնագիտացված բուժօգնության գծով ծառայությունների տրամադրում
B46: Միջոցառման տեսակը` | C46: Ծառայությունների մատուցում
B47: Ծառայությունը մատուցող կազմակերպության(ների) անվանում(ներ)ը՛ | C47: «Գնումների մասին» ՀՀ օրենքի համաձայն ընտրված կազմակերպություն
B48: Արդյունքի չափորոշիչներ
B49: Միջոցառման վրա կատարվող ծախսը (հազար դրամ) | D49: ='Հ-3 և 4'!H89 -> -107100
B51: Ծրագրի միջոցառումները
...

Sheet Հ-10
F1: Հավելված N 8
F2: ՀՀ կառավարության 2024 թվականի
F3: ______________ ի ___ -Ն որոշման
B5: ՀԱՅԱՍՏԱՆԻ ՀԱՆՐԱՊԵՏՈՒԹՅԱՆ ԿԱՌԱՎԱՐՈՒԹՅԱՆ 2023 ԹՎԱԿԱՆԻ ԴԵԿՏԵՄԲԵՐԻ 28-Ի N 2323-Ն
B6: ՈՐՈՇՄԱՆ N 10 ՀԱՎԵԼՎԱԾՈՒՄ ԿԱՏԱՐՎՈՂ ՓՈՓՈԽՈՒԹՅՈՒՆՆԵՐԸ
H7: հազար դրամ
B8: Կոդը | C8: Անվանումը | D8: Գնման ձևը | E8: Չափման միավորը | F8: Ցուցանիշների փոփոխությունը (նվազեցումները նշված են փակագծերում)
F9: միավորի գինը (դրամով) | G9: քանակը | H9: գումարը (հազար դրամով)
C10: ՀՀ պաշտպանության նախարարություն | H10: =H11+H369 -> -1187718 | O10: 1169 11001 | Q10: այդ թվում՝
B11: Բաժին N 02 | C11: Խումբ N 01 Դաս N 01 Ռազմական պաշտպանություն | H11: =H12+H312 -> -691700.68 | L11: 1169 11001 | O11: հոդված | P11: նվազեցում | Q11: տնտեսում
B12: 1169 11001 | C12: Ռազմական կարիքների բավարարում | H12: =H13+H261 -> -677885.58 | L12: տնտեսում | O12: 4212 | P12: =SUMIF($J$14:$J$311, $O12, $H$14:$H$311) -> -479444.6 | Q12: =SUMIFS($H$14:$H$311, $J$14:$J$311, $O12, $K$14:$K$311, "տնտեսում") -> 0
C13: ՄԱՍ I. ԱՊՐԱՆՔՆԵՐ | H13: =SUM(H14:H260) -> -150177.21 | L13: =SUMIF($K$14:$K$311, "տնտեսում", $H$14:$H$311) -> -134843.92 | O13: 4213 | P13: =SUMIF($J$14:$J$311, $O13, $H$14:$H$311) -> -12344 | Q13: =SUMIFS($H$14:$H$311, $J$14:$J$311, $O13, $K$14:$K$311, "տնտեսում") -> 0
B14: 18511180/11 | C14: մեդալներ, կրծքանշաններ | D14: ԳՀ | E14: հատ | F14: 3360 | G14: -15 | H14: -50.4 | J14: 4237 | O14: 4214 | P14: =SUMIF($J$14:$J$311, $O14, $H$14:$H$311) -> -113.4 | Q14: =SUMIFS($H$14:$H$311, $J$14:$J$311, $O14, $K$14:$K$311, "տնտեսում") -> -113.4
B15: 39281200/16 | C15: խորհրդանշական նվերներ | D15: ԳՀ | E15: հատ | F15: 1167 | G15: -100 | H15: -116.7 | J15: 4237 | O15: 4233 | P15: =SUMIF($J$14:$J$311, $O15, $H$14:$H$311) -> -12437.4 | Q15: =SUMIFS($H$14:$H$311, $J$14:$J$311, $O15, $K$14:$K$311, "տնտեսում") -> 0
B16: 39281200/17 | C16: խորհրդանշական նվերներ | D16: ԳՀ | E16: հատ | F16: 738 | G16: -150 | H16: -110.7 | J16: 4237 | O16: 4234 | P16: =SUMIF($J$14:$J$311, $O16, $H$14:$H$311) -> -863.75 | Q16: =SUMIFS($H$14:$H$311, $J$14:$J$311, $O16, $K$14:$K$311, "տնտեսում") -> -863.75
B17: 39281200/18 | C17: խորհրդանշական նվերներ | D17: ԳՀ | E17: հատ | F17: 650 | G17: -100 | H17: -65 | J17: 4237 | O17: 4237 | P17: =SUMIF($J$14:$J$311, $O17, $H$14:$H$311) -> -15824.159 | Q17: =SUMIFS($H$14:$H$311, $J$14:$J$311, $O17, $K$14:$K$311, "տնտեսում") -> -15481.359
B18: 18511180/21 | C18: մեդալներ, կրծքանշաններ | D18: ԳՀ | E18: հատ | H18: -702 | J18: 4237 | K18: տնտեսում | O18: 4239 | P18: =SUMIF($J$14:$J$311, $O18, $H$14:$H$311) -> -10143.98 | Q18: =SUMIFS($H$14:$H$311, $J$14:$J$311, $O18, $K$14:$K$311, "տնտեսում") -> -8401.28
B19: 18511200/1 | C19: մեդալի կախիչներ | D19: ԳՀ | E19: հատ | H19: -332.2 | J19: 4237 | K19: տնտեսում | O19: 4241 | P19: =SUMIF($J$14:$J$311, $O19, $H$14:$H$311) -> -1100 | Q19: =SUMIFS($H$14:$H$311, $J$14:$J$311, $O19, $K$14:$K$311, "տնտեսում") -> 0
B20: 18511200/2 | C20: մեդալի կախիչներ | D20: ԳՀ | E20: հատ | H20: -1110.0216 | J20: 4237 | K20: տնտեսում | O20: 4252 | P20: =SUMIF($J$14:$J$311, $O20, $H$14:$H$311) -> -11261.239 | Q20: =SUMIFS($H$14:$H$311, $J$14:$J$311, $O20, $K$14:$K$311, "տնտեսում") -> 0
B21: 18511200/3 | C21: մեդալի կախիչներ | D21: ԳՀ | E21: հատ | H21: -1239.0192 | J21: 4237 | K21: տնտեսում | O21: 4261 | P21: =SUMIF($J$14:$J$311, $O21, $H$14:$H$311) -> -2563.7395 | Q21: =SUMIFS($H$14:$H$311, $J$14:$J$311, $O21, $K$14:$K$311, "տնտեսում") -> -2563.7395
B22: 18511200/4 | C22: մեդալի կախիչներ | D22: ԳՀ | E22: հատ | H22: -700.0047 | J22: 4237 | K22: տնտեսում | O22: 4264 | P22: =SUMIF($J$14:$J$311, $O22, $H$14:$H$311) -> -9517.02 | Q22: =SUMIFS($H$14:$H$311, $J$14:$J$311, $O22, $K$14:$K$311, "տնտեսում") -> -9517.02
B23: 18511200/5 | C23: մեդալի կախիչներ | D23: ԳՀ | E23: հատ | H23: -3630.0336 | J23: 4237 | K23: տնտեսում | O23: 4266 | P23: =SUMIF($J$14:$J$311, $O23, $H$14:$H$311) -> -1764 | Q23: =SUMIFS($H$14:$H$311, $J$14:$J$311, $O23, $K$14:$K$311, "տնտեսում") -> -1764
B24: 35821400/4 | C24: դրոշներ | D24: ԳՀ | E24: հատ | H24: -121.08 | J24: 4237 | K24: տնտեսում | O24: 4267 | P24: =SUMIF($J$14:$J$311, $O24, $H$14:$H$311) -> -2228.112 | Q24: =SUMIFS($H$14:$H$311, $J$14:$J$311, $O24, $K$14:$K$311, "տնտեսում") -> -2228.112
B25: 35821400/6 | C25: դրոշներ | D25: ԳՀ | E25: հատ | H25: -350 | J25: 4237 | K25: տնտեսում | O25: 4269 | P25: =SUMIF($J$14:$J$311, $O25, $H$14:$H$311) -> -118280.18 | Q25: =SUMIFS($H$14:$H$311, $J$14:$J$311, $O25, $K$14:$K$311, "տնտեսում") -> -93911.257
B26: 39281200/11 | C26: խորհրդանշական նվերներ | D26: ԳՀ | E26: հատ | H26: -75 | J26: 4237 | K26: տնտեսում
B27: 39281200/25 | C27: խորհրդանշական նվերներ | D27: ԳՀ | E27: հատ | H27: -24 | J27: 4237 | K27: տնտեսում
B28: 39281200/26 | C28: խորհրդանշական նվերներ | D28: ԳՀ | E28: հատ | H28: -40 | J28: 4237 | K28: տնտեսում
B29: 39281200/27 | C29: խորհրդանշական նվերներ | D29: ԳՀ | E29: հատ | H29: -90 | J29: 4237 | K29: տնտեսում
B30: 44521230/1 | C30: ամրակներ | D30: ԳՀ | E30: հատ | H30: -7068 | J30: 4237 | K30: տնտեսում
B31: 03121200/2 | C31: ծաղիկներ | D31: ԳՀ | E31: հատ | H31: -80 | J31: 4261 | K31: տնտեսում
B32: 03121210/3 | C32: ծաղկային կոմպոզիցիաներ | D32: ԳՀ | E32: հատ | H32: -55.5 | J32: 4261 | K32: տնտեսում
B33: 03121210/4 | C33: ծաղկային կոմպոզիցիաներ | D33: ԳՀ | E33: հատ | H33: -200.55 | J33: 4261 | K33: տնտեսում
B34: 18441210/1 | C34: սաղավարտներ | D34: ԳՀ | E34: հատ | H34: -63.6 | J34: 4261 | K34: տնտեսում
B35: 18821300/1 | C35: մարզական կոշիկներ | D35: ԳՀ | E35: զույգ | H35: -60 | J35: 4261 | K35: տնտեսում
B36: 22611400/2 | C36: ներկեր տպագրական մեքենաների համար | D36: ԳՀ | E36: կիլոգրամ | H36: -87.5 | J36: 4261 | K36: տնտեսում
B37: 30121460/11 | C37: տոներային քարտրիջներ | D37: ԳՀ | E37: հատ | H37: -60 | J37: 4261 | K37: տնտեսում
... B97: 33741600/1 | C97: եղունգների կծաքցաններ (կտրիչներ) | D97: ԳՀ | E97: հատ | H97: -286 | J97: 4267 | K97: տնտեսում
B98: 24911300/1 | C98: սոսինձ` հեղուկ | D98: ԳՀ | E98: կիլոգրամ | F98: 74 | G98: -500 | H98: -37 | J98: 4269
B99: 24961300/1 | C99: հակակոռոզիոն արտադրանք | D99: ԳՀ | E99: կիլոգրամ | F99: 305 | G99: -201.4 | H99: -61.427 | J99: 4269
B100: 30121460/28 | C100: տոներային քարտրիջներ | D100: ԳՀ | E100: հատ | F100: 50000 | G100: -4 | H100: -200 | J100: 4269
...

Sheet Sheet1
A1: 4239 | B1: 20939.6
A2: 4252 | B2: 4001.2
A3: 4261 | B3: 24221.5
A4: 4264 | B4: 658398.2
A5: 4267 | B5: 51113.2
A6: 4269 | B6: 58135.2
A7: 5121 | B7: 34800
A8: 5122 | B8: 30780.6
A9: 5129 | B9: 165718.2
A10: 5132 | B10: 33.2
