Workbook
Name _tab10: #REF!
Name _tab10: #REF!
Name _tab10: #REF!
Name _tab10: #REF!
Name _tab10: #REF!
Name _tab10: #REF!
Name _tab10: #REF!
Name _tab10: #REF!
Name _tab11: #REF!
Name _tab11: #REF!
Name _tab11: #REF!
Name _tab11: #REF!
Name _tab11: #REF!
Name _tab11: #REF!
Name _tab11: #REF!
Name _tab11: #REF!
Name _tab12: #REF!
Name _tab12: #REF!
Name _tab12: #REF!
Name _tab12: #REF!
Name _tab12: #REF!
Name _tab12: #REF!
Name _tab12: #REF!
Name _tab12: #REF!
Name _tab13: #REF!
Name _tab13: #REF!
Name _tab13: #REF!
Name _tab13: #REF!
Name _tab13: #REF!
Name _tab13: #REF!
Name _tab13: #REF!
Name _tab13: #REF!
Name _tab14: #REF!
Name _tab14: #REF!
Name _tab14: #REF!
Name _tab14: #REF!
Name _tab14: #REF!
Name _tab14: #REF!
Name _tab14: #REF!
Name _tab14: #REF!
Name _tab15: #REF!
Name _tab15: #REF!
Name _tab15: #REF!
Name _tab15: #REF!
Name _tab15: #REF!
Name _tab15: #REF!
Name _tab15: #REF!
Name _tab15: #REF!
Name _tab16: #REF!
Name _tab16: #REF!
Name _tab16: #REF!
Name _tab16: #REF!
Name _tab16: #REF!
Name _tab16: #REF!
Name _tab16: #REF!
Name _tab16: #REF!
Name _tab17: #REF!
Name _tab17: #REF!
Name _tab17: #REF!
Name _tab17: #REF!

Sheet ՕՀ-1 Ա-2 և Հ-5 Ա-1
B1: Հավելված N 1
B2: ՀՀ կառավարության 2024 թվականի
B3: ______________ ի N___ -Ն որոշման
B5: «ՀԱՅԱՍՏԱՆԻ ՀԱՆՐԱՊԵՏՈՒԹՅԱՆ 2024 ԹՎԱԿԱՆԻ ՊԵՏԱԿԱՆ ԲՅՈՒՋԵԻ ՄԱՍԻՆ» ՀԱՅԱՍՏԱՆԻ ՀԱՆՐԱՊԵՏՈՒԹՅԱՆ ՕՐԵՆՔԻ N 1 ՀԱՎԵԼՎԱԾԻ N 2 ԱՂՅՈՒՍԱԿՈՒՄ ԿԱՏԱՐՎՈՂ ՎԵՐԱԲԱՇԽՈՒՄԸ ԵՎ ՀԱՅԱՍՏԱՆԻ ՀԱՆՐԱՊԵՏՈՒԹՅԱՆ ԿԱՌԱՎԱՐՈՒԹՅԱՆ 2023 ԹՎԱԿԱՆԻ ԴԵԿՏԵՄԲԵՐԻ 28-Ի N 2323-Ն ՈՐՈՇՄԱՆ N 5 ՀԱՎԵԼՎԱԾԻ N 1 ԱՂՅՈՒՍԱԿՈՒՄ ԿԱՏԱՐՎՈՂ ՓՈՓՈԽՈՒԹՅՈՒՆՆԵՐԸ
E6: հազար դրամ
B7: Ծրագրային դասիչը | D7: Բյուջետային հատկացումների գլխավոր կարգադրիչների, ծրագրերի և միջոցառումների անվանումները | E7: Ցուցանիշների փոփոխությունը (ավելացումները նշված են դրական նշանով, իսկ նվազեցումները՝ փակագծերում)
B8: ծրագիր | C8: միջո-ցառում | E8: տարի
D9: Ընդամենը | E9: =ROUND(E10+E55, 4) -> 0
D10: ՀՀ պաշտպանության նախարարություն | E10: =ROUND(E11+E30, 4) -> 0
B11: 1169 | D11: Ծրագրի անվանումը՝ | E11: =SUM(E18:E29) -> 496017.31
D12: ՀՀ պաշտպանության ապահովում
D13: Ծրագրի նպատակը՝
D14: ՀՀ ԶՈւ ռազմավարական ծավալումն ապահովող մարտական պատրաստականության պահպանում՝ արտաքին թշնամուց ՀՀ պետական սահմանների պաշտպանության ապահովում
D15: Վերջնական արդյունքի նկարագրությունը՝
D16: ՀՀ ԶՈւ ռազմավարական ծավալումն ապահովող մարտական պատրաստականության պահպանում
B17: Ծրագրի միջոցառումներ
C18: 11001 | D18: Միջոցառման անվանումը՝ | E18: =+'Հ-3 և 4'!H21 -> -26741771
D19: Ռազմական կարիքների բավարարում
D20: Միջոցառման նկարագրությունը՝
D21: Ընթացիկ գործունեության ապահովման գործողություններ
D22: Միջոցառման տեսակը
D23: Ծառայությունների մատուցում
C24: 31001 | D24: Միջոցառման անվանումը՝ | E24: ='Հ-3 և 4'!H50 -> 27237788
D25: ՀՀ պաշտպանության նախարարության շենքային պայմանների բարելավում
D26: Միջոցառման նկարագրությունը՝
D27: Պաշտպանության կարիքների համար բնակելի, գրասենյակային և այլ նշանակության շենքերի և շինությունների կառուցում
D28: Միջոցառման տեսակը
D29: Պետական մարմինների կողմից օգտագործվող ոչ ֆինանսական ակտիվների հետ գործառնություններ
B30: 1204 | D30: Ծրագրի անվանումը՝ | E30: =E37+E43+E49+E55 -> -496017.31
D31: Ռազմաբժշկական սպասարկում և առողջապահական ծառայություններ
D32: Ծրագրի նպատակը՝
D33: Զինծառայողների, ինչպես նաև նրանց ընտանիքների անդամների առողջության պահպանում, որակյալ բժշկական ծառայություններով ապահովում
D34: Վերջնական արդյունքի նկարագրությունը՝
D35: Ծառայողական պարտականությունների արդյունավետ կատարմանը խոչընդոտող հիվանդությունների կանխարգելում և առողջական խնդիրների լուծում
B36: Ծրագրի միջոցառումներ
C37: 11001 | D37: Միջոցառման անվանումը՝ | E37: =+'Հ-3 և 4'!H89 -> -107100
D38: Զինծառայողներին, ինչպես նաև նրանց ընտանիքի անդամներին բժշկական օգնության ծառայություններ
D39: Միջոցառման նկարագրությունը՝
D40: ՊՆ համակարգում վերականգնողական մասնագիտացված բուժօգնության գծով ծառայությունների տրամադրում
D41: Միջոցառման տեսակը
D42: Ծառայությունների մատուցում
C43: 11003 | D43: Միջոցառման անվանումը՝ | E43: =+'Հ-3 և 4'!H106 -> -22643
D44: Հոսպիտալների և բուժկետերի բժշկական սարքավորումների պահպանման ծառայություններ
D45: Միջոցառման նկարագրությունը՝
D46: Զինվորական հոսպիտալների և բժշկական կետերի սարքավորումների ընթացիկ վերանորոգման և տեխնիկական սպասարկման ծառայություններ
D47: Միջոցառման տեսակը
D48: Ծառայությունների մատուցում
C49: 11004 | D49: Միջոցառման անվանումը՝ | E49: =+'Հ-3 և 4'!H72 -> -366274.31
D50: Դեղորայքի տրամադրում զորամասային և հոսպիտալային օղակներում բուժօգնություն ստացողներին
D51: Միջոցառման նկարագրությունը՝
D52: Կենտրոնացված կարգով դեղորայքի ձեռք բերում ամբուլատոր-պոլիկլինիկական և հոսպիտալային բուժօգնություն ստացողներին տրամադրելու նպատակով
D53: Միջոցառման տեսակը
D54: Ծառայությունների մատուցում
D55: ՀՀ կառավարություն | E55: =+E56 -> 0
B56: 1139 | D56: Ծրագրի անվանումը` | E56: =E63+E70 -> 0
D57: ՀՀ կառավարության պահուստային ֆոնդ
D58: Ծրագրի նպատակը`
D59: Պետական բյուջեում չկանխատեսված, ինչպես նաեւ բյուջետային երաշխիքների ապահովման ծախսերի ֆինանսավորման ապահովում
D60: Վերջնական արդյունքի նկարագրությունը`
D61: Պահուստային ֆոնդի կառավարման արդյունավետության և թափանցիկության ապահովում
B62: Ծրագրի միջոցառումներ
C63: 11001 | D63: Միջոցառման անվանումը` | E63: ='Հ-3 և 4'!H140 -> -1329316.7
D64: ՀՀ կառավարության պահուստային ֆոնդ
D65: Միջոցառման նկարագրությունը`
D66: ՀՀ պետական բյուջեում նախատեսված ելքերի լրացուցիչ ֆինանսավորման, պետական բյուջեում չկանխատեսված ելքերի, ինչպես նաև բյուջետային երաշխիքների ապահովման ելքերի ֆինանսավորման ապահովում
D67: Միջոցառման տեսակը
D68: Ծառայությունների մատուցում
B69: Ծրագրի միջոցառումներ
C70: 11001 | D70: Միջոցառման անվանումը` | E70: =-E63 -> 1329316.7
D71: ՀՀ կառավարության պահուստային ֆոնդ
D72: Միջոցառման նկարագրությունը`
D73: ՀՀ պետական բյուջեում նախատեսված ելքերի լրացուցիչ ֆինանսավորման, պետական բյուջեում չկանխատեսված ելքերի, ինչպես նաև բյուջետային երաշխիքների ապահովման ելքերի ֆինանսավորման ապահովում
D74: Միջոցառման տեսակը
D75: Ծառայությունների մատուցում

Sheet ՕՀ-1 Ա-3
H1: Հավելված N 2
H2: ՀՀ կառավարության 2024 թվականի
H3: ___________ ___-ի N _______ -Ն որոշման
A5: «ՀԱՅԱՍՏԱՆԻ ՀԱՆՐԱՊԵՏՈՒԹՅԱՆ 2024 ԹՎԱԿԱՆԻ ՊԵՏԱԿԱՆ ԲՅՈՒՋԵԻ ՄԱՍԻՆ» ՀԱՅԱՍՏԱՆԻ ՀԱՆՐԱՊԵՏՈՒԹՅԱՆ ՕՐԵՆՔԻ N 1 ՀԱՎԵԼՎԱԾԻ N 3 ԱՂՅՈՒՍԱԿՈՒՄ ԿԱՏԱՐՎՈՂ ՓՈՓՈԽՈՒԹՅՈՒՆԸ
H6: հազար դրամով
A7: Ծրագրային դասիչ | C7: Բյուջետային գլխավոր կարգադրիչների, ծրագրերի, միջոցառումների և ուղղությունների անվանումները | D7: Ցուցանիշների փոփոխությունը (ավելացումները նշված են դրական նշանով, իսկ նվազեցումները՝ փակագծերում)
A8: Ծրագիր | B8: Միջոցառում | D8: Ընդամենը | E8: այդ թվում՝
E9: Կառուցման աշխատանքներ | F9: Վերակառուցման, վերանորոգման և վերականգնման աշխատանքներ | G9: Նախագծահե- տազոտական, գեոդեզիա- քարտեզագրա- կան աշխա- տանքներ | H9: Ոչ ֆինանսական այլ ակտիվների ձեռքբերում
C10: ԸՆԴԱՄԵՆԸ | D10: =D12 -> 27237788 | E10: =E12 -> 27237788
C11: այդ թվում՝
C12: ՀՀ պաշտպանության նախարարություն | D12: =+D14 -> 27237788 | E12: =+E14 -> 27237788
C13: այդ թվում`
A14: 1169 | B14: 31001 | C14: ՀՀ պաշտպանության նախարարության շենքային պայմանների բարելավում | D14: =SUM(E14:H14) -> 27237788 | E14: ='Հ-3 և 4'!H50 -> 27237788
G18: Տնտեսում
G19: 1169 11001 | H19: =-1025992.592-97905 -> -1123897.6 | I19: =+H19+H20 -> -1258741.5
F20: ոգ | G20: 1169 11001 | H20: ='Հ-10'!$L$13 -> -134843.92
G21: 1169 31001 | I21: =+H21+H22 -> -4355.142
F22: ոգ | G22: 1169 31001 | H22: ='Հ-10'!$L$314 -> -4355.142
G23: 1204 11004 | H23: ='Հ-10'!$L$371 -> -66220.026
G24: 1204 11001 | H24: ='Հ-10'!$L$970 -> 0
G25: 1204 11003 | H25: ='Հ-10'!$L$978 -> 0
H26: =SUM(H19:H25) -> -1329316.7

Sheet Հ-3 և 4
B1: Հավելված N 3
B2: ՀՀ կառավարության 2024 թվականի
B3: ______________ ի N ___ -Ն որոշման
B5: ՀԱՅԱՍՏԱՆԻ ՀԱՆՐԱՊԵՏՈՒԹՅԱՆ ԿԱՌԱՎԱՐՈՒԹՅԱՆ 2023 ԹՎԱԿԱՆԻ ԴԵԿՏԵՄԲԵՐԻ 28-Ի N 2323-Ն
B6: ՈՐՈՇՄԱՆ N 3 և N 4 ՀԱՎԵԼՎԱԾՆԵՐՈՒՄ ԿԱՏԱՐՎՈՂ ՓՈՓՈԽՈՒԹՅՈՒՆՆԵՐԸ
H7: հազար դրամ
B8: Գործառական դասիչը | E8: Ծրագրային դասիչը | G8: Բյուջետային ծախսերի գործառական դասակարգման բաժինների, խմբերի և դասերի, բյուջետային ծրագրերի միջոցառումների, բյուջետային հատկացումների գլխավոր կարգադրիչների անվանումները | H8: Ցուցանիշների փոփոխությունը (ավելացումները նշված են դրական նշանով, իսկ նվազեցումները՝ փակագծերում)
B9: բաժին | C9: խումբ | D9: դաս | E9: ծրագիր | F9: միջոցառում | H9: տարի
G10: ԸՆԴԱՄԵՆԸ ԾԱԽՍԵՐ այդ թվում՝ | H10: =ROUND(H11+H62, 4) -> 0
B11: 02 | G11: ՊԱՇՏՊԱՆՈՒԹՅՈՒՆ | H11: =H13 -> 496017.31
G12: այդ թվում`
C13: 01 | G13: Ռազմական պաշտպանություն | H13: =H15 -> 496017.31
G14: այդ թվում`
D15: 01 | G15: Ռազմական պաշտպանություն | H15: =H17 -> 496017.31
G16: այդ թվում`
G17: ՀՀ պաշտպանության նախարարություն | H17: =H19 -> 496017.31
G18: այդ թվում`
E19: 1169 | G19: ՀՀ պաշտպանության ապահովում | H19: =H50+H21 -> 496017.31
G20: այդ թվում`
F21: 11001 | G21: Ռազմական կարիքների բավարարում | H21: =H23 -> -26741771
G22: այդ թվում` ըստ կատարողների
G23: ՀՀ պաշտպանության նախարարություն | H23: =H25 -> -26741771
G24: այդ թվում` բյուջետային ծախսերի տնտեսագիտական դասակարգման հոդվածներ
G25: ԸՆԴԱՄԵՆԸ ԾԱԽՍԵՐ | H25: =H26 -> -26741771
G26: ԸՆԹԱՑԻԿ ԾԱԽՍԵՐ | H26: =H27+H47 -> -26741771
G27: ԾԱՌԱՅՈՒԹՅՈՒՆՆԵՐԻ ԵՎ ԱՊՐԱՆՔՆԵՐԻ ՁԵՌՔ ԲԵՐՈՒՄ | H27: =H28+H32+H37+H39+H41 -> -677885.58
G28: ՇԱՐՈՒՆԱԿԱԿԱՆ ԾԱԽՍԵՐ | H28: =H29+H30+H31 -> -491902
G29: - Էներգետիկ ծառայություններ | H29: ='Հ-10'!$P$12 -> -479444.6 | J29: 4212
G30: - Կոմունալ ծառայություններ | H30: ='Հ-10'!$P$13 -> -12344 | J30: 4213
G31: - Կապի ծառայություններ | H31: ='Հ-10'!$P$14 -> -113.4 | J31: 4214
G32: ՊԱՅՄԱՆԱԳՐԱՅԻՆ ԱՅԼ ԾԱՌԱՅՈՒԹՅՈՒՆՆԵՐԻ ՁԵՌՔ ԲԵՐՈՒՄ | H32: =SUM(H33:H36) -> -39269.289
G33: - Աշխատակազմի մասնագիտական զարգացման ծառայություններ | H33: ='Հ-10'!$P$15 -> -12437.4 | J33: 4233
G34: - Տեղեկատվական ծառայություններ | H34: ='Հ-10'!$P$16 -> -863.75 | J34: 4234
G35: - Ներկայացուցչական ծախսեր | H35: ='Հ-10'!$P$17 -> -15824.159 | J35: 4237
G36: - Ընդհանուր բնույթի այլ ծառայություններ | H36: ='Հ-10'!$P$18 -> -10143.98 | J36: 4239
G37: ԱՅԼ ՄԱՍՆԱԳԻՏԱԿԱՆ ԾԱՌԱՅՈՒԹՅՈՒՆՆԵՐԻ ՁԵՌՔ ԲԵՐՈՒՄ | H37: =H38 -> -1100
G38: - Մասնագիտական ծառայություններ | H38: ='Հ-10'!$P$19 -> -1100 | J38: 4241
G39: ԸՆԹԱՑԻԿ ՆՈՐՈԳՈՒՄ ԵՎ ՊԱՀՊԱՆՈՒՄ (ԾԱՌԱՅՈՒԹՅՈՒՆՆԵՐ ԵՎ ՆՅՈՒԹԵՐ) | H39: =H40 -> -11261.239
G40: - Մեքենաների և սարքավորումների ընթացիկ նորոգում և պահպանում | H40: ='Հ-10'!$P$20 -> -11261.239 | J40: 4252
G41: ՆՅՈՒԹԵՐ (ԱՊՐԱՆՔՆԵՐ) | H41: =SUM(H42:H46) -> -134353.06
G42: - Գրասենյակային նյութեր և հագուստ | H42: ='Հ-10'!$P$21 -> -2563.7395 | J42: 4261
G43: - Տրանսպորտային նյութեր | H43: ='Հ-10'!$P$22 -> -9517.02 | J43: 4264
G44: - Առողջապահական և լաբորատոր նյութեր | H44: ='Հ-10'!$P$23 -> -1764 | J44: 4266
G45: - Կենցաղային և հանրային սննդի նյութեր | H45: ='Հ-10'!$P$24 -> -2228.112 | J45: 4267
G46: - Հատուկ նպատակային այլ նյութեր | H46: ='Հ-10'!$P$25 -> -118280.18 | J46: 4269
G47: ԱՅԼ ԾԱԽՍԵՐ | H47: =H48 -> -26063885
G48: ԱՅԼ ԾԱԽՍԵՐ | H48: =H49 -> -26063885
G49: - Այլ ծախսեր | H49: -26063885 | J49: 4861
F50: 31001 | G50: ՀՀ պաշտպանության նախարարության շենքային պայմանների բարելավում | H50: =H52 -> 27237788
G51: այդ թվում` ըստ կատարողների
G52: ՀՀ պաշտպանության նախարարություն | H52: =H54 -> 27237788
G53: այդ թվում` բյուջետային ծախսերի տնտեսագիտական դասակարգման հոդվածներ
G54: ԸՆԴԱՄԵՆԸ ԾԱԽՍԵՐ | H54: =H55 -> 27237788
G55: ՈՉ ՖԻՆԱՆՍԱԿԱՆ ԱԿՏԻՎՆԵՐԻ ԳԾՈՎ ԾԱԽՍԵՐ | H55: =H56 -> 27237788
G56: ՀԻՄՆԱԿԱՆ ՄԻՋՈՑՆԵՐ | H56: =H57+H59 -> 27237788
G57: ՇԵՆՔԵՐ և ՇԻՆՈՒԹՅՈՒՆՆԵՐ | H57: =SUM(H58:H58) -> 27251603
G58: - Շենքերի և շինությունների շինարարություն | H58: =27153698.0810239+97905 -> 27251603 | J58: 5112
G59: ՄԵՔԵՆԱՆԵՐ ԵՎ ՍԱՐՔԱՎՈՐՈՒՄՆԵՐ | H59: =SUM(H60:H61) -> -13815.092
G60: - Վարչական սարքավորումներ | H60: ='Հ-10'!O315 -> -6784.142 | J60: 5122
G61: - Այլ մեքենաներ և սարքավորումներ | H61: ='Հ-10'!O316 -> -7030.95 | J61: 5129
B62: 07 | G62: ԱՌՈՂՋԱՊԱՀՈՒԹՅՈՒՆ | H62: =H64+H81+H98 -> -496017.31
G63: այդ թվում`
C64: 01 | G64: Բժշկական ապրանքներ, սարքեր և սարքավորումներ | H64: =H66 -> -366274.31
G65: այդ թվում`
D66: 01 | G66: Դեղագործական ապրանքներ | H66: =H72 -> -366274.31
G67: այդ թվում`
G68: ՀՀ պաշտպանության նախարարություն | H68: =H70 -> -366274.31
G69: այդ թվում`
E70: 1204 | G70: Ռազմաբժշկական սպասարկում և առողջապահական ծառայություններ | H70: =H72 -> -366274.31
G71: այդ թվում`
F72: 11004 | G72: Դեղորայքի տրամադրում զորամասային և հոսպիտալային օղակներում բուժօգնություն ստացողներին | H72: =H74 -> -366274.31
G73: այդ թվում` ըստ կատարողների
G74: ՀՀ պաշտպանության նախարարություն | H74: =H76 -> -366274.31
G75: այդ թվում` բյուջետային ծախսերի տնտեսագիտական դասակարգման հոդվածներ
G76: ԸՆԴԱՄԵՆԸ ԾԱԽՍԵՐ | H76: =H77 -> -366274.31
G77: ԸՆԹԱՑԻԿ ԾԱԽՍԵՐ | H77: =H78 -> -366274.31
G78: ԾԱՌԱՅՈՒԹՅՈՒՆՆԵՐԻ ԵՎ ԱՊՐԱՆՔՆԵՐԻ ՁԵՌՔ ԲԵՐՈՒՄ | H78: =H79 -> -366274.31
G79: ՆՅՈՒԹԵՐ | H79: =H80 -> -366274.31
G80: - Առողջապահական և լաբորատոր նյութեր | H80: ='Հ-10'!$O$372 -> -366274.31 | J80: 4266
C81: 03 | G81: Հիվանդանոցային ծառայություններ | H81: =H83 -> -107100
G82: այդ թվում`
D83: 01 | G83: Ընդհանուր բնույթի հիվանդանոցային ծառայություններ | H83: =H85 -> -107100
G84: այդ թվում`
G85: ՀՀ պաշտպանության նախարարություն | H85: =H89 -> -107100
G86: այդ թվում`
E87: 1204 | G87: Ռազմաբժշկական սպասարկում և առողջապահական ծառայություններ | H87: =+H89 -> -107100
G88: այդ թվում`
F89: 11001 | G89: Զինծառայողներին, ինչպես նաև նրանց ընտանիքի անդամներին բժշկական օգնության ծառայություններ | H89: =H91 -> -107100
G90: այդ թվում` ըստ կատարողների
G91: ՀՀ պաշտպանության նախարարություն | H91: =H93 -> -107100
G92: այդ թվում` բյուջետային ծախսերի տնտեսագիտական դասակարգման հոդվածներ
G93: ԸՆԴԱՄԵՆԸ ԾԱԽՍԵՐ | H93: =H94 -> -107100
G94: ԸՆԹԱՑԻԿ ԾԱԽՍԵՐ | H94: =H95 -> -107100
G95: ԾԱՌԱՅՈՒԹՅՈՒՆՆԵՐԻ ԵՎ ԱՊՐԱՆՔՆԵՐԻ ՁԵՌՔԲԵՐՈՒՄ | H95: =H96 -> -107100
G96: ՇԱՐՈՒՆԱԿԱԿԱՆ ԾԱԽՍԵՐ | H96: =H97 -> -107100
G97: - Ընդհանուր բնույթի այլ ծառայություններ | H97: ='Հ-10'!$O$971 -> -107100 | J97: 4215
C98: 06 | G98: Առողջապահություն (այլ դասերին չպատկանող) | H98: =H100 -> -22643
G99: այդ թվում`
D100: 01 | G100: Առողջապահական հարակից ծառայություններ և ծրագրեր | H100: =H102 -> -22643
G101: այդ թվում`
...

Sheet Պահուստ
B1: Հավելված N 4
B2: ՀՀ կառավարության 2024 թվականի
B3: ______________ ի N ___ -Ն որոշման
B5: ՀԱՅԱՍՏԱՆԻ ՀԱՆՐԱՊԵՏՈՒԹՅԱՆ ԿԱՌԱՎԱՐՈՒԹՅԱՆ ՊԱՀՈՒՍՏԱՅԻՆ ՖՈՆԴԻՑ ՀԱՏԿԱՑՈՒՄՆԵՐ
H6: հազար դրամ
B7: Գործառական դասիչը | E7: Ծրագրային դասիչը | G7: Բյուջետային ծախսերի գործառական դասակարգման բաժինների, խմբերի և դասերի, բյուջետային ծրագրերի միջոցառումների, բյուջետային հատկացումների գլխավոր կարգադրիչների անվանումները | H7: Ցուցանիշների փոփոխությունը (ավելացումները նշված են դրական նշանով, իսկ նվազեցումները՝ փակագծերում)
B8: բաժին | C8: խումբ | D8: դաս | E8: ծրագիր | F8: միջոցառում | H8: տարի
G9: ԸՆԴԱՄԵՆԸ ԾԱԽՍԵՐ այդ թվում՝ | H9: =H10+H29 -> 0
B10: 02 | G10: ՊԱՇՏՊԱՆՈՒԹՅՈՒՆ | H10: =H12 -> 1329316.7
G11: այդ թվում`
C12: 01 | G12: Ռազմական պաշտպանություն | H12: =H14 -> 1329316.7
G13: այդ թվում`
D14: 01 | G14: Ռազմական պաշտպանություն | H14: =H16 -> 1329316.7
G15: այդ թվում`
G16: ՀՀ պաշտպանության նախարարություն | H16: =H18 -> 1329316.7
G17: այդ թվում`
E18: 1169 | G18: ՀՀ պաշտպանության ապահովում | H18: =H20 -> 1329316.7
G19: այդ թվում`
F20: 31001 | G20: ՀՀ պաշտպանության նախարարության շենքային պայմանների բարելավում | H20: =H22 -> 1329316.7
G21: այդ թվում` ըստ կատարողների
G22: ՀՀ պաշտպանության նախարարություն | H22: =H24 -> 1329316.7
G23: այդ թվում` բյուջետային ծախսերի տնտեսագիտական դասակարգման հոդվածներ
G24: ԸՆԴԱՄԵՆԸ ԾԱԽՍԵՐ | H24: =H25 -> 1329316.7
G25: ՈՉ ՖԻՆԱՆՍԱԿԱՆ ԱԿՏԻՎՆԵՐԻ ԳԾՈՎ ԾԱԽՍԵՐ | H25: =H26 -> 1329316.7
G26: ՀԻՄՆԱԿԱՆ ՄԻՋՈՑՆԵՐ | H26: =+H27 -> 1329316.7
G27: ՇԵՆՔԵՐ և ՇԻՆՈՒԹՅՈՒՆՆԵՐ | H27: =SUM(H28:H28) -> 1329316.7
G28: - Շենքերի և շինությունների շինարարություն | H28: =-H46 -> 1329316.7 | J28: 5112
B29: 11 | G29: ՀԻՄՆԱԿԱՆ ԲԱԺԻՆՆԵՐԻՆ ՉԴԱՍՎՈՂ ՊԱՀՈՒՍՏԱՅԻՆ ՖՈՆԴԵՐ | H29: =H31 -> -1329316.7
G30: այդ թվում`
C31: 01 | G31: ՀՀ կառավարության և համայնքների պահուստային ֆոնդ | H31: =H33 -> -1329316.7
G32: այդ թվում`
D33: 01 | G33: ՀՀ կառավարության պահուստային ֆոնդ | H33: =H35 -> -1329316.7
G34: այդ թվում`
G35: ՀՀ կառավարություն | H35: =H37 -> -1329316.7
G36: այդ թվում`
E37: 1139 | G37: ՀՀ կառավարության պահուստային ֆոնդ | H37: =H39 -> -1329316.7
G38: այդ թվում`
F39: 11001 | G39: ՀՀ կառավարության պահուստային ֆոնդ | H39: =H41 -> -1329316.7
G40: այդ թվում` ըստ կատարողների
G41: ՀՀ կառավարություն | H41: =H43 -> -1329316.7
G42: այդ թվում` բյուջետային ծախսերի տնտեսագիտական դասակարգման հոդվածներ
G43: ԸՆԴԱՄԵՆԸ ԾԱԽՍԵՐ | H43: =H44 -> -1329316.7
G44: ԸՆԹԱՑԻԿ ԾԱԽՍԵՐ | H44: =H45 -> -1329316.7
G45: ԱՅԼ ԾԱԽՍԵՐ | H45: =H46 -> -1329316.7
G46: - Պահուստային միջոցներ | H46: -1329316.7

Sheet Հ-5 Ա-2
B1: Հավելված N 5
B2: ='Հ-3 և 4'!B2 -> ՀՀ կառավարության 2024 թվականի
B3: ='Հ-3 և 4'!B3 -> ______________ ի N ___ -Ն որոշման
B5: ='Հ-3 և 4'!B5:H5 -> ՀԱՅԱՍՏԱՆԻ ՀԱՆՐԱՊԵՏՈՒԹՅԱՆ ԿԱՌԱՎԱՐՈՒԹՅԱՆ 2023 ԹՎԱԿԱՆԻ ԴԵԿՏԵՄԲԵՐԻ 28-Ի N 2323-Ն
B6: ՈՐՈՇՄԱՆ N 5 ՀԱՎԵԼՎԱԾԻ N 2 ԱՂՅՈՒՍԱԿՈՒՄ ԿԱՏԱՐՎՈՂ ՓՈՓՈԽՈՒԹՅՈՒՆՆԵՐԸ
E7: հազար դրամ
B8: Ծրագրային դասիչ | D8: Բյուջետային գլխավոր կարգադրիչների, ծրագրերի, միջոցառումների և ուղղությունների անվանումները | E8: Ցուցանիշների փոփոխությունը (ավելացումները նշված են դրական նշանով)
B9: ծրագիր | C9: միջո-ցառում | E9: տարի
D10: ԸՆԴԱՄԵՆԸ | E10: =E12 -> 27237788
D11: այդ թվում՝
D12: ՀՀ պաշտպանության նախարարություն | E12: =E14 -> 27237788
D13: այդ թվում`
B14: 1169 | C14: 31001 | D14: ՀՀ պաշտպանության նախարարության շենքային պայմանների բարելավում | E14: =E16 -> 27237788
D15: այդ թվում` ըստ կատարողների
D16: ՀՀ պաշտպանության նախարարություն | E16: ='Հ-3 և 4'!H50 -> 27237788

Sheet Հ-9 Ա-9.14
B1: Հավելված N 6
B2: ='Հ-3 և 4'!B2 -> ՀՀ կառավարության 2024 թվականի
B3: ='Հ-3 և 4'!B3 -> ______________ ի N ___ -Ն որոշման
B5: =+'Հ-3 և 4'!B5:H5 -> ՀԱՅԱՍՏԱՆԻ ՀԱՆՐԱՊԵՏՈՒԹՅԱՆ ԿԱՌԱՎԱՐՈՒԹՅԱՆ 2023 ԹՎԱԿԱՆԻ ԴԵԿՏԵՄԲԵՐԻ 28-Ի N 2323-Ն
B6: ՈՐՈՇՄԱՆ N 9 ՀԱՎԵԼՎԱԾԻ N 9.14 ԵՎ N 9.48 ԱՂՅՈՒՍԱԿՆԵՐՈՒՄ ԿԱՏԱՐՎՈՂ ՓՈՓՈԽՈՒԹՅՈՒՆՆԵՐԸ
B8: ՀՀ պաշտպանության նախարարություն
B10: ՄԱՍ 2. ՊԵՏԱԿԱՆ ՄԱՐՄՆԻ ԳԾՈՎ ԱՐԴՅՈՒՆՔԱՅԻՆ (ԿԱՏԱՐՈՂԱԿԱՆ) ՑՈՒՑԱՆԻՇՆԵՐԸ
B12: Ծրագրի դասիչը | C12: Ծրագրի անվանումը
B13: 1169 | C13: ՀՀ պաշտպանության ապահովում
B15: Ծրագրի միջոցառումները
B17: Ծրագրի դասիչը` | C17: 1169 | D17: Ցուցանիշների փոփոխությունը (նվազեցումները նշված են փակագծերում)
B18: Միջոցառման դասիչը` | C18: 11001 | D18: տարի
B19: Միջոցառման անվանումը` | C19: Ռազմական կարիքների բավարարում
B20: Նկարագրությունը` | C20: Ընթացիկ գործունեության ապահովման գործողություններ
B21: Միջոցառման տեսակը` | C21: Ծառայությունների մատուցում
B22: Ծառայությունը մատուցող կազմակերպության(ների) անվանում(ներ)ը՛ | C22: ՀՀ պաշտպանության նախարարություն
B23: Արդյունքի չափորոշիչներ
B24: Չի սահմանվում
B25: Միջոցառման վրա կատարվող ծախսը (հազար դրամ) | D25: =+'Հ-3 և 4'!H21 -> -26741771
B27: Ծրագրի դասիչը` | C27: 1169 | D27: Ցուցանիշների փոփոխությունը (ավելացումները նշված են դրական նշանով)
B28: Միջոցառման դասիչը` | C28: 31001 | D28: տարի
B29: Միջոցառման անվանումը` | C29: ՀՀ պաշտպանության նախարարության շենքային պայմանների բարելավում
B30: Նկարագրությունը` | C30: Պաշտպանության կարիքների համար բնակելի, գրասենյակային և այլ նշանակության շենքերի և շինությունների կառուցում
B31: Միջոցառման տեսակը` | C31: Պետական մարմինների կողմից օգտագործվող ոչ ֆինանսական ակտիվների հետ գործառնություններ
B32: Ակտիվն օգտագործող կազմակերպության(ների) անվանում(ներ)ը՝ | C32: ՀՀ պաշտպանության նախարարություն
B33: Արդյունքի չափորոշիչներ
B34: Չի սահմանվում
B35: Միջոցառման վրա կատարվող ծախսը (հազար դրամ) | D35: ='Հ-3 և 4'!H50 -> 27237788
B37: Ծրագրի դասիչը | C37: Ծրագրի անվանումը
B38: 1204 | C38: Ռազմաբժշկական սպասարկում և առողջապահական ծառայություններ
B40: Ծրագրի միջոցառումները
B42: Ծրագրի դասիչը` | C42: 1204 | D42: Ցուցանիշների փոփոխությունը (նվազեցումները նշված են փակագծերում)
B43: Միջոցառման դասիչը` | C43: 11001 | D43: տարի
B44: Միջոցառման անվանումը` | C44: Զինծառայողներին, ինչպես նաև նրանց ընտանիքի անդամներին բժշկական օգնության ծառայություններ
B45: Նկարագրությունը` | C45: ՊՆ համակարգում վերականգնողական մասնագիտացված բուժօգնության գծով ծառայությունների տրամադրում
B46: Միջոցառման տեսակը` | C46: Ծառայությունների մատուցում
B47: Ծառայությունը մատուցող կազմակերպության(ների) անվանում(ներ)ը՛ | C47: «Գնումների մասին» ՀՀ օրենքի համաձայն ընտրված կազմակերպություն
B48: Արդյունքի չափորոշիչներ
B49: Միջոցառման վրա կատարվող ծախսը (հազար դրամ) | D49: ='Հ-3 և 4'!H89 -> -107100
B51: Ծրագրի միջոցառումները
B53: Ծրագրի դասիչը` | C53: 1204 | D53: Ցուցանիշների փոփոխությունը (նվազեցումները նշված են փակագծերում)
B54: Միջոցառման դասիչը` | C54: 11003 | D54: տարի
B55: Միջոցառման անվանումը` | C55: Հոսպիտալների և բուժկետերի բժշկական սարքավորումների պահպանման ծառայություններ
B56: Նկարագրությունը` | C56: Զինվորական հոսպիտալների և բժշկական կետերի սարքավորումների ընթացիկ վերանորոգման և տեխնիկական սպասարկման ծառայություններ
B57: Միջոցառման տեսակը` | C57: Ծառայությունների մատուցում
B58: Ծառայությունը մատուցող կազմակերպության(ների) անվանում(ներ)ը՝ | C58: «Գնումների մասին» ՀՀ օրենքի համաձայն ընտրված կազմակերպություն
B59: Արդյունքի չափորոշիչներ
B60: Միջոցառման վրա կատարվող ծախսը (հազար դրամ) | D60: ='Հ-3 և 4'!H106 -> -22643
B62: Ծրագրի միջոցառումները
B64: Ծրագրի դասիչը` | C64: 1204 | D64: Ցուցանիշների փոփոխությունը (նվազեցումները նշված են փակագծերում)
B65: Միջոցառման դասիչը` | C65: 11004 | D65: տարի
B66: Միջոցառման անվանումը` | C66: Դեղորայքի տրամադրում զորամասային և հոսպիտալային օղակներում բուժօգնություն ստացողներին
B67: Նկարագրությունը` | C67: Կենտրոնացված կարգով դեղորայքի ձեռք բերում ամբուլատոր-պոլիկլինիկական և հոսպիտալային բուժօգնություն ստացողներին տրամադրելու նպատակով
B68: Միջոցառման տեսակը` | C68: Ծառայությունների մատուցում
B69: Ակտիվն օգտագործող կազմակերպության(ների) անվանում(ներ)ը՝ | C69: «Գնումների մասին» ՀՀ օրենքի համաձայն ընտրված կազմակերպություն
B70: Արդյունքի չափորոշիչներ
B71: Միջոցառման վրա կատարվող ծախսը (հազար դրամ) | D71: ='Հ-3 և 4'!H72 -> -366274.31
B73: ՄԱՍ 2. ՊԵՏԱԿԱՆ ՄԱՐՄՆԻ ԳԾՈՎ ԱՐԴՅՈՒՆՔԱՅԻՆ (ԿԱՏԱՐՈՂԱԿԱՆ) ՑՈՒՑԱՆԻՇՆԵՐԸ
B75: Ծրագրի դասիչը | C75: Ծրագրի անվանումը
B76: 1139 | C76: ՀՀ կառավարության պահուստային ֆոնդ
B78: Ծրագրի դասիչը` | C78: 1139 | D78: Ցուցանիշների փոփոխությունը (նվազեցումները նշված են փակագծերում)
B79: Միջոցառման դասիչը` | C79: 11001 | D79: տարի
B80: Միջոցառման անվանումը` | C80: ՀՀ կառավարության պահուստային ֆոնդ
B81: Նկարագրությունը` | C81: ՀՀ պետական բյուջեում նախատեսված ելքերի լրացուցիչ ֆինանսավորման, պետական բյուջեում չկանխատեսված ելքերի, ինչպես նաև բյուջետային երաշխիքների ապահովման ելքերի ֆինանսավորման ապահովում
B82: Միջոցառման տեսակը` | C82: Ծառայությունների մատուցում
B83: Միջոցառումն իրականացնողի անվանումը | C83: ՀՀ կառավարություն
B84: Արդյունքի չափորոշիչներ
B85: Միջոցառման վրա կատարվող ծախսը (հազար դրամ) | D85: ='Հ-3 և 4'!H140 -> -1329316.7
B87: Ծրագրի դասիչը` | C87: 1139 | D87: Ցուցանիշների փոփոխությունը (ավելացումները նշված են դրական նշանով)
B88: Միջոցառման դասիչը` | C88: 11001 | D88: տարի
B89: Միջոցառման անվանումը` | C89: ՀՀ կառավարության պահուստային ֆոնդ
B90: Նկարագրությունը` | C90: ՀՀ պետական բյուջեում նախատեսված ելքերի լրացուցիչ ֆինանսավորման, պետական բյուջեում չկանխատեսված ելքերի, ինչպես նաև բյուջետային երաշխիքների ապահովման ելքերի ֆինանսավորման ապահովում
B91: Միջոցառման տեսակը` | C91: Ծառայությունների մատուցում
B92: Միջոցառումն իրականացնողի անվանումը | C92: ՀՀ կառավարություն
B93: Արդյունքի չափորոշիչներ
B94: Միջոցառման վրա կատարվող ծախսը (հազար դրամ) | D94: =-D85 -> 1329316.7

Sheet Հ-9 Ա-9.1.14
B1: Հավելված N 7
B2: ='Հ-3 և 4'!B2 -> ՀՀ կառավարության 2024 թվականի
B3: ='Հ-3 և 4'!B3 -> ______________ ի N ___ -Ն որոշման
B5: =+'Հ-3 և 4'!B5:H5 -> ՀԱՅԱՍՏԱՆԻ ՀԱՆՐԱՊԵՏՈՒԹՅԱՆ ԿԱՌԱՎԱՐՈՒԹՅԱՆ 2023 ԹՎԱԿԱՆԻ ԴԵԿՏԵՄԲԵՐԻ 28-Ի N 2323-Ն
B6: ՈՐՈՇՄԱՆ N 9.1 ՀԱՎԵԼՎԱԾԻ N 9.1.14 ԵՎ N 9.1.58 ԱՂՅՈՒՍԱԿՆԵՐՈՒՄ ԿԱՏԱՐՎՈՂ ՓՈՓՈԽՈՒԹՅՈՒՆՆԵՐԸ
B8: ՀՀ պաշտպանության նախարարություն
B10: ՄԱՍ 1. ՊԵՏԱԿԱՆ ՄԱՐՄՆԻ ԳԾՈՎ ԱՐԴՅՈՒՆՔԱՅԻՆ (ԿԱՏԱՐՈՂԱԿԱՆ) ՑՈՒՑԱՆԻՇՆԵՐԸ
B12: Ծրագրի դասիչը | C12: Ծրագրի անվանումը
B13: 1169 | C13: ՀՀ պաշտպանության ապահովում
B15: Ծրագրի միջոցառումները
B17: Ծրագրի դասիչը` | C17: 1169 | D17: Ցուցանիշների փոփոխությունը (նվազեցումները նշված են փակագծերում)
B18: Միջոցառման դասիչը` | C18: 11001 | D18: տարի
B19: Միջոցառման անվանումը` | C19: Ռազմական կարիքների բավարարում
B20: Նկարագրությունը` | C20: Ընթացիկ գործունեության ապահովման գործողություններ
B21: Միջոցառման տեսակը` | C21: Ծառայությունների մատուցում
B22: Ծառայությունը մատուցող կազմակերպության(ների) անվանում(ներ)ը՛ | C22: ՀՀ պաշտպանության նախարարություն
B23: Արդյունքի չափորոշիչներ
B24: Չի սահմանվում
B25: Միջոցառման վրա կատարվող ծախսը (հազար դրամ) | D25: =+'Հ-3 և 4'!H21 -> -26741771
B27: Ծրագրի դասիչը` | C27: 1169 | D27: Ցուցանիշների փոփոխությունը (ավելացումները նշված են դրական նշանով)
B28: Միջոցառման դասիչը` | C28: 31001 | D28: տարի
B29: Միջոցառման անվանումը` | C29: ՀՀ պաշտպանության նախարարության շենքային պայմանների բարելավում
B30: Նկարագրությունը` | C30: Պաշտպանության կարիքների համար բնակելի, գրասենյակային և այլ նշանակության շենքերի և շինությունների կառուցում
B31: Միջոցառման տեսակը` | C31: Պետական մարմինների կողմից օգտագործվող ոչ ֆինանսական ակտիվների հետ գործառնություններ
B32: Ակտիվն օգտագործող կազմակերպության(ների) անվանում(ներ)ը՝ | C32: ՀՀ պաշտպանության նախարարություն
B33: Արդյունքի չափորոշիչներ
B34: Չի սահմանվում
B35: Միջոցառման վրա կատարվող ծախսը (հազար դրամ) | D35: ='Հ-3 և 4'!H50 -> 27237788
B37: Ծրագրի դասիչը | C37: Ծրագրի անվանումը
B38: 1204 | C38: Ռազմաբժշկական սպասարկում և առողջապահական ծառայություններ
B40: Ծրագրի միջոցառումները
B42: Ծրագրի դասիչը` | C42: 1204 | D42: Ցուցանիշների փոփոխությունը (նվազեցումները նշված են փակագծերում)
B43: Միջոցառման դասիչը` | C43: 11001 | D43: տարի
B44: Միջոցառման անվանումը` | C44: Զինծառայողներին, ինչպես նաև նրանց ընտանիքի անդամներին բժշկական օգնության ծառայություններ
B45: Նկարագրությունը` | C45: ՊՆ համակարգում վերականգնողական մասնագիտացված բուժօգնության գծով ծառայությունների տրամադրում
B46: Միջոցառման տեսակը` | C46: Ծառայությունների մատուցում
B47: Ծառայությունը մատուցող կազմակերպության(ների) անվանում(ներ)ը՛ | C47: «Գնումների մասին» ՀՀ օրենքի համաձայն ընտրված կազմակերպություն
B48: Արդյունքի չափորոշիչներ
B49: Միջոցառման վրա կատարվող ծախսը (հազար դրամ) | D49: ='Հ-3 և 4'!H89 -> -107100
B51: Ծրագրի միջոցառումները
B53: Ծրագրի դասիչը` | C53: 1204 | D53: Ցուցանիշների փոփոխությունը (նվազեցումները նշված են փակագծերում)
B54: Միջոցառման դասիչը` | C54: 11003 | D54: տարի
B55: Միջոցառման անվանումը` | C55: Հոսպիտալների և բուժկետերի բժշկական սարքավորումների պահպանման ծառայություններ
B56: Նկարագրությունը` | C56: Զինվորական հոսպիտալների և բժշկական կետերի սարքավորումների ընթացիկ վերանորոգման և տեխնիկական սպասարկման ծառայություններ
B57: Միջոցառման տեսակը` | C57: Ծառայությունների մատուցում
B58: Ծառայությունը մատուցող կազմակերպության(ների) անվանում(ներ)ը՝ | C58: «Գնումների մասին» ՀՀ օրենքի համաձայն ընտրված կազմակերպություն
B59: Արդյունքի չափորոշիչներ
B60: Միջոցառման վրա կատարվող ծախսը (հազար դրամ) | D60: ='Հ-3 և 4'!H106 -> -22643
B62: Ծրագրի միջոցառումները
B64: Ծրագրի դասիչը` | C64: 1204 | D64: Ցուցանիշների փոփոխությունը (նվազեցումները նշված են փակագծերում)
B65: Միջոցառման դասիչը` | C65: 11004 | D65: տարի
B66: Միջոցառման անվանումը` | C66: Դեղորայքի տրամադրում զորամասային և հոսպիտալային օղակներում բուժօգնություն ստացողներին
B67: Նկարագրությունը` | C67: Կենտրոնացված կարգով դեղորայքի ձեռք բերում ամբուլատոր-պոլիկլինիկական և հոսպիտալային բուժօգնություն ստացողներին տրամադրելու նպատակով
B68: Միջոցառման տեսակը` | C68: Ծառայությունների մատուցում
B69: Ակտիվն օգտագործող կազմակերպության(ների) անվանում(ներ)ը՝ | C69: «Գնումների մասին» ՀՀ օրենքի համաձայն ընտրված կազմակերպություն
B70: Արդյունքի չափորոշիչներ
B71: Միջոցառման վրա կատարվող ծախսը (հազար դրամ) | D71: ='Հ-3 և 4'!H72 -> -366274.31
B73: ՄԱՍ 2. ՊԵՏԱԿԱՆ ՄԱՐՄՆԻ ԳԾՈՎ ԱՐԴՅՈՒՆՔԱՅԻՆ (ԿԱՏԱՐՈՂԱԿԱՆ) ՑՈՒՑԱՆԻՇՆԵՐԸ
B75: Ծրագրի դասիչը | C75: Ծրագրի անվանումը
B76: 1139 | C76: ՀՀ կառավարության պահուստային ֆոնդ
B78: Ծրագրի դասիչը` | C78: 1139 | D78: Ցուցանիշների փոփոխությունը (նվազեցումները նշված են փակագծերում)
B79: Միջոցառման դասիչը` | C79: 11001 | D79: տարի
B80: Միջոցառման անվանումը` | C80: ՀՀ կառավարության պահուստային ֆոնդ
B81: Նկարագրությունը` | C81: ՀՀ պետական բյուջեում նախատեսված ելքերի լրացուցիչ ֆինանսավորման, պետական բյուջեում չկանխատեսված ելքերի, ինչպես նաև բյուջետային երաշխիքների ապահովման ելքերի ֆինանսավորման ապահովում
B82: Միջոցառման տեսակը` | C82: Ծառայությունների մատուցում
B83: Միջոցառումն իրականացնողի անվանումը | C83: ՀՀ կառավարություն
B84: Արդյունքի չափորոշիչներ
B85: Միջոցառման վրա կատարվող ծախսը (հազար դրամ) | D85: ='Հ-3 և 4'!H140 -> -1329316.7
B87: Ծրագրի դասիչը` | C87: 1139 | D87: Ցուցանիշների փոփոխությունը (ավելացումները նշված են դրական նշանով)
B88: Միջոցառման դասիչը` | C88: 11001 | D88: տարի
B89: Միջոցառման անվանումը` | C89: ՀՀ կառավարության պահուստային ֆոնդ
B90: Նկարագրությունը` | C90: ՀՀ պետական բյուջեում նախատեսված ելքերի լրացուցիչ ֆինանսավորման, պետական բյուջեում չկանխատեսված ելքերի, ինչպես նաև բյուջետային երաշխիքների ապահովման ելքերի ֆինանսավորման ապահովում
B91: Միջոցառման տեսակը` | C91: Ծառայությունների մատուցում
B92: Միջոցառումն իրականացնողի անվանումը | C92: ՀՀ կառավարություն
B93: Արդյունքի չափորոշիչներ
B94: Միջոցառման վրա կատարվող ծախսը (հազար դրամ) | D94: =-D85 -> 1329316.7

Sheet Հ-10
F1: Հավելված N 8
F2: ՀՀ կառավարության 2024 թվականի
F3: ______________ ի ___ -Ն որոշման
B5: ՀԱՅԱՍՏԱՆԻ ՀԱՆՐԱՊԵՏՈՒԹՅԱՆ ԿԱՌԱՎԱՐՈՒԹՅԱՆ 2023 ԹՎԱԿԱՆԻ ԴԵԿՏԵՄԲԵՐԻ 28-Ի N 2323-Ն
B6: ՈՐՈՇՄԱՆ N 10 ՀԱՎԵԼՎԱԾՈՒՄ ԿԱՏԱՐՎՈՂ ՓՈՓՈԽՈՒԹՅՈՒՆՆԵՐԸ
H7: հազար դրամ
B8: Կոդը | C8: Անվանումը | D8: Գնման ձևը | E8: Չափման միավորը | F8: Ցուցանիշների փոփոխությունը (նվազեցումները նշված են փակագծերում)
F9: միավորի գինը (դրամով) | G9: քանակը | H9: գումարը (հազար դրամով)
C10: ՀՀ պաշտպանության նախարարություն | H10: =H11+H369 -> -1187718 | O10: 1169 11001 | Q10: այդ թվում՝
B11: Բաժին N 02 | C11: Խումբ N 01 Դաս N 01 Ռազմական պաշտպանություն | H11: =H12+H312 -> -691700.68 | L11: 1169 11001 | O11: հոդված | P11: նվազեցում | Q11: տնտեսում
B12: 1169 11001 | C12: Ռազմական կարիքների բավարարում | H12: =H13+H261 -> -677885.58 | L12: տնտեսում | O12: 4212 | P12: =SUMIF($J$14:$J$311, $O12, $H$14:$H$311) -> -479444.6 | Q12: =SUMIFS($H$14:$H$311, $J$14:$J$311, $O12, $K$14:$K$311, "տնտեսում") -> 0
C13: ՄԱՍ I. ԱՊՐԱՆՔՆԵՐ | H13: =SUM(H14:H260) -> -150177.21 | L13: =SUMIF($K$14:$K$311, "տնտեսում", $H$14:$H$311) -> -134843.92 | O13: 4213 | P13: =SUMIF($J$14:$J$311, $O13, $H$14:$H$311) -> -12344 | Q13: =SUMIFS($H$14:$H$311, $J$14:$J$311, $O13, $K$14:$K$311, "տնտեսում") -> 0
B14: 18511180/11 | C14: մեդալներ, կրծքանշաններ | D14: ԳՀ | E14: հատ | F14: 3360 | G14: -15 | H14: -50.4 | J14: 4237 | O14: 4214 | P14: =SUMIF($J$14:$J$311, $O14, $H$14:$H$311) -> -113.4 | Q14: =SUMIFS($H$14:$H$311, $J$14:$J$311, $O14, $K$14:$K$311, "տնտեսում") -> -113.4
B15: 39281200/16 | C15: խորհրդանշական նվերներ | D15: ԳՀ | E15: հատ | F15: 1167 | G15: -100 | H15: -116.7 | J15: 4237 | O15: 4233 | P15: =SUMIF($J$14:$J$311, $O15, $H$14:$H$311) -> -12437.4 | Q15: =SUMIFS($H$14:$H$311, $J$14:$J$311, $O15, $K$14:$K$311, "տնտեսում") -> 0
B16: 39281200/17 | C16: խորհրդանշական նվերներ | D16: ԳՀ | E16: հատ | F16: 738 | G16: -150 | H16: -110.7 | J16: 4237 | O16: 4234 | P16: =SUMIF($J$14:$J$311, $O16, $H$14:$H$311) -> -863.75 | Q16: =SUMIFS($H$14:$H$311, $J$14:$J$311, $O16, $K$14:$K$311, "տնտեսում") -> -863.75
B17: 39281200/18 | C17: խորհրդանշական նվերներ | D17: ԳՀ | E17: հատ | F17: 650 | G17: -100 | H17: -65 | J17: 4237 | O17: 4237 | P17: =SUMIF($J$14:$J$311, $O17, $H$14:$H$311) -> -15824.159 | Q17: =SUMIFS($H$14:$H$311, $J$14:$J$311, $O17, $K$14:$K$311, "տնտեսում") -> -15481.359
B18: 18511180/21 | C18: մեդալներ, կրծքանշաններ | D18: ԳՀ | E18: հատ | H18: -702 | J18: 4237 | K18: տնտեսում | O18: 4239 | P18: =SUMIF($J$14:$J$311, $O18, $H$14:$H$311) -> -10143.98 | Q18: =SUMIFS($H$14:$H$311, $J$14:$J$311, $O18, $K$14:$K$311, "տնտեսում") -> -8401.28
B19: 18511200/1 | C19: մեդալի կախիչներ | D19: ԳՀ | E19: հատ | H19: -332.2 | J19: 4237 | K19: տնտեսում | O19: 4241 | P19: =SUMIF($J$14:$J$311, $O19, $H$14:$H$311) -> -1100 | Q19: =SUMIFS($H$14:$H$311, $J$14:$J$311, $O19, $K$14:$K$311, "տնտեսում") -> 0
B20: 18511200/2 | C20: մեդալի կախիչներ | D20: ԳՀ | E20: հատ | H20: -1110.0216 | J20: 4237 | K20: տնտեսում | O20: 4252 | P20: =SUMIF($J$14:$J$311, $O20, $H$14:$H$311) -> -11261.239 | Q20: =SUMIFS($H$14:$H$311, $J$14:$J$311, $O20, $K$14:$K$311, "տնտեսում") -> 0
B21: 18511200/3 | C21: մեդալի կախիչներ | D21: ԳՀ | E21: հատ | H21: -1239.0192 | J21: 4237 | K21: տնտեսում | O21: 4261 | P21: =SUMIF($J$14:$J$311, $O21, $H$14:$H$311) -> -2563.7395 | Q21: =SUMIFS($H$14:$H$311, $J$14:$J$311, $O21, $K$14:$K$311, "տնտեսում") -> -2563.7395
B22: 18511200/4 | C22: մեդալի կախիչներ | D22: ԳՀ | E22: հատ | H22: -700.0047 | J22: 4237 | K22: տնտեսում | O22: 4264 | P22: =SUMIF($J$14:$J$311, $O22, $H$14:$H$311) -> -9517.02 | Q22: =SUMIFS($H$14:$H$311, $J$14:$J$311, $O22, $K$14:$K$311, "տնտեսում") -> -9517.02
B23: 18511200/5 | C23: մեդալի կախիչներ | D23: ԳՀ | E23: հատ | H23: -3630.0336 | J23: 4237 | K23: տնտեսում | O23: 4266 | P23: =SUMIF($J$14:$J$311, $O23, $H$14:$H$311) -> -1764 | Q23: =SUMIFS($H$14:$H$311, $J$14:$J$311, $O23, $K$14:$K$311, "տնտեսում") -> -1764
B24: 35821400/4 | C24: դրոշներ | D24: ԳՀ | E24: հատ | H24: -121.08 | J24: 4237 | K24: տնտեսում | O24: 4267 | P24: =SUMIF($J$14:$J$311, $O24, $H$14:$H$311) -> -2228.112 | Q24: =SUMIFS($H$14:$H$311, $J$14:$J$311, $O24, $K$14:$K$311, "տնտեսում") -> -2228.112
B25: 35821400/6 | C25: դրոշներ | D25: ԳՀ | E25: հատ | H25: -350 | J25: 4237 | K25: տնտեսում | O25: 4269 | P25: =SUMIF($J$14:$J$311, $O25, $H$14:$H$311) -> -118280.18 | Q25: =SUMIFS($H$14:$H$311, $J$14:$J$311, $O25, $K$14:$K$311, "տնտեսում") -> -93911.257
B26: 39281200/11 | C26: խորհրդանշական նվերներ | D26: ԳՀ | E26: հատ | H26: -75 | J26: 4237 | K26: տնտեսում
B27: 39281200/25 | C27: խորհրդանշական նվերներ | D27: ԳՀ | E27: հատ | H27: -24 | J27: 4237 | K27: տնտեսում
B28: 39281200/26 | C28: խորհրդանշական նվերներ | D28: ԳՀ | E28: հատ | H28: -40 | J28: 4237 | K28: տնտեսում
B29: 39281200/27 | C29: խորհրդանշական նվերներ | D29: ԳՀ | E29: հատ | H29: -90 | J29: 4237 | K29: տնտեսում
B30: 44521230/1 | C30: ամրակներ | D30: ԳՀ | E30: հատ | H30: -7068 | J30: 4237 | K30: տնտեսում
B31: 03121200/2 | C31: ծաղիկներ | D31: ԳՀ | E31: հատ | H31: -80 | J31: 4261 | K31: տնտեսում
B32: 03121210/3 | C32: ծաղկային կոմպոզիցիաներ | D32: ԳՀ | E32: հատ | H32: -55.5 | J32: 4261 | K32: տնտեսում
B33: 03121210/4 | C33: ծաղկային կոմպոզիցիաներ | D33: ԳՀ | E33: հատ | H33: -200.55 | J33: 4261 | K33: տնտեսում
B34: 18441210/1 | C34: սաղավարտներ | D34: ԳՀ | E34: հատ | H34: -63.6 | J34: 4261 | K34: տնտեսում
B35: 18821300/1 | C35: մարզական կոշիկներ | D35: ԳՀ | E35: զույգ | H35: -60 | J35: 4261 | K35: տնտեսում
B36: 22611400/2 | C36: ներկեր տպագրական մեքենաների համար | D36: ԳՀ | E36: կիլոգրամ | H36: -87.5 | J36: 4261 | K36: տնտեսում
B37: 30121460/11 | C37: տոներային քարտրիջներ | D37: ԳՀ | E37: հատ | H37: -60 | J37: 4261 | K37: տնտեսում
... B97: 33741600/1 | C97: եղունգների կծաքցաններ (կտրիչներ) | D97: ԳՀ | E97: հատ | H97: -286 | J97: 4267 | K97: տնտեսում
B98: 24911300/1 | C98: սոսինձ` հեղուկ | D98: ԳՀ | E98: կիլոգրամ | F98: 74 | G98: -500 | H98: -37 | J98: 4269
B99: 24961300/1 | C99: հակակոռոզիոն արտադրանք | D99: ԳՀ | E99: կիլոգրամ | F99: 305 | G99: -201.4 | H99: -61.427 | J99: 4269
B100: 30121460/28 | C100: տոներային քարտրիջներ | D100: ԳՀ | E100: հատ | F100: 50000 | G100: -4 | H100: -200 | J100: 4269
B101: 30121460/29 | C101: տոներային քարտրիջներ | D101: ԳՀ | E101: հատ | F101: 50000 | G101: -4 | H101: -200 | J101: 4269
B102: 30121460/30 | C102: տոներային քարտրիջներ | D102: ԳՀ | E102: հատ | F102: 50000 | G102: -4 | H102: -200 | J102: 4269
B103: 31211180/3 | C103: ավտոմատ անջատիչներ | D103: ԳՀ | E103: հատ | F103: 1710 | G103: -100 | H103: -171 | J103: 4269
B104: 31321270/1 | C104: էլեկտրական լար` ԱՊՎ, 1x6 մմ2 | D104: ԳՀ | E104: մետր | F104: 40 | G104: -6000 | H104: -240 | J104: 4269
B105: 31331280/1 | C105: էլեկտրական լար` պղնձյա, բազմաջիղ, ՊՊՎ, 2x2.5 մմ2 | D105: ԳՀ | E105: մետր | F105: 220 | G105: -500 | H105: -110 | J105: 4269
B106: 31331290/1 | C106: էլեկտրական լար` պղնձյա, բազմաջիղ, ՊՊՎ, 2x4.0 մմ2 | D106: ԳՀ | E106: մետր | F106: 290 | G106: -500 | H106: -145 | J106: 4269
B107: 32421100/6 | C107: ցանցային մալուխներ | D107: ԳՀ | E107: մետր | F107: 380 | G107: -3000 | H107: -1140 | J107: 4269
B108: 32541400/6 | C108: ավտոմատային հեռախոսային կայանների սարքեր | D108: ԳՀ | E108: հատ | F108: 122000 | G108: -10 | H108: -1220 | J108: 4269
B109: 35261100/1 | C109: տեղեկատվական վահանակներ | D109: ԳՀ | E109: հատ | F109: 1500 | G109: -1020 | H109: -1530 | J109: 4269
... B111: 35821400/10 | C111: դրոշներ | D111: ԳՀ | E111: հատ | F111: 5500 | G111: -23 | H111: -126.5 | J111: 4269
B112: 42661300/1 | C112: եռակցման սարքեր | D112: ԳՀ | E112: հատ | F112: 78000 | G112: -10 | H112: -780 | J112: 4269 | K112: տնտեսում
B113: 44111412/1 | C113: ներկ, շինարարական | D113: ԳՀ | E113: կիլոգրամ | F113: 960 | G113: -2000 | H113: -1920 | J113: 4269 | K113: տնտեսում
B114: 44111440/1 | C114: ներկ-էմալ, գույնը` ս― | D114: ԳՀ | E114: կիլոգրամ | F114: 995 | G114: -100 | H114: -99.5 | J114: 4269 | K114: տնտեսում
B115: 44111444/1 | C115: ներկ-էմալ, գույնը` պաշտպանիչ կանաչ | D115: ԳՀ | E115: կիլոգրամ | F115: 995 | G115: -100 | H115: -99.5 | J115: 4269 | K115: տնտեսում
B116: 44112250/1 | C116: տանիքի նյութեր | D116: ԳՀ | E116: հատ | F116: 3100 | G116: -100 | H116: -310 | J116: 4269 | K116: տնտեսում
B117: 44112250/2 | C117: տանիքի նյութեր | D117: ԳՀ | E117: հատ | F117: 3700 | G117: -100 | H117: -370 | J117: 4269 | K117: տնտեսում
B118: 44112250/3 | C118: տանիքի նյութեր | D118: ԳՀ | E118: հատ | F118: 6000 | G118: -100 | H118: -600 | J118: 4269 | K118: տնտեսում
B119: 44163200/2 | C119: խողովակների միացման մասեր | D119: ԳՀ | E119: հատ | F119: 650 | G119: -100 | H119: -65 | J119: 4269 | K119: տնտեսում
B120: 44163200/3 | C120: խողովակների միացման մասեր | D120: ԳՀ | E120: հատ | F120: 1950 | G120: -50 | H120: -97.5 | J120: 4269 | K120: տնտեսում
B121: 44163200/4 | C121: խողովակների միացման մասեր | D121: ԳՀ | E121: հատ | F121: 320 | G121: -100 | H121: -32 | J121: 4269 | K121: տնտեսում
B122: 44163200/5 | C122: խողովակների միացման մասեր | D122: ԳՀ | E122: հատ | F122: 1250 | G122: -70 | H122: -87.5 | J122: 4269 | K122: տնտեսում
B123: 44163200/6 | C123: խողովակների միացման մասեր | D123: ԳՀ | E123: հատ | F123: 400 | G123: -100 | H123: -40 | J123: 4269 | K123: տնտեսում
B124: 44163200/7 | C124: խողովակների միացման մասեր | D124: ԳՀ | E124: հատ | F124: 1410 | G124: -150 | H124: -211.5 | J124: 4269
B125: 44163200/8 | C125: խողովակների միացման մասեր | D125: ԳՀ | E125: հատ | F125: 1030 | G125: -50 | H125: -51.5 | J125: 4269 | K125: տնտեսում
B126: 44163200/9 | C126: խողովակների միացման մասեր | D126: ԳՀ | E126: հատ | F126: 115 | G126: -100 | H126: -11.5 | J126: 4269
B127: 44163220/10 | C127: խողովակների միացնող կցորդիչ | D127: ԳՀ | E127: հատ | F127: 189 | G127: -100 | H127: -18.9 | J127: 4269
B128: 44221140/2 | C128: դռներ | D128: ԳՀ | E128: քմ | F128: 90000 | G128: -40 | H128: -3600 | J128: 4269
B129: 44311120/1 | C129: փշալարեր | D129: ԳՀ | E129: կիլոգրամ | F129: 900 | G129: -10000 | H129: -9000 | J129: 4269
B130: 44411752/8 | C130: ջրի բաք | D130: ԲՄ | E130: հատ | F130: 48250 | G130: -10 | H130: -482.5 | J130: 4269
B131: 44423680/1 | C131: շինարարության մեջ օգտագործվող զանազան այլ ապրանքներ | D131: ԳՀ | E131: կիլոգրամ | F131: 67 | G131: -12000 | H131: -804 | J131: 4269
B132: 44423680/2 | C132: շինարարության մեջ օգտագործվող զանազան այլ ապրանքներ | D132: ԳՀ | E132: կիլոգրամ | F132: 1320 | G132: -500 | H132: -660 | J132: 4269
B133: 44423680/3 | C133: շինարարության մեջ օգտագործվող զանազան այլ ապրանքներ | D133: ԳՀ | E133: կիլոգրամ | F133: 410 | G133: -1000 | H133: -410 | J133: 4269
B134: 44511150/4 | C134: հատիչներ | D134: ԳՀ | E134: հատ | F134: 75000 | G134: -10 | H134: -750 | J134: 4269
B135: 44511150/5 | C135: հատիչներ | D135: ԳՀ | E135: հատ | F135: 28000 | G135: -10 | H135: -280 | J135: 4269
B136: 44531160/1 | C136: գնդերիթներ ― պտուտակներ | D136: ԳՀ | E136: կիլոգրամ | F136: 1200 | G136: -200 | H136: -240 | J136: 4269
B137: 44531160/2 | C137: գնդերիթներ ― պտուտակներ | D137: ԳՀ | E137: կիլոգրամ | F137: 1200 | G137: -200 | H137: -240 | J137: 4269
... B139: 44531191/3 | C139: երկաթե խողովակներ | D139: ԳՀ | E139: մետր | F139: 4900 | G139: -324 | H139: -1587.6 | J139: 4269
B140: 18511180/504 | C140: մեդալներ, կրծքանշաններ | D140: ԳՀ | E140: հատ | H140: -63 | J140: 4269 | K140: տնտեսում
B141: 18511180/505 | C141: մեդալներ, կրծքանշաններ | D141: ԳՀ | E141: հատ | H141: -63 | J141: 4269 | K141: տնտեսում
B142: 18511180/506 | C142: մեդալներ, կրծքանշաններ | D142: ԳՀ | E142: հատ | H142: -52.5 | J142: 4269 | K142: տնտեսում
B143: 18521400/1 | C143: վայրկյանաչափ | D143: ԳՀ | E143: հատ | H143: -26.8 | J143: 4269 | K143: տնտեսում
B144: 18531100/1 | C144: նվերներ ― պարգ―ներ | D144: ԳՀ | E144: հատ | H144: -43.2 | J144: 4269 | K144: տնտեսում
B145: 18931160/1 | C145: լվացքի պայուսակներ | D145: ԳՀ | E145: հատ | H145: -240 | J145: 4269 | K145: տնտեսում
B146: 19431610/1 | C146: կարի թել | D146: ԳՀ | E146: հատ | H146: -6024 | J146: 4269 | K146: տնտեսում
B147: 22991130/1 | C147: թուղթ` պլոտեր սարքի | D147: ԳՀ | E147: կիլոգրամ | H147: -64.8 | J147: 4269 | K147: տնտեսում
B148: 24931100/1 | C148: լուսանկարչական թիթեղիկներ կամ ժապավեններ | D148: ԳՀ | E148: հատ | H148: -20.8 | J148: 4269 | K148: տնտեսում
B149: 30121460/43 | C149: տոներային քարտրիջներ | D149: ԳՀ | E149: հատ | H149: -11.7 | J149: 4269 | K149: տնտեսում
B150: 30121460/46 | C150: տոներային քարտրիջներ | D150: ԳՀ | E150: հատ | H150: -11.7 | J150: 4269 | K150: տնտեսում
B151: 30121460/47 | C151: տոներային քարտրիջներ | D151: ԳՀ | E151: հատ | H151: -11.7 | J151: 4269 | K151: տնտեսում
... B260: 44921500/1 | C260: ծեփամածիկ` գիպսային | D260: ԳՀ | E260: կիլոգրամ | H260: -53 | J260: 4269 | K260: տնտեսում
C261: ՄԱՍ III. ԾԱՌԱՅՈՒԹՅՈՒՆՆԵՐ | H261: =SUM(H262:H311) -> -527708.37
B262: 65311100/1 | C262: էլեկտրականության բաշխում | D262: ՄԱ | E262: դրամ | H262: -258772.1 | J262: 4212
B263: 65211100/1 | C263: գազի բաշխում | D263: ՄԱ | E263: դրամ | H263: -220672.5 | J263: 4212
B264: 65111100/1 | C264: խմելու ջրի բաշխում | D264: ՄԱ | E264: դրամ | H264: -12297 | J264: 4213
B265: 65111200/1 | C265: ոռոգման ջրի մատակարարման ծառայություն | D265: ՄԱ | E265: դրամ | H265: -47 | J265: 4213
B266: 79981100/1 | C266: բաժանորդագրման ծառայություններ | D266: ԳՀ | E266: հատ | H266: -4.1 | J266: 4214 | K266: տնտեսում
B267: 79981100/2 | C267: բաժանորդագրման ծառայություններ | D267: ԳՀ | E267: հատ | H267: -11.1 | J267: 4214 | K267: տնտեսում
B268: 79981100/3 | C268: բաժանորդագրման ծառայություններ | D268: ԳՀ | E268: հատ | H268: -80.1 | J268: 4214 | K268: տնտեսում
B269: 79981100/6 | C269: բաժանորդագրման ծառայություններ | D269: ԳՀ | E269: հատ | H269: -18.1 | J269: 4214 | K269: տնտեսում
B270: 79631200/10 | C270: աշխատակիցների վերապատրաստման ծառայություններ | D270: ԳՀ | E270: դրամ | F270: 6300000 | G270: -1 | H270: -6300 | J270: 4233
...

Sheet Sheet1
A1: 4239 | B1: 20939.6
A2: 4252 | B2: 4001.2
A3: 4261 | B3: 24221.5
A4: 4264 | B4: 658398.2
A5: 4267 | B5: 51113.2
A6: 4269 | B6: 58135.2
A7: 5121 | B7: 34800
A8: 5122 | B8: 30780.6
A9: 5129 | B9: 165718.2
A10: 5132 | B10: 33.2
