Workbook

Sheet Հավելված 1
C1: Հավելված N 1
C2: ՀՀ կառավարության 2024 թվականի N -Ն որոշման
A3: ՀԱՅԱՍՏԱՆԻ ՀԱՆՐԱՊԵՏՈՒԹՅԱՆ 2024 ԹՎԱԿԱՆԻ ՊԵՏԱԿԱՆ ԲՅՈՒՋԵԻ ՄԱՍԻՆ ՕՐԵՆՔԻ N 1 ՀԱՎԵԼՎԱԾԻ N 2 ԱՂՅՈՒՍԱԿՈՒՄ ԿԱՏԱՐՎՈՂ ՎԵՐԱԲԱՇԽՈՒՄԸ, ԵՎ ՀԱՅԱՍՏԱՆԻ ՀԱՆՐԱՊԵՏՈՒԹՅԱՆ ԿԱՌԱՎԱՐՈՒԹՅԱՆ 2023 ԹՎԱԿԱՆԻ ԴԵԿՏԵՄԲԵՐԻ 28-Ի N 2323-Ն ՈՐՈՇՄԱՆ N 5 ՀԱՎԵԼՎԱԾԻ N1 ԱՂՅՈՒՍԱԿՈՒՄ ԿԱՏԱՐՎՈՂ ՓՈՓՈԽՈՒԹՅՈՒՆՆԵՐԸ
D4: հազ. դրամ
A5: Ծրագրային դասիչը | C5: Բյուջետային գլխավոր կարգադրիչների, ծրագրերի և միջոցառումների անվանումները | D5: Ցուցանիշների փոփոխությունը (ավելացումները նշված են դրական նշանով, իսկ նվազեցումները՝ փակագծերում)
A6: Ծրագիր | B6: Միջոցառում | D6: Տարի
C7: ԸՆԴԱՄԵՆԸ ԾԱԽՍԵՐ | D7: =D8 -> 0
C8: ՀՀ ԲԱՐՁՐ ՏԵԽՆՈԼՈԳԻԱԿԱՆ ԱՐԴՅՈՒՆԱԲԵՐՈՒԹՅԱՆ ՆԱԽԱՐԱՐՈՒԹՅՈՒՆ | D8: =D9+D34 -> 0
A9: 1043 | C9: Ծրագրի անվանումը` | D9: =D16+D22+D28 -> 470000
C10: Բարձր տեխնոլոգիական արդյունաբերության էկոհամակարգի և շուկայի զարգացման ծրագիր
C11: Ծրագրի նպատակը`
C12: Բարձր տեխնոլոգիաների ենթակառուցվածքների բարելավում
C13: Վերջնական արդյունքի նկարագրությունը`
C14: Բարձր տեխնոլոգիաների ոլորտի աճ
A15: Ծրագրի միջոցառումներ
B16: 11004 | C16: Միջոցառման անվանումը` | D16: ='Հավելված 2'!G26 -> -330000
C17: Մասնագետների պատրաստման ԲՈՒՀ-մասնավոր հատված համագործակցություն
C18: Միջոցառման նկարագրությունը`
C19: Համալսարանների հետ համատեղ՛ մասնավոր ընկերությունների կողմից իրականացվող մասնագետների պատրաստման ծրագրերի իրագործում, մասնագետների վերապատրաստման դասընթացների կազմակերպում մասնավոր ընկերությունների ծրագրերով և մասնագետների միջոցով
C20: Միջոցառման տեսակը
C21: Ծառայությունների մատուցում
A22: Ծրագրի միջոցառումներ | B22: 11009 | C22: Միջոցառման անվանումը` | D22: ='Հավելված 2'!G27 -> -200053
C23: Ձեռներեցության տեխնոլոգիական էկոհամակարգ
C24: Միջոցառման նկարագրությունը`
C25: Ձեռնարկատիրական (գիտական և տեխնոլոգիական հիմքով) կրթության բարելավման, ստարտափերի զարգացման համար անհրաժեշտ ենթակառուցվածքների, ինչպես նաև դեպի հայաստանյան տեխնոլոգիական համակարգ գիտելիքի ներհոսքի ապահովման ծառայություններ
C26: Միջոցառման տեսակը
C27: Ծառայությունների մատուցում
B28: 11018 | C28: Միջոցառման անվանումը` | D28: ='Հավելված 2'!G41 -> 1000053
C29: Պետական աջակցություն տեղեկատվական տեխնոլոգիաների ոլորտում գործունեություն իրականացնող առևտրային կազմակերպություններին և անհատ ձեռնարկատերերին
C30: Միջոցառման նկարագրությունը`
C31: Տեղեկատվական տեխնոլոգիաների ոլորտում գործունեություն իրականացնող առևտրային կազմակերպություններին և անհատ ձեռնարկատերերին պետական աջակցության տրամադրում
C32: Միջոցառման տեսակը՝
C33: Ծառայությունների մատուցում
A34: 1220 | C34: Ծրագրի անվանումը` | D34: =D41+D47+D53 -> -470000
C35: Ռազմարդյունաբերության համալիրի զարգացում
C36: Ծրագրի նպատակը`
C37: Նոր արտադրությունների հիմնում, ներկրման և արտադրության մեխանիզմի ստեղծում
C38: Վերջնական արդյունքի նկարագրությունը`
C39: Ռազմարդյունաբերության համալիրի զարգացում
A40: Ծրագրի միջոցառումներ
B41: 11002 | C41: Միջոցառման անվանումը` | D41: ='Հավելված 2'!G57 -> -100000
C42: Տակտիկատեխնիկական առաջադրանքների կազմում
C43: Միջոցառման նկարագրությունը`
C44: Գիտատեխնիկական և փորձակոնստրուկտորական աշխատանքների տակտիկատեխնիկական առաջատրանքների կազմում, աշխատանքների իրականացման գիտատեխնիկական ուղեկցում
C45: Միջոցառման տեսակը
C46: Ծառայությունների մատուցում
B47: 11003 | C47: Միջոցառման անվանումը` | D47: ='Հավելված 2'!G65 -> -330000
C48: Փորձանմուշների արտադրություն
C49: Միջոցառման նկարագրությունը`
C50: Զորային և պետական փորձարկումների համար նախատեսված ռազմարդյունաբերական փորձանմուշների համար անհրաժեշտ հումքի, նյութերի, բաղկացուցիչների արտադրության կազմակերպում
C51: Միջոցառման տեսակը
C52: Ծառայությունների մատուցում
B53: 11004 | C53: Միջոցառման անվանումը` | D53: ='Հավելված 2'!G73 -> -40000
C54: Ռազմարդյունաբերության ոլորտի նեղ մասնագիտական կադրերի ուսուցում և վերապատրաստում
C55: Միջոցառման նկարագրությունը`
C56: Ռազմարդյունաբերության ոլորտի նեղ մասնագիտական կադրերի որակավորման բարձրացում
C57: Միջոցառման տեսակը
C58: Ծառայությունների մատուցում

Sheet Հավելված 2
F1: Հավելված 2
F2: ՀՀ կառավարության 2024 թվականի N -Ն որոշման
A3: ՀԱՅԱՍՏԱՆԻ ՀԱՆՐԱՊԵՏՈՒԹՅԱՆ ԿԱՌԱՎԱՐՈՒԹՅԱՆ 2023 ԹՎԱԿԱՆԻ ԴԵԿՏԵՄԲԵՐԻ 28-Ի N 2323-Ն ՈՐՈՇՄԱՆ N 3 ԵՎ 4 ՀԱՎԵԼՎԱԾՆԵՐՈՒՄ ԿԱՏԱՐՎՈՂ ՓՈՓՈԽՈՒԹՅՈՒՆՆԵՐԸ
G4: հազ. դրամ
A5: Գործառական դասիչը | D5: Ծրագրային դասիչը | F5: Բյուջետային ծախսերի գործառական դասակարգման բաժինների, խմբերի և դասերի, բյուջետային ծրագրերի միջոցառումների, բյուջետային հատկացումների գլխավոր կարգադրիչների անվանումները | G5: Ցուցանիշների փոփոխությունը (ավելացումները նշված են դրական նշանով, իսկ նվազեցումները՝ փակագծերում)
A7: Բաժին | B7: Խումբ | C7: Դաս | D7: Ծրագիր | E7: Միջոցա ռում | G7: Տարի
F8: ԸՆԴԱՄԵՆԸ ԾԱԽՍԵՐ | G8: =G9 -> 0
F9: ՀՀ ԲԱՐՁՐ ՏԵԽՆՈԼՈԳԻԱԿԱՆ ԱՐԴՅՈՒՆԱԲԵՐՈՒԹՅԱՆ ՆԱԽԱՐԱՐՈՒԹՅՈՒՆ | G9: =G10+G50 -> 0
A10: 01 | F10: ԸՆԴՀԱՆՈՒՐ ԲՆՈՒՅԹԻ ՀԱՆՐԱՅԻՆ ԾԱՌԱՅՈՒԹՅՈՒՆՆԵՐ | G10: =G12 -> 470000
F11: այդ թվում`
B12: 03 | F12: Ընդհանուր բնույթի ծառայություններ | G12: =G14 -> 470000
F13: այդ թվում`
C14: 02 | F14: Ծրագրման և վիճակագրական ընդհանուր ծառայություններ | G14: =G16 -> 470000
F15: այդ թվում`
D16: 1043 | F16: Բարձր տեխնոլոգիական արդյունաբերության էկոհամակարգի և շուկայի զարգացման ծրագիր | G16: =G18+G27+G41 -> 470000
F17: այդ թվում`
E18: 11004 | F18: Մասնագետների պատրաստման ԲՈՒՀ-մասնավոր հատված համագործակցություն | G18: =G20 -> -330000
F19: այդ թվում` ըստ կատարողների
F20: ՀՀ բարձր տեխնոլոգիական արդյունաբերության նախարարություն | G20: =G22 -> -330000
F21: այդ թվում` բյուջետային ծախսերի տնտեսագիտական դասակարգման հոդվածներ
F22: ԸՆԴԱՄԵՆԸ ԾԱԽՍԵՐ | G22: =G23 -> -330000
F23: ԸՆԹԱՑԻԿ ԾԱԽՍԵՐ | G23: =G24 -> -330000
F24: ԴՐԱՄԱՇՆՈՐՀՆԵՐ | G24: =G26 -> -330000
F25: Ընթացիկ դրամաշնորհներ պետական հատվածի այլ մակարդակներին
F26: - Այլ ընթացիկ դրամաշնորհներ | G26: -330000
E27: 11009 | F27: Ձեռներեցության տեխնոլոգիական էկոհամակարգ | G27: =G29 -> -200053
F28: այդ թվում` ըստ կատարողների
F29: ՀՀ բարձր տեխնոլոգիական արդյունաբերության նախարարություն | G29: =G31 -> -200053
F30: այդ թվում` բյուջետային ծախսերի տնտեսագիտական դասակարգման հոդվածներ
F31: ԸՆԴԱՄԵՆԸ ԾԱԽՍԵՐ | G31: =G32 -> -200053
F32: ԸՆԹԱՑԻԿ ԾԱԽՍԵՐ | G32: =G38+G33 -> -200053
F33: ԾԱՌԱՅՈՒԹՅՈՒՆՆԵՐԻ ԵՎ ԱՊՐԱՆՔՆԵՐԻ ՁԵՌՔԲԵՐՈՒՄ | G33: =G37+G35 -> -52180.6
F34: Ծառայողական գործուղումների գծով ծախսեր | G34: =G35 -> -710.6
F35: - Արտասահմանյան գործուղումների գծով ծախսեր | G35: -710.6
F36: Պայմանագրային այլ ծառայությունների ձեռքբերում | G36: =G37 -> -51470
F37: - Ընդհանուր բնույթի այլ ծառայություններ | G37: -51470
F38: ԴՐԱՄԱՇՆՈՐՀՆԵՐ | G38: =G39 -> -147872.4
F39: Ընթացիկ դրամաշնորհներ պետական հատվածի այլ մակարդակներին | G39: =G40 -> -147872.4
F40: - Այլ ընթացիկ դրամաշնորհներ | G40: -147872.4
E41: 11018 | F41: Պետական աջակցություն տեղեկատվական տեխնոլոգիաների ոլորտում գործունեություն իրականացնող առևտրային կազմակերպություններին և անհատ ձեռնարկատերերին | G41: =G43 -> 1000053
F42: այդ թվում` ըստ կատարողների
F43: ՀՀ բարձր տեխնոլոգիական արդյունաբերության նախարարություն | G43: =G45 -> 1000053
F44: այդ թվում` բյուջետային ծախսերի տնտեսագիտական դասակարգման հոդվածներ
F45: ԸՆԴԱՄԵՆԸ ԾԱԽՍԵՐ | G45: =G46 -> 1000053
F46: ԸՆԹԱՑԻԿ ԾԱԽՍԵՐ | G46: =G47 -> 1000053
F47: ԴՐԱՄԱՇՆՈՐՀՆԵՐ | G47: =G48 -> 1000053
F48: Ընթացիկ դրամաշնորհներ պետական հատվածի այլ մակարդակներին | G48: =G49 -> 1000053
F49: - Այլ ընթացիկ դրամաշնորհներ | G49: 1000053
A50: 02 | F50: ՊԱՇՏՊԱՆՈՒԹՅՈՒՆ | G50: =G52 -> -470000
F51: այդ թվում`
B52: 04 | F52: Հետազոտական և նախագծային աշխատանքներ պաշտպանության ոլորտում | G52: =G54 -> -470000
F53: այդ թվում`
C54: 01 | F54: Հետազոտական և նախագծային աշխատանքներ պաշտպանության ոլորտում | G54: =G56 -> -470000
F55: այդ թվում`
D56: 1220 | F56: Ռազմարդյունաբերության համալիրի զարգացում | G56: =G57+G65+G73 -> -470000
E57: 11002 | F57: Տակտիկատեխնիկական առաջադրանքների կազմում | G57: =G59 -> -100000
F58: այդ թվում` ըստ կատարողների
F59: ՀՀ բարձր տեխնոլոգիական արդյունաբերության նախարարություն | G59: =G61 -> -100000
F60: այդ թվում` բյուջետային ծախսերի տնտեսագիտական դասակարգման հոդվածներ
F61: ԸՆԴԱՄԵՆԸ ԾԱԽՍԵՐ | G61: =G62 -> -100000
F62: ԸՆԹԱՑԻԿ ԾԱԽՍԵՐ | G62: =G63 -> -100000
F63: ԱՅԼ ԾԱԽՍԵՐ | G63: =G64 -> -100000
F64: Այլ ծախսեր | G64: -100000
E65: 11003 | F65: Փորձանմուշների արտադրություն | G65: =G67 -> -330000
F66: այդ թվում` ըստ կատարողների
F67: ՀՀ բարձր տեխնոլոգիական արդյունաբերության նախարարություն | G67: =G69 -> -330000
F68: այդ թվում` բյուջետային ծախսերի տնտեսագիտական դասակարգման հոդվածներ
F69: ԸՆԴԱՄԵՆԸ ԾԱԽՍԵՐ | G69: =G70 -> -330000
F70: ԸՆԹԱՑԻԿ ԾԱԽՍԵՐ | G70: =G71 -> -330000
F71: ԱՅԼ ԾԱԽՍԵՐ | G71: =G72 -> -330000
F72: Այլ ծախսեր | G72: -330000
E73: 11004 | F73: Ռազմարդյունաբերության ոլորտի նեղ մասնագիտական կադրերի ուսուցում և վերապատրաստում | G73: =G75 -> -40000
F74: այդ թվում` ըստ կատարողների
F75: ՀՀ բարձր տեխնոլոգիական արդյունաբերության նախարարություն | G75: =G77 -> -40000
F76: այդ թվում` բյուջետային ծախսերի տնտեսագիտական դասակարգման հոդվածներ
F77: ԸՆԴԱՄԵՆԸ ԾԱԽՍԵՐ | G77: =G78 -> -40000
F78: ԸՆԹԱՑԻԿ ԾԱԽՍԵՐ | G78: =G79 -> -40000
F79: ԾԱՌԱՅՈՒԹՅՈՒՆՆԵՐԻ ԵՎ ԱՊՐԱՆՔՆԵՐԻ ՁԵՌՔԲԵՐՈՒՄ | G79: =G80 -> -40000
F80: Պայմանագրային այլ ծառայությունների ձեռքբերում | G80: =G81 -> -40000
F81: - Ընդհանուր բնույթի այլ ծառայություններ | G81: -40000

Sheet Հավելված 3
F1: Հավելված 3
F2: ՀՀ կառավարության 2024 թվականի N -Ն որոշման
A3: ՀԱՅԱՍՏԱՆԻ ՀԱՆՐԱՊԵՏՈՒԹՅԱՆ ԿԱՌԱՎԱՐՈՒԹՅԱՆ 2023 ԹՎԱԿԱՆԻ ԴԵԿՏԵՄԲԵՐԻ 28-Ի N 2323-Ն ՈՐՈՇՄԱՆ N 5 ՀԱՎԵԼՎԱԾԻ 7-ՐԴ ԱՂՅՈՒՍԱԿՈՒՄ ԿԱՏԱՐՎՈՂ ՓՈՓՈԽՈՒԹՅՈՒՆՆԵՐԸ
G4: հազ. դրամ
A5: Ծրագրային դասիչ | C5: Բյուջետային հատկացումների գլխավոր կարգադրիչների, ծրագրերի, միջոցառումների, ծախսային ուղղությունների անվանումները | F5: Միջոցառումները կատարող պետական մարմինների և դրամաշնորհ ստացող տնտեսվարող սուբյեկտների անվանումները | G5: Տարի
G6: Ցուցանիշների փոփոխությունը (ավելացումները նշված են դրական նշանով, իսկ նվազեցումները փակագծերում)
A7: Ծրագիր | B7: Միջոցառում
A8: 1 | B8: 2 | C8: 3 | F8: 4 | G8: 5
A9: ՀՀ բարձր տեխնոլոգիական արդյունաբերության նախարարություն
A10: 1043 | B10: Բարձր տեխնոլոգիական արդյունաբերության էկոհամակարգի և շուկայի զարգացման ծրագիր | G10: =SUM(G11+G13+G15) -> 522180.6
B11: 11004 | C11: Մասնագետների պատրաստման ԲՈՒՀ-մասնավոր հատված համագործակցություն | G11: =+G12 -> -330000
F12: Մրցույթով ընտրված կազմակերպություններ | G12: -330000
B13: 11009 | C13: Ձեռներեցության տեխնոլոգիական էկոհամակարգ | G13: =+G14 -> -147872.4
F14: Մրցույթով ընտրված կազմակերպություններ | G14: ='Հավելված 2'!G38 -> -147872.4
B15: 11018 | C15: Պետական աջակցություն տեղեկատվական տեխնոլոգիաների ոլորտում գործունեություն իրականացնող առևտրային կազմակերպություններին և անհատ ձեռնարկատերերին | G15: =G16 -> 1000053
F16: ՀՀ կառավարության կողմից հաստատված համապատասխան չափանիշները բավարարող շահառուներ | G16: ='Հավելված 2'!G49 -> 1000053

Sheet Հավելված 4
B1: Հավելված 4
B2: ՀՀ կառավարության 2024 թվականի N -Ն որոշման
A3: ՀԱՅԱՍՏԱՆԻ ՀԱՆՐԱՊԵՏՈՒԹՅԱՆ ԿԱՌԱՎԱՐՈՒԹՅԱՆ 2023 ԹՎԱԿԱՆԻ ԴԵԿՏԵՄԲԵՐԻ 28-Ի N 2323-Ն ՈՐՈՇՄԱՆ N 9 ՀԱՎԵԼՎԱԾԻ NN 9.16 ԱՂՅՈՒՍԱԿՈՒՄ ԿԱՏԱՐՎՈՂ ՓՈՓՈԽՈՒԹՅՈՒՆՆԵՐԸ
A4: ՀՀ բարձր տեխնոլոգիական արդյունաբերության նախարարություն
A5: ՄԱՍ 2. ՊԵՏԱԿԱՆ ՄԱՐՄՆԻ ԳԾՈՎ ԱՐԴՅՈՒՆՔԱՅԻՆ (ԿԱՏԱՐՈՂԱԿԱՆ) ՑՈՒՑԱՆԻՇՆԵՐԸ
A6: Ծրագրի դասիչը | B6: Ծրագրի անվանումը
A7: 1043 | B7: Բարձր տեխնոլոգիական արդյունաբերության էկոհամակարգի և շուկայի զարգացման ծրագիր
A8: Ծրագրի միջոցառումները
A9: Ծրագրի դասիչը` | B9: 1043 | C9: Ցուցանիշների փոփոխությունը (ավելացումները նշված են դրական նշանով իսկ նվազեցումները նշված են փակագծերում)
A10: Միջոցառման դասիչը` | B10: 11004 | C10: Տարի
A11: Միջոցառման անվանումը` | B11: Մասնագետների պատրաստման ԲՈՒՀ-մասնավոր հատված համագործակցություն
A12: Նկարագրությունը` | B12: Համալսարանների հետ համատեղ՛ մասնավոր ընկերությունների կողմից իրականացվող մասնագետների պատրաստման ծրագրերի իրագործում, մասնագետների վերապատրաստման դասընթացների կազմակերպում մասնավոր ընկերությունների ծրագրերով և մասնագետների միջոցով
A13: Միջոցառման տեսակը` | B13: Ծառայությունների մատուցում
A14: Միջոցառումն իրականացնողի անվանումը | B14: ՀՀ բարձր տեխնոլոգիական արդյունաբերության նախարարություն
A15: Արդյունքի չափորոշիչներ
A16: Ընկերությունների մշակած կրթական ծրագրերով վերապատրաստվող մասնագետների քանակը, մարդ | C16: -294
A17: Մարզերում ուսուցանվող մասնագետների քանակը, մարդ | C17: -850
A18: Հայ-հնդկական ՏՀՏ ուսումնական կենտրոնի կրթական ծրագրերով անցնող մասնակիցների քանակը, մարդ | C18: 99
A19: Հայկական վիրտուալ կամուրջ ծրագրով անցնող մասնակիցներ, մարդ | C19: -16
A20: Միջոցառման վրա կատարվող ծախսը (հազար դրամ) | C20: ='Հավելված 2'!G26 -> -330000
A21: Ծրագրի միջոցառումները
A22: Ծրագրի դասիչը` | B22: 1043 | C22: Ցուցանիշների փոփոխությունը (ավելացումները նշված են դրական նշանով իսկ նվազեցումները նշված են փակագծերում)
A23: Միջոցառման դասիչը` | B23: 11009 | C23: Տարի
A24: Միջոցառման անվանումը` | B24: Ձեռներեցության տեխնոլոգիական էկոհամակարգ
A25: Նկարագրությունը` | B25: Ձեռնարկատիրական (գիտական և տեխնոլոգիական հիմքով) կրթության բարելավման, ստարտափերի զարգացման համար անհրաժեշտ ենթակառուցվածքների, ինչպես նաև դեպի հայաստանյան տեխնոլոգիական համակարգ գիտելիքի ներհոսքի ապահովման ծառայություններ
A26: Միջոցառման տեսակը` | B26: Ծառայությունների մատուցում
A27: Միջոցառումն իրականացնողի անվանումը | B27: ՀՀ բարձր տեխնոլոգիական արդյունաբերության նախարարություն
A28: Արդյունքի չափորոշիչներ
A29: «Գաղափարի փուլ» դրամաշնորհների (մինչև 5 մլն դրամ) տեսքով ֆինանսավորում ստացող կազմակերպությունների թիվը, հատ | C29: -39
A30: «Մուտք դեպի շուկա» դրամաշնորհների (մինչև 10 մլն դրամ) տեսքով ֆինանսավորում ստացող կազմակերպությունների թիվը, հատ | C30: 9
A31: Ինկուբացիոն ծրագրի շահառուների թիմերի թիվը, հատ | C31: -78
A32: Աքսելերացիոն ծրագրի շահառու թիմերի թիվը, հատ | C32: 28
A33: Միջոցառման վրա կատարվող ծախսը (հազար դրամ) | C33: ='Հավելված 2'!G27 -> -200053
A34: Ծրագրի միջոցառումները
A35: Ծրագրի դասիչը` | B35: 1043 | C35: Ցուցանիշների փոփոխությունը (ավելացումները նշված են դրական նշանով)
A36: Միջոցառման դասիչը` | B36: 11018 | C36: Տարի
A37: Միջոցառման անվանումը` | B37: Պետական աջակցություն տեղեկատվական տեխնոլոգիաների ոլորտում գործունեություն իրականացնող առևտրային կազմակերպություններին և անհատ ձեռնարկատերերին
A38: Նկարագրությունը` | B38: Տեղեկատվական տեխնոլոգիաների ոլորտում գործունեություն իրականացնող առևտրային կազմակերպություններին և անհատ ձեռնարկատերերին պետական աջակցության տրամադրում
A39: Միջոցառման տեսակը` | B39: Ծառայությունների մատուցում
A40: Շահառուների ընտրության չափանիշները՝ | B40: Տեղեկատվական տեխնոլոգիաների ոլորտում գործունեություն իրականացնող կազմակերպություններ և անհատ ձեռնարկատերեր
A41: Արդյունքի չափորոշիչներ
A42: Տեղեկատվական տեխնոլոգիաների ոլորտում գործունեություն իրականացնող պետական աջակցություն ստացող առևտրային կազմակերպությունների և անհատ ձեռնարկատերերի թիվը, հատ | C42: -3
A43: Միջոցառման վրա կատարվող ծախսը (հազ. դրամ) | C43: ='Հավելված 2'!G41 -> 1000053
A44: Ծրագրի դասիչը | B44: Ծրագրի անվանումը
A45: 1220 | B45: Ռազմարդյունաբերության համալիրի զարգացում
A46: Ծրագրի միջոցառումները
A47: Ծրագրի դասիչը` | B47: 1220 | C47: Ցուցանիշների փոփոխությունը (նվազեցումները նշված են փակագծերում)
A48: Միջոցառման դասիչը` | B48: 11002 | C48: Տարի
A49: Միջոցառման անվանումը` | B49: Տակտիկատեխնիկական առաջադրանքների կազմում
A50: Նկարագրությունը` | B50: Գիտատեխնիկական և փորձակոնստրուկտորական աշխատանքների տակտիկատեխնիկական առաջատրանքների կազմում, աշխատանքների իրականացման գիտատեխնիկական ուղեկցում
A51: Միջոցառման տեսակը` | B51: Ծառայությունների մատուցում
A52: Միջոցառումն իրականացնողի անվանումը | B52: ՀՀ բարձր տեխնոլոգիական արդյունաբերության նախարարություն
A53: Արդյունքի չափորոշիչներ
A54: Կազմված տակտիկատեխնիկական առաջադրանքների քանակը, հատ | C54: -7
A55: Միջոցառման վրա կատարվող ծախսը (հազար դրամ) | C55: =+'Հավելված 2'!G57 -> -100000
A57: Ծրագրի միջոցառումները
A58: Ծրագրի դասիչը` | B58: 1220 | C58: Ցուցանիշների փոփոխությունը (նվազեցումները նշված են փակագծերում)
A59: Միջոցառման դասիչը` | B59: 11003 | C59: Տարի
A60: Միջոցառման անվանումը` | B60: Փորձանմուշների արտադրություն
A61: Նկարագրությունը` | B61: Զորային և պետական փորձարկումների համար նախատեսված ռազմարդյունաբերական փորձանմուշների համար անհրաժեշտ հումքի, նյութերի, բաղկացուցիչների արտադրության կազմակերպում
A62: Միջոցառման տեսակը` | B62: Ծառայությունների մատուցում
A63: Միջոցառումն իրականացնողի անվանումը | B63: Մասնագիտացված կազմակերպություն
A64: Արդյունքի չափորոշիչներ
A65: Նախագծերի շրջանակում իրականացվող փորձանմուշների արտադրություն, քանակը, հատ | C65: -6
A66: Միջոցառման վրա կատարվող ծախսը (հազար դրամ) | C66: =+'Հավելված 2'!G65 -> -330000
A67: Ծրագրի միջոցառումները
A68: Ծրագրի դասիչը` | B68: 1220
A69: Միջոցառման դասիչը` | B69: 11004
A70: Միջոցառման անվանումը` | B70: Ռազմարդյունաբերության ոլորտի նեղ մասնագիտական կադրերի ուսուցում և վերապատրաստում
A71: Նկարագրությունը` | B71: Ռազմարդյունաբերության ոլորտի նեղ մասնագիտական կադրերի որակավորման բարձրացում
A72: Միջոցառման տեսակը` | B72: Ծառայությունների մատուցում
A73: Միջոցառումն իրականացնողի անվանումը | B73: Մասնագիտացված կազմակերպություն
A74: Արդյունքի չափորոշիչներ
A75: Վերապատրաստումն ստացած աշխատակիցների քանակը, մարդ | C75: -20
A76: Միջոցառման վրա կատարվող ծախսը (հազար դրամ) | C76: ='Հավելված 2'!G73 -> -40000

Sheet Հավելված 5
B1: Հավելված 5
B2: ՀՀ կառավարության 2024 թվականի N -Ն որոշման
A3: ՀԱՅԱՍՏԱՆԻ ՀԱՆՐԱՊԵՏՈՒԹՅԱՆ ԿԱՌԱՎԱՐՈՒԹՅԱՆ 2023 ԹՎԱԿԱՆԻ ԴԵԿՏԵՄԲԵՐԻ 28-Ի N 2323-Ն ՈՐՈՇՄԱՆ N 9.1 ՀԱՎԵԼՎԱԾԻ N 9.1.16 ԱՂՅՈՒՍԱԿՈՒՄ ԿԱՏԱՐՎՈՂ ՓՈՓՈԽՈՒԹՅՈՒՆՆԵՐԸ
A4: ՀՀ բարձր տեխնոլոգիական արդյունաբերության նախարարություն
A5: ՄԱՍ 1. ՊԵՏԱԿԱՆ ՄԱՐՄՆԻ ԳԾՈՎ ԱՐԴՅՈՒՆՔԱՅԻՆ (ԿԱՏԱՐՈՂԱԿԱՆ) ՑՈՒՑԱՆԻՇՆԵՐԸ
A6: Ծրագրի դասիչը | B6: Ծրագրի անվանումը
A7: 1043 | B7: Բարձր տեխնոլոգիական արդյունաբերության էկոհամակարգի և շուկայի զարգացման ծրագիր
A8: Ծրագրի միջոցառումները
A9: Ծրագրի դասիչը` | B9: 1043 | C9: Ցուցանիշների փոփոխությունը (ավելացումները նշված են դրական նշանով իսկ նվազեցումները նշված են փակագծերում)
A10: Միջոցառման դասիչը` | B10: 11004 | C10: Տարի
A11: Միջոցառման անվանումը` | B11: Մասնագետների պատրաստման ԲՈՒՀ-մասնավոր հատված համագործակցություն
A12: Նկարագրությունը` | B12: Համալսարանների հետ համատեղ՛ մասնավոր ընկերությունների կողմից իրականացվող մասնագետների պատրաստման ծրագրերի իրագործում, մասնագետների վերապատրաստման դասընթացների կազմակերպում մասնավոր ընկերությունների ծրագրերով և մասնագետների միջոցով
A13: Միջոցառման տեսակը` | B13: Ծառայությունների մատուցում
A14: Միջոցառումն իրականացնողի անվանումը | B14: ՀՀ բարձր տեխնոլոգիական արդյունաբերության նախարարություն
A15: Արդյունքի չափորոշիչներ
A16: Ընկերությունների մշակած կրթական ծրագրերով վերապատրաստվող մասնագետների քանակը, մարդ | C16: -294
A17: Մարզերում ուսուցանվող մասնագետների քանակը, մարդ | C17: -850
A18: Հայ-հնդկական ՏՀՏ ուսումնական կենտրոնի կրթական ծրագրերով անցնող մասնակիցների քանակը, մարդ | C18: 99
A19: Հայկական վիրտուալ կամուրջ ծրագրով անցնող մասնակիցներ, մարդ | C19: -16
A20: Միջոցառման վրա կատարվող ծախսը (հազար դրամ) | C20: ='Հավելված 2'!G26 -> -330000
A21: Ծրագրի միջոցառումները
A22: Ծրագրի դասիչը` | B22: 1043 | C22: Ցուցանիշների փոփոխությունը (ավելացումները նշված են դրական նշանով իսկ նվազեցումները նշված են փակագծերում)
A23: Միջոցառման դասիչը` | B23: 11009 | C23: Տարի
A24: Միջոցառման անվանումը` | B24: Ձեռներեցության տեխնոլոգիական էկոհամակարգ
A25: Նկարագրությունը` | B25: Ձեռնարկատիրական (գիտական և տեխնոլոգիական հիմքով) կրթության բարելավման, ստարտափերի զարգացման համար անհրաժեշտ ենթակառուցվածքների, ինչպես նաև դեպի հայաստանյան տեխնոլոգիական համակարգ գիտելիքի ներհոսքի ապահովման ծառայություններ
A26: Միջոցառման տեսակը` | B26: Ծառայությունների մատուցում
A27: Միջոցառումն իրականացնողի անվանումը | B27: ՀՀ բարձր տեխնոլոգիական արդյունաբերության նախարարություն
A28: Արդյունքի չափորոշիչներ
A29: «Գաղափարի փուլ» դրամաշնորհների (մինչև 5 մլն դրամ) տեսքով ֆինանսավորում ստացող կազմակերպությունների թիվը, հատ | C29: -39
A30: «Մուտք դեպի շուկա» դրամաշնորհների (մինչև 10 մլն դրամ) տեսքով ֆինանսավորում ստացող կազմակերպությունների թիվը, հատ | C30: 9
A31: Ինկուբացիոն ծրագրի շահառուների թիմերի թիվը, հատ | C31: -78
A32: Աքսելերացիոն ծրագրի շահառու թիմերի թիվը, հատ | C32: 28
A33: Միջոցառման վրա կատարվող ծախսը (հազար դրամ) | C33: ='Հավելված 2'!G29 -> -200053
A34: Ծրագրի միջոցառումները
A35: Ծրագրի դասիչը` | B35: 1043 | C35: Ցուցանիշների փոփոխությունը (ավելացումները նշված են դրական նշանով)
A36: Միջոցառման դասիչը` | B36: 11018 | C36: Տարի
A37: Միջոցառման անվանումը` | B37: Պետական աջակցություն տեղեկատվական տեխնոլոգիաների ոլորտում գործունեություն իրականացնող առևտրային կազմակերպություններին և անհատ ձեռնարկատերերին
A38: Նկարագրությունը` | B38: Տեղեկատվական տեխնոլոգիաների ոլորտում գործունեություն իրականացնող առևտրային կազմակերպություններին և անհատ ձեռնարկատերերին պետական աջակցության տրամադրում
A39: Միջոցառման տեսակը` | B39: Ծառայությունների մատուցում
A40: Շահառուների ընտրության չափանիշները՝ | B40: Տեղեկատվական տեխնոլոգիաների ոլորտում գործունեություն իրականացնող կազմակերպություններ և անհատ ձեռնարկատերեր
A41: Արդյունքի չափորոշիչներ
A42: Տեղեկատվական տեխնոլոգիաների ոլորտում գործունեություն իրականացնող պետական աջակցություն ստացող առևտրային կազմակերպությունների և անհատ ձեռնարկատերերի թիվը, հատ | C42: -3
A43: Միջոցառման վրա կատարվող ծախսը (հազ. դրամ) | C43: ='Հավելված 2'!G41 -> 1000053
A44: Ծրագրի դասիչը | B44: Ծրագրի անվանումը
A45: 1220 | B45: Ռազմարդյունաբերության համալիրի զարգացում
A46: Ծրագրի միջոցառումները
A47: Ծրագրի դասիչը` | B47: 1220 | C47: Ցուցանիշների փոփոխությունը (նվազեցումները նշված են փակագծերում)
A48: Միջոցառման դասիչը` | B48: 11002 | C48: Տարի
A49: Միջոցառման անվանումը` | B49: Տակտիկատեխնիկական առաջադրանքների կազմում
A50: Նկարագրությունը` | B50: Գիտատեխնիկական և փորձակոնստրուկտորական աշխատանքների տակտիկատեխնիկական առաջատրանքների կազմում, աշխատանքների իրականացման գիտատեխնիկական ուղեկցում
A51: Միջոցառման տեսակը` | B51: Ծառայությունների մատուցում
A52: Միջոցառումն իրականացնողի անվանումը | B52: ՀՀ բարձր տեխնոլոգիական արդյունաբերության նախարարություն
A53: Արդյունքի չափորոշիչներ
A54: Կազմված տակտիկատեխնիկական առաջադրանքների քանակը, հատ | C54: -7
A55: Միջոցառման վրա կատարվող ծախսը (հազար դրամ) | C55: =+'Հավելված 2'!G57 -> -100000
A56: Ծրագրի միջոցառումները
A57: Ծրագրի դասիչը` | B57: 1220 | C57: Ցուցանիշների փոփոխությունը (նվազեցումները նշված են փակագծերում)
A58: Միջոցառման դասիչը` | B58: 11003 | C58: Տարի
A59: Միջոցառման անվանումը` | B59: Փորձանմուշների արտադրություն
A60: Նկարագրությունը` | B60: Զորային և պետական փորձարկումների համար նախատեսված ռազմարդյունաբերական փորձանմուշների համար անհրաժեշտ հումքի, նյութերի, բաղկացուցիչների արտադրության կազմակերպում
A61: Միջոցառման տեսակը` | B61: Ծառայությունների մատուցում
A62: Միջոցառումն իրականացնողի անվանումը | B62: Մասնագիտացված կազմակերպություն
A63: Արդյունքի չափորոշիչներ
A64: Նախագծերի շրջանակում իրականացվող փորձանմուշների արտադրություն, քանակը, հատ | C64: -6
A65: Միջոցառման վրա կատարվող ծախսը (հազար դրամ) | C65: =+'Հավելված 2'!G65 -> -330000
A66: Ծրագրի միջոցառումները
A67: Ծրագրի դասիչը` | B67: 1220
A68: Միջոցառման դասիչը` | B68: 11004
A69: Միջոցառման անվանումը` | B69: Ռազմարդյունաբերության ոլորտի նեղ մասնագիտական կադրերի ուսուցում և վերապատրաստում
A70: Նկարագրությունը` | B70: Ռազմարդյունաբերության ոլորտի նեղ մասնագիտական կադրերի որակավորման բարձրացում
A71: Միջոցառման տեսակը` | B71: Ծառայությունների մատուցում
A72: Միջոցառումն իրականացնողի անվանումը | B72: Մասնագիտացված կազմակերպություն
A73: Արդյունքի չափորոշիչներ
A74: Վերապատրաստումն ստացած աշխատակիցների քանակը, մարդ | C74: -20
A75: Միջոցառման վրա կատարվող ծախսը (հազար դրամ) | C75: ='Հավելված 2'!G73 -> -40000

Sheet Հավելված 6
B1: Հավելված 6
A2: ՀՀ կառավարության 2024 թվականի
A3: ______________ ի ___Ն որոշման
A4: ՀԱՅԱՍՏԱՆԻ ՀԱՆՐԱՊԵՏՈՒԹՅԱՆ ԿԱՌԱՎԱՐՈՒԹՅԱՆ 2023 ԹՎԱԿԱՆԻ ԴԵԿՏԵՄԲԵՐԻ 28-Ի N 2323-Ն ՈՐՈՇՄԱՆ N 10 ՀԱՎԵԼՎԱԾՈՒՄ ԿԱՏԱՐՎՈՂ ՓՈՓՈԽՈՒԹՅՈՒՆՆԵՐԸ
A5: Կոդը | B5: Անվանումը | C5: Գնման ձևը | D5: Չափման միավորը | E5: Միավորի գինը | F5: Ցուցանիշների փոփոխությունը (նվազեցումները նշված են փակագծերում)
F6: Քանակը | G6: Գումարը (հազար դրամով)
A7: ՀՀ բարձր տեխնոլոգիական արդյունաբերության նախարարություն | G7: =G8+G12 -> -91470
A8: Բաժին N 02 | B8: Խումբ N 04 | C8: Դաս N 01 | D8: Հետազոտական և նախագծային աշխատանքներ պաշտպանության ոլորտում | G8: =G9 -> -40000
A9: 1220 11004 | B9: Ռազմարդյունաբերության ոլորտի նեղ մասնագիտական կադրերի ուսուցում և վերապատրաստում | G9: =+G11 -> -40000
B10: ՄԱՍ III. ԾԱՌԱՅՈՒԹՅՈՒՆՆԵՐ | G10: =G11 -> -40000
A11: 79631200/1 | B11: աշխատակիցների վերապատրաստման ծառայություններ | C11: ԳՀ | D11: դրամ | G11: -40000
A12: Բաժին N 01 | B12: Խումբ N 03 | C12: Դաս N 02 | D12: Ծրագրման և վիճակագրական ընդհանուր ծառայություններ | G12: =G13 -> -51470
A13: 1043 11009 | B13: Ձեռներեցության տեխնոլոգիական էկոհամակարգ | G13: =+G15 -> -51470
B14: ՄԱՍ III. ԾԱՌԱՅՈՒԹՅՈՒՆՆԵՐ | G14: =G15 -> -51470
A15: 79951100/1 | B15: Միջոցառումների հետ կապված ծառայություններ | C15: ԷԱՃ | D15: դրամ | G15: -51470
