Workbook
Name a: #REF!
Name a: #REF!
Name a: #REF!
Name a: #REF!
Name AgencyCode: #REF!
Name AgencyCode: #REF!
Name AgencyCode: #REF!
Name AgencyCode: #REF!
Name AgencyCode: #REF!
Name AgencyCode: #REF!
Name AgencyCode: #REF!
Name AgencyName: #REF!
Name AgencyName: #REF!
Name AgencyName: #REF!
Name AgencyName: #REF!
Name åû: #REF!
Name åû: #REF!
Name davit: #REF!
Name davit: #REF!
Name davit: #REF!
Name Functional1: #REF!
Name Functional1: #REF!
Name Functional1: #REF!
Name Functional1: #REF!
Name ggg: #REF!
Name ggg: #REF!
Name ggg: #REF!
Name mas: #REF!
Name mass: #REF!
Name PANature: #REF!
Name PANature: #REF!
Name PANature: #REF!
Name PANature: #REF!
Name PAType: #REF!
Name PAType: #REF!
Name PAType: #REF!
Name PAType: #REF!
Name Performance2: #REF!
Name Performance2: #REF!
Name Performance2: #REF!
Name Performance2: #REF!
Name PerformanceType: #REF!
Name PerformanceType: #REF!
Name PerformanceType: #REF!
Name PerformanceType: #REF!
Name x: #REF!
Name x: #REF!
Name Հավելված: #REF!
Name Հավելված: #REF!
Name Հավելված: #REF!
Name Հավելված10: #REF!
Name Հավելված10: #REF!
Name Հավելված11: #REF!
Name Հավելված11: #REF!
Name Հավելված20: #REF!
Name Հավելված20: #REF!
Name Հավելված9: #REF!
Name Հավելված9: #REF!
Name Մաս: #REF!
Name Մաս: #REF!

Sheet Հավելված N 1
C1: Հավելված N 1
C2: ՀՀ կառավարության 2024 թվականի
C3: ______________ ի ___Ն որոշման
A6: «ՀԱՅԱUՏԱՆԻ ՀԱՆՐԱՊԵՏՈՒԹՅԱՆ 2024 ԹՎԱԿԱՆԻ ՊԵՏԱԿԱՆ ԲՅՈՒՋԵԻ ՄԱUԻՆ» ՀԱՅԱUՏԱՆԻ ՀԱՆՐԱՊԵՏՈՒԹՅԱՆ OՐԵՆՔԻ N 1 ՀԱՎԵԼՎԱԾԻ N 2 ԱՂՅՈՒՍԱԿՈՒՄ ԿԱՏԱՐՎՈՂ ՎԵՐԱԲԱՇԽՈՒՄԸ ԵՎ ՀԱՅԱՍՏԱՆԻ ՀԱՆՐԱՊԵՏՈՒԹՅԱՆ ԿԱՌԱՎԱՐՈՒԹՅԱՆ 2023 ԹՎԱԿԱՆԻ ԴԵԿՏԵՄԲԵՐԻ 28-Ի N 2323-Ն ՈՐՈՇՄԱՆ N 5 ՀԱՎԵԼՎԱԾԻ N 1 ԱՂՅՈՒՍԱԿՈՒՄ ԿԱՏԱՐՎՈՂ ՓՈՓՈԽՈՒԹՅՈՒՆՆԵՐԸ ԵՎ ԼՐԱՑՈՒՄՆԵՐԸ
D9: հազ. դրամներով
A10: Ծրագրային դասիչը | C10: Բյուջետային հատկացումների գլխավոր կարգադրիչների, ծրագրերի և միջոցառումների անվանումները | D10: Ցուցանիշների փոփոխությունը (ավելացումները նշված են դրական նշանով, իսկ նվազեցումները՝ փակագծերում)
A11: Ծրագիր | B11: Միջոցառում | D11: Տարի
A12: 1192 | C12: ԸՆԴԱՄԵՆԸ | D12: =+D14 -> 0
C13: այդ թվում
C14: ՀՀ ԿՐԹՈՒԹՅԱՆ, ԳԻՏՈՒԹՅԱՆ, ՄՇԱԿՈՒՅԹԻ ԵՎ ՍՊՈՐՏԻ ՆԱԽԱՐԱՐՈՒԹՅՈՒՆ | D14: =+D16 -> 0
A15: 1236 | C15: Ծրագրի անվանումը`
C16: Հանրակրթական և նախադպրոցական հաստատությունների հիմնում, կառուցում, բարելավում | D16: =+D23+D29+D35 -> 0
C17: Ծրագրի նպատակը`
C18: Առնվազն 300 դպրոցի և 500 մանկապարտեզի կառուցման, վերակառուցման, հիմնանորոգման ծրագրերի իրականացում ՀՀ պետական բյուջեի միջոցների շրջանակներում
C19: Վերջնական արդյունքի նկարագրությունը`
C20: Կրթական միջավայրի բարելավում
C21: Ծրագրի միջոցառումներ
B22: 32002 | C22: Միջոցառման անվանումը`
C23: Մանկապարտեզների շենքերի վերակառուցում, հիմնանորոգում | D23: =+'Հավելված N 2'!G26 -> -655794.7
C24: Միջոցառման նկարագրությունը`
C25: Նախադպրոցական կրթության հասանելիության ապահովման նպատակով՛ մանկապարտեզների շենքերի (մասնաշենքերի), վերակառուցում, հիմնանորոգում և նախագծում
C26: Միջոցառման տեսակը
C27: Այլ պետական կազմակերպությունների կողմից օգտագործվող ոչ ֆինանսական ակտիվների հետ գործառնություններ
B28: 32003 | C28: Միջոցառման անվանումը`
C29: Հանրակրթական դպրոցների նոր շենքերի կառուցում | D29: =+'Հավելված N 2'!G43 -> -21663.2
C30: Միջոցառման նկարագրությունը`
C31: ՀՀ մարզերում կրթական որակյալ ծառայությունների հասանելիության ապահովման ծրագրի շրջանակներում հանրակրթական և նախադպրոցական կրթության հասանելիության ապահովման նպատակով կրթական կենտրոնների կառուցում
C32: Միջոցառման տեսակը
C33: Այլ պետական կազմակերպությունների կողմից օգտագործվող ոչ ֆինանսական ակտիվների հետ գործառնություններ
B34: 32005 | C34: Միջոցառման անվանումը`
C35: Կրթահամալիրների կառուցում | D35: =+'Հավելված N 2'!G59 -> 677457.9
C36: Միջոցառման նկարագրությունը`
C37: ՀՀ մարզերում կրթական որակյալ ծառայությունների հասանելիության ապահովման ծրագրի շրջանակներում հանրակրթական և նախադպրոցական կրթության հասանելիության ապահովման նպատակով կրթական կենտրոնների կառուցում
C38: Միջոցառման տեսակը
C39: Այլ պետական կազմակերպությունների կողմից օգտագործվող ոչ ֆինանսական ակտիվների հետ գործառնություններ

Sheet Հավելված N 2
F1: Հավելված N 2
F2: ՀՀ կառավարության 2024 թվականի
F3: ______________ ի ___Ն որոշման
A7: ՀԱՅԱՍՏԱՆԻ ՀԱՆՐԱՊԵՏՈՒԹՅԱՆ ԿԱՌԱՎԱՐՈՒԹՅԱՆ 2023 ԹՎԱԿԱՆԻ ԴԵԿՏԵՄԲԵՐԻ 28-Ի N 2323-Ն ՈՐՈՇՄԱՆ N 3 ԵՎ N 4 ՀԱՎԵԼՎԱԾՆԵՐՈՒՄ ԿԱՏԱՐՎՈՂ ՓՈՓՈԽՈՒԹՅՈՒՆՆԵՐԸ ԵՎ ԼՐԱՑՈՒՄՆԵՐԸ
G10: հազ. դրամներով
A11: Գործառական դասիչը | D11: Ծրագրային դասիչը | F11: Բյուջետային հատկացումների գլխավոր կարգադրիչների, ծրագրերի, միջոցառումների և միջոցառումները կատարող պետական մարմինների անվանումները | G11: Ցուցանիշների փոփոխությունը (ավելացումները նշված են դրական նշանով, իսկ նվազեցումները՝ փակագծերում)
A12: Բաժին | B12: Խումբ | C12: Դաս | D12: Ծրագիր | E12: Միջոցառում | G12: Տարի
F13: ԸՆԴԱՄԵՆԸ | G13: =+G15 -> 0
F14: այդ թվում՝
F15: ՀՀ ԿՐԹՈՒԹՅԱՆ, ԳԻՏՈՒԹՅԱՆ, ՄՇԱԿՈՒՅԹԻ ԵՎ ՍՊՈՐՏԻ ՆԱԽԱՐԱՐՈՒԹՅՈՒՆ | G15: =+G16 -> 0
A16: 09 | F16: ԿՐԹՈՒԹՅՈՒՆ | G16: =+G18+G35 -> 0
F17: այդ թվում`
B18: 01 | F18: Նախադպրոցական և տարրական ընդհանուր կրթություն | G18: =+G20 -> -655794.7
F19: այդ թվում`
C20: 01 | F20: Նախադպրոցական կրթություն | G20: =+G22 -> -655794.7
F21: այդ թվում`
F22: ՀՀ կրթության, գիտության, մշակույթի և սպորտի նախարարություն | G22: =+G24 -> -655794.7
F23: այդ թվում`
D24: 1236 | E24: Հանրակրթական և նախադպրոցական հաստատությունների հիմնում, կառուցում, բարելավում | G24: =+G26 -> -655794.7
F25: այդ թվում`
E26: 32002 | F26: Մանկապարտեզների շենքերի վերակառուցում, հիմնանորոգում | G26: =+G28 -> -655794.7
F27: այդ թվում` ըստ կատարողների
F28: ՀՀ տարածքային կառավարման և ենթակառուցվածքների նախարարություն | G28: =+G30 -> -655794.7
F29: այդ թվում՝ բյուջետային ծախսերի տնտեսագիտական դասակարգման հոդվածներ
F30: ԸՆԴԱՄԵՆԸ ԾԱԽՍԵՐ | G30: =+G31 -> -655794.7
F31: ՈՉ ՖԻՆԱՆՍԱԿԱՆ ԱԿՏԻՎՆԵՐԻ ԳԾՈՎ ԾԱԽՍԵՐ | G31: =+G32 -> -655794.7
F32: ՀԻՄՆԱԿԱՆ ՄԻՋՈՑՆԵՐ | G32: =+G33 -> -655794.7
F33: ՇԵՆՔԵՐ ԵՎ ՇԻՆՈՒԹՅՈՒՆՆԵՐ | G33: =+G34 -> -655794.7
F34: - Շենքերի և շինությունների կապիտալ վերանորոգում | G34: =+'Հավելված N 4'!E13 -> -655794.7
B35: 02 | F35: Միջնակարգ ընդհանուր կրթություն | G35: =+G37 -> 655794.7
F36: այդ թվում`
F37: Հիմնական ընդհանուր կրթություն | G37: =+G39 -> 655794.7
C38: 01 | F38: այդ թվում`
F39: ՀՀ կրթության, գիտության, մշակույթի և սպորտի նախարարություն | G39: =+G41 -> 655794.7
F40: այդ թվում`
D41: 1236 | E41: Հանրակրթական և նախադպրոցական հաստատությունների հիմնում, կառուցում, բարելավում | G41: =+G43+G59 -> 655794.7
F42: այդ թվում`
E43: 32003 | F43: Հանրակրթական դպրոցների նոր շենքերի կառուցում | G43: =+G45+G52 -> -21663.2
F44: այդ թվում` ըստ կատարողների
F45: ՀՀ կրթության, գիտության, մշակույթի և սպորտի նախարարություն | G45: =+G47 -> 1741487.1
...

Sheet Հավելված N 3
F1: Հավելված N 3
F2: ՀՀ կառավարության 2024 թվականի
F3: ______________ ի ___Ն որոշման
A5: «ՀԱՅԱUՏԱՆԻ ՀԱՆՐԱՊԵՏՈՒԹՅԱՆ 2024 ԹՎԱԿԱՆԻ ՊԵՏԱԿԱՆ ԲՅՈՒՋԵԻ ՄԱUԻՆ» ՀԱՅԱUՏԱՆԻ ՀԱՆՐԱՊԵՏՈՒԹՅԱՆ OՐԵՆՔԻ N 1 ՀԱՎԵԼՎԱԾԻ N 3 ԱՂՅՈՒՍԱԿՈՒՄ ԿԱՏԱՐՎՈՂ ՓՈՓՈԽՈՒԹՅՈՒՆՆԵՐԸ ԵՎ ԼՐԱՑՈՒՄՆԵՐԸ
G8: հազ. դրամներով
A9: Ծրագրային դասիչ | C9: Բյուջետային գլխավոր կարգադրիչների, ծրագրերի, միջոցառումների, միջոցառումները կատարող պետական մարմինների և ուղղությունների անվանումները | D9: Ընդամենը | E9: Ցուցանիշների փոփոխությունը (ավելացումները նշված են դրական նշանով, իսկ նվազեցումները՝ փակագծերում)
A10: Ծրագիր | B10: Միջոցառում | E10: Կառուցման աշխատանքներ | F10: Վերակառուցման, վերանորոգման և վերականգնման աշխատանքներ | G10: Նախագծահե- տազոտական, գեոդեզիա- քարտեզագրա- կան աշխա- տանքներ | H10: Ոչ ֆինանսական այլ ակտիվների ձեռքբերում
C11: ԸՆԴԱՄԵՆԸ | D11: =SUM(E11:H11) -> 0 | E11: =+E13 -> 0 | F11: =+F13 -> 0 | G11: =+G13 -> 0 | H11: =+H13 -> 0
C12: այդ թվում՝
C13: ՀՀ ԿՐԹՈՒԹՅԱՆ, ԳԻՏՈՒԹՅԱՆ, ՄՇԱԿՈՒՅԹԻ ԵՎ ՍՊՈՐՏԻ ՆԱԽԱՐԱՐՈՒԹՅՈՒՆ | D13: =SUM(E13:H13) -> 0 | E13: =+E15+E21+E38 -> 0 | F13: =+F15+F21+F38 -> 0 | G13: =+G15+G21+G38 -> 0 | H13: =+H15+H21+H38 -> 0
C14: այդ թվում`
A15: 1236 | B15: 32002 | C15: Մանկապարտեզների շենքերի վերակառուցում, հիմնանորոգում | D15: =SUM(E15:H15) -> -655794.7 | E15: =+E17+E18 -> -655794.7 | F15: =+F17+F18 -> 0 | G15: =+G17+G18 -> 0 | H15: =+H17+H18 -> 0
C16: այդ թվում`
C17: Մանկապարտեզների շենքերի վերակառուցում, հիմնանորոգում | D17: =SUM(E17:H17) -> -509016.1 | E17: -509016.1 | F17: =+F18+F19 -> 0 | G17: =+G18+G19 -> 0 | H17: =+H18+H19 -> 0
C18: Երևան քաղաք | D18: =SUM(E18:H18) -> -146778.6 | E18: =+E19+E20 -> -146778.6 | F18: =+F19+F20 -> 0 | G18: =+G19+G20 -> 0 | H18: =+H19+H20 -> 0
C19: Աջափնյակ վարչական շրջանի հ. 47 մանկապարտեզի բակի բարեկարգում | D19: =+E19+F19+G19+H19 -> -85255.8 | E19: -85255.8
C20: Մալաթիա-Սեբաստիա վարչական շրջանի հ. 81 մանկապարտեզի բակի բարեկարգում | D20: =+E20+F20+G20+H20 -> -61522.8 | E20: -61522.8
A21: 1236 | B21: 32003 | C21: Հանրակրթական դպրոցների նոր շենքերի կառուցում | D21: =SUM(E21:H21) -> -21663.2 | E21: =+E23+E24+E26+E29+E31+E33 -> -21663.2 | F21: =+F23+F24+F26+F29+F31+F33 -> 0 | G21: =+G23+G24+G26+G29+G31+G33 -> 0 | H21: =+H23+H24+H26+H29+H31+H33 -> 0
C22: այդ թվում`
C23: Հանրակրթական դպրոցների նոր շենքերի կառուցում | D23: =SUM(E23:H23) -> -1763150.3 | E23: =-(E24+E26+E29+E31+E33+E38+E15) -> -1763150.3 | F23: 0 | G23: 0 | H23: 0
C24: ՀՀ Արագածոտնի մարզ | D24: =SUM(E24:H24) -> 212743.8 | E24: =+E25 -> 212743.8 | F24: =+F25 -> 0 | G24: =+G25 -> 0 | H24: =+H25 -> 0
C25: գ. Արագածավանի թիվ 2 միջնակարգ դպրոց | D25: =+E25+F25+G25+H25 -> 212743.8 | E25: =+'Հավելված N 8'!I18+'Հավելված N 8'!I25 -> 212743.8
C26: ՀՀ Արմավիրի մարզ | D26: =SUM(E26:H26) -> 301170.8 | E26: =+E27+E28 -> 301170.8 | F26: =+F27+F28 -> 0 | G26: =+G27+G28 -> 0 | H26: =+H27+H28 -> 0
C27: գ. Ջրառատի Թ.Խաչատրյանի անվ. միջնակարգ դպրոց | D27: =+E27+F27+G27+H27 -> 52217.2 | E27: =+'Հավելված N 8'!I19+'Հավելված N 8'!I26 -> 52217.2
C28: գ. Վանանդի միջնակարգ դպրոց | D28: =+E28+F28+G28+H28 -> 248953.6 | E28: =+'Հավելված N 8'!I20+'Հավելված N 8'!I27 -> 248953.6
C29: ՀՀ Կոտայքի մարզ | D29: =SUM(E29:H29) -> 212328.8 | E29: =+E30 -> 212328.8 | F29: =+F30 -> 0 | G29: =+G30 -> 0 | H29: =+H30 -> 0
C30: Գողթ բնակավայրի միջնակարգ դպրոց | D30: =+E30+F30+G30+H30 -> 212328.8 | E30: =+'Հավելված N 8'!I21+'Հավելված N 8'!I28 -> 212328.8
C31: ՀՀ Գեղարքունիքի մարզ | D31: =SUM(E31:H31) -> 678333.7 | E31: =+E32 -> 678333.7 | F31: =+F32 -> 0 | G31: =+G32 -> 0 | H31: =+H32 -> 0
C32: ք. Գավառի թիվ 5 հիմնական դպրոց | D32: =+E32+F32+G32+H32 -> 678333.7 | E32: =+'Հավելված N 8'!I17+'Հավելված N 8'!I24 -> 678333.7
C33: ՀՀ Սյունիքի մարզ | D33: =SUM(E33:H33) -> 336910 | E33: =+E34+E35+E36+E37 -> 336910 | F33: =+F34+F35+F36+F37 -> 0 | G33: =+G34+G35+G36+G37 -> 0 | H33: =+H34+H35+H36+H37 -> 0
C34: «գ. Խնձորեսկի միջնակարգ դպրոց» ՊՈԱԿ | D34: =+E34+F34+G34+H34 -> 336610 | E34: =+'Հավելված N 8'!I22+'Հավելված N 8'!I29 -> 336610
C35: «գ. Վերիշենի միջնակարգ դպրոց» ՊՈԱԿ | D35: =+E35+F35+G35+H35 -> 100 | E35: =+'Հավելված N 8'!I30 -> 100
C36: «ք. Գորիսի Ս. Խանզադյանի անվան թիվ 6 հիմնական դպրոց» ՊՈԱԿ | D36: =+E36+F36+G36+H36 -> 100 | E36: =+'Հավելված N 8'!I31 -> 100
C37: «գ․ Իշխանասարի միջնակարգ դպրոց» ՊՈԱԿ | D37: =+E37+F37+G37+H37 -> 100 | E37: =+'Հավելված N 8'!I32 -> 100
A38: 1236 | B38: 32005 | C38: Կրթահամալիրների կառուցում | D38: =SUM(E38:H38) -> 677457.9 | E38: =+E40+E42+E44+E48+E51+E60 -> 677457.9 | F38: =+F40+F42+F44+F48+F51+F60 -> 0 | G38: =+G40+G42+G44+G48+G51+G60 -> 0 | H38: =+H40+H42+H44+H48+H51+H60 -> 0
C39: այդ թվում`
C40: ՀՀ Արարատի մարզ | D40: =SUM(E40:H40) -> 60717.7 | E40: =+E41 -> 60717.7 | F40: =+F41 -> 0 | G40: =+G41 -> 0 | H40: =+H41 -> 0
C41: գ. Պարույր Սևակի կրթահամալիր | D41: =+E41+F41+G41+H41 -> 60717.7 | E41: =+'Հավելված N 8'!I35+'Հավելված N 8'!I43 -> 60717.7
C42: ՀՀ Գեղարքունիքի մարզ | D42: =SUM(E42:H42) -> 218391.1 | E42: =+E43 -> 218391.1 | F42: =+F43 -> 0 | G42: =+G43 -> 0 | H42: =+H43 -> 0
C43: գ. Մադինայի կրթահամալիր | D43: =+E43+F43+G43+H43 -> 218391.1 | E43: =+'Հավելված N 8'!I36+'Հավելված N 8'!I44 -> 218391.1
...

Sheet Հավելված N 4
E1: Հավելված N 4
E2: ՀՀ կառավարության 2024 թվականի
E3: ______________ ի ___Ն որոշման
B6: ՀԱՅԱՍՏԱՆԻ ՀԱՆՐԱՊԵՏՈՒԹՅԱՆ ԿԱՌԱՎԱՐՈՒԹՅԱՆ 2023 ԹՎԱԿԱՆԻ ԴԵԿՏԵՄԲԵՐԻ 28-Ի N 2323-Ն ՈՐՈՇՄԱՆ N 5 ՀԱՎԵԼՎԱԾԻ N 2 ԱՂՅՈՒՍԱԿՈՒՄ ԿԱՏԱՐՎՈՂ ՓՈՓՈԽՈՒԹՅՈՒՆՆԵՐԸ ԵՎ ԼՐԱՑՈՒՄՆԵՐԸ
E8: հազ. դրամներով
B9: Ծրագրային դասիչ | D9: Բյուջետային գլխավոր կարգադրիչների, ծրագրերի, միջոցառումների, միջոցառումները կատարող պետական մարմինների և ուղղությունների անվանումները | E9: Ցուցանիշների փոփոխությունը (ավելացումները նշված են դրական նշանով, իսկ նվազեցումները՝ փակագծերում)
B10: Ծրագիր | C10: Միջոցառում | E10: Տարի
D11: ՀՀ ԿՐԹՈՒԹՅԱՆ, ԳԻՏՈՒԹՅԱՆ, ՄՇԱԿՈՒՅԹԻ ԵՎ ՍՊՈՐՏԻ ՆԱԽԱՐԱՐՈՒԹՅՈՒՆ | E11: =+E13+E21+E40 -> 0
D12: այդ թվում՝
B13: 1236 | C13: 32002 | D13: Մանկապարտեզների շենքերի վերակառուցում, հիմնանորոգում | E13: =+E15+E20 -> -655794.7
D14: այդ թվում` ըստ կատարողների
D15: ՀՀ տարածքային կառավարման և ենթակառուցվածքների նախարարություն | E15: =+E17 -> -146778.6
D16: այդ թվում՝ ըստ ուղղությունների
D17: Երևան քաղաք | E17: =+E18+E19 -> -146778.6
D18: =+'Հավելված N 3'!C19 -> Աջափնյակ վարչական շրջանի հ. 47 մանկապարտեզի բակի բարեկարգում | E18: =+'Հավելված N 3'!D19 -> -85255.8
D19: =+'Հավելված N 3'!C20 -> Մալաթիա-Սեբաստիա վարչական շրջանի հ. 81 մանկապարտեզի բակի բարեկարգում | E19: =+'Հավելված N 3'!D20 -> -61522.8
D20: ՀՀ տարածքային կառավարման և ենթակառուցվածքների նախարարություն | E20: =+'Հավելված N 3'!D17 -> -509016.1
B21: 1236 | C21: 32003 | D21: Հանրակրթական դպրոցների նոր շենքերի կառուցում | E21: =+E23+E39 -> -21663.2
D22: այդ թվում` ըստ կատարողների
D23: ՀՀ կրթության, գիտության, մշակույթի և սպորտի նախարարություն | E23: =+E25+E27+E30+E32+E34 -> 1741487.1
D24: այդ թվում՝ ըստ ուղղությունների
D25: ՀՀ Արագածոտնի մարզ | E25: =+E26 -> 212743.8
D26: =+'Հավելված N 3'!C25 -> գ. Արագածավանի թիվ 2 միջնակարգ դպրոց | E26: =+'Հավելված N 3'!D25 -> 212743.8
D27: ՀՀ Արմավիրի մարզ | E27: =+E28+E29 -> 301170.8
D28: =+'Հավելված N 3'!C27 -> գ. Ջրառատի Թ.Խաչատրյանի անվ. միջնակարգ դպրոց | E28: =+'Հավելված N 3'!D27 -> 52217.2
D29: =+'Հավելված N 3'!C28 -> գ. Վանանդի միջնակարգ դպրոց | E29: =+'Հավելված N 3'!D28 -> 248953.6
D30: ՀՀ Կոտայքի մարզ | E30: =+E31 -> 212328.8
D31: =+'Հավելված N 3'!C30 -> Գողթ բնակավայրի միջնակարգ դպրոց | E31: =+'Հավելված N 3'!D30 -> 212328.8
D32: ՀՀ Գեղարքունիքի մարզ | E32: =+E33 -> 678333.7
D33: =+'Հավելված N 3'!C32 -> ք. Գավառի թիվ 5 հիմնական դպրոց | E33: =+'Հավելված N 3'!D32 -> 678333.7
D34: ՀՀ Սյունիքի մարզ | E34: =+E35+E36+E37+E38 -> 336910
D35: =+'Հավելված N 3'!C34 -> «գ. Խնձորեսկի միջնակարգ դպրոց» ՊՈԱԿ | E35: =+'Հավելված N 3'!D34 -> 336610
D36: =+'Հավելված N 3'!C35 -> «գ. Վերիշենի միջնակարգ դպրոց» ՊՈԱԿ | E36: =+'Հավելված N 3'!D35 -> 100
D37: =+'Հավելված N 3'!C36 -> «ք. Գորիսի Ս. Խանզադյանի անվան թիվ 6 հիմնական դպրոց» ՊՈԱԿ | E37: =+'Հավելված N 3'!D36 -> 100
D38: =+'Հավելված N 3'!C37 -> «գ․ Իշխանասարի միջնակարգ դպրոց» ՊՈԱԿ | E38: =+'Հավելված N 3'!D37 -> 100
D39: ՀՀ կառավարություն | E39: =+'Հավելված N 3'!D23 -> -1763150.3
B40: 1236 | C40: 32005 | D40: Կրթահամալիրների կառուցում | E40: =+E42 -> 677457.9
D41: այդ թվում` ըստ կատարողների
D42: ՀՀ կրթության, գիտության, մշակույթի և սպորտի նախարարություն | E42: =+E44+E46+E48+E52+E55+E64 -> 677457.9
D43: այդ թվում՝ ըստ ուղղությունների
...

Sheet Հավելված N 5
D1: Հավելված N 5
D2: ՀՀ կառավարության 2024 թվականի
D3: ______________ ի ___Ն որոշման
A5: ՀԱՅԱՍՏԱՆԻ ՀԱՆՐԱՊԵՏՈՒԹՅԱՆ ԿԱՌԱՎԱՐՈՒԹՅԱՆ 2023 ԹՎԱԿԱՆԻ ԴԵԿՏԵՄԲԵՐԻ 28-Ի N 2323-Ն ՈՐՈՇՄԱՆ N 8 ՀԱՎԵԼՎԱԾԻ ՑԱՆԿՈՒՄ ԿԱՏԱՐՎՈՂ ՓՈՓՈԽՈՒԹՅՈՒՆԸ
A9: Ծրագրային դասիչը | C9: Բյուջետային հատակացումների գլխավոր կարգադրիչներ, ծրագրերի, միջոցառումների և միջոցառումներն իրականացնող պետական մարմինների անվանումները | D9: Ցուցանիշների փոփոխությունը (նվազեցումները նշված են փակագծերում)
A10: Ծրագիր | B10: Միջոցառում
A11: 1236 | C11: Հանրակրթական և նախադպրոցական հաստատությունների հիմնում, կառուցում, բարելավում | D11: =+D12 -> -655794.7
B12: 32002 | C12: Մանկապարտեզների շենքերի վերակառուցում, հիմնանորոգում | D12: =+'Հավելված N 4'!E13 -> -655794.7

Sheet Հավելված N 6
C1: Հավելված N 6
C2: ՀՀ կառավարության 2024 թվականի
C3: ______________ ի ___Ն որոշման
B6: ՀԱՅԱՍՏԱՆԻ ՀԱՆՐԱՊԵՏՈՒԹՅԱՆ ԿԱՌԱՎԱՐՈՒԹՅԱՆ 2023 ԹՎԱԿԱՆԻ ԴԵԿՏԵՄԲԵՐԻ 28-Ի N 2323-Ն ՈՐՈՇՄԱՆ N 9 ՀԱՎԵԼՎԱԾԻ NN 9.13 ԱՂՅՈՒՍԱԿՈՒՄ ԿԱՏԱՐՎՈՂ ՓՈՓՈԽՈՒԹՅՈՒՆՆԵՐԸ ԵՎ ԼՐԱՑՈՒՄՆԵՐԸ
A8: Աղյուսակ 9․13
C9: ՀՀ կրթության, գիտության, մշակույթի և սպորտի նախարարություն
B10: ՄԱՍ 2. ՊԵՏԱԿԱՆ ՄԱՐՄՆԻ ԳԾՈՎ ԱՐԴՅՈՒՆՔԱՅԻՆ (ԿԱՏԱՐՈՂԱԿԱՆ) ՑՈՒՑԱՆԻՇՆԵՐԸ
B13: Ծրագրի դասիչը | C13: Ծրագրի անվանումը
B14: 1236 | C14: Հանրակրթական և նախադպրոցական հաստատությունների հիմնում, կառուցում, բարելավում
B16: Ծրագրի դասիչը՝ | C16: 1236 | D16: Ցուցանիշների փոփոխությունը (նվազեցումները նշված են փակագծերում)
B17: Միջոցառման դասիչը՝ | C17: 32002 | D17: Տարի
B18: Միջոցառման անվանումը` | C18: Մանկապարտեզների շենքերի վերակառուցում, հիմնանորոգում
B19: Նկարագրությունը` | C19: Նախադպրոցական կրթության հասանելիության ապահովման նպատակով՛ մանկապարտեզների շենքերի (մասնաշենքերի), վերակառուցում, հիմնանորոգում և նախագծում
B20: Միջոցառման տեսակը` | C20: Այլ պետական կազմակերպությունների կողմից օգտագործվող ոչ ֆինանսական ակտիվների հետ գործառնություններ
B21: Շահառուների ընտրության չափորոշիչները° | C21: Նախադպրոցական կրթությույն իրականացնող ուսումնական հաստատություններ
B22: Արդյունքի չափորոշիչներ
B23: Միջոցառման վրա կատարվող ծախսը (հազար դրամ) | D23: =+'Հավելված N 1'!D23 -> -655794.7
B25: Ծրագրի միջոցառումները
B26: Ծրագրի դասիչը՝ | C26: 1236 | D26: Ցուցանիշների փոփոխությունը (նվազեցումները նշված են փակագծերում)
B27: Միջոցառման դասիչը՝ | C27: 32003 | D27: Տարի
B28: Միջոցառման անվանումը` | C28: Հանրակրթական դպրոցների նոր շենքերի կառուցում
B29: Նկարագրությունը` | C29: ՀՀ մարզերում կրթական որակյալ ծառայությունների հասանելիության ապահովման ծրագրի շրջանակներում հանրակրթական և նախադպրոցական կրթության հասանելիության ապահովման նպատակով կրթական կենտրոնների կառուցում
B30: Միջոցառման տեսակը` | C30: Այլ պետական կազմակերպությունների կողմից օգտագործվող ոչ ֆինանսական ակտիվների հետ գործառնություններ
B31: Ակտիվն օգտագործող կազմակերպությունների անվանումները | C31: Հանրակրթական դպրոցներ
B32: Արդյունքի չափորոշիչներ
B33: Միջոցառման վրա կատարվող ծախսը (հազար դրամ) | D33: =+'Հավելված N 1'!D29 -> -21663.2
B35: Ծրագրի միջոցառումները
B36: Ծրագրի դասիչը՝ | C36: 1236 | D36: Ցուցանիշների փոփոխությունը (ավելացումները նշված են դրական նշանով)
B37: Միջոցառման դասիչը՝ | C37: 32005 | D37: Տարի
B38: Միջոցառման անվանումը` | C38: Կրթահամալիրների կառուցում
B39: Նկարագրությունը` | C39: ՀՀ մարզերում կրթական որակյալ ծառայությունների հասանելիության ապահովման ծրագրի շրջանակներում հանրակրթական և նախադպրոցական կրթության հասանելիության ապահովման նպատակով կրթական կենտրոնների կառուցում
B40: Միջոցառման տեսակը` | C40: Այլ պետական կազմակերպությունների կողմից օգտագործվող ոչ ֆինանսական ակտիվների հետ գործառնություններ
B41: Ակտիվն օգտագործող կազմակերպությունների անվանումները | C41: Ստեղծվող կրթահամալիրներ
B42: Արդյունքի չափորոշիչներ
B43: Միջոցառման վրա կատարվող ծախսը (հազար դրամ) | D43: =+'Հավելված N 1'!D35 -> 677457.9

Sheet Հավելված N 7
C1: Հավելված N 7
C2: ՀՀ կառավարության 2024 թվականի
C3: ______________ ի ___Ն որոշման
B6: ՀԱՅԱՍՏԱՆԻ ՀԱՆՐԱՊԵՏՈՒԹՅԱՆ ԿԱՌԱՎԱՐՈՒԹՅԱՆ 2023 ԹՎԱԿԱՆԻ ԴԵԿՏԵՄԲԵՐԻ 28-Ի N 2323-Ն ՈՐՈՇՄԱՆ N 9.1 ՀԱՎԵԼՎԱԾԻ NN 9.1.7, 9.1.13 ԵՎ 9.1.58 ԱՂՅՈՒՍԱԿՆԵՐՈՒՄ ԿԱՏԱՐՎՈՂ ՓՈՓՈԽՈՒԹՅՈՒՆՆԵՐԸ ԵՎ ԼՐԱՑՈՒՄՆԵՐԸ
A9: Աղյուսակ 9․1.7
C10: ՀՀ տարածքային կառավարման և ենթակառուցվածքների նախարարություն
B11: ՄԱՍ 1. ՊԵՏԱԿԱՆ ՄԱՐՄՆԻ ԳԾՈՎ ԱՐԴՅՈՒՆՔԱՅԻՆ (ԿԱՏԱՐՈՂԱԿԱՆ) ՑՈՒՑԱՆԻՇՆԵՐԸ
B14: Ծրագրի դասիչը | C14: Ծրագրի անվանումը
B15: 1236 | C15: Հանրակրթական և նախադպրոցական հաստատությունների հիմնում, կառուցում, բարելավում
B17: Ծրագրի դասիչը՝ | C17: 1236 | D17: Ցուցանիշների փոփոխությունը (նվազեցումները նշված են փակագծերում)
B18: Միջոցառման դասիչը՝ | C18: 32002 | D18: Տարի
B19: Միջոցառման անվանումը` | C19: Մանկապարտեզների շենքերի վերակառուցում, հիմնանորոգում
B20: Նկարագրությունը` | C20: Նախադպրոցական կրթության հասանելիության ապահովման նպատակով՛ մանկապարտեզների շենքերի (մասնաշենքերի), վերակառուցում, հիմնանորոգում և նախագծում
B21: Միջոցառման տեսակը` | C21: Այլ պետական կազմակերպությունների կողմից օգտագործվող ոչ ֆինանսական ակտիվների հետ գործառնություններ
B22: Շահառուների ընտրության չափորոշիչները° | C22: Նախադպրոցական կրթությույն իրականացնող ուսումնական հաստատություններ
B23: Արդյունքի չափորոշիչներ
B24: Միջոցառման վրա կատարվող ծախսը (հազար դրամ) | D24: =+'Հավելված N 2'!G28 -> -655794.7
A32: Աղյուսակ 9․1.13
C33: ՀՀ կրթության, գիտության, մշակույթի և սպորտի նախարարություն
B34: ՄԱՍ 1. ՊԵՏԱԿԱՆ ՄԱՐՄՆԻ ԳԾՈՎ ԱՐԴՅՈՒՆՔԱՅԻՆ (ԿԱՏԱՐՈՂԱԿԱՆ) ՑՈՒՑԱՆԻՇՆԵՐԸ
B37: Ծրագրի դասիչը | C37: Ծրագրի անվանումը
B38: 1236 | C38: Հանրակրթական և նախադպրոցական հաստատությունների հիմնում, կառուցում, բարելավում
B40: Ծրագրի միջոցառումները
B41: Ծրագրի դասիչը՝ | C41: 1236 | D41: Ցուցանիշների փոփոխությունը (ավելացումները նշված են դրական նշանով)
B42: Միջոցառման դասիչը՝ | C42: 32003 | D42: Տարի
B43: Միջոցառման անվանումը` | C43: Հանրակրթական դպրոցների նոր շենքերի կառուցում
B44: Նկարագրությունը` | C44: ՀՀ մարզերում կրթական որակյալ ծառայությունների հասանելիության ապահովման ծրագրի շրջանակներում հանրակրթական և նախադպրոցական կրթության հասանելիության ապահովման նպատակով կրթական կենտրոնների կառուցում
B45: Միջոցառման տեսակը` | C45: Այլ պետական կազմակերպությունների կողմից օգտագործվող ոչ ֆինանսական ակտիվների հետ գործառնություններ
B46: Ակտիվն օգտագործող կազմակերպությունների անվանումները | C46: Հանրակրթական դպրոցներ
B47: Արդյունքի չափորոշիչներ
B48: Միջոցառման վրա կատարվող ծախսը (հազար դրամ) | D48: =+'Հավելված N 2'!G45 -> 1741487.1
B50: Ծրագրի միջոցառումները
B51: Ծրագրի դասիչը՝ | C51: 1236 | D51: Ցուցանիշների փոփոխությունը (ավելացումները նշված են դրական նշանով)
B52: Միջոցառման դասիչը՝ | C52: 32005 | D52: Տարի
B53: Միջոցառման անվանումը` | C53: Կրթահամալիրների կառուցում
B54: Նկարագրությունը` | C54: ՀՀ մարզերում կրթական որակյալ ծառայությունների հասանելիության ապահովման ծրագրի շրջանակներում հանրակրթական և նախադպրոցական կրթության հասանելիության ապահովման նպատակով կրթական կենտրոնների կառուցում
B55: Միջոցառման տեսակը` | C55: Այլ պետական կազմակերպությունների կողմից օգտագործվող ոչ ֆինանսական ակտիվների հետ գործառնություններ
B56: Ակտիվն օգտագործող կազմակերպությունների անվանումները | C56: Ստեղծվող կրթահամալիրներ
B57: Արդյունքի չափորոշիչներ
B58: Միջոցառման վրա կատարվող ծախսը (հազար դրամ) | D58: =+'Հավելված N 2'!G61 -> 677457.9
...

Sheet Հավելված N 8
H1: Հավելված N 8
H2: ՀՀ կառավարության 2024 թվականի
H3: ______________ ի ___Ն որոշման
A6: ՀԱՅԱՍՏԱՆԻ ՀԱՆՐԱՊԵՏՈՒԹՅԱՆ ԿԱՌԱՎԱՐՈՒԹՅԱՆ 2023 ԹՎԱԿԱՆԻ ԴԵԿՏԵՄԲԵՐԻ 28-Ի N 2323-Ն N 10 ՀԱՎԵԼՎԱԾՈՒՄ ԿԱՏԱՐՎՈՂ ԵՎ ԼՐԱՑՈՒՄՆԵՐԸ
A10: Կոդը | B10: Անվանումը | E10: Գնման ձևը | F10: Չափման միավորը | G10: Միավորի գինը | H10: Ցուցանիշների փոփոխությունը (ավելացումները նշված են դրական նշանով)
H11: Քանակը | I11: Գումարը (հազար դրամ)
A12: 1 | B12: 2 | E12: 3 | F12: 4 | G12: 5 | H12: 6 | I12: 7
A13: ՀՀ կրթության, գիտության, մշակությի և սպորտի նախարարություն | I13: =+I14 -> 2418945
A14: Բաժին N 09 | B14: Խումբ N 02 | C14: Դաս N 01 | D14: Հիմնական ընդհանուր կրթություն | I14: =+I15+I33 -> 2418945
A15: 1236-32003 | B15: Հանրակրթական դպրոցների նոր շենքերի կառուցում | I15: =+I16+I23 -> 1741487.1
B16: ՄԱՍ II. ԱՇԽԱՏԱՆՔՆԵՐ | I16: =SUM(I17:I22) -> 1703597.1
A17: 45211229 | B17: շինարարական աշխատանքներ դպրոցների համար | E17: ԲՄ | F17: դրամ | G17: 666667000 | H17: 1 | I17: =+ROUND(G17*H17/1000,1) -> 666667
A18: 45211229-559 | B18: շինարարական աշխատանքներ դպրոցների համար | E18: ԲՄ | F18: դրամ | I18: 207554.9
A19: 45211229-53 | B19: շինարարական աշխատանքներ դպրոցների համար | E19: ԲՄ | F19: դրամ | I19: 50943.6
A20: 45211229-510 | B20: շինարարական աշխատանքներ դպրոցների համար | E20: ԲՄ | F20: դրամ | I20: 242881.6
A21: 45211229-509 | B21: շինարարական աշխատանքներ դպրոցների համար | E21: ԲՄ | F21: դրամ | I21: 207150
A22: 45211229-57 | B22: շինարարական աշխատանքներ դպրոցների համար | E22: ԲՄ | F22: դրամ | I22: 328400
B23: ՄԱՍ III. ԾԱՌԱՅՈՒԹՅՈՒՆՆԵՐ | I23: =SUM(I24:I32) -> 37890
A24: 71351540 | B24: տեխնիկական հսկողության ծառայություններ | E24: ԳՀ | F24: դրամ | G24: 11666700 | H24: 1 | I24: =+ROUND(G24*H24/1000,1) -> 11666.7
A25: 71351540-520 | B25: տեխնիկական հսկողության ծառայություններ | E25: ԳՀ | F25: դրամ | I25: 5188.9
A26: 71351540-521 | B26: տեխնիկական հսկողության ծառայություններ | E26: ԳՀ | F26: դրամ | I26: 1273.6
A27: 71351540-581 | B27: տեխնիկական հսկողության ծառայություններ | E27: ԳՀ | F27: դրամ | I27: 6072
A28: 71351540-532 | B28: տեխնիկական հսկողության ծառայություններ | E28: ԳՀ | F28: դրամ | I28: 5178.8
A29: 71351540-525 | B29: տեխնիկական հսկողության ծառայություններ | E29: ԳՀ | F29: դրամ | I29: 8210
A30: 71351540-629 | B30: տեխնիկական հսկողության ծառայություններ | E30: ԳՀ | F30: դրամ | I30: 100
A31: 71351540-630 | B31: տեխնիկական հսկողության ծառայություններ | E31: ԳՀ | F31: դրամ | I31: 100
A32: 71351540-631 | B32: տեխնիկական հսկողության ծառայություններ | E32: ԳՀ | F32: դրամ | I32: 100
A33: 1236-32005 | B33: Կրթահամալիրների կառուցում | I33: =+I34+I42 -> 677457.9
B34: ՄԱՍ II. ԱՇԽԱՏԱՆՔՆԵՐ | I34: =SUM(I35:I41) -> 653913.5
A35: 45211229-512 | B35: շինարարական աշխատանքներ դպրոցների համար | E35: ԲՄ | F35: դրամ | I35: 58750
A36: 45211229-562 | B36: շինարարական աշխատանքներ դպրոցների համար | E36: ԲՄ | F36: դրամ | I36: 211564.4
A37: 45211229-542 | B37: շինարարական աշխատանքներ դպրոցների համար | E37: ԲՄ | F37: դրամ | I37: 41200
A38: 45211229-515 | B38: շինարարական աշխատանքներ դպրոցների համար | E38: ԲՄ | F38: դրամ | I38: 75647.4
A39: 45211229-531 | B39: շինարարական աշխատանքներ դպրոցների համար | E39: ԲՄ | F39: դրամ | I39: 49251.7
A40: 45211229-532 | B40: շինարարական աշխատանքներ դպրոցների համար | E40: ԲՄ | F40: դրամ | I40: 158750
A41: 45211229-521 | B41: շինարարական աշխատանքներ դպրոցների համար | E41: ԲՄ | F41: դրամ | I41: 58750
B42: ՄԱՍ III. ԾԱՌԱՅՈՒԹՅՈՒՆՆԵՐ | I42: =SUM(I43:I52) -> 23544.4
A43: 71351540-504 | B43: տեխնիկական հսկողության ծառայություններ | E43: ԳՀ | F43: դրամ | I43: 1967.7
A44: 71351540-536 | B44: տեխնիկական հսկողության ծառայություններ | E44: ԳՀ | F44: դրամ | I44: 6826.7
A45: 71351540-534 | B45: տեխնիկական հսկողության ծառայություններ | E45: ԳՀ | F45: դրամ | I45: 1648
...
