Workbook
Name շախմատիստ: #REF!
Name շախմատիստ: #REF!

Sheet Հավելված N 1
D1: Հավելված N 1
D2: ՀՀ կառավարության 2024 թվականի
D3: ______________ ի ___Ն որոշման
A4: «ՀԱՅԱՍՏԱՆԻ ՀԱՆՐԱՊԵՏՈՒԹՅԱՆ 2024 ԹՎԱԿԱՆԻ ՊԵՏԱԿԱՆ ԲՅՈՒՋԵԻ ՄԱՍԻՆ» ՕՐԵՆՔԻ N 1 ՀԱՎԵԼՎԱԾԻ N 2 ԱՂՅՈՒՍԱԿՈՒՄ ԿԱՏԱՐՎՈՂ ՎԵՐԱԲԱՇԽՈՒՄԸ ԵՎ ՀԱՅԱՍՏԱՆԻ ՀԱՆՐԱՊԵՏՈՒԹՅԱՆ ԿԱՌԱՎԱՐՈՒԹՅԱՆ 2023 ԹՎԱԿԱՆԻ ԴԵԿՏԵՄԲԵՐԻ 28-Ի N 2323-Ն ՈՐՈՇՄԱՆ N 5 ՀԱՎԵԼՎԱԾԻ N 1 ԱՂՅՈՒՍԱԿՈՒՄ ԿԱՏԱՐՎՈՂ ՓՈՓՈԽՈՒԹՅՈՒՆՆԵՐԸ
D5: հազար դրամ
A6: Ծրագրային դասիչը | C6: Բյուջետային հատկացումների գլխավոր կարգադրիչների, ծրագրերի և միջոցառումների անվանումները | D6: Ցուցանիշների փոփոխություն (ավելացումները նշված են դրական նշանով, իսկ նվազեցումները՝ փակագծերում)
A7: ծրագիր | B7: միջոցառում | D7: Տարի
C8: ԸՆԴԱՄԵՆԸ | D8: =+D9 -> 0
A9: ՀՀ Կրթության, գիտության, մշակույթի և սպորտի նախարարություն | D9: =+D11 -> 0
A10: 1045 | C10: Ծրագրի անվանումը`
C11: Նախնական (արհեստագործական) և միջին մասնագիտական կրթություն | D11: =+D18+D24+D30 -> 0
C12: Ծրագրի նպատակը`
C13: Աշխատաշուկայի արդի պահանջներին համապատասխան նախնական մասնագիտական (արհեստագործական) և միջին մասնագիտական կրթության որակավորում ունեցող մասնագետների պատրաստում, կրթության մատչելիության ապահովում:
C14: Վերջնական արդյունքի նկարագրությունը`
C15: Նախնական (արհեստագործական) և միջին մասնագիտական կրթության գրավչության բարձրացում, մատչելի և մրցունակ նախնական (արհեստագործական) և միջին մասնագիտական կրթության ապահովում
A16: Ծրագրի միջոցառումներ
B17: 12003 | C17: Միջոցառման անվանումը`
C18: Նախնական մասնագիտական (արհեստագործական) կրթության գծով ուսանողական նպաստների տրամադրում | D18: -54573.5
C19: Միջոցառման նկարագրությունը`
C20: Նախնական մասնագիտական (արհեստագործական) կրթության գծով ուսանողական նպաստների տրամադրում
C21: Միջոցառման տեսակը
C22: Տրանսֆերտների տրամադրում
B23: 12009 | C23: Միջոցառման անվանումը`
C24: Մարզերում գործող նախնական և միջին մասնագիտական կրթության ուսումնական հաստատությունների սովորողների և մանկավարժական աշխատողների տրանսպորտային ծախսերի փոխհատուցում | D24: 23863
C25: Միջոցառման նկարագրությունը`
C26: Մարզերում գործող նախնական և միջին մասնագիտական կրթության ուսումնական հաստատությունների սովորողների և մանկավարժական աշխատողների տրանսպորտային ծախսերի փոխհատուցման ապահովում
C27: Միջոցառման տեսակը
C28: Տրանսֆերտների տրամադրում
B29: 12015 | C29: Միջոցառման անվանումը`
C30: Լեռնային Ղարաբաղից բռնի տեղահանված ընտանիքների Հայաստանի Հանրապետության նախնական (արհեստագործական) և միջին մասնագիտական կրթական ծրագրեր իրականացնող ուսումնական հաստատություններում սովորող ուսանողների ուսման վարձի փոխհատուցում | D30: 30710.5
C31: Միջոցառման նկարագրությունը`
C32: Մինչև 2023 թվականի սեպտեմբերի 19-ը ՀՀ նախնական (արհեստագործական) և միջին մասնագիտական կրթական ծրագրեր իրականացնող ուսումնական հաստատությունների վճարովի ուսուցման համակարգում ընդգրկված ԼՂ բռնի տեղահանված ընտանիքների սովորողի ուսման վարձի փոխհատուցում
C33: Միջոցառման տեսակը
C34: Տրանսֆերտների տրամադրում

Sheet Հավելված N 2
F1: Հավելված N 2
F2: ՀՀ կառավարության 2024 թվականի
F3: ______________ ի ___Ն որոշման
A4: ՀԱՅԱՍՏԱՆԻ ՀԱՆՐԱՊԵՏՈՒԹՅԱՆ ԿԱՌԱՎԱՐՈՒԹՅԱՆ 2023 ԹՎԱԿԱՆԻ ԴԵԿՏԵՄԲԵՐԻ 28-Ի N 2323-Ն ՈՐՈՇՄԱՆ N 3 ԵՎ N 4 ՀԱՎԵԼՎԱԾՆԵՐՈՒՄ ԿԱՏԱՐՎՈՂ ՓՈՓՈԽՈՒԹՅՈՒՆՆԵՐԸ
G5: հազար դրամ
A6: Գործառական դասիչը | D6: Ծրագրային դասիչը | F6: Բյուջետային ծախսերի գործառական դասակարգման բաժինների, խմբերի և դասերի, բյուջետային ծրագրերի միջոցառումների, բյուջետային հատկացումների գլխավոր կարգադրիչների անվանումները | G6: Ցուցանիշների փոփոխություն (ավելացումները նշված են դրական նշանով, իսկ նվազեցումները՝ փակագծերում)
A7: Բաժին | B7: Խումբ | C7: Դաս | D7: Ծրագիր | E7: Միջոցառում | G7: Տարի
F8: ԸՆԴԱՄԵՆԸ | G8: =+G10 -> 0
F9: այդ թվում`
A10: 09 | F10: ԿՐԹՈՒԹՅՈՒՆ | G10: =+G14+G29 -> 0
F11: այդ թվում`
B12: 03 | F12: Նախնական մասնագիտական (արհեստագործական) և միջին մասնագիտական կրթություն | G12: =+G14+G29 -> 0
F13: այդ թվում`
C14: 01 | F14: Նախնական մասնագիտական (արհեստագործական) կրթություն | G14: =+G20 -> -54573.5
F15: այդ թվում`
F16: ՀՀ Կրթության, գիտության, մշակույթի և սպորտի նախարարություն | G16: =G18 -> -54573.5
F17: այդ թվում`
D18: 1045 | F18: Նախնական (արհեստագործական) և միջին մասնագիտական կրթություն | G18: =+G20 -> -54573.5
F19: այդ թվում`
E20: 12003 | F20: Նախնական մասնագիտական (արհեստագործական) կրթության գծով ուսանողական նպաստների տրամադրում | G20: =+G28 -> -54573.5
F21: այդ թվում` ըստ կատարողների
F22: ՀՀ կրթության , գիտության, մշակույթի և սպորտի նախարարություն | G22: =+G24 -> -54573.5
F23: այդ թվում` բյուջետային ծախսերի տնտեսագիտական դասակարգման հոդվածներ
F24: ԸՆԴԱՄԵՆԸ ԾԱԽՍԵՐ | G24: =+G25 -> -54573.5
F25: ԸՆԹԱՑԻԿ ԾԱԽՍԵՐ | G25: =+G26 -> -54573.5
F26: ՍՈՑԻԱԼԱԿԱՆ ՆՊԱՍՏՆԵՐ ԵՎ ԿԵՆՍԱԹՈՇԱԿՆԵՐ | G26: =+G27 -> -54573.5
F27: Սոցիալական օգնության դրամական արտահայտությամբ նպաստներ (բյուջեից) | G27: =+G28 -> -54573.5
F28: - Այլ նպաստներ բյուջեից | G28: =+'Հավելված N 1'!D18 -> -54573.5
C29: 02 | F29: Միջին մասնագիտական կրթություն | G29: =+G35+G44 -> 54573.5
F30: այդ թվում`
F31: ՀՀ Կրթության, գիտության, մշակույթի և սպորտի նախարարություն | G31: =G33 -> 54573.5
F32: այդ թվում`
D33: 1045 | F33: Նախնական (արհեստագործական) և միջին մասնագիտական կրթություն | G33: =+G35+G44 -> 54573.5
F34: այդ թվում`
E35: 12009 | F35: Մարզերում գործող նախնական և միջին մասնագիտական կրթության ուսումնական հաստատությունների սովորողների և մանկավարժական աշխատողների տրանսպորտային ծախսերի փոխհատուցում | G35: =+G37 -> 23863
F36: այդ թվում` ըստ կատարողների
F37: ՀՀ կրթության , գիտության, մշակույթի և սպորտի նախարարություն | G37: =+G39 -> 23863
F38: այդ թվում` բյուջետային ծախսերի տնտեսագիտական դասակարգման հոդվածներ
F39: ԸՆԴԱՄԵՆԸ ԾԱԽՍԵՐ | G39: =+G40 -> 23863
F40: ԸՆԹԱՑԻԿ ԾԱԽՍԵՐ | G40: =G42 -> 23863
F41: ՍՈՑԻԱԼԱԿԱՆ ՆՊԱՍՏՆԵՐ ԵՎ ԿԵՆՍԱԹՈՇԱԿՆԵՐ | G41: =+G42 -> 23863
F42: Սոցիալական օգնության դրամական արտահայտությամբ նպաստներ (բյուջեից) | G42: =+G43 -> 23863
F43: - Այլ նպաստներ բյուջեից | G43: =+'Հավելված N 1'!D24 -> 23863
E44: 12015 | F44: Լեռնային Ղարաբաղից բռնի տեղահանված ընտանիքների Հայաստանի Հանրապետության նախնական (արհեստագործական) և միջին մասնագիտական կրթական ծրագրեր իրականացնող ուսումնական հաստատություններում սովորող ուսանողների ուսման վարձի փոխհատուցում | G44: =+G46 -> 30710.5
F45: այդ թվում` ըստ կատարողների
F46: ՀՀ կրթության , գիտության, մշակույթի և սպորտի նախարարություն | G46: =+G48 -> 30710.5
F47: այդ թվում` բյուջետային ծախսերի տնտեսագիտական դասակարգման հոդվածներ
F48: ԸՆԴԱՄԵՆԸ ԾԱԽՍԵՐ | G48: =G49 -> 30710.5
F49: ԸՆԹԱՑԻԿ ԾԱԽՍԵՐ | G49: =G50 -> 30710.5
F50: ՍՈՑԻԱԼԱԿԱՆ ՆՊԱՍՏՆԵՐ ԵՎ ԿԵՆՍԱԹՈՇԱԿՆԵՐ | G50: =G51 -> 30710.5
F51: Սոցիալական օգնության դրամական արտահայտությամբ նպաստներ (բյուջեից) | G51: =G52 -> 30710.5
F52: - Այլ նպաստներ բյուջեից | G52: =+'Հավելված N 1'!D30 -> 30710.5

Sheet Հավելված N 3
B1: Հավելված N 3
B2: ՀՀ կառավարության 2024 թվականի
B3: ______________ ի ___Ն որոշման
A5: ՀԱՅԱՍՏԱՆԻ ՀԱՆՐԱՊԵՏՈՒԹՅԱՆ ԿԱՌԱՎԱՐՈՒԹՅԱՆ 2023 ԹՎԱԿԱՆԻ ԴԵԿՏԵՄԲԵՐԻ 28-Ի N 2323-Ն ՈՐՈՇՄԱՆ N 9 ՀԱՎԵԼՎԱԾԻ N 9.13 ԱՂՅՈՒՍԱԿՈՒՄ ԿԱՏԱՐՎՈՂ ՓՈՓՈԽՈՒԹՅՈՒՆՆԵՐԸ
A7: ՀՀ կրթության, գիտության, մշակույթի և սպորտի նախարարություն
A8: ՄԱՍ 2. ՊԵՏԱԿԱՆ ՄԱՐՄՆԻ ԳԾՈՎ ԱՐԴՅՈՒՆՔԱՅԻՆ (ԿԱՏԱՐՈՂԱԿԱՆ) ՑՈՒՑԱՆԻՇՆԵՐԸ
A9: Ծրագրի դասիչը | B9: Ծրագրի անվանումը
A10: 1045 | B10: Նախնական (արհեստագործական) և միջին մասնագիտական կրթություն
A12: Ծրագրի միջոցառումները
A14: Ծրագրի դասիչը` | B14: 1045 | C14: Ցուցանիշների փոփոխություն (նվազեցումները նշված են փակագծերում)
A15: Միջոցառման դասիչը` | B15: 12003 | C15: Տարի
A16: Միջոցառման անվանումը` | B16: Նախնական մասնագիտական (արհեստագործական) կրթության գծով ուսանողական նպաստների տրամադրում
A17: Նկարագրությունը` | B17: Նախնական մասնագիտական (արհեստագործական) կրթության գծով ուսանողական նպաստների տրամադրում
A18: Միջոցառման տեսակը` | B18: Տրանսֆերտների տրամադրում
A19: Շահառուների ընտրության չափորոշիչները` | B19: Նախնական մասնագիտական (արհեստագործական) կրթություն ստացող ուսանողներ
A20: Արդյունքի չափորոշիչներ
A21: Ուսանողական նպաստ ստացող ուսանողների թիվը, մարդ | C21: -157
A22: Միջոցառման վրա կատարվող ծախսը (հազար դրամ) | C22: =+'Հավելված N 2'!G28 -> -54573.5
A24: Ծրագրի դասիչը` | B24: 1045 | C24: Ցուցանիշների փոփոխություն (ավելացումները նշված են դրական նշանով, իսկ նվազեցումները՝ փակագծերում)
A25: Միջոցառման դասիչը` | B25: 12009 | C25: Տարի
A26: Միջոցառման անվանումը` | B26: Մարզերում գործող նախնական և միջին մասնագիտական կրթության ուսումնական հաստատությունների սովորողների և մանկավարժական աշխատողների տրանսպորտային ծախսերի փոխհատուցում
A27: Նկարագրությունը` | B27: Մարզերում գործող նախնական և միջին մասնագիտական կրթության ուսումնական հաստատությունների սովորողների և մանկավարժական աշխատողների տրանսպորտային ծախսերի փոխհատուցման ապահովում
A28: Միջոցառման տեսակը` | B28: Տրանսֆերտների տրամադրում
A29: Շահառուների ընտրության չափորոշիչները` | B29: Շահառուների ընտրության չափորոշիչները սահմանված են ՀՀ ԿԳՄՍ նախարարի հրամանով
A30: Արդյունքի չափորոշիչներ
A31: Տրանսպորտային ծախսերի փոխհատուցում ստացող սովորողների թիվը | C31: 1693
A32: Տրանսպորտային ծախսերի փոխհատուցում ստացող մանկավարժական աշխատողների թիվը | C32: -281
A33: Միջոցառման վրա կատարվող ծախսը (հազար դրամ) | C33: =+'Հավելված N 2'!G43 -> 23863
A35: Ծրագրի դասիչը` | B35: 1045 | C35: Ցուցանիշների փոփոխություն (ավելացումները նշված են դրական նշանով)
A36: Միջոցառման դասիչը` | B36: 12015 | C36: Տարի
A37: Միջոցառման անվանումը` | B37: Լեռնային Ղարաբաղից բռնի տեղահանված ընտանիքների Հայաստանի Հանրապետության նախնական (արհեստագործական) և միջին մասնագիտական կրթական ծրագրեր իրականացնող ուսումնական հաստատություններում սովորող ուսանողների ուսման վարձի փոխհատուցում
A38: Նկարագրությունը` | B38: Մինչև 2023 թվականի սեպտեմբերի 19-ը ՀՀ նախնական (արհեստագործական) և միջին մասնագիտական կրթական ծրագրեր իրականացնող ուսումնական հաստատությունների վճարովի ուսուցման համակարգում ընդգրկված ԼՂ բռնի տեղահանված ընտանիքների սովորողի ուսման վարձի փոխհատուցում
A39: Միջոցառման տեսակը` | B39: Տրանսֆերտների տրամադրում
A40: Շահառուների ընտրության չափորոշիչը | B40: ՀՀ ՆՄԿՈՒ և ՄԿՈՒ հաստատություններում սովորող Լեռնային Ղարաբաղից բռնի տեղահանված ընտանիքների ուսանողներ
A41: Արդյունքի չափորոշիչներ
A42: Քանակական | B42: Ուսման վարձի փոխհատուցում ստացող ուսանողների թիվ, մարդ | C42: 212
A43: Միջոցառման վրա կատարվող ծախսը (հազար դրամ) | C43: =+'Հավելված N 2'!G44 -> 30710.5

Sheet Հավելված N 4
B1: Հավելված N 4
B2: ՀՀ կառավարության 2024 թվականի
B3: ______________ ի ___Ն որոշման
A5: ՀԱՅԱՍՏԱՆԻ ՀԱՆՐԱՊԵՏՈՒԹՅԱՆ ԿԱՌԱՎԱՐՈՒԹՅԱՆ 2023 ԹՎԱԿԱՆԻ ԴԵԿՏԵՄԲԵՐԻ 28-Ի N 2323-Ն ՈՐՈՇՄԱՆ N 9.1 ՀԱՎԵԼՎԱԾԻ N 9.1.13 ԱՂՅՈՒՍԱԿՈՒՄ ԿԱՏԱՐՎՈՂ ՓՈՓՈԽՈՒԹՅՈՒՆՆԵՐԸ
A7: ՀՀ կրթության, գիտության, մշակույթի և սպորտի նախարարություն
A8: ՄԱՍ 1. ՊԵՏԱԿԱՆ ՄԱՐՄՆԻ ԳԾՈՎ ԱՐԴՅՈՒՆՔԱՅԻՆ (ԿԱՏԱՐՈՂԱԿԱՆ) ՑՈՒՑԱՆԻՇՆԵՐԸ
A10: Ծրագրի դասիչը | B10: Ծրագրի անվանումը
A11: 1045 | B11: Նախնական (արհեստագործական) և միջին մասնագիտական կրթություն
A13: Ծրագրի միջոցառումները
A14: Ծրագրի դասիչը` | B14: 1045 | C14: Ցուցանիշների փոփոխություն (նվազեցումները նշված են փակագծերում)
A15: Միջոցառման դասիչը` | B15: 12003 | C15: Տարի
A16: Միջոցառման անվանումը` | B16: Նախնական մասնագիտական (արհեստագործական) կրթության գծով ուսանողական նպաստների տրամադրում
A17: Նկարագրությունը` | B17: Նախնական մասնագիտական (արհեստագործական) կրթության գծով ուսանողական նպաստների տրամադրում
A18: Միջոցառման տեսակը` | B18: Տրանսֆերտների տրամադրում
A19: Շահառուների ընտրության չափորոշիչները` | B19: Նախնական մասնագիտական (արհեստագործական) կրթություն ստացող ուսանողներ
A20: Արդյունքի չափորոշիչներ
A21: Ուսանողական նպաստ ստացող ուսանողների թիվը, մարդ | C21: -157
A22: Միջոցառման վրա կատարվող ծախսը (հազար դրամ) | C22: =+'Հավելված N 3'!C22 -> -54573.5
A24: Ծրագրի դասիչը` | B24: 1045 | C24: Ցուցանիշների փոփոխություն (ավելացումները նշված են դրական նշանով, իսկ նվազեցումները՝ փակագծերում)
A25: Միջոցառման դասիչը` | B25: 12009 | C25: Տարի
A26: Միջոցառման անվանումը` | B26: Մարզերում գործող նախնական և միջին մասնագիտական կրթության ուսումնական հաստատությունների սովորողների և մանկավարժական աշխատողների տրանսպորտային ծախսերի փոխհատուցում
A27: Նկարագրությունը` | B27: Մարզերում գործող նախնական և միջին մասնագիտական կրթության ուսումնական հաստատությունների սովորողների և մանկավարժական աշխատողների տրանսպորտային ծախսերի փոխհատուցման ապահովում
A28: Միջոցառման տեսակը` | B28: Տրանսֆերտների տրամադրում
A29: Շահառուների ընտրության չափորոշիչները` | B29: Շահառուների ընտրության չափորոշիչները սահմանված են ՀՀ ԿԳՄՍ նախարարի հրամանով
A30: Արդյունքի չափորոշիչներ
A31: Տրանսպորտային ծախսերի փոխհատուցում ստացող սովորողների թիվը | C31: 1693
A32: Տրանսպորտային ծախսերի փոխհատուցում ստացող մանկավարժական աշխատողների թիվը | C32: -281
A33: Միջոցառման վրա կատարվող ծախսը (հազար դրամ) | C33: =+'Հավելված N 3'!C33 -> 23863
A35: Ծրագրի դասիչը` | B35: 1045 | C35: Ցուցանիշների փոփոխություն (ավելացումները նշված են դրական նշանով)
A36: Միջոցառման դասիչը` | B36: 12015 | C36: Տարի
A37: Միջոցառման անվանումը` | B37: Լեռնային Ղարաբաղից բռնի տեղահանված ընտանիքների Հայաստանի Հանրապետության նախնական (արհեստագործական) և միջին մասնագիտական կրթական ծրագրեր իրականացնող ուսումնական հաստատություններում սովորող ուսանողների ուսման վարձի փոխհատուցում
A38: Նկարագրությունը` | B38: Մինչև 2023 թվականի սեպտեմբերի 19-ը ՀՀ նախնական (արհեստագործական) և միջին մասնագիտական կրթական ծրագրեր իրականացնող ուսումնական հաստատությունների վճարովի ուսուցման համակարգում ընդգրկված ԼՂ բռնի տեղահանված ընտանիքների սովորողի ուսման վարձի փոխհատուցում
A39: Միջոցառման տեսակը` | B39: Տրանսֆերտների տրամադրում
A40: Շահառուների ընտրության չափորոշիչը | B40: ՀՀ ՆՄԿՈՒ և ՄԿՈՒ հաստատություններում սովորող Լեռնային Ղարաբաղից բռնի տեղահանված ընտանիքների ուսանողներ
A41: Արդյունքի չափորոշիչներ
A42: Քանակական | B42: Ուսման վարձի փոխհատուցում ստացող ուսանողների թիվ, մարդ | C42: 212
A43: Միջոցառման վրա կատարվող ծախսը (հազար դրամ) | C43: =+'Հավելված N 3'!C43 -> 30710.5
