Workbook
Name _tab10: #REF!
Name _tab10: #REF!
Name _tab10: #REF!
Name _tab10: #REF!
Name _tab11: #REF!
Name _tab11: #REF!
Name _tab11: #REF!
Name _tab11: #REF!
Name _tab12: #REF!
Name _tab12: #REF!
Name _tab12: #REF!
Name _tab12: #REF!
Name _tab13: #REF!
Name _tab13: #REF!
Name _tab13: #REF!
Name _tab13: #REF!
Name _tab14: #REF!
Name _tab14: #REF!
Name _tab14: #REF!
Name _tab14: #REF!
Name _tab15: #REF!
Name _tab15: #REF!
Name _tab15: #REF!
Name _tab15: #REF!
Name _tab16: #REF!
Name _tab16: #REF!
Name _tab16: #REF!
Name _tab16: #REF!
Name _tab17: #REF!
Name _tab17: #REF!
Name _tab17: #REF!
Name _tab17: #REF!
Name _tab18: #REF!
Name _tab18: #REF!
Name _tab18: #REF!
Name _tab18: #REF!
Name _tab19: #REF!
Name _tab19: #REF!
Name _tab19: #REF!
Name _tab19: #REF!
Name _tab20: #REF!
Name _tab20: #REF!
Name _tab20: #REF!
Name _tab20: #REF!
Name _tab21: #REF!
Name _tab21: #REF!
Name _tab21: #REF!
Name _tab21: #REF!
Name _tab22: #REF!
Name _tab22: #REF!
Name _tab22: #REF!
Name _tab22: #REF!
Name _tab23: #REF!
Name _tab23: #REF!
Name _tab23: #REF!
Name _tab23: #REF!
Name _tab24: #REF!
Name _tab24: #REF!
Name _tab24: #REF!
Name _tab24: #REF!

Sheet 1
D1: Հավելված N 1
C2: ՀՀ կառավարության 2024 թվականի
D3: N ------------ -Ն որոշման
A4: ՀԱՅԱՍՏԱՆԻ ՀԱՆՐԱՊԵՏՈՒԹՅԱՆ 2024 ԹՎԱԿԱՆԻ ՊԵՏԱԿԱՆ ԲՅՈՒՋԵԻ ՄԱՍԻՆ» ՕՐԵՆՔԻ N 1 ՀԱՎԵԼՎԱԾԻ N 2 ԱՂՅՈՒՍԱԿՈՒՄ ԿԱՏԱՐՎՈՂ ՎԵՐԱԲԱՇԽՈՒՄԸ ԵՎ ՀԱՅԱՍՏԱՆԻ ՀԱՆՐԱՊԵՏՈՒԹՅԱՆ ԿԱՌԱՎԱՐՈՒԹՅԱՆ 2023 ԹՎԱԿԱՆԻ ԴԵԿՏԵՄԲԵՐԻ 28-Ի N 2323-Ն ՈՐՈՇՄԱՆ N 5 ՀԱՎԵԼՎԱԾԻ N 1 ԱՂՅՈՒՍԱԿՈՒՄ ԿԱՏԱՐՎՈՂ ՓՈՓՈԽՈՒԹՅՈՒՆՆԵՐԸ ԵՎ ԼՐԱՑՈՒՄՆԵՐԸ
D6: հազար դրամ
A7: Ծրագրային դասիչը | C7: Բյուջետային հատկացումների գլխավոր կարգադրիչների, ծրագրերի և միջոցառումների անվանումները | D7: Ցուցանիշների փոփոխությունը (ավելացումները նշված են դրական նշանով, իսկ նվազեցումները` փակագծերում)
A8: Ծրագիր | B8: Միջոցառում | D8: Տարի
C9: ԸՆԴԱՄԵՆԸ | D9: =D10 -> 0
C10: ՀՀ տարածքային կառավարման և ենթակառուցվածքների նախարարություն | D10: =D11+D24 -> 0
A11: 1212 | C11: Ծրագրի անվանումը` | D11: =D18 -> 12641.3
C12: Տարածքային զարգացում
C13: Ծրագրի նպատակը`
C14: Տարածքային համաչափ զարգացման խթանում
C15: Վերջնական արդյունքի նկարագրությունը`
C16: ՀՀ համայնքների կառավարման արդյունավետության բարձրացում և տնտեսական գործունեության խթանում
C17: Ծրագրի միջոցառումներ
B18: 12032 | C18: Միջոցառման անվանումը` | D18: ='2.'!G40 -> 12641.3
C19: ՀՀ Լոռու և Տավուշի մարզերում հեղեղումների պատճառով տուժած ընտանիքներին ֆինանսական աջակցություն
C20: Միջոցառման նկարագրությունը
C21: 2024 թվականի մայիսի 25-26-ը տեղացած հորդառատ անձրևներով պայմանավորված հեղեղումների պատճառով առաջացած արտակարգ իրավիճակի հետևանքով աղետի գոտում ֆիզիկական անձանց պատճառված վնասի փոխհատուցում
C22: Միջոցառման տեսակը
C23: Տրանսֆերտների տրամադրում
A24: 1079 | C24: Ծրագրի անվանումը` | D24: =D31 -> -12641.3
C25: Պետական գույքի կառավարում
C26: Ծրագրի նպատակը`
C27: Պետական գույքի համալիր և արդյունավետ կառավարման ապահովում
C28: Վերջնական արդյունքի նկարագրությունը`
C29: Պետական գույքի կառավարման արդյունավետության բարձրացում
C30: Ծրագրի միջոցառումներ
B31: 31005 | C31: Միջոցառման անվանումը` | D31: ='2.'!G23 -> -12641.3
C32: Հանրային իշխանության մարմիններին տրանսպորտային միջոցներով ապահովվածության բարելավում
C33: Միջոցառման նկարագրությունը`
C34: Հանրային իշխանության մարմինների գործունեությունն ապահովելու համար տրանսպորտային միջոցների ձեռքբերում
C35: Միջոցառման տեսակը
C36: Պետական մարմինների կողմից օգտագործվող ոչ ֆինանսական ակտիվների հետ գործառնություններ
B43: ՀԱՅԱՍՏԱՆԻ ՀԱՆՐԱՊԵՏՈՒԹՅԱՆ
B44: ՎԱՐՉԱՊԵՏԻ ԱՇԽԱՏԱԿԱԶՄԻ
C45: ՂԵԿԱՎԱՐ ՝ Ա. ՀԱՐՈՒԹՅՈՒՆՅԱՆ

Sheet 2.
G1: Հավելված N 2
F2: ՀՀ կառավարության 2024 թվականի
G3: N ------------ -Ն որոշման
A5: ՀԱՅԱՍՏԱՆԻ ՀԱՆՐԱՊԵՏՈՒԹՅԱՆ ԿԱՌԱՎԱՐՈՒԹՅԱՆ 2023 ԹՎԱԿԱՆԻ ԴԵԿՏԵՄԲԵՐԻ 28-Ի N 2323-Ն ՈՐՈՇՄԱՆ NN 3 ԵՎ 4 ՀԱՎԵԼՎԱԾՆԵՐՈՒՄ ԿԱՏԱՐՎՈՂ ՓՈՓՈԽՈՒԹՅՈՒՆՆԵՐԸ ԵՎ ԼՐԱՑՈՒՄՆԵՐԸ
G6: հազար դրամ
A7: Գործառական դասիչը | D7: Ծրագրային դասիչը | F7: Բյուջետային ծախսերի գործառական դասակարգման բաժինների, խմբերի և դասերի, բյուջետային ծրագրերի միջոցառումների, բյուջետային հատկացումների գլխավոր կարգադրիչների անվանումները | G7: Ցուցանիշների փոփոխությունը (ավելացումները նշված են դրական նշանով, իսկ նվազեցումները` փակագծերում)
A8: Բաժին | B8: Խումբ | C8: Դաս | D8: Ծրագիր | E8: Միջոցառում | G8: Տարի
F9: ԸՆԴԱՄԵՆԸ ԾԱԽՍԵՐ | G9: =G11 -> 0
F10: այդ թվում`
F11: ՀՀ տարածքային կառավարման և ենթակառուցվածքների նախարարություն | G11: =G13 -> 0
F12: այդ թվում`
A13: 01 | F13: ԸՆԴՀԱՆՈՒՐ ԲՆՈՒՅԹԻ ՀԱՆՐԱՅԻՆ ԾԱՌԱՅՈՒԹՅՈՒՆՆԵՐ | G13: =G32+G15 -> 0
F14: այդ թվում`
B15: 03 | F15: Ընդհանուր բնույթի ծառայություններ | G15: =G17 -> -12641.3
F16: այդ թվում`
C17: 03 | F17: Ընդհանուր բնույթի այլ ծառայություններ | G17: =G19 -> -12641.3
F18: այդ թվում`
D19: 1079 | F19: Պետական գույքի կառավարում | G19: =G21 -> -12641.3
F20: այդ թվում`
F21: ՀՀ տարածքային կառավարման և ենթակառուցվածքների նախարարություն | G21: =G23 -> -12641.3
F22: այդ թվում`
E23: 31005 | F23: Հանրային իշխանության մարմիններին տրանսպորտային միջոցներով ապահովվածության բարելավում | G23: =G25 -> -12641.3
F24: այդ թվում` ըստ կատարողների
F25: ՀՀ կառավարություն | G25: =G27 -> -12641.3
F26: այդ թվում` բյուջետային ծախսերի տնտեսագիտական դասակարգման հոդվածներ
F27: ԸՆԴԱՄԵՆԸ ԾԱԽՍԵՐ | G27: =G28 -> -12641.3
F28: ՈՉ ՖԻՆԱՆՍԱԿԱՆ ԱԿՏԻՎՆԵՐԻ ԳԾՈՎ ԾԱԽՍԵՐ | G28: =G29 -> -12641.3
F29: ՀԻՄՆԱԿԱՆ ՄԻՋՈՑՆԵՐ | G29: =G30 -> -12641.3
F30: ՄԵՔԵՆԱՆԵՐ ԵՎ ՍԱՐՔԱՎՈՐՈՒՄՆԵՐ | G30: =-G40 -> -12641.3
F31: - Տրանսպորտային սարքավորումներ | G31: =G30 -> -12641.3
B32: 08 | F32: Կառավարության տարբեր մակարդակների միջև իրականացվող ընդհանուր բնույթի տրանսֆերտներ | G32: =G34 -> 12641.3
F33: այդ թվում`
C34: 01 | F34: Կառավարության տարբեր մակարդակների միջև իրականացվող ընդհանուր բնույթի տրանսֆերտներ | G34: =G36 -> 12641.3
F35: այդ թվում`
F36: ՀՀ տարածքային կառավարման և ենթակառուցվածքների նախարարություն | G36: =G38 -> 12641.3
F37: այդ թվում`
D38: 1212 | F38: Տարածքային զարգացում | G38: =G40 -> 12641.3
F39: այդ թվում
E40: 12032 | F40: ՀՀ Լոռու և Տավուշի մարզերում հեղեղումների պատճառով տուժած ընտանիքներին ֆինանսական աջակցություն | G40: =+G42+G49 -> 12641.3
F41: այդ թվում` ըստ կատարողների
F42: ՀՀ Լոռու մարզպետի աշխատակազմ | G42: =G44 -> 10666.3
F43: այդ թվում` բյուջետային ծախսերի տնտեսագիտական դասակարգման հոդվածներ
F44: ԸՆԴԱՄԵՆԸ ԾԱԽՍԵՐ | G44: =G45 -> 10666.3
F45: ԸՆԹԱՑԻԿ ԾԱԽՍԵՐ | G45: =G46 -> 10666.3
F46: ՍՈՑԻԱԼԱԿԱՆ ՆՊԱՍՏՆԵՐ ԵՎ ԿԵՆՍԱԹՈՇԱԿՆԵՐ | G46: =G47 -> 10666.3
F47: Սոցիալական օգնության դրամական արտահայտությամբ նպաստներ (բյուջեից) | G47: =G48 -> 10666.3
F48: - Այլ նպաստներ բյուջեից | G48: 10666.3
F49: ՀՀ Տավուշի մարզպետի աշխատակազմ | G49: =G51 -> 1975
F50: այդ թվում` բյուջետային ծախսերի տնտեսագիտական դասակարգման հոդվածներ
F51: ԸՆԴԱՄԵՆԸ ԾԱԽՍԵՐ | G51: =G52 -> 1975
F52: ԸՆԹԱՑԻԿ ԾԱԽՍԵՐ | G52: =G53 -> 1975
F53: ՍՈՑԻԱԼԱԿԱՆ ՆՊԱՍՏՆԵՐ ԵՎ ԿԵՆՍԱԹՈՇԱԿՆԵՐ | G53: =G54 -> 1975
F54: Սոցիալական օգնության դրամական արտահայտությամբ նպաստներ (բյուջեից) | G54: =G55 -> 1975
F55: - Այլ նպաստներ բյուջեից | G55: 1975
B58: ՀԱՅԱՍՏԱՆԻ ՀԱՆՐԱՊԵՏՈՒԹՅԱՆ
B59: ՎԱՐՉԱՊԵՏԻ ԱՇԽԱՏԱԿԱԶՄԻ ՂԵԿԱՎԱՐ
E60: Ա. ՀԱՐՈՒԹՅՈՒՆՅԱՆ
E77: ՀՀ ՎԱՐՉԱՊԵՏԻ ԱՇԽԱՏԱԿԱԶՄԻ
F78: ՂԵԿԱՎԱՐ ՝ Ա. ՀԱՐՈՒԹՅՈՒՆՅԱՆ

Sheet 3
A1: Հավելված N 3
A2: ՀՀ կառավարության 2024 թվականի
A3: -ի N -Ն որոշման
A5: «ՀԱՅԱՍՏԱՆԻ ՀԱՆՐԱՊԵՏՈՒԹՅԱՆ 2024 ԹՎԱԿԱՆԻ ՊԵՏԱԿԱՆ ԲՅՈՒՋԵԻ ՄԱՍԻՆ» ՀԱՅԱՍՏԱՆԻ ՀԱՆՐԱՊԵՏՈՒԹՅԱՆ ՕՐԵՆՔԻ N 1 ՀԱՎԵԼՎԱԾԻ N 3 ԱՂՅՈՒՍԱԿՈՒՄ ԿԱՏԱՐՎՈՂ ՓՈՓՈԽՈՒԹՅՈՒՆԸ
G6: (հազ. դրամ)
A7: Ծրագրային դասիչ | C7: Բյուջետային գլխավոր կարգադրիչների, ծրագրերի, միջոցառումների և ուղղությունների անվանումները | D7: Ցուցանիշների փոփոխությունը (նվազեցումները նշված են փակագծերում)
D8: Ընդամենը, | E8: այդ թվում՝
A9: Ծրագիր | B9: Միջոցառում | E9: Կառուցման աշխատանքներ | F9: Վերակառուցման, վերանորոգման և վերականգնման աշխատանքներ | G9: Նախագծահե- տազոտական, գեոդեզիա- քարտեզագրա- կան աշխա- տանքներ | H9: Ոչ ֆինանսական այլ ակտիվների ձեռքբերում
C10: ԸՆԴԱՄԵՆԸ | D10: =SUM(E10:H10) -> -12641.3 | E10: =E12 -> 0 | F10: =F12 -> 0 | G10: =G12 -> 0 | H10: =H12 -> -12641.3
C11: այդ թվում՝
C12: ՀՀ ՏԱՐԱԾՔԱՅԻՆ ԿԱՌԱՎԱՐՄԱՆ ԵՎ ԵՆԹԱԿԱՌՈՒՑՎԱԾՔՆԵՐԻ ՆԱԽԱՐԱՐՈՒԹՅՈՒՆ | D12: =SUM(E12:H12) -> -12641.3 | E12: =E14 -> 0 | F12: =F14 -> 0 | G12: =+G14 -> 0 | H12: =H14 -> -12641.3
C13: այդ թվում`
A14: 1079 | B14: 31005 | C14: Հանրային իշխանության մարմիններին տրանսպորտային միջոցներով ապահովվածության բարելավում | D14: =E14+F14+G14+H14 -> -12641.3 | E14: 0 | F14: 0 | G14: 0 | H14: ='4'!E13 -> -12641.3
D18: ՀԱՅԱՍՏԱՆԻ ՀԱՆՐԱՊԵՏՈՒԹՅԱՆ
D19: ՎԱՐՉԱՊԵՏԻ ԱՇԽԱՏԱԿԱԶՄԻ ՂԵԿԱՎԱՐ
G20: Ա. ՀԱՐՈՒԹՅՈՒՆՅԱՆ

Sheet 4
B1: Հավելված N 4
B2: ՀՀ կառավարության 2024 թվականի
B3: -ի N -Ն որոշման
B5: ՀԱՅԱՍՏԱՆԻ ՀԱՆՐԱՊԵՏՈՒԹՅԱՆ ԿԱՌԱՎԱՐՈՒԹՅԱՆ 2023 ԹՎԱԿԱՆԻ ԴԵԿՏԵՄԲԵՐԻ 28-Ի N 2323-Ն ՈՐՈՇՄԱՆ N 5 ՀԱՎԵԼՎԱԾԻ N 2 ԱՂՅՈՒՍԱԿՈՒՄ ԿԱՏԱՐՎՈՂ ՓՈՓՈԽՈՒԹՅՈՒՆԸ
E6: (հազ. դրամ)
B7: Ծրագրային դասիչ | D7: Բյուջետային գլխավոր կարգադրիչների, ծրագրերի, միջոցառումների, միջոցառումները կատարող պետական մարմինների և ուղղությունների անվանումները | E7: Ցուցանիշների փոփոխությունը (նվազեցումները նշված են փակագծերում)
B8: Ծրագիր | C8: Միջոցառում | E8: Տարի
D9: ԸՆԴԱՄԵՆԸ | E9: =E11 -> -12641.3
D10: այդ թվում՝
D11: ՀՀ ՏԱՐԱԾՔԱՅԻՆ ԿԱՌԱՎԱՐՄԱՆ ԵՎ ԵՆԹԱԿԱՌՈՒՑՎԱԾՔՆԵՐԻ ՆԱԽԱՐԱՐՈՒԹՅՈՒՆ | E11: =E13 -> -12641.3
D12: այդ թվում`
B13: 1079 | C13: 31005 | D13: Հանրային իշխանության մարմիններին տրանսպորտային միջոցներով ապահովվածության բարելավում | E13: =E15 -> -12641.3
D14: այդ թվում` ըստ կատարողների
D15: ՀՀ կառավարություն | E15: ='2.'!G23 -> -12641.3

Sheet 5
C1: Հավելված N 5
C2: ՀՀ կառավարության 2024 թվականի
C3: N ------------ -Ն որոշման
A5: ՀԱՅԱՍՏԱՆԻ ՀԱՆՐԱՊԵՏՈՒԹՅԱՆ ԿԱՌԱՎԱՐՈՒԹՅԱՆ 2023 ԹՎԱԿԱՆԻ ԴԵԿՏԵՄԲԵՐԻ 28-Ի N 2323-Ն ՈՐՈՇՄԱՆ N 9 ՀԱՎԵԼՎԱԾԻ N 9.7 ԱՂՅՈՒՍԱԿՆԵՐՈՒՄ ԿԱՏԱՐՎՈՂ ՓՈՓՈԽՈՒԹՅՈՒՆՆԵՐԸ ԵՎ ԼՐԱՑՈՒՄՆԵՐԸ
C6: Աղյուսակ 9.7
A8: ՀՀ ՏԱՐԱԾՔԱՅԻՆ ԿԱՌԱՎԱՐՄԱՆ ԵՎ ԵՆԹԱԿԱՌՈՒՑՎԱԾՔՆԵՐԻ ՆԱԽԱՐԱՐՈՒԹՅՈՒՆ
A9: ՄԱՍ 2. ՊԵՏԱԿԱՆ ՄԱՐՄՆԻ ԳԾՈՎ ԱՐԴՅՈՒՆՔԱՅԻՆ (ԿԱՏԱՐՈՂԱԿԱՆ) ՑՈՒՑԱՆԻՇՆԵՐԸ
A11: Ծրագրի դասիչը | B11: Ծրագրի անվանումը
A12: 1212 | B12: Տարածքային զարգացում
A14: Ծրագրի միջոցառումները
A15: Ծրագրի դասիչը` | B15: 1212 | C15: Ցուցանիշների փոփոխությունը (ավելացումները նշված են դրական նշանով)
A16: Միջոցառման դասիչը` | B16: 12032 | C16: Տարի
A17: Միջոցառման անվանումը | B17: ՀՀ Լոռու և Տավուշի մարզերում հեղեղումների պատճառով տուժած ընտանիքներին ֆինանսական աջակցություն
A18: Նկարագրությունը | B18: 2024 թվականի մայիսի 25-26-ը տեղացած հորդառատ անձրևներով պայմանավորված հեղեղումների պատճառով առաջացած արտակարգ իրավիճակի հետևանքով աղետի գոտում ֆիզիկական անձանց պատճառված վնասի փոխհատուցում
A19: Միջոցառման տեսակը | B19: Տրանսֆերտների տրամադրում
A20: Շահառուների ընտրության չափանիշները | B20: Համաձայն Հայաստանի Հանրապետության Լոռու և Տավուշի մարզերում 2024 թվականի մայիսի 25-26-ը տեղացած հորդառատ անձրևներով պայմանավորված հեղեղումների պատճառով առաջացած արտակարգ իրավիճակների հետևանքով աղետի գոտում ֆիզիկական անձանց պատճառված վնասի փոխհատուցման կարգի
A21: Արդյունքի չափորոշիչներ
A22: Վնասված տրանսպորտային միջոցների քանակը, հատ | C22: 9
A23: Միջոցառման վրա կատարվող ծախսը (հազար դրամ) | C23: ='2.'!G40 -> 12641.3
A26: Ծրագրի դասիչը | B26: Ծրագրի անվանումը
A27: 1079 | B27: Պետական գույքի կառավարում
A29: Ծրագրի միջոցառումները
A30: Ծրագրի դասիչը` | B30: 1079 | C30: Ցուցանիշների փոփոխությունը (նվազեցումները նշված են փակագծերում)
A31: Միջոցառման դասիչը` | B31: 31005 | C31: Տարի
A32: Միջոցառման անվանումը` | B32: Հանրային իշխանության մարմիններին տրանսպորտային միջոցներով ապահովվածության բարելավում
A33: Նկարագրությունը` | B33: Հանրային իշխանության մարմինների գործունեությունն ապահովելու համար տրանսպորտային միջոցների ձեռքբերում
A34: Միջոցառման տեսակը` | B34: Պետական մարմինների կողմից օգտագործվող ոչ ֆինանսական ակտիվների հետ գործառնություններ
A35: Ակտիվն օգտագործող կազմակերպության անվանումը` | B35: Հանրային իշխանության մարմիններ
A36: Արդյունքի չափորոշիչներ
A37: Միջոցառման վրա կատարվող ծախսը (հազար դրամ) | C37: ='2.'!G23 -> -12641.3
A40: ՀԱՅԱՍՏԱՆԻ ՀԱՆՐԱՊԵՏՈՒԹՅԱՆ
A41: ՎԱՐՉԱՊԵՏԻ ԱՇԽԱՏԱԿԱԶՄԻ
A42: ՂԵԿԱՎԱՐ ՝ Ա. ՀԱՐՈՒԹՅՈՒՆՅԱՆ

Sheet 6
C1: Հավելված N 6
C2: ՀՀ կառավարության 2024 թվականի
C3: N ------------ -Ն որոշման
A5: ՀԱՅԱՍՏԱՆԻ ՀԱՆՐԱՊԵՏՈՒԹՅԱՆ ԿԱՌԱՎԱՐՈՒԹՅԱՆ 2023 ԹՎԱԿԱՆԻ ԴԵԿՏԵՄԲԵՐԻ 28-Ի N 2323-Ն ՈՐՈՇՄԱՆ N 9.1 ՀԱՎԵԼՎԱԾԻ NN 9.1.52, 9.1.57 ԵՎ 9.1.58 ԱՂՅՈՒՍԱԿՆԵՐՈՒՄ ԿԱՏԱՐՎՈՂ ՓՈՓՈԽՈՒԹՅՈՒՆՆԵՐԸ ԵՎ ԼՐԱՑՈՒՄՆԵՐԸ
C6: Աղյուսակ 9.1.52
A7: ՀՀ Լոռու մարզպետի աշխատակազմ
A8: ՄԱՍ 1. ՊԵՏԱԿԱՆ ՄԱՐՄՆԻ ԳԾՈՎ ԱՐԴՅՈՒՆՔԱՅԻՆ (ԿԱՏԱՐՈՂԱԿԱՆ) ՑՈՒՑԱՆԻՇՆԵՐԸ
A10: Ծրագրի դասիչը | B10: Ծրագրի անվանումը
A11: 1212 | B11: Տարածքային զարգացում
A13: Ծրագրի միջոցառումները
A14: Ծրագրի դասիչը` | B14: 1212 | C14: Ցուցանիշների փոփոխությունը (ավելացումները նշված են դրական նշանով)
A15: Միջոցառման դասիչը` | B15: 12032 | C15: Տարի
A16: Միջոցառման անվանումը | B16: ՀՀ Լոռու և Տավուշի մարզերում հեղեղումների պատճառով տուժած ընտանիքներին ֆինանսական աջակցություն
A17: Նկարագրությունը | B17: 2024 թվականի մայիսի 25-26-ը տեղացած հորդառատ անձրևներով պայմանավորված հեղեղումների պատճառով առաջացած արտակարգ իրավիճակի հետևանքով աղետի գոտում ֆիզիկական անձանց պատճառված վնասի փոխհատուցում
A18: Միջոցառման տեսակը | B18: Տրանսֆերտների տրամադրում
A19: Շահառուների ընտրության չափանիշները | B19: Համաձայն Հայաստանի Հանրապետության Լոռու և Տավուշի մարզերում 2024 թվականի մայիսի 25-26-ը տեղացած հորդառատ անձրևներով պայմանավորված հեղեղումների պատճառով առաջացած արտակարգ իրավիճակների հետևանքով աղետի գոտում ֆիզիկական անձանց պատճառված վնասի փոխհատուցման կարգի
A20: Արդյունքի չափորոշիչներ
A21: վնասված տրանսպորտային միջոցների քանակը, հատ | C21: 7
A22: Միջոցառման վրա կատարվող ծախսը (հազար դրամ) | C22: ='2.'!G42 -> 10666.3
C24: Աղյուսակ 9.1.57
A25: ՀՀ Տավուշի մարզպետի աշխատակազմ
A26: ՄԱՍ 1. ՊԵՏԱԿԱՆ ՄԱՐՄՆԻ ԳԾՈՎ ԱՐԴՅՈՒՆՔԱՅԻՆ (ԿԱՏԱՐՈՂԱԿԱՆ) ՑՈՒՑԱՆԻՇՆԵՐԸ
A28: Ծրագրի դասիչը | B28: Ծրագրի անվանումը
A29: 1212 | B29: Տարածքային զարգացում
A31: Ծրագրի միջոցառումները
A32: Ծրագրի դասիչը` | B32: 1212 | C32: Ցուցանիշների փոփոխությունը (ավելացումները նշված են դրական նշանով)
A33: Միջոցառման դասիչը` | B33: 12032 | C33: Տարի
A34: Միջոցառման անվանումը | B34: ՀՀ Լոռու և Տավուշի մարզերում հեղեղումների պատճառով տուժած ընտանիքներին ֆինանսական աջակցություն
A35: Նկարագրությունը | B35: 2024 թվականի մայիսի 25-26-ը տեղացած հորդառատ անձրևներով պայմանավորված հեղեղումների պատճառով առաջացած արտակարգ իրավիճակի հետևանքով աղետի գոտում ֆիզիկական անձանց պատճառված վնասի փոխհատուցում
A36: Միջոցառման տեսակը | B36: Տրանսֆերտների տրամադրում
A37: Շահառուների ընտրության չափանիշները | B37: Համաձայն Հայաստանի Հանրապետության Լոռու և Տավուշի մարզերում 2024 թվականի մայիսի 25-26-ը տեղացած հորդառատ անձրևներով պայմանավորված հեղեղումների պատճառով առաջացած արտակարգ իրավիճակների հետևանքով աղետի գոտում ֆիզիկական անձանց պատճառված վնասի փոխհատուցման կարգի
A38: Արդյունքի չափորոշիչներ
A39: վնասված տրանսպորտային միջոցների քանակը, հատ | C39: 2
A40: Միջոցառման վրա կատարվող ծախսը (հազար դրամ) | C40: ='2.'!G49 -> 1975
C42: Աղյուսակ 9.1․58
B43: ՀՀ ԿԱՌԱՎԱՐՈՒԹՅՈՒՆ
A44: ՄԱՍ 1. ՊԵՏԱԿԱՆ ՄԱՐՄՆԻ ԳԾՈՎ ԱՐԴՅՈՒՆՔԱՅԻՆ (ԿԱՏԱՐՈՂԱԿԱՆ) ՑՈՒՑԱՆԻՇՆԵՐԸ
A46: Ծրագրի դասիչը | B46: Ծրագրի անվանումը
A47: 1079 | B47: Պետական գույքի կառավարում
A49: Ծրագրի միջոցառումները
A50: Ծրագրի դասիչը` | B50: 1079 | C50: Ցուցանիշների փոփոխությունը (նվազեցումները նշված են փակագծերում)
A51: Միջոցառման դասիչը` | B51: 31005 | C51: Տարի
A52: Միջոցառման անվանումը` | B52: Հանրային իշխանության մարմիններին տրանսպորտային միջոցներով ապահովվածության բարելավում
A53: Նկարագրությունը` | B53: Հանրային իշխանության մարմինների գործունեությունն ապահովելու համար տրանսպորտային միջոցների ձեռքբերում
A54: Միջոցառման տեսակը` | B54: Պետական մարմինների կողմից օգտագործվող ոչ ֆինանսական ակտիվների հետ գործառնություններ
A55: Ակտիվն օգտագործող կազմակերպության անվանումը` | B55: Հանրային իշխանության մարմիններ
A56: Արդյունքի չափորոշիչներ
A57: Միջոցառման վրա կատարվող ծախսը (հազար դրամ) | C57: ='2.'!G23 -> -12641.3
A60: ՀԱՅԱՍՏԱՆԻ ՀԱՆՐԱՊԵՏՈՒԹՅԱՆ
A61: ՎԱՐՉԱՊԵՏԻ ԱՇԽԱՏԱԿԱԶՄԻ
A62: ՂԵԿԱՎԱՐ ՝ Ա. ՀԱՐՈՒԹՅՈՒՆՅԱՆ
