Workbook
Name _tab10: #REF!
Name _tab10: #REF!
Name _tab11: #REF!
Name _tab11: #REF!
Name _tab12: #REF!
Name _tab12: #REF!
Name _tab13: #REF!
Name _tab13: #REF!
Name _tab14: #REF!
Name _tab14: #REF!
Name _tab15: #REF!
Name _tab15: #REF!
Name _tab16: #REF!
Name _tab16: #REF!
Name _tab17: #REF!
Name _tab17: #REF!
Name _tab18: #REF!
Name _tab18: #REF!
Name _tab19: #REF!
Name _tab19: #REF!
Name _tab20: #REF!
Name _tab20: #REF!
Name _tab21: #REF!
Name _tab21: #REF!
Name _tab22: #REF!
Name _tab22: #REF!
Name _tab23: #REF!
Name _tab23: #REF!
Name _tab24: #REF!
Name _tab24: #REF!
Name _tab5: #REF!
Name _tab5: #REF!
Name _tab6: #REF!
Name _tab6: #REF!
Name _tab7: #REF!
Name _tab7: #REF!
Name _tab8: #REF!
Name _tab8: #REF!
Name _tab9: #REF!
Name _tab9: #REF!
Name AgencyCode: #REF!
Name AgencyCode: #REF!
Name AgencyName: #REF!
Name AgencyName: #REF!
Name åû: #REF!
Name åû: #REF!
Name davit: #REF!
Name davit: #REF!
Name Functional1: #REF!
Name Functional1: #REF!
Name ggg: #REF!
Name ggg: #REF!
Name hav: #REF!
Name hav: #REF!
Name havelvac: #REF!
Name havelvac: #REF!
Name mas: #REF!
Name mas: #REF!
Name mass: #REF!
Name mass: #REF!

Sheet 1
D1: Հավելված N 1
C2: ՀՀ կառավարության 2024 թվականի
C3: -----------------ի N -----------Ն որոշման
A6: «ՀԱՅԱՍՏԱՆԻ ՀԱՆՐԱՊԵՏՈՒԹՅԱՆ 2024 ԹՎԱԿԱՆԻ ՊԵՏԱԿԱՆ ԲՅՈՒՋԵԻ ՄԱՍԻՆ» ՀԱՅԱՍՏԱՆԻ ՀԱՆՐԱՊԵՏՈՒԹՅԱՆ ՕՐԵՆՔԻ N 1 ՀԱՎԵԼՎԱԾԻ N 2 ԱՂՅՈՒՍԱԿՈՒՄ ԿԱՏԱՐՎՈՂ ՎԵՐԱԲԱՇԽՈՒՄԸ ԵՎ ՀԱՅԱՍՏԱՆԻ ՀԱՆՐԱՊԵՏՈՒԹՅԱՆ ԿԱՌԱՎԱՐՈՒԹՅԱՆ 2023 ԹՎԱԿԱՆԻ ԴԵԿՏԵՄԲԵՐԻ 28-Ի N 2323-Ն ՈՐՈՇՄԱՆ N 5 ՀԱՎԵԼՎԱԾԻ N 1 ԱՂՅՈՒՍԱԿՈՒՄ ԿԱՏԱՐՎՈՂ ՓՈՓՈԽՈՒԹՅՈՒՆՆԵՐԸ ԵՎ ԼՐԱՑՈՒՄՆԵՐԸ
D7: հազար դրամ
A8: Ծրագրային դասիչը | C8: Բյուջետային հատկացումների գլխավոր կարգադրիչների, ծրագրերի և միջոցառումների անվանումները | D8: Ցուցանիշների փոփոխությունները ավելացումները նշված են դրական նշանով, իսկ նվազեցումները՝ փակագծերում
A9: Ծրագիր | B9: Միջոցառում | D9: Տարի
C10: ԸՆԴԱՄԵՆԸ | D10: =SUM(D11,D113) -> 0
C11: ՀՀ աշխատանքի և սոցիալական հարցերի նախարարություն | D11: =SUM(D12,D44,D25,D57,D69,D100) -> 6972500
A12: 1005 | C12: Ծրագրի անվանումը` | D12: =SUM(D19) -> 2500
C13: Պարգևավճարներ և պատվովճարներ
C14: Ծրագրի նպատակը`
C15: Պետական հոգածության դրսևորում, առանձին կատեգորիայի քաղաքացիներին և նրանց ընտանիքներին սոցիալական երաշխիքների տրամադրում
C16: Վերջնական արդյունքի նկարագրությունը`
C17: Առանձին կատեգորիայի քաղաքացիներին և նրանց ընտանիքի անդամների սոցիալական պաշտպանվածության մակարդակի բարձրացում
A18: Ծրագրի միջոցառումներ
B19: 12002 | C19: Միջոցառման անվանումը` | D19: 2500
C20: Վետերանների պատվովճարներ
C21: Միջոցառման նկարագրությունը`
C22: ՀՄՊ վետերաններին պատվովճարի տրամադրում
C23: Միջոցառման տեսակը
C24: Տրանսֆերտների տրամադրում
A25: 1068 | C25: Ծրագրի անվանումը` | D25: =SUM(D32,D38) -> 1400000
C26: Ժողովրդագրական վիճակի բարելավում
C27: Ծրագրի նպատակը`
C28: Խթանել ժողովրդագրական վիճակի բարելավումը
C29: Վերջնական արդյունքի նկարագրությունը`
C30: Ժողովրդագրական վիճակի բարելավում և բազմազավակության աճ
A31: Ծրագրի միջոցառումներ
B32: 12003 | C32: Միջոցառման անվանումը` | D32: 600000
C33: Երեխա ունեցող ընտանիքների բնակարանային ապահովման աջակցություն
C34: Միջոցառման նկարագրությունը`
C35: Երեխա ունեցող ընտանիքների բնակարանային ապահովման աջակցության տրամադրում
C36: Միջոցառման տեսակը
C37: Տրանսֆերտների տրամադրում
B38: 12004 | C38: Միջոցառման անվանումը` | D38: 800000
C39: Դրամական աջակցություն ընտանիքում 3 և ավելի երեխա ունեցող ընտանիքներին
C40: Միջոցառման նկարագրությունը`
C41: Ընտանիքում 3-րդ և յուրաքանչյուր հաջորդ երեխայի ծնվելու կապակցությամբ նոր ծնված երեխային նշանակել և վճարել դրամական աջակցություն՛ ամսական 50000 դրամի չափով, մինչև երեխայի 6 տարեկանը լրանալը
C42: Միջոցառման տեսակը
C43: Տրանսֆերտների տրամադրում
A44: 1082 | C44: Ծրագրի անվանումը` | D44: =SUM(D51) -> 400000
C45: Սոցիալական աջակցություն անաշխատունակության դեպքում
C46: Ծրագրի նպատակը`
C47: Կորցրած եկամուտների մասնակի փոխհատուցում
C48: Վերջնական արդյունքի նկարագրությունը`
C49: Անաշխատունակության հետևանքով եկամտի կորստի մասնակի փոխհատուցման ապահովում
A50: Ծրագրի միջոցառումներ
B51: 12002 | C51: Միջոցառման անվանումը` | D51: 400000
C52: Մայրության նպաստ
C53: Միջոցառման նկարագրությունը`
C54: Մայրության նպաստի տրամադրում աշխատող և չաշխատող անձանց
C55: Միջոցառման տեսակը
C56: Տրանսֆերտների տրամադրում
A57: 1098 | C57: Ծրագրի անվանումը` | D57: =SUM(D63) -> 300000
C58: Բնակարանային ապահովում
C59: Ծրագրի նպատակը`
C60: Հանրապետությունում մշտական բնակության վայր չունեցող անօթևան անձանց բնակարանային ապահովմանն աջակցություն
C61: Վերջնական արդյունքի նկարագրությունը`
C62: Հանրապետությունում մշտական բնակության վայր չունեցող անօթևան անձանց բնակարանային ապահովվածության բարելավում
B63: 12008 | C63: Միջոցառման անվանումը` | D63: 300000
C64: Սահմանամերձ բնակավայրերում ընտանիքների բնակարանային մատչելիության ապահովման պետական աջակցություն
C65: Միջոցառման նկարագրությունը`
C66: ՀՀ սահմանամերձ գյուղական բնակավայրում անհատական բնակելի տուն կառուցելու նպատակով գործընկեր կազմակերպությունների կողմից տրամադրված հիփոթեքային վարկ ստացած շահառուին աջակցություն
C67: Միջոցառման տեսակը
C68: Տրանսֆերտների տրամադրում
A69: 1102 | C69: Ծրագրի անվանումը` | D69: =SUM(D76,D82,D88,D94) -> 3341000
C70: Կենսաթոշակային ապահովություն
C71: Ծրագրի նպատակը`
C72: Կենսաթոշակի իրավունքի իրացում
C73: Վերջնական արդյունքի նկարագրությունը`
C74: Կենսաթոշակների նշանակման և վճարման գործընթացի ապահովում
A75: Ծրագրի միջոցառումներ
B76: 11002 | C76: Միջացառման անվանումը` | D76: 15000
C77: Կենսաթոշակների և այլ դրամական վճարների իրականացման ապահովում
C78: Միջոցառման նկարագրությունը`
C79: Կենսաթոշակների և այլ դրամական վճարների վճարման ծառայությունների ձեռքբերում
C80: Միջոցառման տեսակը
C81: Ծառայությունների մատուցում
B82: 12001 | C82: Միջոցառման անվանումը` | D82: 3250000
C83: Սպայական անձնակազմի և նրանց ընտանիքների անդամների կենսաթոշակներ
C84: Միջոցառման նկարագրությունը`
C85: Սպայական անձնակազմի զինծառայողներին երկարամյա ծառայության, հաշմանդամության և զինծառայողի մահվան դեպքում նրա ընտանիքի անդամներին կերակրողին կորցնելու դեպքում զինվորական կենսաթոշակների տրամադրում
C86: Միջոցառման տեսակը
C87: Տրանսֆերտների տրամադրում
B88: 12002 | C88: Միջոցառման անվանումը` | D88: 16000
C89: Շարքային զինծառայողների և նրանց ընտանիքների անդամների զինվորական կենսաթոշակներ
C90: Միջոցառման նկարագրությունը`
C91: ԽՍՀՄ զինված ուժերի շարքային կազմի զինծառայողներին հաշմանդամության, նրանց մահվան դեպքում ընտանիքների անդամներին կերակրողին կորցնելու դեպքում զինվորական կենսաթոշակների տրամադրում
C92: Միջոցառման տեսակը
C93: Տրանսֆերտների տրամադրում
B94: 12004 | C94: Միջոցառման անվանումը` | D94: 60000
C95: ՀՀ օրենքով նշանակված կենսաթոշակներ
C96: Միջոցառման նկարագրությունը`
C97: «Պաշտոնատար անձանց գործունեության ապահովման, սպասարկման և սոցիալական երաշխիքների մասին» ՀՀ օրենքով սահմանված պաշտոններում պաշտոնավարած անձանց կենսաթոշակի տրամադրում
C98: Միջոցառման տեսակը
C99: Տրանսֆերտների տրամադրում
A100: 1205 | C100: Ծրագրի անվանումը` | D100: =SUM(D107) -> 1529000
C101: Սոցիալական ապահովություն
C102: Ծրագրի նպատակը`
...

Sheet 2
G1: Հավելված N 2
F2: ՀՀ կառավարության 2024 թվականի
F3: -----------------ի N -----------Ն որոշման
A5: ՀԱՅԱՍՏԱՆԻ ՀԱՆՐԱՊԵՏՈՒԹՅԱՆ ԿԱՌԱՎԱՐՈՒԹՅԱՆ 2023 ԹՎԱԿԱՆԻ ԴԵԿՏԵՄԲԵՐԻ 28-Ի N 2323-Ն ՈՐՈՇՄԱՆ NN 3 ԵՎ 4 ՀԱՎԵԼՎԱԾՆԵՐՈՒՄ ԿԱՏԱՐՎՈՂ ՓՈՓՈԽՈՒԹՅՈՒՆՆԵՐԸ ԵՎ ԼՐԱՑՈՒՄՆԵՐԸ
G6: (հազար դրամ)
A7: Գործառական դասիչը | D7: Ծրագրային դասիչը | F7: Բյուջետային ծախսերի գործառական դասակարգման բաժինների, խմբերի և դասերի, բյուջետային ծրագրերի միջոցառումների, բյուջետային հատկացումների գլխավոր կարգադրիչների անվանումները | G7: Ցուցանիշների փոփոխությունները ավելացումները նշված են դրական նշանով, իսկ նվազեցումները՝ փակագծերում
A8: Բաժինը | B8: Խումբը | C8: Դասը | D8: Ծրագիր | E8: Միջոցառում | G8: Տարի
F9: ԸՆԴԱՄԵՆԸ ԾԱԽՍԵՐ | G9: =G11+G149 -> 0
F10: այդ թվում`
F11: ՀՀ աշխատանքի և սոցիալական հարցերի նախարարություն | G11: =SUM(G13) -> 6972500
F12: այդ թվում`
A13: 10 | F13: ՍՈՑԻԱԼԱԿԱՆ ՊԱՇՏՊԱՆՈՒԹՅՈՒՆ | G13: =G15+G61+G98+G115+G132 -> 6972500
F14: այդ թվում`
B15: 02 | F15: Ծերություն | G15: =G17 -> 4855000
F16: այդ թվում`
C17: 01 | F17: Ծերություն | G17: =G19 -> 4855000
F18: այդ թվում`
F19: ՀՀ աշխատանքի և սոցիալական հարցերի նախարարություն | G19: =G21+G50 -> 4855000
F20: այդ թվում`
D21: 1102 | F21: Կենսաթոշակային ապահովություն | G21: =SUM(G23,G32,G41) -> 3326000
F22: այդ թվում`
E23: 12001 | F23: ='1'!C83 -> Սպայական անձնակազմի և նրանց ընտանիքների անդամների կենսաթոշակներ | G23: =+G25 -> 3250000
F24: այդ թվում` ըստ կատարողների
F25: ՀՀ աշխատանքի և սոցիալական հարցերի նախարարության միասնական սոցիալական ծառայություն | G25: =+G27 -> 3250000
F26: այդ թվում` բյուջետային ծախսերի տնտեսագիտական դասակարգման հոդվածներ
F27: ԸՆԴԱՄԵՆԸ ԾԱԽՍԵՐ | G27: =+G28 -> 3250000
F28: ԸՆԹԱՑԻԿ ԾԱԽՍԵՐ | G28: =+G29 -> 3250000
F29: ՍՈՑԻԱԼԱԿԱՆ ՆՊԱՍՏՆԵՐ ԵՎ ԿԵՆՍԱԹՈՇԱԿՆԵՐ | G29: =+G30 -> 3250000
F30: Կենսաթոշակներ | G30: =+G31 -> 3250000
F31: - Կենսաթոշակներ | G31: =SUM('1'!D82) -> 3250000
E32: 12002 | F32: ='1'!C89 -> Շարքային զինծառայողների և նրանց ընտանիքների անդամների զինվորական կենսաթոշակներ | G32: =G34 -> 16000
F33: այդ թվում` ըստ կատարողների
F34: ՀՀ աշխատանքի և սոցիալական հարցերի նախարարության միասնական սոցիալական ծառայություն | G34: =G36 -> 16000
F35: այդ թվում` բյուջետային ծախսերի տնտեսագիտական դասակարգման հոդվածներ
F36: ԸՆԴԱՄԵՆԸ ԾԱԽՍԵՐ | G36: =G37 -> 16000
F37: ԸՆԹԱՑԻԿ ԾԱԽՍԵՐ | G37: =G38 -> 16000
F38: ՍՈՑԻԱԼԱԿԱՆ ՆՊԱՍՏՆԵՐ ԵՎ ԿԵՆՍԱԹՈՇԱԿՆԵՐ | G38: =G39 -> 16000
F39: Կենսաթոշակներ | G39: =G40 -> 16000
F40: - Կենսաթոշակներ | G40: =SUM('1'!D88) -> 16000
E41: 12004 | F41: ='1'!C95 -> ՀՀ օրենքով նշանակված կենսաթոշակներ | G41: =G43 -> 60000
F42: այդ թվում` ըստ կատարողների
F43: ՀՀ աշխատանքի և սոցիալական հարցերի նախարարության միասնական սոցիալական ծառայություն | G43: =G45 -> 60000
F44: այդ թվում` բյուջետային ծախսերի տնտեսագիտական դասակարգման հոդվածներ
F45: ԸՆԴԱՄԵՆԸ ԾԱԽՍԵՐ | G45: =G46 -> 60000
F46: ԸՆԹԱՑԻԿ ԾԱԽՍԵՐ | G46: =G47 -> 60000
F47: ՍՈՑԻԱԼԱԿԱՆ ՆՊԱՍՏՆԵՐ ԵՎ ԿԵՆՍԱԹՈՇԱԿՆԵՐ | G47: =G48 -> 60000
F48: Կենսաթոշակներ | G48: =G49 -> 60000
F49: - Կենսաթոշակներ | G49: =SUM('1'!D94) -> 60000
D50: 1205 | F50: Սոցիալական ապահովություն | G50: =+G60 -> 1529000
F51: այդ թվում`
E52: 12001 | F52: ='1'!C108 -> Ծերության, հաշմանդամության, կերակրողին կորցնելու դեպքում նպաստներ | G52: =+G54 -> 1529000
F53: այդ թվում` ըստ կատարողների
F54: ՀՀ աշխատանքի և սոցիալական հարցերի նախարարության միասնական սոցիալական ծառայություն | G54: =+G56 -> 1529000
F55: այդ թվում` բյուջետային ծախսերի տնտեսագիտական դասակարգման հոդվածներ | G55: =+G57 -> 1529000
F56: ԸՆԴԱՄԵՆԸ ԾԱԽՍԵՐ | G56: =+G57 -> 1529000
F57: ԸՆԹԱՑԻԿ ԾԱԽՍԵՐ | G57: =+G58 -> 1529000
F58: ՍՈՑԻԱԼԱԿԱՆ ՆՊԱՍՏՆԵՐ ԵՎ ԿԵՆՍԱԹՈՇԱԿՆԵՐ | G58: =+G59 -> 1529000
F59: Սոցիալական օգնության դրամական արտահայտությամբ նպաստներ (բյուջեից) | G59: =+G60 -> 1529000
F60: - Այլ նպաստներ բյուջեից | G60: =SUM('1'!D107) -> 1529000
B61: 04 | F61: Ընտանիքի անդամներ և զավակներ | G61: =+G63 -> 1800000
F62: այդ թվում`
C63: 01 | F63: Ընտանիքի անդամներ և զավակներ | G63: =G65 -> 1800000
F64: այդ թվում`
F65: ՀՀ աշխատանքի և սոցիալական հարցերի նախարարություն | G65: =G67+G87 -> 1800000
F66: այդ թվում`
D67: 1068 | F67: Ժողովրդագրական վիճակի բարելավում | G67: =G69+G78 -> 1400000
F68: այդ թվում`
E69: 12003 | F69: ='1'!C33 -> Երեխա ունեցող ընտանիքների բնակարանային ապահովման աջակցություն | G69: =+G70 -> 600000
F70: այդ թվում` ըստ կատարողների | G70: =+G71 -> 600000
F71: ՀՀ աշխատանքի և սոցիալական հարցերի նախարարություն | G71: =+G73 -> 600000
F72: այդ թվում` բյուջետային ծախսերի տնտեսագիտական դասակարգման հոդվածներ
F73: ԸՆԴԱՄԵՆԸ ԾԱԽՍԵՐ | G73: =+G74 -> 600000
F74: ԸՆԹԱՑԻԿ ԾԱԽՍԵՐ | G74: =+G75 -> 600000
F75: ՍՈՑԻԱԼԱԿԱՆ ՆՊԱՍՏՆԵՐ ԵՎ ԿԵՆՍԱԹՈՇԱԿՆԵՐ | G75: =+G76 -> 600000
F76: Սոցիալական օգնության դրամական արտահայտությամբ նպաստներ (բյուջեից) | G76: =+G77 -> 600000
F77: - Այլ նպաստներ բյուջեից | G77: =SUM('1'!D32) -> 600000
E78: 12004 | F78: ='1'!C39 -> Դրամական աջակցություն ընտանիքում 3 և ավելի երեխա ունեցող ընտանիքներին | G78: =+G79 -> 800000
F79: այդ թվում` ըստ կատարողների | G79: =+G80 -> 800000
F80: ՀՀ աշխատանքի և սոցիալական հարցերի նախարարության միասնական սոցիալական ծառայություն | G80: =+G82 -> 800000
F81: այդ թվում` բյուջետային ծախսերի տնտեսագիտական դասակարգման հոդվածներ
F82: ԸՆԴԱՄԵՆԸ ԾԱԽՍԵՐ | G82: =+G83 -> 800000
F83: ԸՆԹԱՑԻԿ ԾԱԽՍԵՐ | G83: =+G84 -> 800000
F84: ՍՈՑԻԱԼԱԿԱՆ ՆՊԱՍՏՆԵՐ ԵՎ ԿԵՆՍԱԹՈՇԱԿՆԵՐ | G84: =+G85 -> 800000
F85: Սոցիալական օգնության դրամական արտահայտությամբ նպաստներ (բյուջեից) | G85: =+G86 -> 800000
F86: - Երեխաների կամ ընտանեկան նպաստներ բյուջեից | G86: =SUM('1'!D38) -> 800000
D87: 1082 | F87: Սոցիալական աջակցություն անաշխատունակության դեպքում | G87: =+G88 -> 400000
F88: այդ թվում` | G88: =+G89 -> 400000
E89: 12002 | F89: ='1'!C52 -> Մայրության նպաստ | G89: =+G91 -> 400000
F90: այդ թվում` ըստ կատարողների
F91: ՀՀ աշխատանքի և սոցիալական հարցերի նախարարության միասնական սոցիալական ծառայություն | G91: =+G92 -> 400000
F92: այդ թվում` բյուջետային ծախսերի տնտեսագիտական դասակարգման հոդվածներ | G92: =+G93 -> 400000
F93: ԸՆԴԱՄԵՆԸ ԾԱԽՍԵՐ | G93: =+G94 -> 400000
F94: ԸՆԹԱՑԻԿ ԾԱԽՍԵՐ | G94: =+G95 -> 400000
F95: ՍՈՑԻԱԼԱԿԱՆ ՆՊԱՍՏՆԵՐ ԵՎ ԿԵՆՍԱԹՈՇԱԿՆԵՐ | G95: =G96 -> 400000
F96: Սոցիալական օգնության դրամական արտահայտությամբ նպաստներ (բյուջեից) | G96: =+G97 -> 400000
F97: - Մայրության նպաստներ բյուջեից | G97: =SUM('1'!D51) -> 400000
B98: 06 | F98: Բնակարանային ապահովում | G98: =+G100 -> 300000
F99: այդ թվում՝
C100: 01 | F100: Բնակարանային ապահովում | G100: =SUM(G104,G126) -> 300000
F101: այդ թվում`
...

Sheet 3
C1: Հավելված N 3
C2: ՀՀ կառավարության 2024 թվականի
C3: -----------------ի N -----------Ն որոշման
A6: ՀԱՅԱՍՏԱՆԻ ՀԱՆՐԱՊԵՏՈՒԹՅԱՆ ԿԱՌԱՎԱՐՈՒԹՅԱՆ 2023 ԹՎԱԿԱՆԻ ԴԵԿՏԵՄԲԵՐԻ 28-Ի N 2323-Ն ՈՐՈՇՄԱՆ N 9 ՀԱՎԵԼՎԱԾԻ N 9.15 ԵՎ 9․48 ԱՂՅՈՒՍԱԿՆԵՐՈՒՄ ԿԱՏԱՐՎՈՂ ՓՈՓՈԽՈՒԹՅՈՒՆՆԵՐ ԵՎ ԼՐԱՑՈՒՄՆԵՐ
A8: ՄԱՍ 2. ՊԵՏԱԿԱՆ ՄԱՐՄՆԻ ԳԾՈՎ ԱՐԴՅՈՒՆՔԱՅԻՆ (ԿԱՏԱՐՈՂԱԿԱՆ) ՑՈՒՑԱՆԻՇՆԵՐԸ
A10: Հայաստանի Հանրապետության աշխատանքի և սոցիալական հարցերի նախարարություն
A12: Ծրագրի դասիչը | B12: Ծրագրի անվանումը
A13: 1005 | B13: Պարգևավճարներ և պատվովճարներ
A15: Ծրագրի միջոցառումները
A17: Ծրագրի դասիչը` | B17: 1005 | C17: Ցուցանիշների փոփոխությունները ավելացումները նշված են դրական նշանով, իսկ նվազեցումները՝ փակագծերում
A18: Միջոցառման դասիչը` | B18: 12002 | C18: Տարի
A19: Միջոցառման անվանումը` | B19: Վետերանների պատվովճարներ
A20: Նկարագրությունը` | B20: ՀՄՊ վետերաններին պատվովճարի տրամադրում
A21: Միջոցառման տեսակը` | B21: Տրանսֆերտների տրամադրում
A22: Շահառուների ընտրության չափանիշները | B22: ՀՄ պատերազմի վետերաններին պատվովճարների տրամադրում 02.12.1998թ. ՀՕ-267-Ն օրենքի 4-րդ հոդվածով
A23: Արդյունքի չափորոշիչներ
A24: Պատվովճար ստացող վետերանների թիվ,մարդ,այդ թվում՛ | C24: =SUM(C25:C26) -> -1
A25: պատվովճար ստացող ՀՀ վետերանների թիվ,մարդ | C25: 1
A26: պատվովճար ստացող ԼՂ վետերանների թիվ,մարդ | C26: -2
A27: Միջոցառման վրա կատարվող ծախսը (հազար դրամ) | C27: =SUM('1'!D19) -> 2500
A29: Ծրագրի դասիչը | B29: Ծրագրի անվանումը
A30: ='1'!A25 -> 1068 | B30: Ժողովրդագրական վիճակի բարելավում
A31: Ծրագրի միջոցառումներ
A34: Ծրագրի դասիչը` | B34: 1068 | C34: Ցուցանիշների փոփոխությունները ավելացումները նշված են դրական նշանով
A35: Միջոցառման դասիչը` | B35: 12003 | C35: Տարի
A36: Միջոցառման անվանումը` | B36: Երեխա ունեցող ընտանիքների բնակարանային ապահովման աջակցություն
A37: Նկարագրությունը` | B37: Երեխա ունեցող ընտանիքների բնակարանային ապահովման աջակցության տրամադրում
A38: Միջոցառման տեսակը` | B38: Տրանսֆերտների տրամադրում
A39: Շահառուների ընտրության չափանիշները | B39: Անապահով 4 և ավելի երեխաներ ունեցող ընտանիքներ և Երեխա ունեցող ընտանիքներ, ովքեր ցանկանում են ձեռք բերել բնակարան, կանխավճարի ապահովագրության ձեռք բերում երիտասարդ ընտանիքների համար, երեխայի ծննդով պայմանավորված հիփոթեքային վարկ մարող ընտանիքներ
A40: Արդյունքի չափորոշիչներ
A41: Շահառուների թվաքանակ ընտանիք (բազմազավակ ընտանիքների նպաստի բաղադրիչ) | C41: =C42+C43+C44 -> 880
A42: Շահառուների թվաքանակ (մարզային բնակավայրերում բնակարան ձեռք բերելու համար միանվագ դրամական աջակցության բաղադրիչ) | C42: 120
A43: Շահառուների թվաքանակ (Երիտասարդ ընտանիքների համար կանխավճարի ապահովագրության բաղադրիչ) | C43: 290
A44: Շահառուների թվաքանակ (երեխայի ծննդով պայմանավորված` հիփոթեքային վարկ մարող ընտանիքներին դրամական աջակցության բաղադրիչ) | C44: 470
A45: Միջոցառման վրա կատարվող ծախսը (հազար դրամ) | C45: ='1'!D32 -> 600000
A47: Ծրագրի դասիչը` | B47: 1068 | C47: Ցուցանիշների փոփոխությունները ավելացումները նշված են դրական նշանով, իսկ նվազեցումները՝ փակագծերում
A48: Միջոցառման դասիչը` | B48: 12004 | C48: Տարի
A49: Միջոցառման անվանումը` | B49: Դրամական աջակցություն ընտանիքում 3 և ավելի երեխա ունեցող ընտանիքներին
A50: Նկարագրությունը` | B50: Ընտանիքում 3-րդ և յուրաքանչյուր հաջորդ երեխայի ծնվելու կապակցությամբ նոր ծնված երեխային նշանակել և վճարել դրամական աջակցություն՛ ամսական 50000 դրամի չափով, մինչև երեխայի 6 տարեկանը լրանալը
A51: Միջոցառման տեսակը` | B51: Տրանսֆերտների տրամադրում
A52: Շահառուների ընտրության չափանիշները | B52: 3 և ավելի երեխաներ ունեցող ընտանիքներ, որոնք կդիմեն 2022թ հունվարի 1-ից հետո ընտանիքում ծնված երեխայի համար դրամական աջակցություն ստանալու համար
A53: Արդյունքի չափորոշիչներ
A54: Շահառուների թվաքանակ, ընտանիք (յուրաքանչյուր երեխայի համար դիմած), ադ թվում | C54: =SUM(C55:C56) -> 1333
A55: ՀՀ շահառուների թվաքանակ, ընտանիք (յուրաքանչյուր երեխայի համար դիմած) | C55: 1760
A56: ԼՂ-ից բռնի տեղահանված շահառուների թվաքանակ, ընտանիք (յուրաքանչյուր երեխայի համար դիմած) | C56: -427
A57: Միջոցառման վրա կատարվող ծախսը (հազար դրամ) | C57: =SUM('1'!D38) -> 800000
A59: Ծրագրի դասիչը | B59: Ծրագրի անվանումը
A60: 1098 | B60: Բնակարանային ապահովում
A61: Ծրագրի միջոցառումներ
A63: Ծրագրի դասիչը` | B63: 1098 | C63: Ցուցանիշների փոփոխությունները ավելացումները նշված են դրական նշանով
A64: Միջոցառման դասիչը` | B64: 12008
A65: Միջոցառման անվանումը` | B65: Սահմանամերձ բնակավայրերում ընտանիքների բնակարանային մատչելիության ապահովման պետական աջակցություն
A66: Նկարագրությունը` | B66: ՀՀ սահմանամերձ գյուղական բնակավայրում անհատական բնակելի տուն կառուցելու նպատակով գործընկեր կազմակերպությունների կողմից տրամադրված հիփոթեքային վարկ ստացած շահառուին աջակցություն
A67: Միջոցառման տեսակը` | B67: Տրանսֆերտների տրամադրում
A68: Շահառուների ընտրության չափանիշները | B68: ՀՀ սահմանամերձ գյուղական բնակավայրում անհատական բնակելի տուն կառուցելու նպատակով գործընկեր կազմակերպությունների կողմից տրամադրված հիփոթեքային վարկ ստացած
A69: Արդյունքի չափորոշիչներ
A70: Ընտանիքների թիվ, հատ | C70: 350
A71: Միջոցառման վրա կատարվող ծախսը (հազար դրամ) | C71: =SUM('1'!D63) -> 300000
A73: Ծրագրի դասիչը` | B73: Միջոցառման անվանումը`
A74: 1082 | B74: Սոցիալական աջակցություն անաշխատունակության դեպքում
A75: Ծրագրի միջոցառումները
A77: Ծրագրի դասիչը` | B77: 1082 | C77: Ցուցանիշների փոփոխությունները ավելացումները նշված են դրական նշանով, իսկ նվազեցումները՝ փակագծերում
A78: Միջոցառման դասիչը` | B78: 12002 | C78: Տարի
A79: Միջոցառման անվանումը` | B79: Մայրության նպաստ
A80: Նկարագրությունը` | B80: Մայրության նպաստի տրամադրում աշխատող և չաշխատող անձանց
A81: Միջոցառման տեսակը` | B81: Տրանսֆերտների տրամադրում
A82: Շահառուների ընտրության չափանիշները | B82: Հղիության և ծննդաբերության արձակուրդի իրավունք ունեցող անձինք անկախ աշխատանքային կարգավիճակից
A83: Արդյունքի չափորոշիչներ
A84: Հղիության և ծննդաբերության արձակուրդի օրերի թիվ, օր | C84: 70000
A85: Մայրության նպաստ ստացող աշխատող անձանց թիվ, մարդ, այդ թվում | C85: =SUM(C86,C88) -> 300
A86: Մայրության նպաստ ստացող աշխատող ՀՀ անձանց թիվ, մարդ, | C86: 100
A87: ԼՂ-ից բռնի տեղահանված մայրության նպաստ ստացող աշխատող անձանց թիվ, մարդ | C87: -100
A88: Մայրության նպաստ ստացող չաշխատող անձանց թիվ, մարդ այդ թվում | C88: =SUM(C89:C90) -> 200
A89: Մայրության նպաստ ստացող չաշխատող ՀՀ անձանց թիվ, | C89: 100
A90: ԼՂ-ից բռնի տեղահանված մայրության նպաստ ստացող չաշխատող ՀՀ անձանց թիվ, մարդ | C90: 100
A91: Միջոցառման վրա կատարվող ծախսը (հազար դրամ) | C91: =SUM('1'!D51) -> 400000
A94: Ծրագրի դասիչը | B94: Ծրագրի անվանումը
A95: 1102 | B95: Կենսաթոշակային ապահովություն
A96: Ծրագրի միջոցառումները
A98: Ծրագրի դասիչը` | B98: 1102 | C98: Ցուցանիշների փոփոխությունները ավելացումները նշված են դրական նշանով
A99: Միջոցառման դասիչը` | B99: 11002 | C99: Տարի
A100: Միջոցառման անվանումը` | B100: Կենսաթոշակների և այլ դրամական վճարների իրականացման ապահովում
A101: Նկարագրությունը` | B101: Կենսաթոշակների և այլ դրամական վճարների վճարման ծառայությունների ձեռքբերում
A102: Միջոցառման տեսակը` | B102: Ծառայությունների մատուցում
A103: Միջոցառումն իրականացնողի անվանումը | B103: Բանկեր, «Գնումների մասին» ՀՀ օրենքի համաձայն ընտրված կազմակերպություն
A104: Արդյունքի չափորոշիչներ
A105: Միջոցառման վրա կատարվող ծախսը (հազար դրամ) | C105: =SUM('1'!D76) -> 15000
A107: Ծրագրի դասիչը` | B107: 1102 | C107: Ցուցանիշների փոփոխությունները ավելացումները նշված են դրական նշանով
A108: Միջոցառման դասիչը` | B108: 12001 | C108: Տարի
A109: Միջոցառման անվանումը` | B109: Սպայական անձնակազմի և նրանց ընտանիքների անդամների կենսաթոշակներ
A110: Նկարագրությունը` | B110: Սպայական անձնակազմի զինծառայողներին երկարամյա ծառայության, հաշմանդամության և զինծառայողի մահվան դեպքում նրա ընտանիքի անդամներին կերակրողին կորցնելու դեպքում զինվորական կենսաթոշակների տրամադրում
A111: Միջոցառման տեսակը` | B111: Տրանսֆերտների տրամադրում
A112: Շահառուների ընտրության չափանիշները | B112: Սպայական անձնակազմին և նրանց ընտանիքների անդամներին երկարամյա ծառայության, հաշմանդամության և կերակրողին կորցնելու դեպքում կենսաթոշակների տրամադրում 22.12.2010թ.ՀՕ-243-Ն օրենքի 18-րդ, 20-րդ, 22-րդ հոդվածներով
A113: Արդյունքի չափորոշիչներ
A114: Միջոցառման վրա կատարվող ծախսը (հազար դրամ) | C114: =SUM('1'!D82) -> 3250000
A116: Ծրագրի դասիչը` | B116: 1102 | C116: Ցուցանիշների փոփոխությունները ավելացումները նշված են դրական նշանով
A117: Միջոցառման դասիչը` | B117: 12002 | C117: Տարի
A118: Միջոցառման անվանումը` | B118: Շարքային զինծառայողների և նրանց ընտանիքների անդամների զինվորական կենսաթոշակներ
A119: Նկարագրությունը` | B119: ԽՍՀՄ զինված ուժերի շարքային կազմի զինծառայողներին հաշմանդամության, նրանց մահվան դեպքում ընտանիքների անդամներին կերակրողին կորցնելու դեպքում զինվորական կենսաթոշակների տրամադրում
A120: Միջոցառման տեսակը` | B120: Տրանսֆերտների տրամադրում
...

Sheet 4
C1: Հավելված N 4
C2: ՀՀ կառավարության 2024 թվականի
C3: -----------------ի N -----------Ն որոշման
A5: ՀԱՅԱՍՏԱՆԻ ՀԱՆՐԱՊԵՏՈՒԹՅԱՆ ԿԱՌԱՎԱՐՈՒԹՅԱՆ 2023 ԹՎԱԿԱՆԻ ԴԵԿՏԵՄԲԵՐԻ 28-Ի N 2323-Ն ՈՐՈՇՄԱՆ N 9.1 ՀԱՎԵԼՎԱԾԻ NN 9.1.15, 9.1.19 և 9.1.58 ԱՂՅՈՒՍԱԿՆԵՐՈՒՄ ԿԱՏԱՐՎՈՂ ՓՈՓՈԽՈՒԹՅՈՒՆՆԵՐ ԵՎ ԼՐԱՑՈՒՄՆԵՐ
A7: ՄԱՍ 1. ՊԵՏԱԿԱՆ ՄԱՐՄՆԻ ԳԾՈՎ ԱՐԴՅՈՒՆՔԱՅԻՆ (ԿԱՏԱՐՈՂԱԿԱՆ) ՑՈՒՑԱՆԻՇՆԵՐԸ
A8: ՀՀ աշխատանքի և սոցիալական հարցերի նախարարություն
A9: Ծրագրի դասիչը | B9: Ծրագրի անվանումը
A10: 1068 | B10: Ժողովրդագրական վիճակի բարելավում
A11: Ծրագրի միջոցառումներ
A13: Ծրագրի դասիչը` | B13: 1068 | C13: Ցուցանիշների փոփոխությունները ավելացումները նշված են դրական նշանով
A14: Միջոցառման դասիչը` | B14: 12003 | C14: Տարի
A15: Միջոցառման անվանումը` | B15: Երեխա ունեցող ընտանիքների բնակարանային ապահովման աջակցություն
A16: Նկարագրությունը` | B16: Երեխա ունեցող ընտանիքների բնակարանային ապահովման աջակցության տրամադրում
A17: Միջոցառման տեսակը` | B17: Տրանսֆերտների տրամադրում
A18: Շահառուների ընտրության չափանիշները | B18: Անապահով 4 և ավելի երեխաներ ունեցող ընտանիքներ և Երեխա ունեցող ընտանիքներ, ովքեր ցանկանում են ձեռք բերել բնակարան, կանխավճարի ապահովագրության ձեռք բերում երիտասարդ ընտանիքների համար, երեխայի ծննդով պայմանավորված հիփոթեքային վարկ մարող ընտանիքներ
A19: Արդյունքի չափորոշիչներ
A20: Շահառուների թվաքանակ ընտանիք (բազմազավակ ընտանիքների նպաստի բաղադրիչ) | C20: =C21+C22+C23 -> 880
A21: Շահառուների թվաքանակ (մարզային բնակավայրերում բնակարան ձեռք բերելու համար միանվագ դրամական աջակցության բաղադրիչ) | C21: =SUM('3'!C42) -> 120
A22: Շահառուների թվաքանակ (Երիտասարդ ընտանիքների համար կանխավճարի ապահովագրության բաղադրիչ) | C22: =SUM('3'!C43) -> 290
A23: Շահառուների թվաքանակ (երեխայի ծննդով պայմանավորված` հիփոթեքային վարկ մարող ընտանիքներին դրամական աջակցության բաղադրիչ) | C23: =SUM('3'!C44) -> 470
A24: Միջոցառման վրա կատարվող ծախսը (հազար դրամ) | C24: =SUM('3'!C45) -> 600000
A27: ՀՀ աշխատանքի և սոցիալական հարցերի նախարարության միասնական սոցիալական ծառայություն
A29: Ծրագրի դասիչը | B29: Ծրագրի անվանումը
A30: 1005 | B30: Պարգևավճարներ և պատվովճարներ
A32: Ծրագրի միջոցառումները
A34: Ծրագրի դասիչը` | B34: 1005 | C34: Ցուցանիշների փոփոխությունները ավելացումները նշված են դրական նշանով, իսկ նվազեցումները՝ փակագծերում
A35: Միջոցառման դասիչը` | B35: 12002 | C35: Տարի
A36: Միջոցառման անվանումը` | B36: Վետերանների պատվովճարներ
A37: Նկարագրությունը` | B37: ՀՄՊ վետերաններին պատվովճարի տրամադրում
A38: Միջոցառման տեսակը` | B38: Տրանսֆերտների տրամադրում
A39: Շահառուների ընտրության չափանիշները | B39: ՀՄ պատերազմի վետերաններին պատվովճարների տրամադրում 02.12.1998թ. ՀՕ-267-Ն օրենքի 4-րդ հոդվածով
A40: Արդյունքի չափորոշիչներ
A41: Պատվովճար ստացող վետերանների թիվ,մարդ,այդ թվում՛ | C41: =SUM('3'!C24) -> -1
A42: պատվովճար ստացող ՀՀ վետերանների թիվ,մարդ | C42: =SUM('3'!C25) -> 1
A43: պատվովճար ստացող ԼՂ վետերանների թիվ,մարդ | C43: =SUM('3'!C26) -> -2
A44: Միջոցառման վրա կատարվող ծախսը (հազար դրամ) | C44: =SUM('3'!C27) -> 2500
A46: Ծրագրի դասիչը | B46: Ծրագրի անվանումը
A47: 1068 | B47: Ժողովրդագրական վիճակի բարելավում
A48: Ծրագրի միջոցառումներ
A50: Ծրագրի դասիչը` | B50: 1068 | C50: Ցուցանիշների փոփոխությունները ավելացումները նշված են դրական նշանով, իսկ նվազեցումները՝ փակագծերում
A51: Միջոցառման դասիչը` | B51: 12004 | C51: Տարի
A52: Միջոցառման անվանումը` | B52: Դրամական աջակցություն ընտանիքում 3 և ավելի երեխա ունեցող ընտանիքներին
A53: Նկարագրությունը` | B53: Ընտանիքում 3-րդ և յուրաքանչյուր հաջորդ երեխայի ծնվելու կապակցությամբ նոր ծնված երեխային նշանակել և վճարել դրամական աջակցություն՛ ամսական 50000 դրամի չափով, մինչև երեխայի 6 տարեկանը լրանալը
A54: Միջոցառման տեսակը` | B54: Տրանսֆերտների տրամադրում
A55: Շահառուների ընտրության չափանիշները | B55: 3 և ավելի երեխաներ ունեցող ընտանիքներ, որոնք կդիմեն 2022թ հունվարի 1-ից հետո ընտանիքում ծնված երեխայի համար դրամական աջակցություն ստանալու համար
A56: Արդյունքի չափորոշիչներ
A57: Շահառուների թվաքանակ, ընտանիք (յուրաքանչյուր երեխայի համար դիմած), ադ թվում | C57: =SUM(C58:C59) -> 1333
A58: ՀՀ շահառուների թվաքանակ, ընտանիք (յուրաքանչյուր երեխայի համար դիմած) | C58: =SUM('3'!C55) -> 1760
A59: ԼՂ-ից բռնի տեղահանված շահառուների թվաքանակ, ընտանիք (յուրաքանչյուր երեխայի համար դիմած) | C59: =SUM('3'!C56) -> -427
A60: Միջոցառման վրա կատարվող ծախսը (հազար դրամ) | C60: =SUM('3'!C57) -> 800000
A62: Ծրագրի դասիչը | B62: Ծրագրի անվանումը
A63: 1098 | B63: Բնակարանային ապահովում
A64: Ծրագրի միջոցառումներ
A66: Ծրագրի դասիչը` | B66: 1098 | C66: Ցուցանիշների փոփոխությունները ավելացումները նշված են դրական նշանով
A67: Միջոցառման դասիչը` | B67: 12008
A68: Միջոցառման անվանումը` | B68: Սահմանամերձ բնակավայրերում ընտանիքների բնակարանային մատչելիության ապահովման պետական աջակցություն
A69: Նկարագրությունը` | B69: ՀՀ սահմանամերձ գյուղական բնակավայրում անհատական բնակելի տուն կառուցելու նպատակով գործընկեր կազմակերպությունների կողմից տրամադրված հիփոթեքային վարկ ստացած շահառուին աջակցություն
A70: Միջոցառման տեսակը` | B70: Տրանսֆերտների տրամադրում
A71: Շահառուների ընտրության չափանիշները | B71: ՀՀ սահմանամերձ գյուղական բնակավայրում անհատական բնակելի տուն կառուցելու նպատակով գործընկեր կազմակերպությունների կողմից տրամադրված հիփոթեքային վարկ ստացած
A72: Արդյունքի չափորոշիչներ
A73: Ընտանիքների թիվ, հատ | C73: =SUM('3'!C70) -> 350
A74: Միջոցառման վրա կատարվող ծախսը (հազար դրամ) | C74: =SUM('3'!C71) -> 300000
A76: Ծրագրի դասիչը` | B76: Միջոցառման անվանումը`
A77: 1082 | B77: Սոցիալական աջակցություն անաշխատունակության դեպքում
A78: Ծրագրի միջոցառումները
A80: Ծրագրի դասիչը` | B80: 1082 | C80: Ցուցանիշների փոփոխությունները ավելացումները նշված են դրական նշանով, իսկ նվազեցումները՝ փակագծերում
A81: Միջոցառման դասիչը` | B81: 12002 | C81: Տարի
A82: Միջոցառման անվանումը` | B82: Մայրության նպաստ
A83: Նկարագրությունը` | B83: Մայրության նպաստի տրամադրում աշխատող և չաշխատող անձանց
A84: Միջոցառման տեսակը` | B84: Տրանսֆերտների տրամադրում
A85: Շահառուների ընտրության չափանիշները | B85: Հղիության և ծննդաբերության արձակուրդի իրավունք ունեցող անձինք անկախ աշխատանքային կարգավիճակից
A86: Արդյունքի չափորոշիչներ
A87: Հղիության և ծննդաբերության արձակուրդի օրերի թիվ, օր | C87: 70000
A88: Մայրության նպաստ ստացող աշխատող անձանց թիվ, մարդ, այդ թվում | C88: =SUM(C89,C91) -> 300
A89: Մայրության նպաստ ստացող աշխատող ՀՀ անձանց թիվ, մարդ, | C89: =SUM('3'!C86) -> 100
A90: ԼՂ-ից բռնի տեղահանված մայրության նպաստ ստացող աշխատող անձանց թիվ, մարդ | C90: =SUM('3'!C87) -> -100
A91: Մայրության նպաստ ստացող չաշխատող անձանց թիվ, մարդ այդ թվում | C91: =SUM('3'!C88) -> 200
A92: Մայրության նպաստ ստացող չաշխատող ՀՀ անձանց թիվ, | C92: =SUM('3'!C89) -> 100
A93: ԼՂ-ից բռնի տեղահանված մայրության նպաստ ստացող չաշխատող ՀՀ անձանց թիվ, մարդ | C93: =SUM('3'!C90) -> 100
A94: Միջոցառման վրա կատարվող ծախսը (հազար դրամ) | C94: =SUM('3'!C91) -> 400000
A97: Ծրագրի դասիչը | B97: Ծրագրի անվանումը
A98: 1102 | B98: Կենսաթոշակային ապահովություն
A99: Ծրագրի միջոցառումները
A101: Ծրագրի դասիչը` | B101: 1102 | C101: Ցուցանիշների փոփոխությունները ավելացումները նշված են դրական նշանով
A102: Միջոցառման դասիչը` | B102: 11002 | C102: Տարի
A103: Միջոցառման անվանումը` | B103: Կենսաթոշակների և այլ դրամական վճարների իրականացման ապահովում
A104: Նկարագրությունը` | B104: Կենսաթոշակների և այլ դրամական վճարների վճարման ծառայությունների ձեռքբերում
A105: Միջոցառման տեսակը` | B105: Ծառայությունների մատուցում
A106: Միջոցառումն իրականացնողի անվանումը | B106: Բանկեր, «Գնումների մասին» ՀՀ օրենքի համաձայն ընտրված կազմակերպություն
A107: Արդյունքի չափորոշիչներ
A108: Միջոցառման վրա կատարվող ծախսը (հազար դրամ) | C108: =SUM('3'!C105) -> 15000
A110: Ծրագրի դասիչը` | B110: 1102 | C110: Ցուցանիշների փոփոխությունները ավելացումները նշված են դրական նշանով
A111: Միջոցառման դասիչը` | B111: 12001 | C111: Տարի
A112: Միջոցառման անվանումը` | B112: Սպայական անձնակազմի և նրանց ընտանիքների անդամների կենսաթոշակներ
A113: Նկարագրությունը` | B113: Սպայական անձնակազմի զինծառայողներին երկարամյա ծառայության, հաշմանդամության և զինծառայողի մահվան դեպքում նրա ընտանիքի անդամներին կերակրողին կորցնելու դեպքում զինվորական կենսաթոշակների տրամադրում
A114: Միջոցառման տեսակը` | B114: Տրանսֆերտների տրամադրում
A115: Շահառուների ընտրության չափանիշները | B115: Սպայական անձնակազմին և նրանց ընտանիքների անդամներին երկարամյա ծառայության, հաշմանդամության և կերակրողին կորցնելու դեպքում կենսաթոշակների տրամադրում 22.12.2010թ.ՀՕ-243-Ն օրենքի 18-րդ, 20-րդ, 22-րդ հոդվածներով
A116: Արդյունքի չափորոշիչներ
A117: Միջոցառման վրա կատարվող ծախսը (հազար դրամ) | C117: =SUM('3'!C114) -> 3250000
A119: Ծրագրի դասիչը` | B119: 1102 | C119: Ցուցանիշների փոփոխությունները ավելացումները նշված են դրական նշանով
...

Sheet 5
I1: Հավելված N 5
G2: ՀՀ կառավարության 2024 թվականի
G3: -----------------ի N -----------Ն որոշման
A5: ՀԱՅԱՍՏԱՆԻ ՀԱՆՐԱՊԵՏՈՒԹՅԱՆ ԿԱՌԱՎԱՐՈՒԹՅԱՆ 2023 ԹՎԱԿԱՆԻ ԴԵԿՏԵՄԲԵՐԻ 28-Ի N 2323-Ն ՈՐՈՇՄԱՆ N 10 ՀԱՎԵԼՎԱԾՈՒՄ ԿԱՏԱՐՎՈՂ ՓՈՓՈԽՈՒԹՅՈՒՆՆԵՐԸ
A8: Գնման առարկայի | G8: Միավորի գինը ( դրամ) | H8: Ցուցանիշների փոփոխությունները ավելացումները նշված են դրական նշանով
A9: Կոդը | D9: Անվանումը | E9: Գնման ձևը | F9: Չափման միավորը | H9: Քանակը | I9: Գումարը (հազար դրամ)
A10: ՀՀ աշխատանքի և սոցիալական հարցերի նախարարության միասնական սոցիալական ծառայություն | I10: =+I11 -> 15000
A11: Բաժին N 10 | B11: Խումբ N 09 | C11: Դաս N 02 | D11: ='2'!F134 -> Սոցիալական պաշտպանությանը տրամադրվող օժանդակ ծառայություններ (այլ դասերին չպատկանող) | I11: =+I12 -> 15000
A12: 1102 11002 | B12: ='1'!C77 -> Կենսաթոշակների և այլ դրամական վճարների իրականացման ապահովում | I12: =I14 -> 15000
B13: ՄԱՍ III. ԾԱՌԱՅՈՒԹՅՈՒՆՆԵՐ
A14: 79571100-1 | B14: փոստային առաքման ծառայություններ | E14: ՄԱ | F14: դրամ | I14: =SUM('1'!D76) -> 15000
