Workbook
Name _tab10: #REF!
Name _tab10: #REF!
Name _tab11: #REF!
Name _tab11: #REF!
Name _tab12: #REF!
Name _tab12: #REF!
Name _tab13: #REF!
Name _tab13: #REF!
Name _tab14: #REF!
Name _tab14: #REF!
Name _tab15: #REF!
Name _tab15: #REF!
Name _tab16: #REF!
Name _tab16: #REF!
Name _tab17: #REF!
Name _tab17: #REF!
Name _tab18: #REF!
Name _tab18: #REF!
Name _tab19: #REF!
Name _tab19: #REF!
Name _tab20: #REF!
Name _tab20: #REF!
Name _tab21: #REF!
Name _tab21: #REF!
Name _tab22: #REF!
Name _tab22: #REF!
Name _tab23: #REF!
Name _tab23: #REF!
Name _tab24: #REF!
Name _tab24: #REF!
Name _tab5: #REF!
Name _tab5: #REF!
Name _tab6: #REF!
Name _tab6: #REF!
Name _tab7: #REF!
Name _tab7: #REF!
Name _tab8: #REF!
Name _tab8: #REF!
Name _tab9: #REF!
Name _tab9: #REF!
Name AgencyCode: #REF!
Name AgencyCode: #REF!
Name AgencyName: #REF!
Name AgencyName: #REF!
Name åû: #REF!
Name åû: #REF!
Name davit: #REF!
Name davit: #REF!
Name Functional1: #REF!
Name Functional1: #REF!
Name ggg: #REF!
Name ggg: #REF!
Name hav: #REF!
Name hav: #REF!
Name havelvac: #REF!
Name havelvac: #REF!
Name mas: #REF!
Name mas: #REF!
Name mass: #REF!
Name mass: #REF!

Sheet 1
D1: Հավելված N 1
C2: ՀՀ կառավարության 2024 թվականի
C3: -----------------ի N -----------Ն որոշման
A6: «ՀԱՅԱՍՏԱՆԻ ՀԱՆՐԱՊԵՏՈՒԹՅԱՆ 2024 ԹՎԱԿԱՆԻ ՊԵՏԱԿԱՆ ԲՅՈՒՋԵԻ ՄԱՍԻՆ» ՀԱՅԱՍՏԱՆԻ ՀԱՆՐԱՊԵՏՈՒԹՅԱՆ ՕՐԵՆՔԻ N 1 ՀԱՎԵԼՎԱԾԻ N 2 ԱՂՅՈՒՍԱԿՈՒՄ ԿԱՏԱՐՎՈՂ ՎԵՐԱԲԱՇԽՈՒՄԸ ԵՎ ՀԱՅԱՍՏԱՆԻ ՀԱՆՐԱՊԵՏՈՒԹՅԱՆ ԿԱՌԱՎԱՐՈՒԹՅԱՆ 2023 ԹՎԱԿԱՆԻ ԴԵԿՏԵՄԲԵՐԻ 28-Ի N 2323-Ն ՈՐՈՇՄԱՆ N 5 ՀԱՎԵԼՎԱԾԻ N 1 ԱՂՅՈՒՍԱԿՈՒՄ ԿԱՏԱՐՎՈՂ ՓՈՓՈԽՈՒԹՅՈՒՆՆԵՐԸ ԵՎ ԼՐԱՑՈՒՄՆԵՐԸ
D7: հազար դրամ
A8: Ծրագրային դասիչը | C8: Բյուջետային հատկացումների գլխավոր կարգադրիչների, ծրագրերի և միջոցառումների անվանումները | D8: Ցուցանիշների փոփոխությունները ավելացումները նշված են դրական նշանով, իսկ նվազեցումները՝ փակագծերում
A9: Ծրագիր | B9: Միջոցառում | D9: Տարի
C10: ԸՆԴԱՄԵՆԸ | D10: =SUM(D11,D113) -> 0
C11: ՀՀ աշխատանքի և սոցիալական հարցերի նախարարություն | D11: =SUM(D12,D44,D25,D57,D69,D100) -> 6972500
A12: 1005 | C12: Ծրագրի անվանումը` | D12: =SUM(D19) -> 2500
C13: Պարգևավճարներ և պատվովճարներ
C14: Ծրագրի նպատակը`
C15: Պետական հոգածության դրսևորում, առանձին կատեգորիայի քաղաքացիներին և նրանց ընտանիքներին սոցիալական երաշխիքների տրամադրում
C16: Վերջնական արդյունքի նկարագրությունը`
C17: Առանձին կատեգորիայի քաղաքացիներին և նրանց ընտանիքի անդամների սոցիալական պաշտպանվածության մակարդակի բարձրացում
A18: Ծրագրի միջոցառումներ
B19: 12002 | C19: Միջոցառման անվանումը` | D19: 2500
C20: Վետերանների պատվովճարներ
C21: Միջոցառման նկարագրությունը`
C22: ՀՄՊ վետերաններին պատվովճարի տրամադրում
C23: Միջոցառման տեսակը
C24: Տրանսֆերտների տրամադրում
A25: 1068 | C25: Ծրագրի անվանումը` | D25: =SUM(D32,D38) -> 1400000
C26: Ժողովրդագրական վիճակի բարելավում
C27: Ծրագրի նպատակը`
C28: Խթանել ժողովրդագրական վիճակի բարելավումը
C29: Վերջնական արդյունքի նկարագրությունը`
C30: Ժողովրդագրական վիճակի բարելավում և բազմազավակության աճ
A31: Ծրագրի միջոցառումներ
B32: 12003 | C32: Միջոցառման անվանումը` | D32: 600000
C33: Երեխա ունեցող ընտանիքների բնակարանային ապահովման աջակցություն
C34: Միջոցառման նկարագրությունը`
C35: Երեխա ունեցող ընտանիքների բնակարանային ապահովման աջակցության տրամադրում
C36: Միջոցառման տեսակը
C37: Տրանսֆերտների տրամադրում
B38: 12004 | C38: Միջոցառման անվանումը` | D38: 800000
C39: Դրամական աջակցություն ընտանիքում 3 և ավելի երեխա ունեցող ընտանիքներին
C40: Միջոցառման նկարագրությունը`
C41: Ընտանիքում 3-րդ և յուրաքանչյուր հաջորդ երեխայի ծնվելու կապակցությամբ նոր ծնված երեխային նշանակել և վճարել դրամական աջակցություն՛ ամսական 50000 դրամի չափով, մինչև երեխայի 6 տարեկանը լրանալը
C42: Միջոցառման տեսակը
...

Sheet 2
G1: Հավելված N 2
F2: ՀՀ կառավարության 2024 թվականի
F3: -----------------ի N -----------Ն որոշման
A5: ՀԱՅԱՍՏԱՆԻ ՀԱՆՐԱՊԵՏՈՒԹՅԱՆ ԿԱՌԱՎԱՐՈՒԹՅԱՆ 2023 ԹՎԱԿԱՆԻ ԴԵԿՏԵՄԲԵՐԻ 28-Ի N 2323-Ն ՈՐՈՇՄԱՆ NN 3 ԵՎ 4 ՀԱՎԵԼՎԱԾՆԵՐՈՒՄ ԿԱՏԱՐՎՈՂ ՓՈՓՈԽՈՒԹՅՈՒՆՆԵՐԸ ԵՎ ԼՐԱՑՈՒՄՆԵՐԸ
G6: (հազար դրամ)
A7: Գործառական դասիչը | D7: Ծրագրային դասիչը | F7: Բյուջետային ծախսերի գործառական դասակարգման բաժինների, խմբերի և դասերի, բյուջետային ծրագրերի միջոցառումների, բյուջետային հատկացումների գլխավոր կարգադրիչների անվանումները | G7: Ցուցանիշների փոփոխությունները ավելացումները նշված են դրական նշանով, իսկ նվազեցումները՝ փակագծերում
A8: Բաժինը | B8: Խումբը | C8: Դասը | D8: Ծրագիր | E8: Միջոցառում | G8: Տարի
F9: ԸՆԴԱՄԵՆԸ ԾԱԽՍԵՐ | G9: =G11+G149 -> 0
F10: այդ թվում`
F11: ՀՀ աշխատանքի և սոցիալական հարցերի նախարարություն | G11: =SUM(G13) -> 6972500
F12: այդ թվում`
A13: 10 | F13: ՍՈՑԻԱԼԱԿԱՆ ՊԱՇՏՊԱՆՈՒԹՅՈՒՆ | G13: =G15+G61+G98+G115+G132 -> 6972500
F14: այդ թվում`
B15: 02 | F15: Ծերություն | G15: =G17 -> 4855000
F16: այդ թվում`
C17: 01 | F17: Ծերություն | G17: =G19 -> 4855000
F18: այդ թվում`
F19: ՀՀ աշխատանքի և սոցիալական հարցերի նախարարություն | G19: =G21+G50 -> 4855000
F20: այդ թվում`
D21: 1102 | F21: Կենսաթոշակային ապահովություն | G21: =SUM(G23,G32,G41) -> 3326000
F22: այդ թվում`
E23: 12001 | F23: ='1'!C83 -> Սպայական անձնակազմի և նրանց ընտանիքների անդամների կենսաթոշակներ | G23: =+G25 -> 3250000
F24: այդ թվում` ըստ կատարողների
F25: ՀՀ աշխատանքի և սոցիալական հարցերի նախարարության միասնական սոցիալական ծառայություն | G25: =+G27 -> 3250000
F26: այդ թվում` բյուջետային ծախսերի տնտեսագիտական դասակարգման հոդվածներ
F27: ԸՆԴԱՄԵՆԸ ԾԱԽՍԵՐ | G27: =+G28 -> 3250000
F28: ԸՆԹԱՑԻԿ ԾԱԽՍԵՐ | G28: =+G29 -> 3250000
F29: ՍՈՑԻԱԼԱԿԱՆ ՆՊԱՍՏՆԵՐ ԵՎ ԿԵՆՍԱԹՈՇԱԿՆԵՐ | G29: =+G30 -> 3250000
F30: Կենսաթոշակներ | G30: =+G31 -> 3250000
F31: - Կենսաթոշակներ | G31: =SUM('1'!D82) -> 3250000
E32: 12002 | F32: ='1'!C89 -> Շարքային զինծառայողների և նրանց ընտանիքների անդամների զինվորական կենսաթոշակներ | G32: =G34 -> 16000
F33: այդ թվում` ըստ կատարողների
F34: ՀՀ աշխատանքի և սոցիալական հարցերի նախարարության միասնական սոցիալական ծառայություն | G34: =G36 -> 16000
F35: այդ թվում` բյուջետային ծախսերի տնտեսագիտական դասակարգման հոդվածներ
F36: ԸՆԴԱՄԵՆԸ ԾԱԽՍԵՐ | G36: =G37 -> 16000
F37: ԸՆԹԱՑԻԿ ԾԱԽՍԵՐ | G37: =G38 -> 16000
F38: ՍՈՑԻԱԼԱԿԱՆ ՆՊԱՍՏՆԵՐ ԵՎ ԿԵՆՍԱԹՈՇԱԿՆԵՐ | G38: =G39 -> 16000
F39: Կենսաթոշակներ | G39: =G40 -> 16000
F40: - Կենսաթոշակներ | G40: =SUM('1'!D88) -> 16000
E41: 12004 | F41: ='1'!C95 -> ՀՀ օրենքով նշանակված կենսաթոշակներ | G41: =G43 -> 60000
...

Sheet 3
C1: Հավելված N 3
C2: ՀՀ կառավարության 2024 թվականի
C3: -----------------ի N -----------Ն որոշման
A6: ՀԱՅԱՍՏԱՆԻ ՀԱՆՐԱՊԵՏՈՒԹՅԱՆ ԿԱՌԱՎԱՐՈՒԹՅԱՆ 2023 ԹՎԱԿԱՆԻ ԴԵԿՏԵՄԲԵՐԻ 28-Ի N 2323-Ն ՈՐՈՇՄԱՆ N 9 ՀԱՎԵԼՎԱԾԻ N 9.15 ԵՎ 9․48 ԱՂՅՈՒՍԱԿՆԵՐՈՒՄ ԿԱՏԱՐՎՈՂ ՓՈՓՈԽՈՒԹՅՈՒՆՆԵՐ ԵՎ ԼՐԱՑՈՒՄՆԵՐ
A8: ՄԱՍ 2. ՊԵՏԱԿԱՆ ՄԱՐՄՆԻ ԳԾՈՎ ԱՐԴՅՈՒՆՔԱՅԻՆ (ԿԱՏԱՐՈՂԱԿԱՆ) ՑՈՒՑԱՆԻՇՆԵՐԸ
A10: Հայաստանի Հանրապետության աշխատանքի և սոցիալական հարցերի նախարարություն
A12: Ծրագրի դասիչը | B12: Ծրագրի անվանումը
A13: 1005 | B13: Պարգևավճարներ և պատվովճարներ
A15: Ծրագրի միջոցառումները
A17: Ծրագրի դասիչը` | B17: 1005 | C17: Ցուցանիշների փոփոխությունները ավելացումները նշված են դրական նշանով, իսկ նվազեցումները՝ փակագծերում
A18: Միջոցառման դասիչը` | B18: 12002 | C18: Տարի
A19: Միջոցառման անվանումը` | B19: Վետերանների պատվովճարներ
A20: Նկարագրությունը` | B20: ՀՄՊ վետերաններին պատվովճարի տրամադրում
A21: Միջոցառման տեսակը` | B21: Տրանսֆերտների տրամադրում
A22: Շահառուների ընտրության չափանիշները | B22: ՀՄ պատերազմի վետերաններին պատվովճարների տրամադրում 02.12.1998թ. ՀՕ-267-Ն օրենքի 4-րդ հոդվածով
A23: Արդյունքի չափորոշիչներ
A24: Պատվովճար ստացող վետերանների թիվ,մարդ,այդ թվում՛ | C24: =SUM(C25:C26) -> -1
A25: պատվովճար ստացող ՀՀ վետերանների թիվ,մարդ | C25: 1
A26: պատվովճար ստացող ԼՂ վետերանների թիվ,մարդ | C26: -2
A27: Միջոցառման վրա կատարվող ծախսը (հազար դրամ) | C27: =SUM('1'!D19) -> 2500
A29: Ծրագրի դասիչը | B29: Ծրագրի անվանումը
A30: ='1'!A25 -> 1068 | B30: Ժողովրդագրական վիճակի բարելավում
A31: Ծրագրի միջոցառումներ
A34: Ծրագրի դասիչը` | B34: 1068 | C34: Ցուցանիշների փոփոխությունները ավելացումները նշված են դրական նշանով
A35: Միջոցառման դասիչը` | B35: 12003 | C35: Տարի
A36: Միջոցառման անվանումը` | B36: Երեխա ունեցող ընտանիքների բնակարանային ապահովման աջակցություն
A37: Նկարագրությունը` | B37: Երեխա ունեցող ընտանիքների բնակարանային ապահովման աջակցության տրամադրում
A38: Միջոցառման տեսակը` | B38: Տրանսֆերտների տրամադրում
A39: Շահառուների ընտրության չափանիշները | B39: Անապահով 4 և ավելի երեխաներ ունեցող ընտանիքներ և Երեխա ունեցող ընտանիքներ, ովքեր ցանկանում են ձեռք բերել բնակարան, կանխավճարի ապահովագրության ձեռք բերում երիտասարդ ընտանիքների համար, երեխայի ծննդով պայմանավորված հիփոթեքային վարկ մարող ընտանիքներ
A40: Արդյունքի չափորոշիչներ
A41: Շահառուների թվաքանակ ընտանիք (բազմազավակ ընտանիքների նպաստի բաղադրիչ) | C41: =C42+C43+C44 -> 880
A42: Շահառուների թվաքանակ (մարզային բնակավայրերում բնակարան ձեռք բերելու համար միանվագ դրամական աջակցության բաղադրիչ) | C42: 120
A43: Շահառուների թվաքանակ (Երիտասարդ ընտանիքների համար կանխավճարի ապահովագրության բաղադրիչ) | C43: 290
A44: Շահառուների թվաքանակ (երեխայի ծննդով պայմանավորված` հիփոթեքային վարկ մարող ընտանիքներին դրամական աջակցության բաղադրիչ) | C44: 470
A45: Միջոցառման վրա կատարվող ծախսը (հազար դրամ) | C45: ='1'!D32 -> 600000
A47: Ծրագրի դասիչը` | B47: 1068 | C47: Ցուցանիշների փոփոխությունները ավելացումները նշված են դրական նշանով, իսկ նվազեցումները՝ փակագծերում
A48: Միջոցառման դասիչը` | B48: 12004 | C48: Տարի
A49: Միջոցառման անվանումը` | B49: Դրամական աջակցություն ընտանիքում 3 և ավելի երեխա ունեցող ընտանիքներին
A50: Նկարագրությունը` | B50: Ընտանիքում 3-րդ և յուրաքանչյուր հաջորդ երեխայի ծնվելու կապակցությամբ նոր ծնված երեխային նշանակել և վճարել դրամական աջակցություն՛ ամսական 50000 դրամի չափով, մինչև երեխայի 6 տարեկանը լրանալը
A51: Միջոցառման տեսակը` | B51: Տրանսֆերտների տրամադրում
...

Sheet 4
C1: Հավելված N 4
C2: ՀՀ կառավարության 2024 թվականի
C3: -----------------ի N -----------Ն որոշման
A5: ՀԱՅԱՍՏԱՆԻ ՀԱՆՐԱՊԵՏՈՒԹՅԱՆ ԿԱՌԱՎԱՐՈՒԹՅԱՆ 2023 ԹՎԱԿԱՆԻ ԴԵԿՏԵՄԲԵՐԻ 28-Ի N 2323-Ն ՈՐՈՇՄԱՆ N 9.1 ՀԱՎԵԼՎԱԾԻ NN 9.1.15, 9.1.19 և 9.1.58 ԱՂՅՈՒՍԱԿՆԵՐՈՒՄ ԿԱՏԱՐՎՈՂ ՓՈՓՈԽՈՒԹՅՈՒՆՆԵՐ ԵՎ ԼՐԱՑՈՒՄՆԵՐ
A7: ՄԱՍ 1. ՊԵՏԱԿԱՆ ՄԱՐՄՆԻ ԳԾՈՎ ԱՐԴՅՈՒՆՔԱՅԻՆ (ԿԱՏԱՐՈՂԱԿԱՆ) ՑՈՒՑԱՆԻՇՆԵՐԸ
A8: ՀՀ աշխատանքի և սոցիալական հարցերի նախարարություն
A9: Ծրագրի դասիչը | B9: Ծրագրի անվանումը
A10: 1068 | B10: Ժողովրդագրական վիճակի բարելավում
A11: Ծրագրի միջոցառումներ
A13: Ծրագրի դասիչը` | B13: 1068 | C13: Ցուցանիշների փոփոխությունները ավելացումները նշված են դրական նշանով
A14: Միջոցառման դասիչը` | B14: 12003 | C14: Տարի
A15: Միջոցառման անվանումը` | B15: Երեխա ունեցող ընտանիքների բնակարանային ապահովման աջակցություն
A16: Նկարագրությունը` | B16: Երեխա ունեցող ընտանիքների բնակարանային ապահովման աջակցության տրամադրում
A17: Միջոցառման տեսակը` | B17: Տրանսֆերտների տրամադրում
A18: Շահառուների ընտրության չափանիշները | B18: Անապահով 4 և ավելի երեխաներ ունեցող ընտանիքներ և Երեխա ունեցող ընտանիքներ, ովքեր ցանկանում են ձեռք բերել բնակարան, կանխավճարի ապահովագրության ձեռք բերում երիտասարդ ընտանիքների համար, երեխայի ծննդով պայմանավորված հիփոթեքային վարկ մարող ընտանիքներ
A19: Արդյունքի չափորոշիչներ
A20: Շահառուների թվաքանակ ընտանիք (բազմազավակ ընտանիքների նպաստի բաղադրիչ) | C20: =C21+C22+C23 -> 880
A21: Շահառուների թվաքանակ (մարզային բնակավայրերում բնակարան ձեռք բերելու համար միանվագ դրամական աջակցության բաղադրիչ) | C21: =SUM('3'!C42) -> 120
A22: Շահառուների թվաքանակ (Երիտասարդ ընտանիքների համար կանխավճարի ապահովագրության բաղադրիչ) | C22: =SUM('3'!C43) -> 290
A23: Շահառուների թվաքանակ (երեխայի ծննդով պայմանավորված` հիփոթեքային վարկ մարող ընտանիքներին դրամական աջակցության բաղադրիչ) | C23: =SUM('3'!C44) -> 470
A24: Միջոցառման վրա կատարվող ծախսը (հազար դրամ) | C24: =SUM('3'!C45) -> 600000
A27: ՀՀ աշխատանքի և սոցիալական հարցերի նախարարության միասնական սոցիալական ծառայություն
A29: Ծրագրի դասիչը | B29: Ծրագրի անվանումը
A30: 1005 | B30: Պարգևավճարներ և պատվովճարներ
A32: Ծրագրի միջոցառումները
A34: Ծրագրի դասիչը` | B34: 1005 | C34: Ցուցանիշների փոփոխությունները ավելացումները նշված են դրական նշանով, իսկ նվազեցումները՝ փակագծերում
A35: Միջոցառման դասիչը` | B35: 12002 | C35: Տարի
A36: Միջոցառման անվանումը` | B36: Վետերանների պատվովճարներ
A37: Նկարագրությունը` | B37: ՀՄՊ վետերաններին պատվովճարի տրամադրում
A38: Միջոցառման տեսակը` | B38: Տրանսֆերտների տրամադրում
A39: Շահառուների ընտրության չափանիշները | B39: ՀՄ պատերազմի վետերաններին պատվովճարների տրամադրում 02.12.1998թ. ՀՕ-267-Ն օրենքի 4-րդ հոդվածով
A40: Արդյունքի չափորոշիչներ
A41: Պատվովճար ստացող վետերանների թիվ,մարդ,այդ թվում՛ | C41: =SUM('3'!C24) -> -1
A42: պատվովճար ստացող ՀՀ վետերանների թիվ,մարդ | C42: =SUM('3'!C25) -> 1
A43: պատվովճար ստացող ԼՂ վետերանների թիվ,մարդ | C43: =SUM('3'!C26) -> -2
A44: Միջոցառման վրա կատարվող ծախսը (հազար դրամ) | C44: =SUM('3'!C27) -> 2500
A46: Ծրագրի դասիչը | B46: Ծրագրի անվանումը
A47: 1068 | B47: Ժողովրդագրական վիճակի բարելավում
A48: Ծրագրի միջոցառումներ
A50: Ծրագրի դասիչը` | B50: 1068 | C50: Ցուցանիշների փոփոխությունները ավելացումները նշված են դրական նշանով, իսկ նվազեցումները՝ փակագծերում
...

Sheet 5
I1: Հավելված N 5
G2: ՀՀ կառավարության 2024 թվականի
G3: -----------------ի N -----------Ն որոշման
A5: ՀԱՅԱՍՏԱՆԻ ՀԱՆՐԱՊԵՏՈՒԹՅԱՆ ԿԱՌԱՎԱՐՈՒԹՅԱՆ 2023 ԹՎԱԿԱՆԻ ԴԵԿՏԵՄԲԵՐԻ 28-Ի N 2323-Ն ՈՐՈՇՄԱՆ N 10 ՀԱՎԵԼՎԱԾՈՒՄ ԿԱՏԱՐՎՈՂ ՓՈՓՈԽՈՒԹՅՈՒՆՆԵՐԸ
A8: Գնման առարկայի | G8: Միավորի գինը ( դրամ) | H8: Ցուցանիշների փոփոխությունները ավելացումները նշված են դրական նշանով
A9: Կոդը | D9: Անվանումը | E9: Գնման ձևը | F9: Չափման միավորը | H9: Քանակը | I9: Գումարը (հազար դրամ)
A10: ՀՀ աշխատանքի և սոցիալական հարցերի նախարարության միասնական սոցիալական ծառայություն | I10: =+I11 -> 15000
A11: Բաժին N 10 | B11: Խումբ N 09 | C11: Դաս N 02 | D11: ='2'!F134 -> Սոցիալական պաշտպանությանը տրամադրվող օժանդակ ծառայություններ (այլ դասերին չպատկանող) | I11: =+I12 -> 15000
A12: 1102 11002 | B12: ='1'!C77 -> Կենսաթոշակների և այլ դրամական վճարների իրականացման ապահովում | I12: =I14 -> 15000
B13: ՄԱՍ III. ԾԱՌԱՅՈՒԹՅՈՒՆՆԵՐ
A14: 79571100-1 | B14: փոստային առաքման ծառայություններ | E14: ՄԱ | F14: դրամ | I14: =SUM('1'!D76) -> 15000
