Workbook
Name a: #REF!
Name AgencyCode: #REF!
Name AgencyName: #REF!
Name davit: #REF!
Name Functional1: #REF!
Name ggg: #REF!
Name HAVELVAC10: #REF!
Name PANature: #REF!
Name PAType: #REF!
Name Performance2: #REF!
Name PerformanceType: #REF!
Name Հավելված: #REF!
Name Մաս: #REF!
Name շախմատիստ: #REF!

Sheet havelvac 1
D1: Հավելված N 1
D2: ՀՀ կառավարության 2024 թվականի
D3: ______________ ի N ___Ն որոշման
B5: «ՀԱՅԱՍՏԱՆԻ ՀԱՆՐԱՊԵՏՈՒԹՅԱՆ 2024 ԹՎԱԿԱՆԻ ՊԵՏԱԿԱՆ ԲՅՈՒՋԵԻ ՄԱՍԻՆ» ՕՐԵՆՔԻ N 1 ՀԱՎԵԼՎԱԾԻ N 2 ԱՂՅՈՒՍԱԿՈՒՄ ԿԱՏԱՐՎՈՂ ՎԵՐԱԲԱՇԽՈՒՄԸ ԵՎ ՀԱՅԱՍՏԱՆԻ ՀԱՆՐԱՊԵՏՈՒԹՅԱՆ ԿԱՌԱՎԱՐՈՒԹՅԱՆ 2023 ԹՎԱԿԱՆԻ ԴԵԿՏԵՄԲԵՐԻ 28-Ի N 2323-Ն ՈՐՈՇՄԱՆ N 5 ՀԱՎԵԼՎԱԾԻ N 1 ԱՂՅՈՒՍԱԿՈՒՄ ԿԱՏԱՐՎՈՂ ՓՈՓՈԽՈՒԹՅՈՒՆՆԵՐԸ ԵՎ ԼՐԱՑՈՒՄՆԵՐԸ
E6: հազար դրամ
B7: Ծրագրային դասիչը | D7: Բյուջետային հատկացումների գլխավոր կարգադրիչների, ծրագրերի և միջոցառումների անվանումները | E7: Ցուցանիշների փոփոխությունը (ավելացումները նշված են դրական նշանով, իսկ նվազեցումները` փակագծերում)
B8: ծրագիր | C8: միջոցառում | E8: Տարի
D9: ԸՆԴԱՄԵՆԸ | E9: =E10 -> 0
B10: ՀՀ Կրթության, գիտության, մշակույթի և սպորտի նախարարություն | E10: =E11+E30 -> 0
B11: 1162 | D11: Ծրագրի անվանումը` | E11: =E18+E24 -> 0
D12: Գիտական և գիտատեխնիկական հետազոտությունների ծրագիր
D13: Ծրագրի նպատակը`
D14: Գիտական և գիտատեխնիկական գործունեության հիմնարար, կիրառական և թեմատիկ հետազոտությունների իրականացում, ենթակառուցվածքի և ազգային արժեք ներկայացնող գիտական օբյեկտների պահպանում և զարգացում, գիտական ներուժի վերարտադրության ապահովում
D15: Վերջնական արդյունքի նկարագրությունը`
D16: Գիտության և տեխնիկայի զարգացման գերակա ուղղությունների հետազոտությունների իրականացում, գիտական ներուժի զարգացում, ազգային արժեք ներկայացնող գիտական օբյեկտների պահպանում
B17: Ծրագրի միջոցառումներ
C18: 11005 | D18: Միջոցառման անվանումը` | E18: -350000
D19: Գիտական և գիտատեխնիկական պայմանագրային (թեմատիկ) հետազոտություններ
D20: Միջոցառման նկարագրությունը`
D21: Գիտական և գիտատեխնիկական գործունեության պայմանագրային (թեմատիկ) հետազոտություններ
D22: Միջոցառման տեսակը
D23: Ծառայությունների մատուցում
C24: 11002 | D24: Միջոցառման անվանումը` | E24: 350000
D25: Գիտական ենթակառուցվածքի արդիականացում
D26: Միջոցառման նկարագրությունը`
D27: Գիտական կազմակերպությունների և բուհերի գիտական ստորաբաժանումների զարգացում, ծրագրերի իրականացում, գիտական սարքավորումների արդիականացում, միջազգային համագործակցության աջակցություն
D28: Միջոցառման տեսակը
D29: Ծառայությունների մատուցում
B30: 1111 | D30: Ծրագրի անվանումը` | E30: =E37+E43+E49+E55 -> 0
D31: Բարձրագույն և հետբուհական մասնագիտական կրթության ծրագիր
D32: Ծրագրի նպատակը`
D33: Ապահովել մատչելի, որակյալ և մրցունակ բարձրագույն և հետբուհական մասնագիտական կրթություն
D34: Վերջնական արդյունքի նկարագրությունը`
D35: Գիտելիքների տնտեսության և գիտության զարգացման արդի պահանջներին համապատասխան բարձրագույն և հետբուհական մասնագիտական որակավորում ունեցող մասնագետների պատրաստում
B36: Ծրագրի միջոցառումներ
C37: 12004 | D37: Միջոցառման անվանումը` | E37: -605303.4
D38: Բարձրագույն մասնագիտական կրթության գծով ուսանողական նպաստների տրամադրում
D39: Միջոցառման նկարագրությունը`
D40: Բարձրագույն մասնագիտական կրթություն ստացող ուսանողների նպաստներ
D41: Միջոցառման տեսակը
...

Sheet havelvac 2
G1: Հավելված N 2
G2: ՀՀ կառավարության 2024 թվականի
G3: ______________ ի N ___Ն որոշման
B5: ՀԱՅԱՍՏԱՆԻ ՀԱՆՐԱՊԵՏՈՒԹՅԱՆ ԿԱՌԱՎԱՐՈՒԹՅԱՆ 2023 ԹՎԱԿԱՆԻ ԴԵԿՏԵՄԲԵՐԻ 28-Ի N 2323-Ն ՈՐՈՇՄԱՆ N 3 ԵՎ N 4 ՀԱՎԵԼՎԱԾՆԵՐՈՒՄ ԿԱՏԱՐՎՈՂ ՓՈՓՈԽՈՒԹՅՈՒՆՆԵՐԸ ԵՎ ԼՐԱՑՈՒՄՆԵՐ
H6: հազար դրամ
B7: Գործառական դասիչը | E7: Ծրագրային դասիչը | G7: Բյուջետային ծախսերի գործառական դասակարգման բաժինների, խմբերի և դասերի, բյուջետային ծրագրերի միջոցառումների, բյուջետային հատկացումների գլխավոր կարգադրիչների անվանումները | H7: Ցուցանիշների փոփոխությունը (ավելացումները նշված են դրական նշանով, իսկ նվազեցումները` փակագծերում)
B8: Բաժին | C8: Խումբ | D8: Դաս | E8: Ծրագիր | F8: Միջոցառում | H8: Տարի
G9: ԸՆԴԱՄԵՆԸ | H9: =H11 -> 0
G10: այդ թվում`
G11: ՀՀ Կրթության, գիտության, մշակույթի և սպորտի նախարարություն | H11: =H13 -> 0
G12: այդ թվում`
B13: 01 | G13: ԸՆԴՀԱՆՈՒՐ ԲՆՈՒՅԹԻ ՀԱՆՐԱՅԻՆ ԾԱՌԱՅՈՒԹՅՈՒՆՆԵՐ | H13: =H15+H32 -> 0
G14: այդ թվում`
C15: 05 | G15: Ընդհանուր բնույթի հանրային ծառայությունների գծով հետազոտական և նախագծային աշխատանքներ | H15: =+H17 -> -350000
G16: այդ թվում`
D17: 01 | G17: Ընդհանուր բնույթի հանրային ծառայությունների գծով հետազոտական և նախագծային աշխատանքներ | H17: =+H21 -> -350000
G18: այդ թվում`
G19: ՀՀ կրթության , գիտության, մշակույթի և սպորտի նախարարություն
G20: այդ թվում`
E21: 1162 | G21: Գիտական և գիտատեխնիկական հետազոտությունների ծրագիր | H21: =H23 -> -350000
G22: այդ թվում`
F23: 11005 | G23: Գիտական և գիտատեխնիկական պայմանագրային (թեմատիկ) հետազոտություններ | H23: =+H25 -> -350000
G24: այդ թվում` ըստ կատարողների
G25: ՀՀ կրթության, գիտության, մշակույթի և սպորտի նախարարության բարձրագույն կրթության և գիտության կոմիտե | H25: =+H27 -> -350000
G26: այդ թվում` բյուջետային ծախսերի տնտեսագիտական դասակարգման հոդվածներ
G27: ԸՆԴԱՄԵՆԸ ԾԱԽՍԵՐ | H27: =+H28 -> -350000
G28: ԸՆԹԱՑԻԿ ԾԱԽՍԵՐ | H28: =+H29 -> -350000
G29: ԴՐԱՄԱՇՆՈՐՀՆԵՐ | H29: =H30 -> -350000
G30: Ընթացիկ դրամաշնորհներ պետական հատվածի այլ մակարդակներին | H30: =H31 -> -350000
G31: - Այլ ընթացիկ դրամաշնորհներ | H31: ='havelvac 1'!E18 -> -350000
C32: 04 | G32: Ընդհանուր բնույթի հետազոտական աշխատանք | H32: =H34 -> 350000
G33: այդ թվում`
D34: 01 | G34: Ընդհանուր բնույթի հետազոտական աշխատանք | H34: =H36 -> 350000
G35: այդ թվում`
G36: ՀՀ կրթության, գիտության, մշակույթի և սպորտի նախարարություն | H36: =H38 -> 350000
G37: այդ թվում`
E38: 1162 | G38: Գիտական և գիտատեխնիկական հետազոտությունների ծրագիր | H38: =H40 -> 350000
G39: այդ թվում`
F40: 11002 | G40: Գիտական ենթակառուցվածքի արդիականացում | H40: =H42 -> 350000
G41: այդ թվում` ըստ կատարողների
...

Sheet havelvac 3
I1: Հավելված N 3
H2: ՀՀ կառավարության 2024 թվականի
H3: ______________ ի N ___Ն որոշման
B5: ՀԱՅԱՍՏԱՆԻ ՀԱՆՐԱՊԵՏՈՒԹՅԱՆ ԿԱՌԱՎԱՐՈՒԹՅԱՆ 2023 ԹՎԱԿԱՆԻ ԴԵԿՏԵՄԲԵՐԻ 28-Ի N 2323-Ն ՈՐՈՇՄԱՆ N 5 ՀԱՎԵԼՎԱԾԻ N 7.1 ԱՂՅՈՒՍԱԿՈՒՄ ԿԱՏԱՐՎՈՂ ՓՈՓՈԽՈՒԹՅՈՒՆԸ ԵՎ ԱՎԵԼԱՑՈՒՄԸ
I6: հազար դրամներով
B7: Ծրագրային դասիչը | D7: Բյուջետային հատկացումների գլխավոր կարգադրիչների, ծրագրերի, միջոցառումների, ծախսային ուղղությունների անվանումները | G7: Միջոցառումները կատարող պետական մարմինների և դրամաշնորհ ստացող տնտեսվարող սուբյեկտների անվանումները | H7: Գերատեսչական պատկանելություն | I7: Ցուցանիշների փոփոխությունը (ավելացումները նշված են դրական նշանով, իսկ նվազեցումները` փակագծերում)
B8: Ծրագիր | C8: Միջոցառում | I8: Տարի
B9: ԸՆԴԱՄԵՆԸ | I9: =I10 -> 0
B10: ՀՀ կրթության, գիտության, մշակույթի և սպորտի նախարարություն | I10: =I11 -> 0
B11: 1162 | C11: Գիտական և գիտատեխնիկական հետազոտությունների ծրագիր | I11: =I12+I14 -> 0
C12: 11005 | D12: Գիտական և գիտատեխնիկական գործունեության պայմանագրային (թեմատիկ) հետազոտություններ | G12: ՀՀ կրթության, գիտության, մշակույթի և սպորտի նախարարության բարձրագույն կրթության և գիտության կոմիտե | I12: =I13 -> -350000
G13: Պայմանագրային (թեմատիկ) հետազոտությունների գիտական թեմաների ֆինանսավորում | H13: մրցույթով ընտրված գիտահետազոտական խմբեր | I13: ='havelvac 1'!E18 -> -350000
C14: 11002 | D14: Գիտական ենթակառուցվածքի արդիականացում | G14: ՀՀ կրթության, գիտության, մշակույթի և սպորտի նախարարության բարձրագույն կրթության և գիտության կոմիտե | I14: =I15 -> 350000
G15: Գիտական ստորաբաժանումների նյութատեխնիկական բազայի արդիականացման համար ֆինանսական աջակցություն | H15: սահմանված կարգով ընտրված կազմակերպություններ | I15: ='havelvac 2'!H44 -> 350000

Sheet havelvac 4
G1: Հավելված N 4
F2: ՀՀ կառավարության 2024 թվականի
F3: ______________ ի N ___Ն որոշման
B5: ՀԱՅԱՍՏԱՆԻ ՀԱՆՐԱՊԵՏՈՒԹՅԱՆ ԿԱՌԱՎԱՐՈՒԹՅԱՆ 2023 ԹՎԱԿԱՆԻ ԴԵԿՏԵՄԲԵՐԻ 28-Ի N 2323-Ն ՈՐՈՇՄԱՆ N 5 ՀԱՎԵԼՎԱԾԻ N 7.2 ԱՂՅՈՒՍԱԿՈՒՄ ԿԱՏԱՐՎՈՂ ՓՈՓՈԽՈՒԹՅՈՒՆԸ
G6: հազար դրամներով
B7: Ծրագրային դասիչը | D7: Բյուջետային հատկացումների գլխավոր կարգադրիչների, ծրագրերի, միջոցառումների անվանումները | F7: Միջոցառումները կատարող պետական մարմինների անվանումները | G7: Ցուցանիշների փոփոխությունը (ավելացումները նշված են դրական նշանով, իսկ նվազեցումները` փակագծերում)
B8: Ծրագիր | C8: Միջոցառում | G8: Տարի
D9: ԸՆԴԱՄԵՆԸ | G9: =G10 -> 0
C10: ՀՀ կրթության, գիտության, մշակույթի և սպորտի նախարարություն | G10: =G11 -> 0
B11: 1162 | C11: Գիտական և գիտատեխնիկական հետազոտությունների ծրագիր | G11: =G12+G13 -> 0
C12: 11005 | D12: Գիտական և գիտատեխնիկական գործունեության պայմանագրային (թեմատիկ) հետազոտություններ | F12: ՀՀ կրթության, գիտության, մշակույթի և սպորտի նախարարության բարձրագույն կրթության և գիտության կոմիտե | G12: ='havelvac 3'!I13 -> -350000
C13: 11002 | D13: Գիտական ենթակառուցվածքի արդիականացում | G13: ='havelvac 2'!H40 -> 350000

Sheet havelvac 5
C1: Հավելված N 5
C2: ՀՀ կառավարության 2024 թվականի
C3: ______________ ի N ___Ն որոշման
B5: ՀԱՅԱՍՏԱՆԻ ՀԱՆՐԱՊԵՏՈՒԹՅԱՆ ԿԱՌԱՎԱՐՈՒԹՅԱՆ 2023 ԹՎԱԿԱՆԻ ԴԵԿՏԵՄԲԵՐԻ 28-Ի N 2323-Ն ՈՐՈՇՄԱՆ N 9 ՀԱՎԵԼՎԱԾԻ N 9.13 ԱՂՅՈՒՍԱԿՆԵՐՈՒՄ ԿԱՏԱՐՎՈՂ ՓՈՓՈԽՈՒԹՅՈՒՆՆԵՐԸ ԵՎ ԼՐԱՑՈՒՄՆԵՐԸ
B6: Աղյուսակ 9․13
B7: ՀՀ կրթության, գիտության, մշակույթի և սպորտի նախարարություն
B8: ՄԱՍ 2. ՊԵՏԱԿԱՆ ՄԱՐՄՆԻ ԳԾՈՎ ԱՐԴՅՈՒՆՔԱՅԻՆ (ԿԱՏԱՐՈՂԱԿԱՆ) ՑՈՒՑԱՆԻՇՆԵՐԸ
B10: Ծրագրի դասիչը | C10: Ծրագրի անվանումը
B11: 1162 | C11: Գիտական և գիտատեխնիկական հետազոտությունների ծրագիր
B13: Ծրագրի միջոցառումները
B14: Ծրագրի դասիչը՝ | C14: 1162 | D14: Ցուցանիշների փոփոխությունը (ավելացումները նշված են դրական նշանով)
B15: Միջոցառման դասիչը` | C15: 11002 | D15: Տարի
B16: Միջոցառման անվանումը` | C16: Գիտական ենթակառուցվածքի արդիականացում
B17: Նկարագրությունը` | C17: Գիտական կազմակերպությունների և բուհերի գիտական ստորաբաժանումների զարգացում, ծրագրերի իրականացում, գիտական սարքավորումների արդիականացում, միջազգային համագործակցության աջակցություն
B18: Միջոցառման տեսակը` | C18: Ծառայությունների մատուցում
B19: Միջոցառումն իրականացնողի անվանումը՛ | C19: "Գնումների մասին" ՀՀ օրենքի համաձայն ընտրված կազմակերպություններ, մրցույթով ընտրված կազմակերպություններ, մասնագիտացված կազմակերպություններ
B20: Արդյունքի չափորոշիչներ
B21: Միջոցառման վրա կատարվող ծախսը (հազար դրամ) | D21: ='havelvac 2'!H40 -> 350000
B23: Ծրագրի դասիչը՝ | C23: 1162 | D23: Ցուցանիշների փոփոխությունը (նվազեցումները նշված են փակագծերում)
B24: Միջոցառման դասիչը` | C24: 11005 | D24: Տարի
B25: Միջոցառման անվանումը` | C25: Գիտական և գիտատեխնիկական պայմանագրային (թեմատիկ) հետազոտություններ
B26: Նկարագրությունը` | C26: Գիտական և գիտատեխնիկական գործունեության պայմանագրային (թեմատիկ) հետազոտություններ
B27: Միջոցառման տեսակը` | C27: Ծառայությունների մատուցում
B28: Միջոցառումն իրականացնողի անվանումը՛ | C28: ՀՀ կառավարության 2001 թ. նոյեմբերի 17-ի "Գիտական և գիտատեխնիկական գործունեության պայմանագրային (թեմատիկ) ֆինանսավորման կարգը հաստատելու մասին" N 1122 որոշման համաձայն ընտրված կազմակերպություններ
B29: Արդյունքի չափորոշիչներ
B30: Թեմաների թիվ, հատ, այդ թվում՝ | D30: -695
B31: Թեմաներում ներգրավված կանանց թվաքանակ, մարդ | D31: -1174
B32: Միջոցառման վրա կատարվող ծախսը (հազար դրամ) | D32: ='havelvac 2'!H23 -> -350000
B34: Ծրագրի դասիչը | C34: Ծրագրի անվանումը
B35: 1111 | C35: Բարձրագույն և հետբուհական մասնագիտական կրթության ծրագիր
B37: Ծրագրի միջոցառումները
B38: Ծրագրի դասիչը` | C38: 1111 | D38: Ցուցանիշների փոփոխությունը (նվազեցումները նշված են փակագծերում)
B39: Միջոցառման դասիչը` | C39: 12004 | D39: Տարի
B40: Միջոցառման անվանումը` | C40: Բարձրագույն մասնագիտական կրթության գծով ուսանողական նպաստների տրամադրում
B41: Նկարագրությունը` | C41: Բարձրագույն մասնագիտական կրթություն ստացող ուսանողների նպաստներ
B42: Միջոցառման տեսակը` | C42: Տրանսֆերտների տրամադրում
B43: Շահառուների ընտրության չափորոշիչը | C43: Բարձրագույն մասնագիտական կրթություն ստացող ուսանողներ
B44: Արդյունքի չափորոշիչներ
B45: Նպաստներ ստացող ուսանողների թիվ, մարդ | D45: -2278
B46: Միջոցառման վրա կատարվող ծախսը (հազար դրամ) | D46: ='havelvac 2'!H63 -> -605303.4
...

Sheet havelvac 6
C1: Հավելված N 6
C2: ՀՀ կառավարության 2024 թվականի
C3: ______________ ի N ___Ն որոշման
B5: ՀԱՅԱՍՏԱՆԻ ՀԱՆՐԱՊԵՏՈՒԹՅԱՆ ԿԱՌԱՎԱՐՈՒԹՅԱՆ 2023 ԹՎԱԿԱՆԻ ԴԵԿՏԵՄԲԵՐԻ 28-Ի N 2323-Ն ՈՐՈՇՄԱՆ N 9.1 ՀԱՎԵԼՎԱԾԻ N 9.1.28 ԿԱՏԱՐՎՈՂ ՓՈՓՈԽՈՒԹՅՈՒՆՆԵՐԸ ԵՎ ԼՐԱՑՈՒՄՆԵՐԸ
B6: Աղյուսակ 9․1.28
B7: ՀՀ կրթության, գիտության, մշակույթի և սպորտի նախարարության բարձրագույն կրթության և գիտության կոմիտե
B8: ՄԱՍ 1. ՊԵՏԱԿԱՆ ՄԱՐՄՆԻ ԳԾՈՎ ԱՐԴՅՈՒՆՔԱՅԻՆ (ԿԱՏԱՐՈՂԱԿԱՆ) ՑՈՒՑԱՆԻՇՆԵՐԸ
B10: Ծրագրի դասիչը | C10: Ծրագրի անվանումը
B11: 1162 | C11: Գիտական և գիտատեխնիկական հետազոտությունների ծրագիր
B13: Ծրագրի միջոցառումները
B14: Ծրագրի դասիչը՝ | C14: 1162 | D14: Ցուցանիշների փոփոխությունը (ավելացումները նշված են դրական նշանով)
B15: Միջոցառման դասիչը` | C15: 11002 | D15: Տարի
B16: Միջոցառման անվանումը` | C16: Գիտական ենթակառուցվածքի արդիականացում
B17: Նկարագրությունը` | C17: Գիտական կազմակերպությունների և բուհերի գիտական ստորաբաժանումների զարգացում, ծրագրերի իրականացում, գիտական սարքավորումների արդիականացում, միջազգային համագործակցության աջակցություն
B18: Միջոցառման տեսակը` | C18: Ծառայությունների մատուցում
B19: Միջոցառումն իրականացնողի անվանումը՛ | C19: "Գնումների մասին" ՀՀ օրենքի համաձայն ընտրված կազմակերպություններ, մրցույթով ընտրված կազմակերպություններ, մասնագիտացված կազմակերպություններ
B20: Արդյունքի չափորոշիչներ
B21: Միջոցառման վրա կատարվող ծախսը (հազար դրամ) | D21: ='havelvac 2'!H40 -> 350000
B23: Ծրագրի դասիչը՝ | C23: 1162 | D23: Ցուցանիշների փոփոխությունը (նվազեցումները նշված են փակագծերում)
B24: Միջոցառման դասիչը` | C24: 11005 | D24: Տարի
B25: Միջոցառման անվանումը` | C25: Գիտական և գիտատեխնիկական պայմանագրային (թեմատիկ) հետազոտություններ
B26: Նկարագրությունը` | C26: Գիտական և գիտատեխնիկական գործունեության պայմանագրային (թեմատիկ) հետազոտություններ
B27: Միջոցառման տեսակը` | C27: Ծառայությունների մատուցում
B28: Միջոցառումն իրականացնողի անվանումը՛ | C28: ՀՀ կառավարության 2001 թ. նոյեմբերի 17-ի "Գիտական և գիտատեխնիկական գործունեության պայմանագրային (թեմատիկ) ֆինանսավորման կարգը հաստատելու մասին" N 1122 որոշման համաձայն ընտրված կազմակերպություններ
B29: Արդյունքի չափորոշիչներ
B30: Թեմաների թիվ, հատ, այդ թվում՝ | D30: -695
B31: Թեմաներում ներգրավված կանանց թվաքանակ, մարդ | D31: -1174
B32: Միջոցառման վրա կատարվող ծախսը (հազար դրամ) | D32: ='havelvac 2'!H23 -> -350000
B34: Ծրագրի դասիչը | C34: Ծրագրի անվանումը
B35: 1111 | C35: Բարձրագույն և հետբուհական մասնագիտական կրթության ծրագիր
B37: Ծրագրի միջոցառումները
B38: Ծրագրի դասիչը` | C38: 1111 | D38: Ցուցանիշների փոփոխությունը (նվազեցումները նշված են փակագծերում)
B39: Միջոցառման դասիչը` | C39: 12004 | D39: Տարի
B40: Միջոցառման անվանումը` | C40: Բարձրագույն մասնագիտական կրթության գծով ուսանողական նպաստների տրամադրում
B41: Նկարագրությունը` | C41: Բարձրագույն մասնագիտական կրթություն ստացող ուսանողների նպաստներ
B42: Միջոցառման տեսակը` | C42: Տրանսֆերտների տրամադրում
B43: Շահառուների ընտրության չափորոշիչը | C43: Բարձրագույն մասնագիտական կրթություն ստացող ուսանողներ
B44: Արդյունքի չափորոշիչներ
B45: Նպաստներ ստացող ուսանողների թիվ, մարդ | D45: -2278
B46: Միջոցառման վրա կատարվող ծախսը (հազար դրամ) | D46: ='havelvac 2'!H65 -> -605303.4
...

Sheet havelvac 7
H1: Հավելված N 7
F2: ՀՀ կառավարության 2024 թվականի
F3: ______________ ի N ___Ն որոշման
B5: ՀԱՅԱՍՏԱՆԻ ՀԱՆՐԱՊԵՏՈՒԹՅԱՆ ԿԱՌԱՎԱՐՈՒԹՅԱՆ 2023 ԹՎԱԿԱՆԻ ԴԵԿՏԵՄԲԵՐԻ 28-Ի N 2323-Ն ՈՐՈՇՄԱՆ N 10 ՀԱՎԵԼՎԱԾՈՒՄ ԿԱՏԱՐՎՈՂ ՓՈՓՈԽՈՒԹՅՈՒՆՆԵՐԸ
B7: Կոդը | C7: Անվանումը | D7: Գնման ձևը | E7: Չափման միավորը | F7: Ցուցանիշների փոփոխությունը (ավելացումները նշված են դրական նշանով)
F8: Միավորի գինը | G8: Քանակը | H8: Գումարը (հազար դրամով)
B9: ՀՀ կրթության, գիտության, մշակույթի և սպորտի նախարարության բարձրագույն կրթության և գիտության կոմիտե | H9: =H10 -> 413663.01
B10: Բաժին N 01 | C10: Խումբ N 04 | D10: Դաս N 01 | E10: Ընդհանուր բնույթի հետազոտական աշխատանք | H10: =H11 -> 413663.01
B11: 1162 11002 Գիտական ենթակառուցվածքի արդիականացում | H11: =H13 -> 413663.01
C12: ՄԱՍ III. Ծ Ա Ռ Ա Յ ՈՒ Թ Յ ՈՒ Ն Ն Ե Ր | H12: =H13 -> 413663.01
B13: 72241600/1 | C13: Ñ³Ù³Ï³ñ·³ÛÇÝ ËáñÑñ¹³ïí³Ï³Ý Í³é³ÛáõÃÛáõÝÝ»ñ | D13: ՄԱ | E13: դրամ | F13: 4.1366301e+08 | G13: 1 | H13: =F13*G13/1000 -> 413663.01
