Workbook
Name _tab10: #REF!
Name _tab11: #REF!
Name _tab12: #REF!
Name _tab13: #REF!
Name _tab14: #REF!
Name _tab15: #REF!
Name _tab16: #REF!
Name _tab17: #REF!
Name _tab18: #REF!
Name _tab19: #REF!
Name _tab20: #REF!
Name _tab21: #REF!
Name _tab22: #REF!
Name _tab23: #REF!
Name _tab24: #REF!
Name _tab5: #REF!
Name _tab6: #REF!
Name _tab7: #REF!
Name _tab8: #REF!
Name _tab9: #REF!
Name AgencyCode: #REF!
Name AgencyCode: #REF!
Name AgencyName: #REF!
Name AgencyName: #REF!
Name åû: #REF!
Name åû: #REF!
Name davit: #REF!
Name davit: #REF!
Name Functional1: #REF!
Name Functional1: #REF!
Name ggg: #REF!
Name ggg: #REF!
Name hav: #REF!
Name havelvac: #REF!
Name mas: #REF!
Name mas: #REF!
Name mass: #REF!
Name mass: #REF!
Name PANature: #REF!
Name PANature: #REF!
Name par_count: #REF!,#REF!,#REF!,#REF!,#REF!,#REF!,#REF!,#REF!,#REF!,#REF!,#REF!,#REF!,#REF!,#REF!,#REF!
Name par_qual: #REF!,#REF!,#REF!,#REF!,#REF!
Name par_time: #REF!,#REF!,#REF!,#REF!
Name par2.12s: #REF!
Name par2.4s: #REF!,#REF!,#REF!,#REF!,#REF!,#REF!,#REF!,#REF!,#REF!,#REF!,#REF!,#REF!,#REF!,#REF!,#REF!,#REF!
Name par2.5s: #REF!,#REF!
Name par2.6s: #REF!,#REF!,#REF!,#REF!
Name par2.7s: #REF!,#REF!
Name par2.9s: #REF!,#REF!,#REF!,#REF!,#REF!,#REF!,#REF!,#REF!,#REF!,#REF!,#REF!,#REF!,#REF!,#REF!,#REF!,#REF!
Name par4.10s: #REF!,#REF!
Name par4.11d: #REF!,#REF!,#REF!,#REF!,#REF!
Name par4.12d: #REF!
Name par4.13s: #REF!
Name par4.14: #REF!,#REF!,#REF!,#REF!,#REF!,#REF!
Name par4.15: #REF!,#REF!,#REF!
Name par4.16: #REF!,#REF!,#REF!
Name par4.17: #REF!,#REF!,#REF!,#REF!
Name par4.18d: #REF!,#REF!
Name par4.19s: #REF!
Name par4.20f: #REF!

Sheet h1
B1: Հավելված N 1
B2: ՀՀ կառավարության 2024 թվականի
B3: ______________ ի ___Ն որոշման
B6: «ՀԱՅԱՍՏԱՆԻ ՀԱՆՐԱՊԵՏՈՒԹՅԱՆ 2024 ԹՎԱԿԱՆԻ ՊԵՏԱԿԱՆ ԲՅՈՒՋԵԻ ՄԱՍԻՆ» ՕՐԵՆՔԻ 2-ՐԴ ՀՈԴՎԱԾԻ ԱՂՅՈՒՍԱԿՈՒՄ ԿԱՏԱՐՎՈՂ ՓՈՓՈԽՈՒԹՅՈՒՆՆԵՐԸ
C8: (հազ. դրամ)
C9: Ցուցանիշների փոփոխությունը (նվազեցումները նշված են փակագծերում)
B10: 1. Եկամուտների գծով | C10: =h12d!E12 -> -1845377.6
B11: 2. Ծախսերի գծով | C11: =հ8!E10 -> -15152263
B12: 3. Դեֆիցիտը (պակասուրդը) | C12: =+C11-C10 -> -13306886
B16: ՀԱՅԱՍՏԱՆԻ ՀԱՆՐԱՊԵՏՈՒԹՅԱՆ ՎԱՐՉԱՊԵՏԻ ԱՇԽԱՏԱԿԱԶՄԻ ՂԵԿԱՎԱՐ | C16: Ա. ՀԱՐՈՒԹՅՈՒՆՅԱՆ

Sheet h2
B1: Հավելված N 2
B2: ՀՀ կառավարության 2024 թվականի
B3: ______________ ի ___Ն որոշման
B5: «ՀԱՅԱՍՏԱՆԻ ՀԱՆՐԱՊԵՏՈՒԹՅԱՆ 2024 ԹՎԱԿԱՆԻ ՊԵՏԱԿԱՆ ԲՅՈՒՋԵԻ ՄԱՍԻՆ» ՕՐԵՆՔԻ 6-ՐԴ ՀՈԴՎԱԾԻ ԱՂՅՈՒՍԱԿՈՒՄ ԵՎ ՀԱՅԱՍՏԱՆԻ ՀԱՆՐԱՊԵՏՈՒԹՅԱՆ ԿԱՌԱՎԱՐՈՒԹՅԱՆ 2023 ԹՎԱԿԱՆԻ ԴԵԿՏԵՄԲԵՐԻ 28-Ի N 2323-Ն ՈՐՈՇՄԱՆ N 2 ՀԱՎԵԼՎԱԾՈՒՄ ԿԱՏԱՐՎՈՂ ՓՈՓՈԽՈՒԹՅՈՒՆՆԵՐԸ
C7: (հազ. դրամ)
B8: Եկամտատեսակ | C8: Ցուցանիշների փոփոխությունը (նվազեցումները նշված են փակագծերում)
C9: Տարի
B10: ՊԵՏԱԿԱՆ ԲՅՈՒՋԵԻ ԵԿԱՄՈՒՏՆԵՐ | C10: =+C12 -> -1845377.6
B11: այդ թվում՝
B12: Պաշտոնական դրամաշնորհներ | C12: =h12d!E12 -> -1845377.6
B16: ՀԱՅԱՍՏԱՆԻ ՀԱՆՐԱՊԵՏՈՒԹՅԱՆ ՎԱՐՉԱՊԵՏԻ ԱՇԽԱՏԱԿԱԶՄԻ ՂԵԿԱՎԱՐ | C16: Ա. ՀԱՐՈՒԹՅՈՒՆՅԱՆ

Sheet h3
D1: Հավելված N 3
D2: ՀՀ կառավարության 2024 թվականի
D3: ______________ ի ___Ն որոշման
A5: «ՀԱՅԱUՏԱՆԻ ՀԱՆՐԱՊԵՏՈՒԹՅԱՆ 2024 ԹՎԱԿԱՆԻ ՊԵՏԱԿԱՆ ԲՅՈՒՋԵԻ ՄԱUԻՆ» ՕՐԵՆՔԻ 3-ՐԴ ՀՈԴՎԱԾԻ ԱՂՅՈՒՍԱԿՈՒՄ, N 3 ՀԱՎԵԼՎԱԾԻ N 1 ԱՂՅՈՒՍԱԿՈՒՄ ԵՎ ՀԱՅԱՍՏԱՆԻ ՀԱՆՐԱՊԵՏՈՒԹՅԱՆ ԿԱՌԱՎԱՐՈՒԹՅԱՆ 2023 ԹՎԱԿԱՆԻ ԴԵԿՏԵՄԲԵՐԻ 28-Ի N 2323-Ն ՈՐՈՇՄԱՆ N 1 ՀԱՎԵԼՎԱԾԻ N 1 ԱՂՅՈՒՍԱԿՈՒՄ ԿԱՏԱՐՎՈՂ ՓՈՓՈԽՈՒԹՅՈՒՆՆԵՐԸ
C6: հազ. դրամ
B7: Պետական բյուջեի դեֆիցիտի ֆինանսավորման աղբյուրներն ու դրանց տարրերի անվանումները | C7: Ցուցանիշների փոփոխությունը (ավելացումները նշված են դրական նշանով, իսկ նվազեցումները` փակագծերում)
C8: Տարի
B9: ԸՆԴԱՄԵՆԸ | C9: =+C11+C18 -> -13306886
B10: այդ թվում՝
B11: Ա.Ներքին աղբյուրներ-ընդամենը | C11: =+C13 -> 42464984
B12: այդ թվում՝
B13: 2. Ֆինանսական զուտ ակտիվներ | C13: =+C15+C16 -> 42464984
B14: այդ թվում՝
B15: 2.3. Ելքերի ֆինանսավորմանն ուղղվող միջոցներ | C15: -23964.4
B16: 2.4. Վարկերի և փոխատվությունների տրամադրում | C16: =C17 -> 42488948
B17: - Արտաքին աղբյուրների աջակցությամբ իրականացվող նպատակային ծրագրերի շրջանակներում ենթավարկերի տրամադրում այդ ծրագրերում ներգրաված տնտեսվարող սուբյեկտներին | C17: 42488948
B18: Բ. Արտաքին աղբյուրներ - ընդամենը | C18: =+C20 -> -55771870
B19: այդ թվում
B20: 1. Փոխառու զուտ միջոցներ | C20: =C22 -> -55771870
B21: այդ թվում՝
B22: 1.1. Վարկերի և փոխատվությունների ստացում | C22: =+C24 -> -55771870
B23: որից`
B24: նպատակային վարկերի գծով | C24: -55771870
B28: ՀԱՅԱՍՏԱՆԻ ՀԱՆՐԱՊԵՏՈՒԹՅԱՆ ՎԱՐՉԱՊԵՏԻ ԱՇԽԱՏԱԿԱԶՄԻ ՂԵԿԱՎԱՐ | C28: Ա. ՀԱՐՈՒԹՅՈՒՆՅԱՆ

Sheet h4
E1: Հավելված N 4
E2: ՀՀ կառավարության 2024 թվականի
E3: ______________ ի ___Ն որոշման
B5: «ՀԱՅԱՍՏԱՆԻ ՀԱՆՐԱՊԵՏՈՒԹՅԱՆ 2024 ԹՎԱԿԱՆԻ ՊԵՏԱԿԱՆ ԲՅՈՒՋԵԻ ՄԱՍԻՆ» ՕՐԵՆՔԻ N 3 ՀԱՎԵԼՎԱԾԻ N 1․1 ԱՂՅՈՒՍԱԿՈՒՄ ԵՎ ՀԱՅԱՍՏԱՆԻ ՀԱՆՐԱՊԵՏՈՒԹՅԱՆ ԿԱՌԱՎԱՐՈՒԹՅԱՆ 2023 ԹՎԱԿԱՆԻ ԴԵԿՏԵՄԲԵՐԻ 28-Ի N 2323-Ն ՈՐՈՇՄԱՆ N 1 ՀԱՎԵԼՎԱԾԻ N 2 ԱՂՅՈՒՍԱԿՈՒՄ ԿԱՏԱՐՎՈՂ ՓՈՓՈԽՈՒԹՅՈՒՆՆԵՐԸ
E6: հազ. դրամ
B7: Ծրագրային դասիչ | D7: Բյուջետային գլխավոր կարգադրիչների, ծրագրերի և միջոցառումների անվանումները | E7: Ցուցանիշների փոփոխությունը (ավելացումները նշված են դրական նշանով, իսկ նվազեցումները` փակագծերում)
B8: Ծրագիր | C8: Միջոցառում | E8: Տարի
D9: ԸՆԴԱՄԵՆԸ այդ թվում | E9: =+E10 -> -42488948
D10: ՀՀ տարածքային կառավարման և ենթակառուցվածքների նախարարություն | E10: =E11+E19 -> -42488948
B11: 1040 | D11: Ծրագրի անվանումը՝ Կոշտ թափոնների կառավարում | E11: =E15 -> 487223.7
D12: Ծրագրի նպատակը՝ Կենցաղային թափոնների արդյունավետ կառավարում սոցիալական և բնապահպանական խնդիրների լուծում
D13: Վերջնական արդյունքի նկարագրությունը՝ Կենցաղային թափոնների արդյունավետ կառավարում
B14: Ֆինանսական ակտիվների կառավարման միջոցառումներ
C15: 42001 | D15: Միջոցառման անվանումը՝ Վերակառուցման և զարգացման եվրոպական բանկի աջակցությամբ իրականացվող Կոտայքի և Գեղարքունիքի մարզերի կոշտ թափոնների կառավարման ծրագրի շրջանակներում ենթավարկի տրամադրում «Կոտայքի և Գեղարքունիքի Կոշտ կենցաղային թափոնների կառավարում» ՍՊԸ-ին | E15: ='h5'!D16 -> 487223.7
D16: Միջոցառման նկարագրությունը՝ Կոշտ թափոննրի կառավարման համակարգի բարելավում և նոր աղբավայրի ստեղծում
D17: Միջոցառման տեսակը՝
D18: Վարկերի տրամադրում
B19: 1167 | D19: Ծրագրի անվանումը՝ Էլեկտրաէներգետիկ համակարգի զարգացման ծրագիր | E19: =E23+E27+E32 -> -42976172
D20: Ծրագրի նպատակը՝ Նպաստել էլեկտրաէներգետիկ համակարգի հուսալիության բարձրացմանը և էլեկտրաէներգիայի անխափան մատակարարման ապահովմանը
D21: Վերջնական արդյունքի նկարագրությունը՝ Հուսալի և անվտանգ էլեկտրամատակարարման ապահովում
B22: Ֆինանսական ակտիվների կառավարման միջոցառումներ
C23: 42003 | D23: Միջոցառման անվանումը՝ Վերակառուցման և զարգացման միջազգային բանկի աջակցությամբ իրականացվող էլեկտրամատակարարման հուսալիության ծրագրի լրացուցիչ ֆինանսավորման ծրագրի շրջանակներում ենթավարկի տրամադրում «Բարձրավոլտ էլեկտրացանցեր» ՓԲԸ-ին | E23: ='h5'!D25 -> -934292.3
D24: Միջոցառման նկարագրությունը՝ Էլեկտրամատակարարման հուսալիության ծրագրի լրացուցիչ ֆինանսավորման ծրագրի շրջանակներում «Հաղթանակ» 220կՎ, «Չարենցավան-3», «Վանաձոր-1» 110կՎ, «Զովունի» 220կՎ ենթակայանների ֆիզիկապես և բարոյապես մաշված սարքավորումների փոխարինում
D25: Միջոցառման տեսակը՝
D26: Վարկերի տրամադրում
C27: 42008 | D27: Միջոցառման անվանումը՝ Գերմանիայի զարգացման վարկերի բանկի (KFW) աջակցությամբ իրականացվող «Կովկասյան էլեկտրահաղորդման ցանց I» Հայաստան-Վրաստան հաղորդիչ գիծ/ենթակայանների վարկային ծրագրի շրջանակներում ենթավարկի տրամադրում «Բարձրավոլտ էլեկտրացանցեր» ՓԲԸ- ին | E27: ='h5'!D33 -> -20916405
D29: Միջոցառման նկարագրությունը՝ Հայաստան-Վրաստան 400 կՎ լարման էլեկտրահաղորդման օդային գծի և համապատասխան ենթակայանների կառուցում
D30: Միջոցառման տեսակը՝
D31: Վարկերի տրամադրում
C32: 42012 | D32: Միջոցառման անվանումը՝ «Հայկական ատոմային էլեկտրակայան» ՓԲԸ-ի 2-րդ էներգաբլոկի շահագործման նախագծային ժամկետի կրկնակի երկարաձգում | E32: ='h5'!D41 -> -21125475
D34: Միջոցառման նկարագրությունը՝ Հայկական ԱԷԿ-ի N 2 էներգաբլոկի շահագործման նախագծային ժամկետի երկարացում-2 գործընթացի շրջանակներում էներգաբլոկի անվտանգ շահագործման շարունակականության ապահովում
D35: Միջոցառման տեսակը՝
D36: Վարկերի տրամադրում
B39: ՀԱՅԱՍՏԱՆԻ ՀԱՆՐԱՊԵՏՈՒԹՅԱՆ
B40: ՎԱՐՉԱՊԵՏԻ ԱՇԽԱՏԱԿԱԶՄԻ ՂԵԿԱՎԱՐ ՝ Ա. ՀԱՐՈՒԹՅՈՒՆՅԱՆ

Sheet h5
F1: Հավելված N 5
F2: ՀՀ կառավարության 2024 թվականի
F3: ______________ ի ___Ն որոշման
A5: «ՀԱՅԱՍՏԱՆԻ ՀԱՆՐԱՊԵՏՈՒԹՅԱՆ 2024 ԹՎԱԿԱՆԻ ՊԵՏԱԿԱՆ ԲՅՈՒՋԵԻ ՄԱՍԻՆ» ՕՐԵՆՔԻ N 3 ՀԱՎԵԼՎԱԾԻ N 1․1․1 ԱՂՅՈՒՍԱԿՈՒՄ ԵՎ ՀԱՅԱՍՏԱՆԻ ՀԱՆՐԱՊԵՏՈՒԹՅԱՆ ԿԱՌԱՎԱՐՈՒԹՅԱՆ 2023 ԹՎԱԿԱՆԻ ԴԵԿՏԵՄԲԵՐԻ 28-Ի N 2323-Ն ՈՐՈՇՄԱՆ N 1 ՀԱՎԵԼՎԱԾԻ N 3 ԱՂՅՈՒՍԱԿՈՒՄ ԿԱՏԱՐՎՈՂ ՓՈՓՈԽՈՒԹՅՈՒՆՆԵՐԸ
F6: հազ. դրամ
A7: Ծրագրային դասիչ | C7: Բյուջետային գլխավոր կարգադրիչների, ծրագրերի և միջոցառումների անվանումները | D7: =[1]h4!E7 -> Ցուցանիշների փոփոխությունը (նվազեցումները նշված են փակագծերում)
D8: Տարի
D9: Ընդամենը | E9: այդ թվում
A10: Ծրագիր | B10: Միջոցառում | E10: Վարկային միջոցներ | F10: Համաֆինանսավորում
C11: ԸՆԴԱՄԵՆԸ | D11: =D13 -> -42488948 | E11: =E13 -> -42464984 | F11: =F13 -> -23964.4
C12: այդ թվում՝
C13: ՀՀ ՏԱՐԱԾՔԱՅԻՆ ԿԱՌԱՎԱՐՄԱՆ ԵՎ ԵՆԹԱԿԱՌՈՒՑՎԱԾՔՆԵՐԻ ՆԱԽԱՐԱՐՈՒԹՅՈՒՆ | D13: =D14+D24 -> -42488948 | E13: =E14+E24 -> -42464984 | F13: =F14+F24 -> -23964.4
A14: 1040 | C14: Կոշտ թափոնների կառավարում | D14: =E14+F14 -> 487223.7 | E14: =E16 -> 427226.7 | F14: =F16 -> 59997
C15: այդ թվում`
B16: 42001 | C16: Վերակառուցման և զարգացման եվրոպական բանկի աջակցությամբ իրականացվող Կոտայքի և Գեղարքունիքի մարզերի կոշտ թափոնների կառավարման ծրագրի շրջանակներում ենթավարկի տրամադրում «Կոտայքի և Գեղարքունիքի Կոշտ կենցաղային թափոնների կառավարում» ՍՊԸ-ին | D16: =D18 -> 487223.7 | E16: =E18 -> 427226.7 | F16: =F18 -> 59997
C17: այդ թվում՝ ըստ կատարողների
C18: ՀՀ տարածքային կառավարման և ենթակառուցվածքների նախարարություն | D18: =F18+E18 -> 487223.7 | E18: =E20 -> 427226.7 | F18: =F20 -> 59997
C19: այդ թվում՝ ըստ տնտեսագիտական դասակարգման հոդվածների՝
C20: ՀԻՄՆԱԿԱՆ ԳՈՒՄԱՐԻ ՄԱՐՄԱՆ ԵՎ ՖԻՆԱՆՍԱԿԱՆ ԱԿՏԻՎՆԵՐԻ ՁԵՌՔԲԵՐՄԱՆ ԳԾՈՎ ԾԱԽՍԵՐ, այդ թվում` | D20: =E20+F20 -> 487223.7 | E20: =E21 -> 427226.7 | F20: =F21 -> 59997
C21: ՖԻՆԱՆՍԱԿԱՆ ԱԿՏԻՎՆԵՐԻ ՁԵՌՔԲԵՐՈՒՄ, այդ թվում | D21: =D22 -> 487223.7 | E21: =E22 -> 427226.7 | F21: =F22 -> 59997
C22: ՆԵՐՔԻՆ ՖԻՆԱՆՍԱԿԱՆ ԱԿՏԻՎՆԵՐԻ ՁԵՌՔԲԵՐՈՒՄ, այդ թվում` | D22: =D23 -> 487223.7 | E22: =E23 -> 427226.7 | F22: =F23 -> 59997
C23: Ներքին վարկեր և փոխատվություններ | D23: =E23+F23 -> 487223.7 | E23: 427226.7 | F23: 59997
A24: 1167 | C24: Էլեկտրաէներգետիկ համակարգի զարգացման ծրագիր | D24: =D25+D33+D41 -> -42976172 | E24: =E25+E33+E41 -> -42892210 | F24: =F25+F33+F41 -> -83961.4
B25: 42003 | C25: Վերակառուցման և զարգացման միջազգային բանկի աջակցությամբ իրականացվող էլեկտրամատակարարման հուսալիության ծրագրի լրացուցիչ ֆինանսավորման ծրագրի շրջանակներում ենթավարկի տրամադրում «Բարձրավոլտ էլեկտրացանցեր» ՓԲԸ-ին | D25: =E25+F25 -> -934292.3 | E25: =+E27 -> -850330.9 | F25: =+F27 -> -83961.4
C26: այդ թվում՝ ըստ կատարողների
C27: ՀՀ տարածքային կառավարման և ենթակառուցվածքների նախարարություն | D27: =E27+F27 -> -934292.3 | E27: =E29 -> -850330.9 | F27: =F29 -> -83961.4
C28: այդ թվում՝ ըստ տնտեսագիտական դասակարգման հոդվածների՝
C29: ՀԻՄՆԱԿԱՆ ԳՈՒՄԱՐԻ ՄԱՐՄԱՆ ԵՎ ՖԻՆԱՆՍԱԿԱՆ ԱԿՏԻՎՆԵՐԻ ՁԵՌՔԲԵՐՄԱՆ ԳԾՈՎ ԾԱԽՍԵՐ, այդ թվում` | D29: =E29+F29 -> -934292.3 | E29: =E30 -> -850330.9 | F29: =F30 -> -83961.4
C30: ՖԻՆԱՆՍԱԿԱՆ ԱԿՏԻՎՆԵՐԻ ՁԵՌՔԲԵՐՈՒՄ, այդ թվում | D30: =E30+F30 -> -934292.3 | E30: =E31 -> -850330.9 | F30: =F31 -> -83961.4
C31: ՆԵՐՔԻՆ ՖԻՆԱՆՍԱԿԱՆ ԱԿՏԻՎՆԵՐԻ ՁԵՌՔԲԵՐՈՒՄ, այդ թվում` | D31: =E31+F31 -> -934292.3 | E31: =E32 -> -850330.9 | F31: =F32 -> -83961.4
C32: Ներքին վարկեր և փոխատվություններ | D32: =E32+F32 -> -934292.3 | E32: -850330.9 | F32: -83961.4
B33: 42008 | C33: Գերմանիայի զարգացման վարկերի բանկի (KFW) աջակցությամբ իրականացվող «Կովկասյան էլեկտրահաղորդման ցանց I» Հայաստան-Վրաստան հաղորդիչ գիծ/ենթակայանների վարկային ծրագրի շրջանակներում ենթավարկի տրամադրում «Բարձրավոլտ էլեկտրացանցեր» ՓԲԸ- ին | D33: =E33+F33 -> -20916405 | E33: =E35 -> -20916405 | F33: =F35 -> 0
C34: այդ թվում՝ ըստ կատարողների
C35: ՀՀ տարածքային կառավարման և ենթակառուցվածքների նախարարություն | D35: =E35+F35 -> -20916405 | E35: =E37 -> -20916405 | F35: =F37 -> 0
C36: այդ թվում՝ ըստ տնտեսագիտական դասակարգման հոդվածների՝
C37: ՀԻՄՆԱԿԱՆ ԳՈՒՄԱՐԻ ՄԱՐՄԱՆ ԵՎ ՖԻՆԱՆՍԱԿԱՆ ԱԿՏԻՎՆԵՐԻ ՁԵՌՔԲԵՐՄԱՆ ԳԾՈՎ ԾԱԽՍԵՐ, այդ թվում` | D37: =E37+F37 -> -20916405 | E37: =E38 -> -20916405 | F37: =F38 -> 0
C38: ՖԻՆԱՆՍԱԿԱՆ ԱԿՏԻՎՆԵՐԻ ՁԵՌՔԲԵՐՈՒՄ, այդ թվում | D38: =E38+F38 -> -20916405 | E38: =E39 -> -20916405 | F38: =F39 -> 0
C39: ՆԵՐՔԻՆ ՖԻՆԱՆՍԱԿԱՆ ԱԿՏԻՎՆԵՐԻ ՁԵՌՔԲԵՐՈՒՄ, այդ թվում` | D39: =E39+F39 -> -20916405 | E39: =E40 -> -20916405 | F39: =F40 -> 0
C40: Ներքին վարկեր և փոխատվություններ | D40: =E40+F40 -> -20916405 | E40: -20916405 | F40: 0
B41: 42012 | C41: «Հայկական ատոմային էլեկտրակայան» ՓԲԸ-ի 2-րդ էներգաբլոկի շահագործման նախագծային ժամկետի կրկնակի երկարաձգում | D41: =E41+F41 -> -21125475 | E41: =E43 -> -21125475 | F41: 0
C42: այդ թվում՝ ըստ կատարողների
C43: ՀՀ տարածքային կառավարման և ենթակառուցվածքների նախարարություն | D43: =E43+F43 -> -21125475 | E43: =E45 -> -21125475 | F43: 0
C44: այդ թվում՝ ըստ տնտեսագիտական դասակարգման հոդվածների՝
C45: ՀԻՄՆԱԿԱՆ ԳՈՒՄԱՐԻ ՄԱՐՄԱՆ ԵՎ ՖԻՆԱՆՍԱԿԱՆ ԱԿՏԻՎՆԵՐԻ ՁԵՌՔԲԵՐՄԱՆ ԳԾՈՎ ԾԱԽՍԵՐ, այդ թվում` | D45: =E45+F45 -> -21125475 | E45: =E46 -> -21125475 | F45: 0
C46: ՖԻՆԱՆՍԱԿԱՆ ԱԿՏԻՎՆԵՐԻ ՁԵՌՔԲԵՐՈՒՄ, այդ թվում | D46: =E46+F46 -> -21125475 | E46: =E47 -> -21125475 | F46: 0
C47: ՆԵՐՔԻՆ ՖԻՆԱՆՍԱԿԱՆ ԱԿՏԻՎՆԵՐԻ ՁԵՌՔԲԵՐՈՒՄ, այդ թվում` | D47: =E47+F47 -> -21125475 | E47: =E48 -> -21125475 | F47: 0
C48: Ներքին վարկեր և փոխատվություններ | D48: =E48+F48 -> -21125475 | E48: -21125475 | F48: 0
B50: ՀԱՅԱՍՏԱՆԻ ՀԱՆՐԱՊԵՏՈՒԹՅԱՆ
B51: ՎԱՐՉԱՊԵՏԻ ԱՇԽԱՏԱԿԱԶՄԻ ՂԵԿԱՎԱՐ | D51: Ա. ՀԱՐՈՒԹՅՈՒՆՅԱՆ

Sheet h6
D1: Հավելված N6
D2: ՀՀ կառավարության 2024 թվականի
D3: ______________ ի ___Ն որոշման
A4: ՀԱՅԱՍՏԱՆԻ ՀԱՆՐԱՊԵՏՈՒԹՅԱՆ ԿԱՌԱՎԱՐՈՒԹՅԱՆ 2023 ԹՎԱԿԱՆԻ ԴԵԿՏԵՄԲԵՐԻ 28-Ի N 2323-Ն ՈՐՈՇՄԱՆ N 1 ՀԱՎԵԼՎԱԾԻ N 5 ԱՂՅՈՒՍԱԿՈՒՄ ԿԱՏԱՐՎՈՂ ՓՈՓՈԽՈՒԹՅՈՒՆՆԵՐԸ
A5: ՀՀ տարածքային կառավարման և ենթակառուցվածքների նախարարություն
A7: Ծրագրի դասիչը | B7: Ծրագրի անվանումը
A8: 1040 | B8: Կոշտ թափոնների կառավարում
A10: Ծրագրի միջոցառումները
A11: Ծրագրի դասիչը՝ | B11: 1040 | C11: Ցուցանիշների փոփոխությունը (ավելացումները նշված են դրական նշանով)
A12: Միջոցառման դասիչը՝ | B12: 42001 | C12: Տարի
A13: Միջոցառման անվանումը՝ | B13: Վերակառուցման և զարգացման եվրոպական բանկի աջակցությամբ իրականացվող «Կոտայքի և Գեղարքունիքի մարզերի կոշտ թափոնների կառավարման» ծրագիր
A14: Նկարագրությունը՝ | B14: Կոշտ թափոննրի կառավարման համակարգի բարելավում և նոր աղբավայրի ստեղծում
A15: Միջոցառման տեսակը՝ | B15: Վարկերի տրամադրում
A16: Միջոցառումն իրականացնողի անվանումը՝ | B16: Մասնագիտացված միավոր
B17: Արդյունքի չափորոշիչներ
A18: Միջոցառման վրա կատարվող ծախսը (հազար դրամ) | C18: ='h5'!D23 -> 487223.7
A21: Ծրագրի դասիչը | B21: Ծրագրի անվանումը
A22: 1167 | B22: Էլեկտրաէներգետիկ համակարգի զարգացման ծրագիր
A24: Ծրագրի միջոցառումները
A25: Ծրագրի դասիչը՝ | B25: 1167 | C25: =C35 -> Ցուցանիշների փոփոխությունը (նվազեցումները նշված են փակագծերում)
A26: Միջոցառման դասիչը՝ | B26: 42003 | C26: Տարի
A27: Միջոցառման անվանումը՝ | B27: Վերակառուցման և զարգացման միջազգային բանկի աջակցությամբ իրականացվող էլեկտրամատակարարման հուսալիության ծրագրի լրացուցիչ ֆինանսավորման ծրագրի շրջանակներում ենթավարկի տրամադրում «Բարձրավոլտ էլեկտրացանցեր» ՓԲԸ-ին
A28: Նկարագրությունը՝ | B28: Էլեկտրամատակարարման հուսալիության ծրագրի լրացուցիչ ֆինանսավորման ծրագրի շրջանակներում նախատեսվում է փոխարինել 30 և ավելի տարիներ շահագործման մեջ գտնվող «Հաղթանակ» 220 կՎ, «Չարենցավան-3», «Վանաձոր-1» 110 կՎ ենթակայանների և 40 և ավելի և տարիներ շահագործման մեջ գտվող «Զովունի» 220 կՎ ենթակայանի ֆիզիկապես և բարոյապես մաշված սարքավորումները
A29: Միջոցառման տեսակը՝ | B29: Վարկերի տրամադրում
A30: Միջոցառումն իրականացնողի անվանումը՝ | B30: Մասնագիտացված միավոր
A31: Արդյունքի չափորոշիչներ
A32: Միջոցառման վրա կատարվող ծախսը (հազար դրամ) | C32: ='h5'!D25 -> -934292.3
A35: Ծրագրի դասիչը՝ | B35: 1167 | C35: Ցուցանիշների փոփոխությունը (նվազեցումները նշված են փակագծերում)
A36: Միջոցառման դասիչը՝ | B36: 42008 | C36: Տարի
A37: Միջոցառման անվանումը՝ | B37: Գերմանիայի զարգացման վարկերի բանկի (KFW) աջակցությամբ իրականացվող «Կովկասյան էլեկտրահաղորդման ցանց I» Հայաստան-Վրաստան հաղորդիչ գիծ/ենթակայանների վարկային ծրագրի շրջանակներում ենթավարկի տրամադրում «Բարձրավոլտ էլեկտրացանցեր» ՓԲԸ-ին
A38: Նկարագրությունը՝ | B38: Հայաստան-Վրաստան 400 կՎ լարման էլեկտրահաղորդման օդային գծի և համապատասխան ենթակայանների կառուցում
A39: Միջոցառման տեսակը՝ | B39: Վարկերի տրամադրում
A40: Միջոցառումն իրականացնողի անվանումը՝ | B40: «Բարձրավոլտ էլեկտրացանցեր» ՓԲԸ
B41: Արդյունքի չափորոշիչներ
A42: Միջոցառման վրա կատարվող ծախսը (հազար դրամ) | C42: ='h5'!D33 -> -20916405
A44: Ծրագրի դասիչը՝ | B44: 1167 | C44: Ցուցանիշների փոփոխությունը (նվազեցումները նշված են փակագծերում)
A45: Միջոցառման դասիչը՝ | B45: 42012 | C45: Տարի
A46: Միջոցառման անվանումը՝ | B46: «Հայկական ատոմային էլեկտրակայան» ՓԲԸ-ի 2-րդ էներգաբլոկի շահագործման նախագծային ժամկետի կրկնակի երարացձգում
A47: Նկարագրությունը՝ | B47: Հայկական ԱԷԿ-ի N 2 էներգաբլոկի շահագործման նախագծային ժամկետի երկարացում-2 գործընթացի շրջանակներում էներգաբլոկի անվտանգ շահագործման շարունակականության ապահովում
A48: Միջոցառման տեսակը՝ | B48: Վարկի տրամադրում
A49: Միջոցառումն իրականացնողի անվանումը՝ | B49: ՀՀ ֆինանսների նախարարություն
B50: Արդյունքի չափորոշիչներ
A51: Ժամկետային | B51: ԱԷԿ-ի երկրորդ էներգաբլոկի արդիականացման և շահագործման ժամկետի երկարաձգման ծրագրի աշխատանքների իրականացման ժամանակահատվածը | C51: (2026-2036թթ.)
A52: Միջոցառման վրա կատարվող ծախսը (հազար դրամ) | C52: ='h5'!D41 -> -21125475
A55: ՀԱՅԱՍՏԱՆԻ ՀԱՆՐԱՊԵՏՈՒԹՅԱՆ ՎԱՐՉԱՊԵՏԻ ԱՇԽԱՏԱԿԱԶՄԻ
B56: ՂԵԿԱՎԱՐ | C56: Ա.ՀԱՐՈՒԹՅՈՒՆՅԱՆ

Sheet հ7․
D1: Հավելված N 7
D2: ՀՀ կառավարության 2024 թվականի
D3: ______________ ի ___Ն որոշման
B5: «ՀԱՅԱUՏԱՆԻ ՀԱՆՐԱՊԵՏՈՒԹՅԱՆ 2024 ԹՎԱԿԱՆԻ ՊԵՏԱԿԱՆ ԲՅՈՒՋԵԻ ՄԱUԻՆ» ՀԱՅԱUՏԱՆԻ ՀԱՆՐԱՊԵՏՈՒԹՅԱՆ OՐԵՆՔԻ N 1 ՀԱՎԵԼՎԱԾԻ N 1 ԱՂՅՈՒՍԱԿՈՒՄ ԿԱՏԱՐՎՈՂ ՓՈՓՈԽՈՒԹՅՈՒՆԵՐԸ ԵՎ ԼՐԱՑՈՒՄՆԵՐԸ
B7: ՀՀ 2024 թվականի պետական բյուջեի ծախսերն ըստ պետական մարմինների կողմից իրականացվող ծրագրերի
D8: (հազ. դրամ)
B9: Ծրագրային դասիչը | C9: Ծրագրի անվանումը | D9: Ցուցանիշների փոփոխությունը (ավելացումները նշված են դրական նշանով, նվազեցումները՝ փակագծերում)
B10: Ընդամենը | D10: =D11+D12+D13+D14+D15+D16+D17+D18+D19 -> -20457660
B11: 1004 | C11: Ոռոգման համակարգի առողջացում | D11: =հ8!E13 -> -2623203.1
B12: 1019 | C12: Սոցիալական ներդրումների և տեղական զարգացման ծրագիր | D12: =հ8!E62 -> -49208.5
B13: 1040 | C13: Կոշտ թափոնների կառավարում | D13: =հ8!E93 -> 185151.1
B14: 1049 | C14: Ճանապարհային ցանցի բարելավում | D14: =հ8!E117 -> -7250944
B15: 1072 | C15: Ջրամատակարարաման և ջրահեռացման բարելավում | D15: =հ8!E166 -> -140600
B16: 1157 | C16: Քաղաքային զարգացում | D16: =հ8!E185 -> -4961996.6
B17: 1167 | C17: Էլեկտրաէներգետիկ համակարգի զարգացման ծրագիր | D17: =հ8!E240 -> -1082525.8
B18: 1212 | C18: Տարածքային զարգացում | D18: =հ8!E253 -> 220524.1
B19: 1232 | C19: Էներգաարդյունավետության ծրագիր | D19: =հ8!E272 -> -4754856.8
B22: ՀԱՅԱՍՏԱՆԻ ՀԱՆՐԱՊԵՏՈՒԹՅԱՆ
B23: ՎԱՐՉԱՊԵՏԻ ԱՇԽԱՏԱԿԱԶՄԻ ՂԵԿԱՎԱՐ | D23: Ա. ՀԱՐՈՒԹՅՈՒՆՅԱՆ

Sheet հ8
C1: Հավելված N 8
C2: ՀՀ կառավարության 2024 թվականի
C3: ______________ ի ___Ն որոշման
B5: «ՀԱՅԱUՏԱՆԻ ՀԱՆՐԱՊԵՏՈՒԹՅԱՆ 2024 ԹՎԱԿԱՆԻ ՊԵՏԱԿԱՆ ԲՅՈՒՋԵԻ ՄԱUԻՆ» OՐԵՆՔԻ N 1 ՀԱՎԵԼՎԱԾԻ N 2 ԱՂՅՈՒՍԱԿՈՒՄ ԿԱՏԱՐՎՈՂ ՎԵՐԱԲԱՇԽՈՒՄԸ ԵՎ ՀԱՅԱՍՏԱՆԻ ՀԱՆՐԱՊԵՏՈՒԹՅԱՆ ԿԱՌԱՎԱՐՈՒԹՅԱՆ 2023 ԹՎԱԿԱՆԻ ԴԵԿՏԵՄԲԵՐԻ 28-Ի N 2323-Ն ՈՐՈՇՄԱՆ N 5 ՀԱՎԵԼՎԱԾԻ N 1 ԱՂՅՈՒՍԱԿՈՒՄ ԿԱՏԱՐՎՈՂ ԼՐԱՑՈՒՄՆԵՐԸ ԵՎ ՓՈՓՈԽՈՒԹՅՈՒՆՆԵՐԸ
E7: (հազ. դրամ)
B8: Ծրագրային դասիչը | D8: Բյուջետային հատկացումների գլխավոր կարգադրիչների, ծրագրերի և միջոցառումների անվանումները | E8: Ցուցանիշների փոփոխությունը (ավելացումները նշված են դրական նշանով, նվազեցումները՝ փակագծերում)
B9: Ծրագիր | C9: Միջոցառում | E9: Տարի
D10: ԸՆԴԱՄԵՆԸ | E10: =E12+E291 -> -15152263
D11: այդ թվում՝
D12: ՀՀ տարածքային կառավարման և ենթակառուցվածքների նախարարություն | E12: =E13+E62+E93+E117+E166+E185+E240+E253+E272 -> -20457660
B13: 1004 | D13: Ծրագրի անվանումը` | E13: =E56+E20+E26+E32+E38+E44+E50 -> -2623203.1
D14: Ոռոգման համակարգի առողջացում
D15: Ծրագրի նպատակը`
D16: Ոռոգման ծառայությունների հասանելիության և մատչելիության ապահովում
D17: Վերջնական արդյունքի նկարագրությունը`
D18: Ոռոգման ջրի մատակարարման արդյունավետության և հասանելիության բարելավում՝ կորուստների կրճատում
D19: Ծրագրի միջոցառումներ
C20: 11005 | D20: Միջոցառման անվանումը` | E20: =h11v!E21 -> -8000
D21: Եվրասիական զարգացման բանկի աջակցությամբ իրականացվող ոռոգման համակարգերի զարգացման ծրագրի խորհրդատվություն և կառավարում
D22: Միջոցառման նկարագրությունը`
D23: Եվրասիական զարգացման բանկի աջակցությամբ իրականացվող ոռոգման համակարգերի զարգացման ծրագրի համակարգում և ղեկավարում
D24: Միջոցառման տեսակը
D25: Ծառայությունների մատուցում
C26: 11007 | D26: Միջոցառման անվանումը` | E26: =h11v!E29 -> -6900
D27: Գերմանիայի զարգացման վարկերի բանկի աջակցությամբ իրականացվող Ախուրյան գետի ջրային ռեսուրսների ինտեգրացված կառավարում ծրագրի խորհրդատվություն և կառավարում
D28: Միջոցառման նկարագրությունը`
D29: Գերմանիայի զարգացման վարկերի բանկի աջակցությամբ իրականացվող Ախուրյան գետի ջրային ռեսուրսների ինտեգրացված կառավարում ծրագրի համակարգում և ղեկավարում
D30: Միջոցառման տեսակը
D31: Ծառայությունների մատուցում
C32: 11009 | D32: Միջոցառման անվանումը` | E32: =h12d!D19 -> -455
D33: Գերմանիայի զարգացման վարկերի բանկի աջակցությամբ իրականացվող Ախուրյան գետի ջրային ռեսուրսների ինտեգրացված կառավարման դրամաշնորհային ծրագիր
D34: Միջոցառման նկարագրությունը`
D35: Գերմանիայի զարգացման վարկերի բանկի աջակցությամբ իրականացվող Ախուրյան գետի ջրային ռեսուրսների ինտեգրացված կառավարման դրամաշնորհային ծրագրի համակարգում և ղեկավարում
D36: Միջոցառման տեսակը
D37: Ծառայությունների մատուցում
C38: 11010 | D38: Միջոցառման անվանումը` | E38: ='հ9․'!G113 -> -45848.1
D39: Գերմանիայի զարգացման վարկերի բանկի աջակցությամբ իրականացվող Ախուրյան գետի ջրային ռեսուրսների ինտեգրացված կառավարում փուլ 1 ծրագրով Ջրաձոր գյուղի վերաբնակեցման գործողությունների խորհրդատվություն և կառավարում
D40: Միջոցառման նկարագրությունը`
D41: Գերմանիայի զարգացման վարկերի բանկի աջակցությամբ իրականացվող Ախուրյան գետի ջրային ռեսուրսների ինտեգրացված կառավարում փուլ 1 ծրագրով Ջրաձոր գյուղի վերաբնակեցման գործողությունների համակարգում և ղեկավարում
D42: Միջոցառման տեսակը
D43: Ծառայությունների մատուցում
C44: 31001 | D44: Միջոցառման անվանումը` | E44: =h11v!E48 -> -280000
D45: Ֆրանսիայի Հանրապետության կառավարության աջակցությամբ իրականացվող Վեդու ջրամբարի և ոռոգման համակարգի կառուցում
D46: Միջոցառման նկարագրությունը`
D47: Ֆրանսիայի Հանրապետության կառավարության աջակցությամբ իրականացվող Վեդու ջրամբարի և ոռոգման համակարգի կառուցման ծրագիր
D48: Միջոցառման տեսակը
D49: Պետական մարմինների կողմից օգտագործվող ոչ ֆինանսական ակտիվների հետ գործառնություններ
C50: 31006 | D50: Միջոցառման անվանումը` | E50: =h11v!E57 -> -282000
D51: Գերմանիայի զարգացման վարկերի բանկի աջակցությամբ իրականացվող Ախուրյան գետի ջրային ռեսուրսների ինտեգրացված կառավարման ծրագրի երկրորդ փուլի շրջանակներում ջրային տնտեսության ենթակառուցվածքների հիմնանորոգում
D52: Միջոցառման նկարագրությունը`
D53: Գերմանիայի զարգացման վարկերի բանկի աջակցությամբ իրականացվող Ախուրյան գետի ջրային ռեսուրսների ինտեգրացված կառավարման ծրագրի երկրորդ փուլ
D54: Միջոցառման տեսակը
D55: Պետական մարմինների կողմից օգտագործվող ոչ ֆինանսական ակտիվների հետ գործառնություններ
C56: 31022 | D56: Միջոցառման անվանումը` | E56: -2000000
C57: . | D57: Համաշխարհային բանկի աջակցության շրջանակներում ոռոգման, ջրամատակարարման և ջրահետացման ծրագրերի իրականացում
D58: Միջոցառման նկարագրությունը`
D59: Համաշխարհային բանկի աջակցության շրջանակներում ոռոգման, ջրամատակարարման և ջրահեռացման ծրագրերի իրականացման խորհրդատվական ծառայությունների ձեռքբերում, վերակառուցման աշխատանքների իրականացում
D60: Միջոցառման տեսակը
D61: Պետական մարմինների կողմից օգտագործվող ոչ ֆինանսական ակտիվների հետ գործառնություններ
B62: 1019 | D62: Ծրագրի անվանումը` | E62: =E75+E81+E69+E87 -> -49208.5
D63: Սոցիալական ներդրումների և տեղական զարգացման ծրագիր
D64: Ծրագրի նպատակը`
D65: Նպաստել տարածքներում բնակչության նյութական և ոչ նյութական բարեկեցության աճին
D66: Վերջնական արդյունքի նկարագրությունը`
D67: Համայնքային և միջհամայնքային ենթակառուցվածքների և որակի հասանելիության բարելավում, ինստիտուցիոնալ և ֆինանասական կարողությունների հզորացում
D68: Ծրագրի միջոցառումներ
C69: 11003 | D69: Միջոցառման անվանումը` | E69: ='հ9․'!G346 -> -7908.5
D70: Համաշխարհային բանկի աջակցությամբ իրականացվող Սոցիալական ներդրումների և տեղական զարգացման ծրագրի լրացուցիչ ֆինանսավորման ծրագրի կառավարում
D71: Միջոցառման նկարագրությունը`
D72: Սոցիալական ներդրումների և տեղական զարգացման լրացուցիչ ֆինանսավորման ծրագիր` ՀՀ աղքատ և խոցելի խմբերի կյանքի ստանդարտների բարձրացման նպատակով
D73: Միջոցառման տեսակը
D74: Ծառայությունների մատուցում
C75: 11004 | D75: Միջոցառման անվանումը` | E75: =h12d!D29 -> -58000
D76: ԱՄՆ ՄԶԳ աջակցությամբ իրականացվող Տեղականինքնակառավարման և ապակենտրոնացման բարեփոխումների դրամաշնորհային ծրագրի կառավարում
D77: Միջոցառման նկարագրությունը`
D78: ԱՄՆ ՄԶԳ աջակց. իրականաց. Տեղականինքնակառավար. և ապակենտրոնաց. բարեփոխումների դրամաշնորհային ծրագրի իրականաց.նպատակով ծր. կառ. ծախսեր ևՏեղ. կառ. համակարգերի հզորացման,ապակենտրոնաց. գործընթացներին աջակց.նպատակով խորհրդատվ. և ուսուցում
D79: Միջոցառման տեսակը
D80: Ծառայությունների մատուցում
C81: 12004 | D81: Միջոցառման անվանումը` | E81: =h11v!E86 -> 64500
D82: Համաշխարհային բանկի աջակցությամբ իրականացվող Սոցիալական ներդրումների և տեղական զարգացման ծրագրի լրացուցիչ ֆինանսավորման վարկի շրջանակներում ՀՀ համայնքային և միջհամայնքային ենթակառուցվածքների որակի, օգտագործման և հասանելիության բարելավում:
D83: Միջոցառման նկարագրությունը`
D84: Ջրագծերի, առողջապահության, կրթության օբյեկտների, մշակույթային տների, ծերանոցների, մանկատների, հատուկ դպրոցների, մանկապարտզների և կոյուղու օբյեկտնրի հիմն. և շինարարություն., գույքի և սարքավորումների տրամադրում շահառու ենթածրագրերի համար:
D85: Միջոցառման տեսակը
D86: Տրանսֆերտների տրամադրում
C87: 12005 | D87: Միջոցառման անվանումը` | E87: =h12d!D40 -> -47800
D88: ԱՄՆ ՄԶԳ աջակցությամբ իրականացվող Տեղականինքնակառավարման և ապակենտրոնացման բարեփոխումների դրամաշնորհային ծրագրի շրջանակներումՏեղական կառավարման համակարգերի հզորացում,ապակենտրոնացման գործընթացներին աջակցություն,պիլոտային ծրագրերի իրականացում
D89: Միջոցառման նկարագրությունը`
D90: ԱՄՆ ՄԶԳ աջակցությամբ իրականացվող Տեղականինքնակառավարման և ապակենտրոնացմանբարեփոխումների դրամաշնորհային ծրագրիշրջանակներում մեքենասարքավորումներիտրամադրում և համայնքային մակարդակիենթակառուցվածքների կառուցում և վերականգնում
D91: Միջոցառման տեսակը
D92: Տրանսֆերտների տրամադրում
B93: 1040 | D93: Ծրագրի անվանումը` | E93: =E99+E105+E111 -> 185151.1
D94: Կոշտ թափոնների կառավարում
D95: Ծրագրի նպատակը`
D96: Կենցաղային թափոնների արդյունավետ կառավարում սոցիալական և բնապահպանական խնդիրների լուծում
D97: Վերջնական արդյունքի նկարագրությունը`
D98: Կենցաղային թափոնների արդյունավետ կառավարում
C99: 12002 | D99: Միջոցառման անվանումը` | E99: ='հ9․'!G393 -> -57643.3
D100: Վերակառուցման և զարգացման եվրոպական բանկի աջակցությամբ իրականացվող «Կոտայքի և Գեղարքունիքի մարզի կոշտ թափոնների կառավարման խորհրդատվության համար» դրամաշնորհային ծրագիր
D101: Միջոցառման նկարագրությունը`
D102: Կոշտ թափոննրի կառավարման համակարգի բարելավում և նոր աղբավայրի ստեղծում
...

Sheet հ9․
G1: Հավելված N 9
E2: ՀՀ կառավարության 2024 թվականի
E3: -----------------ի N -----------Ն որոշման
A5: ՀԱՅԱՍՏԱՆԻ ՀԱՆՐԱՊԵՏՈՒԹՅԱՆ ԿԱՌԱՎԱՐՈՒԹՅԱՆ 2023 ԹՎԱԿԱՆԻ ԴԵԿՏԵՄԲԵՐԻ 28-Ի N 2323-Ն ՈՐՈՇՄԱՆ NN 3 ԵՎ 4 ՀԱՎԵԼՎԱԾՆԵՐՈՒՄ ԿԱՏԱՐՎՈՂ ՓՈՓՈԽՈՒԹՅՈՒՆՆԵՐԸ ԵՎ ԼՐԱՑՈՒՄՆԵՐԸ
G6: (հազ. դրամ)
A7: Գործառական դասիչը | D7: Ծրագրային դասիչը | F7: Բյուջետային ծախսերի գործառական դասակարգման բաժինների, խմբերի և դասերի, բյուջետային ծրագրերի միջոցառումների, բյուջետային հատկացումների գլխավոր կարգադրիչների անվանումները | G7: Ցուցանիշների փոփոխությունը (ավելացումները նշված են դրական նշանով, նվազեցումները` փակագծերում)
A8: Բաժինը | B8: Խումբը | C8: Դասը | D8: Ծրագիր | E8: Միջոցառում | G8: Տարի
F9: ԸՆԴԱՄԵՆԸ | G9: =G11+G445 -> -15152263
F10: այդ թվում՝
F11: ՀՀ ՏԱՐԱԾՔԱՅԻՆ ԿԱՌԱՎԱՐՄԱՆ ԵՎ ԵՆԹԱԿԱՌՈՒՑՎԱԾՔՆԵՐԻ ՆԱԽԱՐԱՐՈՒԹՅՈՒՆ | G11: =G13+G57+G385+G419 -> -20457660
F12: այդ թվում`
A13: 01 | F13: ԸՆԴՀԱՆՈՒՐ ԲՆՈՒՅԹԻ ՀԱՆՐԱՅԻՆ ԾԱՌԱՅՈՒԹՅՈՒՆՆԵՐ | G13: =G15 -> 220524.1
F14: այդ թվում՝
B15: 08 | F15: Կառավարության տարբեր մակարդակների միջև իրականացվող ընդհանուր բնույթի տրանսֆերտներ | G15: =G17 -> 220524.1
F16: այդ թվում՝
C17: 01 | F17: Կառավարության տարբեր մակարդակների միջև իրականացվող ընդհանուր բնույթի տրանսֆերտներ | G17: =G19 -> 220524.1
F18: այդ թվում՝
F19: ՀՀ տարածքային կառավարման և ենթակառուցվածքների նախարարություն | G19: =G21 -> 220524.1
F20: այդ թվում՝
D21: 1212 | F21: Տարածքային զարգացում | G21: =G23+G32 -> 220524.1
F22: այդ թվում`
E23: 12025 | F23: Մարզերում առաջնահերթ լուծում պահանջող հիմնախնդիրների լուծում | G23: =G25 -> 52716
F24: այդ թվում` ըստ կատարողների
F25: ՀՀ Շիրակի մարզպետի աշխատակազմ | G25: =G27 -> 52716
F26: այդ թվում` բյուջետային ծախսերի տնտեսագիտական դասակարգման հոդվածներ
F27: ԸՆԴԱՄԵՆԸ ԾԱԽՍԵՐ | G27: =G28 -> 52716
F28: ԸՆԹԱՑԻԿ ԾԱԽՍԵՐ | G28: =G29 -> 52716
F29: ԴՐԱՄԱՇՆՈՐՀՆԵՐ | G29: =G30 -> 52716
F30: Կապիտալ դրամաշնորհներ պետական հատվածի այլ մակարդակներին | G30: =G31 -> 52716
F31: - Կապիտալ սուբվենցիաներ համայնքներին | G31: ='h14.'!E21 -> 52716
E32: 32001 | F32: ՀՀ մարզերում առաջնահերթ լուծում պահանջող անհետաձգելի ծրագրերի իրականացում | G32: =G34+G41+G48 -> 167808.1
F33: այդ թվում`ըստ կատարողների
F34: ՀՀ Լոռու մարզպետի աշխատակազմ | G34: =G36 -> 18970.6
F35: այդ թվում` բյուջետային ծախսերի տնտեսագիտական դասակարգման հոդվածներ
F36: ԸՆԴԱՄԵՆԸ ԾԱԽՍԵՐ | G36: =G37 -> 18970.6
F37: ՈՉ ՖԻՆԱՆՍԱԿԱՆ ԱԿՏԻՎՆԵՐԻ ԳԾՈՎ ԾԱԽՍԵՐ | G37: =G38 -> 18970.6
F38: ՀԻՄՆԱԿԱՆ ՄԻՋՈՑՆԵՐ | G38: =G39 -> 18970.6
F39: ՇԵՆՔԵՐ ԵՎ ՇԻՆՈՒԹՅՈՒՆՆԵՐ | G39: =G40 -> 18970.6
F40: - Շենքերի և շինությունների կապիտալ վերանորոգում | G40: =հ10!D16 -> 18970.6
F41: ՀՀ Շիրակի մարզպետի աշխատակազմ | G41: =G43 -> 97242.2
F42: այդ թվում`բյուջետային ծախսերի տնտեսագիտական դասակարգման հոդվածներ
F43: ԸՆԴԱՄԵՆԸ ԾԱԽՍԵՐ | G43: =G44 -> 97242.2
F44: ՈՉ ՖԻՆԱՆՍԱԿԱՆ ԱԿՏԻՎՆԵՐԻ ԳԾՈՎ ԾԱԽՍԵՐ | G44: =G45 -> 97242.2
F45: ՀԻՄՆԱԿԱՆ ՄԻՋՈՑՆԵՐ | G45: =G46 -> 97242.2
F46: ՇԵՆՔԵՐ ԵՎ ՇԻՆՈՒԹՅՈՒՆՆԵՐ | G46: =G47 -> 97242.2
F47: - Շենքերի և շինությունների կապիտալ վերանորոգում | G47: =հ10!F21 -> 97242.2
F48: ՀՀ Սյունիքի մարզպետի աշխատակազմ | G48: =G50 -> 51595.3
F49: այդ թվում`բյուջետային ծախսերի տնտեսագիտական դասակարգման հոդվածներ
F50: ԸՆԴԱՄԵՆԸ ԾԱԽՍԵՐ | G50: =G51 -> 51595.3
F51: ՈՉ ՖԻՆԱՆՍԱԿԱՆ ԱԿՏԻՎՆԵՐԻ ԳԾՈՎ ԾԱԽՍԵՐ | G51: =G52 -> 51595.3
F52: ՀԻՄՆԱԿԱՆ ՄԻՋՈՑՆԵՐ | G52: =G53+G55 -> 51595.3
F53: ՇԵՆՔԵՐ ԵՎ ՇԻՆՈՒԹՅՈՒՆՆԵՐ | G53: =G54 -> 49945.3
F54: - Շենքերի և շինությունների կապիտալ վերանորոգում | G54: ='h13'!E23 -> 49945.3
F55: ԱՅԼ ՀԻՄՆԱԿԱՆ ՄԻՋՈՑՆԵՐ | G55: =G56 -> 1650
F56: - Նախագծահետազոտական ծախսեր | G56: =հ10!G25 -> 1650
A57: 04 | F57: ՏՆՏԵՍԱԿԱՆ ՀԱՐԱԲԵՐՈՒԹՅՈՒՆՆԵՐ | G57: =+G59+G89+G177+G160+G340 -> -20722735
F58: այդ թվում`
B59: 01 | F59: Ընդհանուր բնույթի տնտեսական, առևտրային և աշխատանքի գծով հարաբերություններ | G59: =+G61 -> -4754856.8
F60: այդ թվում`
C61: 01 | F61: Ընդհանուր բնույթի տնտեսական և առևտրային հարաբերություններ | G61: =G63 -> -4754856.8
F62: այդ թվում`
F63: ՀՀ տարածքային կառավարման և ենթակառուցվածքների նախարարություն | G63: =+G65 -> -4754856.8
F64: այդ թվում՝
D65: 1232 | F65: Էներգաարդյունավետության ծրագիր | G65: =+G67+G78 -> -4754856.8
F66: այդ թվում`
E67: 12001 | F67: Եվրոպական ներդրումային բանկի աջակցությամբ իրականացվող Երևանի էներգաարդյունավետության դրամաշնորհային ծրագրի երկրորդ փուլ (մանկապարտեզների և այլ հանրային շենքերի էներգարդյունավետվության բարելավում) | G67: =+G71 -> -815001.6
F68: այդ թվում` ըստ կատարողների
F69: ՀՀ տարածքային կառավարման և ենթակառուցվածքների նախարարություն | G69: =+G71 -> -815001.6
F70: այդ թվում` բյուջետային ծախսերի տնտեսագիտական դասակարգման հոդվածներ
F71: ԸՆԴԱՄԵՆԸ ԾԱԽՍԵՐ | G71: =+G72 -> -815001.6
F72: ՈՉ ՖԻՆԱՆՍԱԿԱՆ ԱԿՏԻՎՆԵՐԻ ԳԾՈՎ ԾԱԽՍԵՐ | G72: =+G73 -> -815001.6
F73: ՀԻՄՆԱԿԱՆ ՄԻՋՈՑՆԵՐ | G73: =+G74+G76 -> -815001.6
F74: ՇԵՆՔԵՐ ԵՎ ՇԻՆՈՒԹՅՈՒՆՆԵՐ | G74: =+G75 -> -779175.5
F75: - Շենքերի և շինությունների շինարարություն | G75: =h12d!D139 -> -779175.5
F76: ԱՅԼ ՀԻՄՆԱԿԱՆ ՄԻՋՈՑՆԵՐ | G76: =+G77 -> -35826.1
F77: - Նախագծահետազոտական ծախսեր | G77: =h12d!D141 -> -35826.1
E78: 12003 | F78: Եվրոպական ներդրումային բանկի աջակցությամբ իրականացվող Երևանի էներգաարդյունավետության ծրագրի երկրորդ փուլ (մանկապարտեզների և այլ հանրային շենքերի էներգարդյունավետվության բարելավում) | G78: =+G82 -> -3939855.2
F79: այդ թվում` ըստ կատարողների
F80: ՀՀ տարածքային կառավարման և ենթակառուցվածքների նախարարություն | G80: =+G82 -> -3939855.2
F81: այդ թվում` բյուջետային ծախսերի տնտեսագիտական դասակարգման հոդվածներ
F82: ԸՆԴԱՄԵՆԸ ԾԱԽՍԵՐ | G82: =+G83 -> -3939855.2
F83: ՈՉ ՖԻՆԱՆՍԱԿԱՆ ԱԿՏԻՎՆԵՐԻ ԳԾՈՎ ԾԱԽՍԵՐ | G83: =+G84 -> -3939855.2
F84: ՀԻՄՆԱԿԱՆ ՄԻՋՈՑՆԵՐ | G84: =+G85+G87 -> -3939855.2
F85: ՇԵՆՔԵՐ ԵՎ ՇԻՆՈՒԹՅՈՒՆՆԵՐ | G85: =+G86 -> -3867523.8
F86: - Շենքերի և շինությունների շինարարություն | G86: =h11v!E240 -> -3867523.8
F87: ԱՅԼ ՀԻՄՆԱԿԱՆ ՄԻՋՈՑՆԵՐ | G87: =+G88 -> -72331.4
F88: - Նախագծահետազոտական ծախսեր | G88: =h11v!E242 -> -72331.4
B89: 02 | F89: Գյուղատնտեսություն, անտառային տնտեսություն, ձկնորսություն և որսորդություն | G89: =G91 -> -2623203.1
F90: այդ թվում`
C91: 04 | F91: Ոռոգում | G91: =G93 -> -2623203.1
F92: այդ թվում`
F93: ՀՀ տարածքային կառավարման և ենթակառուցվածքների նախարարություն | G93: =G95 -> -2623203.1
F94: այդ թվում`
D95: 1004 | F95: Ոռոգման համակարգի առողջացում | G95: =G150+G97+G105+G113+G124+G132+G141 -> -2623203.1
F96: այդ թվում`
E97: 11005 | F97: Եվրասիական զարգացման բանկի աջակցությամբ իրականացվող ոռոգման համակարգերի զարգացման ծրագրի խորհրդատվություն և կառավարում | G97: =G99 -> -8000
F98: այդ թվում` ըստ կատարողների
F99: ՀՀ տարածքային կառավարման և ենթակառուցվածքների նախարարության ջրային կոմիտե | G99: =G101 -> -8000
F100: այդ թվում` բյուջետային ծախսերի տնտեսագիտական դասակարգման հոդվածներ
F101: ԸՆԴԱՄԵՆԸ ԾԱԽՍԵՐ | G101: =G102 -> -8000
...

Sheet հ10
A1: Հավելված N 10
A2: ՀՀ կառավարության 2024 թվականի
A3: -ի N -Ն որոշման
A5: «ՀԱՅԱՍՏԱՆԻ ՀԱՆՐԱՊԵՏՈՒԹՅԱՆ 2024 ԹՎԱԿԱՆԻ ՊԵՏԱԿԱՆ ԲՅՈՒՋԵԻ ՄԱՍԻՆ» ՀԱՅԱՍՏԱՆԻ ՀԱՆՐԱՊԵՏՈՒԹՅԱՆ ՕՐԵՆՔԻ N 1 ՀԱՎԵԼՎԱԾԻ N 3 ԱՂՅՈՒՍԱԿՈՒՄ ԿԱՏԱՐՎՈՂ ԼՐԱՑՈՒՄՆԵՐԸ
G6: (հազ. դրամ)
A7: Ծրագրային դասիչ | C7: Բյուջետային գլխավոր կարգադրիչների, ծրագրերի, միջոցառումների և ուղղությունների անվանումները | D7: Ցուցանիշների փոփոխությունը (ավելացումները նշված են դրական նշանով)
D8: Ընդամենը, | E8: այդ թվում՝
A9: Ծրագիր | B9: Միջոցառում | E9: Կառուցման աշխատանքներ | F9: Վերակառուցման, վերանորոգման և վերականգնման աշխատանքներ | G9: Նախագծահե- տազոտական, գեոդեզիա- քարտեզագրա- կան աշխա- տանքներ | H9: Ոչ ֆինանսական այլ ակտիվների ձեռքբերում
C10: ԸՆԴԱՄԵՆԸ | D10: =SUM(E10:H10) -> 167808.1 | E10: =E12 -> 0 | F10: =F12 -> 166158.1 | G10: =G12 -> 1650 | H10: =H12 -> 0
C11: այդ թվում՝
C12: ՀՀ ՏԱՐԱԾՔԱՅԻՆ ԿԱՌԱՎԱՐՄԱՆ ԵՎ ԵՆԹԱԿԱՌՈՒՑՎԱԾՔՆԵՐԻ ՆԱԽԱՐԱՐՈՒԹՅՈՒՆ | D12: =SUM(E12:H12) -> 167808.1 | E12: =E14 -> 0 | F12: =F14 -> 166158.1 | G12: =+G14 -> 1650 | H12: =H14 -> 0
C13: այդ թվում`
A14: 1212 | B14: 32001 | C14: ՀՀ մարզերում առաջնահերթ լուծում պահանջող անհետաձգելի ծրագրերի իրականացում | D14: =D16+D19+D22 -> 167808.1 | E14: =E16+E19+E22 -> 0 | F14: =F16+F19+F22 -> 166158.1 | G14: =G16+G19+G22 -> 1650 | H14: =H16+H19+H22 -> 0
C15: Այդ թվում
C16: ՀՀ Լոռու մարզ | D16: =D18 -> 18970.6 | E16: =E18 -> 0 | F16: =F18 -> 18970.6 | G16: =G18 -> 0 | H16: =H18 -> 0
C17: Այդ թվում՝ ըստ ուղղությունների
C18: «ՀՀ Լոռու մարզի Քարկոփի միջնակարգ դպրոց» ՊՈԱԿ-ի մասնակի վերանորոգում | D18: =E18+F18+G18+H18 -> 18970.6 | E18: 0 | F18: =[2]h13!E17 -> 18970.6 | G18: 0 | H18: 0
C19: ՀՀ Շիրակի մարզ | D19: =D21 -> 97242.2 | E19: =E21 -> 0 | F19: =F21 -> 97242.2 | G19: =G21 -> 0 | H19: =H21 -> 0
C20: Այդ թվում՝ ըստ ուղղությունների
C21: ՀՀ Շիրակի մարզի Գյումրի քաղաքի Տիգրան Մեծ № 5 շենքի անբավարար տեխնիկական վիճակում գտնվող թվով 3 մուտքերի ուժեղացման-վերականգնման (ամրացման) աշխատանքների իրականացում | D21: =E21+F21+G21+H21 -> 97242.2 | F21: =[2]h13!E20 -> 97242.2
C22: ՀՀ Սյունիքի մարզ | D22: =D25+D24 -> 51595.3 | E22: =E25+E24 -> 0 | F22: =F25+F24 -> 49945.3 | G22: =G25+G24 -> 1650 | H22: =H25+H24 -> 0
C23: Այդ թվում՝ ըստ ուղղությունների
C24: Սիսիան համայնքի թվով 2 բազմաբնակարան բնակելի շենքերի տանիքների վերանորոգման աշխատանքներ | D24: =E24+F24+G24+H24 -> 49945.3 | E24: 0 | F24: =[2]h13!E23 -> 49945.3 | G24: 0 | H24: 0
C25: Մեղրի քաղաքի Ադելյան 5 հասցեում գտնվող մանկապարտեզի շրջակա տարածքի դրենաժային համակարգի կառուցման նախագծային փաստատթղթերի մշակման և ծախսերի գնահատման խորհրդատվական ծառայությունների մատուցման աշխատանքներ | D25: =E25+F25+G25+H25 -> 1650 | E25: 0 | F25: 0 | G25: =[2]h13!E24 -> 1650 | H25: 0
D29: ՀԱՅԱՍՏԱՆԻ ՀԱՆՐԱՊԵՏՈՒԹՅԱՆ
D30: ՎԱՐՉԱՊԵՏԻ ԱՇԽԱՏԱԿԱԶՄԻ ՂԵԿԱՎԱՐ
G31: Ա. ՀԱՐՈՒԹՅՈՒՆՅԱՆ

Sheet h11v
G1: Հավելված N 11
G2: ՀՀ կառավարության 2024 թվականի
G3: ______________ ի ___Ն որոշման
B5: «ՀԱՅԱՍՏԱՆԻ ՀԱՆՐԱՊԵՏՈՒԹՅԱՆ 2024 ԹՎԱԿԱՆԻ ՊԵՏԱԿԱՆ ԲՅՈՒՋԵԻ ՄԱՍԻՆ» ՀԱՅԱՍՏԱՆԻ ՀԱՆՐԱՊԵՏՈՒԹՅԱՆ ՕՐԵՆՔԻ N 1 ՀԱՎԵԼՎԱԾԻ N 4 ԱՂՅՈՒՍԱԿՈՒՄ ԵՎ ՀԱՅԱՍՏԱՆԻ ՀԱՆՐԱՊԵՏՈՒԹՅԱՆ ԿԱՌԱՎԱՐՈՒԹՅԱՆ 2023 ԹՎԱԿԱՆԻ ԴԵԿՏԵՄԲԵՐԻ 28-Ի N 2323-Ն ՈՐՈՇՄԱՆ N 5 ՀԱՎԵԼՎԱԾԻ N 3 ԱՂՅՈՒՍԱԿՈՒՄ ԿԱՏԱՐՎՈՂ ՓՈՓՈԽՈՒԹՅՈՒՆՆԵՐԸ ԵՎ ԼՐԱՑՈՒՄՆԵՐԸ
G7: հազ. դրամ
B8: Ծրագրային դասիչը | D8: Բյուջետային հատկացումների գլխավոր կարգադրիչների, ծրագրերի, միջոցառումների և միջոցառումները կատարող պետական մարմինների անվանումները | E8: Ցուցանիշների փոփոխությունը (ավելացումները նշված են դրական նշանով, իսկ նվազեցումները` փակագծերում)
E10: Տարի
B11: ծրագիրը | C11: միջոցառումը | E11: ընդամենը | F11: այդ թվում՝
F12: վարկային միջոցներ | G12: համաֆինան_x000D_ սավորում
D13: ԸՆԴԱՄԵՆԸ | E13: =F13+G13 -> -18674875 | F13: =+F15+F16 -> -13306886 | G13: =+G15+G16 -> -5367989.3
D14: այդ թվում`
D15: - ԸՆԹԱՑԻԿ ԾԱԽՍԵՐ | E15: =+F15+G15 -> -1160304.7 | F15: =F26+F34+F42+F210 -> -935142.9 | G15: =G26+G34+G42+G210+G83 -> -225161.8
D16: - ՈՉ ՖԻՆԱՆՍԱԿԱՆ ԱԿՏԻՎՆԵՐԻ ԳԾՈՎ ԾԱԽՍԵՐ | E16: =F16+G16 -> -17514570 | F16: =F53+F62+F71+F104+F91+F172+F116+F126+F137+F148+F159+F183+F224+F237+F192+F201 -> -12371743 | G16: =G53+G62+G71+G104+G91+G172+G116+G126+G137+G148+G159+G183+G224+G237+G192+G201 -> -5142827.5
D17: ՀՀ տարածքային կառավարման և ենթակառուցվածքների նախարարություն | E17: =+F17+G17 -> -18674875 | F17: =F19+F76+F97+F165+F108+F230+F176 -> -13306886 | G17: =G19+G76+G97+G165+G108+G230+G176 -> -5367989.3
D18: այդ թվում`
B19: 1004 | D19: Ջրամատակարարաման և ջրահեռացման բարելավում | E19: =+F19+G19 -> -2622748.1 | F19: =F21+F29+F37+F48+F57+F66 -> -2039900 | G19: =G21+G29+G37+G48+G57+G66 -> -582848.1
D20: այդ թվում`
C21: 11005 | D21: Եվրասիական զարգացման բանկի աջակցությամբ իրականացվող ոռոգման համակարգերի զարգացման ծրագրի խորհրդատվություն և կառավարում | E21: =F21+G21 -> -8000 | F21: =F23 -> -8000 | G21: =G23 -> 0
D22: այդ թվում` ըստ կատարողների
D23: ՀՀ տարածքային կառավարման և ենթակառուցվածքների նախարարության ջրային կոմիտե | E23: =F23+G23 -> -8000 | F23: =F25 -> -8000 | G23: =G25 -> 0
D24: այդ թվում` բյուջետային ծախսերի տնտեսագիտական դասակարգման հոդվածներ
D25: ԸՆԴԱՄԵՆԸ ԾԱԽՍԵՐ | E25: =F25+G25 -> -8000 | F25: =F26 -> -8000 | G25: =G26 -> 0
D26: ԸՆԹԱՑԻԿ ԾԱԽՍԵՐ | E26: =F26+G26 -> -8000 | F26: =F27 -> -8000 | G26: =G27 -> 0
D27: ԱՅԼ ԾԱԽՍԵՐ | E27: =F27+G27 -> -8000 | F27: =F28 -> -8000 | G27: =G28 -> 0
D28: Այլ ծախսեր | E28: =F28+G28 -> -8000 | F28: -8000 | G28: 0
C29: 11007 | D29: Գերմանիայի զարգացման վարկերի բանկի աջակցությամբ իրականացվող Ախուրյան գետի ջրային ռեսուրսների ինտեգրացված կառավարում ծրագրի խորհրդատվություն և կառավարում | E29: =F29+G29 -> -6900 | F29: =F31 -> -6900 | G29: =G31 -> 0
D30: այդ թվում` ըստ կատարողների
D31: ՀՀ տարածքային կառավարման և ենթակառուցվածքների նախարարության ջրային կոմիտե | E31: =F31+G31 -> -6900 | F31: =F33 -> -6900 | G31: =G33 -> 0
D32: այդ թվում` բյուջետային ծախսերի տնտեսագիտական դասակարգման հոդվածներ
D33: ԸՆԴԱՄԵՆԸ ԾԱԽՍԵՐ | E33: =F33+G33 -> -6900 | F33: =F34 -> -6900 | G33: =G34 -> 0
D34: ԸՆԹԱՑԻԿ ԾԱԽՍԵՐ | E34: =F34+G34 -> -6900 | F34: =F35 -> -6900 | G34: =G35 -> 0
D35: ԱՅԼ ԾԱԽՍԵՐ | E35: =F35+G35 -> -6900 | F35: =F36 -> -6900 | G35: =G36 -> 0
D36: Այլ ծախսեր | E36: =F36+G36 -> -6900 | F36: -6900 | G36: 0
C37: 11010 | D37: Գերմանիայի զարգացման վարկերի բանկի աջակցությամբ իրականացվող Ախուրյան գետի ջրային ռեսուրսների ինտեգրացված կառավարում փուլ 1 ծրագրով Ջրաձոր գյուղի վերաբնակեցման գործողությունների խորհրդատվություն և կառավարում | E37: =F37+G37 -> -45848.1 | F37: =F39 -> 0 | G37: =G39 -> -45848.1
D38: այդ թվում` ըստ կատարողների
D39: ՀՀ տարածքային կառավարման և ենթակառուցվածքների նախարարության ջրային կոմիտե | E39: =F39+G39 -> -45848.1 | F39: =F41 -> 0 | G39: =G41 -> -45848.1
D40: այդ թվում` բյուջետային ծախսերի տնտեսագիտական դասակարգման հոդվածներ
D41: ԸՆԴԱՄԵՆԸ ԾԱԽՍԵՐ | E41: =F41+G41 -> -45848.1 | F41: =F42 -> 0 | G41: =G42 -> -45848.1
D42: ԸՆԹԱՑԻԿ ԾԱԽՍԵՐ | E42: =F42+G42 -> -45848.1 | F42: =F43 -> 0 | G42: =G43+G46 -> -45848.1
D43: ԴՐԱՄԱՇՆՈՐՀՆԵՐ | E43: =F43+G43 -> -36848.1 | F43: =F44 -> 0 | G43: =G44 -> -36848.1
D44: Ընթացիկ դրամաշնորհներ պետական հատվածի այլ մակարդակներին | E44: =F44+G44 -> -36848.1 | F44: =F45 -> 0 | G44: =G45 -> -36848.1
D45: - Այլ ընթացիկ դրամաշնորհներ | E45: =F45+G45 -> -36848.1 | F45: 0 | G45: -36848.1
D46: ԱՅԼ ԾԱԽՍԵՐ | E46: =F46+G46 -> -9000 | F46: =F47 -> 0 | G46: =G47 -> -9000
D47: Հարկեր, պարտադիր վճարներ և տույժեր, որոնք կառավարման տարբեր մակարդակների կողմից կիրառվում են միմյանց նկատմամբ | E47: =F47+G47 -> -9000 | F47: 0 | G47: -9000
C48: 31001 | D48: Ֆրանսիայի Հանրապետության կառավարության աջակցությամբ իրականացվող Վեդու ջրամբարի և ոռոգման համակարգի կառուցում | E48: =F48+G48 -> -280000 | F48: -200000 | G48: -80000
D49: այդ թվում` ըստ կատարողների
D50: ՀՀ տարածքային կառավարման և ենթակառուցվածքների նախարարության ջրային կոմիտե | E50: =F50+G50 -> -280000 | F50: -200000 | G50: -80000
D51: այդ թվում` բյուջետային ծախսերի տնտեսագիտական դասակարգման հոդվածներ
D52: ԸՆԴԱՄԵՆԸ ԾԱԽՍԵՐ | E52: =F52+G52 -> -280000 | F52: -200000 | G52: -80000
D53: ՈՉ ՖԻՆԱՆՍԱԿԱՆ ԱԿՏԻՎՆԵՐԻ ԳԾՈՎ ԾԱԽՍԵՐ | E53: =F53+G53 -> -280000 | F53: -200000 | G53: -80000
D54: ՀԻՄՆԱԿԱՆ ՄԻՋՈՑՆԵՐ | E54: =F54+G54 -> -280000 | F54: -200000 | G54: -80000
D55: ՇԵՆՔԵՐ ԵՎ ՇԻՆՈՒԹՅՈՒՆՆԵՐ | E55: =F55+G55 -> -280000 | F55: -200000 | G55: -80000
D56: - Շենքերի և շինությունների շինարարություն | E56: =F56+G56 -> -280000 | F56: -200000 | G56: -80000
C57: 31006 | D57: Գերմանիայի զարգացման վարկերի բանկի աջակցությամբ իրականացվող Ախուրյան գետի ջրային ռեսուրսների ինտեգրացված կառավարման ծրագրի երկրորդ փուլի շրջանակներում ջրային տնտեսության ենթակառուցվածքների հիմնանորոգում | E57: =F57+G57 -> -282000 | F57: -225000 | G57: -57000
D58: այդ թվում` ըստ կատարողների
D59: ՀՀ տարածքային կառավարման և ենթակառուցվածքների նախարարության ջրային կոմիտե | E59: =F59+G59 -> -282000 | F59: -225000 | G59: -57000
D60: այդ թվում` բյուջետային ծախսերի տնտեսագիտական դասակարգման հոդվածներ
D61: ԸՆԴԱՄԵՆԸ ԾԱԽՍԵՐ | E61: =F61+G61 -> -282000 | F61: -225000 | G61: -57000
D62: ՈՉ ՖԻՆԱՆՍԱԿԱՆ ԱԿՏԻՎՆԵՐԻ ԳԾՈՎ ԾԱԽՍԵՐ | E62: =F62+G62 -> -282000 | F62: -225000 | G62: -57000
D63: ՀԻՄՆԱԿԱՆ ՄԻՋՈՑՆԵՐ | E63: =F63+G63 -> -282000 | F63: -225000 | G63: -57000
D64: ՇԵՆՔԵՐ ԵՎ ՇԻՆՈՒԹՅՈՒՆՆԵՐ | E64: =F64+G64 -> -282000 | F64: -225000 | G64: -57000
D65: - Շենքերի և շինությունների շինարարություն | E65: =F65+G65 -> -282000 | F65: -225000 | G65: -57000
C66: 31022 | D66: Համաշխարհային բանկի աջակցության շրջանակներում ոռոգման, ջրամատակարարման և ջրահետացման ծրագրերի իրականացում | E66: =+E68 -> -2000000 | F66: =+F68 -> -1600000 | G66: =+G68 -> -400000
D67: այդ թվում` ըստ կատարողների
D68: ՀՀ տարածքային կառավարման և ենթակառուցվածքների նախարարության ջրային կոմիտե | E68: =+E70 -> -2000000 | F68: =+F70 -> -1600000 | G68: =+G70 -> -400000
D69: այդ թվում` բյուջետային ծախսերի տնտեսագիտական դասակարգման հոդվածներ
D70: ԸՆԴԱՄԵՆԸ ԾԱԽՍԵՐ | E70: =+F70+G70 -> -2000000 | F70: =+F71 -> -1600000 | G70: =+G71 -> -400000
D71: ՈՉ ՖԻՆԱՆՍԱԿԱՆ ԱԿՏԻՎՆԵՐԻ ԳԾՈՎ ԾԱԽՍԵՐ | E71: =+F71+G71 -> -2000000 | F71: =+F72 -> -1600000 | G71: =+G72 -> -400000
D72: ՀԻՄՆԱԿԱՆ ՄԻՋՈՑՆԵՐ | E72: =+F72+G72 -> -2000000 | F72: =+F73 -> -1600000 | G72: =+G73 -> -400000
D73: ՇԵՆՔԵՐ ԵՎ ՇԻՆՈՒԹՅՈՒՆՆԵՐ | E73: =+F73+G73 -> -2000000 | F73: =F74+F75 -> -1600000 | G73: =G74+G75 -> -400000
D74: - Շենքերի և շինությունների շինարարություն | E74: =F74+G74 -> -641801.9 | F74: -513441.5 | G74: -128360.4
D75: - Շենքերի և շինությունների կապիտալ վերանորոգում | E75: =F75+G75 -> -1358198.1 | F75: -1086558.5 | G75: -271639.6
B76: 1019 | D76: Սոցիալական ներդրումների և տեղական զարգացման ծրագիր | E76: =E78+E86 -> 56591.5 | F76: =F78+F86 -> 44000 | G76: =G78+G86 -> 12591.5
D77: այդ թվում`
C78: 11003 | D78: Համաշխարհային բանկի աջակցությամբ իրականացվող Սոցիալական ներդրումների և տեղական զարգացման ծրագրի լրացուցիչ ֆինանսավորման ծրագրի կառավարում | E78: =G78 -> -7908.5 | F78: =F80 -> 0 | G78: =G80 -> -7908.5
D79: այդ թվում` ըստ կատարողների
D80: ՀՀ տարածքային կառավարման և ենթակառուցվածքների նախարարություն | E80: =G80 -> -7908.5 | F80: =F82 -> 0 | G80: =G82 -> -7908.5
D81: այդ թվում` բյուջետային ծախսերի տնտեսագիտական դասակարգման հոդվածներ
D82: ԸՆԴԱՄԵՆԸ ԾԱԽՍԵՐ | E82: =G82 -> -7908.5 | F82: =F83 -> 0 | G82: =G83 -> -7908.5
D83: ԸՆԹԱՑԻԿ ԾԱԽՍԵՐ | E83: =G83 -> -7908.5 | F83: =F84 -> 0 | G83: =G84 -> -7908.5
D84: ԱՅԼ ԾԱԽՍԵՐ | E84: =G84 -> -7908.5 | F84: =F85 -> 0 | G84: =G85 -> -7908.5
D85: Այլ ծախսեր | E85: =G85 -> -7908.5 | F85: 0 | G85: -7908.5
C86: 12004 | D86: Համաշխարհային բանկի աջակցությամբ իրականացվող Սոցիալական ներդրումների և տեղական զարգացման ծրագրի լրացուցիչ ֆինանսավորման վարկի շրջանակներում ՀՀ համայնքային և միջհամայնքային ենթակառուցվածքների որակի, օգտագործման և հասանելիության բարելավում | E86: =+E88 -> 64500 | F86: =+F88 -> 44000 | G86: =+G88 -> 20500
D87: այդ թվում` ըստ կատարողների
D88: ՀՀ տարածքային կառավարման և ենթակառուցվածքների նախարարություն | E88: =+E90 -> 64500 | F88: =+F90 -> 44000 | G88: =+G90 -> 20500
D89: այդ թվում` բյուջետային ծախսերի տնտեսագիտական դասակարգման հոդվածներ
D90: ԸՆԴԱՄԵՆԸ ԾԱԽՍԵՐ | E90: =+F90+G90 -> 64500 | F90: =+F91 -> 44000 | G90: =+G91 -> 20500
D91: ՈՉ ՖԻՆԱՆՍԱԿԱՆ ԱԿՏԻՎՆԵՐԻ ԳԾՈՎ ԾԱԽՍԵՐ | E91: =+F91+G91 -> 64500 | F91: =+F92 -> 44000 | G91: =+G92 -> 20500
D92: ՀԻՄՆԱԿԱՆ ՄԻՋՈՑՆԵՐ | E92: =+F92+G92 -> 64500 | F92: =+F94+F96 -> 44000 | G92: =+G94+G96 -> 20500
D93: ՇԵՆՔԵՐ ԵՎ ՇԻՆՈՒԹՅՈՒՆՆԵՐ | E93: =+F93+G93 -> 80000 | F93: =+F94 -> 55000 | G93: =+G94 -> 25000
D94: - Շենքերի և շինությունների շինարարություն | E94: =F94+G94 -> 80000 | F94: 55000 | G94: 25000
D95: ԱՅԼ ՀԻՄՆԱԿԱՆ ՄԻՋՈՑՆԵՐ | E95: =+F95+G95 -> -15500 | F95: =+F96 -> -11000 | G95: =+G96 -> -4500
D96: - Նախագծահետազոտական ծախսեր | E96: =F96+G96 -> -15500 | F96: -11000 | G96: -4500
B97: 1040 | D97: Կոշտ թափոնների կառավարում | E97: =E99 -> -325038 | F97: =F99 -> -270865 | G97: =G99 -> -54173
D98: այդ թվում`
C99: 32009 | D99: Միջազգային կազմակերպությունների աջակցությամբ իրականացվող ՀՀ 8 մարզերում աղբահանության և կոշտ թափոնների ինտեգրված համակարգի կառուցում | E99: =F99+G99 -> -325038 | F99: =F101 -> -270865 | G99: =G101 -> -54173
D100: այդ թվում` ըստ կատարողների
D101: ՀՀ տարածքային կառավարման և ենթակառուցվածքների նախարարություն | E101: =F101+G101 -> -325038 | F101: =F103 -> -270865 | G101: =G103 -> -54173
D102: այդ թվում` բյուջետային ծախսերի տնտեսագիտական դասակարգման հոդվածներ
D103: ԸՆԴԱՄԵՆԸ ԾԱԽՍԵՐ | E103: =F103+G103 -> -325038 | F103: =F104 -> -270865 | G103: =G104 -> -54173
...

Sheet h12d
A1: Հավելված 12
A2: ՀՀ կառավարության 2024 թվականի
A3: -----------------ի N -----------Ն որոշման
A5: «ՀԱՅԱՍՏԱՆԻ ՀԱՆՐԱՊԵՏՈՒԹՅԱՆ 2024 ԹՎԱԿԱՆԻ ՊԵՏԱԿԱՆ ԲՅՈՒՋԵԻ ՄԱՍԻՆ» ՀԱՅԱՍՏԱՆԻ ՀԱՆՐԱՊԵՏՈՒԹՅԱՆ ՕՐԵՆՔԻ N 1 ՀԱՎԵԼՎԱԾԻ N 5 ԱՂՅՈՒՍԱԿՈՒՄ ԵՎ ՀԱՅԱՍՏԱՆԻ ՀԱՆՐԱՊԵՏՈՒԹՅԱՆ ԿԱՌԱՎԱՐՈՒԹՅԱՆ 2023 ԹՎԱԿԱՆԻ ԴԵԿՏԵՄԲԵՐԻ 28-Ի N 2323-Ն ՈՐՈՇՄԱՆ N 5 ՀԱՎԵԼՎԱԾԻ N 4 ԱՂՅՈՒՍԱԿՈՒՄ ԿԱՏԱՐՎՈՂ ՓՈՓՈԽՈՒԹՅՈՒՆՆԵՐԸ ԵՎ ԼՐԱՑՈՒՄՆԵՐԸ
F7: (հազ. դրամ)
A8: Ծրագրային դասիչը | C8: Բյուջետային հատկացումների գլխավոր կարգադրիչների, ծրագրերի, միջոցառումների և միջոցառումները կատարող պետական մարմինների անվանումները | D8: Ցուցանիշների փոփոխությունը (ավելացումները նշված են դրական նշանով, իսկ նվազեցումները` փակագծերում)
D9: Տարի
A10: Ծրագիր | B10: Միջոցառում | D10: Ընդամենը | E10: այդ թվում՝
E11: Դրամաշնորհային միջոցներ | F11: համաֆինանսավորում
C12: ԸՆԴԱՄԵՆԸ | D12: =E12+F12 -> -2031308.7 | E12: =+E15+E14 -> -1845377.6 | F12: =+F15+F14 -> -185931.1
C13: այդ թվում`
C14: - ԸՆԹԱՑԻԿ ԾԱԽՍԵՐ | D14: =E14+F14 -> -349399.3 | E14: =E24+E34+E104+E56 -> -325507.3 | F14: =F24+F34+F104+F56 -> -23892
C15: ՈՉ ՖԻՆԱՆՍԱԿԱՆ ԱԿՏԻՎՆԵՐԻ ԳԾՈՎ ԾԱԽՍԵՐ | D15: =E15+F15 -> -1681909.4 | E15: =E45+E63+E75+E84+E112+E95+E136+E123 -> -1519870.3 | F15: =F45+F63+F75+F84+F112+F95+F136+F123 -> -162039.1
C16: ՀՀ տարածքային կառավարման և ենթակառուցվածքների նախարարություն | D16: =+E16+F16 -> -2031308.7 | E16: =E17+E49+E27+E68+E88+E129+E116 -> -1845377.6 | F16: =F17+F49+F27+F68+F88+F129+F116 -> -185931.1
A17: 1004 | C17: Ջրամատակարարաման և ջրահեռացման բարելավում | D17: =E17+F17 -> -455 | E17: =E19 -> -455 | F17: =F19 -> 0
C18: այդ թվում`
B19: 11009 | C19: Գերմանիայի զարգացման վարկերի բանկի աջակցությամբ իրականացվող Ախուրյան գետի ջրային ռեսուրսների ինտեգրացված կառավարման դրամաշնորհային ծրագիր | D19: =E19+F19 -> -455 | E19: =E21 -> -455 | F19: =F21 -> 0
C20: այդ թվում` ըստ կատարողների
C21: ՀՀ տարածքային կառավարման և ենթակառուցվածքների նախարարության ջրային կոմիտե | D21: =E21+F21 -> -455 | E21: =E23 -> -455 | F21: =F23 -> 0
C22: այդ թվում` բյուջետային ծախսերի տնտեսագիտական դասակարգման հոդվածներ
C23: ԸՆԴԱՄԵՆԸ ԾԱԽՍԵՐ | D23: =E23+F23 -> -455 | E23: =E24 -> -455 | F23: =F24 -> 0
C24: ԸՆԹԱՑԻԿ ԾԱԽՍԵՐ | D24: =E24+F24 -> -455 | E24: =E25 -> -455 | F24: =F25 -> 0
C25: ԱՅԼ ԾԱԽՍԵՐ | D25: =E25+F25 -> -455 | E25: =E26 -> -455 | F25: =F26 -> 0
C26: Այլ ծախսեր | D26: =E26+F26 -> -455 | E26: -455 | F26: 0
A27: 1019 | C27: Սոցիալական ներդրումների և տեղական զարգացման ծրագիր | D27: =D29+D40 -> -105800 | E27: =E29+E40 -> -105800 | F27: =F29+F40 -> 0
C28: այդ թվում`
B29: 11004 | C29: ԱՄՆ ՄԶԳ աջակցությամբ իրականացվող Տեղականինքնակառավարման և ապակենտրոնացման բարեփոխումների դրամաշնորհային ծրագրի կառավարում | D29: =E29+F29 -> -58000 | E29: =E31 -> -58000 | F29: 0
C30: այդ թվում` ըստ կատարողների
C31: ՀՀ տարածքային կառավարման և ենթակառուցվածքների նախարարություն | D31: =E31+F31 -> -58000 | E31: =E33 -> -58000 | F31: 0
C32: այդ թվում` բյուջետային ծախսերի տնտեսագիտական դասակարգման հոդվածներ
C33: ԸՆԴԱՄԵՆԸ ԾԱԽՍԵՐ | D33: =E33+F33 -> -58000 | E33: =E34 -> -58000 | F33: 0
C34: ԸՆԹԱՑԻԿ ԾԱԽՍԵՐ | D34: =E34+F34 -> -58000 | E34: =E35+E38 -> -58000 | F34: 0
C35: ԾԱՌԱՅՈՒԹՅՈՒՆՆԵՐԻ ԵՎ ԱՊՐԱՆՔՆԵՐԻ ՁԵՌՔԲԵՐՈՒՄ | D35: =E35+F35 -> -14000 | E35: =E36 -> -14000 | F35: 0
C36: Պայմանագրային այլ ծառայությունների ձեռքբերում | D36: =E36+F36 -> -14000 | E36: =E37 -> -14000 | F36: 0
C37: - Կառավարչական ծառայություններ | D37: =E37+F37 -> -14000 | E37: -14000 | F37: 0
C38: ԱՅԼ ԾԱԽՍԵՐ | D38: =E38+F38 -> -44000 | E38: =E39 -> -44000 | F38: =F39 -> 0
C39: -Այլ ծախսեր | D39: =E39+F39 -> -44000 | E39: -44000 | F39: 0
B40: 12005 | C40: ԱՄՆ ՄԶԳ աջակցությամբ իրականացվող Տեղականինքնակառավարման և ապակենտրոնացման բարեփոխումների դրամաշնորհային ծրագրի շրջանակներումՏեղական կառավարման համակարգերի հզորացում,ապակենտրոնացման գործընթացներին աջակցություն,պիլոտային ծրագրերի իրականացում | D40: =+D42 -> -47800 | E40: =+E42 -> -47800 | F40: =+F42 -> 0
C41: այդ թվում` ըստ կատարողների
C42: ՀՀ տարածքային կառավարման և ենթակառուցվածքների նախարարություն | D42: =+D44 -> -47800 | E42: =+E44 -> -47800 | F42: =+F44 -> 0
C43: այդ թվում` բյուջետային ծախսերի տնտեսագիտական դասակարգման հոդվածներ
C44: ԸՆԴԱՄԵՆԸ ԾԱԽՍԵՐ | D44: =+E44+F44 -> -47800 | E44: =+E45 -> -47800 | F44: =+F45 -> 0
C45: ՈՉ ՖԻՆԱՆՍԱԿԱՆ ԱԿՏԻՎՆԵՐԻ ԳԾՈՎ ԾԱԽՍԵՐ | D45: =+E45+F45 -> -47800 | E45: =+E46 -> -47800 | F45: =+F46 -> 0
C46: ՀԻՄՆԱԿԱՆ ՄԻՋՈՑՆԵՐ | D46: =+E46+F46 -> -47800 | E46: =+E47 -> -47800 | F46: =+F47 -> 0
C47: ՄԵՔԵՆԱՆԵՐ ԵՎ ՍԱՐՔԱՎՈՐՈՒՄՆԵՐ | D47: =+E47+F47 -> -47800 | E47: =+E48 -> -47800 | F47: =+F48 -> 0
C48: - Վարչական սարքավորումներ | D48: =E48+F48 -> -47800 | E48: -47800
A49: 1040 | C49: Կոշտ թափոնների կառավարում | D49: =E49+F49 -> 510189.1 | E49: =E51+E59 -> 510189.1 | F49: =F51+F59 -> 0
C50: այդ թվում`
B51: 12002 | C51: Վերակառուցման և զարգացման եվրոպական բանկի աջակցությամբ իրականացվող «Կոտայքի և Գեղարքունիքի մարզի կոշտ թափոնների կառավարման խորհրդատվության համար» դրամաշնորհային ծրագիր | D51: =D53 -> -57643.3 | E51: =E53 -> -57643.3 | F51: =F53 -> 0
C52: այդ թվում` ըստ կատարողների
C53: ՀՀ տարածքային կառավարման և ենթակառուցվածքների նախարարություն | D53: =D55 -> -57643.3 | E53: =E55 -> -57643.3 | F53: =F55 -> 0
C54: այդ թվում` բյուջետային ծախսերի տնտեսագիտական դասակարգման հոդվածներ
C55: ԸՆԴԱՄԵՆԸ ԾԱԽՍԵՐ | D55: =E55+F55 -> -57643.3 | E55: =E56 -> -57643.3 | F55: =F56 -> 0
C56: ԸՆԹԱՑԻԿ ԾԱԽՍԵՐ | D56: =E56+F56 -> -57643.3 | E56: =E57 -> -57643.3 | F56: =F57 -> 0
C57: ԱՅԼ ԾԱԽՍԵՐ | D57: =E57+F57 -> -57643.3 | E57: =E58 -> -57643.3 | F57: =F58 -> 0
C58: Այլ ծախսեր | D58: =E58+F58 -> -57643.3 | E58: -57643.3 | F58: 0
B59: 32004 | C59: Վերակառուցման և զարգացման եվրոպական բանկի աջակցությամբ իրականացվող «Կոտայքի և Գեղարքունիքի մարզի կոշտ թափոնների կառավարման» դրամաշնորհային ծրագիր | D59: =E59+F59 -> 567832.4 | E59: =E61 -> 567832.4 | F59: =F61 -> 0
C60: այդ թվում` ըստ կատարողների
C61: ՀՀ տարածքային կառավարման և ենթակառուցվածքների նախարարություն | D61: =E61+F61 -> 567832.4 | E61: =E63 -> 567832.4 | F61: =F63 -> 0
C62: այդ թվում` բյուջետային ծախսերի տնտեսագիտական դասակարգման հոդվածներ
C63: ԸՆԴԱՄԵՆԸ ԾԱԽՍԵՐ | D63: =E63+F63 -> 567832.4 | E63: =E64 -> 567832.4 | F63: =F64 -> 0
C64: ՈՉ ՖԻՆԱՆՍԱԿԱՆ ԱԿՏԻՎՆԵՐԻ ԳԾՈՎ ԾԱԽՍԵՐ | D64: =E64+F64 -> 567832.4 | E64: =E65 -> 567832.4 | F64: =F65 -> 0
C65: ՀԻՄՆԱԿԱՆ ՄԻՋՈՑՆԵՐ | D65: =E65+F65 -> 567832.4 | E65: =E66 -> 567832.4 | F65: =F66 -> 0
C66: ՄԵՔԵՆԱՆԵՐ ԵՎ ՍԱՐՔԱՎՈՐՈՒՄՆԵՐ | D66: =E66+F66 -> 567832.4 | E66: =E67 -> 567832.4 | F66: =F67 -> 0
C67: - Այլ մեքենաներ և սարքավորումներ | D67: =E67+F67 -> 567832.4 | E67: 567832.4 | F67: 0
A68: 1049 | C68: Ճանապարհային ցանցի բարելավում | D68: =+D70+D79 -> 169056 | E68: =+E70+E79 -> 169056 | F68: =+F70+F79 -> 0
C69: այդ թվում`
B70: 21007 | C70: Եվրոպական ներդրումային բանկի աջակցությամբ իրականացվող Հյուսիս-հարավ միջանցքի զարգացման դրամաշնորհային ծրագիր, Տրանշ 3, Լանջիկ-Գյումրի | D70: =E70+F70 -> 113101 | E70: =+E72 -> 113101 | F70: =+F72 -> 0
C71: այդ թվում` ըստ կատարողների
C72: ՀՀ տարածքային կառավարման և ենթակառուցվածքների նախարարություն | D72: =+E72+F72 -> 113101 | E72: =+E74 -> 113101 | F72: =+F74 -> 0
C73: այդ թվում` բյուջետային ծախսերի տնտեսագիտական դասակարգման հոդվածներ
C74: ԸՆԴԱՄԵՆԸ ԾԱԽՍԵՐ | D74: =+E74+F74 -> 113101 | E74: =+E75 -> 113101 | F74: =+F75 -> 0
C75: ՈՉ ՖԻՆԱՆՍԱԿԱՆ ԱԿՏԻՎՆԵՐԻ ԳԾՈՎ ԾԱԽՍԵՐ | D75: =+E75+F75 -> 113101 | E75: =+E76 -> 113101 | F75: =+F76 -> 0
C76: ՀԻՄՆԱԿԱՆ ՄԻՋՈՑՆԵՐ | D76: =+E76+F76 -> 113101 | E76: =+E77 -> 113101 | F76: =+F77 -> 0
C77: ՇԵՆՔԵՐ ԵՎ ՇԻՆՈՒԹՅՈՒՆՆԵՐ | D77: =+E77+F77 -> 113101 | E77: =+E78 -> 113101 | F77: =+F78 -> 0
C78: - Շենքերի և շինությունների շինարարություն | D78: =+E78+F78 -> 113101 | E78: 113101
B79: 21014 | C79: Եվրոպական ներդրումային բանկի աջակցությամբ իրականացվող Մ6 Վանաձոր-Ալավերդի-Վրաստանի սահման միջպետական նշանակության ճանապարհի անվտանգության բարելավման դրամաշնորհային ծրագիր | D79: =E79+F79 -> 55955 | E79: =+E81 -> 55955 | F79: =+F81 -> 0
C80: այդ թվում` ըստ կատարողների
C81: ՀՀ տարածքային կառավարման և ենթակառուցվածքների նախարարություն | D81: =+E81+F81 -> 55955 | E81: =+E83 -> 55955 | F81: =+F83 -> 0
C82: այդ թվում` բյուջետային ծախսերի տնտեսագիտական դասակարգման հոդվածներ
C83: ԸՆԴԱՄԵՆԸ ԾԱԽՍԵՐ | D83: =+E83+F83 -> 55955 | E83: =+E84 -> 55955 | F83: =+F84 -> 0
C84: ՈՉ ՖԻՆԱՆՍԱԿԱՆ ԱԿՏԻՎՆԵՐԻ ԳԾՈՎ ԾԱԽՍԵՐ | D84: =+E84+F84 -> 55955 | E84: =+E85 -> 55955 | F84: =+F85 -> 0
C85: ՀԻՄՆԱԿԱՆ ՄԻՋՈՑՆԵՐ | D85: =+E85+F85 -> 55955 | E85: =+E86 -> 55955 | F85: =+F86 -> 0
C86: ՇԵՆՔԵՐ ԵՎ ՇԻՆՈՒԹՅՈՒՆՆԵՐ | D86: =+E86+F86 -> 55955 | E86: =+E87 -> 55955 | F86: =+F87 -> 0
C87: - Շենքերի և շինությունների շինարարություն | D87: =+E87+F87 -> 55955 | E87: 55955
A88: 1157 | C88: Քաղաքային զարգացում | D88: =E88+F88 -> -706771.4 | E88: =E99+E107+E90 -> -656673.9 | F88: =F99+F107+F90 -> -50097.5
C89: այդ թվում`
B90: 12014 | C90: Եվրոպական միության հարևանության ներդրումային բանկի աջակցությամբ իրականացվող Երևանի մետրոպոլիտենի վերակառուցման երկրորդ դրամաշնորհային ծրագիր | D90: =+D92 -> -331518.9 | E90: =+E92 -> -328972 | F90: =+F92 -> -2546.9
C91: այդ թվում` ըստ կատարողների
C92: ՀՀ տարածքային կառավարման և ենթակառուցվածքների նախարարություն | D92: =+D94 -> -331518.9 | E92: =+E94 -> -328972 | F92: =+F94 -> -2546.9
C93: այդ թվում` բյուջետային ծախսերի տնտեսագիտական դասակարգման հոդվածներ
C94: ԸՆԴԱՄԵՆԸ ԾԱԽՍԵՐ | D94: =+E94+F94 -> -331518.9 | E94: =+E95 -> -328972 | F94: =+F95 -> -2546.9
C95: ՈՉ ՖԻՆԱՆՍԱԿԱՆ ԱԿՏԻՎՆԵՐԻ ԳԾՈՎ ԾԱԽՍԵՐ | D95: =+E95+F95 -> -331518.9 | E95: =+E96 -> -328972 | F95: =+F96 -> -2546.9
C96: ՀԻՄՆԱԿԱՆ ՄԻՋՈՑՆԵՐ | D96: =+E96+F96 -> -331518.9 | E96: =+E97 -> -328972 | F96: =+F97 -> -2546.9
C97: ՇԵՆՔԵՐ ԵՎ ՇԻՆՈՒԹՅՈՒՆՆԵՐ | D97: =+E97+F97 -> -331518.9 | E97: =+E98 -> -328972 | F97: =+F98 -> -2546.9
C98: - Շենքերի և շինությունների շինարարություն | D98: =+E98+F98 -> -331518.9 | E98: -328972 | F98: -2546.9
B99: 12016 | C99: Վերակառուցման և զարգացման եվրոպական բանկի աջակցությամբ իրականացվող Գյումրու քաղաքային ճանապարհների տեխնիկական համագործակցության դրամաշնորհային ծրագիր | D99: =E99+F99 -> -233301 | E99: =E101 -> -209409 | F99: =F101 -> -23892
C100: այդ թվում` ըստ կատարողների
C101: ՀՀ տարածքային կառավարման և ենթակառուցվածքների նախարարություն | D101: =E101+F101 -> -233301 | E101: =E103 -> -209409 | F101: =F103 -> -23892
C102: այդ թվում` բյուջետային ծախսերի տնտեսագիտական դասակարգման հոդվածներ
...

Sheet h13
B1: Հավելված N 13
B2: ՀՀ կառավարության 2024 թվականի
B3: -ի N -Ն որոշման
B5: ՀԱՅԱՍՏԱՆԻ ՀԱՆՐԱՊԵՏՈՒԹՅԱՆ ԿԱՌԱՎԱՐՈՒԹՅԱՆ 2023 ԹՎԱԿԱՆԻ ԴԵԿՏԵՄԲԵՐԻ 28-Ի N 2323-Ն ՈՐՈՇՄԱՆ N 5 ՀԱՎԵԼՎԱԾԻ N 2 ԱՂՅՈՒՍԱԿՈՒՄ ԿԱՏԱՐՎՈՂ ԼՐԱՑՈՒՄՆԵՐԸ
E6: (հազ. դրամ)
B7: Ծրագրային դասիչ | D7: Բյուջետային գլխավոր կարգադրիչների, ծրագրերի, միջոցառումների, միջոցառումները կատարող պետական մարմինների և ուղղությունների անվանումները | E7: Ցուցանիշների փոփոխությունը (ավելացումները նշված են դրական նշանով)
B8: Ծրագիր | C8: Միջոցառում | E8: Տարի
D9: ԸՆԴԱՄԵՆԸ | E9: =E11 -> 167808.1
D10: այդ թվում՝
D11: ՀՀ ՏԱՐԱԾՔԱՅԻՆ ԿԱՌԱՎԱՐՄԱՆ ԵՎ ԵՆԹԱԿԱՌՈՒՑՎԱԾՔՆԵՐԻ ՆԱԽԱՐԱՐՈՒԹՅՈՒՆ | E11: =E13 -> 167808.1
D12: այդ թվում`
B13: 1212 | C13: 32001 | D13: ՀՀ մարզերում առաջնահերթ լուծում պահանջող անհետաձգելի ծրագրերի իրականացում | E13: =E15+E18+E21 -> 167808.1
D14: այդ թվում` ըստ կատարողների
D15: ՀՀ Լոռու մարզպետի աշխատակազմ | E15: =E17 -> 18970.6
D16: Այդ թվում՝ ըստ ուղղությունների
D17: «ՀՀ Լոռու մարզի Քարկոփի միջնակարգ դպրոց» ՊՈԱԿ-ի մասնակի վերանորոգում | E17: =[2]h17!H12 -> 18970.6
D18: ՀՀ Շիրակի մարզպետի աշխատակազմ | E18: =E20 -> 97242.2
D19: Այդ թվում՝ ըստ ուղղությունների
D20: ՀՀ Շիրակի մարզի Գյումրի քաղաքի Տիգրան Մեծ № 5 շենքի անբավարար տեխնիկական վիճակում գտնվող թվով 3 մուտքերի ուժեղացման-վերականգնման (ամրացման) աշխատանքների իրականացում | E20: =[2]h17!H19 -> 97242.2
D21: ՀՀ Սյունիքի մարզպետի աշխատակազմ | E21: =E23+E24 -> 51595.3
D22: Այդ թվում՝ ըստ ուղղությունների
D23: Սիսիան համայնքի թվով 2 բազմաբնակարան բնակելի շենքերի տանիքների վերանորոգման աշխատանքներ | E23: =[2]h17!H33+[2]h17!H34+[2]h17!H31+[2]h17!H30 -> 49945.3
D24: Մեղրի քաղաքի Ադելյան 5 հասցեում գտնվող մանկապարտեզի շրջակա տարածքի դրենաժային համակարգի կառուցման նախագծային փաստատթղթերի մշակման և ծախսերի գնահատման խորհրդատվական ծառայությունների մատուցման աշխատանքներ | E24: =[2]h17!H35+[2]h17!H36 -> 1650

Sheet h14.
E1: Հավելված № 14
E2: ՀՀ կառավարության 2024 թվականի
E3: -------------- ի № ---- -Ն որոշման
B5: «ՀԱՅԱՍՏԱՆԻ ՀԱՆՐԱՊԵՏՈՒԹՅԱՆ 2024 ԹՎԱԿԱՆԻ ՊԵՏԱԿԱՆ ԲՅՈՒՋԵԻ ՄԱՍԻՆ» ՕՐԵՆՔԻ N 1 ՀԱՎԵԼՎԱԾԻ N 7 ԱՂՅՈՒՍԱԿՈՒՄ ԵՎ ՀԱՅԱՍՏԱՆԻ ՀԱՆՐԱՊԵՏՈՒԹՅԱՆ ԿԱՌԱՎԱՐՈՒԹՅԱՆ 2023 ԹՎԱԿԱՆԻ ԴԵԿՏԵՄԲԵՐԻ 28-Ի N 2323-Ն ՈՐՈՇՄԱՆ N 5 ՀԱՎԵԼՎԱԾԻ N 6 ԱՂՅՈՒՍԱԿՈՒՄ ԿԱՏԱՐՎՈՂ ԼՐԱՑՈՒՄՆԵՐԸ
E6: հազար դրամ
B7: Ծրագրային դասիչը | D7: Բյուջետային հատկացումների գլխավոր կարգադրիչների, ծրագրերի, միջոցառումների և միջոցառումները կատարող պետական մարմինների անվանումները | E7: Ցուցանիշների փոփոխությունը (ավելացումները նշված են դրական նշանով)
B8: Ծրագիր | C8: Միջոցառում | E8: Տարի
D9: ԸՆԴԱՄԵՆԸ | E9: =E11 -> 52716
D10: այդ թվում
D11: Կապիտալ սուբվենցիաներ համայնքներին | E11: =E13 -> 52716
D12: այդ թվում`
D13: ՀՀ տարածքային կառավարման և ենթակառուցվածքների նախարարություն | E13: =E15 -> 52716
D14: այդ թվում`
B15: 1212 | D15: Տարածքային զարգացում | E15: =E17 -> 52716
D16: այդ թվում`
C17: 12025 | D17: Մարզերում առաջնահերթ լուծում պահանջող հիմնախնդիրների լուծում | E17: =E19 -> 52716
D18: այդ թվում` ըստ կատարողների
D19: ՀՀ Շիրակի մարզպետի աշխատակազմ | E19: =E21 -> 52716
D20: այդ թվում` ըստ ուղղությունների
D21: ՀՀ Շիրակի մարզի Անի համայնքի Սարակապ բնակավայրի խմելու ջրի ջրատարի կառուցման և ՀՀ Շիրակի մարզի Անի համայնքի սահմանամերձ Լուսաղբյուր բնակավայրի ջրամատակարարման ներքին ցանցի վերանորոգման աշխատանքներ | E21: 52716
B23: ՀԱՅԱՍՏԱՆԻ ՀԱՆՐԱՊԵՏՈՒԹՅԱՆ ՎԱՐՉԱՊԵՏԻ ԱՇԽԱՏԱԿԱԶՄԻ
D24: ՂԵԿԱՎԱՐ՝ | E24: Ա.ՀԱՐՈՒԹՅՈՒՆՅԱՆ

Sheet h15
G1: Հավելված N 15
C2: ՀՀ կառավարության 2024 թվականի
C3: ______________ ի ___Ն որոշման
A5: ՀԱՅԱՍՏԱՆԻ ՀԱՆՐԱՊԵՏՈՒԹՅԱՆ ԿԱՌԱՎԱՐՈՒԹՅԱՆ 2023 ԹՎԱԿԱՆԻ ԴԵԿՏԵՄԲԵՐԻ 28-Ի N 2323-Ն ՈՐՈՇՄԱՆ N 5 ՀԱՎԵԼՎԱԾԻ N 7 ԱՂՅՈՒՍԱԿՈՒՄ ԿԱՏԱՐՎՈՂ ԼՐԱՑՈՒՄԸ
G6: հազ․ դրամ
A7: Ծրագրային դասիչ | C7: Բյուջետային հատկացումների գլխավոր կարգադրիչների, ծրագրերի, միջոցառումների, ծախսային ուղղությունների անվանումները | F7: Միջոցառումները կատարող պետական մարմինների և դրամաշնորհ ստացող տնտեսվարող սուբյեկտների անվանումները | G7: Ցուցանիշների փոփոխությունը (ավելացումները նշված են դրական նշանով)
A8: Ծրագիր | B8: Միջոցառում | G8: Տարի
A9: 1 | B9: 2 | C9: 3 | F9: 4 | G9: 5
A10: ՀՀ տարածքային կառավարման և ենթակառուցվածքների նախարարություն | G10: =G11 -> 28000
A11: 1072 | B11: Ջրամատակարարաման և ջրահեռացման բարելավում | G11: =G12 -> 28000
B12: 12003 | C12: Ջրամատակարարման և ջրահեռացման համակարգերի հրատապ լուծում պահանջող աշխատանքներ | F12: ՀՀ տարածքային կառավարման և ենթակառուցվածքների նախարարություն | G12: =G13 -> 28000
F13: Հայաստանի տարածքային զարգացման հիմնադրամ | G13: 28000
D15: Հայաստանի Հանրապետության վարչապետի
D16: աշխատակազմի ղեկավար

Sheet h16
D1: Հավելված N 16
C2: ՀՀ կառավարության 2024 թվականի
C3: ______________ ի ___Ն որոշման
A5: ՀԱՅԱՍՏԱՆԻ ՀԱՆՐԱՊԵՏՈՒԹՅԱՆ ԿԱՌԱՎԱՐՈՒԹՅԱՆ 2023 ԹՎԱԿԱՆԻ ԴԵԿՏԵՄԲԵՐԻ 28-Ի N 2323-Ն ՈՐՈՇՄԱՆ N 8 ՀԱՎԵԼՎԱԾՈՒՄ ԿԱՏԱՐՎՈՂ ՓՈՓՈԽՈՒԹՅՈՒՆՆԵՐԸ ԵՎ ԼՐԱՑՈՒՄՆԵՐԸ
D6: (հազ. դրամ)
A7: Ծրագրային դասիչը | C7: Բյուջետային հատակացումների ծրագրերի, միջոցառումների անվանումները | D7: Ցուցանիշների փոփոխությունը (ավելացումները նշված են դրական նշանով, նվազեցումները` փակագծերում)
A8: Ծրագիր | B8: Միջոցառում
C9: ԸՆԴԱՄԵՆԸ | D9: =+D10+D16 -> -9057697.9
A10: 1157 | C10: Քաղաքային զարգացում | D10: =SUM(D11:D15) -> -4302841.1
B11: 12014 | C11: Եվրոպական միության հարևանության ներդրումային բանկի աջակցությամբ իրականացվող Երևանի մետրոպոլիտենի վերակառուցման երկրորդ դրամաշնորհային ծրագիր | D11: -331518.9
B12: 12020 | C12: Ասիական զարգացման բանկի աջակցությամբ իրականացվող քաղաքային ենթակառուցվածքների և քաղաքի կայուն զարգացման ներդրումային ծրագրի շրջանակներում ճանապարհային շինարարություն | D12: =h11v!E187 -> 40909.2
B13: 12021 | C13: Ասիական զարգացման բանկի աջակցությամբ իրականացվող քաղաքային ենթակառուցվածքների և քաղաքի կայուն զարգացման ներդրումային երկրորդ ծրագրի շրջանակներում ճանապարհային շինարարություն | D13: 170831.8
B14: 12029 | C14: Ասիական զարգացման բանկի աջակցությամբ իրականացվող քաղաքային զարգացման ներդրումային ծրագրի համակարգում և կառավարում | D14: =h11v!E205 -> -1091648.1
B15: 12030 | C15: Ասիական զարգացման բանկի աջակցությամբ իրականացվող քաղաքային զարգացման ներդրումային ծրագրի շրջանակներում ճանապարհային շինարարություն | D15: -3091415.1
A16: 1232 | C16: Էներգաարդյունավետության ծրագիր | D16: =+D17+D18 -> -4754856.8
B17: 12001 | C17: Եվրոպական ներդրումային բանկի աջակցությամբ իրականացվող Երևանի էներգաարդյունավետության դրամաշնորհային ծրագրի երկրորդ փուլ (մանկապարտեզների և այլ հանրային շենքերի էներգարդյունավետվության բարելավում) | D17: =h12d!D131 -> -815001.6
B18: 12003 | C18: Եվրոպական ներդրումային բանկի աջակցությամբ իրականացվող Երևանի էներգաարդյունավետության ծրագրի երկրորդ փուլ (մանկապարտեզների և այլ հանրային շենքերի էներգարդյունավետվության բարելավում) | D18: =h11v!E232 -> -3939855.2
A22: ՀԱՅԱՍՏԱՆԻ ՀԱՆՐԱՊԵՏՈՒԹՅԱՆ
A23: ՎԱՐՉԱՊԵՏԻ ԱՇԽԱՏԱԿԱԶՄԻ ՂԵԿԱՎԱՐ | C23: Ա. ՀԱՐՈՒԹՅՈՒՆՅԱՆ

Sheet h17
B1: Հավելված N 17
B2: ՀՀ կառավարության 2024 թվականի
B3: ______________ ի ___Ն որոշման
B5: ՀԱՅԱՍՏԱՆԻ ՀԱՆՐԱՊԵՏՈՒԹՅԱՆ ԿԱՌԱՎԱՐՈՒԹՅԱՆ 2023 ԹՎԱԿԱՆԻ ԴԵԿՏԵՄԲԵՐԻ 28-Ի N 2323-Ն ՈՐՈՇՄԱՆ N 9 ՀԱՎԵԼՎԱԾԻ N 9.7 ԵՎ N 9.48 ԱՂՅՈՒՍԱԿՆԵՐՈՒՄ ԿԱՏԱՐՎՈՂ ՓՈՓՈԽՈՒԹՅՈՒՆՆԵՐԸ ԵՎ ԼՐԱՑՈՒՄՆԵՐԸ
D6: Աղյուսակ N 9.7
B7: ՀՀ տարածքային կառավարման և ենթակառուցվածքների նախարարություն
B8: ՄԱՍ 2. ՊԵՏԱԿԱՆ ՄԱՐՄՆԻ ԳԾՈՎ ԱՐԴՅՈՒՆՔԱՅԻՆ (ԿԱՏԱՐՈՂԱԿԱՆ) ՑՈՒՑԱՆԻՇՆԵՐԸ
B10: Ծրագրի դասիչը | C10: Ծրագրի անվանումը
B11: 1004 | C11: Ոռոգման համակարգի առողջացում
B13: Ծրագրի միջոցառումները
B14: Ծրագրի դասիչը` | C14: 1004 | D14: Ցուցանիշների փոփոխությունը (նվազեցումները նշված են փակագծերում)
B15: Միջոցառման դասիչը` | C15: 11005 | D15: Տարի
B16: Միջոցառման անվանումը` | C16: Եվրասիական զարգացման բանկի աջակցությամբ իրականացվող ոռոգման համակարգերի զարգացման ծրագրի խորհրդատվություն և կառավարում
B17: Նկարագրությունը` | C17: Եվրասիական զարգացման բանկի աջակցությամբ իրականացվող ոռոգման համակարգերի զարգացման ծրագրի համակարգում և ղեկավարում
B18: Միջոցառման տեսակը` | C18: Ծառայությունների մատուցում
B19: Ծառայությունը մատուցող կազմակերպության անվանումը | C19: Մասնագիտատացված միավոր
B20: Արդյունքի չափորոշիչներ
B21: Միջոցառման վրա կատարվող ծախսը (հազար դրամ) | D21: =հ8!E20 -> -8000
B23: Ծրագրի դասիչը` | C23: 1004 | D23: Ցուցանիշների փոփոխությունը (նվազեցումները նշված են փակագծերում)
B24: Միջոցառման դասիչը` | C24: 11007 | D24: Տարի
B25: Միջոցառման անվանումը` | C25: Գերմանիայի զարգացման վարկերի բանկի աջակցությամբ իրականացվող Ախուրյան գետի ջրային ռեսուրսների ինտեգրացված կառավարում ծրագրի խորհրդատվություն և կառավարում
B26: Նկարագրությունը` | C26: Գերմանիայի զարգացման վարկերի բանկի աջակցությամբ իրականացվող Ախուրյան գետի ջրային ռեսուրսների ինտեգրացված կառավարում ծրագրի համակարգում և ղեկավարում
B27: Միջոցառման տեսակը` | C27: Ծառայությունների մատուցում
B28: Ծառայությունը մատուցող կազմակերպության անվանումը | C28: Մասնագիտատացված միավոր
B29: Արդյունքի չափորոշիչներ
B30: Միջոցառման վրա կատարվող ծախսը (հազար դրամ) | D30: =հ8!E26 -> -6900
B32: Ծրագրի դասիչը` | C32: 1004 | D32: Ցուցանիշների փոփոխությունը (նվազեցումները նշված են փակագծերում)
B33: Միջոցառման դասիչը` | C33: 11009 | D33: Տարի
B34: Միջոցառման անվանումը` | C34: Գերմանիայի զարգացման վարկերի բանկի աջակցությամբ իրականացվող Ախուրյան գետի ջրային ռեսուրսների ինտեգրացված կառավարման դրամաշնորհային ծրագիր
B35: Նկարագրությունը` | C35: Գերմանիայի զարգացման վարկերի բանկի աջակցությամբ իրականացվող Ախուրյան գետի ջրային ռեսուրսների ինտեգրացված կառավարման դրամաշնորհային ծրագրի համակարգում և ղեկավարում
B36: Միջոցառման տեսակը` | C36: Ծառայությունների մատուցում
B37: Ծառայությունը մատուցող կազմակերպության անվանումը | C37: Մասնագիտատացված միավոր
B38: Արդյունքի չափորոշիչներ
B39: Միջոցառման վրա կատարվող ծախսը (հազար դրամ) | D39: =հ8!E32 -> -455
B41: Ծրագրի դասիչը` | C41: 1004 | D41: Ցուցանիշների փոփոխությունը (նվազեցումները նշված են փակագծերում)
B42: Միջոցառման դասիչը` | C42: 11010 | D42: Տարի
B43: Միջոցառման անվանումը` | C43: Գերմանիայի զարգացման վարկերի բանկի աջակցությամբ իրականացվող Ախուրյան գետի ջրային ռեսուրսների ինտեգրացված կառավարում փուլ 1 ծրագրով Ջրաձոր գյուղի վերաբնակեցման գործողությունների խորհրդատվություն և կառավարում
B44: Նկարագրությունը` | C44: Գերմանիայի զարգացման վարկերի բանկի աջակցությամբ իրականացվող Ախուրյան գետի ջրային ռեսուրսների ինտեգրացված կառավարում փուլ 1 ծրագրով Ջրաձոր գյուղի վերաբնակեցման գործողությունների համակարգում և ղեկավարում
B45: Միջոցառման տեսակը` | C45: Ծառայությունների մատուցում
B46: Ծառայությունը մատուցող կազմակերպության անվանումը | C46: Մասնագիտացված միավոր
B47: Արդյունքի չափորոշիչներ
B48: Միջոցառման վրա կատարվող ծախսը (հազար դրամ) | D48: =հ8!E38 -> -45848.1
B50: Ծրագրի դասիչը` | C50: 1004 | D50: Ցուցանիշների փոփոխությունը (նվազեցումները նշված են փակագծերում)
B51: Միջոցառման դասիչը` | C51: 31001 | D51: Տարի
B52: Միջոցառման անվանումը` | C52: Ֆրանսիայի Հանրապետության կառավարության աջակցությամբ իրականացվող Վեդու ջրամբարի և ոռոգման համակարգի կառուցում
B53: Նկարագրությունը` | C53: Ֆրանսիայի Հանրապետության կառավարության աջակցությամբ իրականացվող Վեդու ջրամբարի և ոռոգման համակարգի կառուցման ծրագիր
B54: Միջոցառման տեսակը` | C54: Պետական մարմինների կողմից օգտագործվող ոչ ֆինանսական ակտիվների հետ գործառնություններ
B55: Ակտիվն օգտագործող կազմակերպության(ների) անվանում(ները)՛ | C55: Մասնագիտացված միավոր
B56: Արդյունքի չափորոշիչներ
B57: Միջոցառման վրա կատարվող ծախսը (հազար դրամ) | D57: =հ8!E44 -> -280000
B59: Ծրագրի դասիչը` | C59: 1004 | D59: Ցուցանիշների փոփոխությունը (նվազեցումները նշված են փակագծերում)
B60: Միջոցառման դասիչը` | C60: 31006 | D60: Տարի
B61: Միջոցառման անվանումը` | C61: Գերմանիայի զարգացման վարկերի բանկի աջակցությամբ իրականացվող Ախուրյան գետի ջրային ռեսուրսների ինտեգրացված կառավարման ծրագրի երկրորդ փուլի շրջանակներում ջրային տնտեսության ենթակառուցվածքների հիմնանորոգում
B62: Նկարագրությունը` | C62: Գերմանիայի զարգացման վարկերի բանկի աջակցությամբ իրականացվող Ախուրյան գետի ջրային ռեսուրսների ինտեգրացված կառավարման ծրագրի երկրորդ փուլ
B63: Միջոցառման տեսակը` | C63: Պետական մարմինների կողմից օգտագործվող ոչ ֆինանսական ակտիվների հետ գործառնություններ
B64: Ակտիվն օգտագործող կազմակերպության(ների) անվանում(ները)՛ | C64: Մասնագիտացված միավոր
B65: Արդյունքի չափորոշիչներ
B66: Միջոցառման վրա կատարվող ծախսը (հազար դրամ) | D66: =հ8!E50 -> -282000
B69: Ծրագրի դասիչը` | C69: 1004 | D69: Ցուցանիշների փոփոխությունը (նվազեցումները նշված են փակագծերում)
B70: Միջոցառման դասիչը` | C70: 31022 | D70: Տարի
B71: Միջոցառման անվանումը` | C71: Համաշխարհային բանկի աջակցության շրջանակներում ոռոգման, ջրամատակարարման և ջրահետացման ծրագրերի իրականացում
B72: Նկարագրությունը` | C72: Համաշխարհային բանկի աջակցության շրջանակներում ոռոգման, ջրամատակարարման և ջրահեռացման ծրագրերի իրականացման խորհրդատվական ծառայությունների ձեռքբերում, վերակառուցման աշխատանքների իրականացում
B73: Միջոցառման տեսակը` | C73: Պետական մարմինների կողմից օգտագործվող ոչ ֆինանսական ակտիվների հետ գործառնություններ
B74: Ակտիվն օգտագործող կազմակերպության(ների) անվանում(ները)՛ | C74: Մասնագիտացված միավոր
B75: Արդյունքի չափորոշիչներ
B76: Միջոցառման վրա կատարվող ծախսը (հազար դրամ) | D76: ='հ9․'!G150 -> -2000000
B78: Ծրագրի դասիչը | C78: Ծրագրի անվանումը
B79: 1019 | C79: Սոցիալական ներդրումների և տեղական զարգացման ծրագիր
B80: Ծրագրի միջոցառումները
B81: Ծրագրի դասիչը` | C81: 1019 | D81: Ցուցանիշների փոփոխությունը (նվազեցումները նշված են փակագծերում)
B82: Միջոցառման դասիչը` | C82: 11003 | D82: Տարի
B83: Միջոցառման անվանումը` | C83: Համաշխարհային բանկի աջակցությամբ իրականացվող Սոցիալական ներդրումների և տեղական զարգացման ծրագրի լրացուցիչ ֆինանսավորման ծրագրի կառավարում
B84: Նկարագրությունը` | C84: Սոցիալական ներդրումների և տեղական զարգացման լրացուցիչ ֆինանսավորման ծրագիր` ՀՀ աղքատ և խոցելի խմբերի կյանքի ստանդարտների բարձրացման նպատակով
B85: Միջոցառման տեսակը` | C85: Ծառայությունների մատուցում
B86: Միջոցառումն իրականացնողի անվանումը | C86: Մասնագիտացված միավոր
B87: Արդյունքի չափորոշիչներ
B88: Միջոցառման վրա կատարվող ծախսը (հազար դրամ) | D88: =հ8!E69 -> -7908.5
B91: Ծրագրի դասիչը` | C91: 1019 | D91: Ցուցանիշների փոփոխությունը (նվազեցումները նշված են փակագծերում)
B92: Միջոցառման դասիչը` | C92: 11004 | D92: Տարի
B93: Միջոցառման անվանումը` | C93: ԱՄՆ ՄԶԳ աջակցությամբ իրականացվող Տեղականինքնակառավարման և ապակենտրոնացման բարեփոխումների դրամաշնորհային ծրագրի կառավարում
B94: Նկարագրությունը` | C94: ԱՄՆ ՄԶԳ աջակց. իրականաց. Տեղականինքնակառավար. և ապակենտրոնաց. բարեփոխումների դրամաշնորհային ծրագրի իրականաց.նպատակով ծր. կառ. ծախսեր ևՏեղ. կառ. համակարգերի հզորացման,ապակենտրոնաց. գործընթացներին աջակց.նպատակով խորհրդատվ. և ուսուցում
B95: Միջոցառման տեսակը` | C95: Ծառայությունների մատուցում
B96: Միջոցառումն իրականացնողի անվանումը | C96: Մասնագիտացված միավոր
B97: Արդյունքի չափորոշիչներ
B98: Միջոցառման վրա կատարվող ծախսը (հազար դրամ) | D98: =հ8!E75 -> -58000
B100: Ծրագրի դասիչը` | C100: 1019 | D100: Ցուցանիշների փոփոխությունը (ավելացումները նշված են դրական նշանով)
B101: Միջոցառման դասիչը` | C101: 12004 | D101: Տարի
B102: Միջոցառման անվանումը` | C102: Համաշխարհային բանկի աջակցությամբ իրականացվող Սոցիալական ներդրումների և տեղական զարգացման ծրագրի լրացուցիչ ֆինանսավորման վարկի շրջանակներում ՀՀ համայնքային և միջհամայնքային ենթակառուցվածքների որակի, օգտագործման և հասանելիության բարելավում:
B103: Նկարագրությունը` | C103: Ջրագծերի, առողջապահության, կրթության օբյեկտների, մշակույթային տների, ծերանոցների, մանկատների, հատուկ դպրոցների, մանկապարտզների և կոյուղու օբյեկտնրի հիմն. և շինարարություն., գույքի և սարքավորումների տրամադրում շահառու ենթածրագրերի համար:
B104: Միջոցառման տեսակը` | C104: Տրանսֆերտների տրամադրում
B105: Շահառուների ընտրության չափանիշները | C105: ՀՀ բնակչություն
B106: Արդյունքի չափորոշիչներ
B107: Միջոցառման վրա կատարվող ծախսը (հազար դրամ) | D107: =հ8!E81 -> 64500
B110: Ծրագրի դասիչը` | C110: 1019 | D110: Ցուցանիշների փոփոխությունը (նվազեցումները նշված են փակագծերում)
B111: Միջոցառման դասիչը` | C111: 12005 | D111: Տարի
B112: Միջոցառման անվանումը` | C112: ԱՄՆ ՄԶԳ աջակցությամբ իրականացվող Տեղականինքնակառավարման և ապակենտրոնացման բարեփոխումների դրամաշնորհային ծրագրի շրջանակներումՏեղական կառավարման համակարգերի հզորացում,ապակենտրոնացման գործընթացներին աջակցություն,պիլոտային ծրագրերի իրականացում
B113: Նկարագրությունը` | C113: ԱՄՆ ՄԶԳ աջակցությամբ իրականացվող Տեղականինքնակառավարման և ապակենտրոնացմանբարեփոխումների դրամաշնորհային ծրագրիշրջանակներում մեքենասարքավորումներիտրամադրում և համայնքային մակարդակիենթակառուցվածքների կառուցում և վերականգնում
B114: Միջոցառման տեսակը` | C114: Տրանսֆերտների տրամադրում
B115: Շահառուների ընտրության չափանիշները | C115: ՀՀ բնակչություն
B116: Արդյունքի չափորոշիչներ
...

Sheet h18.
B1: Հավելված N 18
B2: ՀՀ կառավարության 2024 թվականի
B3: ______________ ի ___Ն որոշման
B5: ՀԱՅԱՍՏԱՆԻ ՀԱՆՐԱՊԵՏՈՒԹՅԱՆ ԿԱՌԱՎԱՐՈՒԹՅԱՆ 2023 ԹՎԱԿԱՆԻ ԴԵԿՏԵՄԲԵՐԻ 28-Ի N 2323-Ն ՈՐՈՇՄԱՆ N 9.1 ՀԱՎԵԼՎԱԾԻ N 9.1.7,9.1.25,9.1.52,9.1.57,9.1.55 ԵՎ N 9.1.58 ԱՂՅՈՒՍԱԿՆԵՐՈՒՄ ԿԱՏԱՐՎՈՂ ՓՈՓՈԽՈՒԹՅՈՒՆՆԵՐԸ ԵՎ ԼՐԱՑՈՒՄՆԵՐԸ
D7: Աղյուսակ N 9.1.7
B8: ՀՀ տարածքային կառավարման և ենթակառուցվածքների նախարարություն
B9: ՄԱՍ 1. ՊԵՏԱԿԱՆ ՄԱՐՄՆԻ ԳԾՈՎ ԱՐԴՅՈՒՆՔԱՅԻՆ (ԿԱՏԱՐՈՂԱԿԱՆ) ՑՈՒՑԱՆԻՇՆԵՐԸ
B11: Ծրագրի դասիչը | C11: Ծրագրի անվանումը
B12: 1019 | C12: Սոցիալական ներդրումների և տեղական զարգացման ծրագիր
B14: Ծրագրի միջոցառումները
B15: Ծրագրի դասիչը` | C15: 1019 | D15: Ցուցանիշների փոփոխությունը (նվազեցումները նշված են փակագծերում)
B16: Միջոցառման դասիչը` | C16: 11003 | D16: Տարի
B17: Միջոցառման անվանումը` | C17: Համաշխարհային բանկի աջակցությամբ իրականացվող Սոցիալական ներդրումների և տեղական զարգացման ծրագրի լրացուցիչ ֆինանսավորման ծրագրի կառավարում
B18: Նկարագրությունը` | C18: Սոցիալական ներդրումների և տեղական զարգացման լրացուցիչ ֆինանսավորման ծրագիր` ՀՀ աղքատ և խոցելի խմբերի կյանքի ստանդարտների բարձրացման նպատակով
B19: Միջոցառման տեսակը` | C19: Ծառայությունների մատուցում
B20: Միջոցառումն իրականացնողի անվանումը | C20: Մասնագիտացված միավոր
B21: Արդյունքի չափորոշիչներ
B22: Միջոցառման վրա կատարվող ծախսը (հազար դրամ) | D22: ='հ9․'!G346 -> -7908.5
B24: Ծրագրի դասիչը` | C24: 1019 | D24: Ցուցանիշների փոփոխությունը (նվազեցումները նշված են փակագծերում)
B25: Միջոցառման դասիչը` | C25: 11004 | D25: Տարի
B26: Միջոցառման անվանումը` | C26: ԱՄՆ ՄԶԳ աջակցությամբ իրականացվող Տեղականինքնակառավարման և ապակենտրոնացման բարեփոխումների դրամաշնորհային ծրագրի կառավարում
B27: Նկարագրությունը` | C27: ԱՄՆ ՄԶԳ աջակց. իրականաց. Տեղականինքնակառավար. և ապակենտրոնաց. բարեփոխումների դրամաշնորհային ծրագրի իրականաց.նպատակով ծր. կառ. ծախսեր ևՏեղ. կառ. համակարգերի հզորացման,ապակենտրոնաց. գործընթացներին աջակց.նպատակով խորհրդատվ. և ուսուցում
B28: Միջոցառման տեսակը` | C28: Ծառայությունների մատուցում
B29: Միջոցառումն իրականացնողի անվանումը | C29: Մասնագիտացված միավոր
B30: Արդյունքի չափորոշիչներ
B31: Միջոցառման վրա կատարվող ծախսը (հազար դրամ) | D31: ='h17'!D98 -> -58000
B33: Ծրագրի դասիչը` | C33: 1019 | D33: Ցուցանիշների փոփոխությունը (ավելացումները նշված են դրական նշանով)
B34: Միջոցառման դասիչը` | C34: 12004 | D34: Տարի
B35: Միջոցառման անվանումը` | C35: Համաշխարհային բանկի աջակցությամբ իրականացվող Սոցիալական ներդրումների և տեղական զարգացման ծրագրի լրացուցիչ ֆինանսավորման վարկի շրջանակներում ՀՀ համայնքային և միջհամայնքային ենթակառուցվածքների որակի, օգտագործման և հասանելիության բարելավում:
B36: Նկարագրությունը` | C36: Ջրագծերի, առողջապահության, կրթության օբյեկտների, մշակույթային տների, ծերանոցների, մանկատների, հատուկ դպրոցների, մանկապարտզների և կոյուղու օբյեկտնրի հիմն. և շինարարություն., գույքի և սարքավորումների տրամադրում շահառու ենթածրագրերի համար:
B37: Միջոցառման տեսակը` | C37: Տրանսֆերտների տրամադրում
B38: Շահառուների ընտրության չափանիշները | C38: ՀՀ բնակչություն
B39: Արդյունքի չափորոշիչներ
B40: Միջոցառման վրա կատարվող ծախսը (հազար դրամ) | D40: ='h17'!D107 -> 64500
B42: Ծրագրի դասիչը` | C42: 1019 | D42: Ցուցանիշների փոփոխությունը (նվազեցումները նշված են փակագծերում)
B43: Միջոցառման դասիչը` | C43: 12005 | D43: Տարի
B44: Միջոցառման անվանումը` | C44: ԱՄՆ ՄԶԳ աջակցությամբ իրականացվող Տեղականինքնակառավարման և ապակենտրոնացման բարեփոխումների դրամաշնորհային ծրագրի շրջանակներումՏեղական կառավարման համակարգերի հզորացում,ապակենտրոնացման գործընթացներին աջակցություն,պիլոտային ծրագրերի իրականացում
B45: Նկարագրությունը` | C45: ԱՄՆ ՄԶԳ աջակցությամբ իրականացվող Տեղականինքնակառավարման և ապակենտրոնացմանբարեփոխումների դրամաշնորհային ծրագրիշրջանակներում մեքենասարքավորումներիտրամադրում և համայնքային մակարդակիենթակառուցվածքների կառուցում և վերականգնում
B46: Միջոցառման տեսակը` | C46: Տրանսֆերտների տրամադրում
B47: Շահառուների ընտրության չափանիշները | C47: ՀՀ բնակչություն
B48: Արդյունքի չափորոշիչներ
B49: Միջոցառման վրա կատարվող ծախսը (հազար դրամ) | D49: ='h17'!D117 -> -47800
B52: Ծրագրի դասիչը | C52: Ծրագրի անվանումը
B53: 1040 | C53: Կոշտ թափոնների կառավարում
B55: Ծրագրի միջոցառումները
B56: Ծրագրի դասիչը` | C56: 1040 | D56: Ցուցանիշների փոփոխությունը (նվազեցումները նշված են փակագծերում)
B57: Միջոցառման դասիչը` | C57: 12002 | D57: Տարի
B58: Միջոցառման անվանումը` | C58: Վերակառուցման և զարգացման եվրոպական բանկի աջակցությամբ իրականացվող «Կոտայքի և Գեղարքունիքի մարզի կոշտ թափոնների կառավարման խորհրդատվության համար» դրամաշնորհային ծրագիր
B59: Նկարագրությունը` | C59: Կոշտ թափոննրի կառավարման համակարգի բարելավում և նոր աղբավայրի ստեղծում
B60: Միջոցառման տեսակը` | C60: Տրանսֆերտների տրամադրում
B61: Շահառուների ընտրության չափանիշները | C61: ՀՀ բնակչություն
B62: Արդյունքի չափորոշիչներ
B63: Աղբահանության ծառայությունների մատուցման պայմանագրեր համայնքների հետ, հատ | D63: -16
B64: Միջոցառման վրա կատարվող ծախսը (հազար դրամ) | D64: =հ8!E99 -> -57643.3
B66: Ծրագրի դասիչը` | C66: 1040 | D66: Ցուցանիշների փոփոխությունը (ավելացումները նշված են դրական նշանով)
B67: Միջոցառման դասիչը` | C67: 32004 | D67: Տարի
B68: Միջոցառման անվանումը` | C68: Վերակառուցման և զարգացման եվրոպական բանկի աջակցությամբ իրականացվող «Կոտայքի և Գեղարքունիքի մարզի կոշտ թափոնների կառավարման» դրամաշնորհային ծրագիր
B69: Նկարագրությունը` | C69: Կոշտ թափոնների կառավարման համակարգի բարելավում և նոր աղբավայրի ստեղծում
B70: Միջոցառման տեսակը` | C70: Այլ պետական կազմակերպությունների կողմից օգտագործվող ոչ ֆինանսական ակտիվների հետ գործառնություններ
B71: Ակտիվն օգտագործող կազմակերպության(ների) անվանում(ները)՛ | C71: ՀՀ տարածքային կառավարման և ենթակառուցվածքների նախարարություն
B72: Արդյունքի չափորոշիչներ
B73: Աղբամաների տեղադրման համար հարթակների կառուցում/հատ | D73: 1500
B74: Միջոցառման վրա կատարվող ծախսը (հազար դրամ) | D74: =հ8!E105 -> 567832.4
B76: Ծրագրի դասիչը` | C76: 1040 | D76: Ցուցանիշների փոփոխությունը (նվազեցումները նշված են փակագծերում)
B77: Միջոցառման դասիչը` | C77: 32009 | D77: Տարի
B78: Միջոցառման անվանումը` | C78: Միջազգային կազմակերպությունների աջակցությամբ իրականացվող ՀՀ 8 մարզերում աղբահանության և կոշտ թափոնների ինտեգրված համակարգի կառուցում
B79: Նկարագրությունը` | C79: ՀՀ 8 մարզերում աղբահանության և կոշտ թափոնների ինտեգրված համակարգ (4 սանիտարական աղբավայր, 16 փոխբեռնման կայան)
B80: Միջոցառման տեսակը` | C80: Այլ պետական կազմակերպությունների կողմից օգտագործվող ոչ ֆինանսական ակտիվների հետ գործառնություններ
B81: Ակտիվն օգտագործող կազմակերպության(ների) անվանում(ները)՛ | C81: ՀՀ տարածքային կառավարման և ենթակառուցվածքների նախարարություն
B82: Արդյունքի չափորոշիչներ
B83: Նախագծանախահաշվային փաստաթղթերի մշակում, հատ | D83: -1
B84: Նոր ստեղծվող աղբավայրերի թիվ, հատ | D84: -1
B85: Փոխաբեռնման կայանների նախագիծ , հատ | D85: -1
B86: Միջոցառման վրա կատարվող ծախսը (հազար դրամ) | D86: =հ8!E111 -> -325038
B89: Ծրագրի դասիչը | C89: Ծրագրի անվանումը
B90: 1049 | C90: Ճանապարհային ցանցի բարելավում
B92: Ծրագրի միջոցառումները
B93: Ծրագրի դասիչը` | C93: 1049 | D93: Ցուցանիշների փոփոխությունը (նվազեցումները նշված են փակագծերում)
B94: Միջոցառման դասիչը` | C94: 21004 | D94: Տարի
B95: Միջոցառման անվանումը` | C95: Ասիական զարգացման բանկի աջակցությամբ իրականացվող Մ6 Վանաձոր-Ալավերդի-Վրաստանի սահման միջպետական նշանակության ճանապարհի ծրագրի կառուցում և հիմնանորոգում
B96: Նկարագրությունը` | C96: Ճանապարհաշինական աշխատանքներ
B97: Միջոցառման տեսակը` | C97: Հանրության կողմից անմիջականորեն օգտագործվող ակտիվների հետ կապված միջոցառումներ
B98: Միջոցառումն իրականացնողի անվանումը՛ | C98: Մասնագիտացված միավոր
B99: Արդյունքի չափորոշիչներ
B100: Միջոցառման վրա կատարվող ծախսը (հազար դրամ) | D100: ='h17'!D167 -> -145000
B102: Ծրագրի դասիչը` | C102: 1049 | D102: Ցուցանիշների փոփոխությունը (նվազեցումները նշված են փակագծերում)
B103: Միջոցառման դասիչը` | C103: 21006 | D103: Տարի
B104: Միջոցառման անվանումը` | C104: Ասիական զարգացման բանկի աջակցությամբ իրականացվող Հյուսիս-հարավ միջանցքի զարգացման վարկային ծրագիր, Տրանշ 2
B105: Նկարագրությունը` | C105: Աշտարակ-Թալին 29+600կմ-71+500կմ հատվածի կառուցում
B106: Միջոցառման տեսակը` | C106: Հանրության կողմից անմիջականորեն օգտագործվող ակտիվների հետ կապված միջոցառումներ
B107: Միջոցառումն իրականացնողի անվանումը՛ | C107: Մասնագիտացված միավոր
B108: Արդյունքի չափորոշիչներ
B109: 1-ին հատված (կմ 29+600-կմ 37+545), ընդհանուր ծավալի մեջ, տոկոս | D109: -10
B110: 2-րդ հատված (37+545-կմ 71+500), ընդհանուր ծավալի մեջ, տոկոս | D110: -10
B111: Միջոցառման վրա կատարվող ծախսը (հազար դրամ) | D111: ='h17'!D178 -> -1995000
B113: Ծրագրի դասիչը` | C113: 1049 | D113: Ցուցանիշների փոփոխությունը (ավելացումները նշված են դրական նշանով)
B114: Միջոցառման դասիչը` | C114: 21007 | D114: Տարի
B115: Միջոցառման անվանումը` | C115: Եվրոպական ներդրումային բանկի աջակցությամբ իրականացվող Հյուսիս-հարավ միջանցքի զարգացման դրամաշնորհային ծրագիր, Տրանշ 3
B116: Նկարագրությունը` | C116: Լանջիկ-Գյումրի 2.75 կմ երկարությամբ ճանապարհային հատվածի կառուցում
B117: Միջոցառման տեսակը` | C117: Հանրության կողմից անմիջականորեն օգտագործվող ակտիվների հետ կապված միջոցառումներ
...

Sheet h19
B1: Հավելված N 19
B2: ՀՀ կառավարության 2024 թվականի
B3: -ի N -Ն որոշման
B5: ՀՀ ԿԱՌԱՎԱՐՈՒԹՅԱՆ 2023 ԹՎԱԿԱՆԻ ԴԵԿՏԵՄԲԵՐԻ 28-Ի N 2323-Ն ՈՐՈՇՄԱՆ N 10 ՀԱՎԵԼՎԱԾՈՒՄ ԿԱՏԱՐՎՈՂ ՓՈՓՈԽՈՒԹՅՈՒՆՆԵՐԸ ԵՎ ԼՐԱՑՈՒՄՆԵՐԸ
B7: Կոդը | C7: Անվանումը | D7: Գնման ձևը | E7: Չափի միավորը | F7: Ցուցանիշների փոփոխությունը (ավելացումները նշված են դրական նշանով)
F8: Միավորի գինը | G8: քանակը | H8: գումարը (հազ. դրամ)
C9: Ընդամենը | H9: =H10+H18+H26 -> 167808.1
C10: ՀՀ Լոռու մարզպետի աշխատակազմ | H10: =H11 -> 18970.6
B11: Բաժին N 01 | C11: Խումբ N 08 | D11: Դաս N 01 | E11: Կառավարության տարբեր մակարդակների միջև իրականացվող ընդհանուր բնույթի տրանսֆերտներ | H11: =H12 -> 18970.6
B12: 1212/32001 | C12: ՀՀ մարզերում առաջնահերթ լուծում պահանջող անհետաձգելի ծրագրերի իրականացում | H12: =H13+H15 -> 18970.6
C13: ՄԱՍ II ԱՇԽԱՏԱՆՔՆԵՐ | H13: =H14 -> 18496
B14: 45211229/1 | C14: շինարարական աշխատանքներ դպրոցների համար | D14: ՀՄԱ | E14: դրամ | F14: 18495960 | G14: 1 | H14: 18496
C15: ՄԱՍ III. ԾԱՌԱՅՈՒԹՅՈՒՆՆԵՐ | H15: =H16+H17 -> 474.6
B16: 71351540/4 | C16: տեխնիկական հսկողության ծառայություններ | D16: ՀՄԱ | E16: դրամ | F16: =H16*1000 -> 365100 | G16: 1 | H16: 365.1
B17: 98111140/3 | C17: հեղինակային հսկողության ծառայություններ | D17: ՄԱ | E17: դրամ | F17: =H17*1000 -> 109500 | G17: 1 | H17: 109.5
C18: ՀՀ Շիրակի մարզպետի աշխատակազմ | H18: =H19 -> 97242.2
B19: Բաժին N 01 | C19: Խումբ N 08 | D19: Դաս N 01 | E19: Կառավարության տարբեր մակարդակների միջև իրականացվող ընդհանուր բնույթի տրանսֆերտներ | H19: =H20 -> 97242.2
B20: 1212/32001 | C20: ՀՀ մարզերում առաջնահերթ լուծում պահանջող անհետաձգելի ծրագրերի իրականացում | H20: =H21+H23 -> 97242.2
C21: ՄԱՍ II ԱՇԽԱՏԱՆՔՆԵՐ | H21: =H22 -> 95679.5
B22: 45611300/501 | C22: այլ շենքերի, շինությունների հիմնանորոգում | D22: ԲՄ | E22: դրամ | F22: =H22*1000 -> 95679500 | G22: 1 | H22: 95679.5
C23: ՄԱՍ III. ԾԱՌԱՅՈՒԹՅՈՒՆՆԵՐ | H23: =H24+H25 -> 1562.7
B24: 71351540/501 | C24: տեխնիկական հսկողության ծառայություններ | D24: ԳՀ | E24: դրամ | F24: 1040000 | G24: 1 | H24: =F24*G24/1000 -> 1040
B25: 98111140 | C25: հեղինակային հսկողության ծառայություններ | D25: ՄԱ | E25: դրամ | F25: =H25*1000 -> 522700 | G25: 1 | H25: 522.7
C26: ՀՀ Սյունիքի մարզպետի աշխատակազմ | H26: =H27 -> 51595.3
B27: Բաժին N 01 | C27: Խումբ N 08 | D27: Դաս N 01 | E27: Կառավարության տարբեր մակարդակների միջև իրականացվող ընդհանուր բնույթի տրանսֆերտներ | H27: =H28 -> 51595.3
B28: 1212/32001 | C28: ՀՀ մարզերում առաջնահերթ լուծում պահանջող անհետաձգելի ծրագրերի իրականացում | H28: =H29+H32 -> 51595.3
C29: ՄԱՍ II ԱՇԽԱՏԱՆՔՆԵՐ | H29: =H30+H31 -> 49107.8
B30: 45261124/505 | C30: տանիքների վերանորոգման աշխատանքներ | D30: ԳՀ | E30: դրամ | F30: 27363800 | G30: 1 | H30: =F30/1000 -> 27363.8
B31: 45261124/512 | C31: տանիքների վերանորոգման աշխատանքներ | D31: ԳՀ | E31: դրամ | F31: 21744000 | G31: 1 | H31: =F31/1000 -> 21744
C32: ՄԱՍ III. ԾԱՌԱՅՈՒԹՅՈՒՆՆԵՐ | H32: =H33+H34+H35+H36 -> 2487.5
B33: 71351540 | C33: տեխնիկական հսկողության ծառայություններ | D33: ԳՀ | E33: դրամ | F33: =H33*1000 -> 460500 | G33: 1 | H33: 460.5
B34: 98111140 | C34: հեղինակային հսկողության ծառայություններ | D34: ՄԱ | E34: դրամ | F34: =H34*1000 -> 377000 | G34: 1 | H34: 377
B35: 71241200 | C35: նախագծերի պատրաստում, ծախսերի գնահատում | D35: ԳՀ | E35: դրամ | F35: 1500000 | G35: 1 | H35: =F35/1000 -> 1500
B36: 50531140 | C36: փորձաքննության ծառայություններ | D36: ՄԱ | E36: դրամ | F36: 150000 | G36: 1 | H36: =F36/1000 -> 150
C41: ՀԱՅԱՍՏԱՆԻ ՀԱՆՐԱՊԵՏՈՒԹՅԱՆ ՎԱՐՉԱՊԵՏԻ ԱՇԽԱՏԱԿԱԶՄԻ ՂԵԿԱՎԱՐ Ա. ՀԱՐՈՒԹՅՈՒՆՅԱՆ

Sheet հ20
G1: Հավելված 20
A2: ՀՀ կառավարության 2024 թվականի
A3: -ի N -Ն որոշման
A4: ՀԱՅԱՍՏԱՆԻ ՀԱՆՐԱՊԵՏՈՒԹՅԱՆ ԿԱՌԱՎԱՐՈՒԹՅԱՆ ՊԱՀՈՒՍՏԱՅԻՆ ՖՈՆԴԻՑ ԿԱՏԱՐՎՈՂ ՀԱՏԿԱՑՈՒՄԸ
A6: Գործառական դասիչը | D6: Ծրագրային դասիչը | F6: Բյուջետային ծախսերի գործառական դասակարգման բաժինների, խմբերի և դասերի, բյուջետային ծրագրերի միջոցառումների, բյուջետային հատկացումների գլխավոր կարգադրիչների անվանումները | G6: Ցուցանիշների փոփոխությունը (ավելացումները նշված են դրական նշանով, իսկ նվազեցումները` փակագծերում)
G7: Տարի
A8: Բաժին | B8: Խումբ | C8: Դաս | D8: Ծրագիր | E8: Միջոցառում
F9: ԸՆԴԱՄԵՆԸ ԾԱԽՍԵՐ | G9: =+G11+G30 -> 0
F10: այդ թվում`
F11: ՀՀ կառավարություն | G11: =G12 -> -248524.1
A12: 11 | F12: ՀԻՄՆԱԿԱՆ ԲԱԺԻՆՆԵՐԻՆ ՉԴԱՍՎՈՂ ՊԱՀՈՒՍՏԱՅԻՆ ՖՈՆԴԵՐ | G12: =G14 -> -248524.1
F13: այդ թվում`
B14: 01 | F14: ՀՀ կառավարության և համայնքների պահուստային ֆոնդ | G14: =G16 -> -248524.1
F15: այդ թվում`
C16: 01 | F16: ՀՀ կառավարության պահուստային ֆոնդ | G16: =G18 -> -248524.1
F17: այդ թվում`
F18: ՀՀ կառավարություն | G18: =G20 -> -248524.1
F19: այդ թվում`
D20: 1139 | F20: ՀՀ կառավարության պահուստային ֆոնդ | G20: =G22 -> -248524.1
F21: այդ թվում`
E22: 11001 | F22: ՀՀ կառավարության պահուստային ֆոնդ | G22: =G24 -> -248524.1
F23: այդ թվում` ըստ կատարողների
F24: ՀՀ կառավարություն | G24: =G26 -> -248524.1
F25: այդ թվում` բյուջետային ծախսերի տնտեսագիտական դասակարգման հոդվածներ
F26: ԸՆԴԱՄԵՆԸ ԾԱԽՍԵՐ | G26: =G27 -> -248524.1
F27: ԸՆԹԱՑԻԿ ԾԱԽՍԵՐ | G27: =G28 -> -248524.1
F28: ԱՅԼ ԾԱԽՍԵՐ | G28: =G29 -> -248524.1
F29: Պահուստային միջոցներ | G29: =-G30 -> -248524.1
F30: ՀՀ տարածքային կառավարման և ենթակառուցվածքների նախարարություն | G30: =G31+G75 -> 248524.1
A31: 01 | F31: ԸՆԴՀԱՆՈՒՐ ԲՆՈՒՅԹԻ ՀԱՆՐԱՅԻՆ ԾԱՌԱՅՈՒԹՅՈՒՆՆԵՐ | G31: =G33 -> 220524.1
F32: այդ թվում՝
B33: 08 | F33: Կառավարության տարբեր մակարդակների միջև իրականացվող ընդհանուր բնույթի տրանսֆերտներ | G33: =G35 -> 220524.1
F34: այդ թվում՝
C35: 01 | F35: Կառավարության տարբեր մակարդակների միջև իրականացվող ընդհանուր բնույթի տրանսֆերտներ | G35: =G37 -> 220524.1
F36: այդ թվում՝
F37: ՀՀ տարածքային կառավարման և ենթակառուցվածքների նախարարություն | G37: =G39 -> 220524.1
F38: այդ թվում՝
D39: 1212 | F39: Տարածքային զարգացում | G39: =G41+G50 -> 220524.1
F40: այդ թվում`
E41: 12025 | F41: Մարզերում առաջնահերթ լուծում պահանջող հիմնախնդիրների լուծում | G41: =G43 -> 52716
F42: այդ թվում` ըստ կատարողների
F43: ՀՀ Շիրակի մարզպետի աշխատակազմ | G43: =G45 -> 52716
F44: այդ թվում` բյուջետային ծախսերի տնտեսագիտական դասակարգման հոդվածներ
F45: ԸՆԴԱՄԵՆԸ ԾԱԽՍԵՐ | G45: =G46 -> 52716
F46: ԸՆԹԱՑԻԿ ԾԱԽՍԵՐ | G46: =G47 -> 52716
F47: ԴՐԱՄԱՇՆՈՐՀՆԵՐ | G47: =G48 -> 52716
F48: Կապիտալ դրամաշնորհներ պետական հատվածի այլ մակարդակներին | G48: =G49 -> 52716
F49: - Կապիտալ սուբվենցիաներ համայնքներին | G49: ='h14.'!E21 -> 52716
E50: 32001 | F50: ՀՀ մարզերում առաջնահերթ լուծում պահանջող անհետաձգելի ծրագրերի իրականացում | G50: =G52+G59+G66 -> 167808.1
F51: այդ թվում`ըստ կատարողների
F52: ՀՀ Լոռու մարզպետի աշխատակազմ | G52: =G54 -> 18970.6
F53: այդ թվում` բյուջետային ծախսերի տնտեսագիտական դասակարգման հոդվածներ
F54: ԸՆԴԱՄԵՆԸ ԾԱԽՍԵՐ | G54: =G55 -> 18970.6
F55: ՈՉ ՖԻՆԱՆՍԱԿԱՆ ԱԿՏԻՎՆԵՐԻ ԳԾՈՎ ԾԱԽՍԵՐ | G55: =G56 -> 18970.6
F56: ՀԻՄՆԱԿԱՆ ՄԻՋՈՑՆԵՐ | G56: =G57 -> 18970.6
F57: ՇԵՆՔԵՐ ԵՎ ՇԻՆՈՒԹՅՈՒՆՆԵՐ | G57: =G58 -> 18970.6
F58: - Շենքերի և շինությունների կապիտալ վերանորոգում | G58: ='հ9․'!G40 -> 18970.6
F59: ՀՀ Շիրակի մարզպետի աշխատակազմ | G59: =G61 -> 97242.2
F60: այդ թվում`բյուջետային ծախսերի տնտեսագիտական դասակարգման հոդվածներ
F61: ԸՆԴԱՄԵՆԸ ԾԱԽՍԵՐ | G61: =G62 -> 97242.2
F62: ՈՉ ՖԻՆԱՆՍԱԿԱՆ ԱԿՏԻՎՆԵՐԻ ԳԾՈՎ ԾԱԽՍԵՐ | G62: =G63 -> 97242.2
F63: ՀԻՄՆԱԿԱՆ ՄԻՋՈՑՆԵՐ | G63: =G64 -> 97242.2
F64: ՇԵՆՔԵՐ ԵՎ ՇԻՆՈՒԹՅՈՒՆՆԵՐ | G64: =G65 -> 97242.2
F65: - Շենքերի և շինությունների կապիտալ վերանորոգում | G65: ='հ9․'!G47 -> 97242.2
F66: ՀՀ Սյունիքի մարզպետի աշխատակազմ | G66: =G68 -> 51595.3
F67: այդ թվում`բյուջետային ծախսերի տնտեսագիտական դասակարգման հոդվածներ
F68: ԸՆԴԱՄԵՆԸ ԾԱԽՍԵՐ | G68: =G69 -> 51595.3
F69: ՈՉ ՖԻՆԱՆՍԱԿԱՆ ԱԿՏԻՎՆԵՐԻ ԳԾՈՎ ԾԱԽՍԵՐ | G69: =G70 -> 51595.3
F70: ՀԻՄՆԱԿԱՆ ՄԻՋՈՑՆԵՐ | G70: =G71+G73 -> 51595.3
F71: ՇԵՆՔԵՐ ԵՎ ՇԻՆՈՒԹՅՈՒՆՆԵՐ | G71: =G72 -> 49945.3
F72: - Շենքերի և շինությունների կապիտալ վերանորոգում | G72: ='հ9․'!G54 -> 49945.3
F73: ԱՅԼ ՀԻՄՆԱԿԱՆ ՄԻՋՈՑՆԵՐ | G73: =G74 -> 1650
F74: - Նախագծահետազոտական ծախսեր | G74: ='հ9․'!G56 -> 1650
A75: 06 | F75: ԲՆԱԿԱՐԱՆԱՅԻՆ ՇԻՆԱՐԱՐՈՒԹՅՈՒՆ ԵՎ ԿՈՄՈՒՆԱԼ ԾԱՌԱՅՈՒԹՅՈՒՆՆԵՐ | G75: =G77 -> 28000
F76: այդ թվում`
B77: 03 | F77: Ջրամատակարարում | G77: =G79 -> 28000
F78: այդ թվում`
C79: 01 | F79: Ջրամատակարարում | G79: =G81 -> 28000
F80: այդ թվում`
D81: 1072 | F81: Ջրամատակարարաման և ջրահեռացման բարելավում | G81: =G92+G83 -> 28000
F82: այդ թվում`
E83: 12003 | F83: Ջրամատակարարման և ջրահեռացման համակարգերի հրատապ լուծում պահանջող աշխատանքներ | G83: =G85 -> 28000
F84: այդ թվում` ըստ կատարողների
F85: ՀՀ տարածքային կառավարման և ենթակառուցվածքների նախարարություն | G85: =G87 -> 28000
F86: այդ թվում` բյուջետային ծախսերի տնտեսագիտական դասակարգման հոդվածներ
F87: ԸՆԴԱՄԵՆԸ ԾԱԽՍԵՐ | G87: =G88 -> 28000
F88: ԸՆԹԱՑԻԿ ԾԱԽՍԵՐ | G88: =G89 -> 28000
F89: ԴՐԱՄԱՇՆՈՐՀՆԵՐ | G89: =G90 -> 28000
F90: Կապիտալ դրամաշնորհներ պետական հատվածի այլ մակարդակներին | G90: =G91 -> 28000
F91: - Այլ կապիտալ դրամաշնորհներ | G91: ='h15'!G13 -> 28000
C95: ՀԱՅԱՍՏԱՆԻ ՀԱՆՐԱՊԵՏՈՒԹՅԱՆ ՎԱՐՉԱՊԵՏԻ ԱՇԽԱՏԱԿԱԶՄԻ ՂԵԿԱՎԱՐ Ա. ՀԱՐՈՒԹՅՈՒՆՅԱՆ
D147: ՀԱՅԱՍՏԱՆԻ ՀԱՆՐԱՊԵՏՈՒԹՅԱՆ ՎԱՐՉԱՊԵՏԻ ԱՇԽԱՏԱԿԱԶՄԻ ՂԵԿԱՎԱՐ Ա. ՀԱՐՈՒԹՅՈՒՆՅԱՆ
