Workbook
Name _tab10: #REF!
Name _tab10: #REF!
Name _tab11: #REF!
Name _tab11: #REF!
Name _tab12: #REF!
Name _tab12: #REF!
Name _tab13: #REF!
Name _tab13: #REF!
Name _tab14: #REF!
Name _tab14: #REF!
Name _tab15: #REF!
Name _tab15: #REF!
Name _tab16: #REF!
Name _tab16: #REF!
Name _tab17: #REF!
Name _tab17: #REF!
Name _tab18: #REF!
Name _tab18: #REF!
Name _tab19: #REF!
Name _tab19: #REF!
Name _tab20: #REF!
Name _tab20: #REF!
Name _tab21: #REF!
Name _tab21: #REF!
Name _tab22: #REF!
Name _tab22: #REF!
Name _tab22222: #REF!
Name _tab23: #REF!
Name _tab23: #REF!
Name _tab24: #REF!
Name _tab24: #REF!
Name _tab5: #REF!
Name _tab5: #REF!
Name _tab6: #REF!
Name _tab6: #REF!
Name _tab7: #REF!
Name _tab7: #REF!
Name _tab8: #REF!
Name _tab8: #REF!
Name _tab9: #REF!
Name _tab9: #REF!
Name aaaaaaaaaaaa: #REF!
Name hhhh: #REF!
Name hunvar: #REF!,#REF!,#REF!,#REF!,#REF!,#REF!,#REF!,#REF!,#REF!,#REF!,#REF!,#REF!,#REF!,#REF!,#REF!
Name par_count: #REF!,#REF!,#REF!,#REF!,#REF!,#REF!,#REF!,#REF!,#REF!,#REF!,#REF!,#REF!,#REF!,#REF!,#REF!
Name par_count: #REF!,#REF!,#REF!,#REF!,#REF!,#REF!,#REF!,#REF!,#REF!,#REF!,#REF!,#REF!,#REF!,#REF!,#REF!
Name par_qual: #REF!,#REF!,#REF!,#REF!,#REF!
Name par_qual: #REF!,#REF!,#REF!,#REF!,#REF!
Name par_time: #REF!,#REF!,#REF!,#REF!
Name par_time: #REF!,#REF!,#REF!,#REF!
Name par2.12s: #REF!
Name par2.12s: #REF!
Name par2.4s: #REF!,#REF!,#REF!,#REF!,#REF!,#REF!,#REF!,#REF!,#REF!,#REF!,#REF!,#REF!,#REF!,#REF!,#REF!,#REF!
Name par2.4s: #REF!,#REF!,#REF!,#REF!,#REF!,#REF!,#REF!,#REF!,#REF!,#REF!,#REF!,#REF!,#REF!,#REF!,#REF!,#REF!
Name par2.5s: #REF!,#REF!
Name par2.5s: #REF!,#REF!
Name par2.6s: #REF!,#REF!,#REF!,#REF!
Name par2.6s: #REF!,#REF!,#REF!,#REF!
Name par2.7s: #REF!,#REF!
Name par2.7s: #REF!,#REF!

Sheet 1
B1: Հավելված № 1
B2: ՀՀ կառավարության 2024 թվականի
B3: __________ «____» -ի
B4: N_____ -Ն որոշման
B6: «ՀԱՅԱՍՏԱՆԻ ՀԱՆՐԱՊԵՏՈՒԹՅԱՆ 2024 ԹՎԱԿԱՆԻ ՊԵՏԱԿԱՆ ԲՅՈՒՋԵԻ ՄԱՍԻՆ» ՕՐԵՆՔԻ N 2 ՀՈԴՎԱԾԻ ԱՂՅՈՒՍԱԿՈՒՄ ԿԱՏԱՐՎՈՂ ՓՈՓՈԽՈՒԹՅՈՒՆՆԵՐԸ
C7: Գումարը (հազար դրամներով)
B8: 1. Եկամուտների գծով | C8: 0
B9: 2. Ծախսերի գծով | C9: =+C10 -> -211597.6
B10: 3. Դեֆիցիտը (պակասուրդը) | C10: =+'2'!C16 -> -211597.6

Sheet 2
B1: Հավելված № 2
B2: ՀՀ կառավարության 2024 թվականի
B3: __________ «____» -ի
B4: N_____ -Ն որոշման
B5: «ՀԱՅԱՍՏԱՆԻ ՀԱՆՐԱՊԵՏՈՒԹՅԱՆ 2024 ԹՎԱԿԱՆԻ ՊԵՏԱԿԱՆ ԲՅՈՒՋԵԻ ՄԱՍԻՆ» ՀԱՅԱՍՏԱՆԻ ՀԱՆՐԱՊԵՏՈՒԹՅԱՆ ՕՐԵՆՔԻ 3-ՐԴ ՀՈԴՎԱԾԻ ԱՂՅՈՒՍԱԿՈՒՄ, N 3 ՀԱՎԵԼՎԱԾԻ N 1 ԱՂՅՈՒՍԱԿՈՒՄ ԵՎ ՀԱՅԱՍՏԱՆԻ ՀԱՆՐԱՊԵՏՈՒԹՅԱՆ ԿԱՌԱՎԱՐՈՒԹՅԱՆ 2023 ԹՎԱԿԱՆԻ ԴԵԿՏԵՄԲԵՐԻ 28-Ի N 2323-Ն ՈՐՈՇՄԱՆ N 1 ՀԱՎԵԼՎԱԾԻ N 1 ԱՂՅՈՒՍԱԿՈՒՄ ԿԱՏԱՐՎՈՂ ՓՈՓՈԽՈՒԹՅՈՒՆՆԵՐԸ ԵՎ ԼՐԱՑՈՒՄՆԵՐԸ
C6: Գումարը (հազար դրամներով)
B7: Պետական բյուջեի դեֆիցիտի ֆինանսավորման աղբյուրներն ու դրանց տարրերի անվանումները | C7: Ցուցանիշների փոփոխությունները (նվազեցումները նշված են փակագծերում)
C8: Տարի
B9: ԸՆԴԱՄԵՆԸ | C9: =C11 -> -211597.6
B10: այդ թվում`
B11: Ա.Ներքին աղբյուրներ-ընդամենը | C11: =C13 -> -211597.6
B12: այդ թվում`
B13: 2.Ֆինանսական զուտ ակտիվներ | C13: =C16 -> -211597.6
B14: այդ թվում`
B15: 2.2 Բաժնետոմսերի և կապիտալում այլ մասնակցության ձեռքբերում | C15: =C16 -> -211597.6
B16: ՀՀ առողջապահության նախարարություն | C16: =SUM(C18:C19) -> -211597.6
B17: որից`
B18: ««Ավան» հոգեկան առողջության կենտրոն» ՓԲԸ-ում տնտեսական երկարաժամկետ զարգացմանն ուղղված միջոցառում | C18: -124997.6
B19: «Այրվածքաբանության և մաշկաբանության ազգային կենտրոն» ՓԲԸ-ում տնտեսական երկարաժամկետ զարգացմանն ուղղված միջոցառում | C19: -86600
B21: ՀԱՅԱՍՏԱՆԻ ՀԱՆՐԱՊԵՏՈՒԹՅԱՆ
B22: ՎԱՐՉԱՊԵՏԻ ԱՇԽԱՏԱԿԱԶՄԻ
B23: ՂԵԿԱՎԱՐ

Sheet 3
B1: Հավելված № 3
B2: ՀՀ կառավարության 2024 թվականի
B3: __________ «____» -ի
B4: N_____ -Ն որոշման
B5: «ՀԱՅԱՍՏԱՆԻ ՀԱՆՐԱՊԵՏՈՒԹՅԱՆ 2024 ԹՎԱԿԱՆԻ ՊԵՏԱԿԱՆ ԲՅՈՒՋԵԻ ՄԱՍԻՆ» ՀԱՅԱՍՏԱՆԻ ՀԱՆՐԱՊԵՏՈՒԹՅԱՆ ՕՐԵՆՔԻ N 3 ՀԱՎԵԼՎԱԾԻ N 1.1 ԱՂՅՈՒՍԱԿՈՒՄ ԵՎ ՀԱՅԱՍՏԱՆԻ ՀԱՆՐԱՊԵՏՈՒԹՅԱՆ ԿԱՌԱՎԱՐՈՒԹՅԱՆ 2023 ԹՎԱԿԱՆԻ ԴԵԿՏԵՄԲԵՐԻ 28-Ի N 2323-Ն ՈՐՈՇՄԱՆ N 1 ՀԱՎԵԼՎԱԾԻ N 2 ԱՂՅՈՒՍԱԿՈՒՄ ԿԱՏԱՐՎՈՂ ՓՈՓՈԽՈՒԹՅՈՒՆՆԵՐԸ ԵՎ ԼՐԱՑՈՒՄՆԵՐԸ
E6: Գումարը (հազար դրամներով)
B7: Ծրագրային դասիչը | D7: Բյուջետային հատկացումների գլխավոր կարգադրիչների, ծրագրերի և միջոցառումների անվանումները | E7: Ցուցանիշների փոփոխությունները (ավելացումները նշված են դրական նշանով)
B8: Ծրագիր | C8: Միջոցառում | E8: Տարի
D9: ԸՆԴԱՄԵՆԸ | E9: =+E10 -> 211597.6
D10: ՀՀ առողջապահության նախարարություն | E10: =+E12 -> 211597.6
B11: 1126 | D11: Ծրագրի անվանումը
D12: Առողջապահության ոլորտում պետական քաղաքականության մշակում, ծրագրերի համակարգում և մոնիտորինգ | E12: =+E18+E25 -> 211597.6
D13: Ծրագրի նպատակը
D14: Մարդու և հանրության առողջության պահպանում, բնակչության առողջության բարելավում, հիվանդությունների կանխարգելում, հաշմանդամության և մահացության ցուցանիշների նվազեցում
D15: Վերջնական արդյունքի նկարագրությունը
D16: Առողջապահության ոլորտում իրականացվող ծրագրերի ազդեցության և արդյունավետության բարելավում
B17: Ծրագրի միջոցառումներ
C18: 44001 | D18: Միջոցառման անվանումը | E18: =-+'2'!C18 -> 124997.6
D19: ««Ավան» հոգեկան առողջության կենտրոն» ՓԲԸ-ում տնտեսական երկարաժամկետ զարգացմանն ուղղված միջոցառում
D20: Միջոցառման նկարագրությունը
D21: Ներդրումների խթանում
D22: Միջոցառման տեսակը
D23: Բաժնեմասերի ձեռքբերում
C25: 44007 | D25: Միջոցառման անվանումը | E25: =-+'2'!C19 -> 86600
D26: «Այրվածքաբանության և մաշկաբանության ազգային կենտրոն» ՓԲԸ-ում տնտեսական երկարաժամկետ զարգացմանն ուղղված միջոցառում
D27: Միջոցառման նկարագրությունը
D28: Ներդրումների խթանում
D29: Միջոցառման տեսակը
D30: Բաժնեմասերի ձեռքբերում

Sheet 4
B1: Հավելված № 4
B2: ՀՀ կառավարության 2024 թվականի
B3: __________ «____» -ի
B4: N_____ -Ն որոշման
B5: ՀԱՅԱՍՏԱՆԻ ՀԱՆՐԱՊԵՏՈՒԹՅԱՆ ԿԱՌԱՎԱՐՈՒԹՅԱՆ 2023 ԹՎԱԿԱՆԻ ԴԵԿՏԵՄԲԵՐԻ 28-Ի № 2323-Ն ՈՐՈՇՄԱՆ № 1 ՀԱՎԵԼՎԱԾԻ № 5 ԱՂՅՈՒՍԱԿՈՒՄ ԿԱՏԱՐՎՈՂ ԼՐԱՑՈՒՄԸ
B6: ՀՀ Առողջապահության նախարարություն
B7: ՄԱՍ 2. ՊԵՏԱԿԱՆ ՄԱՐՄՆԻ ԳԾՈՎ ԱՐԴՅՈՒՆՔԱՅԻՆ (ԿԱՏԱՐՈՂԱԿԱՆ) ՑՈՒՑԱՆԻՇՆԵՐԸ
B9: Ծրագրի դասիչը | C9: Ծրագրի անվանումը
B10: 1126 | C10: Առողջապահության ոլորտում պետական քաղաքականության մշակում, ծրագրերի համակարգում և մոնիտորինգ
B11: Ծրագրի միջոցառումները
B12: Ծրագրի դասիչը` | C12: 1126 | D12: Ցուցանիշների փոփոխությունը (ավելացումները նշված են դրական նշանով)
B13: Միջոցառման դասիչը` | C13: 44001 | D13: Տարի
B14: Միջոցառման անվանումը` | C14: ««Ավան» հոգեկան առողջության կենտրոն» ՓԲԸ-ում տնտեսական երկարաժամկետ զարգացմանն ուղղված միջոցառում
B15: Նկարագրությունը` | C15: Ներդրումների խթանում
B16: Միջոցառման տեսակը` | C16: Բաժնեմասերի ձեռքբերում
B17: Միջոցառումն իրականացնողի անվանումը | C17: «Ավան հոգեկան առողջության կենտրոն» ՓԲԸ
B18: Արդյունքի չափորոշիչներ
B19: Ներդրումային ֆոնդի ներդրումների քանակը (հատ) | D19: 1
B20: Միջոցառման վրա կատարվող ծախսը (հազար դրամ) | D20: =+'3'!E18 -> 124997.6
B22: Ծրագրի դասիչը` | C22: 1126 | D22: Ցուցանիշների փոփոխությունը (ավելացումները նշված են դրական նշանով)
B23: Միջոցառման դասիչը` | C23: 44007 | D23: Տարի
B24: Միջոցառման անվանումը` | C24: «Այրվածքաբանության և մաշկաբանության ազգային կենտրոն» ՓԲԸ-ում տնտեսական երկարաժամկետ զարգացմանն ուղղված միջոցառում
B25: Նկարագրությունը` | C25: Ներդրումների խթանում
B26: Միջոցառման տեսակը` | C26: Բաժնեմասերի ձեռքբերում
B27: Միջոցառումն իրականացնողի անվանումը | C27: «Այրվածքաբանության և մաշկաբանության ազգային կենտրոն» ՓԲԸ
B28: Արդյունքի չափորոշիչներ
B29: Ներդրումային ֆոնդի ներդրումների քանակը (հատ) | D29: 1
B30: Միջոցառման վրա կատարվող ծախսը (հազար դրամ) | D30: =+'3'!E25 -> 86600

Sheet 5
B1: Հավելված № 5
B2: ՀՀ կառավարության 2024 թվականի
B3: __________ «____» -ի
B4: N_____ -Ն որոշման
B5: «ՀԱՅԱՍՏԱՆԻ ՀԱՆՐԱՊԵՏՈՒԹՅԱՆ 2024 ԹՎԱԿԱՆԻ ՊԵՏԱԿԱՆ ԲՅՈՒՋԵԻ ՄԱՍԻՆ» ՀԱՅԱՍՏԱՆԻ ՀԱՆՐԱՊԵՏՈՒԹՅԱՆ ՕՐԵՆՔԻ № 1 ՀԱՎԵԼՎԱԾԻ № 2 ԱՂՅՈՒՍԱԿՈՒՄ ԿԱՏԱՐՎՈՂ ՎԵՐԱԲԱՇԽՈՒՄԸ ԵՎ ՀԱՅԱՍՏԱՆԻ ՀԱՆՐԱՊԵՏՈՒԹՅԱՆ ԿԱՌԱՎԱՐՈՒԹՅԱՆ 2023 ԹՎԱԿԱՆԻ ԴԵԿՏԵՄԲԵՐԻ 28-Ի № 2323-Ն ՈՐՈՇՄԱՆ № 5 ՀԱՎԵԼՎԱԾԻ № 1 ԱՂՅՈՒՍԱԿՈՒՄ ԿԱՏԱՐՎՈՂ ՓՈՓՈԽՈՒԹՅՈՒՆՆԵՐԸ ԵՎ ԼՐԱՑՈՒՄՆԵՐԸ
B6: Գումարը (հազար դրամներով)
B7: Ծրագրային դասիչը | D7: Բյուջետային հատկացումների գլխավոր կարգադրիչների, ծրագրերի և միջոցառումների անվանումները | E7: Ցուցանիշների փոփոխությունները (ավելացումները նշված են դրական նշանով, իսկ նվազեցումները` փակագծերում)
B8: Ծրագիր | C8: Միջոցառում | E8: Տարի
D9: ԸՆԴԱՄԵՆԸ | E9: =+E10 -> -211597.61
D10: ՀՀ առողջապահության նախարարություն | E10: =+E11+E46+E32 -> -211597.61
B11: 1126 | D11: Ծրագրի անվանումը | E11: =+E18+E25 -> -932097.61
D12: Առողջապահության ոլորտում պետական քաղաքականության մշակում, ծրագրերի համակարգում և մոնիտորինգ
D13: Ծրագրի նպատակը
D14: Մարդու և հանրության առողջության պահպանում, բնակչության առողջության բարելավում, հիվանդությունների կանխարգելում, հաշմանդամության և մահացության ցուցանիշների նվազեցում
D15: Վերջնական արդյունքի նկարագրությունը
D16: Առողջապահության ոլորտում իրականացվող ծրագրերի ազդեցության և արդյունավետության բարելավում
B17: Ծրագրի միջոցառումներ
C18: 12006 | D18: Միջոցառման անվանումը | E18: =+'9'!H11 -> 560314.4
D19: Առողջապահական համակարգի պետական առևտրային և ոչ առևտրային կազմակերպություններին ֆինանսական աջակցության հատկացում
D20: Միջոցառման նկարագրությունը
D21: Առողջապահական համակարգի պետական առևտրային և ոչ առևտրային կազմակերպություններին ֆինանսական աջակցության տրամադրում ընթացիկ գործունեության արդյունավետության բարձրացմանն ուղղված
D22: Միջոցառման տեսակը
D23: Տրանսֆերտի տրամադրում
C25: 31003 | D25: Միջոցառման անվանումը | E25: =+'6'!E12 -> -1492412
D26: Առողջապահական կազմակերպությունների կառուցում, վերակառուցում
D27: Միջոցառման նկարագրությունը
D28: Բնակչությանը որակյալ բժշկական օգնության և սպասարկման ծառայություններ մատուցելու նպատակով առողջապահական կազմակերպությունների կառուցում, վերակառուցում
D29: Միջոցառման տեսակը
D30: Պետական մարմինների կողմից օգտագործվող ոչ ֆինանսական ակտիվների հետ գործառնություններ
B32: 1142 | D32: Ծրագրի անվանումը` | E32: =+E39 -> 40000
D33: Դատաբժշկական և ախտաբանաանատոմիական ծառայություններ
D34: Ծրագրի նպատակը`
D35: Պաթանատոմիական կանխորոշումների հիման վրա ախտորոշման և բուժման արդյունավետության բարձրացում
D36: Վերջնական արդյունքի նկարագրությունը`
D37: Մահերի պատճառների բացահայտում
B38: Ծրագրի միջոցառումներ
C39: 11001 | D39: Միջոցառման անվանումը` | E39: 40000
D40: Դատաբժշկական փորձաքննություններ
D41: Միջոցառման նկարագրությունը`
D42: Հանրապետության ուժային մարմինների որոշումների հիման վրա դատաբժշկական և գենետիկ փորձաքննությունների ապահովում` մահերի պատճառների վերհանման նպատակով դիակների փորձաքննություն
...

Sheet 6
B1: Հավելված № 6
B2: ՀՀ կառավարության 2024 թվականի
B3: __________ «____» -ի
B4: N_____ -Ն որոշման
B6: «ՀԱՅԱՍՏԱՆԻ ՀԱՆՐԱՊԵՏՈՒԹՅԱՆ 2024 ԹՎԱԿԱՆԻ ՊԵՏԱԿԱՆ ԲՅՈՒՋԵԻ ՄԱՍԻՆ» ՀԱՅԱՍՏԱՆԻ ՀԱՆՐԱՊԵՏՈՒԹՅԱՆ ՕՐԵՆՔԻ № 1 ՀԱՎԵԼՎԱԾԻ № 3 ԱՂՅՈՒՍԱԿՈՒՄ ԿԱՏԱՐՎՈՂ ՓՈՓՈԽՈՒԹՅՈՒՆՆԵՐԸ
B7: Գումարը (հազար դրամներով)
B8: Ծրագրային դասիչ | D8: Բյուջետային գլխավոր կարգադրիչների, ծրագրերի, միջոցառումների և ուղղությունների անվանումները | E8: Ցուցանիշների փոփոխությունները (ավելացումները նշված են դրական նշանով, իսկ նվազեցումները` փակագծերում)
E9: Ընդամենը | F9: այդ թվում
B10: Ծրագիր | C10: Միջոցառում | F10: Կառուցման աշխատանքներ | G10: Վերակառուցման, վերանորոգման և վերականգնման աշխատանքներ | H10: Նախագծահե տազոտական, գեոդեզիա քարտեզագրա կան աշխա տանքներ | I10: Ոչ ֆինանսական այլ ակտիվների ձեռքբերում
B11: 1126 | D11: ՀՀ ԱՌՈՂՋԱՊԱՀՈՒԹՅԱՆ ՆԱԽԱՐԱՐՈՒԹՅՈՒՆ | E11: =+E12 -> -1492412 | F11: =+F12 -> -222875.46 | G11: =+G12 -> -1269536.5 | H11: =+H12 -> 0 | I11: =+I12 -> 0
C12: 31003 | D12: Առողջապահական կազմակերպությունների կառուցում, վերակառուցում | E12: =+E14+E17+E20+E22+E26+E30+E32+E34+E36 -> -1492412 | F12: =+F14+F17+F20+F22+F26+F30+F32+F34+F36 -> -222875.46 | G12: =+G14+G17+G20+G22+G26+G30+G32+G34+G36 -> -1269536.5 | H12: =+H14+H17+H20+H22+H26+H30+H32+H34+H36 -> 0 | I12: =+I14+I17+I20+I22+I26+I30+I32+I34+I36 -> 0
D13: այդ թվում`
D14: Երևան քաղաք | E14: =SUM(E15:E16) -> -772290 | F14: =SUM(F15:F16) -> 0 | G14: =SUM(G15:G16) -> -772290 | H14: =SUM(H15:H16) -> 0 | I14: =SUM(I15:I16) -> 0
D15: ՀՀ ԱՆ «Հոգեկան առողջության պահպանման ազգային կենտրոն» ՓԲԸ | E15: =SUM(F15:I15) -> -500000 | G15: -500000
D16: ՀՀ ԱՆ «Ինֆեկցիոն հիվանդությունների ազգային կենտրոն» ՓԲԸ | E16: =SUM(F16:I16) -> -272290 | G16: -272290
D17: ՀՀ Արարատի մարզ | E17: =SUM(E18:E19) -> 38831.1 | F17: =SUM(F18:F19) -> 0 | G17: =SUM(G18:G19) -> 38831.1 | H17: =SUM(H18:H19) -> 0 | I17: =SUM(I18:I19) -> 0
D18: ՀՀ Արարատի մարզի «Արարատի հիվանդանոց» բժշկական կենտրոն ՓԲԸ պոլիկլինիկա | E18: =SUM(F18:I18) -> -50510.9 | G18: -50510.9
D19: ՀՀ Արարատի մարզի «Արտաշատի բժշկական կենտրոն» ՓԲԸ պոլիկլինիկա | E19: =SUM(F19:I19) -> 89342 | G19: 89342
D20: ՀՀ Արմավիրի մարզ | E20: =SUM(E21:E21) -> -26591.4 | F20: =SUM(F21:F21) -> 0 | G20: =SUM(G21:G21) -> -26591.4 | H20: =SUM(H21:H21) -> 0 | I20: =SUM(I21:I21) -> 0
D21: ՀՀ Արմավիրի մարզի «Զարիշատ(Արամ) Մարտինի Մկրտչյանի անվան Արմավիրի բժշկական կենտրոն» ՓԲԸ պոլիկլինիկա | E21: =SUM(F21:I21) -> -26591.4 | G21: -26591.4
D22: ՀՀ Գեղարքունիքի մարզ | E22: =SUM(E23:E25) -> -292490.63 | F22: =SUM(F23:F25) -> -111437.7 | G22: =SUM(G23:G25) -> -181052.93 | H22: =SUM(H23:H25) -> 0 | I22: =SUM(I23:I25) -> 0
D23: «Դատաբժշկական գիտագործնական կենտրոն» ՊՈԱԿ-ի Սևանի դիահերձարան | E23: =SUM(F23:I23) -> -111437.7 | F23: -111437.7
D24: ՀՀ Գեղարքունիքի մարզի «Վարդենիսի բժշկական կենտրոն» ՓԲԸ | E24: =SUM(F24:I24) -> -89342 | G24: -89342
D25: ՀՀ Գեղարքունիքի մարզի «Գավառի բժշկական կենտրոն» ՓԲԸ պոլիկլինիկա | E25: =SUM(F25:I25) -> -91710.927 | G25: -91710.927
D26: ՀՀ Սյունիքի մարզ | E26: =SUM(E27:E29) -> -242943.6 | F26: =SUM(F27:F29) -> 0 | G26: =SUM(G27:G29) -> -242943.6 | H26: =SUM(H27:H29) -> 0 | I26: =SUM(I27:I29) -> 0
D27: ՀՀ Սյունիքի մարզի «Կապանի բժշկական կենտրոն» ՓԲԸ պոլիկլինիկա | E27: =+F27+G27+H27+I27 -> -97723.6 | G27: -97723.6
D28: «Դատաբժշկական գիտագործնական կենտրոն» ՊՈԱԿ-ի Կապանի դիահերձարան | E28: =+F28+G28+H28+I28 -> -85050 | G28: -85050
D29: ՀՀ Սյունիքի մարզի «Գորիսի բժշկական կենտրոն» ՓԲԸ պոլիկլինիկա | E29: =+F29+G29+H29+I29 -> -60170 | G29: -60170
D30: ՀՀ Լոռու մարզ | E30: =SUM(E31:E31) -> -118358.79 | F30: =SUM(F31:F31) -> 0 | G30: =SUM(G31:G31) -> -118358.79 | H30: =SUM(H31:H31) -> 0 | I30: =SUM(I31:I31) -> 0
D31: ՀՀ Լոռու մարզի «Վանաձորի թիվ 1 պոլիկլինիկա» ՊՓԲԸ | E31: =+F31+G31+H31+I31 -> -118358.79 | G31: -118358.79
D32: ՀՀ Շիրակի մարզ | E32: =SUM(E33:E33) -> 125000 | F32: =SUM(F33:F33) -> 0 | G32: =SUM(G33:G33) -> 125000 | H32: =SUM(H33:H33) -> 0 | I32: =SUM(I33:I33) -> 0
D33: «Գյումրու բժշկական կենտրոն» ՓԲԸ | E33: =+F33+G33+H33+I33 -> 125000 | G33: 125000
D34: ՀՀ Տավուշի մարզ | E34: =SUM(E35:E35) -> -111437.76 | F34: =SUM(F35:F35) -> -111437.76 | G34: =SUM(G35:G35) -> 0 | H34: =SUM(H35:H35) -> 0 | I34: =SUM(I35:I35) -> 0
D35: «Դատաբժշկական գիտագործնական կենտրոն» ՊՈԱԿ-ի Բերդի դիահերձարան | E35: =+F35+G35+H35+I35 -> -111437.76 | F35: -111437.76
D36: ՀՀ Վայոց Ձորի մարզ | E36: =SUM(E37:E37) -> -92130.927 | F36: =SUM(F37:F37) -> 0 | G36: =SUM(G37:G37) -> -92130.927 | H36: =SUM(H37:H37) -> 0 | I36: =SUM(I37:I37) -> 0
D37: ՀՀ Վայոց ձորի «Վայքի պոլիկլինիկա» ՊՓԲԸ | E37: =SUM(F37:I37) -> -92130.927 | G37: -92130.927

Sheet 7
B1: Հավելված № 7
B2: ՀՀ կառավարության 2024 թվականի
B3: __________ «____» -ի
B4: N_____ -Ն որոշման
B5: ՀԱՅԱՍՏԱՆԻ ՀԱՆՐԱՊԵՏՈՒԹՅԱՆ ԿԱՌԱՎԱՐՈՒԹՅԱՆ 2023 ԹՎԱԿԱՆԻ ԴԵԿՏԵՄԲԵՐԻ 28-Ի № 2323-Ն ՈՐՈՇՄԱՆ №№ 3 և 4 ՀԱՎԵԼՎԱԾՆԵՐՈՒՄ ԿԱՏԱՐՎՈՂ ՓՈՓՈԽՈՒԹՅՈՒՆՆԵՐԸ ԵՎ ԼՐԱՑՈՒՄՆԵՐԸ
B6: Գումարը (հազար դրամներով)
B7: Գործառական դասիչը | E7: Ծրագրային դասիչը | G7: Բյուջետային հատկացումների գլխավոր կարգադրիչների, ծրագրերի, միջոցառումների և միջոցառումները կատարող պետական մարմինների անվանումները | H7: Ցուցանիշների փոփոխությունները (ավելացումները նշված են դրական նշանով, իսկ նվազեցումները` փակագծերում)
B8: բաժին | C8: խումբ | D8: դաս | E8: Ծրագիր | F8: Միջոցառում | H8: Տարի
B9: ԸՆԴԱՄԵՆԸ | H9: =+H10 -> -211597.61
G10: Առողջապահության նախարարություն | H10: =+H12 -> -211597.61
G11: այդ թվում`
B12: 07 | G12: ԱՌՈՂՋԱՊԱՀՈՒԹՅՈՒՆ | H12: =+H14+H31 -> -211597.61
G13: այդ թվում՝
C14: 01 | G14: Բժշկական ապրանքներ, սարքեր և սարքավորումներ | H14: =+H16 -> 680500
G15: այդ թվում՝
D16: 01 | G16: Դեղագործական ապրանքներ | H16: =+H18 -> 680500
G17: այդ թվում՝
G18: ՀՀ առողջապահության նախարարություն | H18: =+H20 -> 680500
G19: այդ թվում՝
E20: 1188 | G20: Դեղապահովում | H20: =+H22 -> 680500
G21: այդ թվում`
F22: 11002 | G22: Դեղերի փորձաքննության ծառայությունների իրականացում | H22: =+H24 -> 680500
G23: այդ թվում` ըստ կատարողների
G24: ՀՀ առողջապահության նախարարություն | H24: =+H26 -> 680500
G25: այդ թվում` բյուջետային ծախսերի տնտեսագիտական դասակարգման հոդվածներ
G26: ԸՆԴԱՄԵՆԸ ԾԱԽՍԵՐ | H26: =+H27 -> 680500
G27: ԸՆԹԱՑԻԿ ԾԱԽՍԵՐ | H27: =H28 -> 680500
G28: ԴՐԱՄԱՇՆՈՐՀՆԵՐ | H28: =+H30 -> 680500
G29: Ընթացիկ դրամաշնորհներ պետական հատվածի այլ մակարդակներին
G30: - Ընթացիկ դրամաշնորհներ պետական և համայնքների ոչ առևտրային կազմակերպություններին | H30: =+'5'!E53 -> 680500
C31: 06 | G31: Առողջապահություն (այլ դասերին չպատկանող) | H31: =+H33+H46 -> -892097.61
G32: այդ թվում՝
D33: 01 | G33: Առողջապահական հարակից ծառայություններ և ծրագրեր | H33: =+H35 -> 40000
G34: այդ թվում`
E35: 1142 | G35: Դատաբժշկական և ախտաբանաանատոմիական ծառայություններ | H35: =+H37 -> 40000
G36: այդ թվում`
F37: 11001 | G37: Դատաբժշկական փորձաքննություններ | H37: =+H39 -> 40000
G38: այդ թվում` ըստ կատարողների
G39: ՀՀ առողջապահության նախարարություն | H39: =+H41 -> 40000
G40: այդ թվում` բյուջետային ծախսերի տնտեսագիտական դասակարգման հոդվածներ
...

Sheet 8
B1: Հավելված № 8
B2: ՀՀ կառավարության 2024 թվականի
B3: __________ «____» -ի
B4: N_____ -Ն որոշման
B6: ՀԱՅԱՍՏԱՆԻ ՀԱՆՐԱՊԵՏՈՒԹՅԱՆ ԿԱՌԱՎԱՐՈՒԹՅԱՆ 2023 ԹՎԱԿԱՆԻ ԴԵԿՏԵՄԲԵՐԻ 28-Ի № 2323-Ն ՈՐՈՇՄԱՆ № 5 ՀԱՎԵԼՎԱԾԻ № 2 ԱՂՅՈՒՍԱԿՈՒՄ ԿԱՏԱՐՎՈՂ ՓՈՓՈԽՈՒԹՅՈՒՆՆԵՐԸ ԵՎ ԼՐԱՑՈՒՄՆԵՐԸ
B7: Գումարը (հազար դրամներով)
B8: Ծրագրային դասիչ | D8: Բյուջետային գլխավոր կարգադրիչների, ծրագրերի, միջոցառումների և ուղղությունների անվանումները | E8: Ցուցանիշների փոփոխությունները (ավելացումները նշված են դրական նշանով, իսկ նվազեցումները` փակագծերում)
B9: Ծրագիր | C9: Միջոցառում | E9: Տարի
B10: 1126 | D10: ՀՀ ԱՌՈՂՋԱՊԱՀՈՒԹՅԱՆ ՆԱԽԱՐԱՐՈՒԹՅՈՒՆ | E10: =+E12 -> -1492412
D11: այդ թվում`
C12: 31003 | D12: Առողջապահական կազմակերպությունների կառուցում, վերակառուցում | E12: =+E14+E39 -> -1492412
D13: այդ թվում` ըստ կատարողների
D14: ՀՀ առողջապահության նախարարություն | E14: =+E16+E19+E21+E23+E26+E30+E34+E36+E32 -> -1492412
D15: այդ թվում`ըստ ուղղությունների
D16: Երևան քաղաք | E16: =+E17+E18 -> -772290
D17: ՀՀ ԱՆ «Հոգեկան առողջության պահպանման ազգային կենտրոն» ՓԲԸ | E17: =+'6'!G15 -> -500000
D18: ՀՀ ԱՆ «Ինֆեկցիոն հիվանդությունների ազգային կենտրոն» ՓԲԸ | E18: =+'6'!G16 -> -272290
D19: ՀՀ Արարատի մարզ | E19: =++E20 -> -50510.9
D20: ՀՀ Արարատի մարզի «Արարատի հիվանդանոց» բժշկական կենտրոն ՓԲԸ պոլիկլինիկա | E20: =+'6'!E18 -> -50510.9
D21: ՀՀ Արմավիրի մարզ | E21: =+E22 -> -26591.4
D22: ՀՀ Արմավիրի մարզի «Զարիշատ(Արամ) Մարտինի Մկրտչյանի անվան Արմավիրի բժշկական կենտրոն» ՓԲԸ պոլիկլինիկա | E22: =+'6'!E21 -> -26591.4
D23: ՀՀ Գեղարքունիքի մարզ | E23: =+E24+E25 -> -203148.63
D24: «Դատաբժշկական գիտագործնական կենտրոն» ՊՈԱԿ-ի Սևանի դիահերձարան | E24: =+'6'!F23 -> -111437.7
D25: ՀՀ Գեղարքունիքի մարզի «Գավառի բժշկական կենտրոն» ՓԲԸ պոլիկլինիկա | E25: =+'6'!E25 -> -91710.927
D26: ՀՀ Սյունիքի մարզ | E26: =+E27+E28+E29 -> -242943.6
D27: ՀՀ Սյունիքի մարզի «Կապանի բժշկական կենտրոն» ՓԲԸ պոլիկլինիկա | E27: =+'6'!E27 -> -97723.6
D28: «Դատաբժշկական գիտագործնական կենտրոն» ՊՈԱԿ-ի Կապանի դիահերձարան | E28: =+'6'!G28 -> -85050
D29: ՀՀ Սյունիքի մարզի «Գորիսի բժշկական կենտրոն» ՓԲԸ պոլիկլինիկա | E29: =+'6'!E29 -> -60170
D30: ՀՀ Լոռու մարզ | E30: =+E31 -> -118358.79
D31: ՀՀ Լոռու մարզի «Վանաձորի թիվ 1 պոլիկլինիկա» ՊՓԲԸ | E31: =+'6'!E31 -> -118358.79
D32: ՀՀ Շիրակի մարզ | E32: =+E33 -> 125000
D33: «Գյումրու բժշկական կենտրոն» ՓԲԸ | E33: =+'6'!G33 -> 125000
D34: ՀՀ Վայոց Ձորի մարզ | E34: =+E35 -> -92130.927
D35: ՀՀ Վայոց ձորի «Վայքի պոլիկլինիկա» ՊՓԲԸ | E35: =+'6'!E37 -> -92130.927
D36: ՀՀ Տավուշի մարզ | E36: =+E37 -> -111437.76
D37: «Դատաբժշկական գիտագործնական կենտրոն» ՊՈԱԿ-ի Բերդի դիահերձարան | E37: =+'6'!F35 -> -111437.76
D38: այդ թվում` ըստ կատարողների
D39: ՀՀ քաղաքաշինության կոմիտե | E39: =+E41+E43 -> 0
D40: այդ թվում`ըստ ուղղությունների
D41: ՀՀ Արարատի մարզ | E41: =+E42 -> 89342
...

Sheet 9
B1: Հավելված № 9
B2: ՀՀ կառավարության 2023 թվականի
B3: __________ «____» -ի
B4: N_____ -Ն որոշման
B5: ՀԱՅԱՍՏԱՆԻ ՀԱՆՐԱՊԵՏՈՒԹՅԱՆ ԿԱՌԱՎԱՐՈՒԹՅԱՆ 2023 ԹՎԱԿԱՆԻ ԴԵԿՏԵՄԲԵՐԻ 28-Ի ԹԻՎ 2323-Ն ՈՐՈՇՄԱՆ N 5 ՀԱՎԵԼՎԱԾԻ N 7 ԱՂՅՈՒՍԱԿՈՒՄ ԿԱՏԱՐՎՈՂ ՓՈՓՈԽՈՒԹՅՈՒՆՆԵՐԸ ԵՎ ԼՐԱՑՈՒՄՆԵՐԸ
H6: Գումարը (հազար դրամներով)
B7: Ծրագրային դասիչ | D7: Բյուջետային հատկացումների գլխավոր կարգադրիչների, ծրագրերի, միջոցառումների, ծախսային ուղղությունների անվանումները | G7: Միջոցառումները կատարող պետական մարմինների և դրամաշնորհ ստացող տնտեսվարող սուբյեկտների անվանումները | H7: Տարի
B8: Ծրագիր | C8: Միջոցառում
B9: ՀՀ առողջապահության նախարարություն | H9: =+H10+H23 -> 1240814.4
B10: 1126 | C10: Առողջապահության ոլորտում պետական քաղաքականության մշակում, ծրագրերի համակարգում և մոնիտորինգ | H10: =+H11 -> 560314.4
C11: 12006 | D11: Առողջապահական համակարգի պետական առևտրային և ոչ առևտրային կազմակերպություններին ֆինանսական աջակցության հատկացում | G11: ՀՀ առողջապահության նախարարություն | H11: =SUM(H12:H22) -> 560314.4
G12: «Դատաբժշկական գիտագործնական կենտրոն» ՊՈԱԿ | H12: 3000
G13: «Վարդենիսի բժշկական կենտորն» ՓԲԸ | H13: 20000
G14: «Մեծամոր բժշկական կենտրոն» ՓԲԸ | H14: 74837.4
G15: ՀՀ ԱՆ «Ինֆեկցիոն հիվանդությունների ազգային կենտրոն» ՓԲԸ | H15: 13700
G16: ՀՀ Արմավիրի մարզի «Զարիշատ(Արամ) Մարտինի Մկրտչյանի անվան Արմավիրի բժշկական կենտրոն» ՓԲԸ պոլիկլինիկա | H16: 15000
G17: «Գորիսի բժշկական կենտրոն» ՓԲԸ | H17: 47000
G18: «Վանաձորի բժշկական կենտրոն» ՓԲԸ | H18: 3710
G19: «Աշտարակի բժշկական կենտրոն» ՓԲԸ | H19: 3600
G20: «Քրեակատարողական բժշկության կենտրոն» ՊՈԱԿ | H20: 3000
G21: «Հանրապետական շտապ օգնության ծառայություն» ՓԲԸ | H21: 242600
G22: «Կապանի բժշկական կենտրոն» ՓԲԸ | H22: 133867
B23: 1188 | C23: Դեղապահովում | H23: =+H24 -> 680500
C24: 11002 | D24: Դեղերի փորձաքննության ծառայությունների իրականացում | G24: ՀՀ առողջապահության նախարարություն | H24: =+H25 -> 680500
G25: «Դեղերի և բժշկական տեխնոլոգիաների փորձագիտական կենտրոն» ՊՈԱԿ | H25: =+'5'!E53 -> 680500

Sheet 10
B1: Հավելված № 10
B2: ՀՀ կառավարության 2024 թվականի
B3: __________ «____» -ի
B4: N_____ -Ն որոշման
B6: ՀԱՅԱՍՏԱՆԻ ՀԱՆՐԱՊԵՏՈՒԹՅԱՆ ԿԱՌԱՎԱՐՈՒԹՅԱՆ 2023 ԹՎԱԿԱՆԻ ԴԵԿՏԵՄԲԵՐԻ 28-Ի № 2323-Ն ՈՐՈՇՄԱՆ № 9 ՀԱՎԵԼՎԱԾԻ № 9.8 ԱՂՅՈՒՍԱԿՈՒՄ ԿԱՏԱՐՎՈՂ ՓՈՓՈԽՈՒԹՅՈՒՆՆԵՐԸ
B7: ՀՀ Առողջապահության նախարարություն
B8: ՄԱՍ 2. ՊԵՏԱԿԱՆ ՄԱՐՄՆԻ ԳԾՈՎ ԱՐԴՅՈՒՆՔԱՅԻՆ (ԿԱՏԱՐՈՂԱԿԱՆ) ՑՈՒՑԱՆԻՇՆԵՐԸ
B10: Ծրագրի դասիչը | C10: Ծրագրի անվանումը
B11: 1126 | C11: Առողջապահության ոլորտում պետական քաղաքականության մշակում, ծրագրերի համակարգում և մոնիտորինգ
B12: Ծրագրի միջոցառումները
B13: Ծրագրի դասիչը` | C13: 1126 | D13: Ցուցանիշների փոփոխությունները (ավելացումները նշված են դրական նշանով)
B14: Միջոցառման դասիչը` | C14: 12006 | D14: Տարի
B15: Միջոցառման անվանումը` | C15: Առողջապահական համակարգի պետական առևտրային և ոչ առևտրային կազմակերպություններին ֆինանսական աջակցության հատկացում
B16: Նկարագրությունը` | C16: Առողջապահական համակարգի պետական առևտրային և ոչ առևտրային կազմակերպություններին ֆինանսական աջակցության տրամադրում ընթացիկ գործունեության արդյունավետության բարձրացմանն ուղղված
B17: Միջոցառման տեսակը` | C17: Տրանսֆերտի տրամադրում
B18: Ակտիվն օգտագործող կազմակերպության (ների) անվանում(ներ)ը | C18: Առողջապահական կազմակերպություններ
B19: Արդյունքի չափորոշիչներ
B20: Ֆինանսական աջակցություն ստացող բժշկական հաստատությունների թիվ, հատ | D20: 11
B21: Միջոցառման վրա կատարվող ծախսը (հազար դրամ) | D21: =+'5'!E18 -> 560314.4
B23: Ծրագրի դասիչը` | C23: 1126 | D23: Ցուցանիշների փոփոխությունները (նվազեցումները նշված են փակագծերում)
B24: Միջոցառման դասիչը` | C24: 31003 | D24: Տարի
B25: Միջոցառման անվանումը` | C25: Առողջապահական կազմակերպությունների կառուցում, վերակառուցում
B26: Նկարագրությունը` | C26: Բնակչությանը որակյալ բժշկական օգնության և սպասարկման ծառայություններ մատուցելու նպատակով առողջապահական կազմակերպությունների կառուցում, վերակառուցում
B27: Միջոցառման տեսակը` | C27: Պետական մարմինների կողմից օգտագործվող ոչ ֆինանսական ակտիվների հետ գործառնություններ
B28: Ակտիվն օգտագործող կազմակերպության (ների) անվանում(ներ)ը | C28: Բժշկական կազմակերպություններ
B29: Արդյունքի չափորոշիչներ
B30: Ընդամենը կառուցվող կազմակերպություններ, թիվ, որից | D30: =+D31 -> -9
B31: Կառուցվող այլ առողջապահական կազմակերպություններ, այդ թվում պոլիկլինիկաներ,թիվ, որից | D31: =+D32 -> -9
B32: Նոր կառուցվող կազմակերպությունների թիվ, հատ | D32: -9
B33: Միջոցառման վրա կատարվող ծախսը (հազար դրամ) | D33: =+'5'!E25 -> -1492412
B35: Ծրագրի դասիչը | C35: Ծրագրի անվանումը
B36: 1142 | C36: Դատաբժշկական և ախտաբանաանատոմիական ծառայություններ
B37: Ծրագրի միջոցառումները
B38: Ծրագրի դասիչը` | C38: 1142 | D38: Ցուցանիշների փոփոխությունները (ավելացումները նշված են դրական նշանով)
B39: Միջոցառման դասիչը` | C39: 11001 | D39: Տարի
B40: Միջոցառման անվանումը` | C40: Դատաբժշկական փորձաքննություններ
B41: Նկարագրությունը` | C41: Հանրապետության ուժային մարմինների որոշումների հիման վրա դատաբժշկական և գենետիկ փորձաքննությունների ապահովում` մահերի պատճառների վերհանման նպատակով դիակների փորձաքննություն
B42: Միջոցառման տեսակը` | C42: Ծառայությունների մատուցում
B43: Միջոցառումն իրականացնողի անվանումը | C43: Մասնագիտացված կազմակերպություն (ներ)
B44: Արդյունքի չափորոշիչներ
...

Sheet 11
B1: Հավելված № 11
B2: ՀՀ կառավարության 2024 թվականի
B3: __________ «____» -ի
B4: N_____ -Ն որոշման
B5: ՀԱՅԱՍՏԱՆԻ ՀԱՆՐԱՊԵՏՈՒԹՅԱՆ ԿԱՌԱՎԱՐՈՒԹՅԱՆ 2023 ԹՎԱԿԱՆԻ ԴԵԿՏԵՄԲԵՐԻ 28-Ի № 2323-Ն ՈՐՈՇՄԱՆ № 9.1 ՀԱՎԵԼՎԱԾԻ № 9.1.8 ԱՂՅՈՒՍԱԿՈՒՄ ԿԱՏԱՐՎՈՂ ՓՈՓՈԽՈՒԹՅՈՒՆՆԵՐԸ
B6: ՀՀ Առողջապահության նախարարություն
B7: ՄԱՍ 1. ՊԵՏԱԿԱՆ ՄԱՐՄՆԻ ԳԾՈՎ ԱՐԴՅՈՒՆՔԱՅԻՆ (ԿԱՏԱՐՈՂԱԿԱՆ) ՑՈՒՑԱՆԻՇՆԵՐԸ
B8: Ծրագրի դասիչը | C8: Ծրագրի անվանումը
B9: 1126 | C9: Առողջապահության ոլորտում պետական քաղաքականության մշակում, ծրագրերի համակարգում և մոնիտորինգ
B10: Ծրագրի միջոցառումները
B11: Ծրագրի դասիչը` | C11: 1126 | D11: Ցուցանիշների փոփոխությունները (ավելացումները նշված են դրական նշանով)
B12: Միջոցառման դասիչը` | C12: 12006 | D12: Տարի
B13: Միջոցառման անվանումը` | C13: Առողջապահական համակարգի պետական առևտրային և ոչ առևտրային կազմակերպություններին ֆինանսական աջակցության հատկացում
B14: Նկարագրությունը` | C14: Առողջապահական համակարգի պետական առևտրային և ոչ առևտրային կազմակերպություններին ֆինանսական աջակցության տրամադրում ընթացիկ գործունեության արդյունավետության բարձրացմանն ուղղված
B15: Միջոցառման տեսակը` | C15: Տրանսֆերտի տրամադրում
B16: Ակտիվն օգտագործող կազմակերպության (ների) անվանում(ներ)ը | C16: Առողջապահական կազմակերպություններ
B17: Արդյունքի չափորոշիչներ
B18: Ֆինանսական աջակցություն ստացող բժշկական հաստատությունների թիվ, հատ | D18: =+'10'!D20 -> 11
B19: Միջոցառման վրա կատարվող ծախսը (հազար դրամ) | D19: =+'5'!E18 -> 560314.4
B21: Ծրագրի դասիչը` | C21: 1126 | D21: Ցուցանիշների փոփոխությունները (նվազեցումները նշված են փակագծերում)
B22: Միջոցառման դասիչը` | C22: 31003 | D22: Տարի
B23: Միջոցառման անվանումը` | C23: Առողջապահական կազմակերպությունների կառուցում, վերակառուցում
B24: Նկարագրությունը` | C24: Բնակչությանը որակյալ բժշկական օգնության և սպասարկման ծառայություններ մատուցելու նպատակով առողջապահական կազմակերպությունների կառուցում, վերակառուցում
B25: Միջոցառման տեսակը` | C25: Պետական մարմինների կողմից օգտագործվող ոչ ֆինանսական ակտիվների հետ գործառնություններ
B26: Ակտիվն օգտագործող կազմակերպության (ների) անվանում(ներ)ը | C26: Բժշկական կազմակերպություններ
B27: Արդյունքի չափորոշիչներ
B28: Ընդամենը կառուցվող կազմակերպություններ թիվ որից | D28: =+D29 -> -9
B29: Կառուցվող այլ առողջապահական կազմակերպություններ, այդ թվում պոլիկլինիկաներ թիվ, որից | D29: =+D30 -> -9
B30: Նոր կառուցվող կազմակերպությունների թիվ, հատ | D30: -9
B31: Միջոցառման վրա կատարվող ծախսը (հազար դրամ) | D31: =+'8'!E14 -> -1492412
B33: Ծրագրի դասիչը | C33: Ծրագրի անվանումը
B34: 1142 | C34: Դատաբժշկական և ախտաբանաանատոմիական ծառայություններ
B35: Ծրագրի միջոցառումները
B36: Ծրագրի դասիչը` | C36: 1142 | D36: Ցուցանիշների փոփոխությունները (ավելացումները նշված են դրական նշանով)
B37: Միջոցառման դասիչը` | C37: 11001 | D37: Տարի
B38: Միջոցառման անվանումը` | C38: Դատաբժշկական փորձաքննություններ
B39: Նկարագրությունը` | C39: Հանրապետության ուժային մարմինների որոշումների հիման վրա դատաբժշկական և գենետիկ փորձաքննությունների ապահովում` մահերի պատճառների վերհանման նպատակով դիակների փորձաքննություն
B40: Միջոցառման տեսակը` | C40: Ծառայությունների մատուցում
B41: Միջոցառումն իրականացնողի անվանումը | C41: Մասնագիտացված կազմակերպություն (ներ)
B42: Արդյունքի չափորոշիչներ
...

Sheet 12
B1: Հավելված № 12
B2: ՀՀ կառավարության 2024 թվականի
B3: __________ «____» -ի
B4: N_____ -Ն որոշման
B5: ՀԱՅԱՍՏԱՆԻ ՀԱՆՐԱՊԵՏՈՒԹՅԱՆ ԿԱՌԱՎԱՐՈՒԹՅԱՆ 2023 ԹՎԱԿԱՆԻ ԴԵԿՏԵՄԲԵՐԻ 28-Ի № 2323-Ն ՈՐՈՇՄԱՆ № 10 ՀԱՎԵԼՎԱԾՈՒՄ ԿԱՏԱՐՎՈՂ ՓՈՓՈԽՈՒԹՅՈՒՆՆԵՐԸ
B6: Կոդը | C6: Անվանումը | F6: Գնման ձևը | G6: Չափման միավորը | H6: Միավորի գինը | I6: Քանակը | J6: Ցուցանիշների փոփոխությունները (ավելացումները նշված են դրական նշանով, իսկ նվազեցումները` փակագծերում)
J7: Գումարը (հազար դրամներով)
B8: ԸՆԴԱՄԵՆԸ | J8: =+J9+J19 -> -1492412
B9: ՀՀ առողջապահության նախարարություն | J9: =+J10 -> -1492412
B10: Բաժին N 07 | C10: Խումբ N 06 | D10: Դաս N 02 | E10: Առողջապահություն (այլ դասերին չպատկանող) | J10: =+J11 -> -1492412
B11: 1126 31003 | C11: Առողջապահական կազմակերպությունների կառուցում, վերակառուցում | J11: =+J12 -> -1492412
C12: ՄԱՍ II. ԱՇԽԱՏԱՆՔՆԵՐ | J12: =SUM(J13:J17) -> -1492412
B13: 45451700-3 | C13: վերակառուցման աշխատանքներ | F13: ԲՄ | G13: դրամ | J13: -500000
B14: 45451700-4 | C14: վերակառուցման աշխատանքներ | F14: ԲՄ | G14: դրամ | J14: -272290
B15: 45451700-7 | C15: վերակառուցման աշխատանքներ | F15: ԲՄ | G15: դրամ | J15: -622246.4
B16: 45451700-6 | C16: վերակառուցման աշխատանքներ | F16: ԲՄ | G16: դրամ | J16: -222875.56
B17: 45451700/508 | C17: վերակառուցման աշխատանքներ | F17: ԲՄ | G17: դրամ | H17: 125000000 | I17: 1 | J17: =+H17*I17/1000 -> 125000
B19: ՀՀ քաղաքաշինության կոմիտե | J19: =+J20 -> 0
B20: Բաժին N 07 | C20: Խումբ N 06 | D20: Դաս N 02 | E20: Առողջապահություն (այլ դասերին չպատկանող) | J20: =+J21 -> 0
B21: 1126 31003 | C21: Առողջապահական կազմակերպությունների կառուցում, վերակառուցում | J21: =+J22+J25 -> 0
C22: ՄԱՍ II. ԱՇԽԱՏԱՆՔՆԵՐ | J22: =SUM(J23:J24) -> -1597.5
B23: 45451700-3 | C23: վերակառուցման աշխատանքներ | F23: ԲՄ | G23: դրամ | J23: 87744.5
B24: 45451700-1 | C24: վերակառուցման աշխատանքներ | F24: ԲՄ | G24: դրամ | J24: -89342
C25: ՄԱՍ III. ԾԱՌԱՅՈՒԹՅՈՒՆՆԵՐ | J25: =SUM(J26:J27) -> 1597.5
B26: 71351540/8 | C26: տեխնիկական հսկողության ծառայություններ | F26: ԳՀ | G26: դրամ | J26: 1092.2
B27: 98111140/8 | C27: հեղինակային հսկողության ծառայություններ | F27: ՄԱ | G27: դրամ | J27: 505.3
