Workbook
Name _tab10: #REF!
Name _tab10: #REF!
Name _tab10: #REF!
Name _tab10: #REF!
Name _tab11: #REF!
Name _tab11: #REF!
Name _tab11: #REF!
Name _tab11: #REF!
Name _tab12: #REF!
Name _tab12: #REF!
Name _tab12: #REF!
Name _tab12: #REF!
Name _tab13: #REF!
Name _tab13: #REF!
Name _tab13: #REF!
Name _tab13: #REF!
Name _tab14: #REF!
Name _tab14: #REF!
Name _tab14: #REF!
Name _tab14: #REF!
Name _tab15: #REF!
Name _tab15: #REF!
Name _tab15: #REF!
Name _tab15: #REF!
Name _tab16: #REF!
Name _tab16: #REF!
Name _tab16: #REF!
Name _tab16: #REF!
Name _tab17: #REF!
Name _tab17: #REF!
Name _tab17: #REF!
Name _tab17: #REF!
Name _tab18: #REF!
Name _tab18: #REF!
Name _tab18: #REF!
Name _tab18: #REF!
Name _tab19: #REF!
Name _tab19: #REF!
Name _tab19: #REF!
Name _tab19: #REF!
Name _tab20: #REF!
Name _tab20: #REF!
Name _tab20: #REF!
Name _tab20: #REF!
Name _tab21: #REF!
Name _tab21: #REF!
Name _tab21: #REF!
Name _tab21: #REF!
Name _tab22: #REF!
Name _tab22: #REF!
Name _tab22: #REF!
Name _tab22: #REF!
Name _tab23: #REF!
Name _tab23: #REF!
Name _tab23: #REF!
Name _tab23: #REF!
Name _tab24: #REF!
Name _tab24: #REF!
Name _tab24: #REF!
Name _tab24: #REF!

Sheet 1
D1: Հավելված N 1
C2: ՀՀ կառավարության 2024 թվականի
D3: N ------------ -Ն որոշման
A4: «ՀԱՅԱՍՏԱՆԻ ՀԱՆՐԱՊԵՏՈՒԹՅԱՆ 2024 ԹՎԱԿԱՆԻ ՊԵՏԱԿԱՆ ԲՅՈՒՋԵԻ ՄԱՍԻՆ» ՕՐԵՆՔԻ N 1 ՀԱՎԵԼՎԱԾԻ N 2 ԱՂՅՈՒՍԱԿՈՒՄ ԿԱՏԱՐՎՈՂ ՎԵՐԱԲԱՇԽՈՒՄԸ ԵՎ ՀԱՅԱՍՏԱՆԻ ՀԱՆՐԱՊԵՏՈՒԹՅԱՆ ԿԱՌԱՎԱՐՈՒԹՅԱՆ 2023 ԹՎԱԿԱՆԻ ԴԵԿՏԵՄԲԵՐԻ 28-Ի N 2323-Ն ՈՐՈՇՄԱՆ N 5 ՀԱՎԵԼՎԱԾԻ N 1 ԱՂՅՈՒՍԱԿՈՒՄ ԿԱՏԱՐՎՈՂ ՓՈՓՈԽՈՒԹՅՈՒՆՆԵՐԸ ԵՎ ԼՐԱՑՈՒՄՆԵՐԸ
D6: հազար դրամ
A7: Ծրագրային դասիչը | C7: Բյուջետային հատկացումների գլխավոր կարգադրիչների, ծրագրերի և միջոցառումների անվանումները | D7: Ցուցանիշների փոփոխությունը (ավելացումները նշված են դրական նշանով, իսկ նվազեցումները` փակագծերում)
A8: Ծրագիր | B8: Միջոցառում | D8: Տարի
C9: ԸՆԴԱՄԵՆԸ | D9: =D10+D74 -> 0
C10: ՀՀ տարածքային կառավարման և ենթակառուցվածքների նախարարություն | D10: =+D61+D11+D48 -> -1304.2
A11: 1004 | C11: Ծրագրի անվանումը` | D11: =D18+D24+D30+D36+D42 -> -203294.7
C12: Ոռոգման համակարգի առողջացում
C13: Ծրագրի նպատակը`
C14: Ոռոգման ծառայությունների հասանելիության և մատչելիության ապահովում
C15: Վերջնական արդյունքի նկարագրությունը`
C16: Ոռոգման ջրի մատակարարման արդյունավետության և հասանելիության բարելավում, կորուստների կրճատում
C17: Ծրագրի միջոցառումներ
B18: 11005 | C18: Միջոցառման անվանումը` | D18: ='2'!G49 -> -17000
C19: Եվրասիական զարգացման բանկի աջակցությամբ իրականացվող ոռոգման համակարգերի զարգացման ծրագրի խորհրդատվություն և կառավարում
C20: Միջոցառման նկարագրությունը`
C21: Եվրասիական զարգացման բանկի աջակցությամբ իրականացվող ոռոգման համակարգերի զարգացման ծրագրի համակարգում և ղեկավարում
C22: Միջոցառման տեսակը
C23: Ծառայությունների մատուցում
B24: 11007 | C24: Միջոցառման անվանումը` | D24: ='2'!G57 -> -20623
C25: Գերմանիայի զարգացման վարկերի բանկի աջակցությամբ իրականացվող Ախուրյան գետի ջրային ռեսուրսների ինտեգրացված կառավարում ծրագրի խորհրդատվություն և կառավարում
C26: Միջոցառման նկարագրությունը`
C27: Գերմանիայի զարգացման վարկերի բանկի աջակցությամբ իրականացվող Ախուրյան գետի ջրային ռեսուրսների ինտեգրացված կառավարում ծրագրի համակարգում և ղեկավարում
C28: Միջոցառման տեսակը
C29: Ծառայությունների մատուցում
B30: 11010 | C30: Միջոցառման անվանումը` | D30: ='2'!G65 -> -18741.2
C31: Գերմանիայի զարգացման վարկերի բանկի աջակցությամբ իրականացվող Ախուրյան գետի ջրային ռեսուրսների ինտեգրացված կառավարում փուլ 1 ծրագրով Ջրաձոր գյուղի վերաբնակեցման գործողությունների խորհրդատվություն և կառավարում
C32: Միջոցառման նկարագրությունը`
C33: Գերմանիայի զարգացման վարկերի բանկի աջակցությամբ իրականացվող Ախուրյան գետի ջրային ռեսուրսների ինտեգրացված կառավարում փուլ 1 ծրագրով Ջրաձոր գյուղի վերաբնակեցման գործողությունների համակարգում և ղեկավարում
C34: Միջոցառման տեսակը
C35: Ծառայությունների մատուցում
B36: 11011 | C36: Միջոցառման անվանումը` | D36: ='2'!G74 -> -26094.5
C37: Զարգացման ֆրանսիական գործակալության աջակցությամբ իրականացվող ոռոգման ոլորտի ֆինանսական կայունության և ոռոգման կառավարման կարողությունների բարելավման դրամաշնորհային ծրագրի խորհրդատվություն և կառավարում
C38: Միջոցառման նկարագրությունը`
C39: Զարգացման ֆրանսիական գործակալության աջակցությամբ իրականացվող ոռոգման ոլորտի ֆինանսական կայունության և ոռոգման կառավարման կարողությունն»րի բար»լավման ծրագրի համակարգում և ղ»կավարում
C40: Միջոցառման տեսակը
C41: Ծառայությունների մատուցում
B42: 12002 | C42: Միջոցառման անվանումը` | D42: ='2'!G82 -> -120836
C43: Գերմանիայի զարգացման բանկի աջակցությամբ իրականացվող Ախուրյան գետի ջրային ռեսուրսների ինտեգրված կառավարման փուլ 1 ծրագրով Ջրաձոր գյուղի վերաբնակեցման համար ենթակառուցվածքների և բնակելի տների կառուցում
C44: Միջոցառման նկարագրությունը`
C45: Գերմանիայի զարգացման բանկի աջակցությամբ իրականացվող Ախուրյան գետի ջրային ռեսուրսների ինտեգրված կառավարման փուլ 1 ծրագիր
C46: Միջոցառման տեսակը
C47: Տրանսֆերտների տրամադրում
A48: 1157 | C48: Ծրագրի անվանումը` | D48: =D55 -> -18009.5
C49: Քաղաքային զարգացում
C50: Ծրագրի նպատակը`
C51: Քաղաքային ենթակառուցվածքների զարգացում
C52: Վերջնական արդյունքի նկարագրությունը`
C53: Քաղաքային ենթակառուցվածքների արդիականացում և բարելավում
C54: Ծրագրի միջոցառումներ
B55: 12016 | C55: Միջոցառման անվանումը` | D55: ='2'!G101 -> -18009.5
C56: Վերակառուցման և զարգացման եվրոպական բանկի աջակցությամբ իրականացվող Գյումրու քաղաքային ճանապարհների տեխնիկական համագործակցության դրամաշնորհային ծրագիր
C57: Միջոցառման նկարագրությունը`
C58: Գյումրու ճանապարհների վերակառուցմանը և փողոցային լուսավորության արդիականացմանը խորհրդատվական աջակցություն
C59: Միջոցառման տեսակը
C60: Տրանսֆերտների տրամադրում
A61: 1212 | C61: Ծրագրի անվանումը` | D61: =D68 -> 220000
C62: Տարածքային զարգացում
C63: Ծրագրի նպատակը`
C64: Տարածքային համաչափ զարգացման խթանում
C65: Վերջնական արդյունքի նկարագրությունը`
C66: ՀՀ համայնքների կառավարման արդյունավետության բարձրացում և տնտեսական գործունեության խթանում
C67: Ծրագրի միջոցառումներ
B68: 12025 | C68: Միջոցառման անվանումը` | D68: ='2'!G23 -> 220000
C69: Մարզերում առաջնահերթ լուծում պահանջող հիմնախնդիրների լուծում
C70: Միջոցառման նկարագրությունը`
C71: Մարզերում առաջնահերթ լուծում պահանջող ծրագրերի իրականացում, որի արդյունքում լուծում կտրվի բնակչության և համայնքների սոցիալական նշանակություն ունեցող հիմնախնդիրներին:
C72: Միջոցառման տեսակը
C73: Տրանսֆերտների տրամադրում
C74: ՀՀ կառավարություն | D74: =D75 -> 1304.2
A75: 1139 | C75: Ծրագրի անվանումը` | D75: =D82+D88 -> 1304.2
C76: ՀՀ կառավարության պահուստային ֆոնդ
C77: Ծրագրի նպատակը`
C78: Պետական բյուջեում չկանխատեսված, ինչպես նաև բյուջետային երաշխիքների ապահովման ծախսերի ֆինանսավորման ապահովում
C79: Վերջնական արդյունքի նկարագրությունը`
C80: Պահուստային ֆոնդի կառավարման արդյունավետության և թափանցիկության ապահովում
C81: Ծրագրի միջոցառումներ
B82: 11001 | C82: Միջոցառման անվանումը` | D82: ='2'!G129 -> 221304.2
C83: ՀՀ կառավարության պահուստային ֆոնդ
C84: Միջոցառման նկարագրությունը`
C85: ՀՀ պետական բյուջեում նախատեսված ելքերի լրացուցիչ ֆինանսավորման՝ պետական բյուջեում չկանխատեսված ելքերի, ինչպես նաև բյուջետային երաշխիքների ապահովման ելքերի ֆինանսավորման ապահովում
C86: Միջոցառման տեսակը
C87: Ծառայությունների մատուցում
B88: 11001 | C88: Միջոցառման անվանումը` | D88: ='2'!G121 -> -220000
C89: ՀՀ կառավարության պահուստային ֆոնդ
C90: Միջոցառման նկարագրությունը`
C91: ՀՀ պետական բյուջեում նախատեսված ելքերի լրացուցիչ ֆինանսավորման՝ պետական բյուջեում չկանխատեսված ելքերի, ինչպես նաև բյուջետային երաշխիքների ապահովման ելքերի ֆինանսավորման ապահովում
C92: Միջոցառման տեսակը
C93: Ծառայությունների մատուցում
B107: ՀԱՅԱՍՏԱՆԻ ՀԱՆՐԱՊԵՏՈՒԹՅԱՆ
B108: ՎԱՐՉԱՊԵՏԻ ԱՇԽԱՏԱԿԱԶՄԻ
C109: ՂԵԿԱՎԱՐ ՝ Ա. ՀԱՐՈՒԹՅՈՒՆՅԱՆ

Sheet 2
G1: Հավելված N 2
F2: ՀՀ կառավարության 2024 թվականի
G3: N ------------ -Ն որոշման
A5: ՀԱՅԱՍՏԱՆԻ ՀԱՆՐԱՊԵՏՈՒԹՅԱՆ ԿԱՌԱՎԱՐՈՒԹՅԱՆ 2023 ԹՎԱԿԱՆԻ ԴԵԿՏԵՄԲԵՐԻ 28-Ի N 2323-Ն ՈՐՈՇՄԱՆ NN 3 ԵՎ 4 ՀԱՎԵԼՎԱԾՆԵՐՈՒՄ ԿԱՏԱՐՎՈՂ ՓՈՓՈԽՈՒԹՅՈՒՆՆԵՐԸ ԵՎ ԼՐԱՑՈՒՄՆԵՐԸ
G6: հազար դրամ
A7: Գործառական դասիչը | D7: Ծրագրային դասիչը | F7: Բյուջետային ծախսերի գործառական դասակարգման բաժինների, խմբերի և դասերի, բյուջետային ծրագրերի միջոցառումների, բյուջետային հատկացումների գլխավոր կարգադրիչների անվանումները | G7: Ցուցանիշների փոփոխությունը (ավելացումները նշված են դրական նշանով, իսկ նվազեցումները` փակագծերում)
A8: Բաժին | B8: Խումբ | C8: Դաս | D8: Ծրագիր | E8: Միջոցառում | G8: Տարի
F9: ԸՆԴԱՄԵՆԸ ԾԱԽՍԵՐ | G9: =G11+G109 -> 0
F10: այդ թվում`
F11: ՀՀ տարածքային կառավարման և ենթակառուցվածքների նախարարություն | G11: =G13+G39 -> -1304.2
F12: այդ թվում`
A13: 01 | F13: ԸՆԴՀԱՆՈՒՐ ԲՆՈՒՅԹԻ ՀԱՆՐԱՅԻՆ ԾԱՌԱՅՈՒԹՅՈՒՆՆԵՐ | G13: =G15 -> 220000
F14: այդ թվում`
B15: 08 | F15: Կառավարության տարբեր մակարդակների միջև իրականացվող ընդհանուր բնույթի տրանսֆերտներ | G15: =G17 -> 220000
F16: այդ թվում`
C17: 01 | F17: Կառավարության տարբեր մակարդակների միջև իրականացվող ընդհանուր բնույթի տրանսֆերտներ | G17: =G19 -> 220000
F18: այդ թվում`
F19: ՀՀ տարածքային կառավարման և ենթակառուցվածքների նախարարություն | G19: =+G21 -> 220000
F20: այդ թվում`
D21: 1212 | F21: Տարածքային զարգացում | G21: =G23 -> 220000
F22: այդ թվում
E23: 12025 | F23: Մարզերում առաջնահերթ լուծում պահանջող հիմնախնդիրների լուծում | G23: =G25+G32 -> 220000
F24: այդ թվում` ըստ կատարողների
F25: ՀՀ Տավուշի մարզպետի աշխատակազմ | G25: =+G27 -> 70000
F26: այդ թվում` բյուջետային ծախսերի տնտեսագիտական դասակարգման հոդվածներ
F27: ԸՆԴԱՄԵՆԸ ԾԱԽՍԵՐ | G27: =+G28 -> 70000
F28: ԸՆԹԱՑԻԿ ԾԱԽՍԵՐ | G28: =G29 -> 70000
F29: ԾԱՌԱՅՈՒԹՅՈՒՆՆԵՐԻ ԵՎ ԱՊՐԱՆՔՆԵՐԻ ՁԵՌՔԲԵՐՈՒՄ | G29: =G30 -> 70000
F30: Ընթացիկ նորոգում և պահպանում (ծառայություններ և նյութեր) | G30: =G31 -> 70000
F31: - Շենքերի և կառույցների ընթացիկ նորոգում և պահպանում | G31: =70000 -> 70000
F32: ՀՀ Լոռու մարզպետի աշխատակազմ | G32: =+G34 -> 150000
F33: այդ թվում` բյուջետային ծախսերի տնտեսագիտական դասակարգման հոդվածներ
F34: ԸՆԴԱՄԵՆԸ ԾԱԽՍԵՐ | G34: =+G35 -> 150000
F35: ԸՆԹԱՑԻԿ ԾԱԽՍԵՐ | G35: =G36 -> 150000
F36: ԾԱՌԱՅՈՒԹՅՈՒՆՆԵՐԻ ԵՎ ԱՊՐԱՆՔՆԵՐԻ ՁԵՌՔԲԵՐՈՒՄ | G36: =+G37 -> 150000
F37: Ընթացիկ նորոգում և պահպանում (ծառայություններ և նյութեր) | G37: =+G38 -> 150000
F38: - Շենքերի և կառույցների ընթացիկ նորոգում և պահպանում | G38: =150000 -> 150000
A39: 04 | F39: ՏՆՏԵՍԱԿԱՆ ՀԱՐԱԲԵՐՈՒԹՅՈՒՆՆԵՐ | G39: =G41+G93 -> -221304.2
F40: այդ թվում`
B41: 02 | F41: Գյուղատնտեսություն, անտառային տնտեսություն, ձկնորսություն և որսորդություն | G41: =G43 -> -203294.7
F42: այդ թվում`
C43: 04 | F43: Ոռոգում | G43: =G45 -> -203294.7
F44: այդ թվում`
F45: ՀՀ տարածքային կառավարման և ենթակառուցվածքների նախարարություն | G45: =G47 -> -203294.7
F46: այդ թվում`
D47: 1004 | F47: Ոռոգման համակարգի առողջացում | G47: =G65+G74+G82+G49+G57 -> -203294.7
F48: այդ թվում`
E49: 11005 | F49: Եվրասիական զարգացման բանկի աջակցությամբ իրականացվող ոռոգման համակարգերի զարգացման ծրագրի խորհրդատվություն և կառավարում | G49: =G51 -> -17000
F50: այդ թվում` ըստ կատարողների
F51: ՀՀ տարածքային կառավարման և ենթակառուցվածքների նախարարության ջրային կոմիտե | G51: =G53 -> -17000
F52: այդ թվում` բյուջետային ծախսերի տնտեսագիտական դասակարգման հոդվածներ
F53: ԸՆԴԱՄԵՆԸ ԾԱԽՍԵՐ | G53: =G55 -> -17000
F54: ԸՆԹԱՑԻԿ ԾԱԽՍԵՐ | G54: =G55 -> -17000
F55: ԱՅԼ ԾԱԽՍԵՐ | G55: =G56 -> -17000
F56: Այլ ծախսեր | G56: =-17000 -> -17000
E57: 11007 | F57: Գերմանիայի զարգացման վարկերի բանկի աջակցությամբ իրականացվող Ախուրյան գետի ջրային ռեսուրսների ինտեգրացված կառավարում ծրագրի խորհրդատվություն և կառավարում | G57: =G59 -> -20623
F58: այդ թվում` ըստ կատարողների
F59: ՀՀ տարածքային կառավարման և ենթակառուցվածքների նախարարության ջրային կոմիտե | G59: =G61 -> -20623
F60: այդ թվում` բյուջետային ծախսերի տնտեսագիտական դասակարգման հոդվածներ
F61: ԸՆԴԱՄԵՆԸ ԾԱԽՍԵՐ | G61: =G63 -> -20623
F62: ԸՆԹԱՑԻԿ ԾԱԽՍԵՐ | G62: =G63 -> -20623
F63: ԱՅԼ ԾԱԽՍԵՐ | G63: =G64 -> -20623
F64: Այլ ծախսեր | G64: ='3'!G34 -> -20623
E65: 11010 | F65: Գերմանիայի զարգացման վարկերի բանկի աջակցությամբ իրականացվող Ախուրյան գետի ջրային ռեսուրսների ինտեգրացված կառավարում փուլ 1 ծրագրով Ջրաձոր գյուղի վերաբնակեցման գործողությունների խորհրդատվություն և կառավարում | G65: =G67 -> -18741.2
F66: այդ թվում` ըստ կատարողների
F67: ՀՀ տարածքային կառավարման և ենթակառուցվածքների նախարարության ջրային կոմիտե | G67: =G69 -> -18741.2
F68: այդ թվում` բյուջետային ծախսերի տնտեսագիտական դասակարգման հոդվածներ
F69: ԸՆԴԱՄԵՆԸ ԾԱԽՍԵՐ | G69: =G71 -> -18741.2
F70: ԸՆԹԱՑԻԿ ԾԱԽՍԵՐ | G70: =G71 -> -18741.2
F71: ԴՐԱՄԱՇՆՈՐՀՆԵՐ | G71: =G72 -> -18741.2
F72: Ընթացիկ դրամաշնորհներ պետական հատվածի այլ մակարդակներին | G72: =G73 -> -18741.2
F73: - Այլ ընթացիկ դրամաշնորհներ | G73: -18741.2
E74: 11011 | F74: Զարգացման ֆրանսիական գործակալության աջակցությամբ իրականացվող ոռոգման ոլորտի ֆինանսական կայունության և ոռոգման կառավարման կարողությունների բարելավման դրամաշնորհային ծրագրի խորհրդատվություն և կառավարում | G74: =G76 -> -26094.5
F75: այդ թվում` ըստ կատարողների
F76: ՀՀ տարածքային կառավարման և ենթակառուցվածքների նախարարության ջրային կոմիտե | G76: =G78 -> -26094.5
F77: այդ թվում` բյուջետային ծախսերի տնտեսագիտական դասակարգման հոդվածներ
F78: ԸՆԴԱՄԵՆԸ ԾԱԽՍԵՐ | G78: =G80 -> -26094.5
F79: ԸՆԹԱՑԻԿ ԾԱԽՍԵՐ | G79: =G80 -> -26094.5
F80: ԱՅԼ ԾԱԽՍԵՐ | G80: =G81 -> -26094.5
F81: Այլ ծախսեր | G81: =-26094.5 -> -26094.5
E82: 12002 | F82: Գերմանիայի զարգացման բանկի աջակցությամբ իրականացվող Ախուրյան գետի ջրային ռեսուրսների ինտեգրված կառավարման փուլ 1 ծրագրով Ջրաձոր գյուղի վերաբնակեցման համար ենթակառուցվածքների և բնակելի տների կառուցում | G82: =G84 -> -120836
F83: այդ թվում` ըստ կատարողների
F84: ՀՀ տարածքային կառավարման և ենթակառուցվածքների նախարարության ջրային կոմիտե | G84: =G86 -> -120836
F85: այդ թվում` բյուջետային ծախսերի տնտեսագիտական դասակարգման հոդվածներ
F86: ԸՆԴԱՄԵՆԸ ԾԱԽՍԵՐ | G86: =G88+G91 -> -120836
F87: ՈՉ ՖԻՆԱՆՍԱԿԱՆ ԱԿՏԻՎՆԵՐԻ ԳԾՈՎ ԾԱԽՍԵՐ | G87: =G88+G91 -> -120836
F88: ՀԻՄՆԱԿԱՆ ՄԻՋՈՑՆԵՐ | G88: =G89 -> -103836
F89: ՇԵՆՔԵՐ ԵՎ ՇԻՆՈՒԹՅՈՒՆՆԵՐ | G89: =G90 -> -103836
F90: - Շենքերի և շինությունների շինարարություն | G90: =-103836 -> -103836
F91: ՉԱՐՏԱԴՐՎԱԾ ԱԿՏԻՎՆԵՐ | G91: =G92 -> -17000
F92: ՀՈՂ | G92: =-17000 -> -17000
B93: 05 | F93: Տրանսպորտ | G93: =G95 -> -18009.5
F94: այդ թվում`
C95: 01 | F95: Ճանապարհային տրանսպորտ | G95: =G97 -> -18009.5
F96: այդ թվում`
F97: ՀՀ տարածքային կառավարման և ենթակառուցվածքների նախարարություն | G97: =G99 -> -18009.5
F98: այդ թվում`
D99: 1157 | F99: Քաղաքային զարգացում | G99: =G101 -> -18009.5
F100: այդ թվում`
E101: 12016 | F101: Վերակառուցման և զարգացման եվրոպական բանկի աջակցությամբ իրականացվող Գյումրու քաղաքային ճանապարհների տեխնիկական համագործակցության դրամաշնորհային ծրագիր | G101: =G103 -> -18009.5
...

Sheet 3
G1: Հավելված N3
G2: ՀՀ կառավարության 2024 թվականի
G3: ______________ ի ___Ն որոշման
B5: «ՀԱՅԱUՏԱՆԻ ՀԱՆՐԱՊԵՏՈՒԹՅԱՆ 2024 ԹՎԱԿԱՆԻ ՊԵՏԱԿԱՆ ԲՅՈՒՋԵԻ ՄԱUԻՆ» OՐԵՆՔԻ N 1 ՀԱՎԵԼՎԱԾԻ N 4 ԱՂՅՈՒՍԱԿՈՒՄ ԵՎ ՀԱՅԱՍՏԱՆԻ ՀԱՆՐԱՊԵՏՈՒԹՅԱՆ ԿԱՌԱՎԱՐՈՒԹՅԱՆ 2023 ԹՎԱԿԱՆԻ ԴԵԿՏԵՄԲԵՐԻ 28-Ի N 2323-Ն ՈՐՈՇՄԱՆ N 5 ՀԱՎԵԼՎԱԾԻ N 3 ԱՂՅՈՒՍԱԿՈՒՄ ԿԱՏԱՐՎՈՂ ՓՈՓՈԽՈՒԹՅՈՒՆՆԵՐԸ
G6: հազար դրամ
B7: Ծրագրային դասիչը | D7: Բյուջետային գլխավոր կարգադրիչների, ծրագրերի և միջոցառումների անվանումները | E7: Ցուցանիշների փոփոխությունը (նվազեցումները նշված են փակագծերում)
E8: Տարի
E9: Ընդամենը | F9: այդ թվում`
B10: Ծրագիր | C10: Միջոցառում | F10: Վարկային միջոցներ | G10: Համաֆինան սավորում
D11: ԸՆԴԱՄԵՆԸ_x000D_ | E11: =F11+G11 -> -177200.2 | F11: =F14 -> 0 | G11: =G14+G13 -> -177200.2
D12: այդ թվում`
D13: -ԸՆԹԱՑԻԿ ԾԱԽՍԵՐ | E13: =E40+E32+E24 -> -56364.2 | F13: =F40+F32+F24 -> 0 | G13: =G40+G32+G24 -> -56364.2
D14: -ՈՉ ՖԻՆԱՆՍԱԿԱՆ ԱԿՏԻՎՆԵՐԻ ԳԾՈՎ ԾԱԽՍԵՐ | E14: =E49 -> -120836 | F14: =F49 -> 0 | G14: =G49 -> -120836
D15: ՀՀ ՏԱՐԱԾՔԱՅԻՆ ԿԱՌԱՎԱՐՄԱՆ ԵՎ ԵՆԹԱԿԱՌՈՒՑՎԱԾՔՆԵՐԻ ՆԱԽԱՐԱՐՈՒԹՅՈՒՆ_x000D_ | E15: =E17 -> -177200.2 | F15: =F17 -> 0 | G15: =G17 -> -177200.2
D16: այդ թվում`
B17: 1004 | D17: Ոռոգման համակարգի առողջացում | E17: =+F17+G17 -> -177200.2 | F17: =F44 -> 0 | G17: =G44+G35+G19+G27 -> -177200.2
D18: այդ թվում`
C19: 11005 | D19: Եվրասիական զարգացման բանկի աջակցությամբ իրականացվող ոռոգման համակարգերի զարգացման ծրագրի խորհրդատվություն և կառավարում | E19: =+F19+G19 -> -17000 | F19: =+F21 -> 0 | G19: =+G21 -> -17000
D20: այդ թվում` ըստ կատարողների
D21: ՀՀ տարածքային կառավարման և ենթակառուցվածքների նախարարության ջրային կոմիտե | E21: =F21+G21 -> -17000 | F21: =+F23 -> 0 | G21: =+G23 -> -17000
D22: այդ թվում` բյուջետային ծախսերի տնտեսագիտական դասակարգման հոդվածներ
D23: ԸՆԴԱՄԵՆԸ ԾԱԽՍԵՐ | E23: =+E24 -> -17000 | F23: =+F24 -> 0 | G23: =+G24 -> -17000
D24: ԸՆԹԱՑԻԿ ԾԱԽՍԵՐ | E24: =F24+G24 -> -17000 | F24: =+F25 -> 0 | G24: =+G25 -> -17000
D25: ԱՅԼ ԾԱԽՍԵՐ | E25: =+F25+G25 -> -17000 | F25: =+F26 -> 0 | G25: =+G26 -> -17000
D26: Այլ ծախսեր | E26: =+F26+G26 -> -17000 | G26: ='2'!G56 -> -17000
C27: 11007 | D27: Գերմանիայի զարգացման վարկերի բանկի աջակցությամբ իրականացվող Ախուրյան գետի ջրային ռեսուրսների ինտեգրացված կառավարում ծրագրի խորհրդատվություն և կառավարում | E27: =+F27+G27 -> -20623 | F27: =+F29 -> 0 | G27: =+G29 -> -20623
D28: այդ թվում` ըստ կատարողների
D29: ՀՀ տարածքային կառավարման և ենթակառուցվածքների նախարարության ջրային կոմիտե | E29: =F29+G29 -> -20623 | F29: =+F31 -> 0 | G29: =+G31 -> -20623
D30: այդ թվում` բյուջետային ծախսերի տնտեսագիտական դասակարգման հոդվածներ
D31: ԸՆԴԱՄԵՆԸ ԾԱԽՍԵՐ | E31: =+E32 -> -20623 | F31: =+F32 -> 0 | G31: =+G32 -> -20623
D32: ԸՆԹԱՑԻԿ ԾԱԽՍԵՐ | E32: =F32+G32 -> -20623 | F32: =+F33 -> 0 | G32: =+G33 -> -20623
D33: ԱՅԼ ԾԱԽՍԵՐ | E33: =+F33+G33 -> -20623 | F33: =+F34 -> 0 | G33: =+G34 -> -20623
D34: Այլ ծախսեր | E34: =+F34+G34 -> -20623 | G34: -20623
C35: 11010 | D35: Գերմանիայի զարգացման վարկերի բանկի աջակցությամբ իրականացվող Ախուրյան գետի ջրային ռեսուրսների ինտեգրացված կառավարում փուլ 1 ծրագրով Ջրաձոր գյուղի վերաբնակեցման գործողությունների խորհրդատվություն և կառավարում | E35: =+F35+G35 -> -18741.2 | F35: =+F37 -> 0 | G35: =+G37 -> -18741.2
D36: այդ թվում` ըստ կատարողների
D37: ՀՀ տարածքային կառավարման և ենթակառուցվածքների նախարարության ջրային կոմիտե | E37: =F37+G37 -> -18741.2 | F37: =+F39 -> 0 | G37: =+G39 -> -18741.2
D38: այդ թվում` բյուջետային ծախսերի տնտեսագիտական դասակարգման հոդվածներ
D39: ԸՆԴԱՄԵՆԸ ԾԱԽՍԵՐ | E39: =+E40 -> -18741.2 | F39: =+F40 -> 0 | G39: =+G40 -> -18741.2
D40: ԸՆԹԱՑԻԿ ԾԱԽՍԵՐ | E40: =F40+G40 -> -18741.2 | F40: =+F41 -> 0 | G40: =+G41 -> -18741.2
D41: ԴՐԱՄԱՇՆՈՐՀՆԵՐ | E41: =+F41+G41 -> -18741.2 | F41: =+F42 -> 0 | G41: =+G42 -> -18741.2
D42: Ընթացիկ դրամաշնորհներ պետական հատվածի այլ մակարդակներին | E42: =+F42+G42 -> -18741.2 | F42: =+F43 -> 0 | G42: =+G43 -> -18741.2
D43: - Այլ ընթացիկ դրամաշնորհներ | E43: =+F43+G43 -> -18741.2 | F43: 0 | G43: ='2'!G73 -> -18741.2
C44: 12002 | D44: Գերմանիայի զարգացման բանկի աջակցությամբ իրականացվող Ախուրյան գետի ջրային ռեսուրսների ինտեգրված կառավարման փուլ 1 ծրագրով Ջրաձոր գյուղի վերաբնակեցման համար ենթակառուցվածքների և բնակելի տների կառուցում | E44: =+F44+G44 -> -120836 | F44: =+F46 -> 0 | G44: =+G46 -> -120836
D45: այդ թվում` ըստ կատարողների
D46: ՀՀ տարածքային կառավարման և ենթակառուցվածքների նախարարության ջրային կոմիտե | E46: =F46+G46 -> -120836 | F46: =+F48 -> 0 | G46: =+G48 -> -120836
D47: այդ թվում` բյուջետային ծախսերի տնտեսագիտական դասակարգման հոդվածներ
D48: ԸՆԴԱՄԵՆԸ ԾԱԽՍԵՐ | E48: =+E49 -> -120836 | F48: =+F49 -> 0 | G48: =G49 -> -120836
D49: ՈՉ ՖԻՆԱՆՍԱԿԱՆ ԱԿՏԻՎՆԵՐԻ ԳԾՈՎ ԾԱԽՍԵՐ | E49: =F49+G49 -> -120836 | F49: =+F50 -> 0 | G49: =G50+G53 -> -120836
D50: ՀԻՄՆԱԿԱՆ ՄԻՋՈՑՆԵՐ | E50: =+F50+G50 -> -103836 | F50: =+F51 -> 0 | G50: =+G51 -> -103836
D51: ՇԵՆՔԵՐ ԵՎ ՇԻՆՈՒԹՅՈՒՆՆԵՐ | E51: =+F51+G51 -> -103836 | F51: =+F52 -> 0 | G51: =+G52 -> -103836
D52: - Շենքերի և շինությունների շինարարություն | E52: =+F52+G52 -> -103836 | F52: 0 | G52: ='2'!G90 -> -103836
D53: ՉԱՐՏԱԴՐՎԱԾ ԱԿՏԻՎՆԵՐ | E53: =+F53+G53 -> -17000 | F53: 0 | G53: =G54 -> -17000
D54: ՀՈՂ | E54: =+F54+G54 -> -17000 | F54: 0 | G54: ='2'!G92 -> -17000
C56: ՀԱՅԱՍՏԱՆԻ ՀԱՆՐԱՊԵՏՈՒԹՅԱՆ
C57: ՎԱՐՉԱՊԵՏԻ ԱՇԽԱՏԱԿԱԶՄԻ
D58: ՂԵԿԱՎԱՐ ՝ Ա․ ՀԱՐՈՒԹՅՈՒՆՅԱՆ

Sheet 4
G1: Հավելված N 4
G2: ՀՀ կառավարության 2024 թվականի
G3: ______________ ի ___Ն որոշման
B5: «ՀԱՅԱUՏԱՆԻ ՀԱՆՐԱՊԵՏՈՒԹՅԱՆ 2024 ԹՎԱԿԱՆԻ ՊԵՏԱԿԱՆ ԲՅՈՒՋԵԻ ՄԱUԻՆ» OՐԵՆՔԻ N 1 ՀԱՎԵԼՎԱԾԻ N 5 ԱՂՅՈՒՍԱԿՈՒՄ ԵՎ ՀԱՅԱՍՏԱՆԻ ՀԱՆՐԱՊԵՏՈՒԹՅԱՆ ԿԱՌԱՎԱՐՈՒԹՅԱՆ 2023 ԹՎԱԿԱՆԻ ԴԵԿՏԵՄԲԵՐԻ 28-Ի N 2323-Ն ՈՐՈՇՄԱՆ N 5 ՀԱՎԵԼՎԱԾԻ N 4 ԱՂՅՈՒՍԱԿՈՒՄ ԿԱՏԱՐՎՈՂ ՓՈՓՈԽՈՒԹՅՈՒՆՆԵՐԸ
G6: հազար դրամ
B7: Ծրագրային դասիչը | D7: Բյուջետային գլխավոր կարգադրիչների, ծրագրերի և միջոցառումների անվանումները | E7: Ցուցանիշների փոփոխությունը (նվազեցումները նշված են փակագծերում)
E8: Տարի
E9: Ընդամենը | F9: այդ թվում`
B10: Ծրագիր | C10: Միջոցառում | F10: Դրամաշնորհային միջոցներ | G10: Համաֆինան սավորում
D11: ԸՆԴԱՄԵՆԸ_x000D_ | E11: =E13 -> -44104 | F11: =F13 -> 0 | G11: =G13 -> -44104
D12: այդ թվում`
D13: ԸՆԹԱՑԻԿ ԾԱԽՍԵՐ | E13: =E23+E33 -> -44104 | F13: =F23+F33 -> 0 | G13: =G23+G33 -> -44104
D14: ՀՀ ՏԱՐԱԾՔԱՅԻՆ ԿԱՌԱՎԱՐՄԱՆ ԵՎ ԵՆԹԱԿԱՌՈՒՑՎԱԾՔՆԵՐԻ ՆԱԽԱՐԱՐՈՒԹՅՈՒՆ_x000D_ | E14: =E16+E26 -> -44104 | F14: =F16 -> 0 | G14: =G16+G26 -> -44104
D15: այդ թվում`
B16: 1004 | D16: Ոռոգման համակարգի առողջացում | E16: =E18 -> -26094.5 | F16: =F18 -> 0 | G16: =G18 -> -26094.5
D17: այդ թվում`
C18: 11011 | D18: Զարգացման ֆրանսիական գործակալության աջակցությամբ իրականացվող ոռոգման ոլորտի ֆինանսական կայունության և ոռոգման կառավարման կարողությունների բարելավման դրամաշնորհային ծրագրի խորհրդատվություն և կառավարում | E18: =+F18+G18 -> -26094.5 | F18: =+F20 -> 0 | G18: =+G20 -> -26094.5
D19: այդ թվում` ըստ կատարողների
D20: ՀՀ տարածքային կառավարման և ենթակառուցվածքների նախարարության ջրային կոմիտե | E20: =F20+G20 -> -26094.5 | F20: =+F22 -> 0 | G20: =+G22 -> -26094.5
D21: այդ թվում` բյուջետային ծախսերի տնտեսագիտական դասակարգման հոդվածներ
D22: ԸՆԴԱՄԵՆԸ ԾԱԽՍԵՐ | E22: =+E23 -> -26094.5 | F22: =+F23 -> 0 | G22: =+G23 -> -26094.5
D23: ԸՆԹԱՑԻԿ ԾԱԽՍԵՐ | E23: =F23+G23 -> -26094.5 | F23: =+F24 -> 0 | G23: =+G24 -> -26094.5
D24: ԱՅԼ ԾԱԽՍԵՐ | E24: =+F24+G24 -> -26094.5 | F24: =+F25 -> 0 | G24: =+G25 -> -26094.5
D25: Այլ ծախսեր | E25: =+F25+G25 -> -26094.5 | G25: ='2'!G81 -> -26094.5
B26: 1157 | D26: Քաղաքային զարգացում | E26: =E28 -> -18009.5 | F26: =F28 -> 0 | G26: =G28 -> -18009.5
D27: այդ թվում`
C28: 12016 | D28: Վերակառուցման և զարգացման եվրոպական բանկի աջակցությամբ իրականացվող Գյումրու քաղաքային ճանապարհների տեխնիկական համագործակցության դրամաշնորհային ծրագիր | E28: =+F28+G28 -> -18009.5 | F28: =+F30 -> 0 | G28: =+G30 -> -18009.5
D29: այդ թվում` ըստ կատարողների
D30: ՀՀ տարածքային կառավարման և ենթակառուցվածքների նախարարություն | E30: =F30+G30 -> -18009.5 | F30: =+F32 -> 0 | G30: =+G32 -> -18009.5
D31: այդ թվում` բյուջետային ծախսերի տնտեսագիտական դասակարգման հոդվածներ
D32: ԸՆԴԱՄԵՆԸ ԾԱԽՍԵՐ | E32: =+E33 -> -18009.5 | F32: =+F33 -> 0 | G32: =+G33 -> -18009.5
D33: ԸՆԹԱՑԻԿ ԾԱԽՍԵՐ | E33: =F33+G33 -> -18009.5 | F33: =+F34 -> 0 | G33: =+G34 -> -18009.5
D34: ԱՅԼ ԾԱԽՍԵՐ | E34: =+F34+G34 -> -18009.5 | F34: =+F35 -> 0 | G34: =+G35 -> -18009.5
D35: Այլ ծախսեր | E35: =+F35+G35 -> -18009.5 | G35: ='2'!G108 -> -18009.5
B37: ՀԱՅԱՍՏԱՆԻ ՀԱՆՐԱՊԵՏՈՒԹՅԱՆ
B38: ՎԱՐՉԱՊԵՏԻ ԱՇԽԱՏԱԿԱԶՄԻ
C39: ՂԵԿԱՎԱՐ ՝ Ա․ ՀԱՐՈՒԹՅՈՒՆՅԱՆ

Sheet 5
C1: Հավելված N 5
C2: ՀՀ կառավարության 2024 թվականի
C3: N ------------ -Ն որոշման
A5: ՀԱՅԱՍՏԱՆԻ ՀԱՆՐԱՊԵՏՈՒԹՅԱՆ ԿԱՌԱՎԱՐՈՒԹՅԱՆ 2023 ԹՎԱԿԱՆԻ ԴԵԿՏԵՄԲԵՐԻ 28-Ի N 2323-Ն ՈՐՈՇՄԱՆ N 9 ՀԱՎԵԼՎԱԾԻ N 9.7 ԵՎ 9․48 ԱՂՅՈՒՍԱԿՆԵՐՈՒՄ ԿԱՏԱՐՎՈՂ ՓՈՓՈԽՈՒԹՅՈՒՆՆԵՐԸ ԵՎ ԼՐԱՑՈՒՄՆԵՐԸ
C6: Աղյուսակ 9.7
A8: ՀՀ ՏԱՐԱԾՔԱՅԻՆ ԿԱՌԱՎԱՐՄԱՆ ԵՎ ԵՆԹԱԿԱՌՈՒՑՎԱԾՔՆԵՐԻ ՆԱԽԱՐԱՐՈՒԹՅՈՒՆ
A9: ՄԱՍ 2. ՊԵՏԱԿԱՆ ՄԱՐՄՆԻ ԳԾՈՎ ԱՐԴՅՈՒՆՔԱՅԻՆ (ԿԱՏԱՐՈՂԱԿԱՆ) ՑՈՒՑԱՆԻՇՆԵՐԸ
A12: Ծրագրի դասիչը | B12: Ծրագրի անվանումը
A13: 1004 | B13: Ոռոգման համակարգի առողջացում
A15: Ծրագրի միջոցառումները
A16: Ծրագրի դասիչը` | B16: 1004 | C16: Ցուցանիշների փոփոխությունը ( նվազեցումները` նշված են փակագծերում)
A17: Միջոցառման դասիչը` | B17: 11005 | C17: Տարի
A18: Միջոցառման անվանումը` | B18: Եվրասիական զարգացման բանկի աջակցությամբ իրականացվող ոռոգման համակարգերի զարգացման ծրագրի խորհրդատվություն և կառավարում
A19: Նկարագրությունը` | B19: Եվրասիական զարգացման բանկի աջակցությամբ իրականացվող ոռոգման համակարգերի զարգացման ծրագրի համակարգում և ղեկավարում
A20: Միջոցառման տեսակը` | B20: Ծառայությունների մատուցում
A21: Ծառայությունը մատուցող կազմակերպության անվանումը | B21: Մասնագիտատացված միավոր
A22: Արդյունքի չափորոշիչներ
A23: Միջոցառման վրա կատարվող ծախսը (հազար դրամ) | C23: ='1'!D18 -> -17000
A26: Ծրագրի դասիչը` | B26: 1004 | C26: Ցուցանիշների փոփոխությունը ( նվազեցումները` նշված են փակագծերում)
A27: Միջոցառման դասիչը` | B27: 11007 | C27: Տարի
A28: Միջոցառման անվանումը` | B28: Գերմանիայի զարգացման վարկերի բանկի աջակցությամբ իրականացվող Ախուրյան գետի ջրային ռեսուրսների ինտեգրացված կառավարում ծրագրի խորհրդատվություն և կառավարում
A29: Նկարագրությունը` | B29: Գերմանիայի զարգացման վարկերի բանկի աջակցությամբ իրականացվող Ախուրյան գետի ջրային ռեսուրսների ինտեգրացված կառավարում ծրագրի համակարգում և ղեկավարում
A30: Միջոցառման տեսակը` | B30: Ծառայությունների մատուցում
A31: Ծառայությունը մատուցող կազմակերպության անվանումը | B31: Մասնագիտատացված միավոր
A32: Արդյունքի չափորոշիչներ
A33: Միջոցառման վրա կատարվող ծախսը (հազար դրամ) | C33: ='1'!D24 -> -20623
A36: Ծրագրի դասիչը` | B36: 1004 | C36: Ցուցանիշների փոփոխությունը ( նվազեցումները` նշված են փակագծերում)
A37: Միջոցառման դասիչը` | B37: 11010 | C37: Տարի
A38: Միջոցառման անվանումը` | B38: Գերմանիայի զարգացման վարկերի բանկի աջակցությամբ իրականացվող Ախուրյան գետի ջրային ռեսուրսների ինտեգրացված կառավարում փուլ 1 ծրագրով Ջրաձոր գյուղի վերաբնակեցման գործողությունների խորհրդատվություն և կառավարում
A39: Նկարագրությունը` | B39: Գերմանիայի զարգացման վարկերի բանկի աջակցությամբ իրականացվող Ախուրյան գետի ջրային ռեսուրսների ինտեգրացված կառավարում փուլ 1 ծրագրով Ջրաձոր գյուղի վերաբնակեցման գործողությունների համակարգում և ղեկավարում
A40: Միջոցառման տեսակը` | B40: Ծառայությունների մատուցում
A41: Ծառայությունը մատուցող կազմակերպության անվանումը | B41: Մասնագիտացված միավոր
A42: Արդյունքի չափորոշիչներ
A43: Միջոցառման վրա կատարվող ծախսը (հազար դրամ) | C43: ='1'!D30 -> -18741.2
A46: Ծրագրի դասիչը` | B46: 1004 | C46: Ցուցանիշների փոփոխությունը ( նվազեցումները` նշված են փակագծերում)
A47: Միջոցառման դասիչը` | B47: 11011 | C47: Տարի
A48: Միջոցառման անվանումը` | B48: Զարգացման ֆրանսիական գործակալության աջակցությամբ իրականացվող ոռոգման ոլորտի ֆինանսական կայունության և ոռոգման կառավարման կարողությունների բարելավման դրամաշնորհային ծրագրի խորհրդատվություն և կառավարում
A49: Նկարագրությունը` | B49: Զարգացման ֆրանսիական գործակալության աջակցությամբ իրականացվող ոռոգման ոլորտի ֆինանսական կայունության և ոռոգման կառավարման կարողությունների բարելավման ծրագրի համակարգում և ղեկավարում
A50: Միջոցառման տեսակը` | B50: Ծառայությունների մատուցում
A51: Ծառայությունը մատուցող կազմակերպության անվանումը | B51: Մասնագիտացված միավոր
A52: Արդյունքի չափորոշիչներ
A53: Միջոցառման վրա կատարվող ծախսը (հազար դրամ) | C53: ='1'!D36 -> -26094.5
A56: Ծրագրի դասիչը` | B56: 1004 | C56: Ցուցանիշների փոփոխությունը ( նվազեցումները` նշված են փակագծերում)
A57: Միջոցառման դասիչը` | B57: 12002 | C57: Տարի
A58: Միջոցառման անվանումը` | B58: Գերմանիայի զարգացման բանկի աջակցությամբ իրականացվող Ախուրյան գետի ջրային ռեսուրսների ինտեգրված կառավարման փուլ 1 ծրագրով Ջրաձոր գյուղի վերաբնակեցման համար ենթակառուցվածքների և բնակելի տների կառուցում
A59: Նկարագրությունը` | B59: Գերմանիայի զարգացման բանկի աջակցությամբ իրականացվող Ախուրյան գետի ջրային ռեսուրսների ինտեգրված կառավարման փուլ 1 ծրագիր
A60: Միջոցառման տեսակը` | B60: Տրանսֆերտների տրամադրում
A61: Միջոցառումն իրականացնողի անվանումը | B61: Մասնագիտացված միավոր
A62: Արդյունքի չափորոշիչներ
A63: Միջոցառման վրա կատարվող ծախսը (հազար դրամ) | C63: ='2'!G82 -> -120836
A66: Ծրագրի դասիչը | B66: Ծրագրի անվանումը
A67: 1157 | B67: Քաղաքային զարգացում
A69: Ծրագրի միջոցառումները
A70: Ծրագրի դասիչը` | B70: 1157 | C70: Ցուցանիշների փոփոխությունը ( նվազեցումները` նշված են փակագծերում)
A71: Միջոցառման դասիչը` | B71: 12016 | C71: Տարի
A72: Միջոցառման անվանումը` | B72: Վերակառուցման և զարգացման եվրոպական բանկի աջակցությամբ իրականացվող Գյումրու քաղաքային ճանապարհների տեխնիկական համագործակցության դրամաշնորհային ծրագիր
A73: Նկարագրությունը` | B73: Գյումրու ճանապարհների վերակառուցմանը և փողոցային լուսավորության արդիականացմանը խորհրդատվական աջակցություն
A74: Միջոցառման տեսակը` | B74: Տրանսֆերտների տրամադրում
A75: Շահառուների ընտրության չափանիշները | B75: ՀՀ բնակչություն
A76: Արդյունքի չափորոշիչներ
A77: Միջոցառման վրա կատարվող ծախսը (հազար դրամ) | C77: ='2'!G108 -> -18009.5
A79: Ծրագրի դասիչը | B79: Ծրագրի անվանումը
A80: 1212 | B80: Տարածքային զարգացում
A82: Ծրագրի միջոցառումները
A83: Ծրագրի դասիչը` | B83: 1212 | C83: Ցուցանիշների փոփոխությունը (ավելացումները նշված են դրական նշանով)
A84: Միջոցառման դասիչը` | B84: 12025 | C84: Տարի
A85: Միջոցառման անվանումը` | B85: Մարզերում առաջնահերթ լուծում պահանջող հիմնախնդիրների լուծում
A86: Նկարագրությունը` | B86: Մարզերում առաջնահերթ լուծում պահանջող ծրագրերի իրականացում, որի արդյունքում լուծում կտրվի բնակչության և համայնքների սոցիալական նշանակություն ունեցող հիմնախնդիրներին:
A87: Միջոցառման տեսակը` | B87: Տրանսֆերտների տրամադրում
A88: Շահառուների ընտրության չափանիշները` | B88: Համայնքներ
A89: Արդյունքի չափորոշիչներ
A90: Հակահեղեղային միջոցառումների քանակ | C90: ='6'!C112+'6'!C93 -> 2
A91: Միջոցառման վրա կատարվող ծախսը (հազար դրամ) | C91: ='2'!G23 -> 220000
C93: Աղյուսակ 9.48
A94: ՀՀ կառավարություն
A95: ՄԱՍ 2. ՊԵՏԱԿԱՆ ՄԱՐՄՆԻ ԳԾՈՎ ԱՐԴՅՈՒՆՔԱՅԻՆ (ԿԱՏԱՐՈՂԱԿԱՆ) ՑՈՒՑԱՆԻՇՆԵՐԸ
A97: Ծրագրի դասիչը | B97: Ծրագրի անվանումը
A98: 1139 | B98: ՀՀ կառավարության պահուստային ֆոնդ
A100: Ծրագրի միջոցառումները
A101: Ծրագրի դասիչը` | B101: 1139 | C101: Ցուցանիշների փոփոխությունը (ավելացումները նշված են դրական նշանով)
A102: Միջոցառման դասիչը` | B102: 11001 | C102: Տարի
A103: Միջոցառման անվանումը` | B103: ՀՀ կառավարության պահուստային ֆոնդ
A104: Նկարագրությունը` | B104: ՀՀ պետական բյուջեում նախատեսված ելքերի լրացուցիչ ֆինանսավորման, պետական բյուջեում չկանխատեսված ելքերի, ինչպես նաև բյուջետային երաշխիքների ապահովման ելքերի ֆինանսավորման ապահովում
A105: Միջոցառման տեսակը` | B105: Ծառայությունների մատուցում
A106: Միջոցառումն իրականացնողի անվանումը | B106: ՀՀ կառավարություն
A107: Արդյունքի չափորոշիչներ
A108: Միջոցառման վրա կատարվող ծախսը (հազար դրամ) | C108: ='1'!D82 -> 221304.2
A111: Ծրագրի դասիչը` | B111: 1139 | C111: Ցուցանիշների փոփոխությունը (նվազեցումները նշված են փակագծերում)
A112: Միջոցառման դասիչը` | B112: 11001 | C112: Տարի
A113: Միջոցառման անվանումը` | B113: ՀՀ կառավարության պահուստային ֆոնդ
A114: Նկարագրությունը` | B114: ՀՀ պետական բյուջեում նախատեսված ելքերի լրացուցիչ ֆինանսավորման, պետական բյուջեում չկանխատեսված ելքերի, ինչպես նաև բյուջետային երաշխիքների ապահովման ելքերի ֆինանսավորման ապահովում
A115: Միջոցառման տեսակը` | B115: Ծառայությունների մատուցում
A116: Միջոցառումն իրականացնողի անվանումը | B116: ՀՀ կառավարություն
A117: Արդյունքի չափորոշիչներ
A118: Միջոցառման վրա կատարվող ծախսը (հազար դրամ) | C118: ='1'!D88 -> -220000
A122: ՀԱՅԱՍՏԱՆԻ ՀԱՆՐԱՊԵՏՈՒԹՅԱՆ
A123: ՎԱՐՉԱՊԵՏԻ ԱՇԽԱՏԱԿԱԶՄԻ
A124: ՂԵԿԱՎԱՐ ՝ Ա. ՀԱՐՈՒԹՅՈՒՆՅԱՆ

Sheet 6
C1: Հավելված N 6
C2: ՀՀ կառավարության 2024 թվականի
C3: N ------------ -Ն որոշման
A5: ՀԱՅԱՍՏԱՆԻ ՀԱՆՐԱՊԵՏՈՒԹՅԱՆ ԿԱՌԱՎԱՐՈՒԹՅԱՆ 2023 ԹՎԱԿԱՆԻ ԴԵԿՏԵՄԲԵՐԻ 28-Ի N 2323-Ն ՈՐՈՇՄԱՆ N 9.1 ՀԱՎԵԼՎԱԾԻ NN 9.1.7, 9.1.25, 9.1.52,9.1.57 ԵՎ 9.1.58 ԱՂՅՈՒՍԱԿՆԵՐՈՒՄ ԿԱՏԱՐՎՈՂ ՓՈՓՈԽՈՒԹՅՈՒՆՆԵՐԸ ԵՎ ԼՐԱՑՈՒՄՆԵՐԸ
C6: Աղյուսակ 9.1.7
A7: ՀՀ տարածքային կառավարման և ենթակառուցվածքների նախարարություն
A8: ՄԱՍ 1. ՊԵՏԱԿԱՆ ՄԱՐՄՆԻ ԳԾՈՎ ԱՐԴՅՈՒՆՔԱՅԻՆ (ԿԱՏԱՐՈՂԱԿԱՆ) ՑՈՒՑԱՆԻՇՆԵՐԸ
A10: Ծրագրի դասիչը | B10: Ծրագրի անվանումը
A11: 1157 | B11: Քաղաքային զարգացում
A13: Ծրագրի միջոցառումները
A14: Ծրագրի դասիչը` | B14: 1157 | C14: Ցուցանիշների փոփոխությունը (նվազեցումները նշված են փակագծերում)
A15: Միջոցառման դասիչը` | B15: 12016 | C15: Տարի
A16: Միջոցառման անվանումը` | B16: Վերակառուցման և զարգացման եվրոպական բանկի աջակցությամբ իրականացվող Գյումրու քաղաքային ճանապարհների տեխնիկական համագործակցության դրամաշնորհային ծրագիր
A17: Նկարագրությունը` | B17: Գյումրու ճանապարհների վերակառուցմանը և փողոցային լուսավորության արդիականացմանը խորհրդատվական աջակցություն
A18: Միջոցառման տեսակը` | B18: Տրանսֆերտների տրամադրում
A19: Շահառուների ընտրության չափանիշները | B19: ՀՀ բնակչություն
A20: Արդյունքի չափորոշիչներ
A21: Միջոցառման վրա կատարվող ծախսը (հազար դրամ) | C21: ='2'!G108 -> -18009.5
C23: Աղյուսակ 9.1.25
A24: ՀՀ տարածքային կառավարման և ենթակառուցվածքների նախարարության ջրային կոմիտե
A25: ՄԱՍ 1. ՊԵՏԱԿԱՆ ՄԱՐՄՆԻ ԳԾՈՎ ԱՐԴՅՈՒՆՔԱՅԻՆ (ԿԱՏԱՐՈՂԱԿԱՆ) ՑՈՒՑԱՆԻՇՆԵՐԸ
A27: Ծրագրի դասիչը | B27: Ծրագրի անվանումը
A28: 1004 | B28: Ոռոգման համակարգի առողջացում
A30: Ծրագրի միջոցառումները
A31: Ծրագրի դասիչը` | B31: 1004 | C31: Ցուցանիշների փոփոխությունը (նվազեցումները նշված են փակագծերում)
A32: Միջոցառման դասիչը` | B32: 11005 | C32: Տարի
A33: Միջոցառման անվանումը` | B33: Եվրասիական զարգացման բանկի աջակցությամբ իրականացվող ոռոգման համակարգերի զարգացման ծրագրի խորհրդատվություն և կառավարում
A34: Նկարագրությունը` | B34: Եվրասիական զարգացման բանկի աջակցությամբ իրականացվող ոռոգման համակարգերի զարգացման ծրագրի համակարգում և ղեկավարում
A35: Միջոցառման տեսակը` | B35: Ծառայությունների մատուցում
A36: Ծառայությունը մատուցող կազմակերպության անվանումը | B36: Մասնագիտատացված միավոր
A37: Արդյունքի չափորոշիչներ
A38: Միջոցառման վրա կատարվող ծախսը (հազար դրամ) | C38: ='2'!G56 -> -17000
A40: Ծրագրի դասիչը` | B40: 1004 | C40: Ցուցանիշների փոփոխությունը (նվազեցումները նշված են փակագծերում)
A41: Միջոցառման դասիչը` | B41: 11007 | C41: Տարի
A42: Միջոցառման անվանումը` | B42: Գերմանիայի զարգացման վարկերի բանկի աջակցությամբ իրականացվող Ախուրյան գետի ջրային ռեսուրսների ինտեգրացված կառավարում ծրագրի խորհրդատվություն և կառավարում
A43: Նկարագրությունը` | B43: Գերմանիայի զարգացման վարկերի բանկի աջակցությամբ իրականացվող Ախուրյան գետի ջրային ռեսուրսների ինտեգրացված կառավարում ծրագրի համակարգում և ղեկավարում
A44: Միջոցառման տեսակը` | B44: Ծառայությունների մատուցում
A45: Ծառայությունը մատուցող կազմակերպության անվանումը | B45: Մասնագիտատացված միավոր
A46: Արդյունքի չափորոշիչներ
A47: Միջոցառման վրա կատարվող ծախսը (հազար դրամ) | C47: ='2'!G64 -> -20623
A49: Ծրագրի դասիչը` | B49: 1004 | C49: Ցուցանիշների փոփոխությունը (նվազեցումները նշված են փակագծերում)
A50: Միջոցառման դասիչը` | B50: 11010 | C50: Տարի
A51: Միջոցառման անվանումը` | B51: Գերմանիայի զարգացման վարկերի բանկի աջակցությամբ իրականացվող Ախուրյան գետի ջրային ռեսուրսների ինտեգրացված կառավարում փուլ 1 ծրագրով Ջրաձոր գյուղի վերաբնակեցման գործողությունների խորհրդատվություն և կառավարում
A52: Նկարագրությունը` | B52: Գերմանիայի զարգացման վարկերի բանկի աջակցությամբ իրականացվող Ախուրյան գետի ջրային ռեսուրսների ինտեգրացված կառավարում փուլ 1 ծրագրով Ջրաձոր գյուղի վերաբնակեցման գործողությունների համակարգում և ղեկավարում
A53: Միջոցառման տեսակը` | B53: Ծառայությունների մատուցում
A54: Ծառայությունը մատուցող կազմակերպության անվանումը | B54: Մասնագիտացված միավոր
A55: Արդյունքի չափորոշիչներ
A56: Միջոցառման վրա կատարվող ծախսը (հազար դրամ) | C56: ='2'!G73 -> -18741.2
A59: Ծրագրի դասիչը` | B59: 1004 | C59: Ցուցանիշների փոփոխությունը (նվազեցումները նշված են փակագծերում)
A60: Միջոցառման դասիչը` | B60: 11011 | C60: Տարի
A61: Միջոցառման անվանումը` | B61: Զարգացման ֆրանսիական գործակալության աջակցությամբ իրականացվող ոռոգման ոլորտի ֆինանսական կայունության և ոռոգման կառավարման կարողությունների բարելավման դրամաշնորհային ծրագրի խորհրդատվություն և կառավարում
A62: Նկարագրությունը` | B62: Զարգացման ֆրանսիական գործակալության աջակցությամբ իրականացվող ոռոգման ոլորտի ֆինանսական կայունության և ոռոգման կառավարման կարողությունն»րի բար»լավման ծրագրի համակարգում և ղ»կավարում
A63: Միջոցառման տեսակը` | B63: Ծառայությունների մատուցում
A64: Ծառայությունը մատուցող կազմակերպության անվանումը | B64: Մասնագիտացված միավոր
A65: Արդյունքի չափորոշիչներ
A66: Միջոցառման վրա կատարվող ծախսը (հազար դրամ) | C66: ='2'!G81 -> -26094.5
A69: Ծրագրի դասիչը` | B69: 1004 | C69: Ցուցանիշների փոփոխությունը (նվազեցումները նշված են փակագծերում)
A70: Միջոցառման դասիչը` | B70: 12002 | C70: Տարի
A71: Միջոցառման անվանումը` | B71: Գերմանիայի զարգացման բանկի աջակցությամբ իրականացվող Ախուրյան գետի ջրային ռեսուրսների ինտեգրված կառավարման փուլ 1 ծրագրով Ջրաձոր գյուղի վերաբնակեցման համար ենթակառուցվածքների և բնակելի տների կառուցում
A72: Նկարագրությունը` | B72: Գերմանիայի զարգացման բանկի աջակցությամբ իրականացվող Ախուրյան գետի ջրային ռեսուրսների ինտեգրված կառավարման փուլ 1 ծրագիր
A73: Միջոցառման տեսակը` | B73: Տրանսֆերտների տրամադրում
A74: Միջոցառումն իրականացնողի անվանումը | B74: Մասնագիտացված միավոր
A75: Արդյունքի չափորոշիչներ
A76: Միջոցառման վրա կատարվող ծախսը (հազար դրամ) | C76: ='2'!G82 -> -120836
C79: Աղյուսակ 9.1.52
A80: ՀՀ Լոռու մարզպետի աշխատակազմ
A81: ՄԱՍ 1. ՊԵՏԱԿԱՆ ՄԱՐՄՆԻ ԳԾՈՎ ԱՐԴՅՈՒՆՔԱՅԻՆ (ԿԱՏԱՐՈՂԱԿԱՆ) ՑՈՒՑԱՆԻՇՆԵՐԸ
A82: Ծրագրի դասիչը | B82: Ծրագրի անվանումը
A83: 1212 | B83: Տարածքային զարգացում
A85: Ծրագրի միջոցառումները
A86: Ծրագրի դասիչը` | B86: 1212 | C86: Ցուցանիշների փոփոխությունը (ավելացումները նշված են դրական նշանով)
A87: Միջոցառման դասիչը` | B87: 12025 | C87: Տարի
A88: Միջոցառման անվանումը` | B88: Մարզերում առաջնահերթ լուծում պահանջող հիմնախնդիրների լուծում
A89: Նկարագրությունը` | B89: Մարզերում առաջնահերթ լուծում պահանջող ծրագրերի իրականացում, որի արդյունքում լուծում կտրվի բնակչության և համայնքների սոցիալական նշանակություն ունեցող հիմնախնդիրներին
A90: Միջոցառման տեսակը` | B90: Տրանսֆերտների տրամադրում
A91: Միջոցառումն իրականացնողի անվանումը | B91: Համայնքներ
A92: Արդյունքի չափորոշիչներ
A93: Հակահեղեղային միջոցառումների քանակ | C93: 1
A94: Միջոցառման վրա կատարվող ծախսը (հազար դրամ) | C94: ='2'!G32 -> 150000
C96: Աղյուսակ 9.1.57
A97: ՀՀ Տավուշի մարզպետի աշխատակազմ
A98: ՄԱՍ 1. ՊԵՏԱԿԱՆ ՄԱՐՄՆԻ ԳԾՈՎ ԱՐԴՅՈՒՆՔԱՅԻՆ (ԿԱՏԱՐՈՂԱԿԱՆ) ՑՈՒՑԱՆԻՇՆԵՐԸ
A101: Ծրագրի դասիչը | B101: Ծրագրի անվանումը
A102: 1212 | B102: Տարածքային զարգացում
A104: Ծրագրի միջոցառումները
A105: Ծրագրի դասիչը` | B105: 1212 | C105: Ցուցանիշների փոփոխությունը (ավելացումները նշված են դրական նշանով)
A106: Միջոցառման դասիչը` | B106: 12025 | C106: Տարի
A107: Միջոցառման անվանումը` | B107: Մարզերում առաջնահերթ լուծում պահանջող հիմնախնդիրների լուծում
A108: Նկարագրությունը` | B108: Մարզերում առաջնահերթ լուծում պահանջող ծրագրերի իրականացում, որի արդյունքում լուծում կտրվի բնակչության և համայնքների սոցիալական նշանակություն ունեցող հիմնախնդիրներին
A109: Միջոցառման տեսակը` | B109: Տրանսֆերտների տրամադրում
A110: Միջոցառումն իրականացնողի անվանումը | B110: Համայնքներ
A111: Արդյունքի չափորոշիչներ
A112: հակահեղեղային միջոցառումների քանակ | C112: 1
A113: Միջոցառման վրա կատարվող ծախսը (հազար դրամ) | C113: ='2'!G25 -> 70000
C115: Աղյուսակ 9.1․58
A116: ՀՀ կառավարություն
A117: ՄԱՍ 1. ՊԵՏԱԿԱՆ ՄԱՐՄՆԻ ԳԾՈՎ ԱՐԴՅՈՒՆՔԱՅԻՆ (ԿԱՏԱՐՈՂԱԿԱՆ) ՑՈՒՑԱՆԻՇՆԵՐԸ
A119: Ծրագրի դասիչը | B119: Ծրագրի անվանումը
A120: 1139 | B120: ՀՀ կառավարության պահուստային ֆոնդ
A122: Ծրագրի միջոցառումները
...

Sheet 7
G1: Հավելված N 7
G2: ՀՀ կառավարության 2024 թվականի
G3: N ------------ -Ն որոշման
A4: ՀԱՅԱՍՏԱՆԻ ՀԱՆՐԱՊԵՏՈՒԹՅԱՆ ԿԱՌԱՎԱՐՈՒԹՅԱՆ 2023 ԹՎԱԿԱՆԻ ԴԵԿՏԵՄԲԵՐԻ 28-Ի N 2323-Ն ՈՐՈՇՄԱՆ N 10 ՀԱՎԵԼՎԱԾՈՒՄ ԿԱՏԱՐՎՈՂ ԼՐԱՑՈՒՄՆԵՐԸ
A5: Կոդը | B5: Անվանումը | C5: Գնման ձևը | D5: Չափի միավորը | E5: Միավորի գինը | F5: Քանակը | G5: Ցուցանիշների փոփոխությունը (ավելացումները նշված են դրական նշանով, իսկ նվազեցումները` փակագծերում)
G6: գումարը (հազար դրամ)
B7: ԸՆԴԱՄԵՆԸ | G7: =G8+G13 -> 220000
B8: ՀՀ Տավուշի մարզպետի աշխատակազմը | G8: =G9 -> 70000
A9: Բաժին N 01 | B9: Խումբ N 08 | C9: Դաս N 01 | D9: Կառավարության տարբեր մակարդակների միջև իրականացվող ընդհանուր բնույթի տրանսֆերտներ | G9: =G10 -> 70000
A10: 1212-12025 | B10: Մարզերում առաջնահերթ լուծում պահանջող հիմնախնդիրների լուծում | G10: =G11 -> 70000
B11: ՄԱՍ II. ԱՇԽԱՏԱՆՔՆԵՐ | G11: =G12 -> 70000
A12: 45241131 | B12: գետերի հոսանքների կարգավորման և ջրհեղեղների վերահսկման աշխատանքներ | C12: ՀՄԱ | D12: դրամ | E12: =G12*1000 -> 70000000 | F12: 1 | G12: 70000
B13: ՀՀ Լոռու մարզպետի աշխատակազմը | G13: =G14 -> 150000
A14: Բաժին N 01 | B14: Խումբ N 08 | C14: Դաս N 01 | D14: Կառավարության տարբեր մակարդակների միջեւ իրականացվող ընդհանուր բնույթի տրանսֆերտներ | G14: =G15 -> 150000
A15: 1212-12025 | B15: Մարզերում առաջնահերթ լուծում պահանջող հիմնախնդիրների լուծում | G15: =G17 -> 150000
B16: ՄԱՍ II. ԱՇԽԱՏԱՆՔՆԵՐ | G16: =G17 -> 150000
A17: 45241131 | B17: գետերի հոսանքների կարգավորման և ջրհեղեղների վերահսկման աշխատանքներ | C17: ՀՄԱ | D17: դրամ | E17: =G17*1000 -> 150000000 | F17: 1 | G17: 150000
B21: ՀԱՅԱՍՏԱՆԻ ՀԱՆՐԱՊԵՏՈՒԹՅԱՆ
B22: ՎԱՐՉԱՊԵՏԻ ԱՇԽԱՏԱԿԱԶՄԻ
B23: ՂԵԿԱՎԱՐ ՝ Ա. ՀԱՐՈՒԹՅՈՒՆՅԱՆ

Sheet 8
G1: Հավելված 8
A2: ՀՀ կառավարության 2024 թվականի
A3: -ի N -Ն որոշման
A4: ՀԱՅԱՍՏԱՆԻ ՀԱՆՐԱՊԵՏՈՒԹՅԱՆ ԿԱՌԱՎԱՐՈՒԹՅԱՆ ՊԱՀՈՒՍՏԱՅԻՆ ՖՈՆԴԻՑ ԿԱՏԱՐՎՈՂ ՀԱՏԿԱՑՈՒՄԸ
A6: Գործառական դասիչը | D6: Ծրագրային դասիչը | F6: Բյուջետային ծախսերի գործառական դասակարգման բաժինների, խմբերի և դասերի, բյուջետային ծրագրերի միջոցառումների, բյուջետային հատկացումների գլխավոր կարգադրիչների անվանումները | G6: Ցուցանիշների փոփոխությունը (ավելացումները նշված են դրական նշանով, իսկ նվազեցումները` փակագծերում)
G7: Տարի
A8: Բաժին | B8: Խումբ | C8: Դաս | D8: Ծրագիր | E8: Միջոցառում
F9: ԸՆԴԱՄԵՆԸ ԾԱԽՍԵՐ | G9: =+G11+G30 -> 0
F10: այդ թվում`
F11: ՀՀ կառավարություն | G11: =G12 -> -220000
A12: 11 | F12: ՀԻՄՆԱԿԱՆ ԲԱԺԻՆՆԵՐԻՆ ՉԴԱՍՎՈՂ ՊԱՀՈՒՍՏԱՅԻՆ ՖՈՆԴԵՐ | G12: =G14 -> -220000
F13: այդ թվում`
B14: 01 | F14: ՀՀ կառավարության և համայնքների պահուստային ֆոնդ | G14: =G16 -> -220000
F15: այդ թվում`
C16: 01 | F16: ՀՀ կառավարության պահուստային ֆոնդ | G16: =G18 -> -220000
F17: այդ թվում`
F18: ՀՀ կառավարություն | G18: =G20 -> -220000
F19: այդ թվում`
D20: 1139 | F20: ՀՀ կառավարության պահուստային ֆոնդ | G20: =G22 -> -220000
F21: այդ թվում`
E22: 11001 | F22: ՀՀ կառավարության պահուստային ֆոնդ | G22: =G24 -> -220000
F23: այդ թվում` ըստ կատարողների
F24: ՀՀ կառավարություն | G24: =G26 -> -220000
F25: այդ թվում` բյուջետային ծախսերի տնտեսագիտական դասակարգման հոդվածներ
F26: ԸՆԴԱՄԵՆԸ ԾԱԽՍԵՐ | G26: =G27 -> -220000
F27: ԸՆԹԱՑԻԿ ԾԱԽՍԵՐ | G27: =G28 -> -220000
F28: ԱՅԼ ԾԱԽՍԵՐ | G28: =G29 -> -220000
F29: Պահուստային միջոցներ | G29: ='2'!G128 -> -220000
F30: ՀՀ տարածքային կառավարման և ենթակառուցվածքների նախարարություն | G30: =G31 -> 220000
A31: 01 | F31: ԸՆԴՀԱՆՈՒՐ ԲՆՈՒՅԹԻ ՀԱՆՐԱՅԻՆ ԾԱՌԱՅՈՒԹՅՈՒՆՆԵՐ | G31: =G33 -> 220000
F32: այդ թվում`
B33: 08 | F33: Կառավարության տարբեր մակարդակների միջև իրականացվող ընդհանուր բնույթի տրանսֆերտներ | G33: =G35 -> 220000
F34: այդ թվում`
C35: 01 | F35: Կառավարության տարբեր մակարդակների միջև իրականացվող ընդհանուր բնույթի տրանսֆերտներ | G35: =G37 -> 220000
F36: այդ թվում`
F37: ՀՀ տարածքային կառավարման և ենթակառուցվածքների նախարարություն | G37: =+G39 -> 220000
F38: այդ թվում`
D39: 1212 | F39: Տարածքային զարգացում | G39: =G41 -> 220000
F40: այդ թվում
E41: 12025 | F41: Մարզերում առաջնահերթ լուծում պահանջող հիմնախնդիրների լուծում | G41: =G43+G50 -> 220000
F42: այդ թվում` ըստ կատարողների
F43: ՀՀ Տավուշի մարզպետի աշխատակազմ | G43: =+G45 -> 70000
F44: այդ թվում` բյուջետային ծախսերի տնտեսագիտական դասակարգման հոդվածներ
F45: ԸՆԴԱՄԵՆԸ ԾԱԽՍԵՐ | G45: =+G46 -> 70000
F46: ԸՆԹԱՑԻԿ ԾԱԽՍԵՐ | G46: =G47 -> 70000
F47: ԾԱՌԱՅՈՒԹՅՈՒՆՆԵՐԻ ԵՎ ԱՊՐԱՆՔՆԵՐԻ ՁԵՌՔԲԵՐՈՒՄ | G47: =G48 -> 70000
F48: Ընթացիկ նորոգում և պահպանում (ծառայություններ և նյութեր) | G48: =G49 -> 70000
F49: - Շենքերի և կառույցների ընթացիկ նորոգում և պահպանում | G49: ='2'!G31 -> 70000
F50: ՀՀ Լոռու մարզպետի աշխատակազմ | G50: =+G52 -> 150000
F51: այդ թվում` բյուջետային ծախսերի տնտեսագիտական դասակարգման հոդվածներ
F52: ԸՆԴԱՄԵՆԸ ԾԱԽՍԵՐ | G52: =+G53 -> 150000
F53: ԸՆԹԱՑԻԿ ԾԱԽՍԵՐ | G53: =G54 -> 150000
F54: ԾԱՌԱՅՈՒԹՅՈՒՆՆԵՐԻ ԵՎ ԱՊՐԱՆՔՆԵՐԻ ՁԵՌՔԲԵՐՈՒՄ | G54: =+G55 -> 150000
F55: Ընթացիկ նորոգում և պահպանում (ծառայություններ և նյութեր) | G55: =+G56 -> 150000
F56: - Շենքերի և կառույցների ընթացիկ նորոգում և պահպանում | G56: ='2'!G38 -> 150000
D60: ՀԱՅԱՍՏԱՆԻ ՀԱՆՐԱՊԵՏՈՒԹՅԱՆ ՎԱՐՉԱՊԵՏԻ ԱՇԽԱՏԱԿԱԶՄԻ ՂԵԿԱՎԱՐ Ա. ՀԱՐՈՒԹՅՈՒՆՅԱՆ
