Workbook
Name a: #REF!
Name a: #REF!
Name a: #REF!
Name a: #REF!
Name a: #REF!
Name a: #REF!
Name a: #REF!
Name a: #REF!
Name AgencyCode: #REF!
Name AgencyCode: #REF!
Name AgencyCode: #REF!
Name AgencyCode: #REF!
Name AgencyCode: #REF!
Name AgencyCode: #REF!
Name AgencyCode: #REF!
Name AgencyCode: #REF!
Name AgencyCode: #REF!
Name AgencyCode: #REF!
Name AgencyCode: #REF!
Name AgencyName: #REF!
Name AgencyName: #REF!
Name AgencyName: #REF!
Name AgencyName: #REF!
Name AgencyName: #REF!
Name AgencyName: #REF!
Name AgencyName: #REF!
Name AgencyName: #REF!
Name BOP: #REF!
Name BOPfoot: #REF!
Name davit: #REF!
Name davit: #REF!
Name davit: #REF!
Name davit: #REF!
Name davit: #REF!
Name davit: #REF!
Name davit: #REF!
Name DebtCG: #REF!
Name DebtGG: #REF!
Name Functional1: #REF!
Name Functional1: #REF!
Name Functional1: #REF!
Name Functional1: #REF!
Name Functional1: #REF!
Name Functional1: #REF!
Name Functional1: #REF!
Name Functional1: #REF!
Name ggg: #REF!
Name ggg: #REF!
Name ggg: #REF!
Name ggg: #REF!
Name ggg: #REF!
Name ggg: #REF!
Name ggg: #REF!
Name MonExo: #REF!
Name MonGrow: #REF!
Name PANature: #REF!
Name PANature: #REF!
Name PANature: #REF!
Name PANature: #REF!
Name PANature: #REF!

Sheet Հավելված N 1 
C1: Հավելված N 1
C2: ՀՀ կառավարության 2024 թվականի
C3: ______________ ի ___Ն որոշման
A5: «ՀԱՅԱՍՏԱՆԻ ՀԱՆՐԱՊԵՏՈՒԹՅԱՆ 2024 ԹՎԱԿԱՆԻ ՊԵՏԱԿԱՆ ԲՅՈՒՋԵԻ ՄԱՍԻՆ» ՀԱՅԱՍՏԱՆԻ ՀԱՆՐԱՊԵՏՈՒԹՅԱՆ ՕՐԵՆՔԻ 2-ՐԴ ՀՈԴՎԱԾԻ ԱՂՅՈՒՍԱԿԻ ՑՈՒՑԱՆԻՇՆԵՐՈՒՄ ԿԱՏԱՐՎՈՂ ՓՈՓՈԽՈՒԹՅՈՒՆՆԵՐԸ
D6: հազ. դրամներով
D7: Ցուցանիշների փոփոխությունը (ավելացումները նշված են դրական նշանով)
A8: Եկամուտների գծով | D8: =+'Հավելված N 2 '!D11 -> 16895
A9: Ծախսերի գծով | D9: =+'Հավելված N 3'!D12 -> 16895
A10: Դեֆիցիտը (պակասուրդը) | D10: =+D9-D8 -> 0

Sheet Հավելված N 2 
C1: Հավելված N 2
C2: ՀՀ կառավարության 2024 թվականի
C3: ______________ ի ___Ն որոշման
A6: «ՀԱՅԱՍՏԱՆԻ ՀԱՆՐԱՊԵՏՈՒԹՅԱՆ 2024 ԹՎԱԿԱՆԻ ՊԵՏԱԿԱՆ ԲՅՈՒՋԵԻ ՄԱՍԻՆ» ՀԱՅԱՍՏԱՆԻ ՀԱՆՐԱՊԵՏՈՒԹՅԱՆ ՕՐԵՆՔԻ 6-ՐԴ ՀՈԴՎԱԾԻ ԱՂՅՈՒՍԱԿՈՒՄ ԵՎ ՀԱՅԱՍՏԱՆԻ ՀԱՆՐԱՊԵՏՈՒԹՅԱՆ ԿԱՌԱՎԱՐՈՒԹՅԱՆ 2023 ԹՎԱԿԱՆԻ ԴԵԿՏԵՄԲԵՐԻ 28-Ի N 2323-Ն ՈՐՈՇՄԱՆ N 2 ՀԱՎԵԼՎԱԾԻ ԱՂՅՈՒՍԱԿՈՒՄ ԿԱՏԱՐՎՈՂ ՓՈՓՈԽՈՒԹՅՈՒՆՆԵՐԸ
D8: հազար դրամներով
A9: Պետական բյուջեի դեֆիցիտի ֆինանսավորման աղբյուրներն ու դրանց տարրերի անվանումները | D9: Ցուցանիշների փոփոխությունը (ավելացումները նշված են դրական նշանով)
D10: Տարի
A11: ՊԵՏԱԿԱՆ ԲՅՈՒՋԵԻ ԵԿԱՄՈՒՏՆԵՐ | D11: =+D12 -> 16895
A12: Ընդամենը | D12: =+D14 -> 16895
A13: այդ թվում՝
A14: Այլ եկամուտներ | D14: =+'Հավելված N 8'!E11 -> 16895

Sheet Հավելված N 3
C1: Հավելված N 3
C2: ՀՀ կառավարության 2024 թվականի
C3: ______________ ի ___Ն որոշման
A6: «ՀԱՅԱUՏԱՆԻ ՀԱՆՐԱՊԵՏՈՒԹՅԱՆ 2024 ԹՎԱԿԱՆԻ ՊԵՏԱԿԱՆ ԲՅՈՒՋԵԻ ՄԱUԻՆ» ՀԱՅԱUՏԱՆԻ ՀԱՆՐԱՊԵՏՈՒԹՅԱՆ OՐԵՆՔԻ N 1 ՀԱՎԵԼՎԱԾԻ N 2 ԱՂՅՈՒՍԱԿՈՒՄ ԿԱՏԱՐՎՈՂ ՎԵՐԱԲԱՇԽՈՒՄԸ ԵՎ ՀԱՅԱՍՏԱՆԻ ՀԱՆՐԱՊԵՏՈՒԹՅԱՆ ԿԱՌԱՎԱՐՈՒԹՅԱՆ 2023 ԹՎԱԿԱՆԻ ԴԵԿՏԵՄԲԵՐԻ 28-Ի N 2323-Ն ՈՐՈՇՄԱՆ N 5 ՀԱՎԵԼՎԱԾԻ N 1 ԱՂՅՈՒՍԱԿՈՒՄ ԿԱՏԱՐՎՈՂ ԼՐԱՑՈՒՄՆԵՐԸ
D9: հազ. դրամներով
A10: Ծրագրային դասիչը | C10: Բյուջետային հատկացումների գլխավոր կարգադրիչների, ծրագրերի և միջոցառումների անվանումները | D10: Ցուցանիշների փոփոխությունը (ավելացումները նշված են դրական նշանով, իսկ նվազեցումները՝ փակագծերում)
A11: Ծրագիր | B11: Միջոցառում | D11: Տարի
A12: 1192 | C12: ԸՆԴԱՄԵՆԸ | D12: =+D14+D61 -> 16895
C13: այդ թվում
C14: ՀՀ ԿՐԹՈՒԹՅԱՆ, ԳԻՏՈՒԹՅԱՆ, ՄՇԱԿՈՒՅԹԻ ԵՎ ՍՊՈՐՏԻ ՆԱԽԱՐԱՐՈՒԹՅՈՒՆ | D14: =+D16+D35+D48 -> 16895
A15: 1045 | C15: Ծրագրի անվանումը`
C16: Նախնական (արհեստագործական) և միջին մասնագիտական կրթություն | D16: =+D23+D29 -> -990
C17: Ծրագրի նպատակը`
C18: Աշխատաշուկայի արդի պահանջներին համապատասխան նախնական մասնագիտական (արհեստագործական) և միջին մասնագիտական կրթության որակավորում ունեցող մասնագետների պատրաստում, կրթության մատչելիության ապահովում:
C19: Վերջնական արդյունքի նկարագրությունը`
C20: Նախնական (արհեստագործական) և միջին մասնագիտական կրթության գրավչության բարձրացում, մատչելի և մրցունակ նախնական (արհեստագործական) և միջին մասնագիտական կրթության ապահովում
C21: Ծրագրի միջոցառումներ
B22: 32001 | C22: Միջոցառման անվանումը`
C23: Նախնական մասնագիտական (արհեստագործական) և միջին մասնագիտական ուսումնական հաստատությունների շենքային պայմանների բարելավում | D23: =+'Հավելված N 4'!G43 -> 21889.4
C24: Միջոցառման նկարագրությունը`
C25: ՆՄՄԿՈՒ հաստատությունների շենքերի հիմնանորոգման և նախագծման (շինարարական աշխատանքներ, ջեռուցման համակարգի ստեղծում, ներքին հարդարում, տարածքի բարեկարգում) աշխատանքների իրականացում
C26: Միջոցառման տեսակը
C27: Այլ պետական կազմակերպությունների կողմից օգտագործվող ոչ ֆինանսական ակտիվների հետ գործառնություններ
B28: 32005 | C28: Միջոցառման անվանումը`
C29: Նախնական մասնագիտական (արհեստագործական) և միջին մասնագիտական ուսումնական հաստատությունների շենքերի կառուցում | D29: =+'Հավելված N 4'!G52 -> -22879.4
C30: Միջոցառման նկարագրությունը`
C31: ՆՄՄԿՈՒ հաստատությունների շենքերի (մասնաշենքերի) կառուցման և նախագծման աշխատանքների իրականացում
C32: Միջոցառման տեսակը
C33: Այլ պետական կազմակերպությունների կողմից օգտագործվող ոչ ֆինանսական ակտիվների հետ գործառնություններ
A34: 1148 | C34: Ծրագրի անվանումը`
C35: Արտադպրոցական դաստիարակության ծրագիր | D35: =+D42 -> 738
C36: Ծրագրի նպատակը`
C37: Նպաստել հանրակրթական ուսուցման համակարգում ընդգրկված երեխաների ֆիզիկական, հոգևոր և գեղագիտական զարգացմանը, բնապահպանական և կիրառական գիտելիքների ձեռքբերմանը
C38: Վերջնական արդյունքի նկարագրությունը`
C39: Ստեղծել պայմաններ սովորողների ազատ ժամանացի կազմակերպան միջոցով նրանց հետաքրքրությունների բացահայտման, ձևավորման և զարգացման համար
C40: Ծրագրի միջոցառումներ
B41: 32004 | C41: Միջոցառման անվանումը`
C42: Արտադպրոցական հաստատությունների գույքային և տեխնիկական ապահովվածության բարելավում | D42: =+'Հավելված N 4'!G26 -> 738
C43: Միջոցառման նկարագրությունը`
C44: Գույքային և տեխնիկական ապահովվածության բարելավման արդյունքում կիրառական գիտելիքների ձեռքբերման արդյունավետության բարձրացում
C45: Միջոցառման տեսակը
C46: Այլ պետական կազմակերպությունների կողմից օգտագործվող ոչ ֆինանսական ակտիվների հետ գործառնություններ
A47: 1183 | C47: Ծրագրի անվանումը`
C48: Ապահով դպրոց | D48: =+D55 -> 17147
C49: Ծրագրի նպատակը`
C50: Դպրոցներին սպառնացող աղետների ռիսկի կառավարման կարողությունների հզորացում, դպրոցի անձնակազմի և աշակերտների անվտանգության ապահովման մակարդակի բարձրացում՛ կիրառելով ներառական և երեխայակենտրոն մոտեցում
C51: Վերջնական արդյունքի նկարագրությունը`
C52: Դպրոցական միջավայրի բարելավում
C53: Ծրագրի միջոցառումներ
B54: 32001 | C54: Միջոցառման անվանումը`
C55: Կրթական օբյեկտների շենքային պայմանների բարելավում | D55: =+'Հավելված N 4'!G63 -> 17147
C56: Միջոցառման նկարագրությունը`
C57: Կրթական օբյեկտների շենքերի (մասնաշենքերի) հիմնանորոգում (համաշինարարական աշխատանքներ, ջեռուցման համակարգի իրականացում, ներքին հարդարում, տարածքի բարեկարգում) և նախագծում
C58: Միջոցառման տեսակը
C59: Այլ պետական կազմակերպությունների կողմից օգտագործվող ոչ ֆինանսական ակտիվների հետ գործառնություններ
C61: ՀՀ ԿԱՌԱՎԱՐՈՒԹՅՈՒՆ | D61: =+D63 -> 0
A62: 1139 | C62: Ծրագրի անվանումը`
C63: ՀՀ կառավարության պահուստային ֆոնդ | D63: =+D69+D75 -> 0
C64: Ծրագրի նպատակը`
C65: Պետական բյուջեում չկանխատեսված, ինչպես նաև բյուջետային երաշխիքների ապահովման ծախսերի ֆինանսավորման ապահովում
C66: Վերջնական արդյունքի նկարագրությունը`
C67: Պահուստային ֆոնդի կառավարման արդյունավետության և թափանցիկության ապահովում
B68: 11001 | C68: Միջոցառման անվանումը`
C69: ՀՀ կառավարության պահուստային ֆոնդ | D69: =+'Հավելված N 4'!G84 -> 738
C70: Միջոցառման նկարագրությունը`
C71: ՀՀ պետական բյուջեում նախատեսված ելքերի լրացուցիչ ֆինանսավորման՝ պետական բյուջեում չկանխատեսված ելքերի, ինչպես նաև բյուջետային երաշխիքների ապահովման ելքերի ֆինանսավորման ապահովում
C72: Միջոցառման տեսակը
C73: Ծառայությունների մատուցում
B74: 11001 | C74: Միջոցառման անվանումը`
C75: ՀՀ կառավարության պահուստային ֆոնդ | D75: =+'Հավելված N 4'!G92 -> -738
C76: Միջոցառման նկարագրությունը`
C77: ՀՀ պետական բյուջեում նախատեսված ելքերի լրացուցիչ ֆինանսավորման՝ պետական բյուջեում չկանխատեսված ելքերի, ինչպես նաև բյուջետային երաշխիքների ապահովման ելքերի ֆինանսավորման ապահովում
C78: Միջոցառման տեսակը
C79: Ծառայությունների մատուցում

Sheet Հավելված N 4
F1: Հավելված N 4
F2: ՀՀ կառավարության 2024 թվականի
F3: ______________ ի ___Ն որոշման
A7: ՀԱՅԱՍՏԱՆԻ ՀԱՆՐԱՊԵՏՈՒԹՅԱՆ ԿԱՌԱՎԱՐՈՒԹՅԱՆ 2023 ԹՎԱԿԱՆԻ ԴԵԿՏԵՄԲԵՐԻ 28-Ի N 2323-Ն ՈՐՈՇՄԱՆ N 3 ԵՎ N 4 ՀԱՎԵԼՎԱԾՆԵՐՈՒՄ ԿԱՏԱՐՎՈՂ ՓՈՓՈԽՈՒԹՅՈՒՆՆԵՐԸ ԵՎ ԼՐԱՑՈՒՄՆԵՐԸ
G10: հազ. դրամներով
A11: Գործառական դասիչը | D11: Ծրագրային դասիչը | F11: Բյուջետային հատկացումների գլխավոր կարգադրիչների, ծրագրերի, միջոցառումների և միջոցառումները կատարող պետական մարմինների անվանումները | G11: Ցուցանիշների փոփոխությունը (ավելացումները նշված են դրական նշանով, իսկ նվազեցումները՝ փակագծերում)
A12: Բաժին | B12: Խումբ | C12: Դաս | D12: Ծրագիր | E12: Միջոցառում | G12: Տարի
F13: ԸՆԴԱՄԵՆԸ | G13: =+G15+G73 -> 16895
F14: այդ թվում՝
F15: ՀՀ ԿՐԹՈՒԹՅԱՆ, ԳԻՏՈՒԹՅԱՆ, ՄՇԱԿՈՒՅԹԻ ԵՎ ՍՊՈՐՏԻ ՆԱԽԱՐԱՐՈՒԹՅՈՒՆ | G15: =+G16 -> 16895
A16: 09 | F16: ԿՐԹՈՒԹՅՈՒՆ | G16: =+G18+G35 -> 16895
F17: այդ թվում`
B18: 05 | F18: Ըստ մակարդակների չդասակարգվող կրթություն | G18: =+G20 -> 738
F19: այդ թվում`
C20: 01 | F20: Արտադպրոցական դաստիարակություն | G20: =+G22 -> 738
F21: այդ թվում`
F22: ՀՀ կրթության, գիտության, մշակույթի և սպորտի նախարարություն | G22: =+G24+G44 -> 738
F23: այդ թվում`
D24: 1148 | E24: Արտադպրոցական դաստիարակության ծրագիր | G24: =+G26 -> 738
F25: այդ թվում`
E26: 32004 | F26: Արտադպրոցական հաստատությունների գույքային և տեխնիկական ապահովվածության բարելավում | G26: =+G28 -> 738
F27: այդ թվում` ըստ կատարողների
F28: ՀՀ կրթության, գիտության, մշակույթի և սպորտի նախարարություն | G28: =+G30 -> 738
F29: այդ թվում՝ բյուջետային ծախսերի տնտեսագիտական դասակարգման հոդվածներ
F30: ԸՆԴԱՄԵՆԸ ԾԱԽՍԵՐ | G30: =G31 -> 738
F31: ԸՆԹԱՑԻԿ ԾԱԽՍԵՐ | G31: =+G32 -> 738
F32: ԴՐԱՄԱՇՆՈՐՀՆԵՐ | G32: =+G33 -> 738
F33: ԿԱՊԻՏԱԼ ԴՐԱՄԱՇՆՈՐՀՆԵՐ ՊԵՏԱԿԱՆ ՀԱՏՎԱԾԻ ԱՅԼ ՄԱԿԱՐԴԱԿՆԵՐԻՆ | G33: =+G34 -> 738
F34: - Կապիտալ դրամաշնորհներ պետական և համայնքային ոչ առևտրային կազմակերպություններին | G34: =+'Հավելված N 7'!G13 -> 738
B35: 06 | F35: Կրթությանը տրամադրվող օժանդակ ծառայություններ | G35: =+G37 -> 16157
F36: այդ թվում`
C37: 01 | F37: Կրթությանը տրամադրվող օժանդակ ծառայություններ | G37: =+G39 -> 16157
F38: այդ թվում`
F39: ՀՀ կրթության, գիտության, մշակույթի և սպորտի նախարարություն | G39: =+G41+G61 -> 16157
F40: այդ թվում`
D41: 1045 | E41: Նախնական (արհեստագործական) և միջին մասնագիտական կրթություն | G41: =+G43+G52 -> -990
F42: այդ թվում`
E43: 32001 | F43: Նախնական մասնագիտական (արհեստագործական) և միջին մասնագիտական ուսումնական հաստատությունների շենքային պայմանների բարելավում | G43: =+G45 -> 21889.4
F44: այդ թվում` ըստ կատարողների
F45: ՀՀ կրթության, գիտության, մշակույթի և սպորտի նախարարություն | G45: =+G47 -> 21889.4
F46: այդ թվում՝ բյուջետային ծախսերի տնտեսագիտական դասակարգման հոդվածներ
F47: ԸՆԴԱՄԵՆԸ ԾԱԽՍԵՐ | G47: =G48 -> 21889.4
F48: ՈՉ ՖԻՆԱՆՍԱԿԱՆ ԱԿՏԻՎՆԵՐԻ ԳԾՈՎ ԾԱԽՍԵՐ | G48: =+G49 -> 21889.4
F49: ՀԻՄՆԱԿԱՆ ՄԻՋՈՑՆԵՐ | G49: =+G50 -> 21889.4
F50: ԱՅԼ ՀԻՄՆԱԿԱՆ ՄԻՋՈՑՆԵՐ | G50: =+G51 -> 21889.4
F51: – Նախագծահետազոտական ծախսեր | G51: =+'Հավելված N 6'!E15 -> 21889.4
E52: 32005 | F52: Նախնական մասնագիտական (արհեստագործական) և միջին մասնագիտական ուսումնական հաստատությունների շենքերի կառուցում | G52: =+G54 -> -22879.4
F53: այդ թվում` ըստ կատարողների
F54: ՀՀ քաղաքաշինության կոմիտե | G54: =+G56 -> -22879.4
F55: այդ թվում՝ բյուջետային ծախսերի տնտեսագիտական դասակարգման հոդվածներ
F56: ԸՆԴԱՄԵՆԸ ԾԱԽՍԵՐ | G56: =G57 -> -22879.4
F57: ՈՉ ՖԻՆԱՆՍԱԿԱՆ ԱԿՏԻՎՆԵՐԻ ԳԾՈՎ ԾԱԽՍԵՐ | G57: =+G58 -> -22879.4
F58: ՀԻՄՆԱԿԱՆ ՄԻՋՈՑՆԵՐ | G58: =+G59 -> -22879.4
F59: ՇԵՆՔԵՐ ԵՎ ՇԻՆՈՒԹՅՈՒՆՆԵՐ | G59: =+G60 -> -22879.4
F60: - Շենքերի և շինությունների շինարարություն | G60: =+'Հավելված N 6'!E28 -> -22879.4
D61: 1183 | E61: Ապահով դպրոց | G61: =+G63+G79 -> 17147
F62: այդ թվում`
E63: 32001 | F63: Կրթական օբյեկտների շենքային պայմանների բարելավում | G63: =+G65+G72 -> 17147
F64: այդ թվում` ըստ կատարողների
F65: ՀՀ կրթության, գիտության, մշակույթի և սպորտի նախարարություն | G65: =+G67 -> 17147
F66: այդ թվում՝ բյուջետային ծախսերի տնտեսագիտական դասակարգման հոդվածներ
F67: ԸՆԴԱՄԵՆԸ ԾԱԽՍԵՐ | G67: =G68 -> 17147
F68: ԸՆԹԱՑԻԿ ԾԱԽՍԵՐ | G68: =+G69 -> 17147
F69: ԴՐԱՄԱՇՆՈՐՀՆԵՐ | G69: =+G70 -> 17147
F70: ԿԱՊԻՏԱԼ ԴՐԱՄԱՇՆՈՐՀՆԵՐ ՊԵՏԱԿԱՆ ՀԱՏՎԱԾԻ ԱՅԼ ՄԱԿԱՐԴԱԿՆԵՐԻՆ | G70: =+G71 -> 17147
F71: - Կապիտալ դրամաշնորհներ պետական և համայնքային ոչ առևտրային կազմակերպություններին | G71: =+'Հավելված N 7'!G17 -> 17147
F73: ՀՀ ԿԱՌԱՎԱՐՈՒԹՅՈՒՆ | G73: =+G74 -> 0
A74: 11 | F74: ՀԻՄՆԱԿԱՆ ԲԱԺԻՆՆԵՐԻՆ ՉԴԱՍՎՈՂ ՊԱՀՈՒՍՏԱՅԻՆ ՖՈՆԴԵՐ | G74: =+G76 -> 0
F75: այդ թվում`
B76: 01 | F76: ՀՀ կառավարության և համայնքների պահուստային ֆոնդ | G76: =+G78 -> 0
F77: այդ թվում`
C78: 01 | F78: ՀՀ կառավարության պահուստային ֆոնդ | G78: =+G80 -> 0
F79: այդ թվում`
F80: ՀՀ կառավարություն | G80: =+G82 -> 0
F81: այդ թվում`
D82: 1139 | E82: ՀՀ կառավարության պահուստային ֆոնդ | F82: ՀՀ կառավարության պահուստային ֆոնդ | G82: =+G84+G92 -> 0
F83: այդ թվում`
E84: 11001 | F84: ՀՀ կառավարության պահուստային ֆոնդ | G84: =+G86 -> 738
F85: այդ թվում` ըստ կատարողների
F86: ՀՀ կառավարություն | G86: =+G88 -> 738
F87: այդ թվում` բյուջետային ծախսերի տնտեսագիտական դասակարգման հոդվածներ
F88: ԸՆԴԱՄԵՆԸ ԾԱԽՍԵՐ | G88: =+G89 -> 738
F89: ԸՆԹԱՑԻԿ ԾԱԽՍԵՐ | G89: =+G90 -> 738
F90: ԱՅԼ ԾԱԽՍԵՐ | G90: =+G91 -> 738
F91: Պահուստային միջոցներ | G91: =+G26 -> 738
E92: 11001 | F92: ՀՀ կառավարության պահուստային ֆոնդ | G92: =+G94 -> -738
F93: այդ թվում` ըստ կատարողների
F94: ՀՀ կառավարություն | G94: =+G96 -> -738
F95: այդ թվում` բյուջետային ծախսերի տնտեսագիտական դասակարգման հոդվածներ
F96: ԸՆԴԱՄԵՆԸ ԾԱԽՍԵՐ | G96: =+G97 -> -738
F97: ԸՆԹԱՑԻԿ ԾԱԽՍԵՐ | G97: =+G98 -> -738
F98: ԱՅԼ ԾԱԽՍԵՐ | G98: =+G99 -> -738
F99: Պահուստային միջոցներ | G99: =-G91 -> -738

Sheet Հավելված N 5
F1: Հավելված N 5
F2: ՀՀ կառավարության 2024 թվականի
F3: ______________ ի ___Ն որոշման
A5: «ՀԱՅԱUՏԱՆԻ ՀԱՆՐԱՊԵՏՈՒԹՅԱՆ 2024 ԹՎԱԿԱՆԻ ՊԵՏԱԿԱՆ ԲՅՈՒՋԵԻ ՄԱUԻՆ» ՀԱՅԱUՏԱՆԻ ՀԱՆՐԱՊԵՏՈՒԹՅԱՆ OՐԵՆՔԻ N 1 ՀԱՎԵԼՎԱԾԻ N 3 ԱՂՅՈՒՍԱԿՈՒՄ ԿԱՏԱՐՎՈՂ ՓՈՓՈԽՈՒԹՅՈՒՆԸ ԵՎ ԼՐԱՑՈՒՄՆԵՐԸ
G8: հազ. դրամներով
A9: Ծրագրային դասիչ | C9: Բյուջետային գլխավոր կարգադրիչների, ծրագրերի, միջոցառումների, միջոցառումները կատարող պետական մարմինների և ուղղությունների անվանումները | D9: Ընդամենը | E9: Ցուցանիշների փոփոխությունը (ավելացումները նշված են դրական նշանով, իսկ նվազեցումները՝ փակագծերում)
A10: Ծրագիր | B10: Միջոցառում | E10: Կառուցման աշխատանքներ | F10: Վերակառուցման, վերանորոգման և վերականգնման աշխատանքներ | G10: Նախագծահե- տազոտական, գեոդեզիա- քարտեզագրա- կան աշխա- տանքներ | H10: Ոչ ֆինանսական այլ ակտիվների ձեռքբերում
C11: ԸՆԴԱՄԵՆԸ | D11: =SUM(E11:H11) -> -990 | E11: =+E13 -> -22879.4 | F11: =+F13 -> 0 | G11: =+G13 -> 21889.4 | H11: =+H13 -> 0
C12: այդ թվում՝
C13: ՀՀ ԿՐԹՈՒԹՅԱՆ, ԳԻՏՈՒԹՅԱՆ, ՄՇԱԿՈՒՅԹԻ ԵՎ ՍՊՈՐՏԻ ՆԱԽԱՐԱՐՈՒԹՅՈՒՆ | D13: =SUM(E13:H13) -> -990 | E13: =+E15+E26 -> -22879.4 | F13: =+F15+F26 -> 0 | G13: =+G15+G26 -> 21889.4 | H13: =+H15+H26 -> 0
C14: այդ թվում`
A15: 1045 | B15: 32001 | C15: Նախնական մասնագիտական (արհեստագործական) և միջին մասնագիտական ուսումնական հաստատությունների շենքային պայմանների բարելավում | D15: =SUM(E15:H15) -> 21889.4 | E15: =+E17+E20+E22+E24 -> 0 | F15: =+F17+F20+F22+F24 -> 0 | G15: =+G17+G20+G22+G24 -> 21889.4 | H15: =+H17+H20+H22+H24 -> 0
C16: այդ թվում`
C17: Երևան քաղաք | D17: =SUM(E17:H17) -> 3551.2 | E17: =+E18+E19 -> 0 | F17: =+F18+F19 -> 0 | G17: =+G18+G19 -> 3551.2 | H17: =+H18+H19 -> 0
C18: «Երևանի հ․8 արհեստագործական պետական ուսումնարան» ՊՈԱԿ /հակահրդեհային և հրդեհաշիջման համակարգ/ | D18: =+E18+F18+G18+H18 -> 1986 | G18: =+'Հավելված N 11'!I17+'Հավելված N 11'!I22 -> 1986
C19: «Երևանի պարարվեստի պետական քոլեջ» ՊՈԱԿ | D19: =+E19+F19+G19+H19 -> 1565.2 | G19: =+'Հավելված N 11'!I18 -> 1565.2
C20: ՀՀ Կոտայքի մարզ | D20: =SUM(E20:H20) -> 711.6 | E20: =+E21 -> 0 | F20: =+F21 -> 0 | G20: =+G21 -> 711.6 | H20: =+H21 -> 0
C21: «Աբովյանի բազմագործառութային պետական քոլեջ» ՊՈԱԿ | D21: =+E21+F21+G21+H21 -> 711.6 | G21: =+'Հավելված N 11'!I19 -> 711.6
C22: ՀՀ Շիրակի մարզ | D22: =SUM(E22:H22) -> 6183.2 | E22: =+E23 -> 0 | F22: =+F23 -> 0 | G22: =+G23 -> 6183.2 | H22: =+H23 -> 0
C23: «Արթիկի պետական քոլեջ» ՊՈԱԿ | D23: =+E23+F23+G23+H23 -> 6183.2 | G23: =+'Հավելված N 11'!I20 -> 6183.2
C24: ՀՀ Տավուշի մարզ | D24: =SUM(E24:H24) -> 11443.4 | E24: =+E25 -> 0 | F24: =+F25 -> 0 | G24: =+G25 -> 11443.4 | H24: =+H25 -> 0
C25: «Դիլիջանի բազմագործառութային պետական քոլեջ» ՊՈԱԿ | D25: =+E25+F25+G25+H25 -> 11443.4 | G25: =+'Հավելված N 11'!I21 -> 11443.4
A26: 1045 | B26: 32005 | C26: Նախնական մասնագիտական (արհեստագործական) և միջին մասնագիտական ուսումնական հաստատությունների շենքերի կառուցում | D26: =SUM(E26:H26) -> -22879.4 | E26: =+E28+E31+E33+E35 -> -22879.4 | F26: =+F28+F31+F33+F35 -> 0 | G26: =+G28+G31+G33+G35 -> 0 | H26: =+H28+H31+H33+H35 -> 0
C27: այդ թվում`
C28: ՀՀ Արագածոտնի մարզ | D28: =SUM(E28:H28) -> -22879.4 | E28: =+E29 -> -22879.4 | F28: =+F29 -> 0 | G28: =+G29 -> 0 | H28: =+H29 -> 0
C29: Հայաստանի ազգային ագրարային համալսարան հիմնադրամի Ապարանի մասնաճյուղ | D29: =+E29+F29+G29+H29 -> -22879.4 | E29: =+'Հավելված N 11'!I28+'Հավելված N 11'!I30+'Հավելված N 11'!I31 -> -22879.4

Sheet Հավելված N 6
E1: Հավելված N 6
E2: ՀՀ կառավարության 2024 թվականի
E3: ______________ ի ___Ն որոշման
B6: ՀԱՅԱՍՏԱՆԻ ՀԱՆՐԱՊԵՏՈՒԹՅԱՆ ԿԱՌԱՎԱՐՈՒԹՅԱՆ 2023 ԹՎԱԿԱՆԻ ԴԵԿՏԵՄԲԵՐԻ 28-Ի N 2323-Ն ՈՐՈՇՄԱՆ N 5 ՀԱՎԵԼՎԱԾԻ N 2 ԱՂՅՈՒՍԱԿՈՒՄ ԿԱՏԱՐՎՈՂ ՓՈՓՈԽՈՒԹՅՈՒՆԸ ԵՎ ԼՐԱՑՈՒՄՆԵՐԸ
E8: հազ. դրամներով
B9: Ծրագրային դասիչ | D9: Բյուջետային գլխավոր կարգադրիչների, ծրագրերի, միջոցառումների, միջոցառումները կատարող պետական մարմինների և ուղղությունների անվանումները | E9: Ցուցանիշների փոփոխությունը (ավելացումները նշված են դրական նշանով, իսկ նվազեցումները՝ փակագծերում)
B10: Ծրագիր | C10: Միջոցառում | E10: Տարի
D11: ՀՀ ԿՐԹՈՒԹՅԱՆ, ԳԻՏՈՒԹՅԱՆ, ՄՇԱԿՈՒՅԹԻ ԵՎ ՍՊՈՐՏԻ ՆԱԽԱՐԱՐՈՒԹՅՈՒՆ | E11: =+E13+E26 -> -990
D12: այդ թվում՝
B13: 1045 | C13: 32001 | D13: Նախնական մասնագիտական (արհեստագործական) և միջին մասնագիտական ուսումնական հաստատությունների շենքային պայմանների բարելավում | E13: =+E15 -> 21889.4
D14: այդ թվում` ըստ կատարողների
D15: ՀՀ կրթության, գիտության, մշակույթի և սպորտի նախարարություն | E15: =+E17+E20+E22+E24 -> 21889.4
D16: այդ թվում՝ ըստ ուղղությունների
D17: Երևան քաղաք | E17: =+E18+E19 -> 3551.2
D18: =+'Հավելված N 5'!C18 -> «Երևանի հ․8 արհեստագործական պետական ուսումնարան» ՊՈԱԿ /հակահրդեհային և հրդեհաշիջման համակարգ/ | E18: =+'Հավելված N 5'!D18 -> 1986
D19: =+'Հավելված N 5'!C19 -> «Երևանի պարարվեստի պետական քոլեջ» ՊՈԱԿ | E19: =+'Հավելված N 5'!D19 -> 1565.2
D20: ՀՀ Կոտայքի մարզ | E20: =+E21 -> 711.6
D21: =+'Հավելված N 5'!C21 -> «Աբովյանի բազմագործառութային պետական քոլեջ» ՊՈԱԿ | E21: =+'Հավելված N 5'!D21 -> 711.6
D22: ՀՀ Շիրակի մարզ | E22: =+E23 -> 6183.2
D23: =+'Հավելված N 5'!C23 -> «Արթիկի պետական քոլեջ» ՊՈԱԿ | E23: =+'Հավելված N 5'!D23 -> 6183.2
D24: ՀՀ Տավուշի մարզ | E24: =+E25 -> 11443.4
D25: =+'Հավելված N 5'!C25 -> «Դիլիջանի բազմագործառութային պետական քոլեջ» ՊՈԱԿ | E25: =+'Հավելված N 5'!D25 -> 11443.4
B26: 1045 | C26: 32005 | D26: Նախնական մասնագիտական (արհեստագործական) և միջին մասնագիտական ուսումնական հաստատությունների շենքերի կառուցում | E26: =+E28 -> -22879.4
D27: այդ թվում` ըստ կատարողների
D28: ՀՀ քաղաքաշինության կոմիտե | E28: =+E30 -> -22879.4
D29: այդ թվում՝ ըստ ուղղությունների
D30: ՀՀ Արագածոտնի մարզ | E30: =+E31 -> -22879.4
D31: =+'Հավելված N 5'!C29 -> Հայաստանի ազգային ագրարային համալսարան հիմնադրամի Ապարանի մասնաճյուղ | E31: =+'Հավելված N 5'!D29 -> -22879.4

Sheet Հավելված N 7
F1: Հավելված 7
F2: ՀՀ կառավարության 2024 թվականի
F3: ______________ ի ___Ն որոշման
A6: ՀԱՅԱՍՏԱՆԻ ՀԱՆՐԱՊԵՏՈՒԹՅԱՆ ԿԱՌԱՎԱՐՈՒԹՅԱՆ 2023 ԹՎԱԿԱՆԻ ԴԵԿՏԵՄԲԵՐԻ 28-Ի N 2323-Ն ՈՐՈՇՄԱՆ N 5 ՀԱՎԵԼՎԱԾԻ N 7 ԱՂՅՈՒՍԱԿՈՒՄ ԿԱՏԱՐՎՈՂ ԼՐԱՑՈՒՄՆԵՐԸ
A7: հազար դրամներով
A8: Ծրագրային դասիչը | D8: Բյուջետային հատկացումների գլխավոր կարգադրիչների, ծրագրերի, միջոցառումների և միջոցառումները կատարող պետական մարմինների անվանումները | F8: Միջոցառումները կատարող պետական մարմինների և դրամաշնորհ ստացող տնտեսվարող սուբյեկտների անվանումները | G8: Ցուցանիշների փոփոխությունը (ավելացումները նշված են դրական նշանով)
A9: Ծրագիր | B9: Միջոցառում | G9: Տարի
A10: ՀՀ կրթության, գիտության, մշակույթի և սպորտի նախարարություն | G10: =+G11+G15 -> 17885
A11: 1148 | B11: Արտադպրոցական դաստիարակության ծրագիր | G11: =+G12 -> 738
B12: 32004 | C12: Արտադպրոցական հաստատությունների գույքային և տեխնիկական ապահովվածության բարելավում | G12: =+G13 -> 738
F13: ՀՀ կրթության, գիտության, մշակույթի և սպորտի նախարարություն | G13: =+G14 -> 738
F14: «Հրազդանի մականախաղի և շախմատի օլիմպիական մանկապատանեկան մարզադպրոց» | G14: 738
A15: 1183 | B15: Ապահով դպրոց | G15: =+G16 -> 17147
B16: 32001 | C16: Կրթական օբյեկտների շենքային պայմանների բարելավում | G16: =+G17 -> 17147
F17: ՀՀ կրթության, գիտության, մշակույթի և սպորտի նախարարություն | G17: =+G18 -> 17147
F18: «Աբովյանի կրթահամալիր» ՊՈԱԿ | G18: =16560+451.5+135.5 -> 17147

Sheet Հավելված N 8
C1: Հավելված N 8
C2: ՀՀ կառավարության 2024 թվականի
C3: ______________ ի ___Ն որոշման
A6: ՀԱՅԱՍՏԱՆԻ ՀԱՆՐԱՊԵՏՈՒԹՅԱՆ ԿԱՌԱՎԱՐՈՒԹՅԱՆ 2023 ԹՎԱԿԱՆԻ ԴԵԿՏԵՄԲԵՐԻ 28-Ի N 2323-Ն ՈՐՈՇՄԱՆ N 6 ՀԱՎԵԼՎԱԾՈՒՄ ԿԱՏԱՐՎՈՂ ԼՐԱՑՈՒՄԸ
E8: հազար դրամներով
A9: NN ը/կ | B9: Եկամտատեսակը | D9: Գանձման համար պատասխանատու պետական կառավարման մարմինը (մարմինները) | E9: Ցուցանիշների փոփոխությունը (ավելացումները նշված են դրական նշանով)
E10: Տարի
A11: Այլ եկամուտներ, ընդամենը՝ | E11: =+E13 -> 16895
B12: այդ թվում՝
A13: 6 | B13: Օրենքով և այլ իրավական ակտերով սահմանված պետական բյուջե մուտքագրվող այլ եկամուտներ | E13: =+E14 -> 16895
A14: 6.9 | B14: Նախորդ տարիների՝ ՀՀ պետական բյուջեից ծախսերի ֆինանսավորման նպատակով հատկացված գումարների (բացառությամբ փոխառու միջոցների) վերադարձից մուտքեր | D14: ՀՀ պետական կառավարման մարմիններ | E14: 16895

Sheet Հավելված N 9
C1: Հավելված N 9
C2: ՀՀ կառավարության 2024 թվականի
C3: ______________ ի ___Ն որոշման
B6: ՀԱՅԱՍՏԱՆԻ ՀԱՆՐԱՊԵՏՈՒԹՅԱՆ ԿԱՌԱՎԱՐՈՒԹՅԱՆ 2023 ԹՎԱԿԱՆԻ ԴԵԿՏԵՄԲԵՐԻ 28-Ի N 2323-Ն ՈՐՈՇՄԱՆ N 9 ՀԱՎԵԼՎԱԾԻ NN 9.13 ԵՎ 9.48 ԱՂՅՈՒՍԱԿՆԵՐՈՒՄ ԿԱՏԱՐՎՈՂ ՓՈՓՈԽՈՒԹՅՈՒՆՆԵՐԸ ԵՎ ԼՐԱՑՈՒՄՆԵՐԸ
A8: Աղյուսակ 9․13
C9: ՀՀ կրթության, գիտության, մշակույթի և սպորտի նախարարություն
B10: ՄԱՍ 2. ՊԵՏԱԿԱՆ ՄԱՐՄՆԻ ԳԾՈՎ ԱՐԴՅՈՒՆՔԱՅԻՆ (ԿԱՏԱՐՈՂԱԿԱՆ) ՑՈՒՑԱՆԻՇՆԵՐԸ
B13: Ծրագրի դասիչը | C13: Ծրագրի անվանումը
B14: 1045 | C14: Նախնական (արհեստագործական) և միջին մասնագիտական կրթություն
B16: Ծրագրի միջոցառումները
B17: Ծրագրի դասիչը՝ | C17: 1045 | D17: Ցուցանիշների փոփոխությունը (ավելացումները նշված են դրական նշանով)
B18: Միջոցառման դասիչը՝ | C18: 32001 | D18: Տարի
B19: Միջոցառման անվանումը` | C19: Նախնական մասնագիտական (արհեստագործական) և միջին մասնագիտական ուսումնական հաստատությունների շենքային պայմանների բարելավում
B20: Նկարագրությունը` | C20: ՆՄՄԿՈՒ հաստատությունների շենքերի հիմնանորոգման և նախագծման (շինարարական աշխատանքներ, ջեռուցման համակարգի ստեղծում, ներքին հարդարում, տարածքի բարեկարգում) աշխատանքների իրականացում
B21: Միջոցառման տեսակը` | C21: Այլ պետական կազմակերպությունների կողմից օգտագործվող ոչ ֆինանսական ակտիվների հետ գործառնություններ
B22: Ակտիվն օգտագործող կազմակերպությունների անվանումները | C22: Միջին մասնագիտական ուսումնական հաստատություններ
B23: Արդյունքի չափորոշիչներ
B24: Նախագծանախահաշվային փաստաթղթերի քանակ, հատ | D24: 1
B25: Միջոցառման վրա կատարվող ծախսը (հազար դրամ) | D25: =+'Հավելված N 3'!D23 -> 21889.4
B27: Ծրագրի միջոցառումները
B28: Ծրագրի դասիչը՝ | C28: 1045 | D28: Ցուցանիշների փոփոխությունը (նվազեցումները նշված են փակագծերում)
B29: Միջոցառման դասիչը՝ | C29: 32005 | D29: Տարի
B30: Միջոցառման անվանումը` | C30: Նախնական մասնագիտական (արհեստագործական) և միջին մասնագիտական ուսումնական հաստատությունների շենքերի կառուցում
B31: Նկարագրությունը` | C31: ՆՄՄԿՈՒ հաստատությունների շենքերի (մասնաշենքերի) կառուցման և նախագծման աշխատանքների իրականացում
B32: Միջոցառման տեսակը` | C32: Այլ պետական կազմակերպությունների կողմից օգտագործվող ոչ ֆինանսական ակտիվների հետ գործառնություններ
B33: Ակտիվն օգտագործող կազմակերպությունների անվանումները | C33: Նախնական մասնագիտական (արհեստագործական) և միջին մասնագիտական ուսումնական հաստատություններ
B34: Արդյունքի չափորոշիչներ
B35: Միջոցառման վրա կատարվող ծախսը (հազար դրամ) | D35: =+'Հավելված N 3'!D29 -> -22879.4
B37: Ծրագրի դասիչը | C37: Ծրագրի անվանումը
B38: 1148 | C38: Արտադպրոցական դաստիարակության ծրագիր
B40: Ծրագրի միջոցառումները
B41: Ծրագրի դասիչը՝ | C41: 1148 | D41: Ցուցանիշների փոփոխությունը (ավելացումները նշված են դրական նշանով)
B42: Միջոցառման դասիչը՝ | C42: 32004 | D42: Տարի
B43: Միջոցառման անվանումը՝ | C43: Արտադպրոցական հաստատությունների գույքային և տեխնիկական ապահովվածության բարելավում
B44: Նկարագրությունը՝ | C44: Գույքային և տեխնիկական ապահովվածության բարելավման արդյունքում կիրառական գիտելիքների ձեռքբերման արդյունավետության բարձրացում
B45: Միջոցառման տեսակը՝ | C45: Այլ պետական կազմակերպությունների կողմից օգտագործվող ոչ ֆինանսական ակտիվների հետ գործառնություններ
B46: Ակտիվն օգտագործող կազմակերպությունների անվանումները | C46: Արտադպրոցական հաստատություններ
B47: Արդյունքի չափորոշիչներ
B48: Հաստատությունների թիվը, որտեղ կատարվում են ներդրումները | D48: 1
B49: Միջոցառման վրա կատարվող ծախսը (հազար դրամ) | D49: =+'Հավելված N 3'!D42 -> 738
B51: Ծրագրի դասիչը | C51: Ծրագրի անվանումը
B52: 1183 | C52: Ապահով դպրոց
B54: Ծրագրի միջոցառումները
B55: Ծրագրի դասիչը՝ | C55: 1183 | D55: Ցուցանիշների փոփոխությունը (ավելացումները նշված են դրական նշանով)
B56: Միջոցառման դասիչը՝ | C56: 32001 | D56: Տարի
B57: Միջոցառման անվանումը` | C57: Կրթական օբյեկտների շենքային պայմանների բարելավում
B58: Նկարագրությունը` | C58: Կրթական օբյեկտների շենքերի (մասնաշենքերի) հիմնանորոգում (համաշինարարական աշխատանքներ, ջեռուցման համակարգի իրականացում, ներքին հարդարում, տարածքի բարեկարգում) և նախագծում
B59: Միջոցառման տեսակը` | C59: Այլ պետական կազմակերպությունների կողմից օգտագործվող ոչ ֆինանսական ակտիվների հետ գործառնություններ
B60: Ակտիվն օգտագործող կազմակերպությունների անվանումները | C60: Հանրակրթական դպրոցներ
B61: Արդյունքի չափորոշիչներ
B62: Մասնակի նորոգվող ուսումնական հաստատությունների քանակ, հատ | D62: 1
B63: Միջոցառման վրա կատարվող ծախսը (հազար դրամ) | D63: =+'Հավելված N 3'!D55 -> 17147
A69: Աղյուսակ 9․48
C70: ՀՀ կառավարություն
B71: ՄԱՍ 2. ՊԵՏԱԿԱՆ ՄԱՐՄՆԻ ԳԾՈՎ ԱՐԴՅՈՒՆՔԱՅԻՆ (ԿԱՏԱՐՈՂԱԿԱՆ) ՑՈՒՑԱՆԻՇՆԵՐԸ
B74: Ծրագրի դասիչը | C74: Ծրագրի անվանումը
B75: 1139 | C75: ՀՀ կառավարության պահուստային ֆոնդ
B77: Ծրագրի միջոցառումները
B78: Ծրագրի դասիչը՝ | C78: 1139 | D78: Ցուցանիշների փոփոխությունը (ավելացումները նշված են դրական նշանով)
B79: Միջոցառման դասիչը՝ | C79: 11001 | D79: Տարի
B80: Միջոցառման անվանումը` | C80: ՀՀ կառավարության պահուստային ֆոնդ
B81: Նկարագրությունը` | C81: ՀՀ պետական բյուջեում նախատեսված ելքերի լրացուցիչ ֆինանսավորման, պետական բյուջեում չկանխատեսված ելքերի, ինչպես նաև բյուջետային երաշխիքների ապահովման ելքերի ֆինանսավորման ապահովում
B82: Միջոցառման տեսակը` | C82: Ծառայությունների մատուցում
B83: Միջոցառումն իրականացնողի անվանումը | C83: ՀՀ կառավարություն
B84: Արդյունքի չափորոշիչներ
B85: Միջոցառման վրա կատարվող ծախսը (հազար դրամ) | D85: =+'Հավելված N 3'!D69 -> 738
B87: Ծրագրի միջոցառումները
B88: Ծրագրի դասիչը՝ | C88: 1139 | D88: Ցուցանիշների փոփոխությունը (նվազեցումները նշված են փակագծերում)
B89: Միջոցառման դասիչը՝ | C89: 11001 | D89: Տարի
B90: Միջոցառման անվանումը` | C90: ՀՀ կառավարության պահուստային ֆոնդ
B91: Նկարագրությունը` | C91: ՀՀ պետական բյուջեում նախատեսված ելքերի լրացուցիչ ֆինանսավորման, պետական բյուջեում չկանխատեսված ելքերի, ինչպես նաև բյուջետային երաշխիքների ապահովման ելքերի ֆինանսավորման ապահովում
B92: Միջոցառման տեսակը` | C92: Ծառայությունների մատուցում
B93: Միջոցառումն իրականացնողի անվանումը | C93: ՀՀ կառավարություն
B94: Արդյունքի չափորոշիչներ
B95: Միջոցառման վրա կատարվող ծախսը (հազար դրամ) | D95: =+'Հավելված N 3'!D75 -> -738

Sheet Հավելված N 10
C1: Հավելված N 10
C2: ՀՀ կառավարության 2024 թվականի
C3: ______________ ի ___Ն որոշման
B6: ՀԱՅԱՍՏԱՆԻ ՀԱՆՐԱՊԵՏՈՒԹՅԱՆ ԿԱՌԱՎԱՐՈՒԹՅԱՆ 2023 ԹՎԱԿԱՆԻ ԴԵԿՏԵՄԲԵՐԻ 28-Ի N 2323-Ն ՈՐՈՇՄԱՆ N 9.1 ՀԱՎԵԼՎԱԾԻ NN 9.1.13, 9.1.39 ԵՎ 9.1.58 ԱՂՅՈՒՍԱԿՆԵՐՈՒՄ ԿԱՏԱՐՎՈՂ ՓՈՓՈԽՈՒԹՅՈՒՆՆԵՐԸ ԵՎ ԼՐԱՑՈՒՄՆԵՐԸ
A8: Աղյուսակ 9․1.13
C9: ՀՀ կրթության, գիտության, մշակույթի և սպորտի նախարարություն
B10: ՄԱՍ 1. ՊԵՏԱԿԱՆ ՄԱՐՄՆԻ ԳԾՈՎ ԱՐԴՅՈՒՆՔԱՅԻՆ (ԿԱՏԱՐՈՂԱԿԱՆ) ՑՈՒՑԱՆԻՇՆԵՐԸ
B13: Ծրագրի դասիչը | C13: Ծրագրի անվանումը
B14: 1045 | C14: Նախնական (արհեստագործական) և միջին մասնագիտական կրթություն
B16: Ծրագրի միջոցառումները
B17: Ծրագրի դասիչը՝ | C17: 1045 | D17: Ցուցանիշների փոփոխությունը (ավելացումները նշված են դրական նշանով)
B18: Միջոցառման դասիչը՝ | C18: 32001 | D18: Տարի
B19: Միջոցառման անվանումը` | C19: Նախնական մասնագիտական (արհեստագործական) և միջին մասնագիտական ուսումնական հաստատությունների շենքային պայմանների բարելավում
B20: Նկարագրությունը` | C20: ՆՄՄԿՈՒ հաստատությունների շենքերի հիմնանորոգման և նախագծման (շինարարական աշխատանքներ, ջեռուցման համակարգի ստեղծում, ներքին հարդարում, տարածքի բարեկարգում) աշխատանքների իրականացում
B21: Միջոցառման տեսակը` | C21: Այլ պետական կազմակերպությունների կողմից օգտագործվող ոչ ֆինանսական ակտիվների հետ գործառնություններ
B22: Ակտիվն օգտագործող կազմակերպությունների անվանումները | C22: Միջին մասնագիտական ուսումնական հաստատություններ
B23: Արդյունքի չափորոշիչներ
B24: Նախագծանախահաշվային փաստաթղթերի քանակ, հատ | D24: 1
B25: Միջոցառման վրա կատարվող ծախսը (հազար դրամ) | D25: =+'Հավելված N 4'!G45 -> 21889.4
B27: Ծրագրի դասիչը | C27: Ծրագրի անվանումը
B28: 1148 | C28: Արտադպրոցական դաստիարակության ծրագիր
B30: Ծրագրի միջոցառումները
B31: Ծրագրի դասիչը՝ | C31: 1148 | D31: Ցուցանիշների փոփոխությունը (ավելացումները նշված են դրական նշանով)
B32: Միջոցառման դասիչը՝ | C32: 32004 | D32: Տարի
B33: Միջոցառման անվանումը՝ | C33: Արտադպրոցական հաստատությունների գույքային և տեխնիկական ապահովվածության բարելավում
B34: Նկարագրությունը՝ | C34: Գույքային և տեխնիկական ապահովվածության բարելավման արդյունքում կիրառական գիտելիքների ձեռքբերման արդյունավետության բարձրացում
B35: Միջոցառման տեսակը՝ | C35: Այլ պետական կազմակերպությունների կողմից օգտագործվող ոչ ֆինանսական ակտիվների հետ գործառնություններ
B36: Ակտիվն օգտագործող կազմակերպությունների անվանումները | C36: Արտադպրոցական հաստատություններ
B37: Արդյունքի չափորոշիչներ
B38: Հաստատությունների թիվը, որտեղ կատարվում են ներդրումները | D38: 1
B39: Միջոցառման վրա կատարվող ծախսը (հազար դրամ) | D39: =+'Հավելված N 4'!G28 -> 738
B41: Ծրագրի դասիչը | C41: Ծրագրի անվանումը
B42: 1183 | C42: Ապահով դպրոց
B44: Ծրագրի միջոցառումները
B45: Ծրագրի դասիչը՝ | C45: 1183 | D45: Ցուցանիշների փոփոխությունը (ավելացումները նշված են դրական նշանով)
B46: Միջոցառման դասիչը՝ | C46: 32001 | D46: Տարի
B47: Միջոցառման անվանումը` | C47: Կրթական օբյեկտների շենքային պայմանների բարելավում
B48: Նկարագրությունը` | C48: Կրթական օբյեկտների շենքերի (մասնաշենքերի) հիմնանորոգում (համաշինարարական աշխատանքներ, ջեռուցման համակարգի իրականացում, ներքին հարդարում, տարածքի բարեկարգում) և նախագծում
B49: Միջոցառման տեսակը` | C49: Այլ պետական կազմակերպությունների կողմից օգտագործվող ոչ ֆինանսական ակտիվների հետ գործառնություններ
B50: Ակտիվն օգտագործող կազմակերպությունների անվանումները | C50: Հանրակրթական դպրոցներ
B51: Արդյունքի չափորոշիչներ
B52: Մասնակի նորոգվող ուսումնական հաստատությունների քանակ, հատ | D52: 1
B53: Միջոցառման վրա կատարվող ծախսը (հազար դրամ) | D53: =+'Հավելված N 4'!G65 -> 17147
A59: Աղյուսակ 9․1.39
C60: ՀՀ քաղաքաշինության կոմիտե
B61: ՄԱՍ 1. ՊԵՏԱԿԱՆ ՄԱՐՄՆԻ ԳԾՈՎ ԱՐԴՅՈՒՆՔԱՅԻՆ (ԿԱՏԱՐՈՂԱԿԱՆ) ՑՈՒՑԱՆԻՇՆԵՐԸ
B64: Ծրագրի դասիչը | C64: Ծրագրի անվանումը
B65: 1045 | C65: Նախնական (արհեստագործական) և միջին մասնագիտական կրթություն
B67: Ծրագրի միջոցառումները
B68: Ծրագրի դասիչը՝ | C68: 1045 | D68: Ցուցանիշների փոփոխությունը (նվազեցումները նշված են փակագծերում)
B69: Միջոցառման դասիչը՝ | C69: 32005 | D69: Տարի
B70: Միջոցառման անվանումը` | C70: Նախնական մասնագիտական (արհեստագործական) և միջին մասնագիտական ուսումնական հաստատությունների շենքերի կառուցում
B71: Նկարագրությունը` | C71: ՆՄՄԿՈՒ հաստատությունների շենքերի (մասնաշենքերի) կառուցման և նախագծման աշխատանքների իրականացում
B72: Միջոցառման տեսակը` | C72: Այլ պետական կազմակերպությունների կողմից օգտագործվող ոչ ֆինանսական ակտիվների հետ գործառնություններ
B73: Ակտիվն օգտագործող կազմակերպությունների անվանումները | C73: Նախնական մասնագիտական (արհեստագործական) և միջին մասնագիտական ուսումնական հաստատություններ
B74: Արդյունքի չափորոշիչներ
B75: Միջոցառման վրա կատարվող ծախսը (հազար դրամ) | D75: =+'Հավելված N 4'!G54 -> -22879.4
A81: Աղյուսակ 9․1.58
C82: ՀՀ կառավարություն
B83: ՄԱՍ 1. ՊԵՏԱԿԱՆ ՄԱՐՄՆԻ ԳԾՈՎ ԱՐԴՅՈՒՆՔԱՅԻՆ (ԿԱՏԱՐՈՂԱԿԱՆ) ՑՈՒՑԱՆԻՇՆԵՐԸ
B86: Ծրագրի դասիչը | C86: Ծրագրի անվանումը
B87: 1139 | C87: ՀՀ կառավարության պահուստային ֆոնդ
B89: Ծրագրի միջոցառումները
B90: Ծրագրի դասիչը՝ | C90: 1139 | D90: Ցուցանիշների փոփոխությունը (ավելացումները նշված են դրական նշանով)
B91: Միջոցառման դասիչը՝ | C91: 11001 | D91: Տարի
B92: Միջոցառման անվանումը` | C92: ՀՀ կառավարության պահուստային ֆոնդ
B93: Նկարագրությունը` | C93: ՀՀ պետական բյուջեում նախատեսված ելքերի լրացուցիչ ֆինանսավորման, պետական բյուջեում չկանխատեսված ելքերի, ինչպես նաև բյուջետային երաշխիքների ապահովման ելքերի ֆինանսավորման ապահովում
B94: Միջոցառման տեսակը` | C94: Ծառայությունների մատուցում
B95: Միջոցառումն իրականացնողի անվանումը | C95: ՀՀ կառավարություն
B96: Արդյունքի չափորոշիչներ
B97: Միջոցառման վրա կատարվող ծախսը (հազար դրամ) | D97: =+'Հավելված N 4'!G86 -> 738
B99: Ծրագրի միջոցառումները
B100: Ծրագրի դասիչը՝ | C100: 1139 | D100: Ցուցանիշների փոփոխությունը (նվազեցումները նշված են փակագծերում)
B101: Միջոցառման դասիչը՝ | C101: 11001 | D101: Տարի
B102: Միջոցառման անվանումը` | C102: ՀՀ կառավարության պահուստային ֆոնդ
B103: Նկարագրությունը` | C103: ՀՀ պետական բյուջեում նախատեսված ելքերի լրացուցիչ ֆինանսավորման, պետական բյուջեում չկանխատեսված ելքերի, ինչպես նաև բյուջետային երաշխիքների ապահովման ելքերի ֆինանսավորման ապահովում
B104: Միջոցառման տեսակը` | C104: Ծառայությունների մատուցում
B105: Միջոցառումն իրականացնողի անվանումը | C105: ՀՀ կառավարություն
B106: Արդյունքի չափորոշիչներ
B107: Միջոցառման վրա կատարվող ծախսը (հազար դրամ) | D107: =+'Հավելված N 4'!G92 -> -738

Sheet Հավելված N 11
H1: Հավելված N 11
H2: ՀՀ կառավարության 2024 թվականի
H3: ______________ ի ___Ն որոշման
A6: ՀԱՅԱՍՏԱՆԻ ՀԱՆՐԱՊԵՏՈՒԹՅԱՆ ԿԱՌԱՎԱՐՈՒԹՅԱՆ 2023 ԹՎԱԿԱՆԻ ԴԵԿՏԵՄԲԵՐԻ 28-Ի N 2323-Ն N 10 ՀԱՎԵԼՎԱԾՈՒՄ ԿԱՏԱՐՎՈՂ ՓՈՓՈԽՈՒԹՅՈՒՆՆԵՐԸ ԵՎ ԼՐԱՑՈՒՄՆԵՐԸ
A10: Կոդը | B10: Անվանումը | E10: Գնման ձևը | F10: Չափման միավորը | G10: Միավորի գինը | H10: Ցուցանիշների փոփոխությունը (ավելացումները նշված են դրական նշանով, իսկ նվազեցումները՝ փակագծերում)
H11: Քանակը | I11: Գումարը (հազար դրամ)
A12: 1 | B12: 2 | E12: 3 | F12: 4 | G12: 5 | H12: 6 | I12: 7
A13: ՀՀ կրթության, գիտության, մշակույթի և սպորտի նախարարություն | I13: =+I14 -> 21889.4
A14: Բաժին N 09 | B14: Խումբ N 06 | C14: Դաս N 01 | D14: Կրթությանը տրամադրվող օժանդակ ծառայություններ | I14: =+I15 -> 21889.4
A15: 1045-32001 | B15: Նախնական մասնագիտական (արհեստագործական) և միջին մասնագիտական ուսումնական հաստատությունների շենքային պայմանների բարելավում | I15: =+I16 -> 21889.4
B16: ՄԱՍ III. ԾԱՌԱՅՈՒԹՅՈՒՆՆԵՐ | I16: =SUM(I17:I22) -> 21889.4
A17: 71241200-522 | B17: նախագծերի պատրաստում, ծախսերի գնահատում | E17: ԳՀ | F17: դրամ | G17: 1799000 | H17: 1 | I17: =+ROUND(H17*G17/1000,1) -> 1799
A18: 71241200 | B18: նախագծերի պատրաստում, ծախսերի գնահատում | E18: ԳՀ | F18: դրամ | G18: =5217200*0.3 -> 1565160 | H18: 1 | I18: =+ROUND(H18*G18/1000,1) -> 1565.2
A19: 71241200 | B19: նախագծերի պատրաստում, ծախսերի գնահատում | E19: ԳՀ | F19: դրամ | G19: =2372000*0.3 -> 711600 | H19: 1 | I19: =+ROUND(H19*G19/1000,1) -> 711.6
A20: 71241200 | B20: նախագծերի պատրաստում, ծախսերի գնահատում | E20: ԳՀ | F20: դրամ | G20: =20610760*0.3 -> 6183228 | H20: 1 | I20: =+ROUND(H20*G20/1000,1) -> 6183.2
A21: 71241200 | B21: նախագծերի պատրաստում, ծախսերի գնահատում | E21: ԳՀ | F21: դրամ | G21: =38144500*0.3 -> 11443350 | H21: 1 | I21: =+ROUND(H21*G21/1000,1) -> 11443.4
A22: 50531140 | B22: փորձաքննության ծառայություններ | E22: ԳՀ | F22: դրամ | G22: 187000 | H22: 1 | I22: =+ROUND(H22*G22/1000,1) -> 187
A24: ՀՀ քաղաքաշինության կոմիտե | I24: =+I25 -> -22879.4
A25: Բաժին N 09 | B25: Խումբ N 06 | C25: Դաս N 01 | D25: Կրթությանը տրամադրվող օժանդակ ծառայություններ | I25: =+I26 -> -22879.4
A26: 1045-32005 | B26: Նախնական մասնագիտական (արհեստագործական) և միջին մասնագիտական ուսումնական հաստատությունների շենքերի կառուցում | I26: =+I27+I29 -> -22879.4
B27: ՄԱՍ II. ԱՇԽԱՏԱՆՔՆԵՐ | I27: =SUM(I28:I28) -> -22084.4
A28: 45221142-1 | B28: ընդհանուր շինարարական աշխատանքներ | E28: ԲՄ | F28: դրամ | I28: -22084.4
B29: ՄԱՍ III. ԾԱՌԱՅՈՒԹՅՈՒՆՆԵՐ | I29: =SUM(I30:I31) -> -795
A30: 71351540-1 | B30: տեխնիկական հսկողության ծառայություններ | E30: ԳՀ | F30: դրամ | I30: -662.5
A31: 98111140-1 | B31: հեղինակային հսկողության ծառայություններ | E31: ՄԱ | F31: դրամ | I31: -132.5

Sheet Հավելված N 12
F1: Հավելված N 12
G2: ՀՀ կառավարության 2024 թվականի
G3: ______________ ի ___Ն որոշման
A6: ՀԱՅԱՍՏԱՆԻ ՀԱՆՐԱՊԵՏՈՒԹՅԱՆ 2024 ԹՎԱԿԱՆԻ ՊԵՏԱԿԱՆ ԲՅՈՒՋԵՈՎ ՆԱԽԱՏԵՍՎԱԾ՝ ՀԱՅԱՍՏԱՆԻ ՀԱՆՐԱՊԵՏՈՒԹՅԱՆ ԿԱՌԱՎԱՐՈՒԹՅԱՆ ՊԱՀՈՒՍՏԱՅԻՆ ՖՈՆԴԻՑ ՀԱՏԿԱՑՈՒՄՆԵՐ ԿԱՏԱՐԵԼՈՒ ՎԵՐԱԲԵՐՅԱԼ
G8: հազ. դրամներով
A9: Գործառական դասիչը | D9: Ծրագրային դասիչը | F9: Բյուջետային հատկացումների գլխավոր կարգադրիչների, ծրագրերի, միջոցառումների և միջոցառումները կատարող պետական մարմինների անվանումները | G9: Ցուցանիշների փոփոխությունը (ավելացումները նշված են դրական նշանով, իսկ նվազեցումները՝ փակագծերում)
A10: Բաժին | B10: Խումբ | C10: Դաս | D10: Ծրագիր | E10: Միջոցառում | G10: Տարի
F11: ԸՆԴԱՄԵՆԸ | G11: =+G13+G33 -> 0
F12: այդ թվում
F13: ՀՀ ԿԱՌԱՎԱՐՈՒԹՅՈՒՆ | G13: =+G14 -> -738
A14: 11 | F14: ՀԻՄՆԱԿԱՆ ԲԱԺԻՆՆԵՐԻՆ ՉԴԱՍՎՈՂ ՊԱՀՈՒՍՏԱՅԻՆ ՖՈՆԴԵՐ | G14: =+G16 -> -738
F15: այդ թվում`
B16: 01 | F16: ՀՀ կառավարության և համայնքների պահուստային ֆոնդ | G16: =+G18 -> -738
F17: այդ թվում`
C18: 01 | F18: ՀՀ կառավարության պահուստային ֆոնդ | G18: =+G20 -> -738
F19: այդ թվում`
F20: ՀՀ կառավարություն | G20: =+G22 -> -738
F21: այդ թվում`
D22: 1139 | E22: ՀՀ կառավարության պահուստային ֆոնդ | F22: ՀՀ կառավարության պահուստային ֆոնդ | G22: =+G24 -> -738
F23: այդ թվում`
E24: 11001 | F24: ՀՀ կառավարության պահուստային ֆոնդ | G24: =+G26 -> -738
F25: այդ թվում` ըստ կատարողների
F26: ՀՀ կառավարություն | G26: =+G28 -> -738
F27: այդ թվում՝ բյուջետային ծախսերի տնտեսագիտական դասակարգման հոդվածներ
F28: ԸՆԴԱՄԵՆԸ ԾԱԽՍԵՐ | G28: =+G29 -> -738
F29: ԸՆԹԱՑԻԿ ԾԱԽՍԵՐ | G29: =+G30 -> -738
F30: ԱՅԼ ԾԱԽՍԵՐ | G30: =+G31 -> -738
F31: Պահուստային միջոցներ | G31: =+'Հավելված N 4'!G99 -> -738
F33: ՀՀ ԿՐԹՈՒԹՅԱՆ, ԳԻՏՈՒԹՅԱՆ, ՄՇԱԿՈՒՅԹԻ ԵՎ ՍՊՈՐՏԻ ՆԱԽԱՐԱՐՈՒԹՅՈՒՆ | G33: =+G34 -> 738
A34: 09 | F34: ԿՐԹՈՒԹՅՈՒՆ | G34: =+G36 -> 738
F35: այդ թվում`
B36: 05 | F36: Ըստ մակարդակների չդասակարգվող կրթություն | G36: =+G38 -> 738
F37: այդ թվում`
C38: 01 | F38: Արտադպրոցական դաստիարակություն | G38: =+G40 -> 738
F39: այդ թվում`
F40: ՀՀ կրթության, գիտության, մշակույթի և սպորտի նախարարություն | G40: =+G42 -> 738
F41: այդ թվում`
D42: 1148 | E42: Արտադպրոցական դաստիարակության ծրագիր | G42: =+G44 -> 738
F43: այդ թվում`
E44: 32004 | F44: Արտադպրոցական հաստատությունների գույքային և տեխնիկական ապահովվածության բարելավում | G44: =+G46 -> 738
F45: այդ թվում` ըստ կատարողների
F46: ՀՀ կրթության, գիտության, մշակույթի և սպորտի նախարարություն | G46: =+G48 -> 738
F47: այդ թվում՝ բյուջետային ծախսերի տնտեսագիտական դասակարգման հոդվածներ
F48: ԸՆԴԱՄԵՆԸ ԾԱԽՍԵՐ | G48: =+G49 -> 738
F49: ԸՆԹԱՑԻԿ ԾԱԽՍԵՐ | G49: =+G50 -> 738
F50: ԴՐԱՄԱՇՆՈՐՀՆԵՐ | G50: =+G51 -> 738
F51: ԿԱՊԻՏԱԼ ԴՐԱՄԱՇՆՈՐՀՆԵՐ ՊԵՏԱԿԱՆ ՀԱՏՎԱԾԻ ԱՅԼ ՄԱԿԱՐԴԱԿՆԵՐԻՆ | G51: =+G52 -> 738
F52: - Կապիտալ դրամաշնորհներ պետական և համայնքային ոչ առևտրային կազմակերպություններին | G52: =+'Հավելված N 4'!G34 -> 738
