Workbook
Name a: #REF!
Name a: #REF!
Name a: #REF!
Name a: #REF!
Name a: #REF!
Name a: #REF!
Name a: #REF!
Name a: #REF!
Name AgencyCode: #REF!
Name AgencyCode: #REF!
Name AgencyCode: #REF!
Name AgencyCode: #REF!
Name AgencyCode: #REF!
Name AgencyCode: #REF!
Name AgencyCode: #REF!
Name AgencyCode: #REF!
Name AgencyCode: #REF!
Name AgencyName: #REF!
Name AgencyName: #REF!
Name AgencyName: #REF!
Name AgencyName: #REF!
Name AgencyName: #REF!
Name AgencyName: #REF!
Name BOP: #REF!
Name BOP: #REF!
Name BOP: #REF!
Name BOPfoot: #REF!
Name BOPfoot: #REF!
Name BOPfoot: #REF!
Name davit: #REF!
Name davit: #REF!
Name davit: #REF!
Name davit: #REF!
Name davit: #REF!
Name DebtCG: #REF!
Name DebtCG: #REF!
Name DebtCG: #REF!
Name DebtGG: #REF!
Name DebtGG: #REF!
Name DebtGG: #REF!
Name Functional1: #REF!
Name Functional1: #REF!
Name Functional1: #REF!
Name Functional1: #REF!
Name Functional1: #REF!
Name Functional1: #REF!
Name ggg: #REF!
Name ggg: #REF!
Name ggg: #REF!
Name ggg: #REF!
Name ggg: #REF!
Name MonExo: #REF!
Name MonExo: #REF!
Name MonExo: #REF!
Name MonGrow: #REF!
Name MonGrow: #REF!
Name MonGrow: #REF!
Name PANature: #REF!
Name PANature: #REF!
Name PANature: #REF!

Sheet Հավելված N 1
C1: Հավելված N 1
C2: ՀՀ կառավարության 2024 թվականի
C3: ______________ ի ___Ն որոշման
A6: «ՀԱՅԱUՏԱՆԻ ՀԱՆՐԱՊԵՏՈՒԹՅԱՆ 2024 ԹՎԱԿԱՆԻ ՊԵՏԱԿԱՆ ԲՅՈՒՋԵԻ ՄԱUԻՆ» ՀԱՅԱUՏԱՆԻ ՀԱՆՐԱՊԵՏՈՒԹՅԱՆ OՐԵՆՔԻ N 1 ՀԱՎԵԼՎԱԾԻ N 2 ԱՂՅՈՒՍԱԿՈՒՄ ԿԱՏԱՐՎՈՂ ՎԵՐԱԲԱՇԽՈՒՄԸ ԵՎ ՀԱՅԱՍՏԱՆԻ ՀԱՆՐԱՊԵՏՈՒԹՅԱՆ ԿԱՌԱՎԱՐՈՒԹՅԱՆ 2023 ԹՎԱԿԱՆԻ ԴԵԿՏԵՄԲԵՐԻ 28-Ի N 2323-Ն ՈՐՈՇՄԱՆ N 5 ՀԱՎԵԼՎԱԾԻ N 1 ԱՂՅՈՒՍԱԿՈՒՄ ԿԱՏԱՐՎՈՂ ՓՈՓՈԽՈՒԹՅՈՒՆՆԵՐԸ ԵՎ ԼՐԱՑՈՒՄՆԵՐԸ
D8: հազ. դրամներով
A9: Ծրագրային դասիչը | C9: Բյուջետային հատկացումների գլխավոր կարգադրիչների, ծրագրերի և միջոցառումների անվանումները | D9: Ցուցանիշների փոփոխությունը (ավելացումները նշված են դրական նշանով, իսկ նվազեցումները՝ փակագծերում)
A10: Ծրագիր | B10: Միջոցառում | D10: Տարի
A11: 1192 | C11: ԸՆԴԱՄԵՆԸ | D11: =+D13+G80 -> 0
C12: այդ թվում
C13: ՀՀ ԿՐԹՈՒԹՅԱՆ, ԳԻՏՈՒԹՅԱՆ, ՄՇԱԿՈՒՅԹԻ ԵՎ ՍՊՈՐՏԻ ՆԱԽԱՐԱՐՈՒԹՅՈՒՆ | D13: =+D15+D28+D41+D54+D67 -> 0
A14: 1075 | C14: Ծրագրի անվանումը`
C15: Մշակութային ժառանգության ծրագիր | D15: =+D22 -> 12626.7
C16: Ծրագրի նպատակը`
C17: Մշակութային ժառանգության պահպանում, օգտագործում, համալրում և հանրահռչակում
C18: Վերջնական արդյունքի նկարագրությունը`
C19: Մշակութային ժառանգության շարունակական պահպանում, մշակութային զբոսաշրջության զարգացում և խթանում
C20: Ծրագրի միջոցառումներ
B21: 32011 | C21: Միջոցառման անվանումը`
C22: «Մշակույթի զարգացման» հիմնադրամի ենթակառուցվածքների և կարողությունների զարգացում | D22: =+'Հավելված N 2'!G50 -> 12626.7
C23: Միջոցառման նկարագրությունը`
C24: «Մշակույթի զարգացման» հիմնադրամի ենթակառուցվածքների արդիականացում, հիմնադրամի գույքով և տեխնիկայով ապահովում
C25: Միջոցառման տեսակը
C26: Այլ պետական կազմակերպությունների կողմից օգտագործվող ոչ ֆինանսական ակտիվների հետ գործառնություններ
A27: 1124 | C27: Ծրագրի անվանումը`
C28: Գրահրատարակչության և գրադարանների ծրագիր | D28: =+D35 -> 923.7
C29: Ծրագրի նպատակը`
C30: Նպաստել գրականության զարգացմանը, տարածմանը և հանրահռչակմանը
C31: Վերջնական արդյունքի նկարագրությունը`
C32: Գրքի և գրական արտադրանքի բազմազանության և հասանելիության ապահովում, ստեղծագործական գործընթացների խթանում
C33: Ծրագրի միջոցառումներ
B34: 32002 | C34: Միջոցառման անվանումը`
C35: Ներդրումներ գրադարանների հիմնանորոգման համար | D35: =+'Հավելված N 2'!G24 -> 923.7
C36: Միջոցառման նկարագրությունը`
C37: Գրադարանների շենքերի, մասնաշենքերի հիմնանորոգում, համաշինարարական աշխատանքներ, ջեռուցման համակարգի իրականացում, ներքին հարդարում, տարածքի բարեկարգում և նախագծում
C38: Միջոցառման տեսակը
C39: Այլ պետական կազմակերպությունների կողմից օգտագործվող ոչ ֆինանսական ակտիվների հետ գործառնություններ
A40: 1168 | C40: Ծրագրի անվանումը`
C41: Արվեստների ծրագիր | D41: =+D48 -> -13550.4
C42: Ծրագրի նպատակը`
C43: Նպաստել ազգային հենքի վրա ժամանակակից թատերարվեստի, երաժշտարվեստի, կերպարվեստի և պարարվեստի զարգացմանը և հանրահռչակմանը
C44: Վերջնական արդյունքի նկարագրությունը`
C45: Մրցունակ արվեստային արտադրանքի ստեղծում, ստեղծագործական գործընթացների խթանում, արվեստի նոր նախագծերի ներդրում և մշակութային կյանքում հասարակության ներգրավում
C46: Ծրագրի միջոցառումներ
B47: 32001 | C47: Միջոցառման անվանումը`
C48: Ներդրումներ թատրոնների և համերգային կազմակերպությունների շենքերի կապիտալ վերանորոգման համար | D48: =+'Հավելված N 2'!G65 -> -13550.4
C49: Միջոցառման նկարագրությունը`
C50: Թատրոնների և համերգային կազմակերպությունների շենքերի մասնաշենքերի հիմնանորոգում, համաշինարարական աշխատանքներ, ջեռուցման համակարգի իրականացում, ներքին հարդարում, տարածքի բարեկարգում և նախագծում
C51: Միջոցառման տեսակը
C52: Այլ պետական կազմակերպությունների կողմից օգտագործվող ոչ ֆինանսական ակտիվների հետ գործառնություններ
A53: 1183 | C53: Ծրագրի անվանումը`
C54: Ապահով դպրոց | D54: =+D61 -> 46691.9
C55: Ծրագրի նպատակը`
C56: Դպրոցներին սպառնացող աղետների ռիսկի կառավարման կարողությունների հզորացում, դպրոցի անձնակազմի և աշակերտների անվտանգության ապահովման մակարդակի բարձրացում՛ կիրառելով ներառական և երեխայակենտրոն մոտեցում
C57: Վերջնական արդյունքի նկարագրությունը`
C58: Դպրոցական միջավայրի բարելավում
C59: Ծրագրի միջոցառումներ
B60: 32001 | C60: Միջոցառման անվանումը`
C61: Կրթական օբյեկտների շենքային պայմանների բարելավում | D61: =+'Հավելված N 2'!G101 -> 46691.9
C62: Միջոցառման նկարագրությունը`
C63: Կրթական օբյեկտների շենքերի (մասնաշենքերի) հիմնանորոգում (համաշինարարական աշխատանքներ, ջեռուցման համակարգի իրականացում, ներքին հարդարում, տարածքի բարեկարգում) և նախագծում
C64: Միջոցառման տեսակը
C65: Այլ պետական կազմակերպությունների կողմից օգտագործվող ոչ ֆինանսական ակտիվների հետ գործառնություններ
A66: 1236 | C66: Ծրագրի անվանումը`
C67: Հանրակրթական և նախադպրոցական հաստատությունների հիմնում, կառուցում, բարելավում | D67: =+D74 -> -46691.9
C68: Ծրագրի նպատակը`
C69: Առնվազն 300 դպրոցի և 500 մանկապարտեզի կառուցման, վերակառուցման, հիմնանորոգման ծրագրերի իրականացում ՀՀ պետական բյուջեի միջոցների շրջանակներում
C70: Վերջնական արդյունքի նկարագրությունը`
C71: Կրթական միջավայրի բարելավում
C72: Ծրագրի միջոցառումներ
B73: 32003 | C73: Միջոցառման անվանումը`
C74: Հանրակրթական դպրոցների նոր շենքերի կառուցում | D74: =+'Հավելված N 2'!G84 -> -46691.9
C75: Միջոցառման նկարագրությունը`
C76: ՀՀ մարզերում կրթական որակյալ ծառայությունների հասանելիության ապահովման ծրագրի շրջանակներում հանրակրթական և նախադպրոցական կրթության հասանելիության ապահովման նպատակով կրթական կենտրոնների կառուցում
C77: Միջոցառման տեսակը
C78: Այլ պետական կազմակերպությունների կողմից օգտագործվող ոչ ֆինանսական ակտիվների հետ գործառնություններ
C80: ՀՀ ԿԱՌԱՎԱՐՈՒԹՅՈՒՆ | D80: =+D82 -> 0
A81: 1139 | C81: Ծրագրի անվանումը`
C82: ՀՀ կառավարության պահուստային ֆոնդ | D82: =+D88+D94 -> 0
C83: Ծրագրի նպատակը`
C84: Պետական բյուջեում չկանխատեսված, ինչպես նաև բյուջետային երաշխիքների ապահովման ծախսերի ֆինանսավորման ապահովում
C85: Վերջնական արդյունքի նկարագրությունը`
C86: Պահուստային ֆոնդի կառավարման արդյունավետության և թափանցիկության ապահովում
B87: 11001 | C87: Միջոցառման անվանումը`
C88: ՀՀ կառավարության պահուստային ֆոնդ | D88: =+'Հավելված N 2'!G129 -> 12626.7
C89: Միջոցառման նկարագրությունը`
C90: ՀՀ պետական բյուջեում նախատեսված ելքերի լրացուցիչ ֆինանսավորման՝ պետական բյուջեում չկանխատեսված ելքերի, ինչպես նաև բյուջետային երաշխիքների ապահովման ելքերի ֆինանսավորման ապահովում
C91: Միջոցառման տեսակը
C92: Ծառայությունների մատուցում
B93: 11001 | C93: Միջոցառման անվանումը`
C94: ՀՀ կառավարության պահուստային ֆոնդ | D94: =+'Հավելված N 2'!G137 -> -12626.7
C95: Միջոցառման նկարագրությունը`
C96: ՀՀ պետական բյուջեում նախատեսված ելքերի լրացուցիչ ֆինանսավորման՝ պետական բյուջեում չկանխատեսված ելքերի, ինչպես նաև բյուջետային երաշխիքների ապահովման ելքերի ֆինանսավորման ապահովում
C97: Միջոցառման տեսակը
C98: Ծառայությունների մատուցում

Sheet Հավելված N 2
F1: Հավելված N 2
F2: ՀՀ կառավարության 2024 թվականի
F3: ______________ ի ___Ն որոշման
A6: ՀԱՅԱՍՏԱՆԻ ՀԱՆՐԱՊԵՏՈՒԹՅԱՆ ԿԱՌԱՎԱՐՈՒԹՅԱՆ 2023 ԹՎԱԿԱՆԻ ԴԵԿՏԵՄԲԵՐԻ 28-Ի N2323-Ն ՈՐՈՇՄԱՆ N 3 ԵՎ N 4 ՀԱՎԵԼՎԱԾՆԵՐՈՒՄ ԿԱՏԱՐՎՈՂ ՓՈՓՈԽՈՒԹՅՈՒՆՆԵՐԸ ԵՎ ԼՐԱՑՈՒՄՆԵՐԸ
G8: հազ. դրամներով
A9: Գործառական դասիչը | D9: Ծրագրային դասիչը | F9: Բյուջետային հատկացումների գլխավոր կարգադրիչների, ծրագրերի, միջոցառումների և միջոցառումները կատարող պետական մարմինների անվանումները | G9: Ցուցանիշների փոփոխությունը (ավելացումները նշված են դրական նշանով, իսկ նվազեցումները՝ փակագծերում)
A10: Բաժին | B10: Խումբ | C10: Դաս | D10: Ծրագիր | E10: Միջոցառում | G10: Տարի
F11: ԸՆԴԱՄԵՆԸ | G11: =+G13+G118 -> 0
F12: այդ թվում
F13: ՀՀ ԿՐԹՈՒԹՅԱՆ, ԳԻՏՈՒԹՅԱՆ, ՄՇԱԿՈՒՅԹԻ ԵՎ ՍՊՈՐՏԻ ՆԱԽԱՐԱՐՈՒԹՅՈՒՆ | G13: =+G14+G74 -> 0
A14: 08 | F14: ՀԱՆԳԻՍՏ, ՄՇԱԿՈՒՅԹ ԵՎ ԿՐՈՆ | G14: =+G16 -> 0
F15: այդ թվում`
B16: 02 | F16: Մշակութային ծառայություններ | G16: =+G18+G33+G59 -> 0
F17: այդ թվում`
C18: 01 | F18: Գրադարաններ | G18: =+G20 -> 923.7
F19: այդ թվում`
F20: ՀՀ կրթության, գիտության, մշակույթի և սպորտի նախարարություն | G20: =+G22 -> 923.7
F21: այդ թվում`
D22: 1124 | E22: Գրահրատարակչության և գրադարանների ծրագիր | G22: =+G24 -> 923.7
F23: այդ թվում`
E24: 32002 | F24: Ներդրումներ գրադարանների հիմնանորոգման համար | G24: =+G26 -> 923.7
F25: այդ թվում` ըստ կատարողների
F26: ՀՀ կրթության, գիտության, մշակույթի և սպորտի նախարարություն | G26: =+G28 -> 923.7
F27: այդ թվում՝ բյուջետային ծախսերի տնտեսագիտական դասակարգման հոդվածներ
F28: ԸՆԴԱՄԵՆԸ ԾԱԽՍԵՐ | G28: =G29 -> 923.7
F29: ԸՆԹԱՑԻԿ ԾԱԽՍԵՐ | G29: =+G30 -> 923.7
F30: ԴՐԱՄԱՇՆՈՐՀՆԵՐ | G30: =+G31 -> 923.7
F31: ԿԱՊԻՏԱԼԴՐԱՄԱՇՆՈՐՀՆԵՐ ՊԵՏԱԿԱՆ ՀԱՏՎԱԾԻ ԱՅԼ ՄԱԿԱՐԴԱԿՆԵՐԻՆ | G31: =+G32 -> 923.7
F32: - Կապիտալ դրամաշնորհներ պետական և համայնքային ոչ առևտրային կազմակերպություններին | G32: =+'Հավելված N 5'!G17 -> 923.7
C33: 02 | F33: Թանգարաններ և ցուցասրահներ | G33: =+G35 -> 12626.7
F34: այդ թվում`
F35: ՀՀ կրթության, գիտության, մշակույթի և սպորտի նախարարություն | G35: =+G37 -> 12626.7
F36: այդ թվում`
D37: 1075 | E37: Մշակութային ժառանգության ծրագիր | G37: =+G39+G50 -> 12626.7
F38: այդ թվում`
E39: 32001 | F39: Ներդրումներ թանգարանների և պատկերասրահների հիմնանորոգման համար | G39: =+G41 -> 0
F40: այդ թվում` ըստ կատարողների
F41: ՀՀ կրթության, գիտության, մշակույթի և սպորտի նախարարություն | G41: =+G43 -> 0
F42: այդ թվում՝ բյուջետային ծախսերի տնտեսագիտական դասակարգման հոդվածներ
F43: ԸՆԴԱՄԵՆԸ ԾԱԽՍԵՐ | G43: =G44 -> 0
F44: ՈՉ ՖԻՆԱՆՍԱԿԱՆ ԱԿՏԻՎՆԵՐԻ ԳԾՈՎ ԾԱԽՍԵՐ | G44: =+G45 -> 0
F45: ՀԻՄՆԱԿԱՆ ՄԻՋՈՑՆԵՐ | G45: =+G46+G48 -> 0
F46: ՇԵՆՔԵՐ ԵՎ ՇԻՆՈՒԹՅՈՒՆՆԵՐ | G46: =+G47 -> -2200
F47: - Շենքերի և շինությունների կապիտալ վերանորոգում | G47: =+'Հավելված N 3'!F15 -> -2200
F48: ԱՅԼ ՀԻՄՆԱԿԱՆ ՄԻՋՈՑՆԵՐ | G48: =+G49 -> 2200
F49: - Նախագծահետազոտական ծախսեր | G49: =+'Հավելված N 3'!G15 -> 2200
E50: 32011 | F50: «Մշակույթի զարգացման» հիմնադրամի ենթակառուցվածքների և կարողությունների զարգացում | G50: =+G52 -> 12626.7
F51: այդ թվում` ըստ կատարողների
F52: ՀՀ կրթության, գիտության, մշակույթի և սպորտի նախարարություն | G52: =+G54 -> 12626.7
F53: այդ թվում՝ բյուջետային ծախսերի տնտեսագիտական դասակարգման հոդվածներ
F54: ԸՆԴԱՄԵՆԸ ԾԱԽՍԵՐ | G54: =G55 -> 12626.7
F55: ԸՆԹԱՑԻԿ ԾԱԽՍԵՐ | G55: =+G56 -> 12626.7
F56: ԴՐԱՄԱՇՆՈՐՀՆԵՐ | G56: =+G57 -> 12626.7
F57: ԿԱՊԻՏԱԼԴՐԱՄԱՇՆՈՐՀՆԵՐ ՊԵՏԱԿԱՆ ՀԱՏՎԱԾԻ ԱՅԼ ՄԱԿԱՐԴԱԿՆԵՐԻՆ | G57: =+G58 -> 12626.7
F58: - Այլ կապիտալ դրամաշնորհներ | G58: =+'Հավելված N 5'!G13 -> 12626.7
C59: 05 | F59: Արվեստ | G59: =+G61 -> -13550.4
F60: այդ թվում`
F61: ՀՀ կրթության, գիտության, մշակույթի և սպորտի նախարարություն | G61: =+G63 -> -13550.4
F62: այդ թվում`
D63: 1168 | E63: Արվեստների ծրագիր | G63: =+G65 -> -13550.4
F64: այդ թվում`
E65: 32001 | F65: Ներդրումներ թատրոնների և համերգային կազմակերպությունների շենքերի կապիտալ վերանորոգման համար | G65: =+G67 -> -13550.4
F66: այդ թվում` ըստ կատարողների
F67: ՀՀ կրթության, գիտության, մշակույթի և սպորտի նախարարություն | G67: =+G69 -> -13550.4
F68: այդ թվում՝ բյուջետային ծախսերի տնտեսագիտական դասակարգման հոդվածներ
F69: ԸՆԴԱՄԵՆԸ ԾԱԽՍԵՐ | G69: =+G70 -> -13550.4
F70: ՈՉ ՖԻՆԱՆՍԱԿԱՆ ԱԿՏԻՎՆԵՐԻ ԳԾՈՎ ԾԱԽՍԵՐ | G70: =+G71 -> -13550.4
F71: ՀԻՄՆԱԿԱՆ ՄԻՋՈՑՆԵՐ | G71: =+G72 -> -13550.4
F72: ՇԵՆՔԵՐ ԵՎ ՇԻՆՈՒԹՅՈՒՆՆԵՐ | G72: =+G73 -> -13550.4
F73: - Շենքերի և շինությունների կապիտալ վերանորոգում | G73: =+'Հավելված N 4'!E14 -> -13550.4
A74: 09 | F74: ԿՐԹՈՒԹՅՈՒՆ | G74: =+G76+G93 -> 0
F75: այդ թվում`
B76: 02 | F76: Միջնակարգ ընդհանուր կրթություն | G76: =+G78 -> -46691.9
F77: այդ թվում`
C78: 01 | F78: Հիմնական ընդհանուր կրթություն | G78: =+G80 -> -46691.9
F79: այդ թվում`
F80: ՀՀ կրթության, գիտության, մշակույթի և սպորտի նախարարություն | G80: =+G82 -> -46691.9
F81: այդ թվում`
D82: 1236 | E82: Հանրակրթական և նախադպրոցական հաստատությունների հիմնում, կառուցում, բարելավում | G82: =+G84 -> -46691.9
F83: այդ թվում`
E84: 32003 | F84: Հանրակրթական դպրոցների նոր շենքերի կառուցում | G84: =+G86 -> -46691.9
F85: այդ թվում` ըստ կատարողների
F86: ՀՀ կրթության, գիտության, մշակույթի և սպորտի նախարարություն | G86: =+G88 -> -46691.9
F87: այդ թվում՝ բյուջետային ծախսերի տնտեսագիտական դասակարգման հոդվածներ
F88: ԸՆԴԱՄԵՆԸ ԾԱԽՍԵՐ | G88: =G89 -> -46691.9
F89: ՈՉ ՖԻՆԱՆՍԱԿԱՆ ԱԿՏԻՎՆԵՐԻ ԳԾՈՎ ԾԱԽՍԵՐ | G89: =+G90 -> -46691.9
F90: ՀԻՄՆԱԿԱՆ ՄԻՋՈՑՆԵՐ | G90: =+G91 -> -46691.9
F91: ՇԵՆՔԵՐ ԵՎ ՇԻՆՈՒԹՅՈՒՆՆԵՐ | G91: =+G92 -> -46691.9
F92: - Շենքերի և շինությունների շինարարություն | G92: =+'Հավելված N 4'!E20 -> -46691.9
B93: 06 | F93: Կրթությանը տրամադրվող օժանդակ ծառայություններ | G93: =+G95 -> 46691.9
F94: այդ թվում`
C95: 01 | F95: Կրթությանը տրամադրվող օժանդակ ծառայություններ | G95: =+G97 -> 46691.9
F96: այդ թվում`
F97: ՀՀ կրթության, գիտության, մշակույթի և սպորտի նախարարություն | G97: =+G99 -> 46691.9
F98: այդ թվում`
D99: 1183 | E99: Ապահով դպրոց | G99: =+G101 -> 46691.9
F100: այդ թվում`
E101: 32001 | F101: Կրթական օբյեկտների շենքային պայմանների բարելավում | G101: =+G103+G110 -> 46691.9
F102: այդ թվում` ըստ կատարողների
F103: ՀՀ Արմավիրի մարզպետի աշխատակազմ | G103: =+G105 -> 19322.8
...

Sheet Հավելված N 3
F1: Հավելված N 3
F2: ՀՀ կառավարության 2024 թվականի
F3: ______________ ի ___Ն որոշման
A5: «ՀԱՅԱUՏԱՆԻ ՀԱՆՐԱՊԵՏՈՒԹՅԱՆ 2024 ԹՎԱԿԱՆԻ ՊԵՏԱԿԱՆ ԲՅՈՒՋԵԻ ՄԱUԻՆ» ՀԱՅԱUՏԱՆԻ ՀԱՆՐԱՊԵՏՈՒԹՅԱՆ OՐԵՆՔԻ N 1 ՀԱՎԵԼՎԱԾԻ N 3 ԱՂՅՈՒՍԱԿՈՒՄ ԿԱՏԱՐՎՈՂ ՓՈՓՈԽՈՒԹՅՈՒՆՆԵՐԸ
G8: հազ. դրամներով
A9: Ծրագրային դասիչ | C9: Բյուջետային գլխավոր կարգադրիչների, ծրագրերի, միջոցառումների, միջոցառումները կատարող պետական մարմինների և ուղղությունների անվանումները | D9: Ընդամենը | E9: Ցուցանիշների փոփոխությունը (ավելացումները նշված են դրական նշանով, իսկ նվազեցումները՝ փակագծերում)
A10: Ծրագիր | B10: Միջոցառում | E10: Կառուցման աշխատանքներ | F10: Վերակառուցման, վերանորոգման և վերականգնման աշխատանքներ | G10: Նախագծահե- տազոտական, գեոդեզիա- քարտեզագրա- կան աշխա- տանքներ | H10: Ոչ ֆինանսական այլ ակտիվների ձեռքբերում
C11: ԸՆԴԱՄԵՆԸ | D11: =SUM(E11:H11) -> -60242.3 | E11: =+E13 -> -46691.9 | F11: =+F13 -> -15750.4 | G11: =+G13 -> 2200 | H11: =+H13 -> 0
C12: այդ թվում՝
C13: ՀՀ ԿՐԹՈՒԹՅԱՆ, ԳԻՏՈՒԹՅԱՆ, ՄՇԱԿՈՒՅԹԻ ԵՎ ՍՊՈՐՏԻ ՆԱԽԱՐԱՐՈՒԹՅՈՒՆ | D13: =SUM(E13:H13) -> -60242.3 | E13: =+E15+E19+E23 -> -46691.9 | F13: =+F15+F19+F23 -> -15750.4 | G13: =+G15+G19+G23 -> 2200 | H13: =+H15+H19+H23 -> 0
C14: այդ թվում`
A15: 1075 | B15: 32001 | C15: Ներդրումներ թանգարանների և պատկերասրահների հիմնանորոգման համար | D15: =+E15+F15+G15+H15 -> 0 | E15: =+E17 -> 0 | F15: =+F17 -> -2200 | G15: =+G17 -> 2200 | H15: =+H17 -> 0
C16: այդ թվում`
C17: Երևան քաղաք | D17: =SUM(E17:H17) -> 0 | E17: =+E18 -> 0 | F17: =+F18 -> -2200 | G17: =+G18 -> 2200 | H17: =+H18 -> 0
C18: «Հ. Թումանյանի թանգարան» ՊՈԱԿ | D18: =+E18+F18+G18+H18 -> 0 | F18: =+'Հավելված N 8'!I17 -> -2200 | G18: =+'Հավելված N 8'!I19+'Հավելված N 8'!I20 -> 2200
A19: 1168 | B19: 32001 | C19: Ներդրումներ թատրոնների և համերգային կազմակերպությունների շենքերի կապիտալ վերանորոգման համար | D19: =+E19+F19+G19+H19 -> -13550.4 | E19: =+E21 -> 0 | F19: =+F21 -> -13550.4 | G19: =+G21 -> 0 | H19: =+H21 -> 0
C20: այդ թվում`
C21: Երևան քաղաք | D21: =SUM(E21:H21) -> -13550.4 | E21: =+E22 -> 0 | F21: =+F22 -> -13550.4 | G21: =+G22 -> 0 | H21: =+H22 -> 0
C22: «Հայաստանի պետական սիմֆոնիկ նվագախումբ» ՊՈԱԿ | D22: =+E22+F22+G22+H22 -> -13550.4 | F22: =+'Հավելված N 8'!I24+'Հավելված N 8'!I26+'Հավելված N 8'!I27 -> -13550.4
A23: 1236 | B23: 32003 | C23: Հանրակրթական դպրոցների նոր շենքերի կառուցում | D23: =+D25 -> -46691.9 | E23: =+E25 -> -46691.9 | F23: =+F25 -> 0 | G23: =+G25 -> 0 | H23: =+H25 -> 0
C24: այդ թվում`
C25: ՀՀ Արմավիրի մարզ | D25: =SUM(E25:H25) -> -46691.9 | E25: =+E26 -> -46691.9 | F25: =+F26 -> 0 | G25: =+G26 -> 0 | H25: =+H26 -> 0
C26: «Վաղարշապատի հ. 1 հիմնական դպրոց» ՊՈԱԿ | D26: =+E26+F26+G26+H26 -> -46691.9 | E26: =+'Հավելված N 8'!I31+'Հավելված N 8'!I33+'Հավելված N 8'!I34 -> -46691.9

Sheet Հավելված N 4
C1: Հավելված N 4
C2: ՀՀ կառավարության 2024 թվականի
C3: ______________ ի ___Ն որոշման
B5: ՀԱՅԱՍՏԱՆԻ ՀԱՆՐԱՊԵՏՈՒԹՅԱՆ ԿԱՌԱՎԱՐՈՒԹՅԱՆ 2023 ԹՎԱԿԱՆԻ ԴԵԿՏԵՄԲԵՐԻ 28-Ի N 2323-Ն ՈՐՈՇՄԱՆ N 5 ՀԱՎԵԼՎԱԾԻ N 2 ԱՂՅՈՒՍԱԿՈՒՄ ԿԱՏԱՐՎՈՂ ՓՈՓՈԽՈՒԹՅՈՒՆՆԵՐԸ
E7: հազ. դրամներով
B8: Ծրագրային դասիչ | D8: Բյուջետային գլխավոր կարգադրիչների, ծրագրերի, միջոցառումների, միջոցառումները կատարող պետական մարմինների և ուղղությունների անվանումները | E8: Ցուցանիշների փոփոխությունը (նվազեցումները նշված են փակագծերում)
B9: Ծրագիր | C9: Միջոցառում | E9: Տարի
D10: ՀՀ ԿՐԹՈՒԹՅԱՆ, ԳԻՏՈՒԹՅԱՆ, ՄՇԱԿՈՒՅԹԻ ԵՎ ՍՊՈՐՏԻ ՆԱԽԱՐԱՐՈՒԹՅՈՒՆ | E10: =+E12+E18 -> -60242.3
D11: այդ թվում՝
B12: 1168 | C12: 32001 | D12: Ներդրումներ թատրոնների և համերգային կազմակերպությունների շենքերի կապիտալ վերանորոգման համար | E12: =+E14 -> -13550.4
D13: այդ թվում` ըստ կատարողների
D14: ՀՀ կրթության, գիտության, մշակույթի և սպորտի նախարարություն | E14: =+E16 -> -13550.4
D15: այդ թվում`ըստ ուղղությունների
D16: Երևան քաղաք | E16: =+E17 -> -13550.4
D17: =+'Հավելված N 3'!C22 -> «Հայաստանի պետական սիմֆոնիկ նվագախումբ» ՊՈԱԿ | E17: =+'Հավելված N 3'!D22 -> -13550.4
B18: 1236 | C18: 32003 | D18: Հանրակրթական դպրոցների նոր շենքերի կառուցում | E18: =+E20 -> -46691.9
D19: այդ թվում` ըստ կատարողների
D20: ՀՀ կրթության, գիտության, մշակույթի և սպորտի նախարարություն | E20: =+E22 -> -46691.9
D21: այդ թվում`ըստ ուղղությունների
D22: ՀՀ Արմավիրի մարզ | E22: =+E23 -> -46691.9
D23: =+'Հավելված N 3'!C26 -> «Վաղարշապատի հ. 1 հիմնական դպրոց» ՊՈԱԿ | E23: =+'Հավելված N 3'!D26 -> -46691.9

Sheet Հավելված N 5
F1: Հավելված N 5
F2: ՀՀ կառավարության 2024 թվականի
F3: ______________ ի ___Ն որոշման
A6: ՀԱՅԱՍՏԱՆԻ ՀԱՆՐԱՊԵՏՈՒԹՅԱՆ ԿԱՌԱՎԱՐՈՒԹՅԱՆ 2023 ԹՎԱԿԱՆԻ ԴԵԿՏԵՄԲԵՐԻ 28-Ի N 2323-Ն ՈՐՈՇՄԱՆ N 5 ՀԱՎԵԼՎԱԾԻ N 7 ԱՂՅՈՒՍԱԿՈՒՄ ԿԱՏԱՐՎՈՂ ԼՐԱՑՈՒՄՆԵՐԸ
A7: հազար դրամ
A8: Ծրագրային դասիչը | D8: Բյուջետային հատկացումների գլխավոր կարգադրիչների, ծրագրերի, միջոցառումների և միջոցառումները կատարող պետական մարմինների անվանումները | F8: Միջոցառումները կատարող պետական մարմինների և դրամաշնորհ ստացող տնտեսվարող սուբյեկտների անվանումները | G8: Ցուցանիշների փոփոխությունը (ավելացումները նշված են դրական նշանով)
A9: Ծրագիր | B9: Միջոցառում | G9: Տարի
A10: ՀՀ կրթության, գիտության, մշակույթի և սպորտի նախարարություն | G10: =+G11+G15+G19 -> 60242.3
A11: 1075 | B11: Մշակութային ժառանգության ծրագիր | G11: =+G12 -> 12626.7
B12: 32011 | C12: «Մշակույթի զարգացման» հիմնադրամի ենթակառուցվածքների և կարողությունների զարգացում | G12: =+G13 -> 12626.7
F13: ՀՀ կրթության, գիտության, մշակույթի և սպորտի նախարարություն | G13: =+G14 -> 12626.7
F14: «Մշակույթի զարգացման» հիմնադրամ | G14: 12626.7
A15: 1124 | B15: Գրահրատարակչության և գրադարանների ծրագիր | G15: =+G16 -> 923.7
B16: 32002 | C16: Ներդրումներ գրադարանների հիմնանորոգման համար | G16: =+G17 -> 923.7
F17: ՀՀ կրթության, գիտության, մշակույթի և սպորտի նախարարություն | G17: =+G18 -> 923.7
F18: «Կոտայքի մարզային գրադարան» ՊՈԱԿ | G18: 923.7
A19: 1183 | B19: Ապահով դպրոց | G19: =+G20 -> 46691.9
B20: 32001 | C20: Կրթական օբյեկտների շենքային պայմանների բարելավում | G20: =+G21+G23 -> 46691.9
F21: ՀՀ Արմավիրի մարզպետի աշխատակազմ | G21: =+G22 -> 19322.8
F22: «Մյասնիկյանի Արայի անվան միջնակարգ դպրոց» ՊՈԱԿ | G22: 19322.8
F23: ՀՀ Լոռու մարզպետի աշխատակազմ | G23: =+G24 -> 27369.1
F24: «Մեծ Պարնու ակադեմիկոս Մ․ Մելքոնյանի անվան միջնակարգ դպրոց» ՊՈԱԿ | G24: 27369.1

Sheet Հավելված N 6
C1: Հավելված N 6
C2: ՀՀ կառավարության 2024 թվականի
C3: ______________ ի ___Ն որոշման
B6: ՀԱՅԱՍՏԱՆԻ ՀԱՆՐԱՊԵՏՈՒԹՅԱՆ ԿԱՌԱՎԱՐՈՒԹՅԱՆ 2023 ԹՎԱԿԱՆԻ ԴԵԿՏԵՄԲԵՐԻ 28-Ի N 2323-Ն ՈՐՈՇՄԱՆ N 9 ՀԱՎԵԼՎԱԾԻ NN 9.13 ԵՎ 9.48 ԱՂՅՈՒՍԱԿՆԵՐՈՒՄ ԿԱՏԱՐՎՈՂ ՓՈՓՈԽՈՒԹՅՈՒՆՆԵՐԸ ԵՎ ԼՐԱՑՈՒՄՆԵՐԸ
A8: Աղյուսակ 9․13
C9: ՀՀ կրթության, գիտության, մշակույթի և սպորտի նախարարություն
B10: ՄԱՍ 2. ՊԵՏԱԿԱՆ ՄԱՐՄՆԻ ԳԾՈՎ ԱՐԴՅՈՒՆՔԱՅԻՆ (ԿԱՏԱՐՈՂԱԿԱՆ) ՑՈՒՑԱՆԻՇՆԵՐԸ
B13: Ծրագրի դասիչը | C13: Ծրագրի անվանումը
B14: 1075 | C14: Մշակութային ժառանգության ծրագիր
B16: Ծրագրի միջոցառումները
B17: Ծրագրի դասիչը՝ | C17: 1075 | D17: Ցուցանիշների փոփոխությունը (ավելացումները նշված են դրական նշանով)
B18: Միջոցառման դասիչը՝ | C18: 32011 | D18: Տարի
B19: Միջոցառման անվանումը` | C19: «Մշակույթի զարգացման» հիմնադրամի ենթակառուցվածքների և կարողությունների զարգացում
B20: Նկարագրությունը` | C20: «Մշակույթի զարգացման» հիմնադրամի ենթակառուցվածքների արդիականացում, հիմնադրամի գույքով և տեխնիկայով ապահովում
B21: Միջոցառման տեսակը` | C21: Այլ պետական կազմակերպությունների կողմից օգտագործվող ոչ ֆինանսական ակտիվների հետ գործառնություններ
B22: Ակտիվն օգտագործող կազմակերպությունների անվանումները | C22: «Մշակույթի զարգացման» հիմնադրամ
B23: Արդյունքի չափորոշիչներ
B24: Համակարգչային սարքավորումների քանակ, հատ | D24: 24
B25: Գրասենյակային գույքի միավորի քանակ, հատ | D25: 59
B26: Տեխնիկա, սարքեր և սարքավորումներ, հատ | D26: 2
B27: Համակարգչային ծրագրերի քանակ, հատ | D27: 1
B28: Միջոցառման վրա կատարվող ծախսը (հազար դրամ) | D28: =+'Հավելված N 1'!D22 -> 12626.7
B30: Ծրագրի դասիչը | C30: Ծրագրի անվանումը
B31: 1124 | C31: Գրահրատարակչության և գրադարանների ծրագիր
B33: Ծրագրի միջոցառումները
B34: Ծրագրի դասիչը՝ | C34: 1124 | D34: Ցուցանիշների փոփոխությունը (ավելացումները նշված են դրական նշանով)
B35: Միջոցառման դասիչը՝ | C35: 32002 | D35: Տարի
B36: Միջոցառման անվանումը՝ | C36: Ներդրումներ գրադարանների հիմնանորոգման համար
B37: Նկարագրությունը՝ | C37: Գրադարանների շենքերի, մասնաշենքերի հիմնանորոգում, համաշինարարական աշխատանքներ, ջեռուցման համակարգի իրականացում, ներքին հարդարում, տարածքի բարեկարգում և նախագծում
B38: Միջոցառման տեսակը՝ | C38: Այլ պետական կազմակերպությունների կողմից օգտագործվող ոչ ֆինանսական ակտիվների հետ գործառնություններ
B39: Ակտիվն օգտագործող կազմակերպությունների անվանումները | C39: Հանրային գրադարաններ
B40: Արդյունքի չափորոշիչներ
B41: Մասնակի նորոգվող գրադարանների քանակը, հատ | D41: 1
B42: Միջոցառման վրա կատարվող ծախսը (հազար դրամ) | D42: =+'Հավելված N 1'!D35 -> 923.7
B44: Ծրագրի դասիչը | C44: Ծրագրի անվանումը
B45: 1168 | C45: Արվեստների ծրագիր
B47: Ծրագրի միջոցառումները
B48: Ծրագրի դասիչը՝ | C48: 1168 | D48: Ցուցանիշների փոփոխությունը (նվազեցումները նշված են փակագծերում)
B49: Միջոցառման դասիչը` | C49: 32001 | D49: Տարի
B50: Միջոցառման անվանումը` | C50: Ներդրումներ թատրոնների և համերգային կազմակերպությունների շենքերի կապիտալ վերանորոգման համար
B51: Նկարագրությունը` | C51: Թատրոնների և համերգային կազմակերպությունների շենքերի մասնաշենքերի հիմնանորոգում, համաշինարարական աշխատանքներ, ջեռուցման համակարգի իրականացում, ներքին հարդարում, տարածքի բարեկարգում և նախագծում
B52: Միջոցառման տեսակը` | C52: Այլ պետական կազմակերպությունների կողմից օգտագործվող ոչ ֆինանսական ակտիվների հետ գործառնություններ
B53: Ակտիվն օգտագործող կազմակերպությունների անվանումները | C53: Թատրոններ և համերգային կազմակերպություններ
B54: Արդյունքի չափորոշիչներ
B55: Միջոցառման վրա կատարվող ծախսը (հազար դրամ) | D55: =+'Հավելված N 1'!D48 -> -13550.4
B57: Ծրագրի դասիչը | C57: Ծրագրի անվանումը
B58: 1183 | C58: Ապահով դպրոց
B60: Ծրագրի միջոցառումները
B61: Ծրագրի դասիչը՝ | C61: 1183 | D61: Ցուցանիշների փոփոխությունը (ավելացումները նշված են դրական նշանով)
B62: Միջոցառման դասիչը՝ | C62: 32001 | D62: Տարի
B63: Միջոցառման անվանումը` | C63: Կրթական օբյեկտների շենքային պայմանների բարելավում
B64: Նկարագրությունը` | C64: Կրթական օբյեկտների շենքերի (մասնաշենքերի) հիմնանորոգում (համաշինարարական աշխատանքներ, ջեռուցման համակարգի իրականացում, ներքին հարդարում, տարածքի բարեկարգում) և նախագծում
B65: Միջոցառման տեսակը` | C65: Այլ պետական կազմակերպությունների կողմից օգտագործվող ոչ ֆինանսական ակտիվների հետ գործառնություններ
B66: Ակտիվն օգտագործող կազմակերպությունների անվանումները | C66: Հանրակրթական դպրոցներ
B67: Արդյունքի չափորոշիչներ
B68: Մասնակի նորոգվող ուսումնական հաստատությունների քանակ, հատ | D68: 2
B69: Միջոցառման վրա կատարվող ծախսը (հազար դրամ) | D69: =+'Հավելված N 1'!D61 -> 46691.9
B71: Ծրագրի դասիչը | C71: Ծրագրի անվանումը
B72: 1236 | C72: Հանրակրթական և նախադպրոցական հաստատությունների հիմնում, կառուցում, բարելավում
B74: Ծրագրի միջոցառումները
B75: Ծրագրի դասիչը՝ | C75: 1236 | D75: Ցուցանիշների փոփոխությունը (նվազեցումները նշված են փակագծերում)
B76: Միջոցառման դասիչը՝ | C76: 32003 | D76: Տարի
B77: Միջոցառման անվանումը` | C77: Հանրակրթական դպրոցների նոր շենքերի կառուցում
B78: Նկարագրությունը` | C78: ՀՀ մարզերում կրթական որակյալ ծառայությունների հասանելիության ապահովման ծրագրի շրջանակներում հանրակրթական և նախադպրոցական կրթության հասանելիության ապահովման նպատակով կրթական կենտրոնների կառուցում
B79: Միջոցառման տեսակը` | C79: Այլ պետական կազմակերպությունների կողմից օգտագործվող ոչ ֆինանսական ակտիվների հետ գործառնություններ
B80: Ակտիվն օգտագործող կազմակերպությունների անվանումները | C80: Հանրակրթական դպրոցներ
B81: Արդյունքի չափորոշիչներ
B82: Միջոցառման վրա կատարվող ծախսը (հազար դրամ) | D82: =+'Հավելված N 1'!D74 -> -46691.9
A88: Աղյուսակ 9․48
C89: ՀՀ կառավարություն
B90: ՄԱՍ 2. ՊԵՏԱԿԱՆ ՄԱՐՄՆԻ ԳԾՈՎ ԱՐԴՅՈՒՆՔԱՅԻՆ (ԿԱՏԱՐՈՂԱԿԱՆ) ՑՈՒՑԱՆԻՇՆԵՐԸ
B93: Ծրագրի դասիչը | C93: Ծրագրի անվանումը
B94: 1139 | C94: ՀՀ կառավարության պահուստային ֆոնդ
B96: Ծրագրի միջոցառումները
B97: Ծրագրի դասիչը՝ | C97: 1139 | D97: Ցուցանիշների փոփոխությունը (ավելացումները նշված են դրական նշանով)
B98: Միջոցառման դասիչը՝ | C98: 11001 | D98: Տարի
B99: Միջոցառման անվանումը` | C99: ՀՀ կառավարության պահուստային ֆոնդ
B100: Նկարագրությունը` | C100: ՀՀ պետական բյուջեում նախատեսված ելքերի լրացուցիչ ֆինանսավորման, պետական բյուջեում չկանխատեսված ելքերի, ինչպես նաև բյուջետային երաշխիքների ապահովման ելքերի ֆինանսավորման ապահովում
B101: Միջոցառման տեսակը` | C101: Ծառայությունների մատուցում
B102: Միջոցառումն իրականացնողի անվանումը | C102: ՀՀ կառավարություն
B103: Արդյունքի չափորոշիչներ
B104: Միջոցառման վրա կատարվող ծախսը (հազար դրամ) | D104: =+'Հավելված N 1'!D88 -> 12626.7
B106: Ծրագրի միջոցառումները
B107: Ծրագրի դասիչը՝ | C107: 1139 | D107: Ցուցանիշների փոփոխությունը (նվազեցումները նշված են փակագծերում)
B108: Միջոցառման դասիչը՝ | C108: 11001 | D108: Տարի
B109: Միջոցառման անվանումը` | C109: ՀՀ կառավարության պահուստային ֆոնդ
B110: Նկարագրությունը` | C110: ՀՀ պետական բյուջեում նախատեսված ելքերի լրացուցիչ ֆինանսավորման, պետական բյուջեում չկանխատեսված ելքերի, ինչպես նաև բյուջետային երաշխիքների ապահովման ելքերի ֆինանսավորման ապահովում
B111: Միջոցառման տեսակը` | C111: Ծառայությունների մատուցում
B112: Միջոցառումն իրականացնողի անվանումը | C112: ՀՀ կառավարություն
B113: Արդյունքի չափորոշիչներ
B114: Միջոցառման վրա կատարվող ծախսը (հազար դրամ) | D114: =+'Հավելված N 1'!D94 -> -12626.7

Sheet Հավելված N 7
C1: Հավելված N 7
C2: ՀՀ կառավարության 2024 թվականի
C3: ______________ ի ___Ն որոշման
B6: ՀԱՅԱՍՏԱՆԻ ՀԱՆՐԱՊԵՏՈՒԹՅԱՆ ԿԱՌԱՎԱՐՈՒԹՅԱՆ 2023 ԹՎԱԿԱՆԻ ԴԵԿՏԵՄԲԵՐԻ 28-Ի N 2323-Ն ՈՐՈՇՄԱՆ N 9.1 ՀԱՎԵԼՎԱԾԻ NN 9.1.13, 9.1.50, 9.1.52 ԵՎ 9.1.58 ԱՂՅՈՒՍԱԿՆԵՐՈՒՄ ԿԱՏԱՐՎՈՂ ՓՈՓՈԽՈՒԹՅՈՒՆՆԵՐԸ ԵՎ ԼՐԱՑՈՒՄՆԵՐԸ
A8: Աղյուսակ 9․1.13
C9: ՀՀ կրթության, գիտության, մշակույթի և սպորտի նախարարություն
B10: ՄԱՍ 1. ՊԵՏԱԿԱՆ ՄԱՐՄՆԻ ԳԾՈՎ ԱՐԴՅՈՒՆՔԱՅԻՆ (ԿԱՏԱՐՈՂԱԿԱՆ) ՑՈՒՑԱՆԻՇՆԵՐԸ
B13: Ծրագրի դասիչը | C13: Ծրագրի անվանումը
B14: 1075 | C14: Մշակութային ժառանգության ծրագիր
B16: Ծրագրի միջոցառումները
B17: Ծրագրի դասիչը՝ | C17: 1075 | D17: Ցուցանիշների փոփոխությունը (ավելացումները նշված են դրական նշանով)
B18: Միջոցառման դասիչը՝ | C18: 32011 | D18: Տարի
B19: Միջոցառման անվանումը` | C19: «Մշակույթի զարգացման» հիմնադրամի ենթակառուցվածքների և կարողությունների զարգացում
B20: Նկարագրությունը` | C20: «Մշակույթի զարգացման» հիմնադրամի ենթակառուցվածքների արդիականացում, հիմնադրամի գույքով և տեխնիկայով ապահովում
B21: Միջոցառման տեսակը` | C21: Այլ պետական կազմակերպությունների կողմից օգտագործվող ոչ ֆինանսական ակտիվների հետ գործառնություններ
B22: Ակտիվն օգտագործող կազմակերպությունների անվանումները | C22: «Մշակույթի զարգացման» հիմնադրամ
B23: Արդյունքի չափորոշիչներ
B24: Համակարգչային սարքավորումների քանակ, հատ | D24: 24
B25: Գրասենյակային գույքի միավորի քանակ, հատ | D25: 59
B26: Տեխնիկա, սարքեր և սարքավորումներ, հատ | D26: 2
B27: Համակարգչային ծրագրերի քանակ, հատ | D27: 1
B28: Միջոցառման վրա կատարվող ծախսը (հազար դրամ) | D28: =+'Հավելված N 2'!G52 -> 12626.7
B30: Ծրագրի դասիչը | C30: Ծրագրի անվանումը
B31: 1124 | C31: Գրահրատարակչության և գրադարանների ծրագիր
B33: Ծրագրի միջոցառումները
B34: Ծրագրի դասիչը՝ | C34: 1124 | D34: Ցուցանիշների փոփոխությունը (ավելացումները նշված են դրական նշանով)
B35: Միջոցառման դասիչը՝ | C35: 32002 | D35: Տարի
B36: Միջոցառման անվանումը՝ | C36: Ներդրումներ գրադարանների հիմնանորոգման համար
B37: Նկարագրությունը՝ | C37: Գրադարանների շենքերի, մասնաշենքերի հիմնանորոգում, համաշինարարական աշխատանքներ, ջեռուցման համակարգի իրականացում, ներքին հարդարում, տարածքի բարեկարգում և նախագծում
B38: Միջոցառման տեսակը՝ | C38: Այլ պետական կազմակերպությունների կողմից օգտագործվող ոչ ֆինանսական ակտիվների հետ գործառնություններ
B39: Ակտիվն օգտագործող կազմակերպությունների անվանումները | C39: Հանրային գրադարաններ
B40: Արդյունքի չափորոշիչներ
B41: Մասնակի նորոգվող գրադարանների քանակը, հատ | D41: 1
B42: Միջոցառման վրա կատարվող ծախսը (հազար դրամ) | D42: =+'Հավելված N 2'!G26 -> 923.7
B44: Ծրագրի դասիչը | C44: Ծրագրի անվանումը
B45: 1168 | C45: Արվեստների ծրագիր
B47: Ծրագրի միջոցառումները
B48: Ծրագրի դասիչը՝ | C48: 1168 | D48: Ցուցանիշների փոփոխությունը (նվազեցումները նշված են փակագծերում)
B49: Միջոցառման դասիչը` | C49: 32001 | D49: Տարի
B50: Միջոցառման անվանումը` | C50: Ներդրումներ թատրոնների և համերգային կազմակերպությունների շենքերի կապիտալ վերանորոգման համար
B51: Նկարագրությունը` | C51: Թատրոնների և համերգային կազմակերպությունների շենքերի մասնաշենքերի հիմնանորոգում, համաշինարարական աշխատանքներ, ջեռուցման համակարգի իրականացում, ներքին հարդարում, տարածքի բարեկարգում և նախագծում
B52: Միջոցառման տեսակը` | C52: Այլ պետական կազմակերպությունների կողմից օգտագործվող ոչ ֆինանսական ակտիվների հետ գործառնություններ
B53: Ակտիվն օգտագործող կազմակերպությունների անվանումները | C53: Թատրոններ և համերգային կազմակերպություններ
B54: Արդյունքի չափորոշիչներ
B55: Միջոցառման վրա կատարվող ծախսը (հազար դրամ) | D55: =+'Հավելված N 2'!G67 -> -13550.4
B57: Ծրագրի դասիչը | C57: Ծրագրի անվանումը
B58: 1236 | C58: Հանրակրթական և նախադպրոցական հաստատությունների հիմնում, կառուցում, բարելավում
B60: Ծրագրի միջոցառումները
B61: Ծրագրի դասիչը՝ | C61: 1236 | D61: Ցուցանիշների փոփոխությունը (նվազեցումները նշված են փակագծերում)
B62: Միջոցառման դասիչը՝ | C62: 32003 | D62: Տարի
B63: Միջոցառման անվանումը` | C63: Հանրակրթական դպրոցների նոր շենքերի կառուցում
B64: Նկարագրությունը` | C64: ՀՀ մարզերում կրթական որակյալ ծառայությունների հասանելիության ապահովման ծրագրի շրջանակներում հանրակրթական և նախադպրոցական կրթության հասանելիության ապահովման նպատակով կրթական կենտրոնների կառուցում
B65: Միջոցառման տեսակը` | C65: Այլ պետական կազմակերպությունների կողմից օգտագործվող ոչ ֆինանսական ակտիվների հետ գործառնություններ
B66: Ակտիվն օգտագործող կազմակերպությունների անվանումները | C66: Հանրակրթական դպրոցներ
B67: Արդյունքի չափորոշիչներ
B68: Միջոցառման վրա կատարվող ծախսը (հազար դրամ) | D68: =+'Հավելված N 2'!G86 -> -46691.9
A74: Աղյուսակ 9․1.50
C75: ՀՀ Արմավիրի մարզպետի աշխատակազմ
B76: ՄԱՍ 1. ՊԵՏԱԿԱՆ ՄԱՐՄՆԻ ԳԾՈՎ ԱՐԴՅՈՒՆՔԱՅԻՆ (ԿԱՏԱՐՈՂԱԿԱՆ) ՑՈՒՑԱՆԻՇՆԵՐԸ
B80: Ծրագրի դասիչը | C80: Ծրագրի անվանումը
B81: 1183 | C81: Ապահով դպրոց
B83: Ծրագրի միջոցառումները
B84: Ծրագրի դասիչը՝ | C84: 1183 | D84: Ցուցանիշների փոփոխությունը (ավելացումները նշված են դրական նշանով)
B85: Միջոցառման դասիչը՝ | C85: 32001 | D85: Տարի
B86: Միջոցառման անվանումը` | C86: Կրթական օբյեկտների շենքային պայմանների բարելավում
B87: Նկարագրությունը` | C87: Կրթական օբյեկտների շենքերի (մասնաշենքերի) հիմնանորոգում (համաշինարարական աշխատանքներ, ջեռուցման համակարգի իրականացում, ներքին հարդարում, տարածքի բարեկարգում) և նախագծում
B88: Միջոցառման տեսակը` | C88: Այլ պետական կազմակերպությունների կողմից օգտագործվող ոչ ֆինանսական ակտիվների հետ գործառնություններ
B89: Ակտիվն օգտագործող կազմակերպությունների անվանումները | C89: Հանրակրթական դպրոցներ
B90: Արդյունքի չափորոշիչներ
B91: Մասնակի նորոգվող ուսումնական հաստատությունների քանակ, հատ | D91: 1
B92: Միջոցառման վրա կատարվող ծախսը (հազար դրամ) | D92: =+'Հավելված N 2'!G103 -> 19322.8
A98: Աղյուսակ 9․1.52
C99: ՀՀ Լոռու մարզպետի աշխատակազմ
B100: ՄԱՍ 1. ՊԵՏԱԿԱՆ ՄԱՐՄՆԻ ԳԾՈՎ ԱՐԴՅՈՒՆՔԱՅԻՆ (ԿԱՏԱՐՈՂԱԿԱՆ) ՑՈՒՑԱՆԻՇՆԵՐԸ
B104: Ծրագրի դասիչը | C104: Ծրագրի անվանումը
B105: 1183 | C105: Ապահով դպրոց
B107: Ծրագրի միջոցառումները
B108: Ծրագրի դասիչը՝ | C108: 1183 | D108: Ցուցանիշների փոփոխությունը (ավելացումները նշված են դրական նշանով)
B109: Միջոցառման դասիչը՝ | C109: 32001 | D109: Տարի
B110: Միջոցառման անվանումը` | C110: Կրթական օբյեկտների շենքային պայմանների բարելավում
B111: Նկարագրությունը` | C111: Կրթական օբյեկտների շենքերի (մասնաշենքերի) հիմնանորոգում (համաշինարարական աշխատանքներ, ջեռուցման համակարգի իրականացում, ներքին հարդարում, տարածքի բարեկարգում) և նախագծում
B112: Միջոցառման տեսակը` | C112: Այլ պետական կազմակերպությունների կողմից օգտագործվող ոչ ֆինանսական ակտիվների հետ գործառնություններ
B113: Ակտիվն օգտագործող կազմակերպությունների անվանումները | C113: Հանրակրթական դպրոցներ
B114: Արդյունքի չափորոշիչներ
B115: Մասնակի նորոգվող ուսումնական հաստատությունների քանակ, հատ | D115: 1
B116: Միջոցառման վրա կատարվող ծախսը (հազար դրամ) | D116: =+'Հավելված N 2'!G110 -> 27369.1
A122: Աղյուսակ 9․1.58
C123: ՀՀ կառավարություն
B124: ՄԱՍ 1. ՊԵՏԱԿԱՆ ՄԱՐՄՆԻ ԳԾՈՎ ԱՐԴՅՈՒՆՔԱՅԻՆ (ԿԱՏԱՐՈՂԱԿԱՆ) ՑՈՒՑԱՆԻՇՆԵՐԸ
B127: Ծրագրի դասիչը | C127: Ծրագրի անվանումը
B128: 1139 | C128: ՀՀ կառավարության պահուստային ֆոնդ
B130: Ծրագրի միջոցառումները
B131: Ծրագրի դասիչը՝ | C131: 1139 | D131: Ցուցանիշների փոփոխությունը (ավելացումները նշված են դրական նշանով)
B132: Միջոցառման դասիչը՝ | C132: 11001 | D132: Տարի
B133: Միջոցառման անվանումը` | C133: ՀՀ կառավարության պահուստային ֆոնդ
B134: Նկարագրությունը` | C134: ՀՀ պետական բյուջեում նախատեսված ելքերի լրացուցիչ ֆինանսավորման, պետական բյուջեում չկանխատեսված ելքերի, ինչպես նաև բյուջետային երաշխիքների ապահովման ելքերի ֆինանսավորման ապահովում
B135: Միջոցառման տեսակը` | C135: Ծառայությունների մատուցում
B136: Միջոցառումն իրականացնողի անվանումը | C136: ՀՀ կառավարություն
B137: Արդյունքի չափորոշիչներ
B138: Միջոցառման վրա կատարվող ծախսը (հազար դրամ) | D138: =+'Հավելված N 2'!G131 -> 12626.7
...

Sheet Հավելված N 8
H1: Հավելված N 8
H2: ՀՀ կառավարության 2024 թվականի
H3: ______________ ի ___Ն որոշման
A6: ՀԱՅԱՍՏԱՆԻ ՀԱՆՐԱՊԵՏՈՒԹՅԱՆ ԿԱՌԱՎԱՐՈՒԹՅԱՆ 2023 ԹՎԱԿԱՆԻ ԴԵԿՏԵՄԲԵՐԻ 28-Ի N 2323-Ն N 10 ՀԱՎԵԼՎԱԾՈՒՄ ԿԱՏԱՐՎՈՂ ՓՈՓՈԽՈՒԹՅՈՒՆՆԵՐԸ
A10: Կոդը | B10: Անվանումը | E10: Գնման ձևը | F10: Չափման միավորը | G10: Միավորի գինը | H10: Ցուցանիշների փոփոխությունը (նվազեցումները նշված են փակագծերում)
H11: Քանակը | I11: Գումարը (հազար դրամ)
A12: 1 | B12: 2 | E12: 3 | F12: 4 | G12: 5 | H12: 6 | I12: 7
A13: ՀՀ կրթության, գիտության, մշակույթի և սպորտի նախարարություն | I13: =+I14+I21+I28 -> -60242.3
A14: Բաժին N 08 | B14: Խումբ N 02 | C14: Դաս N 02 | D14: Թանգարաններ և ցուցասրահներ | I14: =+I15 -> 0
A15: 1075-32001 | B15: Ներդրումներ թանգարանների և պատկերասրահների հիմնանորոգման համար | I15: =+I16+I18 -> 0
B16: ՄԱՍ II. ԱՇԽԱՏԱՆՔՆԵՐ | I16: =+I17 -> -2200
A17: 45611200-1 | B17: մշակութային օբյեկտների հիմնանորոգում | E17: ԲՄ | F17: դրամ | I17: =-I18 -> -2200
B18: ՄԱՍ III. ԾԱՌԱՅՈՒԹՅՈՒՆՆԵՐ | I18: =SUM(I19:I20) -> 2200
A19: 71241200 | B19: նախագծերի պատրաստում, ծախսերի գնահատում | E19: ԳՀ | F19: դրամ | G19: 2000000 | H19: 1 | I19: =+ROUND(H19*G19/1000,1) -> 2000
A20: 50531140 | B20: փորձաքննության ծառայություններ | E20: ԳՀ | F20: դրամ | G20: 200000 | H20: 1 | I20: =+ROUND(H20*G20/1000,1) -> 200
A21: Բաժին N 08 | B21: Խումբ N 02 | C21: Դաս N 05 | D21: Արվեստ | I21: =+I22 -> -13550.4
A22: 1168-32001 | B22: Ներդրումներ թատրոնների և համերգային կազմակերպությունների շենքերի կապիտալ վերանորոգման համար | I22: =+I23+I25 -> -13550.4
B23: ՄԱՍ II. ԱՇԽԱՏԱՆՔՆԵՐ | I23: =+I24 -> -13207
A24: 45611200-1 | B24: մշակութային օբյեկտների հիմնանորոգում | E24: ԲՄ | F24: դրամ | I24: =-29606.6+16399.6 -> -13207
B25: ՄԱՍ III. ԾԱՌԱՅՈՒԹՅՈՒՆՆԵՐ | I25: =SUM(I26:I27) -> -343.4
A26: 71351540-1 | B26: տեխնիկական հսկողության ծառայություններ | E26: ԳՀ | F26: դրամ | I26: =-592.1+328 -> -264.1
A27: 98111140-1 | B27: հեղինակային հսկողության ծառայություններ | E27: ՄԱ | F27: դրամ | I27: =-177.7+98.4 -> -79.3
A28: Բաժին N 09 | B28: Խումբ N 02 | C28: Դաս N 01 | D28: Հիմնական ընդհանուր կրթություն | I28: =+I29 -> -46691.9
A29: 1236-32003 | B29: Հանրակրթական դպրոցների նոր շենքերի կառուցում | I29: =+I30+I32 -> -46691.9
B30: ՄԱՍ II. ԱՇԽԱՏԱՆՔՆԵՐ | I30: =SUM(I31:I31) -> -45069.4
A31: 45221142-1 | B31: ընդհանուր շինարարական աշխատանքներ | E31: ԲՄ | F31: դրամ | I31: -45069.4
B32: ՄԱՍ III. ԾԱՌԱՅՈՒԹՅՈՒՆՆԵՐ | I32: =SUM(I33:I34) -> -1622.5
A33: 71351540-1 | B33: տեխնիկական հսկողության ծառայություններ | E33: ԳՀ | F33: դրամ | I33: -1352.1
A34: 98111140-1 | B34: հեղինակային հսկողության ծառայություններ | E34: ՄԱ | F34: դրամ | I34: -270.4

Sheet Հավելված N 9
E1: Հավելված N 9
G2: ՀՀ կառավարության 2024 թվականի
G3: ______________ ի ___Ն որոշման
A6: ՀԱՅԱՍՏԱՆԻ ՀԱՆՐԱՊԵՏՈՒԹՅԱՆ 2024 ԹՎԱԿԱՆԻ ՊԵՏԱԿԱՆ ԲՅՈՒՋԵՈՎ ՆԱԽԱՏԵՍՎԱԾ՝ ՀԱՅԱՍՏԱՆԻ ՀԱՆՐԱՊԵՏՈՒԹՅԱՆ ԿԱՌԱՎԱՐՈՒԹՅԱՆ ՊԱՀՈՒՍՏԱՅԻՆ ՖՈՆԴԻՑ ՀԱՏԿԱՑՈՒՄՆԵՐ ԿԱՏԱՐԵԼՈՒ ՎԵՐԱԲԵՐՅԱԼ
G8: հազար դրամներով
A9: Գործառական դասիչը | D9: Ծրագրային դասիչը | F9: Բյուջետային հատկացումների գլխավոր կարգադրիչների, ծրագրերի, միջոցառումների և միջոցառումները կատարող պետական մարմինների անվանումները | G9: Ցուցանիշների փոփոխությունը (ավելացումները նշված են դրական նշանով, իսկ նվազեցումները՝ փակագծերում)
A10: Բաժին | B10: Խումբ | C10: Դաս | D10: Ծրագիր | E10: Միջոցառում | G10: Տարի
F11: ԸՆԴԱՄԵՆԸ | G11: =+G13+G33 -> 0
F12: այդ թվում
F13: ՀՀ ԿԱՌԱՎԱՐՈՒԹՅՈՒՆ | G13: =+G14 -> -12626.7
A14: 11 | F14: ՀԻՄՆԱԿԱՆ ԲԱԺԻՆՆԵՐԻՆ ՉԴԱՍՎՈՂ ՊԱՀՈՒՍՏԱՅԻՆ ՖՈՆԴԵՐ | G14: =+G16 -> -12626.7
F15: այդ թվում`
B16: 01 | F16: ՀՀ կառավարության և համայնքների պահուստային ֆոնդ | G16: =+G18 -> -12626.7
F17: այդ թվում`
C18: 01 | F18: ՀՀ կառավարության պահուստային ֆոնդ | G18: =+G20 -> -12626.7
F19: այդ թվում`
F20: ՀՀ կառավարություն | G20: =+G22 -> -12626.7
F21: այդ թվում`
D22: 1139 | E22: ՀՀ կառավարության պահուստային ֆոնդ | F22: ՀՀ կառավարության պահուստային ֆոնդ | G22: =+G24 -> -12626.7
F23: այդ թվում`
E24: 11001 | F24: ՀՀ կառավարության պահուստային ֆոնդ | G24: =+G26 -> -12626.7
F25: այդ թվում` ըստ կատարողների
F26: ՀՀ կառավարություն | G26: =+G28 -> -12626.7
F27: այդ թվում՝ բյուջետային ծախսերի տնտեսագիտական դասակարգման հոդվածներ
F28: ԸՆԴԱՄԵՆԸ ԾԱԽՍԵՐ | G28: =+G29 -> -12626.7
F29: ԸՆԹԱՑԻԿ ԾԱԽՍԵՐ | G29: =+G30 -> -12626.7
F30: ԱՅԼ ԾԱԽՍԵՐ | G30: =+G31 -> -12626.7
F31: Պահուստային միջոցներ | G31: =+'Հավելված N 2'!G144 -> -12626.7
F33: ՀՀ ԿՐԹՈՒԹՅԱՆ, ԳԻՏՈՒԹՅԱՆ, ՄՇԱԿՈՒՅԹԻ ԵՎ ՍՊՈՐՏԻ ՆԱԽԱՐԱՐՈՒԹՅՈՒՆ | G33: =+G34 -> 12626.7
A34: 08 | F34: ՀԱՆԳԻՍՏ, ՄՇԱԿՈՒՅԹ ԵՎ ԿՐՈՆ | G34: =+G36 -> 12626.7
F35: այդ թվում`
B36: 02 | F36: Մշակութային ծառայություններ | G36: =+G38 -> 12626.7
F37: այդ թվում`
C38: 02 | F38: Թանգարաններ և ցուցասրահներ | G38: =+G40 -> 12626.7
F39: այդ թվում`
F40: ՀՀ կրթության, գիտության, մշակույթի և սպորտի նախարարություն | G40: =+G42 -> 12626.7
F41: այդ թվում`
D42: 1075 | E42: Մշակութային ժառանգության ծրագիր | G42: =+G44 -> 12626.7
F43: այդ թվում`
E44: 32011 | F44: «Մշակույթի զարգացման» հիմնադրամի ենթակառուցվածքների և կարողությունների զարգացում | G44: =+G46 -> 12626.7
F45: այդ թվում` ըստ կատարողների
F46: ՀՀ կրթության, գիտության, մշակույթի և սպորտի նախարարություն | G46: =+G48 -> 12626.7
F47: այդ թվում՝ բյուջետային ծախսերի տնտեսագիտական դասակարգման հոդվածներ
F48: ԸՆԴԱՄԵՆԸ ԾԱԽՍԵՐ | G48: =+G49 -> 12626.7
F49: ԸՆԹԱՑԻԿ ԾԱԽՍԵՐ | G49: =+G50 -> 12626.7
F50: ԴՐԱՄԱՇՆՈՐՀՆԵՐ | G50: =+G51 -> 12626.7
F51: ԿԱՊԻՏԱԼԴՐԱՄԱՇՆՈՐՀՆԵՐ ՊԵՏԱԿԱՆ ՀԱՏՎԱԾԻ ԱՅԼ ՄԱԿԱՐԴԱԿՆԵՐԻՆ | G51: =+G52 -> 12626.7
F52: - Այլ կապիտալ դրամաշնորհներ | G52: =+'Հավելված N 2'!G58 -> 12626.7
