Workbook

Sheet 1
A1: Հավելված N 1 ՀՀ կառավարության 2024 թվականի ․․․․․․․․․․․․․․․․․․․․․․․ -ի N -Ն որոշման
A3: «ՀԱՅԱՍՏԱՆԻ ՀԱՆՐԱՊԵՏՈՒԹՅԱՆ 2024 ԹՎԱԿԱՆԻ ՊԵՏԱԿԱՆ ԲՅՈՒՋԵԻ ՄԱՍԻՆ» ՀԱՅԱՍՏԱՆԻ ՀԱՆՐԱՊԵՏՈՒԹՅԱՆ ՕՐԵՆՔԻ N 3 ՀԱՎԵԼՎԱԾԻ N 1 ԱՂՅՈՒՍԱԿՈՒՄ ԵՎ ՀԱՅԱՍՏԱՆԻ ՀԱՆՐԱՊԵՏՈՒԹՅԱՆ ԿԱՌԱՎԱՐՈՒԹՅԱՆ 2023 ԹՎԱԿԱՆԻ ԴԵԿՏԵՄԲԵՐԻ 28-Ի N 2323-Ն ՈՐՈՇՄԱՆ N 1 ՀԱՎԵԼՎԱԾԻ N 1 ԱՂՅՈՒՍԱԿՈՒՄ ԿԱՏԱՐՎՈՂ ՓՈՓՈԽՈՒԹՅՈՒՆՆԵՐԸ ԵՎ ԼՐԱՑՈՒՄՆԵՐԸ
B5: հազ. դրամ
A6: Պետական բյուջեի դեֆիցիտի ֆինանսավորման աղբյուրներն ու դրանց տարրերի անվանումները | B6: Ցուցանիշների փոփոխությունը (ավելացումները նշված են դրական նշանով, իսկ նվազեցումները` փակագծերում)
B7: Տարի
A8: ԸՆԴԱՄԵՆԸ | B8: =B12 -> 0
A9: այդ թվում՝
A10: Ա.Ներքին աղբյուրներ-ընդամենը | B10: =B12 -> 0
A11: այդ թվում՝
A12: 2. Ֆինանսական զուտ ակտիվներ | B12: =B14+B15 -> 0
A13: այդ թվում՝
A14: 2.3. Ելքերի ֆինանսավորմանն ուղղվող պետական բյուջեի տարեսկզբի ազատ մնացորդի միջոցներ | B14: =-B17 -> 1343651.1
A15: 2.4. Վարկերի և փոխատվությունների տրամադրում | B15: =+B17 -> -1343651.1
A16: այդ թվում
A17: Բյուջետային վարկի տրամադրում տնտեսվարող սուբյեկտներին | B17: -1343651.1

Sheet 2
A1: Հավելված N 2 ՀՀ կառավարության 2024 թվականի ․․․․․․․․․․․․․․․․․․․․․․․․ -ի N -Ն որոշման
B2: «ՀԱՅԱՍՏԱՆԻ ՀԱՆՐԱՊԵՏՈՒԹՅԱՆ 2024 ԹՎԱԿԱՆԻ ՊԵՏԱԿԱՆ ԲՅՈՒՋԵԻ ՄԱՍԻՆ» ՀԱՅԱՍՏԱՆԻ ՀԱՆՐԱՊԵՏՈՒԹՅԱՆ ՕՐԵՆՔԻ N 3 ՀԱՎԵԼՎԱԾԻ N 1.1 ԱՂՅՈՒՍԱԿՈՒՄ ԵՎ ՀԱՅԱՍՏԱՆԻ ՀԱՆՐԱՊԵՏՈՒԹՅԱՆ ԿԱՌԱՎԱՐՈՒԹՅԱՆ 2023 ԹՎԱԿԱՆԻ ԴԵԿՏԵՄԲԵՐԻ 28-Ի N 2323-Ն N 1 ՀԱՎԵԼՎԱԾԻ N 2 ԱՂՅՈՒՍԱԿՈՒՄ ԿԱՏԱՐՎՈՂ ՓՈՓՈԽՈՒԹՅՈՒՆՆԵՐՆ ՈՒ ԼՐԱՑՈՒՄՆԵՐԸ
E4: հազ. դրամ
B5: Ծրագրային դասիչ | D5: Բյուջետային գլխավոր կարգադրիչների, ծրագրերի և միջոցառումների անվանումները | E5: Ցուցանիշների փոփոխությունը (ավելացումները նշված են դրական նշանով)
B6: Ծրագիր | C6: Միջոցառում | E6: Տարի
D7: ԸՆԴԱՄԵՆԸ այդ թվում | E7: =+E9 -> 1343651.1
B8: ՀՀ կրթության, գիտության, մշակույթի և սպորտի նախարարություն
B9: 1168 | D9: Ծրագրի անվանումը՝ | E9: =E16 -> 1343651.1
D10: Արվեստների ծրագիր
D11: Ծրագրի նպատակը՝ Նպաստել ազգային հենքի վրա ժամանակակից թատերարվեստի, երաժշտարվեստի, կերպարվեստի և պարարվեստի զարգացմանը և հանրահռչակմանը
D13: Վերջնական արդյունքի նկարագրությունը՝ Մրցունակ արվեստային արտադրանքի ստեղծում, ստեղծագործական գործընթացների խթանում, արվեստի նոր նախագծերի ներդրում և մշակութային կյանքում հասարակության ներգրավում
B15: Ֆինանսական ակտիվների կառավարման միջոցառումներ
C16: 42001 | D16: Միջոցառման անվանումը՝ | E16: =-'1'!B17 -> 1343651.1
D17: «Կարեն Դեմիրճյանի անվան մարզահամերգային համալիր» փակ բաժնետիրական ընկերությանը բյուջետային վարկի տրամադրում
D18: Նկարագրությունը՝
D19: Կարեն Դեմիրճյանի անվան մարզահամերգային համալիրի օդափոխության համակարգի վերազինման, հակահրդեհային համակարգի ստեղծման և նշված համակարգերի վերազինման նպատակով էլեկտրական համակարգի արդիականացման նպատակով բյուջետային վարկի տրամադրում
D20: Միջոցառման տեսակը՝ Վարկի տրամադրում

Sheet 3
A1: Հավելված N 3 ՀՀ կառավարության 2024 թվականի ․․․․․․․․․․․․․․․․․․․․․․․ -ի N -Ն որոշման
A2: «ՀԱՅԱՍՏԱՆԻ ՀԱՆՐԱՊԵՏՈՒԹՅԱՆ 2024 ԹՎԱԿԱՆԻ ՊԵՏԱԿԱՆ ԲՅՈՒՋԵԻ ՄԱՍԻՆ» ՀԱՅԱՍՏԱՆԻ ՀԱՆՐԱՊԵՏՈՒԹՅԱՆ ՕՐԵՆՔԻ N 3 ՀԱՎԵԼՎԱԾԻ N1.1.1․1 ԱՂՅՈՒՍԱԿՈՒՄ ԵՎ ՀԱՅԱՍՏԱՆԻ ՀԱՆՐԱՊԵՏՈՒԹՅԱՆ ԿԱՌԱՎԱՐՈՒԹՅԱՆ 2023 ԹՎԱԿԱՆԻ ԴԵԿՏԵՄԲԵՐԻ 28-Ի N 2323-Ն ՈՐՈՇՄԱՆ N 1 ՀԱՎԵԼՎԱԾԻ N 4 ԱՂՅՈՒՍԱԿՈՒՄ ԿԱՏԱՐՎՈՂ ՓՈՓՈԽՈՒԹՅՈՒՆՆԵՐՆ ՈՒ ԼՐԱՑՈՒՄՆԵՐԸ
D3: հազ․ դրամ
A4: Ծրագրային դասիչ | C4: Պետական բյուջեի դեֆիցիտի ֆինանսավորման աղբյուրներն ու դրանց տարրերի անվանումները | D4: Ցուցանիշների փոփոխությունը (ավելացումները նշված են դրական նշանով)
D5: Տարի
A6: Ծրագիր | B6: Միջոցառում | C6: ԸՆԴԱՄԵՆԸ | D6: =+D8 -> 1343651.1
C7: այդ թվում՝
C8: ՀՀ կրթության, գիտության, մշակույթի և սպորտի նախարարություն | D8: =+D9 -> 1343651.1
A9: =+'2'!B9 -> 1168 | C9: =+'2'!D10 -> Արվեստների ծրագիր | D9: =+D10 -> 1343651.1
B10: =+'2'!C16 -> 42001 | C10: =+'2'!D17 -> «Կարեն Դեմիրճյանի անվան մարզահամերգային համալիր» փակ բաժնետիրական ընկերությանը բյուջետային վարկի տրամադրում | D10: =+D14 -> 1343651.1
C11: այդ թվում՝ ըստ կատարողների
C12: ՀՀ ֆինանսների նախարարություն | D12: =+D10 -> 1343651.1
C13: այդ թվում՝ ըստ տնտեսագիտական դասակարգման հոդվածների՝
C14: ՀԻՄՆԱԿԱՆ ԳՈՒՄԱՐԻ ՄԱՐՄԱՆ ԵՎ ՖԻՆԱՆՍԱԿԱՆ ԱԿՏԻՎՆԵՐԻ ՁԵՌՔԲԵՐՄԱՆ ԳԾՈՎ ԾԱԽՍԵՐ, այդ թվում` | D14: =+D15 -> 1343651.1
C15: ՖԻՆԱՆՍԱԿԱՆ ԱԿՏԻՎՆԵՐԻ ՁԵՌՔԲԵՐՈՒՄ, այդ թվում | D15: =+D16 -> 1343651.1
C16: ՆԵՐՔԻՆ ՖԻՆԱՆՍԱԿԱՆ ԱԿՏԻՎՆԵՐԻ ՁԵՌՔԲԵՐՈՒՄ, այդ թվում` | D16: =+D17 -> 1343651.1
C17: Ներքին վարկեր և փոխատվություններ | D17: =+'2'!E16 -> 1343651.1

Sheet 4
A1: Հավելված N 4 ՀՀ կառավարության 2024 թվականի ․․․․․․․․․․․․․․․․․․․․․․․ -ի N -Ն որոշման
A2: ՀԱՅԱՍՏԱՆԻ ՀԱՆՐԱՊԵՏՈՒԹՅԱՆ ԿԱՌԱՎԱՐՈՒԹՅԱՆ 2023 ԹՎԱԿԱՆԻ ԴԵԿՏԵՄԲԵՐԻ 28-Ի N 2323-Ն ՈՐՈՇՄԱՆ N 1 ՀԱՎԵԼՎԱԾԻ N 5 ԱՂՅՈՒՍԱԿՈՒՄ ԿԱՏԱՐՎՈՂ ՓՈՓՈԽՈՒԹՅՈՒՆՆԵՐՆ ՈՒ ԼՐԱՑՈՒՄՆԵՐԸ
A4: ՄԱՍ 2. ՊԵՏԱԿԱՆ ՄԱՐՄՆԻ ԳԾՈՎ ԱՐԴՅՈՒՆՔԱՅԻՆ (ԿԱՏԱՐՈՂԱԿԱՆ) ՑՈՒՑԱՆԻՇՆԵՐԸ
A6: Ծրագրի դասիչը | B6: Ծրագրի անվանումը
A7: =+'2'!B9 -> 1168 | B7: =+'2'!D10 -> Արվեստների ծրագիր
A8: Ծրագրի միջոցառումները
A9: Ծրագրի դասիչը՝ | B9: =+'2'!B9 -> 1168 | C9: Ցուցանիշների փոփոխությունը (ավելացումները նշված են դրական նշանով)
A10: Միջոցառման դասիչը՝ | B10: =+'2'!C16 -> 42001 | C10: Տարի
A11: Միջոցառման անվանումը՝ | B11: =+'2'!D17 -> «Կարեն Դեմիրճյանի անվան մարզահամերգային համալիր» փակ բաժնետիրական ընկերությանը բյուջետային վարկի տրամադրում
A12: Նկարագրությունը՝ | B12: =+'2'!D19 -> Կարեն Դեմիրճյանի անվան մարզահամերգային համալիրի օդափոխության համակարգի վերազինման, հակահրդեհային համակարգի ստեղծման և նշված համակարգերի վերազինման նպատակով էլեկտրական համակարգի արդիականացման նպատակով բյուջետային վարկի տրամադրում
A13: Միջոցառման տեսակը՝ | B13: Բյուջետային վարկի տրամադրում
A14: Միջոցառումն իրականացնողի անվանումը՝ | B14: ՀՀ ֆինանսների նախարարություն
B15: Արդյունքի չափորոշիչներ
A16: Քանակական | B16: Տրամադրվող վարկերի քանակ, հատ | C16: 1
A17: Միջոցառման վրա կատարվող ծախսը (հազար դրամ) | C17: ='1'!B14 -> 1343651.1
