Workbook
Name _tab10: #REF!
Name _tab10: #REF!
Name _tab10: #REF!
Name _tab10: #REF!
Name _tab10: #REF!
Name _tab10: #REF!
Name _tab11: #REF!
Name _tab11: #REF!
Name _tab11: #REF!
Name _tab11: #REF!
Name _tab11: #REF!
Name _tab11: #REF!
Name _tab12: #REF!
Name _tab12: #REF!
Name _tab12: #REF!
Name _tab12: #REF!
Name _tab12: #REF!
Name _tab12: #REF!
Name _tab13: #REF!
Name _tab13: #REF!
Name _tab13: #REF!
Name _tab13: #REF!
Name _tab13: #REF!
Name _tab13: #REF!
Name _tab14: #REF!
Name _tab14: #REF!
Name _tab14: #REF!
Name _tab14: #REF!
Name _tab14: #REF!
Name _tab14: #REF!
Name _tab15: #REF!
Name _tab15: #REF!
Name _tab15: #REF!
Name _tab15: #REF!
Name _tab15: #REF!
Name _tab15: #REF!
Name _tab16: #REF!
Name _tab16: #REF!
Name _tab16: #REF!
Name _tab16: #REF!
Name _tab16: #REF!
Name _tab16: #REF!
Name _tab17: #REF!
Name _tab17: #REF!
Name _tab17: #REF!
Name _tab17: #REF!
Name _tab17: #REF!
Name _tab17: #REF!
Name _tab18: #REF!
Name _tab18: #REF!
Name _tab18: #REF!
Name _tab18: #REF!
Name _tab18: #REF!
Name _tab18: #REF!
Name _tab19: #REF!
Name _tab19: #REF!
Name _tab19: #REF!
Name _tab19: #REF!
Name _tab19: #REF!
Name _tab19: #REF!

Sheet ՕՀ-1 Ա-2 և Հ-5 Ա-1
B1: Հավելված N 1
B2: ՀՀ կառավարության 2024 թվականի
B3: ______________ ի N___ -Ն որոշման
B5: «ՀԱՅԱՍՏԱՆԻ ՀԱՆՐԱՊԵՏՈՒԹՅԱՆ 2024 ԹՎԱԿԱՆԻ ՊԵՏԱԿԱՆ ԲՅՈՒՋԵԻ ՄԱՍԻՆ» ՀԱՅԱՍՏԱՆԻ ՀԱՆՐԱՊԵՏՈՒԹՅԱՆ ՕՐԵՆՔԻ N 1 ՀԱՎԵԼՎԱԾԻ N 2 ԱՂՅՈՒՍԱԿՈՒՄ ԿԱՏԱՐՎՈՂ ՎԵՐԱԲԱՇԽՈՒՄԸ ԵՎ ՀԱՅԱՍՏԱՆԻ ՀԱՆՐԱՊԵՏՈՒԹՅԱՆ ԿԱՌԱՎԱՐՈՒԹՅԱՆ 2023 ԹՎԱԿԱՆԻ ԴԵԿՏԵՄԲԵՐԻ 28-Ի N 2323-Ն ՈՐՈՇՄԱՆ N 5 ՀԱՎԵԼՎԱԾԻ N 1 ԱՂՅՈՒՍԱԿՈՒՄ ԿԱՏԱՐՎՈՂ ՓՈՓՈԽՈՒԹՅՈՒՆՆԵՐԸ
E6: հազար դրամ
B7: Ծրագրային դասիչը | D7: Բյուջետային հատկացումների գլխավոր կարգադրիչների, ծրագրերի և միջոցառումների անվանումները | E7: Ցուցանիշների փոփոխությունը (ավելացումները նշված են դրական նշանով, իսկ նվազեցումները՝ փակագծերում)
B8: ծրագիր | C8: միջո-ցառում | E8: տարի
D9: Ընդամենը | E9: =E10+E42 -> 0
D10: ՀՀ պաշտպանության նախարարություն | E10: =E11 -> 0
B11: 1169 | D11: Ծրագրի անվանումը՝ | E11: =SUM(E18:E41) -> 0
D12: ՀՀ պաշտպանության ապահովում
D13: Ծրագրի նպատակը՝
D14: ՀՀ ԶՈւ ռազմավարական ծավալումն ապահովող մարտական պատրաստականության պահպանում՝ արտաքին թշնամուց ՀՀ պետական սահմանների պաշտպանության ապահովում
D15: Վերջնական արդյունքի նկարագրությունը՝
D16: ՀՀ ԶՈւ ռազմավարական ծավալումն ապահովող մարտական պատրաստականության պահպանում
B17: Ծրագրի միջոցառումներ
C18: 11001 | D18: Միջոցառման անվանումը՝ | E18: =+'Հ-3 և 4'!H21 -> -4567364.9
D19: Ռազմական կարիքների բավարարում
D20: Միջոցառման նկարագրությունը՝
D21: Ընթացիկ գործունեության ապահովման գործողություններ
D22: Միջոցառման տեսակը
D23: Ծառայությունների մատուցում
C24: 31001 | D24: Միջոցառման անվանումը՝ | E24: ='Հ-3 և 4'!H30 -> 4567364.9
D25: ՀՀ պաշտպանության նախարարության շենքային պայմանների բարելավում
D26: Միջոցառման նկարագրությունը՝
D27: Պաշտպանության կարիքների համար բնակելի, գրասենյակային և այլ նշանակության շենքերի և շինությունների կառուցում
D28: Միջոցառման տեսակը
D29: Պետական մարմինների կողմից օգտագործվող ոչ ֆինանսական ակտիվների հետ գործառնություններ
C30: 31001 | D30: Միջոցառման անվանումը՝ | E30: =+E57 -> -300609.6
D31: ՀՀ պաշտպանության նախարարության շենքային պայմանների բարելավում
D32: Միջոցառման նկարագրությունը՝
D33: Պաշտպանության կարիքների համար բնակելի, գրասենյակային և այլ նշանակության շենքերի և շինությունների կառուցում
D34: Միջոցառման տեսակը
D35: Պետական մարմինների կողմից օգտագործվող ոչ ֆինանսական ակտիվների հետ գործառնություններ
C36: 31001 | D36: Միջոցառման անվանումը՝ | E36: =+E50 -> 300609.6
D37: ՀՀ պաշտպանության նախարարության շենքային պայմանների բարելավում
D38: Միջոցառման նկարագրությունը՝
D39: Պաշտպանության կարիքների համար բնակելի, գրասենյակային և այլ նշանակության շենքերի և շինությունների կառուցում
D40: Միջոցառման տեսակը
D41: Պետական մարմինների կողմից օգտագործվող ոչ ֆինանսական ակտիվների հետ գործառնություններ
D42: ՀՀ կառավարություն | E42: =+E43 -> 0
B43: 1139 | D43: Ծրագրի անվանումը` | E43: =E50+E57 -> 0
D44: ՀՀ կառավարության պահուստային ֆոնդ
D45: Ծրագրի նպատակը`
D46: Պետական բյուջեում չկանխատեսված, ինչպես նաեւ բյուջետային երաշխիքների ապահովման ծախսերի ֆինանսավորման ապահովում
D47: Վերջնական արդյունքի նկարագրությունը`
D48: Պահուստային ֆոնդի կառավարման արդյունավետության և թափանցիկության ապահովում
B49: Ծրագրի միջոցառումներ
C50: 11001 | D50: Միջոցառման անվանումը` | E50: ='Հ-3 և 4'!H59 -> 300609.6
D51: ՀՀ կառավարության պահուստային ֆոնդ
D52: Միջոցառման նկարագրությունը`
D53: ՀՀ պետական բյուջեում նախատեսված ելքերի լրացուցիչ ֆինանսավորման, պետական բյուջեում չկանխատեսված ելքերի, ինչպես նաև բյուջետային երաշխիքների ապահովման ելքերի ֆինանսավորման ապահովում
D54: Միջոցառման տեսակը
D55: Ծառայությունների մատուցում
B56: Ծրագրի միջոցառումներ
C57: 11001 | D57: Միջոցառման անվանումը` | E57: =-E50 -> -300609.6
D58: ՀՀ կառավարության պահուստային ֆոնդ
D59: Միջոցառման նկարագրությունը`
D60: ՀՀ պետական բյուջեում նախատեսված ելքերի լրացուցիչ ֆինանսավորման, պետական բյուջեում չկանխատեսված ելքերի, ինչպես նաև բյուջետային երաշխիքների ապահովման ելքերի ֆինանսավորման ապահովում
D61: Միջոցառման տեսակը
D62: Ծառայությունների մատուցում

Sheet ՕՀ-1 Ա-3
H1: Հավելված N 2
H2: ՀՀ կառավարության 2024 թվականի
H3: ___________ ___-ի N _______ -Ն որոշման
A5: «ՀԱՅԱՍՏԱՆԻ ՀԱՆՐԱՊԵՏՈՒԹՅԱՆ 2024 ԹՎԱԿԱՆԻ ՊԵՏԱԿԱՆ ԲՅՈՒՋԵԻ ՄԱՍԻՆ» ՀԱՅԱՍՏԱՆԻ ՀԱՆՐԱՊԵՏՈՒԹՅԱՆ ՕՐԵՆՔԻ N 1 ՀԱՎԵԼՎԱԾԻ N 3 ԱՂՅՈՒՍԱԿՈՒՄ ԿԱՏԱՐՎՈՂ ՓՈՓՈԽՈՒԹՅՈՒՆԸ
H6: հազար դրամով
A7: Ծրագրային դասիչ | C7: Բյուջետային գլխավոր կարգադրիչների, ծրագրերի, միջոցառումների և ուղղությունների անվանումները | D7: Ցուցանիշների փոփոխությունը (ավելացումները նշված են դրական նշանով, իսկ նվազեցումները՝ փակագծերում)
A8: Ծրագիր | B8: Միջոցառում | D8: Ընդամենը | E8: այդ թվում՝
E9: Կառուցման աշխատանքներ | F9: Վերակառուցման, վերանորոգման և վերականգնման աշխատանքներ | G9: Նախագծահե- տազոտական, գեոդեզիա- քարտեզագրա- կան աշխա- տանքներ | H9: Ոչ ֆինանսական այլ ակտիվների ձեռքբերում
C10: ԸՆԴԱՄԵՆԸ | D10: =D12 -> 4567364.9 | E10: =E12 -> 4567364.9
C11: այդ թվում՝
C12: ՀՀ պաշտպանության նախարարություն | D12: =+D14 -> 4567364.9 | E12: =+E14 -> 4567364.9
C13: այդ թվում`
A14: 1169 | B14: 31001 | C14: ՀՀ պաշտպանության նախարարության շենքային պայմանների բարելավում | D14: =SUM(E14:H14) -> 4567364.9 | E14: ='ՕՀ-1 Ա-2 և Հ-5 Ա-1'!E24 -> 4567364.9
A15: 1169 | B15: 31001 | C15: ՀՀ պաշտպանության նախարարության շենքային պայմանների բարելավում | D15: =SUM(E15:H15) -> -300609.6 | E15: =+'ՕՀ-1 Ա-2 և Հ-5 Ա-1'!E30 -> -300609.6
A16: 1169 | B16: 31001 | C16: ՀՀ պաշտպանության նախարարության շենքային պայմանների բարելավում | D16: =SUM(E16:H16) -> 300609.6 | E16: =+'ՕՀ-1 Ա-2 և Հ-5 Ա-1'!E36 -> 300609.6

Sheet Հ-3 և 4
B1: Հավելված N 3
B2: ՀՀ կառավարության 2024 թվականի
B3: ______________ ի N ___ -Ն որոշման
B5: ՀԱՅԱՍՏԱՆԻ ՀԱՆՐԱՊԵՏՈՒԹՅԱՆ ԿԱՌԱՎԱՐՈՒԹՅԱՆ 2023 ԹՎԱԿԱՆԻ ԴԵԿՏԵՄԲԵՐԻ 28-Ի N 2323-Ն
B6: ՈՐՈՇՄԱՆ N 3 և N 4 ՀԱՎԵԼՎԱԾՆԵՐՈՒՄ ԿԱՏԱՐՎՈՂ ՓՈՓՈԽՈՒԹՅՈՒՆՆԵՐԸ
H7: հազար դրամ
B8: Գործառական դասիչը | E8: Ծրագրային դասիչը | G8: Բյուջետային ծախսերի գործառական դասակարգման բաժինների, խմբերի և դասերի, բյուջետային ծրագրերի միջոցառումների, բյուջետային հատկացումների գլխավոր կարգադրիչների անվանումները | H8: Ցուցանիշների փոփոխությունը (ավելացումները նշված են դրական նշանով, իսկ նվազեցումները՝ փակագծերում)
B9: բաժին | C9: խումբ | D9: դաս | E9: ծրագիր | F9: միջոցառում | H9: տարի
G10: ԸՆԴԱՄԵՆԸ ԾԱԽՍԵՐ այդ թվում՝ | H10: =H11+H41 -> 0
B11: 02 | G11: ՊԱՇՏՊԱՆՈՒԹՅՈՒՆ | H11: =H13 -> 0
G12: այդ թվում`
C13: 01 | G13: Ռազմական պաշտպանություն | H13: =H15 -> 0
G14: այդ թվում`
D15: 01 | G15: Ռազմական պաշտպանություն | H15: =H17 -> 0
G16: այդ թվում`
G17: ՀՀ պաշտպանության նախարարություն | H17: =H19 -> 0
G18: այդ թվում`
E19: 1169 | G19: ՀՀ պաշտպանության ապահովում | H19: =H30+H21 -> 0
G20: այդ թվում`
F21: 11001 | G21: Ռազմական կարիքների բավարարում | H21: =H23 -> -4567364.9
G22: այդ թվում` ըստ կատարողների
G23: ՀՀ պաշտպանության նախարարություն | H23: =H25 -> -4567364.9
G24: այդ թվում` բյուջետային ծախսերի տնտեսագիտական դասակարգման հոդվածներ
G25: ԸՆԴԱՄԵՆԸ ԾԱԽՍԵՐ | H25: =H26 -> -4567364.9
G26: ԸՆԹԱՑԻԿ ԾԱԽՍԵՐ | H26: =+H27 -> -4567364.9
G27: ԱՅԼ ԾԱԽՍԵՐ | H27: =H28 -> -4567364.9
G28: ԱՅԼ ԾԱԽՍԵՐ | H28: =H29 -> -4567364.9
G29: - Այլ ծախսեր | H29: =-H38 -> -4567364.9
F30: 31001 | G30: ՀՀ պաշտպանության նախարարության շենքային պայմանների բարելավում | H30: =H32 -> 4567364.9
G31: այդ թվում` ըստ կատարողների
G32: ՀՀ պաշտպանության նախարարություն | H32: =H34 -> 4567364.9
G33: այդ թվում` բյուջետային ծախսերի տնտեսագիտական դասակարգման հոդվածներ
G34: ԸՆԴԱՄԵՆԸ ԾԱԽՍԵՐ | H34: =H35 -> 4567364.9
G35: ՈՉ ՖԻՆԱՆՍԱԿԱՆ ԱԿՏԻՎՆԵՐԻ ԳԾՈՎ ԾԱԽՍԵՐ | H35: =H36 -> 4567364.9
G36: ՀԻՄՆԱԿԱՆ ՄԻՋՈՑՆԵՐ | H36: =+H37 -> 4567364.9
G37: ՇԵՆՔԵՐ և ՇԻՆՈՒԹՅՈՒՆՆԵՐ | H37: =SUM(H38:H40) -> 4567364.9
G38: - Շենքերի և շինությունների շինարարություն | H38: 4567364.9
G39: - Շենքերի և շինությունների շինարարություն | H39: =+H68 -> -300609.6
G40: - Շենքերի և շինությունների շինարարություն | H40: =+H59 -> 300609.6
B41: 11 | G41: ՀԻՄՆԱԿԱՆ ԲԱԺԻՆՆԵՐԻՆ ՉԴԱՍՎՈՂ ՊԱՀՈՒՍՏԱՅԻՆ ՖՈՆԴԵՐ | H41: =H43 -> 0
G42: այդ թվում`
C43: 01 | G43: ՀՀ կառավարության և համայնքների պահուստային ֆոնդ | H43: =H45 -> 0
G44: այդ թվում`
D45: 01 | G45: ՀՀ կառավարության պահուստային ֆոնդ | H45: =H47 -> 0
G46: այդ թվում`
G47: ՀՀ կառավարություն | H47: =H49 -> 0
G48: այդ թվում`
E49: 1139 | G49: ՀՀ կառավարության պահուստային ֆոնդ | H49: =H51+H60 -> 0
G50: այդ թվում`
F51: 11001 | G51: ՀՀ կառավարության պահուստային ֆոնդ | H51: =H53 -> 300609.6
G52: այդ թվում` ըստ կատարողների
G53: ՀՀ կառավարություն | H53: =H55 -> 300609.6
G54: այդ թվում` բյուջետային ծախսերի տնտեսագիտական դասակարգման հոդվածներ
G55: ԸՆԴԱՄԵՆԸ ԾԱԽՍԵՐ | H55: =H56 -> 300609.6
G56: ՈՉ ՖԻՆԱՆՍԱԿԱՆ ԱԿՏԻՎՆԵՐԻ ԳԾՈՎ ԾԱԽՍԵՐ | H56: =H57 -> 300609.6
G57: ՀԻՄՆԱԿԱՆ ՄԻՋՈՑՆԵՐ | H57: =H58 -> 300609.6
G58: ՇԵՆՔԵՐ ԵՎ ՇԻՆՈՒԹՅՈՒՆՆԵՐ | H58: =H59 -> 300609.6
G59: - Շենքերի և շինությունների շինարարություն | H59: 300609.6
F60: 11001 | G60: ՀՀ կառավարության պահուստային ֆոնդ | H60: =H62 -> -300609.6
G61: այդ թվում` ըստ կատարողների
G62: ՀՀ կառավարություն | H62: =H64 -> -300609.6
G63: այդ թվում` բյուջետային ծախսերի տնտեսագիտական դասակարգման հոդվածներ
G64: ԸՆԴԱՄԵՆԸ ԾԱԽՍԵՐ | H64: =H65 -> -300609.6
G65: ՈՉ ՖԻՆԱՆՍԱԿԱՆ ԱԿՏԻՎՆԵՐԻ ԳԾՈՎ ԾԱԽՍԵՐ | H65: =H66 -> -300609.6
G66: ՀԻՄՆԱԿԱՆ ՄԻՋՈՑՆԵՐ | H66: =H67 -> -300609.6
G67: ՇԵՆՔԵՐ ԵՎ ՇԻՆՈՒԹՅՈՒՆՆԵՐ | H67: =H68 -> -300609.6
G68: - Շենքերի և շինությունների շինարարություն | H68: =-H59 -> -300609.6

Sheet x
B1: Հավելված N 4
B2: ՀՀ կառավարության 2024 թվականի
B3: ______________ ի N ___ -Ն որոշման
B5: ՀԱՅԱՍՏԱՆԻ ՀԱՆՐԱՊԵՏՈՒԹՅԱՆ ԿԱՌԱՎԱՐՈՒԹՅԱՆ ՊԱՀՈՒՍՏԱՅԻՆ ՖՈՆԴԻՑ ՀԱՏԿԱՑՈՒՄՆԵՐ
H6: հազար դրամ
B7: Գործառական դասիչը | E7: Ծրագրային դասիչը | G7: Բյուջետային ծախսերի գործառական դասակարգման բաժինների, խմբերի և դասերի, բյուջետային ծրագրերի միջոցառումների, բյուջետային հատկացումների գլխավոր կարգադրիչների անվանումները | H7: Ցուցանիշների փոփոխությունը (ավելացումները նշված են դրական նշանով, իսկ նվազեցումները՝ փակագծերում)
B8: բաժին | C8: խումբ | D8: դաս | E8: ծրագիր | F8: միջոցառում | H8: տարի
G9: ԸՆԴԱՄԵՆԸ ԾԱԽՍԵՐ այդ թվում՝ | H9: =H10+H29 -> 0
B10: 02 | G10: ՊԱՇՏՊԱՆՈՒԹՅՈՒՆ | H10: =H12 -> 300609.6
G11: այդ թվում`
C12: 01 | G12: Ռազմական պաշտպանություն | H12: =H14 -> 300609.6
G13: այդ թվում`
D14: 01 | G14: Ռազմական պաշտպանություն | H14: =H16 -> 300609.6
G15: այդ թվում`
G16: ՀՀ պաշտպանության նախարարություն | H16: =H18 -> 300609.6
G17: այդ թվում`
E18: 1169 | G18: ՀՀ պաշտպանության ապահովում | H18: =H20 -> 300609.6
G19: այդ թվում`
F20: 31001 | G20: ՀՀ պաշտպանության նախարարության շենքային պայմանների բարելավում | H20: =H22 -> 300609.6
G21: այդ թվում` ըստ կատարողների
G22: ՀՀ պաշտպանության նախարարություն | H22: =H24 -> 300609.6
G23: այդ թվում` բյուջետային ծախսերի տնտեսագիտական դասակարգման հոդվածներ
G24: ԸՆԴԱՄԵՆԸ ԾԱԽՍԵՐ | H24: =H25 -> 300609.6
G25: ՈՉ ՖԻՆԱՆՍԱԿԱՆ ԱԿՏԻՎՆԵՐԻ ԳԾՈՎ ԾԱԽՍԵՐ | H25: =H26 -> 300609.6
G26: ՀԻՄՆԱԿԱՆ ՄԻՋՈՑՆԵՐ | H26: =+H27 -> 300609.6
G27: ՇԵՆՔԵՐ և ՇԻՆՈՒԹՅՈՒՆՆԵՐ | H27: =SUM(H28:H28) -> 300609.6
G28: - Շենքերի և շինությունների շինարարություն | H28: =-H47 -> 300609.6
B29: 11 | G29: ՀԻՄՆԱԿԱՆ ԲԱԺԻՆՆԵՐԻՆ ՉԴԱՍՎՈՂ ՊԱՀՈՒՍՏԱՅԻՆ ՖՈՆԴԵՐ | H29: =H31 -> -300609.6
G30: այդ թվում`
C31: 01 | G31: ՀՀ կառավարության և համայնքների պահուստային ֆոնդ | H31: =H33 -> -300609.6
G32: այդ թվում`
D33: 01 | G33: ՀՀ կառավարության պահուստային ֆոնդ | H33: =H35 -> -300609.6
G34: այդ թվում`
G35: ՀՀ կառավարություն | H35: =H37 -> -300609.6
G36: այդ թվում`
E37: 1139 | G37: ՀՀ կառավարության պահուստային ֆոնդ | H37: =H39 -> -300609.6
G38: այդ թվում`
F39: 11001 | G39: ՀՀ կառավարության պահուստային ֆոնդ | H39: =H41 -> -300609.6
G40: այդ թվում` ըստ կատարողների
G41: ՀՀ կառավարություն | H41: =H43 -> -300609.6
G42: այդ թվում` բյուջետային ծախսերի տնտեսագիտական դասակարգման հոդվածներ
G43: ԸՆԴԱՄԵՆԸ ԾԱԽՍԵՐ | H43: =H44 -> -300609.6
G44: ՈՉ ՖԻՆԱՆՍԱԿԱՆ ԱԿՏԻՎՆԵՐԻ ԳԾՈՎ ԾԱԽՍԵՐ | H44: =H45 -> -300609.6
G45: ՀԻՄՆԱԿԱՆ ՄԻՋՈՑՆԵՐ | H45: =H46 -> -300609.6
G46: ՇԵՆՔԵՐ ԵՎ ՇԻՆՈՒԹՅՈՒՆՆԵՐ | H46: =H47 -> -300609.6
G47: - Շենքերի և շինությունների շինարարություն | H47: -300609.6

Sheet Հ-5 Ա-2
B1: Հավելված N 5
B2: ='Հ-3 և 4'!B2 -> ՀՀ կառավարության 2024 թվականի
B3: ='Հ-3 և 4'!B3 -> ______________ ի N ___ -Ն որոշման
B5: ='Հ-3 և 4'!B5:H5 -> ՀԱՅԱՍՏԱՆԻ ՀԱՆՐԱՊԵՏՈՒԹՅԱՆ ԿԱՌԱՎԱՐՈՒԹՅԱՆ 2023 ԹՎԱԿԱՆԻ ԴԵԿՏԵՄԲԵՐԻ 28-Ի N 2323-Ն
B6: ՈՐՈՇՄԱՆ N 5 ՀԱՎԵԼՎԱԾԻ N 2 ԱՂՅՈՒՍԱԿՈՒՄ ԿԱՏԱՐՎՈՂ ՓՈՓՈԽՈՒԹՅՈՒՆՆԵՐԸ
E7: հազար դրամ
B8: Ծրագրային դասիչ | D8: Բյուջետային գլխավոր կարգադրիչների, ծրագրերի, միջոցառումների և ուղղությունների անվանումները | E8: Ցուցանիշների փոփոխությունը (ավելացումները նշված են դրական նշանով)
B9: ծրագիր | C9: միջո-ցառում | E9: տարի
D10: ԸՆԴԱՄԵՆԸ | E10: =E12 -> 4567364.9
D11: այդ թվում՝
D12: ՀՀ պաշտպանության նախարարություն | E12: =E14 -> 4567364.9
D13: այդ թվում`
B14: 1169 | C14: 31001 | D14: ՀՀ պաշտպանության նախարարության շենքային պայմանների բարելավում | E14: =E16 -> 4567364.9
D15: այդ թվում` ըստ կատարողների
D16: ՀՀ պաշտպանության նախարարություն | E16: ='Հ-3 և 4'!H30 -> 4567364.9
D17: ՀՀ պաշտպանության նախարարություն | E17: =+'ՕՀ-1 Ա-3'!E15 -> -300609.6
D18: ՀՀ պաշտպանության նախարարություն | E18: =+'ՕՀ-1 Ա-3'!E16 -> 300609.6

Sheet Հ-9 Ա-9.14
B1: Հավելված N 6
B2: ='Հ-3 և 4'!B2 -> ՀՀ կառավարության 2024 թվականի
B3: ='Հ-3 և 4'!B3 -> ______________ ի N ___ -Ն որոշման
B5: =+'Հ-3 և 4'!B5:H5 -> ՀԱՅԱՍՏԱՆԻ ՀԱՆՐԱՊԵՏՈՒԹՅԱՆ ԿԱՌԱՎԱՐՈՒԹՅԱՆ 2023 ԹՎԱԿԱՆԻ ԴԵԿՏԵՄԲԵՐԻ 28-Ի N 2323-Ն
B6: ՈՐՈՇՄԱՆ N 9 ՀԱՎԵԼՎԱԾԻ N 9.14 ԵՎ N 9.48 ԱՂՅՈՒՍԱԿՆԵՐՈՒՄ ԿԱՏԱՐՎՈՂ ՓՈՓՈԽՈՒԹՅՈՒՆՆԵՐԸ
B8: ՀՀ պաշտպանության նախարարություն
B10: ՄԱՍ 2. ՊԵՏԱԿԱՆ ՄԱՐՄՆԻ ԳԾՈՎ ԱՐԴՅՈՒՆՔԱՅԻՆ (ԿԱՏԱՐՈՂԱԿԱՆ) ՑՈՒՑԱՆԻՇՆԵՐԸ
B12: Ծրագրի դասիչը | C12: Ծրագրի անվանումը
B13: 1169 | C13: ՀՀ պաշտպանության ապահովում
B15: Ծրագրի միջոցառումները
B17: Ծրագրի դասիչը` | C17: 1169 | D17: Ցուցանիշների փոփոխությունը (նվազեցումները նշված են փակագծերում)
B18: Միջոցառման դասիչը` | C18: 11001 | D18: տարի
B19: Միջոցառման անվանումը` | C19: Ռազմական կարիքների բավարարում
B20: Նկարագրությունը` | C20: Ընթացիկ գործունեության ապահովման գործողություններ
B21: Միջոցառման տեսակը` | C21: Ծառայությունների մատուցում
B22: Ծառայությունը մատուցող կազմակերպության(ների) անվանում(ներ)ը՛ | C22: ՀՀ պաշտպանության նախարարություն
B23: Արդյունքի չափորոշիչներ
B24: Չի սահմանվում
B25: Միջոցառման վրա կատարվող ծախսը (հազար դրամ) | D25: =+'Հ-3 և 4'!H21 -> -4567364.9
B27: Ծրագրի դասիչը` | C27: 1169 | D27: Ցուցանիշների փոփոխությունը (ավելացումները նշված են դրական նշանով)
B28: Միջոցառման դասիչը` | C28: 31001 | D28: տարի
B29: Միջոցառման անվանումը` | C29: ՀՀ պաշտպանության նախարարության շենքային պայմանների բարելավում
B30: Նկարագրությունը` | C30: Պաշտպանության կարիքների համար բնակելի, գրասենյակային և այլ նշանակության շենքերի և շինությունների կառուցում
B31: Միջոցառման տեսակը` | C31: Պետական մարմինների կողմից օգտագործվող ոչ ֆինանսական ակտիվների հետ գործառնություններ
B32: Ակտիվն օգտագործող կազմակերպության(ների) անվանում(ներ)ը՝ | C32: ՀՀ պաշտպանության նախարարություն
B33: Արդյունքի չափորոշիչներ
B34: Չի սահմանվում
B35: Միջոցառման վրա կատարվող ծախսը (հազար դրամ) | D35: ='Հ-3 և 4'!H30 -> 4567364.9
B37: Ծրագրի դասիչը` | C37: 1169 | D37: Ցուցանիշների փոփոխությունը (ավելացումները նշված են դրական նշանով)
B38: Միջոցառման դասիչը` | C38: 31001 | D38: տարի
B39: Միջոցառման անվանումը` | C39: ՀՀ պաշտպանության նախարարության շենքային պայմանների բարելավում
B40: Նկարագրությունը` | C40: Պաշտպանության կարիքների համար բնակելի, գրասենյակային և այլ նշանակության շենքերի և շինությունների կառուցում
B41: Միջոցառման տեսակը` | C41: Պետական մարմինների կողմից օգտագործվող ոչ ֆինանսական ակտիվների հետ գործառնություններ
B42: Ակտիվն օգտագործող կազմակերպության(ների) անվանում(ներ)ը՝ | C42: ՀՀ պաշտպանության նախարարություն
B43: Արդյունքի չափորոշիչներ
B44: Չի սահմանվում
B45: Միջոցառման վրա կատարվող ծախսը (հազար դրամ) | D45: ='Հ-3 և 4'!H39 -> -300609.6
B47: Ծրագրի դասիչը` | C47: 1169 | D47: Ցուցանիշների փոփոխությունը (ավելացումները նշված են դրական նշանով)
B48: Միջոցառման դասիչը` | C48: 31001 | D48: տարի
B49: Միջոցառման անվանումը` | C49: ՀՀ պաշտպանության նախարարության շենքային պայմանների բարելավում
B50: Նկարագրությունը` | C50: Պաշտպանության կարիքների համար բնակելի, գրասենյակային և այլ նշանակության շենքերի և շինությունների կառուցում
B51: Միջոցառման տեսակը` | C51: Պետական մարմինների կողմից օգտագործվող ոչ ֆինանսական ակտիվների հետ գործառնություններ
B52: Ակտիվն օգտագործող կազմակերպության(ների) անվանում(ներ)ը՝ | C52: ՀՀ պաշտպանության նախարարություն
B53: Արդյունքի չափորոշիչներ
B54: Չի սահմանվում
B55: Միջոցառման վրա կատարվող ծախսը (հազար դրամ) | D55: ='Հ-3 և 4'!H40 -> 300609.6
B57: ՀՀ կառավարություն
B58: ՄԱՍ 2. ՊԵՏԱԿԱՆ ՄԱՐՄՆԻ ԳԾՈՎ ԱՐԴՅՈՒՆՔԱՅԻՆ (ԿԱՏԱՐՈՂԱԿԱՆ) ՑՈՒՑԱՆԻՇՆԵՐԸ
B60: Ծրագրի դասիչը | C60: Ծրագրի անվանումը
B61: 1139 | C61: ՀՀ կառավարության պահուստային ֆոնդ
B63: Ծրագրի դասիչը` | C63: 1139 | D63: Ցուցանիշների փոփոխությունը (ավելացումները նշված են դրական նշանով)
B64: Միջոցառման դասիչը` | C64: 11001 | D64: տարի
B65: Միջոցառման անվանումը` | C65: ՀՀ կառավարության պահուստային ֆոնդ
B66: Նկարագրությունը` | C66: ՀՀ պետական բյուջեում նախատեսված ելքերի լրացուցիչ ֆինանսավորման, պետական բյուջեում չկանխատեսված ելքերի, ինչպես նաև բյուջետային երաշխիքների ապահովման ելքերի ֆինանսավորման ապահովում
B67: Միջոցառման տեսակը` | C67: Ծառայությունների մատուցում
B68: Միջոցառումն իրականացնողի անվանումը | C68: ՀՀ կառավարություն
B69: Արդյունքի չափորոշիչներ
B70: Միջոցառման վրա կատարվող ծախսը (հազար դրամ) | D70: ='Հ-3 և 4'!H59 -> 300609.6
B72: Ծրագրի դասիչը` | C72: 1139 | D72: Ցուցանիշների փոփոխությունը (նվազեցումները նշված են փակագծերում)
B73: Միջոցառման դասիչը` | C73: 11001 | D73: տարի
B74: Միջոցառման անվանումը` | C74: ՀՀ կառավարության պահուստային ֆոնդ
B75: Նկարագրությունը` | C75: ՀՀ պետական բյուջեում նախատեսված ելքերի լրացուցիչ ֆինանսավորման, պետական բյուջեում չկանխատեսված ելքերի, ինչպես նաև բյուջետային երաշխիքների ապահովման ելքերի ֆինանսավորման ապահովում
B76: Միջոցառման տեսակը` | C76: Ծառայությունների մատուցում
B77: Միջոցառումն իրականացնողի անվանումը | C77: ՀՀ կառավարություն
B78: Արդյունքի չափորոշիչներ
B79: Միջոցառման վրա կատարվող ծախսը (հազար դրամ) | D79: =-D70 -> -300609.6

Sheet Հ-9.1 Ա-9.1.14
B1: Հավելված N 7
B2: ='Հ-3 և 4'!B2:H2 -> ՀՀ կառավարության 2024 թվականի
B3: ='Հ-3 և 4'!B3:H3 -> ______________ ի N ___ -Ն որոշման
B5: ='Հ-3 և 4'!B5:H5 -> ՀԱՅԱՍՏԱՆԻ ՀԱՆՐԱՊԵՏՈՒԹՅԱՆ ԿԱՌԱՎԱՐՈՒԹՅԱՆ 2023 ԹՎԱԿԱՆԻ ԴԵԿՏԵՄԲԵՐԻ 28-Ի N 2323-Ն
B6: ՈՐՈՇՄԱՆ N 9.1 ՀԱՎԵԼՎԱԾԻ N 9.1.14 ԵՎ N 9.1.58 ԱՂՅՈՒՍԱԿՆԵՐՈՒՄ ԿԱՏԱՐՎՈՂ ՓՈՓՈԽՈՒԹՅՈՒՆՆԵՐԸ
B8: ՀՀ պաշտպանության նախարարություն
B10: ՄԱՍ 1. ՊԵՏԱԿԱՆ ՄԱՐՄՆԻ ԳԾՈՎ ԱՐԴՅՈՒՆՔԱՅԻՆ (ԿԱՏԱՐՈՂԱԿԱՆ) ՑՈՒՑԱՆԻՇՆԵՐԸ
B12: Ծրագրի դասիչը | C12: Ծրագրի անվանումը
B13: 1169 | C13: ՀՀ պաշտպանության ապահովում
B15: Ծրագրի միջոցառումները
B17: Ծրագրի դասիչը` | C17: 1169 | D17: Ցուցանիշների փոփոխությունը (նվազեցումները նշված են փակագծերում)
B18: Միջոցառման դասիչը` | C18: 11001 | D18: տարի
B19: Միջոցառման անվանումը` | C19: Ռազմական կարիքների բավարարում
B20: Նկարագրությունը` | C20: Ընթացիկ գործունեության ապահովման գործողություններ
B21: Միջոցառման տեսակը` | C21: Ծառայությունների մատուցում
B22: Ծառայությունը մատուցող կազմակերպության(ների) անվանում(ներ)ը՛ | C22: ՀՀ պաշտպանության նախարարություն
B23: Արդյունքի չափորոշիչներ
B24: Չի սահմանվում
B25: Միջոցառման վրա կատարվող ծախսը (հազար դրամ) | D25: =+'Հ-3 և 4'!H21 -> -4567364.9
B27: Ծրագրի դասիչը` | C27: 1169 | D27: Ցուցանիշների փոփոխությունը (ավելացումները նշված են դրական նշանով)
B28: Միջոցառման դասիչը` | C28: 31001 | D28: տարի
B29: Միջոցառման անվանումը` | C29: ՀՀ պաշտպանության նախարարության շենքային պայմանների բարելավում
B30: Նկարագրությունը` | C30: Պաշտպանության կարիքների համար բնակելի, գրասենյակային և այլ նշանակության շենքերի և շինությունների կառուցում
B31: Միջոցառման տեսակը` | C31: Պետական մարմինների կողմից օգտագործվող ոչ ֆինանսական ակտիվների հետ գործառնություններ
B32: Ակտիվն օգտագործող կազմակերպության(ների) անվանում(ներ)ը՝ | C32: ՀՀ պաշտպանության նախարարություն
B33: Արդյունքի չափորոշիչներ
B34: Չի սահմանվում
B35: Միջոցառման վրա կատարվող ծախսը (հազար դրամ) | D35: ='Հ-3 և 4'!H30 -> 4567364.9
B37: Ծրագրի դասիչը` | C37: 1169 | D37: Ցուցանիշների փոփոխությունը (ավելացումները նշված են դրական նշանով)
B38: Միջոցառման դասիչը` | C38: 31001 | D38: տարի
B39: Միջոցառման անվանումը` | C39: ՀՀ պաշտպանության նախարարության շենքային պայմանների բարելավում
B40: Նկարագրությունը` | C40: Պաշտպանության կարիքների համար բնակելի, գրասենյակային և այլ նշանակության շենքերի և շինությունների կառուցում
B41: Միջոցառման տեսակը` | C41: Պետական մարմինների կողմից օգտագործվող ոչ ֆինանսական ակտիվների հետ գործառնություններ
B42: Ակտիվն օգտագործող կազմակերպության(ների) անվանում(ներ)ը՝ | C42: ՀՀ պաշտպանության նախարարություն
B43: Արդյունքի չափորոշիչներ
B44: Չի սահմանվում
B45: Միջոցառման վրա կատարվող ծախսը (հազար դրամ) | D45: ='Հ-3 և 4'!H39 -> -300609.6
B47: Ծրագրի դասիչը` | C47: 1169 | D47: Ցուցանիշների փոփոխությունը (ավելացումները նշված են դրական նշանով)
B48: Միջոցառման դասիչը` | C48: 31001 | D48: տարի
B49: Միջոցառման անվանումը` | C49: ՀՀ պաշտպանության նախարարության շենքային պայմանների բարելավում
B50: Նկարագրությունը` | C50: Պաշտպանության կարիքների համար բնակելի, գրասենյակային և այլ նշանակության շենքերի և շինությունների կառուցում
B51: Միջոցառման տեսակը` | C51: Պետական մարմինների կողմից օգտագործվող ոչ ֆինանսական ակտիվների հետ գործառնություններ
B52: Ակտիվն օգտագործող կազմակերպության(ների) անվանում(ներ)ը՝ | C52: ՀՀ պաշտպանության նախարարություն
B53: Արդյունքի չափորոշիչներ
B54: Չի սահմանվում
B55: Միջոցառման վրա կատարվող ծախսը (հազար դրամ) | D55: ='Հ-3 և 4'!H40 -> 300609.6
B57: ՀՀ կառավարություն
B58: ՄԱՍ 1. ՊԵՏԱԿԱՆ ՄԱՐՄՆԻ ԳԾՈՎ ԱՐԴՅՈՒՆՔԱՅԻՆ (ԿԱՏԱՐՈՂԱԿԱՆ) ՑՈՒՑԱՆԻՇՆԵՐԸ
B60: Ծրագրի դասիչը | C60: Ծրագրի անվանումը
B61: 1139 | C61: ՀՀ կառավարության պահուստային ֆոնդ
B63: Ծրագրի դասիչը` | C63: 1139 | D63: Ցուցանիշների փոփոխությունը (ավելացումները նշված են դրական նշանով)
B64: Միջոցառման դասիչը` | C64: 11001 | D64: տարի
B65: Միջոցառման անվանումը` | C65: ՀՀ կառավարության պահուստային ֆոնդ
B66: Նկարագրությունը` | C66: ՀՀ պետական բյուջեում նախատեսված ելքերի լրացուցիչ ֆինանսավորման, պետական բյուջեում չկանխատեսված ելքերի, ինչպես նաև բյուջետային երաշխիքների ապահովման ելքերի ֆինանսավորման ապահովում
B67: Միջոցառման տեսակը` | C67: Ծառայությունների մատուցում
B68: Միջոցառումն իրականացնողի անվանումը | C68: ՀՀ կառավարություն
B69: Արդյունքի չափորոշիչներ
B70: Միջոցառման վրա կատարվող ծախսը (հազար դրամ) | D70: ='Հ-3 և 4'!H58 -> 300609.6
B72: Ծրագրի դասիչը` | C72: 1139 | D72: Ցուցանիշների փոփոխությունը (նվազեցումները նշված են փակագծերում)
B73: Միջոցառման դասիչը` | C73: 11001 | D73: տարի
B74: Միջոցառման անվանումը` | C74: ՀՀ կառավարության պահուստային ֆոնդ
B75: Նկարագրությունը` | C75: ՀՀ պետական բյուջեում նախատեսված ելքերի լրացուցիչ ֆինանսավորման, պետական բյուջեում չկանխատեսված ելքերի, ինչպես նաև բյուջետային երաշխիքների ապահովման ելքերի ֆինանսավորման ապահովում
B76: Միջոցառման տեսակը` | C76: Ծառայությունների մատուցում
B77: Միջոցառումն իրականացնողի անվանումը | C77: ՀՀ կառավարություն
B78: Արդյունքի չափորոշիչներ
B79: Միջոցառման վրա կատարվող ծախսը (հազար դրամ) | D79: =-D70 -> -300609.6

Sheet Sheet1
A1: 4239 | B1: 20939.6
A2: 4252 | B2: 4001.2
A3: 4261 | B3: 24221.5
A4: 4264 | B4: 658398.2
A5: 4267 | B5: 51113.2
A6: 4269 | B6: 58135.2
A7: 5121 | B7: 34800
A8: 5122 | B8: 30780.6
A9: 5129 | B9: 165718.2
A10: 5132 | B10: 33.2
