Workbook
Name a: #REF!
Name a: #REF!
Name a: #REF!
Name AgencyCode: #REF!
Name AgencyCode: #REF!
Name AgencyCode: #REF!
Name AgencyCode: #REF!
Name AgencyCode: #REF!
Name AgencyCode: #REF!
Name AgencyName: #REF!
Name AgencyName: #REF!
Name AgencyName: #REF!
Name davit: #REF!
Name davit: #REF!
Name Functional1: #REF!
Name Functional1: #REF!
Name Functional1: #REF!
Name ggg: #REF!
Name ggg: #REF!
Name PANature: #REF!
Name PANature: #REF!
Name PANature: #REF!
Name PAType: #REF!
Name PAType: #REF!
Name PAType: #REF!
Name Performance2: #REF!
Name Performance2: #REF!
Name Performance2: #REF!
Name PerformanceType: #REF!
Name PerformanceType: #REF!
Name PerformanceType: #REF!
Name Հավելված: #REF!
Name Հավելված: #REF!
Name Հավելված10: #REF!
Name Հավելված10: #REF!
Name Հավելված11: #REF!
Name Հավելված11: #REF!
Name Հավելված20: #REF!
Name Հավելված20: #REF!
Name Հավելված9: #REF!
Name Հավելված9: #REF!
Name Մաս: #REF!
Name Մաս: #REF!
Name շախմատիստ: #REF!
Name շախմատիստ: #REF!

Sheet Հավելված N 1
C1: Հավելված N 1
C2: ՀՀ կառավարության 2024 թվականի
C3: ______________ ի ___Ն որոշման
A6: «ՀԱՅԱUՏԱՆԻ ՀԱՆՐԱՊԵՏՈՒԹՅԱՆ 2024 ԹՎԱԿԱՆԻ ՊԵՏԱԿԱՆ ԲՅՈՒՋԵԻ ՄԱUԻՆ» ՀԱՅԱUՏԱՆԻ ՀԱՆՐԱՊԵՏՈՒԹՅԱՆ OՐԵՆՔԻ N 1 ՀԱՎԵԼՎԱԾԻ N 2 ԱՂՅՈՒՍԱԿՈՒՄ ԿԱՏԱՐՎՈՂ ՎԵՐԱԲԱՇԽՈՒՄԸ ԵՎ ՀԱՅԱՍՏԱՆԻ ՀԱՆՐԱՊԵՏՈՒԹՅԱՆ ԿԱՌԱՎԱՐՈՒԹՅԱՆ 2023 ԹՎԱԿԱՆԻ ԴԵԿՏԵՄԲԵՐԻ 28-Ի N 2323-Ն ՈՐՈՇՄԱՆ N 5 ՀԱՎԵԼՎԱԾԻ N 1 ԱՂՅՈՒՍԱԿՈՒՄ ԿԱՏԱՐՎՈՂ ՓՈՓՈԽՈՒԹՅՈՒՆՆԵՐԸ ԵՎ ԼՐԱՑՈՒՄՆԵՐԸ
D9: հազ. դրամներով
A10: Ծրագրային դասիչը | C10: Բյուջետային հատկացումների գլխավոր կարգադրիչների, ծրագրերի և միջոցառումների անվանումները | D10: Ցուցանիշների փոփոխությունը (ավելացումները նշված են դրական նշանով, իսկ նվազեցումները՝ փակագծերում)
A11: Ծրագիր | B11: Միջոցառում | D11: Տարի
A12: 1192 | C12: ԸՆԴԱՄԵՆԸ | D12: =+D14 -> -2.3283064e-10
C13: այդ թվում
C14: ՀՀ ԿՐԹՈՒԹՅԱՆ, ԳԻՏՈՒԹՅԱՆ, ՄՇԱԿՈՒՅԹԻ ԵՎ ՍՊՈՐՏԻ ՆԱԽԱՐԱՐՈՒԹՅՈՒՆ | D14: =+D16 -> -2.3283064e-10
A15: 1236 | C15: Ծրագրի անվանումը`
C16: Հանրակրթական և նախադպրոցական հաստատությունների հիմնում, կառուցում, բարելավում | D16: =+D22+D28 -> -2.3283064e-10
C17: Ծրագրի նպատակը`
C18: Առնվազն 300 դպրոցի և 500 մանկապարտեզի կառուցման, վերակառուցման, հիմնանորոգման ծրագրերի իրականացում ՀՀ պետական բյուջեի միջոցների շրջանակներում
C19: Վերջնական արդյունքի նկարագրությունը`
C20: Կրթական միջավայրի բարելավում
C21: Ծրագրի միջոցառումներ
B22: 32003 | C22: Միջոցառման անվանումը` | D22: =+'Հավելված N 2'!G26 -> 240000
C23: Հանրակրթական դպրոցների նոր շենքերի կառուցում
C24: Միջոցառման նկարագրությունը`
C25: ՀՀ մարզերում կրթական որակյալ ծառայությունների հասանելիության ապահովման ծրագրի շրջանակներում հանրակրթական և նախադպրոցական կրթության հասանելիության ապահովման նպատակով կրթական կենտրոնների կառուցում
C26: Միջոցառման տեսակը
C27: Այլ պետական կազմակերպությունների կողմից օգտագործվող ոչ ֆինանսական ակտիվների հետ գործառնություններ
B28: 32005 | C28: Միջոցառման անվանումը` | D28: =+'Հավելված N 2'!G49 -> -240000
C29: Կրթահամալիրների կառուցում
C30: Միջոցառման նկարագրությունը`
C31: ՀՀ մարզերում կրթական որակյալ ծառայությունների հասանելիության ապահովման ծրագրի շրջանակներում հանրակրթական և նախադպրոցական կրթության հասանելիության ապահովման նպատակով կրթական կենտրոնների կառուցում
C32: Միջոցառման տեսակը
C33: Այլ պետական կազմակերպությունների կողմից օգտագործվող ոչ ֆինանսական ակտիվների հետ գործառնություններ

Sheet Հավելված N 2
F1: Հավելված N 2
F2: ՀՀ կառավարության 2024 թվականի
F3: ______________ ի ___Ն որոշման
A7: ՀԱՅԱՍՏԱՆԻ ՀԱՆՐԱՊԵՏՈՒԹՅԱՆ ԿԱՌԱՎԱՐՈՒԹՅԱՆ 2023 ԹՎԱԿԱՆԻ ԴԵԿՏԵՄԲԵՐԻ 28-Ի N 2323-Ն ՈՐՈՇՄԱՆ N 3 ԵՎ N 4 ՀԱՎԵԼՎԱԾՆԵՐՈՒՄ ԿԱՏԱՐՎՈՂ ՓՈՓՈԽՈՒԹՅՈՒՆՆԵՐԸ ԵՎ ԼՐԱՑՈՒՄՆԵՐԸ
G10: հազ. դրամներով
A11: Գործառական դասիչը | D11: Ծրագրային դասիչը | F11: Բյուջետային հատկացումների գլխավոր կարգադրիչների, ծրագրերի, միջոցառումների և միջոցառումները կատարող պետական մարմինների անվանումները | G11: Ցուցանիշների փոփոխությունը (ավելացումները նշված են դրական նշանով, իսկ նվազեցումները՝ փակագծերում)
A12: Բաժին | B12: Խումբ | C12: Դաս | D12: Ծրագիր | E12: Միջոցառում | G12: Տարի
F13: ԸՆԴԱՄԵՆԸ | G13: =+G15 -> -2.3283064e-10
F14: այդ թվում՝
F15: ՀՀ ԿՐԹՈՒԹՅԱՆ, ԳԻՏՈՒԹՅԱՆ, ՄՇԱԿՈՒՅԹԻ ԵՎ ՍՊՈՐՏԻ ՆԱԽԱՐԱՐՈՒԹՅՈՒՆ | G15: =+G16 -> -2.3283064e-10
A16: 09 | F16: ԿՐԹՈՒԹՅՈՒՆ | G16: =+G18 -> -2.3283064e-10
F17: այդ թվում`
B18: 02 | F18: Միջնակարգ ընդհանուր կրթություն | G18: =+G20 -> -2.3283064e-10
F19: այդ թվում`
F20: Հիմնական ընդհանուր կրթություն | G20: =+G22 -> -2.3283064e-10
C21: 01 | F21: այդ թվում`
F22: ՀՀ կրթության, գիտության, մշակույթի և սպորտի նախարարություն | G22: =+G24 -> -2.3283064e-10
F23: այդ թվում`
D24: 1236 | E24: Հանրակրթական և նախադպրոցական հաստատությունների հիմնում, կառուցում, բարելավում | G24: =+G26+G49 -> -2.3283064e-10
F25: այդ թվում`
E26: 32003 | F26: Հանրակրթական դպրոցների նոր շենքերի կառուցում | G26: =+G28+G35+G42 -> 240000
F27: այդ թվում` ըստ կատարողների
F28: ՀՀ քաղաքաշինության կոմիտե | G28: =+G30 -> -2204139.7
F29: այդ թվում՝ բյուջետային ծախսերի տնտեսագիտական դասակարգման հոդվածներ
F30: ԸՆԴԱՄԵՆԸ ԾԱԽՍԵՐ | G30: =G31 -> -2204139.7
F31: ՈՉ ՖԻՆԱՆՍԱԿԱՆ ԱԿՏԻՎՆԵՐԻ ԳԾՈՎ ԾԱԽՍԵՐ | G31: =+G32 -> -2204139.7
F32: ՀԻՄՆԱԿԱՆ ՄԻՋՈՑՆԵՐ | G32: =+G33 -> -2204139.7
F33: ՇԵՆՔԵՐ ԵՎ ՇԻՆՈՒԹՅՈՒՆՆԵՐ | G33: =+G34 -> -2204139.7
F34: - Շենքերի և շինությունների շինարարություն | G34: =+'Հավելված N 4'!E15 -> -2204139.7
F35: ՀՀ կրթության, գիտության, մշակույթի և սպորտի նախարարություն | G35: =+G37 -> 1715000
F36: այդ թվում՝ բյուջետային ծախսերի տնտեսագիտական դասակարգման հոդվածներ
F37: ԸՆԴԱՄԵՆԸ ԾԱԽՍԵՐ | G37: =G38 -> 1715000
F38: ՈՉ ՖԻՆԱՆՍԱԿԱՆ ԱԿՏԻՎՆԵՐԻ ԳԾՈՎ ԾԱԽՍԵՐ | G38: =+G39 -> 1715000
F39: ՀԻՄՆԱԿԱՆ ՄԻՋՈՑՆԵՐ | G39: =+G40 -> 1715000
F40: ՇԵՆՔԵՐ ԵՎ ՇԻՆՈՒԹՅՈՒՆՆԵՐ | G40: =+G41 -> 1715000
F41: - Շենքերի և շինությունների շինարարություն | G41: =+'Հավելված N 4'!E28 -> 1715000
F42: ՀՀ կառավարություն | G42: =+G44 -> 729139.7
F43: այդ թվում՝ բյուջետային ծախսերի տնտեսագիտական դասակարգման հոդվածներ
F44: ԸՆԴԱՄԵՆԸ ԾԱԽՍԵՐ | G44: =G45 -> 729139.7
F45: ՈՉ ՖԻՆԱՆՍԱԿԱՆ ԱԿՏԻՎՆԵՐԻ ԳԾՈՎ ԾԱԽՍԵՐ | G45: =+G46 -> 729139.7
F46: ՀԻՄՆԱԿԱՆ ՄԻՋՈՑՆԵՐ | G46: =+G47 -> 729139.7
F47: ՇԵՆՔԵՐ ԵՎ ՇԻՆՈՒԹՅՈՒՆՆԵՐ | G47: =+G48 -> 729139.7
F48: - Շենքերի և շինությունների շինարարություն | G48: 729139.7
E49: 32005 | F49: Կրթահամալիրների կառուցում | G49: =+G51+G58 -> -240000
F50: այդ թվում` ըստ կատարողների
F51: ՀՀ քաղաքաշինության կոմիտե | G51: =+G53 -> -1210000
F52: այդ թվում՝ բյուջետային ծախսերի տնտեսագիտական դասակարգման հոդվածներ
F53: ԸՆԴԱՄԵՆԸ ԾԱԽՍԵՐ | G53: =G54 -> -1210000
F54: ՈՉ ՖԻՆԱՆՍԱԿԱՆ ԱԿՏԻՎՆԵՐԻ ԳԾՈՎ ԾԱԽՍԵՐ | G54: =+G55 -> -1210000
F55: ՀԻՄՆԱԿԱՆ ՄԻՋՈՑՆԵՐ | G55: =+G56 -> -1210000
F56: ՇԵՆՔԵՐ ԵՎ ՇԻՆՈՒԹՅՈՒՆՆԵՐ | G56: =+G57 -> -1210000
F57: - Շենքերի և շինությունների շինարարություն | G57: =+'Հավելված N 4'!E45 -> -1210000
F58: ՀՀ կրթության, գիտության, մշակույթի և սպորտի նախարարություն | G58: =+G60 -> 970000
F59: այդ թվում՝ բյուջետային ծախսերի տնտեսագիտական դասակարգման հոդվածներ
F60: ԸՆԴԱՄԵՆԸ ԾԱԽՍԵՐ | G60: =G61 -> 970000
F61: ՈՉ ՖԻՆԱՆՍԱԿԱՆ ԱԿՏԻՎՆԵՐԻ ԳԾՈՎ ԾԱԽՍԵՐ | G61: =+G62 -> 970000
F62: ՀԻՄՆԱԿԱՆ ՄԻՋՈՑՆԵՐ | G62: =+G63 -> 970000
F63: ՇԵՆՔԵՐ ԵՎ ՇԻՆՈՒԹՅՈՒՆՆԵՐ | G63: =+G64 -> 970000
F64: - Շենքերի և շինությունների շինարարություն | G64: =+'Հավելված N 4'!E54 -> 970000

Sheet Հավելված N 3
F1: Հավելված N 3
F2: ՀՀ կառավարության 2024 թվականի
F3: ______________ ի ___Ն որոշման
A5: «ՀԱՅԱUՏԱՆԻ ՀԱՆՐԱՊԵՏՈՒԹՅԱՆ 2024 ԹՎԱԿԱՆԻ ՊԵՏԱԿԱՆ ԲՅՈՒՋԵԻ ՄԱUԻՆ» ՀԱՅԱUՏԱՆԻ ՀԱՆՐԱՊԵՏՈՒԹՅԱՆ OՐԵՆՔԻ N 1 ՀԱՎԵԼՎԱԾԻ N 3 ԱՂՅՈՒՍԱԿՈՒՄ ԿԱՏԱՐՎՈՂ ՓՈՓՈԽՈՒԹՅՈՒՆՆԵՐԸ ԵՎ ԼՐԱՑՈՒՄՆԵՐԸ
G8: հազ. դրամներով
A9: Ծրագրային դասիչ | C9: Բյուջետային գլխավոր կարգադրիչների, ծրագրերի, միջոցառումների, միջոցառումները կատարող պետական մարմինների և ուղղությունների անվանումները | D9: Ընդամենը | E9: Ցուցանիշների փոփոխությունը (ավելացումները նշված են դրական նշանով, իսկ նվազեցումները՝ փակագծերում)
A10: Ծրագիր | B10: Միջոցառում | E10: Կառուցման աշխատանքներ | F10: Վերակառուցման, վերանորոգման և վերականգնման աշխատանքներ | G10: Նախագծահե- տազոտական, գեոդեզիա- քարտեզագրա- կան աշխա- տանքներ | H10: Ոչ ֆինանսական այլ ակտիվների ձեռքբերում
C11: ԸՆԴԱՄԵՆԸ | D11: =D13 -> 0 | E11: =E13 -> 0 | F11: =F13 -> 0 | G11: =G13 -> 0 | H11: =H13 -> 0
C12: այդ թվում՝
C13: ՀՀ ԿՐԹՈՒԹՅԱՆ, ԳԻՏՈՒԹՅԱՆ, ՄՇԱԿՈՒՅԹԻ ԵՎ ՍՊՈՐՏԻ ՆԱԽԱՐԱՐՈՒԹՅՈՒՆ | D13: =D15+D31 -> 0 | E13: =E15+E31 -> 0 | F13: =F15+F31 -> 0 | G13: =G15+G31 -> 0 | H13: =H15+H31 -> 0
C14: այդ թվում`
A15: 1236 | B15: 32003 | C15: Հանրակրթական դպրոցների նոր շենքերի կառուցում | D15: =D17+D18+D20+D22+D25+D28 -> 240000 | E15: =E17+E18+E20+E22+E25+E28 -> 240000 | F15: =F17+F18+F20+F22+F25+F28 -> 0 | G15: =G17+G18+G20+G22+G25+G28 -> 0 | H15: =H17+H18+H20+H22+H25+H28 -> 0
C16: այդ թվում`
C17: Հանրակրթական դպրոցների նոր շենքերի կառուցում | D17: =-(D18+D20+D22+D25+D28+D31) -> 729139.7 | E17: =-(E18+E20+E22+E25+E28+E31) -> 729139.7 | F17: =-(F18+F20+F22+F25+F28+F31) -> 0 | G17: =-(G18+G20+G22+G25+G28+G31) -> 0 | H17: =-(H18+H20+H22+H25+H28+H31) -> 0
C18: ='Հավելված N 4'!D17 -> ՀՀ Արարատի մարզ | D18: =SUM(D19) -> -111857.6 | E18: =SUM(E19) -> -111857.6 | F18: =SUM(F19) -> 0 | G18: =SUM(G19) -> 0 | H18: =SUM(H19) -> 0
C19: ='Հավելված N 4'!D18 -> «Վեդիի ավագ դպրոց» ՊՈԱԿ | D19: =+E19+F19+G19+H19 -> -111857.6 | E19: =-411857.6+300000 -> -111857.6
C20: ='Հավելված N 4'!D19 -> ՀՀ Կոտայքի մարզ | D20: =SUM(D21) -> -45000 | E20: =SUM(E21) -> -45000 | F20: =SUM(F21) -> 0 | G20: =SUM(G21) -> 0 | H20: =SUM(H21) -> 0
C21: ='Հավելված N 4'!D20 -> Լեռնանիստ բնակավայրի միջնակարգ դպրոց | D21: =+E21+F21+G21+H21 -> -45000 | E21: =-405000+360000 -> -45000
C22: ='Հավելված N 4'!D21 -> ՀՀ Արմավիրի մարզ | D22: =SUM(D23:D24) -> -382282.1 | E22: =SUM(E23:E24) -> -382282.1 | F22: =SUM(F23:F24) -> 0 | G22: =SUM(G23:G24) -> 0 | H22: =SUM(H23:H24) -> 0
C23: ='Հավելված N 4'!D22 -> գ.Գեղակերտի միջնակարգ դպրոց | D23: =+E23+F23+G23+H23 -> -340000 | E23: =-345000+5000 -> -340000
C24: ='Հավելված N 4'!D23 -> «Վաղարշապատի Մովսես Խորենացու անվան N 10 ավագ դպրոց» ՊՈԱԿ | D24: =+E24+F24+G24+H24 -> -42282.1 | E24: =-342282.1+300000 -> -42282.1
C25: ='Հավելված N 4'!D24 -> ՀՀ Լոռու մարզ | D25: =SUM(D26:D27) -> -100000 | E25: =SUM(E26:E27) -> -100000 | F25: =SUM(F26:F27) -> 0 | G25: =SUM(G26:G27) -> 0 | H25: =SUM(H26:H27) -> 0
C26: ='Հավելված N 4'!D25 -> ք. Տաշիրի միջնակարգ դպրոց (ք. Տաշիրի թիվ 1 հիմնական դպրոցի տեղակայման վայրում) | D26: =+E26+F26+G26+H26 -> -250000 | E26: =-250000 -> -250000
C27: ='Հավելված N 4'!D38 -> ք.Տաշիրի թիվ 1 հիմնական դպրոց | D27: =+E27+F27+G27+H27 -> 150000 | E27: 150000
C28: ='Հավելված N 4'!D39 -> ՀՀ Տավուշի մարզ | D28: =SUM(D29:D30) -> 150000 | E28: =SUM(E29:E30) -> 150000 | F28: =SUM(F29:F30) -> 0 | G28: =SUM(G29:G30) -> 0 | H28: =SUM(H29:H30) -> 0
C29: ='Հավելված N 4'!D40 -> ք. Նոյեմբերյանի վարժարան (ք. Նոյեմբերյանի թիվ 1 ավագ դպրոցի տեղակայման վայրում) | D29: =+E29+F29+G29+H29 -> -150000 | E29: =-450000+300000 -> -150000
C30: ='Հավելված N 4'!D41 -> գ.Աղավնավանքի միջնակարգ դպրոց | D30: =+E30+F30+G30+H30 -> 300000 | E30: =300000 -> 300000
A31: 1236 | B31: 32005 | C31: Կրթահամալիրների կառուցում | D31: =D33+D35+D38+D40+D42+D44 -> -240000 | E31: =E33+E35+E38+E40+E42+E44 -> -240000 | F31: =F33+F35+F38+F40+F42+F44 -> 0 | G31: =G33+G35+G38+G40+G42+G44 -> 0 | H31: =H33+H35+H38+H40+H42+H44 -> 0
C32: այդ թվում`
C33: ='Հավելված N 4'!D47 -> ՀՀ Արմավիրի մարզ | D33: =SUM(D34:D34) -> -20000 | E33: =SUM(E34:E34) -> -20000 | F33: =SUM(F34:F34) -> 0 | G33: =SUM(G34:G34) -> 0 | H33: =SUM(H34:H34) -> 0
C34: ='Հավելված N 4'!D48 -> գ.Վարդանաշենի կրթահամալիր | D34: =+E34+F34+G34+H34 -> -20000 | E34: =-320000+300000 -> -20000
C35: ='Հավելված N 4'!D49 -> ՀՀ Տավուշի մարզ | D35: =SUM(D36:D37) -> -570000 | E35: =SUM(E36:E37) -> -570000 | F35: =SUM(F36:F37) -> 0 | G35: =SUM(G36:G37) -> 0 | H35: =SUM(H36:H37) -> 0
C36: ='Հավելված N 4'!D51 -> գ.Աղավնավանքի կրթահամալիր | D36: =+E36+F36+G36+H36 -> -250000 | E36: =-250000 -> -250000
C37: ='Հավելված N 4'!D50 -> գ.Նորաշենի կրթահամալիր | D37: =+E37+F37+G37+H37 -> -320000 | E37: -320000
C38: ='Հավելված N 4'!D58 -> ՀՀ Շիրակի մարզ | D38: =SUM(D39:D39) -> 300000 | E38: =SUM(E39:E39) -> 300000 | F38: =SUM(F39:F39) -> 0 | G38: =SUM(G39:G39) -> 0 | H38: =SUM(H39:H39) -> 0
C39: ='Հավելված N 4'!D59 -> գ. Գետափի կրթահամալիր | D39: =+E39+F39+G39+H39 -> 300000 | E39: =300000 -> 300000
C40: ='Հավելված N 4'!D60 -> ՀՀ Արարատի մարզ | D40: =SUM(D41:D41) -> 300000 | E40: =SUM(E41:E41) -> 300000 | F40: =SUM(F41:F41) -> 0 | G40: =SUM(G41:G41) -> 0 | H40: =SUM(H41:H41) -> 0
C41: ='Հավելված N 4'!D61 -> գ. Արևաբույրի կրթահամալիր | D41: =+E41+F41+G41+H41 -> 300000 | E41: 300000
C42: ='Հավելված N 4'!D62 -> ՀՀ Սյունիքի մարզ | D42: =SUM(D43:D43) -> 70000 | E42: =SUM(E43:E43) -> 70000 | F42: =SUM(F43:F43) -> 0 | G42: =SUM(G43:G43) -> 0 | H42: =SUM(H43:H43) -> 0
C43: ='Հավելված N 4'!D63 -> գ. Վերին Խոտանանի կրթահամալիր | D43: =+E43+F43+G43+H43 -> 70000 | E43: 70000
C44: ='Հավելված N 4'!D52 -> ՀՀ Լոռու մարզ | D44: =SUM(D45:D45) -> -320000 | E44: =SUM(E45:E45) -> -320000 | F44: =SUM(F45:F45) -> 0 | G44: =SUM(G45:G45) -> 0 | H44: =SUM(H45:H45) -> 0
C45: ='Հավելված N 4'!D53 -> ք. Ալավերդիի կրթահամալիր (ք. Ալավերդու թիվ 4 հիմնական դպրոցի տեղակայման վայրում) | D45: =+E45+F45+G45+H45 -> -320000 | E45: -320000

Sheet Հավելված N 4
E1: Հավելված N 4
E2: ՀՀ կառավարության 2024 թվականի
E3: ______________ ի ___Ն որոշման
B6: ՀԱՅԱՍՏԱՆԻ ՀԱՆՐԱՊԵՏՈՒԹՅԱՆ ԿԱՌԱՎԱՐՈՒԹՅԱՆ 2023 ԹՎԱԿԱՆԻ ԴԵԿՏԵՄԲԵՐԻ 28-Ի N 2323-Ն ՈՐՈՇՄԱՆ N 5 ՀԱՎԵԼՎԱԾԻ N 2 ԱՂՅՈՒՍԱԿՈՒՄ ԿԱՏԱՐՎՈՂ ՓՈՓՈԽՈՒԹՅՈՒՆՆԵՐԸ ԵՎ ԼՐԱՑՈՒՄՆԵՐԸ
E8: հազ. դրամներով
B9: Ծրագրային դասիչ | D9: Բյուջետային գլխավոր կարգադրիչների, ծրագրերի, միջոցառումների, միջոցառումները կատարող պետական մարմինների և ուղղությունների անվանումները | E9: Ցուցանիշների փոփոխությունը (ավելացումները նշված են դրական նշանով, իսկ նվազեցումները՝ փակագծերում)
B10: Ծրագիր | C10: Միջոցառում | E10: Տարի
D11: ՀՀ ԿՐԹՈՒԹՅԱՆ, ԳԻՏՈՒԹՅԱՆ, ՄՇԱԿՈՒՅԹԻ ԵՎ ՍՊՈՐՏԻ ՆԱԽԱՐԱՐՈՒԹՅՈՒՆ | E11: =+E13+E43 -> -2.3283064e-10
D12: այդ թվում՝
B13: 1236 | C13: 32003 | D13: Հանրակրթական դպրոցների նոր շենքերի կառուցում | E13: =+E15+E28+E42 -> 240000
D14: այդ թվում` ըստ կատարողների
D15: ՀՀ քաղաքաշինության կոմիտե | E15: =+E17+E19+E24+E21+E26 -> -2204139.7
D16: այդ թվում՝ ըստ ուղղությունների
D17: ՀՀ Արարատի մարզ | E17: =+E18 -> -411857.6
D18: «Վեդիի ավագ դպրոց» ՊՈԱԿ | E18: -411857.6
D19: ՀՀ Կոտայքի մարզ | E19: =+E20 -> -405000
D20: Լեռնանիստ բնակավայրի միջնակարգ դպրոց | E20: -405000
D21: ՀՀ Արմավիրի մարզ | E21: =+E23+E22 -> -687282.1
D22: գ.Գեղակերտի միջնակարգ դպրոց | E22: -345000
D23: «Վաղարշապատի Մովսես Խորենացու անվան N 10 ավագ դպրոց» ՊՈԱԿ | E23: -342282.1
D24: ՀՀ Լոռու մարզ | E24: =+E25 -> -250000
D25: ք. Տաշիրի միջնակարգ դպրոց (ք. Տաշիրի թիվ 1 հիմնական դպրոցի տեղակայման վայրում) | E25: -250000
D26: ՀՀ Տավուշի մարզ | E26: =+E27 -> -450000
D27: ք. Նոյեմբերյանի միջնակարգ դպրոց (ք. Նոյեմբերյանի թիվ 1 ավագ դպրոցի տեղակայման վայրում) | E27: -450000
D28: ՀՀ կրթության, գիտության, մշակույթի և սպորտի նախարարություն | E28: =+E30+E32+E34+E37+E39 -> 1715000
D29: այդ թվում՝ ըստ ուղղությունների
D30: ՀՀ Արարատի մարզ | E30: =+E31 -> 300000
D31: «Վեդիի ավագ դպրոց» ՊՈԱԿ | E31: 300000
D32: ՀՀ Կոտայքի մարզ | E32: =+E33 -> 360000
D33: Լեռնանիստ բնակավայրի միջնակարգ դպրոց | E33: 360000
D34: ՀՀ Արմավիրի մարզ | E34: =+E36+E35 -> 305000
D35: գ.Գեղակերտի միջնակարգ դպրոց | E35: 5000
D36: «Վաղարշապատի Մովսես Խորենացու անվան N 10 ավագ դպրոց» ՊՈԱԿ | E36: 300000
D37: ՀՀ Լոռու մարզ | E37: =+E38 -> 150000
D38: ք.Տաշիրի թիվ 1 հիմնական դպրոց | E38: 150000
D39: ՀՀ Տավուշի մարզ | E39: =+E40+E41 -> 600000
D40: ք. Նոյեմբերյանի վարժարան (ք. Նոյեմբերյանի թիվ 1 ավագ դպրոցի տեղակայման վայրում) | E40: 300000
D41: գ.Աղավնավանքի միջնակարգ դպրոց | E41: 300000
D42: ՀՀ կառավարություն | E42: ='Հավելված N 2'!G48 -> 729139.7
B43: 1236 | C43: 32005 | D43: Կրթահամալիրների կառուցում | E43: =+E45+E54 -> -240000
D44: այդ թվում` ըստ կատարողների
D45: ՀՀ քաղաքաշինության կոմիտե | E45: =+E47+E49+E52 -> -1210000
D46: այդ թվում՝ ըստ ուղղությունների
D47: ՀՀ Արմավիրի մարզ | E47: =+E48 -> -320000
D48: գ.Վարդանաշենի կրթահամալիր | E48: -320000
D49: ՀՀ Տավուշի մարզ | E49: =+E50+E51 -> -570000
D50: գ.Նորաշենի կրթահամալիր | E50: -320000
D51: գ.Աղավնավանքի կրթահամալիր | E51: -250000
D52: ՀՀ Լոռու մարզ | E52: =+E53 -> -320000
D53: ք. Ալավերդիի կրթահամալիր (ք. Ալավերդու թիվ 4 հիմնական դպրոցի տեղակայման վայրում) | E53: -320000
D54: ՀՀ կրթության, գիտության, մշակույթի և սպորտի նախարարություն | E54: =+E56+E58+E60+E62 -> 970000
D55: այդ թվում՝ ըստ ուղղությունների
D56: ՀՀ Արմավիրի մարզ | E56: =+E57 -> 300000
D57: գ.Վարդանաշենի կրթահամալիր | E57: 300000
D58: ՀՀ Շիրակի մարզ | E58: =+E59 -> 300000
D59: գ. Գետափի կրթահամալիր | E59: 300000
D60: ՀՀ Արարատի մարզ | E60: =+E61 -> 300000
D61: գ. Արևաբույրի կրթահամալիր | E61: 300000
D62: ՀՀ Սյունիքի մարզ | E62: =+E63 -> 70000
D63: գ. Վերին Խոտանանի կրթահամալիր | E63: 70000

Sheet Հավելված N 5
C1: Հավելված N 5
C2: ՀՀ կառավարության 2024 թվականի
C3: ______________ ի ___Ն որոշման
B6: ՀԱՅԱՍՏԱՆԻ ՀԱՆՐԱՊԵՏՈՒԹՅԱՆ ԿԱՌԱՎԱՐՈՒԹՅԱՆ 2023 ԹՎԱԿԱՆԻ ԴԵԿՏԵՄԲԵՐԻ 28-Ի N 2323-Ն ՈՐՈՇՄԱՆ N 9 ՀԱՎԵԼՎԱԾԻ NN 9.13 ԱՂՅՈՒՍԱԿՈՒՄ ԿԱՏԱՐՎՈՂ ՓՈՓՈԽՈՒԹՅՈՒՆՆԵՐԸ ԵՎ ԼՐԱՑՈՒՄՆԵՐԸ
A8: Աղյուսակ 9․13
C9: ՀՀ կրթության, գիտության, մշակույթի և սպորտի նախարարություն
B10: ՄԱՍ 2. ՊԵՏԱԿԱՆ ՄԱՐՄՆԻ ԳԾՈՎ ԱՐԴՅՈՒՆՔԱՅԻՆ (ԿԱՏԱՐՈՂԱԿԱՆ) ՑՈՒՑԱՆԻՇՆԵՐԸ
B13: Ծրագրի դասիչը | C13: Ծրագրի անվանումը
B14: 1236 | C14: Հանրակրթական և նախադպրոցական հաստատությունների հիմնում, կառուցում, բարելավում
B16: Ծրագրի միջոցառումները
B17: Ծրագրի դասիչը՝ | C17: 1236 | D17: Ցուցանիշների փոփոխությունը (ավելացումները նշված են դրական նշանով)
B18: Միջոցառման դասիչը՝ | C18: 32003 | D18: Տարի
B19: Միջոցառման անվանումը` | C19: Հանրակրթական դպրոցների նոր շենքերի կառուցում
B20: Նկարագրությունը` | C20: ՀՀ մարզերում կրթական որակյալ ծառայությունների հասանելիության ապահովման ծրագրի շրջանակներում հանրակրթական և նախադպրոցական կրթության հասանելիության ապահովման նպատակով կրթական կենտրոնների կառուցում
B21: Միջոցառման տեսակը` | C21: Այլ պետական կազմակերպությունների կողմից օգտագործվող ոչ ֆինանսական ակտիվների հետ գործառնություններ
B22: Ակտիվն օգտագործող կազմակերպությունների անվանումները | C22: Հանրակրթական դպրոցներ
B23: Արդյունքի չափորոշիչներ
B24: Միջոցառման վրա կատարվող ծախսը (հազար դրամ) | D24: =+'Հավելված N 1'!D22 -> 240000
B26: Ծրագրի միջոցառումները
B27: Ծրագրի դասիչը՝ | C27: 1236 | D27: Ցուցանիշների փոփոխությունը (նվազեցումները նշված են դրական փակագծերում)
B28: Միջոցառման դասիչը՝ | C28: 32005 | D28: Տարի
B29: Միջոցառման անվանումը` | C29: Կրթահամալիրների կառուցում
B30: Նկարագրությունը` | C30: ՀՀ մարզերում կրթական որակյալ ծառայությունների հասանելիության ապահովման ծրագրի շրջանակներում հանրակրթական և նախադպրոցական կրթության հասանելիության ապահովման նպատակով կրթական կենտրոնների կառուցում
B31: Միջոցառման տեսակը` | C31: Այլ պետական կազմակերպությունների կողմից օգտագործվող ոչ ֆինանսական ակտիվների հետ գործառնություններ
B32: Ակտիվն օգտագործող կազմակերպությունների անվանումները | C32: Ստեղծվող կրթահամալիրներ
B33: Արդյունքի չափորոշիչներ
B34: Միջոցառման վրա կատարվող ծախսը (հազար դրամ) | D34: =+'Հավելված N 1'!D28 -> -240000

Sheet Հավելված N 6
C1: Հավելված N 6
C2: ՀՀ կառավարության 2024 թվականի
C3: ______________ ի ___Ն որոշման
B6: ՀԱՅԱՍՏԱՆԻ ՀԱՆՐԱՊԵՏՈՒԹՅԱՆ ԿԱՌԱՎԱՐՈՒԹՅԱՆ 2023 ԹՎԱԿԱՆԻ ԴԵԿՏԵՄԲԵՐԻ 28-Ի N 2323-Ն ՈՐՈՇՄԱՆ N 9.1 ՀԱՎԵԼՎԱԾԻ NN 9.1.13, 9.1.39 ԵՎ 9.1.58 ԱՂՅՈՒՍԱԿՆԵՐՈՒՄ ԿԱՏԱՐՎՈՂ ՓՈՓՈԽՈՒԹՅՈՒՆՆԵՐԸ ԵՎ ԼՐԱՑՈՒՄՆԵՐԸ
A9: Աղյուսակ 9․1.13
C10: ՀՀ կրթության, գիտության, մշակույթի և սպորտի նախարարություն
B11: ՄԱՍ 1. ՊԵՏԱԿԱՆ ՄԱՐՄՆԻ ԳԾՈՎ ԱՐԴՅՈՒՆՔԱՅԻՆ (ԿԱՏԱՐՈՂԱԿԱՆ) ՑՈՒՑԱՆԻՇՆԵՐԸ
B14: Ծրագրի դասիչը | C14: Ծրագրի անվանումը
B15: 1236 | C15: Հանրակրթական և նախադպրոցական հաստատությունների հիմնում, կառուցում, բարելավում
B17: Ծրագրի միջոցառումները
B18: Ծրագրի դասիչը՝ | C18: 1236 | D18: Ցուցանիշների փոփոխությունը (ավելացումները նշված են դրական նշանով)
B19: Միջոցառման դասիչը՝ | C19: 32003 | D19: Տարի
B20: Միջոցառման անվանումը` | C20: Հանրակրթական դպրոցների նոր շենքերի կառուցում
B21: Նկարագրությունը` | C21: ՀՀ մարզերում կրթական որակյալ ծառայությունների հասանելիության ապահովման ծրագրի շրջանակներում հանրակրթական և նախադպրոցական կրթության հասանելիության ապահովման նպատակով կրթական կենտրոնների կառուցում
B22: Միջոցառման տեսակը` | C22: Այլ պետական կազմակերպությունների կողմից օգտագործվող ոչ ֆինանսական ակտիվների հետ գործառնություններ
B23: Ակտիվն օգտագործող կազմակերպությունների անվանումները | C23: Հանրակրթական դպրոցներ
B24: Արդյունքի չափորոշիչներ
B25: Արարատի մարզում կրթական որակյալ ծառայությունների հասանելիության ապահովման ծրագրի շրջանակներում կառուցվող դպրոցների թիվը, հատ | D25: 1
B26: Կոտայքի մարզում կրթական որակյալ ծառայությունների հասանելիության ապահովման ծրագրի շրջանակներում կառուցվող դպրոցների թիվը, հատ | D26: 1
B27: Արմավիրի մարզում կրթական որակյալ ծառայությունների հասանելիության ապահովման ծրագրի շրջանակներում կառուցվող դպրոցների թիվը, հատ | D27: 2
B28: Լոռու մարզում կրթական որակյալ ծառայությունների հասանելիության ապահովման ծրագրի շրջանակներում կառուցվող դպրոցների թիվը, հատ | D28: 1
B29: Տավուշի մարզում կրթական որակյալ ծառայությունների հասանելիության ապահովման ծրագրի շրջանակներում կառուցվող դպրոցների թիվը, հատ | D29: 2
B30: Միջոցառման վրա կատարվող ծախսը (հազար դրամ) | D30: =+'Հավելված N 2'!G35 -> 1715000
B32: Ծրագրի միջոցառումները
B33: Ծրագրի դասիչը՝ | C33: 1236 | D33: Ցուցանիշների փոփոխությունը (ավելացումները նշված են դրական նշանով)
B34: Միջոցառման դասիչը՝ | C34: 32005 | D34: Տարի
B35: Միջոցառման անվանումը` | C35: Կրթահամալիրների կառուցում
B36: Նկարագրությունը` | C36: ՀՀ մարզերում կրթական որակյալ ծառայությունների հասանելիության ապահովման ծրագրի շրջանակներում հանրակրթական և նախադպրոցական կրթության հասանելիության ապահովման նպատակով կրթական կենտրոնների կառուցում
B37: Միջոցառման տեսակը` | C37: Այլ պետական կազմակերպությունների կողմից օգտագործվող ոչ ֆինանսական ակտիվների հետ գործառնություններ
B38: Ակտիվն օգտագործող կազմակերպությունների անվանումները | C38: Ստեղծվող կրթահամալիրներ
B39: Արդյունքի չափորոշիչներ
B40: Արմավիրի մարզում ՀՀ-ում կրթական որակյալ ծառայությունների հասանելիության ապահովման ծրագրի շրջանակներում կառուցվող կրթահամալիրների (կրթական կենտրոնների) քանակ, հատ | D40: 1
B41: Շիրակի մարզում ՀՀ-ում կրթական որակյալ ծառայությունների հասանելիության ապահովման ծրագրի շրջանակներում կառուցվող կրթահամալիրների (կրթական կենտրոնների) քանակ, հատ | D41: 1
B42: Արարատի մարզում ՀՀ-ում կրթական որակյալ ծառայությունների հասանելիության ապահովման ծրագրի շրջանակներում կառուցվող կրթահամալիրների (կրթական կենտրոնների) քանակ, հատ | D42: 1
B43: Սյունիքի մարզում ՀՀ-ում կրթական որակյալ ծառայությունների հասանելիության ապահովման ծրագրի շրջանակներում կառուցվող կրթահամալիրների (կրթական կենտրոնների) քանակ, հատ | D43: 1
B44: Միջոցառման վրա կատարվող ծախսը (հազար դրամ) | D44: =+'Հավելված N 2'!G58 -> 970000
A47: Աղյուսակ 9․1.39
C48: ՀՀ քաղաքաշինության կոմիտե
B49: ՄԱՍ 1. ՊԵՏԱԿԱՆ ՄԱՐՄՆԻ ԳԾՈՎ ԱՐԴՅՈՒՆՔԱՅԻՆ (ԿԱՏԱՐՈՂԱԿԱՆ) ՑՈՒՑԱՆԻՇՆԵՐԸ
B52: Ծրագրի դասիչը | C52: Ծրագրի անվանումը
B53: 1236 | C53: Հանրակրթական և նախադպրոցական հաստատությունների հիմնում, կառուցում, բարելավում
B55: Ծրագրի միջոցառումները
B56: Ծրագրի դասիչը՝ | C56: 1236 | D56: Ցուցանիշների փոփոխությունը (նվազեցումները նշված են փակագծերում)
B57: Միջոցառման դասիչը՝ | C57: 32003 | D57: Տարի
B58: Միջոցառման անվանումը` | C58: Հանրակրթական դպրոցների նոր շենքերի կառուցում
B59: Նկարագրությունը` | C59: ՀՀ մարզերում կրթական որակյալ ծառայությունների հասանելիության ապահովման ծրագրի շրջանակներում հանրակրթական և նախադպրոցական կրթության հասանելիության ապահովման նպատակով կրթական կենտրոնների կառուցում
B60: Միջոցառման տեսակը` | C60: Այլ պետական կազմակերպությունների կողմից օգտագործվող ոչ ֆինանսական ակտիվների հետ գործառնություններ
B61: Ակտիվն օգտագործող կազմակերպությունների անվանումները | C61: Հանրակրթական դպրոցներ
B62: Արդյունքի չափորոշիչներ
B63: Արարատի մարզում կրթական որակյալ ծառայությունների հասանելիության ապահովման ծրագրի շրջանակներում կառուցվող դպրոցների թիվը, հատ | D63: -1
B64: Կոտայքի մարզում կրթական որակյալ ծառայությունների հասանելիության ապահովման ծրագրի շրջանակներում կառուցվող դպրոցների թիվը, հատ | D64: -1
B65: Արմավիրի մարզում կրթական որակյալ ծառայությունների հասանելիության ապահովման ծրագրի շրջանակներում կառուցվող դպրոցների թիվը, հատ | D65: -2
B66: Լոռու մարզում կրթական որակյալ ծառայությունների հասանելիության ապահովման ծրագրի շրջանակներում կառուցվող դպրոցների թիվը, հատ | D66: -1
B67: Տավուշի մարզում կրթական որակյալ ծառայությունների հասանելիության ապահովման ծրագրի շրջանակներում կառուցվող դպրոցների թիվը, հատ | D67: -1
B68: Միջոցառման վրա կատարվող ծախսը (հազար դրամ) | D68: =+'Հավելված N 2'!G28 -> -2204139.7
B70: Ծրագրի միջոցառումները
B71: Ծրագրի դասիչը՝ | C71: 1236 | D71: Ցուցանիշների փոփոխությունը (նվազեցումները նշված են փակագծերում)
B72: Միջոցառման դասիչը՝ | C72: 32005 | D72: Տարի
B73: Միջոցառման անվանումը` | C73: Կրթահամալիրների կառուցում
B74: Նկարագրությունը` | C74: ՀՀ մարզերում կրթական որակյալ ծառայությունների հասանելիության ապահովման ծրագրի շրջանակներում հանրակրթական և նախադպրոցական կրթության հասանելիության ապահովման նպատակով կրթական կենտրոնների կառուցում
B75: Միջոցառման տեսակը` | C75: Այլ պետական կազմակերպությունների կողմից օգտագործվող ոչ ֆինանսական ակտիվների հետ գործառնություններ
B76: Ակտիվն օգտագործող կազմակերպությունների անվանումները | C76: Ստեղծվող կրթահամալիրներ
B77: Արդյունքի չափորոշիչներ
B78: Արմավիրի մարզում ՀՀ-ում կրթական որակյալ ծառայությունների հասանելիության ապահովման ծրագրի շրջանակներում կառուցվող կրթահամալիրների (կրթական կենտրոնների) քանակ, հատ | D78: -1
B79: Լոռու մարզում ՀՀ-ում կրթական որակյալ ծառայությունների հասանելիության ապահովման ծրագրի շրջանակներում կառուցվող կրթահամալիրների (կրթական կենտրոնների) քանակ, հատ | D79: -1
B80: Տավուշի մարզում ՀՀ-ում կրթական որակյալ ծառայությունների հասանելիության ապահովման ծրագրի շրջանակներում կառուցվող կրթահամալիրների (կրթական կենտրոնների) քանակ, հատ | D80: -2
B81: Միջոցառման վրա կատարվող ծախսը (հազար դրամ) | D81: =+'Հավելված N 2'!G51 -> -1210000
A87: Աղյուսակ 9․1.58
C88: ՀՀ կառավարություն
B89: ՄԱՍ 1. ՊԵՏԱԿԱՆ ՄԱՐՄՆԻ ԳԾՈՎ ԱՐԴՅՈՒՆՔԱՅԻՆ (ԿԱՏԱՐՈՂԱԿԱՆ) ՑՈՒՑԱՆԻՇՆԵՐԸ
B92: Ծրագրի դասիչը | C92: Ծրագրի անվանումը
B93: 1236 | C93: Հանրակրթական և նախադպրոցական հաստատությունների հիմնում, կառուցում, բարելավում
B95: Ծրագրի միջոցառումները
B96: Ծրագրի դասիչը՝ | C96: 1236 | D96: Ցուցանիշների փոփոխությունը (ավելացումները նշված են դրական նշանով)
B97: Միջոցառման դասիչը՝ | C97: 32003 | D97: Տարի
B98: Միջոցառման անվանումը` | C98: Հանրակրթական դպրոցների նոր շենքերի կառուցում
B99: Նկարագրությունը` | C99: ՀՀ մարզերում կրթական որակյալ ծառայությունների հասանելիության ապահովման ծրագրի շրջանակներում հանրակրթական և նախադպրոցական կրթության հասանելիության ապահովման նպատակով կրթական կենտրոնների կառուցում
B100: Միջոցառման տեսակը` | C100: Այլ պետական կազմակերպությունների կողմից օգտագործվող ոչ ֆինանսական ակտիվների հետ գործառնություններ
B101: Ակտիվն օգտագործող կազմակերպությունների անվանումները | C101: Հանրակրթական դպրոցներ
B102: Արդյունքի չափորոշիչներ
B103: Միջոցառման վրա կատարվող ծախսը (հազար դրամ) | D103: =+'Հավելված N 2'!G42 -> 729139.7

Sheet Հավելված N 7
H1: Հավելված N 7
H2: ՀՀ կառավարության 2024 թվականի
H3: ______________ ի ___Ն որոշման
A6: ՀԱՅԱՍՏԱՆԻ ՀԱՆՐԱՊԵՏՈՒԹՅԱՆ ԿԱՌԱՎԱՐՈՒԹՅԱՆ 2023 ԹՎԱԿԱՆԻ ԴԵԿՏԵՄԲԵՐԻ 28-Ի N 2323-Ն N 10 ՀԱՎԵԼՎԱԾՈՒՄ ԿԱՏԱՐՎՈՂ ՓՈՓՈԽՈՒԹՅՈՒՆՆԵՐԸ ԵՎ ԼՐԱՑՈՒՄՆԵՐԸ
A10: Կոդը | B10: Անվանումը | E10: Գնման ձևը | F10: Չափման միավորը | G10: Միավորի գինը | H10: Ցուցանիշների փոփոխությունը (ավելացումները նշված են դրական նշանով, իսկ նվազեցումները՝ փակագծերում)
H11: Քանակը | I11: Գումարը (հազար դրամ)
A12: 1 | B12: 2 | E12: 3 | F12: 4 | G12: 5 | H12: 6 | I12: 7
A13: ՀՀ կրթության, գիտության, մշակությի և սպորտի նախարարություն | I13: =+I14 -> 2685000
A14: Բաժին N 09 | B14: Խումբ N 02 | C14: Դաս N 01 | D14: Հիմնական ընդհանուր կրթություն | I14: =+I15+I24 -> 2685000
A15: 1236-32003 | B15: Հանրակրթական դպրոցների նոր շենքերի կառուցում | I15: =+I16 -> 1715000
B16: ՄԱՍ II. ԱՇԽԱՏԱՆՔՆԵՐ | I16: =SUM(I17:I23) -> 1715000
A17: 45211229/621 | B17: շինարարական աշխատանքներ դպրոցների համար | E17: ՀԲՄ | F17: դրամ | G17: 300000000 | H17: 1 | I17: =+ROUNDUP(H17*G17/1000,1) -> 300000
A18: 45211229/627 | B18: շինարարական աշխատանքներ դպրոցների համար | E18: ՀԲՄ | F18: դրամ | G18: 360000000 | H18: 1 | I18: =+ROUNDUP(H18*G18/1000,1) -> 360000
A19: 45211229/630 | B19: շինարարական աշխատանքներ դպրոցների համար | E19: ՀԲՄ | F19: դրամ | G19: 5000000 | H19: 1 | I19: =+ROUNDUP(H19*G19/1000,1) -> 5000
A20: 45211229/628 | B20: շինարարական աշխատանքներ դպրոցների համար | E20: ՀԲՄ | F20: դրամ | G20: 300000000 | H20: 1 | I20: =+ROUNDUP(H20*G20/1000,1) -> 300000
A21: 45211229/626 | B21: շինարարական աշխատանքներ դպրոցների համար | E21: ՀԲՄ | F21: դրամ | G21: 150000000 | H21: 1 | I21: =+ROUNDUP(H21*G21/1000,1) -> 150000
A22: 45211229/625 | B22: շինարարական աշխատանքներ դպրոցների համար | E22: ՀԲՄ | F22: դրամ | G22: 300000000 | H22: 1 | I22: =+ROUNDUP(H22*G22/1000,1) -> 300000
A23: 45211229/629 | B23: շինարարական աշխատանքներ դպրոցների համար | E23: ՀԲՄ | F23: դրամ | G23: 300000000 | H23: 1 | I23: =+ROUNDUP(H23*G23/1000,1) -> 300000
A24: 1236-32005 | B24: Կրթահամալիրների կառուցում | I24: =+I25 -> 970000
B25: ՄԱՍ II. ԱՇԽԱՏԱՆՔՆԵՐ | I25: =SUM(I26:I29) -> 970000
A26: 45211229/622 | B26: շինարարական աշխատանքներ դպրոցների համար | E26: ՀԲՄ | F26: դրամ | G26: 300000000 | H26: 1 | I26: =+ROUNDUP(H26*G26/1000,1) -> 300000
A27: 45211229/623 | B27: շինարարական աշխատանքներ դպրոցների համար | E27: ՀԲՄ | F27: դրամ | G27: 300000000 | H27: 1 | I27: =+ROUNDUP(H27*G27/1000,1) -> 300000
A28: 45211229/620 | B28: շինարարական աշխատանքներ դպրոցների համար | E28: ՀԲՄ | F28: դրամ | G28: 300000000 | H28: 1 | I28: =+ROUNDUP(H28*G28/1000,1) -> 300000
A29: 45211229/579 | B29: շինարարական աշխատանքներ դպրոցների համար | E29: ՀԲՄ | F29: դրամ | G29: 70000000 | H29: 1 | I29: =+ROUNDUP(H29*G29/1000,1) -> 70000
A30: ՀՀ քաղաքաշինության կոմիտե | I30: =+I31 -> -3414139.7
A31: Բաժին N 09 | B31: Խումբ N 02 | C31: Դաս N 01 | D31: Հիմնական ընդհանուր կրթություն | I31: =+I32+I53 -> -3414139.7
A32: 1236-32003 | B32: Հանրակրթական դպրոցների նոր շենքերի կառուցում | I32: =+I33+I40 -> -2204139.7
B33: ՄԱՍ II. ԱՇԽԱՏԱՆՔՆԵՐ | I33: =SUM(I34:I39) -> -2127547.9
A34: 45211231/3 | B34: միջնակարգ դպրոցների կառուցման աշխատանքներ | E34: ԲՄ | F34: դրամ | G34: 397545900 | H34: -1 | I34: =+ROUNDUP(H34*G34/1000,1) -> -397545.9
A35: 45221142/14 | B35: ընդհանուր շինարարական աշխատանքներ | E35: ԲՄ | F35: դրամ | G35: 330388200 | H35: -1 | I35: =+ROUNDUP(H35*G35/1000,1) -> -330388.2
A36: 45221142/19 | B36: ընդհանուր շինարարական աշխատանքներ | E36: ՀԲՄ | F36: դրամ | G36: 333011600 | H36: -1 | I36: =+ROUNDUP(H36*G36/1000,1) -> -333011.6
A37: 45221142/34 | B37: ընդհանուր շինարարական աշխատանքներ | E37: ՀԲՄ | F37: դրամ | G37: 241312700 | H37: -1 | I37: =+ROUNDUP(H37*G37/1000,1) -> -241312.7
A38: 45221142/55 | B38: ընդհանուր շինարարական աշխատանքներ | E38: ՀԲՄ | F38: դրամ | G38: 390926600 | H38: -1 | I38: =+ROUNDUP(H38*G38/1000,1) -> -390926.6
A39: 45221142/72 | B39: ընդհանուր շինարարական աշխատանքներ | E39: ՀԲՄ | F39: դրամ | G39: 434362900 | H39: -1 | I39: =+ROUNDUP(H39*G39/1000,1) -> -434362.9
B40: ՄԱՍ III. ԾԱՌԱՅՈՒԹՅՈՒՆՆԵՐ | I40: =SUM(I41:I52) -> -76591.8
A41: 71351540/15 | B41: տեխնիկական հսկողության ծառայություններ | E41: ԳՀ | F41: դրամ | G41: 11926400 | H41: -1 | I41: =+ROUNDUP(H41*G41/1000,1) -> -11926.4
A42: 71351540/18 | B42: տեխնիկական հսկողության ծառայություններ | E42: ԳՀ | F42: դրամ | G42: 9911600 | H42: -1 | I42: =+ROUNDUP(H42*G42/1000,1) -> -9911.6
A43: 71351540/23 | B43: տեխնիկական հսկողության ծառայություններ | E43: ԳՀ | F43: դրամ | G43: 9990300 | H43: -1 | I43: =+ROUNDUP(H43*G43/1000,1) -> -9990.3
A44: 71351540/41 | B44: տեխնիկական հսկողության ծառայություններ | E44: ԳՀ | F44: դրամ | G44: 7239400 | H44: -1 | I44: =+ROUNDUP(H44*G44/1000,1) -> -7239.4
A45: 71351540/62 | B45: տեխնիկական հսկողության ծառայություններ | E45: ԳՀ | F45: դրամ | G45: 11727800 | H45: -1 | I45: =+ROUNDUP(H45*G45/1000,1) -> -11727.8
A46: 71351540/87 | B46: տեխնիկական հսկողության ծառայություններ | E46: ԳՀ | F46: դրամ | G46: 13030900 | H46: -1 | I46: =+ROUNDUP(H46*G46/1000,1) -> -13030.9
A47: 98111140/15 | B47: հեղինակային հսկողության ծառայություններ | E47: ՄԱ | F47: դրամ | G47: 2385300 | H47: -1 | I47: =+ROUNDUP(H47*G47/1000,1) -> -2385.3
A48: 98111140/18 | B48: հեղինակային հսկողության ծառայություններ | E48: ՄԱ | F48: դրամ | G48: 1982300 | H48: -1 | I48: =+ROUNDUP(H48*G48/1000,1) -> -1982.3
A49: 98111140/23 | B49: հեղինակային հսկողության ծառայություններ | E49: ՄԱ | F49: դրամ | G49: 1998100 | H49: -1 | I49: =+ROUNDUP(H49*G49/1000,1) -> -1998.1
A50: 98111140/41 | B50: հեղինակային հսկողության ծառայություններ | E50: ՄԱ | F50: դրամ | G50: 1447900 | H50: -1 | I50: =+ROUNDUP(H50*G50/1000,1) -> -1447.9
A51: 98111140/62 | B51: հեղինակային հսկողության ծառայություններ | E51: ՄԱ | F51: դրամ | G51: 2345600 | H51: -1 | I51: =+ROUNDUP(H51*G51/1000,1) -> -2345.6
A52: 98111140/87 | B52: հեղինակային հսկողության ծառայություններ | E52: ՄԱ | F52: դրամ | G52: 2606200 | H52: -1 | I52: =+ROUNDUP(H52*G52/1000,1) -> -2606.2
A53: 1236-32005 | B53: Կրթահամալիրների կառուցում | I53: =+I54+I59 -> -1210000
B54: ՄԱՍ II. ԱՇԽԱՏԱՆՔՆԵՐ | I54: =SUM(I55:I58) -> -1156787.6
A55: 45221142/10 | B55: ընդհանուր շինարարական աշխատանքներ | E55: ՀԲՄ | F55: դրամ | G55: 305927300 | H55: -1 | I55: =+ROUNDUP(H55*G55/1000,1) -> -305927.3
A56: 45221142/28 | B56: ընդհանուր շինարարական աշխատանքներ | E56: ՀԲՄ | F56: դրամ | G56: 305927300 | H56: -1 | I56: =+ROUNDUP(H56*G56/1000,1) -> -305927.3
A57: 45221142/50 | B57: ընդհանուր շինարարական աշխատանքներ | E57: ՀԲՄ | F57: դրամ | G57: 239005700 | H57: -1 | I57: =+ROUNDUP(H57*G57/1000,1) -> -239005.7
A58: 45221142/52 | B58: ընդհանուր շինարարական աշխատանքներ | E58: ՀԲՄ | F58: դրամ | G58: 305927300 | H58: -1 | I58: =+ROUNDUP(H58*G58/1000,1) -> -305927.3
B59: ՄԱՍ III. ԾԱՌԱՅՈՒԹՅՈՒՆՆԵՐ | I59: =SUM(I60:I67) -> -53212.4
A60: 71351540/10 | B60: տեխնիկական հսկողության ծառայություններ | E60: ԳՀ | F60: դրամ | G60: 12237100 | H60: -1 | I60: =+ROUNDUP(H60*G60/1000,1) -> -12237.1
A61: 71351540/28 | B61: տեխնիկական հսկողության ծառայություններ | E61: ԳՀ | F61: դրամ | G61: 12237100 | H61: -1 | I61: =+ROUNDUP(H61*G61/1000,1) -> -12237.1
A62: 71351540/50 | B62: տեխնիկական հսկողության ծառայություններ | E62: ԳՀ | F62: դրամ | G62: 9560300 | H62: -1 | I62: =+ROUNDUP(H62*G62/1000,1) -> -9560.3
A63: 71351540/52 | B63: տեխնիկական հսկողության ծառայություններ | E63: ԳՀ | F63: դրամ | G63: 12237100 | H63: -1 | I63: =+ROUNDUP(H63*G63/1000,1) -> -12237.1
A64: 98111140/10 | B64: հեղինակային հսկողության ծառայություններ | E64: ՄԱ | F64: դրամ | G64: 1835600 | H64: -1 | I64: =+ROUNDUP(H64*G64/1000,1) -> -1835.6
A65: 98111140/28 | B65: հեղինակային հսկողության ծառայություններ | E65: ՄԱ | F65: դրամ | G65: 1835600 | H65: -1 | I65: =+ROUNDUP(H65*G65/1000,1) -> -1835.6
A66: 98111140/50 | B66: հեղինակային հսկողության ծառայություններ | E66: ՄԱ | F66: դրամ | G66: 1434000 | H66: -1 | I66: =+ROUNDUP(H66*G66/1000,1) -> -1434
A67: 98111140/52 | B67: հեղինակային հսկողության ծառայություններ | E67: ՄԱ | F67: դրամ | G67: 1835600 | H67: -1 | I67: =+ROUNDUP(H67*G67/1000,1) -> -1835.6
