Workbook
Name AgencyCode: #REF!
Name AgencyCode: #REF!
Name AgencyCode: #REF!
Name AgencyCode: #REF!
Name AgencyCode: #REF!
Name AgencyCode: #REF!
Name AgencyCode: #REF!
Name AgencyName: #REF!
Name AgencyName: #REF!
Name AgencyName: #REF!
Name AgencyName: #REF!
Name AgencyName: #REF!
Name åû: #REF!
Name åû: #REF!
Name åû: #REF!
Name davit: #REF!
Name davit: #REF!
Name davit: #REF!
Name Functional1: #REF!
Name Functional1: #REF!
Name Functional1: #REF!
Name Functional1: #REF!
Name Functional1: #REF!
Name ggg: #REF!
Name ggg: #REF!
Name ggg: #REF!
Name mas: #REF!
Name mas: #REF!
Name mas: #REF!
Name mass: #REF!
Name mass: #REF!
Name mass: #REF!
Name PANature: #REF!
Name PANature: #REF!
Name PANature: #REF!
Name PANature: #REF!
Name PANature: #REF!
Name PAType: #REF!
Name PAType: #REF!
Name PAType: #REF!
Name PAType: #REF!
Name PAType: #REF!
Name Performance2: #REF!
Name Performance2: #REF!
Name Performance2: #REF!
Name Performance2: #REF!
Name Performance2: #REF!
Name PerformanceType: #REF!
Name PerformanceType: #REF!
Name PerformanceType: #REF!
Name PerformanceType: #REF!
Name PerformanceType: #REF!
Name x: #REF!
Name x: #REF!
Name x: #REF!
Name Հավելված: #REF!
Name Հավելված: #REF!
Name Հավելված: #REF!
Name Հավելված: #REF!
Name Հավելված: #REF!

Sheet Հ1 
F1: Հավելված N 1
F2: ՀՀ կառավարության 2024 թվականի
F3: ______________ ի ___Ն որոշման
B5: «ՀԱՅԱUՏԱՆԻ ՀԱՆՐԱՊԵՏՈՒԹՅԱՆ 2024 ԹՎԱԿԱՆԻ ՊԵՏԱԿԱՆ ԲՅՈՒՋԵԻ ՄԱUԻՆ» OՐԵՆՔԻ N 1 ՀԱՎԵԼՎԱԾԻ N 2 ԱՂՅՈՒՍԱԿՈՒՄ ԿԱՏԱՐՎՈՂ ՎԵՐԱԲԱՇԽՈՒՄԸ ԵՎ ՀԱՅԱՍՏԱՆԻ ՀԱՆՐԱՊԵՏՈՒԹՅԱՆ ԿԱՌԱՎԱՐՈՒԹՅԱՆ 2023 ԹՎԱԿԱՆԻ ԴԵԿՏԵՄԲԵՐԻ 28-Ի N 2323-Ն ՈՐՈՇՄԱՆ N 5 ՀԱՎԵԼՎԱԾԻ N 1 ԱՂՅՈՒՍԱԿՈՒՄ ԿԱՏԱՐՎՈՂ ՓՈՓՈԽՈՒԹՅՈՒՆՆԵՐԸ
E6: հազ. դրամ
B7: Ծրագրային դասիչը | D7: Բյուջետային հատկացումների գլխավոր կարգադրիչների, ծրագրերի և միջոցառումների անվանումները | E7: Ցուցանիշների փոփոխությունը (ավելացումները նշված են դրական նշանով, իսկ նվազեցումները` փակագծերում)
B8: Ծրագիր | C8: Միջոցառում | E8: Տարի
B9: 1192 | D9: ԸՆԴԱՄԵՆԸ | E9: =+E11 -> 0
D10: այդ թվում
C11: ՀՀ տարածքային կառավարման և ենթակառուցվածքների նախարարություն | E11: =E13+E32 -> 0
B12: 1004 | D12: Ծրագրի անվանումը`
D13: Ոռոգման համակարգի առողջացում | E13: =+E20+E26 -> -2802395.7
D14: Ծրագրի նպատակը`
D15: Ոռոգման ծառայությունների հասանելիության և մատչելիության ապահովում
D16: Վերջնական արդյունքի նկարագրությունը`
D17: Ոռոգման ջրի մատակարարման արդյունավետության և հասանելիության բարելավում, կորուստների կրճատում
C18: Ծրագրի միջոցառումներ
C19: 31009 | D19: Միջոցառման անվանումը`
D20: Օրվա կարգավորման ջրավազանների կառուցում և վերակառուցում | E20: =Հ3!G23 -> -2700000
D21: Միջոցառման նկարագրությունը`
D22: Օրվա կարգավորման ջրավազանների կառուցման և վերակառուցման համար նախագծերի և աշխատանքների ձեռք բերում
D23: Միջոցառման տեսակը
D24: Պետական մարմինների կողմից օգտագործվող ոչ ֆինանսական ակտիվների հետ գործառնություններ
C25: 31013 | D25: Միջոցառման անվանումը`
D26: Փոքր և միջին ջրամբարների կառուցում | E26: =Հ3!G32 -> -102395.7
D27: Միջոցառման նկարագրությունը`
D28: Փոքր և միջին ջրամբարների կառուցման աշխատանքներ
D29: Միջոցառման տեսակը
D30: Պետական մարմինների կողմից օգտագործվող ոչ ֆինանսական ակտիվների հետ գործառնություններ
B31: 1049 | D31: Ծրագրի անվանումը`
D32: Ճանապարհային ցանցի բարելավում | E32: =+E39+E45 -> 2802395.7
D33: Ծրագրի նպատակը`
D34: Ճանապարհային ցանցի բարելավում և անվտանգ երթևեկության ապահովում
D35: Վերջնական արդյունքի նկարագրությունը`
D36: Ճանապարհների ծածկի որակի և փոխադրումների արդյունավետության բարելավում, ճանապարհների վիճակով պայմանավորված պատահարների նվազում
C37: Ծրագրի միջոցառումներ
C38: 21001 | D38: Միջոցառման անվանումը`
D39: Պետական նշանակության ավտոճանապարհների հիմնանորոգում | E39: =Հ3!G49 -> 2733981.7
D40: Միջոցառման նկարագրությունը`
D41: Միջպետական, հանրապետական և մարզային նշանակության ավտոճոնապարհների քայքայված ծածկի վերանորոգում, մաշված ծածկի փոխարինում
...

Sheet Հ2
H1: Հավելված N 2
H2: ՀՀ կառավարության 2024 թվականի
H3: ______________ ի ___Ն որոշման
A5: «ՀԱՅԱՍՏԱՆԻ ՀԱՆՐԱՊԵՏՈՒԹՅԱՆ 2024 ԹՎԱԿԱՆԻ ՊԵՏԱԿԱՆ ԲՅՈՒՋԵԻ ՄԱՍԻՆ» ՕՐԵՆՔԻ N 1 ՀԱՎԵԼՎԱԾԻ N 3 ԱՂՅՈՒՍԱԿՈՒՄ ԿԱՏԱՐՎՈՂ ՓՈՓՈԽՈՒԹՅՈՒՆՆԵՐԸ ԵՎ ԼՐԱՑՈՒՄՆԵՐԸ
G6: հազ. դրամ
A7: Ծրագրային դասիչ | C7: Բյուջետային գլխավոր կարգադրիչների, ծրագրերի, միջոցառումների և ուղղությունների անվանումները | D7: Ցուցանիշների փոփոխությունը (ավելացումները նշված են դրական նշանով, իսկ նվազեցումները` փակագծերում)
D8: Ընդամենը, | E8: այդ թվում՝
A9: Ծրագիր | B9: Միջոցառում | E9: Կառուցման աշխատանքներ | F9: Վերակառուցման, վերանորոգման և վերականգնման աշխատանքներ | G9: Նախագծահե- տազոտական, գեոդեզիա- քարտեզագրա- կան աշխա- տանքներ | H9: Ոչ ֆինանսական այլ ակտիվների ձեռքբերում
C10: ԸՆԴԱՄԵՆԸ | D10: =+E10+F10+G10+H10 -> 0 | E10: =+E12 -> -943055.6 | F10: =+F12 -> 943055.6 | G10: =+G12 -> 0 | H10: =+H12 -> 0
C11: այդ թվում՝
C12: ՀՀ ՏԱՐԱԾՔԱՅԻՆ ԿԱՌԱՎԱՐՄԱՆ ԵՎ ԵՆԹԱԿԱՌՈՒՑՎԱԾՔՆԵՐԻ ՆԱԽԱՐԱՐՈՒԹՅՈՒՆ | D12: =+E12+F12+G12+H12 -> 0 | E12: =E16+E17+E25+E26+E14+E15 -> -943055.6 | F12: =F16+F17+F25+F26+F14+F15 -> 943055.6 | G12: =G16+G17+G25+G26+G14+G15 -> 0 | H12: =H16+H17+H25+H26+H14+H15 -> 0
C13: այդ թվում`
A14: 1004 | B14: 31009 | C14: Օրվա կարգավորման ջրավազանների կառուցում և վերակառուցում | D14: =+E14+F14+G14+H14 -> -2700000 | E14: =Հ3!G31 -> -2700000
A15: 1004 | B15: 31013 | C15: Փոքր և միջին ջրամբարների կառուցում | D15: =+E15+F15+G15+H15 -> -102395.7 | E15: =Հ3!G40 -> -102395.7
A16: 1049 | B16: 21001 | C16: Պետական նշանակության ավտոճանապարհների հիմնանորոգում | D16: =+E16+F16+G16+H16 -> -558616.8 | F16: -558616.8 | G16: 0 | H16: =-H17 -> 0
A17: 1049 | B17: 21001 | C17: Պետական նշանակության ավտոճանապարհների հիմնանորոգում | D17: =+E17+F17+G17+H17 -> 3292598.5 | E17: =+E19+E21 -> 1859340.1 | F17: =+F19+F21 -> 1433258.4 | G17: =+G19+G21 -> 0 | H17: =+H19+H21 -> 0
C18: այդ թվում`
B19: 1 | C19: Հանրապետական նշանակության ավտոճանապարհներ, այդ թվում | D19: =+E19+F19+G19+H19 -> 1556368.2 | E19: =SUM(E20:E20) -> 1556368.2 | F19: =SUM(F20:F20) -> 0 | G19: =SUM(G20:G20) -> 0 | H19: =SUM(H20:H20) -> 0
C20: Կիրանց գյուղի հատվածում Հ-58 հանրապետական նշանակության ավտոմոբիլային ճանապարհի շրջանցիկ հատվածի կառուցում | D20: =+E20+F20+G20+H20 -> 1556368.2 | E20: 1556368.2 | H20: 0
B21: 2 | C21: Մարզային նշանակության ավտոճանապարհներ, այդ թվում | D21: =+E21+F21+G21+H21 -> 1736230.3 | E21: =SUM(E22:E24) -> 302971.9 | F21: =SUM(F22:F24) -> 1433258.4 | G21: =SUM(G22:G24) -> 0 | H21: =SUM(H22:H24) -> 0
C22: Տ-10-30, /Մ-16/ - Աճարկուտ - Կիրանց պատմական հուշարձան ավտոճանապարհի 3,5 կմ երկարությամբ հատվածի վերակառուցում | D22: =+E22+F22+G22+H22 -> 1147280.7 | F22: 1147280.7 | H22: 0
C23: Տ-8-93, Լծեն-Տաթև ավտոճանապարհի վերակառուցում (Քարաթափման կանխարգելիչ միջոցառումներ) | D23: =+E23+F23+G23+H23 -> 285977.7 | F23: 285977.7 | H23: 0
C24: /Մ-17/ - Նռնաձոր - /Հ-49/ ավտոճանապարհի կառուցում | D24: =+E24+F24+G24+H24 -> 302971.9 | E24: 302971.9 | H24: 0
A25: 1049 | B25: 21002 | C25: Տրանսպորտային օբյեկտների հիմնանորոգում | D25: =+E25+F25+G25+H25 -> -166520.1 | E25: =-E26 -> 0 | F25: -166520.1 | H25: =-H26 -> 0
A26: 1049 | B26: 21002 | C26: Տրանսպորտային օբյեկտների հիմնանորոգում | D26: =+E26+F26+G26+H26 -> 234934.1 | E26: =SUM(E28:E29) -> 0 | F26: =SUM(F28:F29) -> 234934.1 | G26: =SUM(G28:G29) -> 0 | H26: =SUM(H28:H29) -> 0
C27: այդ թվում`
C28: Հ-13,/Մ-3/ (Վաղարշապատ) - Մասիս - /Մ-2/ հանրապետական նշանակության ավտոճանապարհի կմ9+800-ում գտնվող կամուրջի հիմնանորոգում | D28: =+E28+F28+G28+H28 -> 87342.1 | F28: 87342.1 | H28: 0
C29: Տ-2-15, /Տ-2-13/ (Գեղանիստ) – Գետափնյա – Ղուկասավան –Դարակերտ (Տ-2-3) մարզային նշանակության ավտոճանապարհի կմ0+400 հատվածում Հրազդան գետի վրա գտնվող կամրջի հիմնանորոգում | D29: =+E29+F29+G29+H29 -> 147592 | F29: 147592 | H29: 0

Sheet Հ3
G1: Հավելված N 3
G2: ՀՀ կառավարության 2024 թվականի
G3: ______________ ի ___Ն որոշման
A5: ՀԱՅԱՍՏԱՆԻ ՀԱՆՐԱՊԵՏՈՒԹՅԱՆ ԿԱՌԱՎԱՐՈՒԹՅԱՆ 2023 ԹՎԱԿԱՆԻ ԴԵԿՏԵՄԲԵՐԻ 28-Ի N 2323-Ն ՈՐՈՇՄԱՆ N 3 ԵՎ N 4 ՀԱՎԵԼՎԱԾՆԵՐՈՒՄ ԿԱՏԱՐՎՈՂ ՓՈՓՈԽՈՒԹՅՈՒՆՆԵՐԸ ԵՎ ԼՐԱՑՈՒՄՆԵՐԸ
G7: հազ. դրամ
A8: Գործառական դասիչը | D8: Ծրագրային դասիչը | F8: Բյուջետային հատկացումների գլխավոր կարգադրիչների, ծրագրերի, միջոցառումների և միջոցառումները կատարող պետական մարմինների անվանումները | G8: Ցուցանիշների փոփոխությունը (ավելացումները նշված են դրական նշանով, իսկ նվազեցումները` փակագծերում)
A9: Բաժին | B9: Խումբ | C9: Դաս | D9: Ծրագիր | E9: Միջոցառում | G9: Տարի
F10: ԸՆԴԱՄԵՆԸ | G10: =+G12 -> 0
F11: այդ թվում
F12: ՀՀ տարածքային կառավարման և ենթակառուցվածքների նախարարություն | G12: =+G13 -> 0
A13: 04 | F13: ՏՆՏԵՍԱԿԱՆ ՀԱՐԱԲԵՐՈՒԹՅՈՒՆՆԵՐ | G13: =G15+G41 -> 0
F14: այդ թվում`
B15: 02 | F15: Գյուղատնտեսություն, անտառային տնտեսություն, ձկնորսություն և որսորդություն | G15: =G17 -> -2802395.7
F16: այդ թվում`
C17: 04 | F17: Ոռոգում | G17: =+G19 -> -2802395.7
F18: այդ թվում`
F19: ՀՀ տարածքային կառավարման և ենթակառուցվածքների նախարարություն | G19: =+G21 -> -2802395.7
F20: այդ թվում`
D21: 1004 | F21: Ոռոգման համակարգի առողջացում | G21: =G23+G32 -> -2802395.7
F22: այդ թվում`
E23: 31009 | F23: Օրվա կարգավորման ջրավազանների կառուցում և վերակառուցում | G23: =G25 -> -2700000
F24: այդ թվում` ըստ կատարողների
F25: ՀՀ տարածքային կառավարման և ենթակառուցվածքների նախարարության ջրային կոմիտե | G25: =G27 -> -2700000
F26: այդ թվում` բյուջետային ծախսերի տնտեսագիտական դասակարգման հոդվածներ
F27: ԸՆԴԱՄԵՆԸ ԾԱԽՍԵՐ | G27: =+G28 -> -2700000
F28: ՈՉ ՖԻՆԱՆՍԱԿԱՆ ԱԿՏԻՎՆԵՐԻ ԳԾՈՎ ԾԱԽՍԵՐ | G28: =G29 -> -2700000
F29: ՀԻՄՆԱԿԱՆ ՄԻՋՈՑՆԵՐ | G29: =G30 -> -2700000
F30: ՇԵՆՔԵՐ ԵՎ ՇԻՆՈՒԹՅՈՒՆՆԵՐ | G30: =G31 -> -2700000
F31: - Շենքերի և շինությունների շինարարություն | G31: -2700000
E32: 31013 | F32: Փոքր և միջին ջրամբարների կառուցում | G32: =G34 -> -102395.7
F33: այդ թվում` ըստ կատարողների
F34: ՀՀ տարածքային կառավարման և ենթակառուցվածքների նախարարության ջրային կոմիտե | G34: =G36 -> -102395.7
F35: այդ թվում` բյուջետային ծախսերի տնտեսագիտական դասակարգման հոդվածներ
F36: ԸՆԴԱՄԵՆԸ ԾԱԽՍԵՐ | G36: =+G37 -> -102395.7
F37: ՈՉ ՖԻՆԱՆՍԱԿԱՆ ԱԿՏԻՎՆԵՐԻ ԳԾՈՎ ԾԱԽՍԵՐ | G37: =G38 -> -102395.7
F38: ՀԻՄՆԱԿԱՆ ՄԻՋՈՑՆԵՐ | G38: =G39 -> -102395.7
F39: ՇԵՆՔԵՐ ԵՎ ՇԻՆՈՒԹՅՈՒՆՆԵՐ | G39: =G40 -> -102395.7
F40: - Շենքերի և շինությունների շինարարություն | G40: -102395.7
B41: 05 | F41: Տրանսպորտ | G41: =G43 -> 2802395.7
F42: այդ թվում`
...

Sheet Հ4
E1: Հավելված 4
E2: ՀՀ կառավարության 2024 թվականի
E3: ______________ ի ___Ն որոշման
A5: ՀԱՅԱՍՏԱՆԻ ՀԱՆՐԱՊԵՏՈՒԹՅԱՆ ԿԱՌԱՎԱՐՈՒԹՅԱՆ 2023 ԹՎԱԿԱՆԻ ԴԵԿՏԵՄԲԵՐԻ 28-Ի N 2323-Ն ՈՐՈՇՄԱՆ N 5 ՀԱՎԵԼՎԱԾԻ N 2 ԱՂՅՈՒՍԱԿՈՒՄ ԿԱՏԱՐՎՈՂ ՓՈՓՈԽՈՒԹՅՈՒՆՆԵՐԸ ԵՎ ԼՐԱՑՈՒՄՆԵՐԸ
E7: հազ․ դրամ
B8: Ծրագրային դասիչը | D8: Հատկացումների տրամադրման նպատակները և բյուջետային գլխավոր կարգադրիչների, ծրագրերի, միջոցառումների և կատարող պետական մարմնի անվանումները | E8: Ցուցանիշների փոփոխությունը (ավելացումները նշված են դրական նշանով, իսկ նվազեցումները` փակագծերում)
B9: Ծրագիր | C9: Միջոցառում | E9: Տարի
D10: ԸՆԴԱՄԵՆԸ | E10: =+E12 -> 1.891749e-10
D11: այդ թվում՝
D12: ՀՀ ՏԱՐԱԾՔԱՅԻՆ ԿԱՌԱՎԱՐՄԱՆ ԵՎ ԵՆԹԱԿԱՌՈՒՑՎԱԾՔՆԵՐԻ ՆԱԽԱՐԱՐՈՒԹՅՈՒՆ | E12: =+E20+E31+E14+E17 -> 1.891749e-10
D13: այդ թվում`
B14: =Հ2!A14 -> 1004 | C14: =Հ2!B14 -> 31009 | D14: =Հ2!C14 -> Օրվա կարգավորման ջրավազանների կառուցում և վերակառուցում | E14: =E16 -> -2700000
D15: այդ թվում` ըստ կատարողների
D16: ՀՀ տարածքային կառավարման և ենթակառուցվածքների նախարարության ջրային կոմիտե | E16: =Հ2!D14 -> -2700000
B17: =Հ2!A15 -> 1004 | C17: =Հ2!B15 -> 31013 | D17: =Հ2!C15 -> Փոքր և միջին ջրամբարների կառուցում | E17: =E19 -> -102395.7
D18: այդ թվում` ըստ կատարողների
D19: ՀՀ տարածքային կառավարման և ենթակառուցվածքների նախարարության ջրային կոմիտե | E19: =Հ2!D15 -> -102395.7
B20: 1049 | C20: 21001 | D20: Պետական նշանակության ավտոճանապարհների հիմնանորոգում | E20: =+E22+E23 -> 2733981.7
D21: այդ թվում` ըստ կատարողների
D22: ՀՀ կառավարություն | E22: =Հ2!D16 -> -558616.8
D23: ՀՀ տարածքային կառավարման և ենթակառուցվածքների նախարարություն | E23: =E25+E27 -> 3292598.5
D24: այդ թվում՝ ըստ ուղղությունների
C25: 1 | D25: Հանրապետական նշանակության ավտոճանապարհներ, այդ թվում | E25: =SUM(E26:E26) -> 1556368.2
D26: =Հ2!C20 -> Կիրանց գյուղի հատվածում Հ-58 հանրապետական նշանակության ավտոմոբիլային ճանապարհի շրջանցիկ հատվածի կառուցում | E26: =Հ2!D20 -> 1556368.2
C27: 2 | D27: Մարզային նշանակության ավտոճանապարհներ, այդ թվում | E27: =SUM(E28:E30) -> 1736230.3
D28: =Հ2!C22 -> Տ-10-30, /Մ-16/ - Աճարկուտ - Կիրանց պատմական հուշարձան ավտոճանապարհի 3,5 կմ երկարությամբ հատվածի վերակառուցում | E28: =Հ2!D22 -> 1147280.7
D29: =Հ2!C23 -> Տ-8-93, Լծեն-Տաթև ավտոճանապարհի վերակառուցում (Քարաթափման կանխարգելիչ միջոցառումներ) | E29: =Հ2!D23 -> 285977.7
D30: =Հ2!C24 -> /Մ-17/ - Նռնաձոր - /Հ-49/ ավտոճանապարհի կառուցում | E30: =Հ2!D24 -> 302971.9
B31: 1049 | C31: =Հ2!B25 -> 21002 | D31: =Հ2!C25 -> Տրանսպորտային օբյեկտների հիմնանորոգում | E31: =+E33+E34 -> 68414
D32: այդ թվում` ըստ կատարողների
D33: ՀՀ կառավարություն | E33: =Հ2!F25 -> -166520.1
D34: ՀՀ տարածքային կառավարման և ենթակառուցվածքների նախարարություն | E34: =SUM(E35:E37) -> 234934.1
D35: այդ թվում՝ ըստ ուղղությունների
D36: =Հ2!C28 -> Հ-13,/Մ-3/ (Վաղարշապատ) - Մասիս - /Մ-2/ հանրապետական նշանակության ավտոճանապարհի կմ9+800-ում գտնվող կամուրջի հիմնանորոգում | E36: =Հ2!D28 -> 87342.1
D37: =Հ2!C29 -> Տ-2-15, /Տ-2-13/ (Գեղանիստ) – Գետափնյա – Ղուկասավան –Դարակերտ (Տ-2-3) մարզային նշանակության ավտոճանապարհի կմ0+400 հատվածում Հրազդան գետի վրա գտնվող կամրջի հիմնանորոգում | E37: =Հ2!D29 -> 147592

Sheet Հ5
D1: Հավելված N 5
D2: ՀՀ կառավարության 2024 թվականի
D3: ______________ ի ___Ն որոշման
B5: ՀԱՅԱՍՏԱՆԻ ՀԱՆՐԱՊԵՏՈՒԹՅԱՆ ԿԱՌԱՎԱՐՈՒԹՅԱՆ 2023 ԹՎԱԿԱՆԻ ԴԵԿՏԵՄԲԵՐԻ 28-Ի N 2323-Ն ՈՐՈՇՄԱՆ N 9 ՀԱՎԵԼՎԱԾԻ NN 9.7 ԱՂՅՈՒՍԱԿՈՒՄ ԿԱՏԱՐՎՈՂ ՓՈՓՈԽՈՒԹՅՈՒՆՆԵՐԸ ԵՎ ԼՐԱՑՈՒՄՆԵՐԸ
D7: Աղյուսակ 9.7
B8: ՀՀ տարածքային կառավարման և ենթակառուցվածքների նախարարություն
B9: ՄԱՍ 2. ՊԵՏԱԿԱՆ ՄԱՐՄՆԻ ԳԾՈՎ ԱՐԴՅՈՒՆՔԱՅԻՆ (ԿԱՏԱՐՈՂԱԿԱՆ) ՑՈՒՑԱՆԻՇՆԵՐԸ
B11: Ծրագրի դասիչը | C11: Ծրագրի անվանումը
B12: 1004 | C12: ='Հ1 '!D13 -> Ոռոգման համակարգի առողջացում
B14: Ծրագրի միջոցառումները
B15: Ծրագրի դասիչը` | C15: 1004 | D15: Ցուցանիշների փոփոխությունը (նվազեցումները նշված են փակագծերում)
B16: Միջոցառման դասիչը` | C16: 31009 | D16: Տարի
B17: Միջոցառման անվանումը` | C17: Օրվա կարգավորման ջրավազանների կառուցում և վերակառուցում
B18: Նկարագրությունը` | C18: Օրվա կարգավորման ջրավազանների կառուցման և վերակառուցման համար նախագծերի և աշխատանքների ձեռք բերում
B19: Միջոցառման տեսակը` | C19: Պետական մարմինների կողմից օգտագործվող ոչ ֆինանսական ակտիվների հետ գործառնություններ
B20: Միջոցառումն իրականացնողի անվանումը | C20: ՀՀ ՏԿԵՆ ջրային կոմիտե
B21: Արդյունքի չափորոշիչներ
B22: Օրվա կարգավորման ջրավազանների կառուցում, հատ | D22: -30
B23: Միջոցառման վրա կատարվող ծախսը (հազար դրամ) | D23: ='Հ1 '!E20 -> -2700000
B25: Ծրագրի դասիչը` | C25: 1004 | D25: Ցուցանիշների փոփոխությունը (նվազեցումները նշված են փակագծերում)
B26: Միջոցառման դասիչը` | C26: 31013 | D26: Տարի
B27: Միջոցառման անվանումը` | C27: ='Հ1 '!D26 -> Փոքր և միջին ջրամբարների կառուցում
B28: Նկարագրությունը` | C28: ='Հ1 '!D28 -> Փոքր և միջին ջրամբարների կառուցման աշխատանքներ
B29: Միջոցառման տեսակը` | C29: ='Հ1 '!D30 -> Պետական մարմինների կողմից օգտագործվող ոչ ֆինանսական ակտիվների հետ գործառնություններ
B30: Ակտիվն օգտագործող կազմակերպության(ների) անվանում(ները)՛ | C30: ՀՀ ՏԿԵՆ ջրային կոմիտե
B31: Արդյունքի չափորոշիչներ
B32: Միջոցառման վրա կատարվող ծախսը (հազար դրամ) | D32: ='Հ1 '!E26 -> -102395.7
B34: Ծրագրի դասիչը | C34: Ծրագրի անվանումը
B35: 1049 | C35: Ճանապարհային ցանցի բարելավում
B38: Ծրագրի միջոցառումները
B39: Ծրագրի դասիչը` | C39: 1049 | D39: Ցուցանիշների փոփոխությունը (ավելացումները նշված են դրական նշանով)
B40: Միջոցառման դասիչը` | C40: 21001 | D40: Տարի
B41: Միջոցառման անվանումը` | C41: Պետական նշանակության ավտոճանապարհների հիմնանորոգում
B42: Նկարագրությունը` | C42: Միջպետական, հանրապետական և մարզային նշանակության ավտոճոնապարհների քայքայված ծածկի վերանորոգում, մաշված ծածկի փոխարինում
B43: Միջոցառման տեսակը` | C43: Հանրության կողմից անմիջականորեն օգտագործվող ակտիվների հետ կապված միջոցառումներ
B44: Միջոցառումն իրականացնողի անվանումը | C44: Մասնագիտացված միավոր
B45: Արդյունքի չափորոշիչներ
B46: Հանրապետական նշանակության ավտոճանապարհներ,կմ | D46: 0.7
B47: Մարզային նշանակության ավտոճանապարհներ,կմ | D47: 3.7
B48: Միջոցառման վրա կատարվող ծախսը (հազար դրամ) | D48: =Հ3!G49 -> 2733981.7
...

Sheet Հ6
D1: Հավելված N 6
D2: ՀՀ կառավարության 2024 թվականի
D3: ______________ ի ___Ն որոշման
B5: ՀԱՅԱՍՏԱՆԻ ՀԱՆՐԱՊԵՏՈՒԹՅԱՆ ԿԱՌԱՎԱՐՈՒԹՅԱՆ 2023 ԹՎԱԿԱՆԻ ԴԵԿՏԵՄԲԵՐԻ 28-Ի N 2323-Ն ՈՐՈՇՄԱՆ N 9.1 ՀԱՎԵԼՎԱԾԻ NN 9.1.7, 9.1.25 ԵՎ 9.1.58 ԱՂՅՈՒՍԱԿՆԵՐՈՒՄ ԿԱՏԱՐՎՈՂ ՓՈՓՈԽՈՒԹՅՈՒՆՆԵՐԸ ԵՎ ԼՐԱՑՈՒՄՆԵՐԸ
D7: Աղյուսակ 9.1.25
B8: ՀՀ տարածքային կառավարման և ենթակառուցվածքների նախարարության ջրային կոմիտե
B9: ՄԱՍ 1. ՊԵՏԱԿԱՆ ՄԱՐՄՆԻ ԳԾՈՎ ԱՐԴՅՈՒՆՔԱՅԻՆ (ԿԱՏԱՐՈՂԱԿԱՆ) ՑՈՒՑԱՆԻՇՆԵՐԸ
B11: Ծրագրի դասիչը | C11: Ծրագրի անվանումը
B12: 1004 | C12: ='Հ1 '!D13 -> Ոռոգման համակարգի առողջացում
B14: Ծրագրի միջոցառումները
B15: Ծրագրի դասիչը` | C15: 1004 | D15: Ցուցանիշների փոփոխությունը (նվազեցումները նշված են փակագծերում)
B16: Միջոցառման դասիչը` | C16: 31009 | D16: Տարի
B17: Միջոցառման անվանումը` | C17: Օրվա կարգավորման ջրավազանների կառուցում և վերակառուցում
B18: Նկարագրությունը` | C18: Օրվա կարգավորման ջրավազանների կառուցման և վերակառուցման համար նախագծերի և աշխատանքների ձեռք բերում
B19: Միջոցառման տեսակը` | C19: Պետական մարմինների կողմից օգտագործվող ոչ ֆինանսական ակտիվների հետ գործառնություններ
B20: Միջոցառումն իրականացնողի անվանումը | C20: ՀՀ ՏԿԵՆ ջրային կոմիտե
B21: Արդյունքի չափորոշիչներ
B22: Օրվա կարգավորման ջրավազանների կառուցում, հատ | D22: -30
B23: Միջոցառման վրա կատարվող ծախսը (հազար դրամ) | D23: ='Հ1 '!E20 -> -2700000
B25: Ծրագրի դասիչը` | C25: 1004 | D25: Ցուցանիշների փոփոխությունը (նվազեցումները նշված են փակագծերում)
B26: Միջոցառման դասիչը` | C26: 31013 | D26: Տարի
B27: Միջոցառման անվանումը` | C27: ='Հ1 '!D26 -> Փոքր և միջին ջրամբարների կառուցում
B28: Նկարագրությունը` | C28: ='Հ1 '!D28 -> Փոքր և միջին ջրամբարների կառուցման աշխատանքներ
B29: Միջոցառման տեսակը` | C29: ='Հ1 '!D30 -> Պետական մարմինների կողմից օգտագործվող ոչ ֆինանսական ակտիվների հետ գործառնություններ
B30: Ակտիվն օգտագործող կազմակերպության(ների) անվանում(ները)՛ | C30: ՀՀ ՏԿԵՆ ջրային կոմիտե
B31: Արդյունքի չափորոշիչներ
B32: Միջոցառման վրա կատարվող ծախսը (հազար դրամ) | D32: ='Հ1 '!E26 -> -102395.7
D34: Աղյուսակ 9.1.7
B35: ՀՀ տարածքային կառավարման և ենթակառուցվածքների նախարարություն
B36: ՄԱՍ 1. ՊԵՏԱԿԱՆ ՄԱՐՄՆԻ ԳԾՈՎ ԱՐԴՅՈՒՆՔԱՅԻՆ (ԿԱՏԱՐՈՂԱԿԱՆ) ՑՈՒՑԱՆԻՇՆԵՐԸ
B38: Ծրագրի դասիչը | C38: Ծրագրի անվանումը
B39: 1049 | C39: Ճանապարհային ցանցի բարելավում
B41: Ծրագրի միջոցառումները
B42: Ծրագրի դասիչը` | C42: 1049 | D42: Ցուցանիշների փոփոխությունը (ավելացումները նշված են դրական նշանով)
B43: Միջոցառման դասիչը` | C43: 21001 | D43: Տարի
B44: Միջոցառման անվանումը` | C44: Պետական նշանակության ավտոճանապարհների հիմնանորոգում
B45: Նկարագրությունը` | C45: Միջպետական, հանրապետական և մարզային նշանակության ավտոճոնապարհների քայքայված ծածկի վերանորոգում, մաշված ծածկի փոխարինում
B46: Միջոցառման տեսակը` | C46: Հանրության կողմից անմիջականորեն օգտագործվող ակտիվների հետ կապված միջոցառումներ
B47: Միջոցառումն իրականացնողի անվանումը | C47: Մասնագիտացված միավոր
B48: Արդյունքի չափորոշիչներ
...

Sheet Հ7
H1: Հավելված N 7
H2: ՀՀ կառավարության 2024 թվականի
H3: ______________ ի ___Ն որոշման
B5: ՀԱՅԱՍՏԱՆԻ ՀԱՆՐԱՊԵՏՈՒԹՅԱՆ ԿԱՌԱՎԱՐՈՒԹՅԱՆ 2023 ԹՎԱԿԱՆԻ ԴԵԿՏԵՄԲԵՐԻ 28-Ի N 2323-Ն ՈՐՈՇՄԱՆ N 10 ՀԱՎԵԼՎԱԾՈՒՄ ԿԱՏԱՐՎՈՂ ԼՐԱՑՈՒՄՆԵՐԸ
B6: Կոդը | C6: Անվանումը | D6: Գնման ձևը | E6: Չափման միավորը | F6: Միավորի գինը | G6: Ցուցանիշների փոփոխությունը (ավելացումները նշված են դրական նշանով)
G7: Քանակը | H7: Գումարը (հազար դրամով)
B8: ՀՀ տարածքային կառավարման և ենթակառուցվածքների նախարարություն | H8: =+H9 -> 3527532.3
B9: Բաժին N 04 | C9: Խումբ N 05 | D9: Դաս N 01 | E9: Ճանապարհային տրանսպորտ | H9: =+H10+H25 -> 3527532.3
B10: 1049 21001 | C10: Պետական նշանակության ավտոճանապարհների հիմնանորոգում | H10: =SUM(H11+H16) -> 3292598.3
B11: ՄԱՍ II. ԱՇԽԱՏԱՆՔՆԵՐ | H11: =SUM(H12:H15) -> 3243754.5
B12: 45231162/ | C12: ճանապարհների կառուցման աշխատանքներ | D12: ՀՄԱ | E12: դրամ | F12: 1532435801 | G12: 1 | H12: =+G12*F12/1000 -> 1532435.8
B13: 45231177/ | C13: ճանապարհների վերանորոգման աշխատանքներ | D13: ՀՄԱ | E13: դրամ | F13: 1129718818 | G13: 1 | H13: =+G13*F13/1000 -> 1129718.8
B14: 45231177/ | C14: ճանապարհների վերանորոգման աշխատանքներ | D14: ՀՄԱ | E14: դրամ | F14: 281599887 | G14: 1 | H14: =+G14*F14/1000 -> 281599.89
B15: 45231162/501 | C15: ճանապարհների կառուցման աշխատանքներ | D15: ԲՄ | E15: դրամ | F15: 300000000 | G15: 1 | H15: =+G15*F15/1000 -> 300000
B16: ՄԱՍ III. ԾԱՌԱՅՈՒԹՅՈՒՆՆԵՐ | H16: =SUM(H17:H24) -> 48843.779
B17: 71351540/ | C17: տեխնիկական հսկողության ծառայություններ | D17: ՀՄԱ | E17: դրամ | F17: 14957717 | G17: 1 | H17: =+G17*F17/1000 -> 14957.717
B18: 71351540/ | C18: տեխնիկական հսկողության ծառայություններ | D18: ՀՄԱ | E18: դրամ | F18: 10976150 | G18: 1 | H18: =+G18*F18/1000 -> 10976.15
B19: 71351540/ | C19: տեխնիկական հսկողության ծառայություններ | D19: ՀՄԱ | E19: դրամ | F19: 2736102 | G19: 1 | H19: =+G19*F19/1000 -> 2736.102
B20: 71351540/541 | C20: տեխնիկական հսկողության ծառայություններ | D20: ԲՄ | E20: դրամ | F20: 555035 | G20: 1 | H20: =+G20*F20/1000 -> 555.035
B21: 98111140/ | C21: հեղինակային հսկողության ծառայություններ | D21: ՄԱ | E21: դրամ | F21: 8974630 | G21: 1 | H21: =+G21*F21/1000 -> 8974.63
B22: 98111140/ | C22: հեղինակային հսկողության ծառայություններ | D22: ՄԱ | E22: դրամ | F22: 6585690 | G22: 1 | H22: =+G22*F22/1000 -> 6585.69
B23: 98111140/ | C23: հեղինակային հսկողության ծառայություններ | D23: ՄԱ | E23: դրամ | F23: 1641661 | G23: 1 | H23: =+G23*F23/1000 -> 1641.661
B24: 98111140/ | C24: հեղինակային հսկողության ծառայություններ | D24: ՄԱ | E24: դրամ | F24: 2416794 | G24: 1 | H24: =+G24*F24/1000 -> 2416.794
B25: 1049 21002 | C25: Տրանսպորտային օբյեկտների հիմնանորոգում | H25: =H26+H29 -> 234934.03
B26: ՄԱՍ II ԱՇԽԱՏԱՆՔՆԵՐ | H26: =SUM(H27:H28) -> 232080
B27: 45221117/522 | C27: կամուրջների վերանորոգման շինարարական աշխատանքներ | D27: ՀԲՄ | E27: դրամ | F27: 86040000 | G27: 1 | H27: =+G27*F27/1000 -> 86040
B28: 45221117/520 | C28: կամուրջների վերանորոգման շինարարական աշխատանքներ | D28: ՀԲՄ | E28: դրամ | F28: 146040000 | G28: 1 | H28: =+G28*F28/1000 -> 146040
B29: ՄԱՍ III ԾԱՌԱՅՈՒԹՅՈՒՆՆԵՐ | H29: =SUM(H30:H33) -> 2854.032
B30: 71351540/609 | C30: տեխնիկական հսկողության ծառայություններ | D30: ՀԲՄ | E30: դրամ | F30: 800000 | G30: 1 | H30: =+G30*F30/1000 -> 800
B31: 71351540/608 | C31: տեխնիկական հսկողության ծառայություններ | D31: ՀԲՄ | E31: դրամ | F31: 696000 | G31: 1 | H31: =+G31*F31/1000 -> 696
B32: 98111140/ | C32: հեղինակային հսկողության ծառայություններ | D32: ՄԱ | E32: դրամ | F32: 502081 | G32: 1 | H32: =+G32*F32/1000 -> 502.081
B33: 98111140/ | C33: հեղինակային հսկողության ծառայություններ | D33: ՄԱ | E33: դրամ | F33: 855951 | G33: 1 | H33: =+G33*F33/1000 -> 855.951
B34: =Հ6!B8 -> ՀՀ տարածքային կառավարման և ենթակառուցվածքների նախարարության ջրային կոմիտե | H34: =+H35+H39 -> -2802395.7
B35: Բաժին N 04 | C35: Խումբ N 02 | D35: Դաս N 04 | E35: =Հ3!F17 -> Ոռոգում | H35: =+H36+H42 -> -2700000
B36: 1004 31009 | C36: =Հ3!F23 -> Օրվա կարգավորման ջրավազանների կառուցում և վերակառուցում | H36: =H37 -> -2700000
B37: ՄԱՍ II. ԱՇԽԱՏԱՆՔՆԵՐ | H37: =H38 -> -2700000
B38: 45611300-1 | C38: այլ շենքերի, շինությունների հիմնանորոգում | D38: ԲՄ | E38: դրամ | F38: 2700000000 | G38: -1 | H38: =G38*F38/1000 -> -2700000
B39: 1004 31013 | C39: =Հ3!F32 -> Փոքր և միջին ջրամբարների կառուցում | H39: =H40 -> -102395.7
B40: ՄԱՍ II. ԱՇԽԱՏԱՆՔՆԵՐ | H40: =H41 -> -102395.7
B41: 45611300-1 | C41: այլ շենքերի, շինությունների հիմնանորոգում | D41: ԲՄ | E41: դրամ | H41: =Հ3!G40 -> -102395.7
