Workbook
Name _tab10: #REF!
Name _tab10: #REF!
Name _tab10: #REF!
Name _tab10: #REF!
Name _tab11: #REF!
Name _tab11: #REF!
Name _tab11: #REF!
Name _tab11: #REF!
Name _tab12: #REF!
Name _tab12: #REF!
Name _tab12: #REF!
Name _tab12: #REF!
Name _tab13: #REF!
Name _tab13: #REF!
Name _tab13: #REF!
Name _tab13: #REF!
Name _tab14: #REF!
Name _tab14: #REF!
Name _tab14: #REF!
Name _tab14: #REF!
Name _tab15: #REF!
Name _tab15: #REF!
Name _tab15: #REF!
Name _tab15: #REF!
Name _tab16: #REF!
Name _tab16: #REF!
Name _tab16: #REF!
Name _tab16: #REF!
Name _tab17: #REF!
Name _tab17: #REF!
Name _tab17: #REF!
Name _tab17: #REF!
Name _tab18: #REF!
Name _tab18: #REF!
Name _tab18: #REF!
Name _tab18: #REF!
Name _tab19: #REF!
Name _tab19: #REF!
Name _tab19: #REF!
Name _tab19: #REF!
Name _tab20: #REF!
Name _tab20: #REF!
Name _tab20: #REF!
Name _tab20: #REF!
Name _tab21: #REF!
Name _tab21: #REF!
Name _tab21: #REF!
Name _tab21: #REF!
Name _tab22: #REF!
Name _tab22: #REF!
Name _tab22: #REF!
Name _tab22: #REF!
Name _tab23: #REF!
Name _tab23: #REF!
Name _tab23: #REF!
Name _tab23: #REF!
Name _tab24: #REF!
Name _tab24: #REF!
Name _tab24: #REF!
Name _tab24: #REF!

Sheet 1
D1: Հավելված N 1
C2: ՀՀ կառավարության 2024 թվականի
D3: N ------------ -Ն որոշման
A4: ՀԱՅԱՍՏԱՆԻ ՀԱՆՐԱՊԵՏՈՒԹՅԱՆ 2024 ԹՎԱԿԱՆԻ ՊԵՏԱԿԱՆ ԲՅՈՒՋԵԻ ՄԱՍԻՆ» ՕՐԵՆՔԻ N 1 ՀԱՎԵԼՎԱԾԻ N 2 ԱՂՅՈՒՍԱԿՈՒՄ ԿԱՏԱՐՎՈՂ ՎԵՐԱԲԱՇԽՈՒՄԸ ԵՎ ՀԱՅԱՍՏԱՆԻ ՀԱՆՐԱՊԵՏՈՒԹՅԱՆ ԿԱՌԱՎԱՐՈՒԹՅԱՆ 2023 ԹՎԱԿԱՆԻ ԴԵԿՏԵՄԲԵՐԻ 28-Ի N 2323-Ն ՈՐՈՇՄԱՆ N 5 ՀԱՎԵԼՎԱԾԻ N 1 ԱՂՅՈՒՍԱԿՈՒՄ ԿԱՏԱՐՎՈՂ ՓՈՓՈԽՈՒԹՅՈՒՆՆԵՐԸ ԵՎ ԼՐԱՑՈՒՄՆԵՐԸ
D6: հազար դրամ
A7: Ծրագրային դասիչը | C7: Բյուջետային հատկացումների գլխավոր կարգադրիչների, ծրագրերի և միջոցառումների անվանումները | D7: Ցուցանիշների փոփոխությունը (ավելացումները նշված են դրական նշանով, իսկ նվազեցումները` փակագծերում)
A8: Ծրագիր | B8: Միջոցառում | D8: Տարի
C9: ԸՆԴԱՄԵՆԸ | D9: =D10 -> 0
C10: ՀՀ տարածքային կառավարման և ենթակառուցվածքների նախարարություն | D10: =D24+D11 -> 0
A11: 1004 | C11: Ծրագրի անվանումը` | D11: =D18 -> -1200000
C12: Ոռոգման համակարգի առողջացում
C13: Ծրագրի նպատակը`
C14: Ոռոգման ծառայությունների հասանելիության և մատչելիության ապահովում
C15: Վերջնական արդյունքի նկարագրությունը`
C16: Ոռոգման ջրի մատակարարման արդյունավետության և հասանելիության բարելավում, կորուստների կրճատում
C17: Ծրագրի միջոցառումներ
B18: 12002 | C18: Միջոցառման անվանումը` | D18: ='2.'!G40 -> -1200000
C19: Գերմանիայի զարգացման բանկի աջակցությամբ իրականացվող Ախուրյան գետի ջրային ռեսուրսների ինտեգրված կառավարման փուլ 1 ծրագրով Ջրաձոր գյուղի վերաբնակեցման համար ենթակառուցվածքների և բնակելի տների կառուցում
C20: Միջոցառման նկարագրությունը`
C21: Գերմանիայի զարգացման բանկի աջակցությամբ իրականացվող Ախուրյան գետի ջրային ռեսուրսների ինտեգրված կառավարման փուլ 1 ծրագիր
C22: Միջոցառման տեսակը
C23: Տրանսֆերտների տրամադրում
A24: 1232 | C24: Ծրագրի անվանումը` | D24: =D31 -> 1200000
C25: Էներգաարդյունավետության ծրագիր
C26: Ծրագրի նպատակը`
C27: Էներգախնայողության և վերականգնվող էներգետիկայի ներուժի առավելագույն իրացում
C28: Վերջնական արդյունքի նկարագրությունը`
C29: Էներգախնայողության մակարդակի բարձրացում և վերականգնվող էներգետիկայի մասնաբաժնի աճ
C30: Ծրագրի միջոցառումներ
B31: 12002 | C31: Միջոցառման անվանումը` | D31: ='2.'!G31 -> 1200000
C32: Պետական աջակցություն բնակարանների և անհատական բնակելի տների էներգաարդյունավետ վերանորոգման աշխատանքների իրականացմանը
C33: Միջոցառման նկարագրությունը`
C34: Պետական աջակցություն բնակարանների և անհատական բնակելի տների էներգաարդյունավետ վերանորոգման աշխատանքների իրականացմանը
C35: Միջոցառման տեսակը
C36: Տրանսֆերտների տրամադրում
B42: ՀԱՅԱՍՏԱՆԻ ՀԱՆՐԱՊԵՏՈՒԹՅԱՆ
B43: ՎԱՐՉԱՊԵՏԻ ԱՇԽԱՏԱԿԱԶՄԻ
C44: ՂԵԿԱՎԱՐ ՝ Ա. ՀԱՐՈՒԹՅՈՒՆՅԱՆ

Sheet 2.
G1: Հավելված N 2
F2: ՀՀ կառավարության 2024 թվականի
G3: N ------------ -Ն որոշման
A5: ՀԱՅԱՍՏԱՆԻ ՀԱՆՐԱՊԵՏՈՒԹՅԱՆ ԿԱՌԱՎԱՐՈՒԹՅԱՆ 2023 ԹՎԱԿԱՆԻ ԴԵԿՏԵՄԲԵՐԻ 28-Ի N 2323-Ն ՈՐՈՇՄԱՆ NN 3 ԵՎ 4 ՀԱՎԵԼՎԱԾՆԵՐՈՒՄ ԿԱՏԱՐՎՈՂ ՓՈՓՈԽՈՒԹՅՈՒՆՆԵՐԸ ԵՎ ԼՐԱՑՈՒՄՆԵՐԸ
G6: հազար դրամ
A7: Գործառական դասիչը | D7: Ծրագրային դասիչը | F7: Բյուջետային ծախսերի գործառական դասակարգման բաժինների, խմբերի և դասերի, բյուջետային ծրագրերի միջոցառումների, բյուջետային հատկացումների գլխավոր կարգադրիչների անվանումները | G7: Ցուցանիշների փոփոխությունը (ավելացումները նշված են դրական նշանով, իսկ նվազեցումները` փակագծերում)
A8: Բաժին | B8: Խումբ | C8: Դաս | D8: Ծրագիր | E8: Միջոցառում | G8: Տարի
F9: ԸՆԴԱՄԵՆԸ ԾԱԽՍԵՐ | G9: =G11 -> 0
F10: այդ թվում`
F11: ՀՀ տարածքային կառավարման և ենթակառուցվածքների նախարարություն | G11: =G13 -> 0
F12: այդ թվում`
A13: 04 | F13: ՏՆՏԵՍԱԿԱՆ ՀԱՐԱԲԵՐՈՒԹՅՈՒՆՆԵՐ | G13: =G15+G32 -> 0
F14: այդ թվում`
B15: 01 | F15: Ընդհանուր բնույթի տնտեսական, առևտրային և աշխատանքի գծով հարաբերություններ | G15: =G17 -> 1200000
F16: այդ թվում`
C17: 01 | F17: Ընդհանուր բնույթի տնտեսական և առևտրային հարաբերություններ | G17: =G19 -> 1200000
F18: այդ թվում`
F19: ՀՀ տարածքային կառավարման և ենթակառուցվածքների նախարարություն | G19: =+G21 -> 1200000
F20: այդ թվում`
D21: 1232 | F21: Էներգաարդյունավետության ծրագիր | G21: =G23 -> 1200000
F22: այդ թվում
E23: 12002 | F23: Պետական աջակցություն բնակարանների և անհատական բնակելի տների էներգաարդյունավետ վերանորոգման աշխատանքների իրականացմանը | G23: =G25 -> 1200000
F24: այդ թվում` ըստ կատարողների
F25: ՀՀ տարածքային կառավարման և ենթակառուցվածքների նախարարություն | G25: =G27 -> 1200000
F26: այդ թվում` բյուջետային ծախսերի տնտեսագիտական դասակարգման հոդվածներ
F27: ԸՆԴԱՄԵՆԸ ԾԱԽՍԵՐ | G27: =G28 -> 1200000
F28: ԸՆԹԱՑԻԿ ԾԱԽՍԵՐ | G28: =G29 -> 1200000
F29: ՍՈՒԲՍԻԴԻԱՆԵՐ | G29: =G30 -> 1200000
F30: Սուբսիդիաներ ոչ պետական կազմակերպություններին | G30: =G31 -> 1200000
F31: Սուբսիդիաներ ոչ պետական ֆինանսական կազմակերպություններին | G31: 1200000
B32: 02 | F32: Գյուղատնտեսություն, անտառային տնտեսություն, ձկնորսություն և որսորդություն | G32: =G34 -> -1200000
F33: այդ թվում`
C34: 04 | F34: Ոռոգում | G34: =G36 -> -1200000
F35: այդ թվում`
F36: ՀՀ տարածքային կառավարման և ենթակառուցվածքների նախարարություն | G36: =G38 -> -1200000
F37: այդ թվում`
D38: 1004 | F38: Ոռոգման համակարգի առողջացում | G38: =G40 -> -1200000
F39: այդ թվում`
E40: 12002 | F40: Գերմանիայի զարգացման բանկի աջակցությամբ իրականացվող Ախուրյան գետի ջրային ռեսուրսների ինտեգրված կառավարման փուլ 1 ծրագրով Ջրաձոր գյուղի վերաբնակեցման համար ենթակառուցվածքների և բնակելի տների կառուցում | G40: =G42 -> -1200000
F41: այդ թվում` ըստ կատարողների
F42: ՀՀ տարածքային կառավարման և ենթակառուցվածքների նախարարության ջրային կոմիտե | G42: =G44 -> -1200000
F43: այդ թվում` բյուջետային ծախսերի տնտեսագիտական դասակարգման հոդվածներ
F44: ԸՆԴԱՄԵՆԸ ԾԱԽՍԵՐ | G44: =G45 -> -1200000
F45: ՈՉ ՖԻՆԱՆՍԱԿԱՆ ԱԿՏԻՎՆԵՐԻ ԳԾՈՎ ԾԱԽՍԵՐ | G45: =G46 -> -1200000
F46: ՀԻՄՆԱԿԱՆ ՄԻՋՈՑՆԵՐ | G46: =G47 -> -1200000
F47: ՇԵՆՔԵՐ ԵՎ ՇԻՆՈՒԹՅՈՒՆՆԵՐ | G47: =G48 -> -1200000
F48: - Շենքերի և շինությունների շինարարություն | G48: =-G31 -> -1200000
E49: ՀՀ ՎԱՐՉԱՊԵՏԻ ԱՇԽԱՏԱԿԱԶՄԻ
F50: ՂԵԿԱՎԱՐ ՝ Ա. ՀԱՐՈՒԹՅՈՒՆՅԱՆ

Sheet 3
G1: Հավելված N3
G2: ՀՀ կառավարության 2024 թվականի
G3: ______________ ի ___Ն որոշման
B5: «ՀԱՅԱUՏԱՆԻ ՀԱՆՐԱՊԵՏՈՒԹՅԱՆ 2024 ԹՎԱԿԱՆԻ ՊԵՏԱԿԱՆ ԲՅՈՒՋԵԻ ՄԱUԻՆ» OՐԵՆՔԻ N 1 ՀԱՎԵԼՎԱԾԻ N 4 ԱՂՅՈՒՍԱԿՈՒՄ ԵՎ ՀԱՅԱՍՏԱՆԻ ՀԱՆՐԱՊԵՏՈՒԹՅԱՆ ԿԱՌԱՎԱՐՈՒԹՅԱՆ 2023 ԹՎԱԿԱՆԻ ԴԵԿՏԵՄԲԵՐԻ 28-Ի N 2323-Ն ՈՐՈՇՄԱՆ N 5 ՀԱՎԵԼՎԱԾԻ N 3 ԱՂՅՈՒՍԱԿՈՒՄ ԿԱՏԱՐՎՈՂ ՓՈՓՈԽՈՒԹՅՈՒՆԸ
G6: հազ. դրամ
B7: Ծրագրային դասիչը | D7: Բյուջետային գլխավոր կարգադրիչների, ծրագրերի և միջոցառումների անվանումները | E7: Ցուցանիշների փոփոխությունը (նվազեցումները նշված են փակագծերում)
E8: Տարի
E9: Ընդամենը | F9: այդ թվում`
B10: Ծրագիր | C10: Միջոցառում | F10: Վարկային միջոցներ | G10: Համաֆինան սավորում
D11: ԸՆԴԱՄԵՆԸ_x000D_ | E11: =E13 -> -1200000 | F11: =F13 -> 0 | G11: =G13 -> -1200000
D12: այդ թվում`
D13: - ՈՉ ՖԻՆԱՆՍԱԿԱՆ ԱԿՏԻՎՆԵՐԻ ԳԾՈՎ ԾԱԽՍԵՐ | E13: =E14 -> -1200000 | F13: =F14 -> 0 | G13: =G14 -> -1200000
D14: ՀՀ ՏԱՐԱԾՔԱՅԻՆ ԿԱՌԱՎԱՐՄԱՆ ԵՎ ԵՆԹԱԿԱՌՈՒՑՎԱԾՔՆԵՐԻ ՆԱԽԱՐԱՐՈՒԹՅՈՒՆ_x000D_ | E14: =E16 -> -1200000 | F14: =F16 -> 0 | G14: =G16 -> -1200000
D15: այդ թվում`
B16: 1004 | D16: Ոռոգման համակարգի առողջացում | E16: =E18 -> -1200000 | F16: =F18 -> 0 | G16: =G18 -> -1200000
D17: այդ թվում`
C18: 12002 | D18: Գերմանիայի զարգացման բանկի աջակցությամբ իրականացվող Ախուրյան գետի ջրային ռեսուրսների ինտեգրված կառավարման փուլ 1 ծրագրով Ջրաձոր գյուղի վերաբնակեցման համար ենթակառուցվածքների և բնակելի տների կառուցում | E18: =+F18+G18 -> -1200000 | F18: =+F20 -> 0 | G18: =+G20 -> -1200000
D19: այդ թվում` ըստ կատարողների
D20: ՀՀ տարածքային կառավարման և ենթակառուցվածքների նախարարության ջրային կոմիտե | E20: =F20+G20 -> -1200000 | F20: =+F22 -> 0 | G20: =+G22 -> -1200000
D21: այդ թվում` բյուջետային ծախսերի տնտեսագիտական դասակարգման հոդվածներ
D22: ԸՆԴԱՄԵՆԸ ԾԱԽՍԵՐ | E22: =+E23 -> -1200000 | F22: =+F23 -> 0 | G22: =+G23 -> -1200000
D23: ՈՉ ՖԻՆԱՆՍԱԿԱՆ ԱԿՏԻՎՆԵՐԻ ԳԾՈՎ ԾԱԽՍԵՐ | E23: =F23+G23 -> -1200000 | F23: =+F24 -> 0 | G23: =+G24 -> -1200000
D24: ՀԻՄՆԱԿԱՆ ՄԻՋՈՑՆԵՐ | E24: =+F24+G24 -> -1200000 | F24: =+F25 -> 0 | G24: =G25 -> -1200000
D25: ՇԵՆՔԵՐ ԵՎ ՇԻՆՈՒԹՅՈՒՆՆԵՐ | E25: =+F25+G25 -> -1200000 | F25: =+F26 -> 0 | G25: =+G26 -> -1200000
D26: - Շենքերի և շինությունների շինարարություն | E26: =+F26+G26 -> -1200000 | F26: 0 | G26: ='2.'!G48 -> -1200000
D28: ՀՀ ՎԱՐՉԱՊԵՏԻ ԱՇԽԱՏԱԿԱԶՄԻ
D29: ՂԵԿԱՎԱՐ ՝ Ա. ՀԱՐՈՒԹՅՈՒՆՅԱՆ

Sheet 4
D1: Հավելված N 4
D2: ՀՀ կառավարության 2024 թվականի
D3: N ------------ -Ն որոշման
A5: ՀԱՅԱՍՏԱՆԻ ՀԱՆՐԱՊԵՏՈՒԹՅԱՆ ԿԱՌԱՎԱՐՈՒԹՅԱՆ 2023 ԹՎԱԿԱՆԻ ԴԵԿՏԵՄԲԵՐԻ 28-Ի N 2323-Ն ՈՐՈՇՄԱՆ N 9 ՀԱՎԵԼՎԱԾԻ N 9.7 ԱՂՅՈՒՍԱԿՆԵՐՈՒՄ ԿԱՏԱՐՎՈՂ ՓՈՓՈԽՈՒԹՅՈՒՆՆԵՐԸ ԵՎ ԼՐԱՑՈՒՄՆԵՐԸ
D6: Աղյուսակ 9.7
A8: ՀՀ ՏԱՐԱԾՔԱՅԻՆ ԿԱՌԱՎԱՐՄԱՆ ԵՎ ԵՆԹԱԿԱՌՈՒՑՎԱԾՔՆԵՐԻ ՆԱԽԱՐԱՐՈՒԹՅՈՒՆ
A9: ՄԱՍ 2. ՊԵՏԱԿԱՆ ՄԱՐՄՆԻ ԳԾՈՎ ԱՐԴՅՈՒՆՔԱՅԻՆ (ԿԱՏԱՐՈՂԱԿԱՆ) ՑՈՒՑԱՆԻՇՆԵՐԸ
A11: Ծրագրի դասիչը | B11: Ծրագրի անվանումը
A12: 1004 | B12: Ոռոգման համակարգի առողջացում
A14: Ծրագրի միջոցառումները
A15: Ծրագրի դասիչը` | B15: 1004 | C15: Ցուցանիշների փոփոխությունը ( նվազեցումները` նշված են փակագծերում)
A16: Միջոցառման դասիչը` | B16: 12002 | C16: Տարի
A17: Միջոցառման անվանումը` | B17: Գերմանիայի զարգացման բանկի աջակցությամբ իրականացվող Ախուրյան գետի ջրային ռեսուրսների ինտեգրված կառավարման փուլ 1 ծրագրով Ջրաձոր գյուղի վերաբնակեցման համար ենթակառուցվածքների և բնակելի տների կառուցում
A18: Նկարագրությունը` | B18: Գերմանիայի զարգացման բանկի աջակցությամբ իրականացվող Ախուրյան գետի ջրային ռեսուրսների ինտեգրված կառավարման փուլ 1 ծրագիր
A19: Միջոցառման տեսակը` | B19: Տրանսֆերտների տրամադրում
A20: Միջոցառումն իրականացնողի անվանումը | B20: Մասնագիտացված միավոր
A21: Արդյունքի չափորոշիչներ
A22: Նոր Ջրաձոր գյուղի շինությունների կառուցում, հատ | C22: -10
A23: Միջոցառման վրա կատարվող ծախսը (հազար դրամ) | C23: ='2.'!G40 -> -1200000
A27: Ծրագրի դասիչը | B27: Ծրագրի անվանումը
A28: 1232 | B28: Էներգաարդյունավետության ծրագիր
A30: Ծրագրի միջոցառումները
A31: Ծրագրի դասիչը` | B31: 1232 | C31: Ցուցանիշների փոփոխությունը (ավելացումները նշված են դրական նշանով)
A32: Միջոցառման դասիչը` | B32: 12002 | C32: Տարի
A33: Միջոցառման անվանումը` | B33: Պետական աջակցություն բնակարանների և անհատական բնակելի տների էներգաարդյունավետ վերանորոգման աշխատանքների իրականացմանը
A34: Նկարագրությունը` | B34: Պետական աջակցություն բնակարանների և անհատական բնակելի տների էներգաարդյունավետ վերանորոգման աշխատանքների իրականացմանը
A35: Միջոցառման տեսակը` | B35: Տրանսֆերտների տրամադրում
A36: Շահառուների ընտրության չափանիշները` | B36: ՀՀ կառավարության 2022թ. ապրիլի 15-ի N 520-Լ որոշմամբ և մայիսի 26-ի N 775-Լ որոշմամբ հաստատված բնակարանների և անհատական բնակելի տների էներգաարդյունավետ վերանորոգման աշխատանքների պետական աջակցության ծրագրով ընտրված շահառուներ
A37: Արդյունքի չափորոշիչներ
A38: Շահառուների թիվ | C38: 4320
A39: Միջոցառման վրա կատարվող ծախսը (հազար դրամ) | C39: ='2.'!G23 -> 1200000
A42: ՀԱՅԱՍՏԱՆԻ ՀԱՆՐԱՊԵՏՈՒԹՅԱՆ
A43: ՎԱՐՉԱՊԵՏԻ ԱՇԽԱՏԱԿԱԶՄԻ
A44: ՂԵԿԱՎԱՐ ՝ Ա. ՀԱՐՈՒԹՅՈՒՆՅԱՆ

Sheet 5
D1: Հավելված N 5
D2: ՀՀ կառավարության 2024 թվականի
D3: N ------------ -Ն որոշման
A5: ՀԱՅԱՍՏԱՆԻ ՀԱՆՐԱՊԵՏՈՒԹՅԱՆ ԿԱՌԱՎԱՐՈՒԹՅԱՆ 2023 ԹՎԱԿԱՆԻ ԴԵԿՏԵՄԲԵՐԻ 28-Ի N 2323-Ն ՈՐՈՇՄԱՆ N 9.1 ՀԱՎԵԼՎԱԾԻ NN 9.1.7 ԵՎ 9.1.25 ԱՂՅՈՒՍԱԿՆԵՐՈՒՄ ԿԱՏԱՐՎՈՂ ՓՈՓՈԽՈՒԹՅՈՒՆՆԵՐԸ ԵՎ ԼՐԱՑՈՒՄՆԵՐԸ
D6: Աղյուսակ 9.1.7
A7: ՀՀ տարածքային կառավարման և ենթակառուցվածքների նախարարություն
A8: ՄԱՍ 1. ՊԵՏԱԿԱՆ ՄԱՐՄՆԻ ԳԾՈՎ ԱՐԴՅՈՒՆՔԱՅԻՆ (ԿԱՏԱՐՈՂԱԿԱՆ) ՑՈՒՑԱՆԻՇՆԵՐԸ
A10: Ծրագրի դասիչը | B10: Ծրագրի անվանումը
A11: 1232 | B11: Էներգաարդյունավետության ծրագիր
A13: Ծրագրի միջոցառումները
A14: Ծրագրի դասիչը` | B14: 1232 | C14: Ցուցանիշների փոփոխությունը (ավելացումները նշված են դրական նշանով)
A15: Միջոցառման դասիչը` | B15: 12002 | C15: Տարի
A16: Միջոցառման անվանումը` | B16: Պետական աջակցություն բնակարանների և անհատական բնակելի տների էներգաարդյունավետ վերանորոգման աշխատանքների իրականացմանը
A17: Նկարագրությունը` | B17: Պետական աջակցություն բնակարանների և անհատական բնակելի տների էներգաարդյունավետ վերանորոգման աշխատանքների իրականացմանը
A18: Միջոցառման տեսակը` | B18: Տրանսֆերտների տրամադրում
A19: Շահառուների ընտրության չափանիշները` | B19: ՀՀ կառավարության 2022թ. ապրիլի 15-ի N 520-Լ որոշմամբ և մայիսի 26-ի N 775-Լ որոշմամբ հաստատված բնակարանների և անհատական բնակելի տների էներգաարդյունավետ վերանորոգման աշխատանքների պետական աջակցության ծրագրով ընտրված շահառուներ
A20: Արդյունքի չափորոշիչներ
A21: Շահառուների քանակը, հատ | C21: 4320
A22: Միջոցառման վրա կատարվող ծախսը (հազար դրամ) | C22: ='2.'!G23 -> 1200000
C24: Աղյուսակ 9.1.25
A25: ՀՀ տարածքային կառավարման և ենթակառուցվածքների նախարարության ջրային կոմիտե
A26: ՄԱՍ 1. ՊԵՏԱԿԱՆ ՄԱՐՄՆԻ ԳԾՈՎ ԱՐԴՅՈՒՆՔԱՅԻՆ (ԿԱՏԱՐՈՂԱԿԱՆ) ՑՈՒՑԱՆԻՇՆԵՐԸ
A28: Ծրագրի դասիչը | B28: Ծրագրի անվանումը
A29: 1004 | B29: Ոռոգման համակարգի առողջացում
A31: Ծրագրի միջոցառումները
A32: Ծրագրի դասիչը` | B32: 1004 | C32: Ցուցանիշների փոփոխությունը (նվազեցումները նշված են փակագծերում)
A33: Միջոցառման դասիչը` | B33: 12002 | C33: Տարի
A34: Միջոցառման անվանումը` | B34: Գերմանիայի զարգացման բանկի աջակցությամբ իրականացվող Ախուրյան գետի ջրային ռեսուրսների ինտեգրված կառավարման փուլ 1 ծրագրով Ջրաձոր գյուղի վերաբնակեցման համար ենթակառուցվածքների և բնակելի տների կառուցում
A35: Նկարագրությունը` | B35: Գերմանիայի զարգացման բանկի աջակցությամբ իրականացվող Ախուրյան գետի ջրային ռեսուրսների ինտեգրված կառավարման փուլ 1 ծրագիր
A36: Միջոցառման տեսակը` | B36: Տրանսֆերտների տրամադրում
A37: Ծառայությունը մատուցող կազմակերպության անվանումը | B37: Մասնագիտացված միավոր
A38: Արդյունքի չափորոշիչներ
A39: Նոր Ջրաձոր գյուղի շինությունների կառուցում, հատ | C39: -10
A40: Միջոցառման վրա կատարվող ծախսը (հազար դրամ) | C40: ='2.'!G40 -> -1200000
A43: ՀԱՅԱՍՏԱՆԻ ՀԱՆՐԱՊԵՏՈՒԹՅԱՆ
A44: ՎԱՐՉԱՊԵՏԻ ԱՇԽԱՏԱԿԱԶՄԻ
A45: ՂԵԿԱՎԱՐ ՝ Ա. ՀԱՐՈՒԹՅՈՒՆՅԱՆ
