Workbook
Name AgencyCode: #REF!
Name AgencyCode: #REF!
Name AgencyName: #REF!
Name AgencyName: #REF!
Name åû: #REF!
Name davit: #REF!
Name Functional1: #REF!
Name Functional1: #REF!
Name ggg: #REF!
Name mas: #REF!
Name mass: #REF!
Name PANature: #REF!
Name PANature: #REF!
Name PAType: #REF!
Name PAType: #REF!
Name Performance2: #REF!
Name Performance2: #REF!
Name PerformanceType: #REF!
Name PerformanceType: #REF!
Name x: #REF!
Name Հավելված: #REF!
Name Մաս: #REF!
Name շախմատիստ: #REF!

Sheet h1
A1: Հավելված N 1
A2: ՀՀ կառավարության 2024 թվականի
A3: ______________ ի ___Ն որոշման
A5: «ՀԱՅԱUՏԱՆԻ ՀԱՆՐԱՊԵՏՈՒԹՅԱՆ 2024 ԹՎԱԿԱՆԻ ՊԵՏԱԿԱՆ ԲՅՈՒՋԵԻ ՄԱUԻՆ» OՐԵՆՔԻ N 1 ՀԱՎԵԼՎԱԾԻ N 2 ԱՂՅՈՒՍԱԿՈՒՄ ԿԱՏԱՐՎՈՂ ՎԵՐԱԲԱՇԽՈՒՄԸ ԵՎ ՀԱՅԱՍՏԱՆԻ ՀԱՆՐԱՊԵՏՈՒԹՅԱՆ ԿԱՌԱՎԱՐՈՒԹՅԱՆ 2023 ԹՎԱԿԱՆԻ ԴԵԿՏԵՄԲԵՐԻ 28-Ի ԹԻՎ 2323-Ն ՈՐՈՇՄԱՆ N 5 ՀԱՎԵԼՎԱԾԻ N 1 ԱՂՅՈՒՍԱԿՈՒՄ ԿԱՏԱՐՎՈՂ ՓՈՓՈԽՈՒԹՅՈՒՆՆԵՐԸ ԵՎ ԼՐԱՑՈՒՄՆԵՐԸ
E7: հազար դրամով
A8: Ծրագրային դասիչը | C8: Բյուջետային հատկացումների գլխավոր կարգադրիչների, ծրագրերի և միջոցառումների անվանումները | D8: Ցուցանիշների փոփոխությունը(ավելացումները նշված են դրական նշանով, իսկ նվազեցումները` փակագծերում)
A9: Ծրագիր | B9: Միջոցառում | D9: Ինն ամիս | E9: Տարի
A10: 1192 | C10: ԸՆԴԱՄԵՆԸ | D10: =D12 -> 0 | E10: =E12 -> 0
C11: այդ թվում
C12: ՀՀ ՏԱՐԱԾՔԱՅԻՆ ԿԱՌԱՎԱՐՄԱՆ ԵՎ ԵՆԹԱԿԱՌՈՒՑՎԱԾՔՆԵՐԻ ՆԱԽԱՐԱՐՈՒԹՅՈՒՆ | D12: =D13 -> 0 | E12: =E13 -> 0
A13: 1049 | C13: Ծրագրի անվանումը` | D13: =+D20+D26+D32+D38+D44+D50+D56+D62+D68 -> 0 | E13: =+E20+E26+E32+E38+E44+E50+E56+E62+E68 -> 0
C14: Ճանապարհային ցանցի բարելավում
C15: Ծրագրի նպատակը`
C16: Ճանապարհային ցանցի բարելավում և անվտանգ երթևեկության ապահովում
C17: Վերջնական արդյունքի նկարագրությունը`
C18: Ճանապարհների ծածկի որակի և փոխադրումների արդյունավետության բարելավում, ճանապարհների վիճակով պայմանավորված պատահարների նվազում
C19: Ծրագրի միջոցառումներ
B20: 11009 | C20: Միջոցառման անվանումը` | D20: =+'h2'!G23 -> 5000 | E20: =+'h2'!H23 -> 105000
C21: Ասիական զարգացման բանկի աջակցությամբ իրականացվող Հյուսիս-հարավ միջանցքի զարգացման ծրագրի համակարգում և կառավարում (Տրանշ 2)
C22: Միջոցառման նկարագրությունը`
C23: Խորհրդատվական ծառայություններ և պահպանման ծախսեր
C24: Միջոցառման տեսակը
C25: Ծառայությունների մատուցում
B26: 11020 | C26: Միջոցառման անվանումը` | D26: =+'h2'!G32 -> -5000 | E26: =+'h2'!H32 -> -5000
C27: Հյուսիս-հարավ ճանապարհային միջանցքի զարգացման ծրագրի Գյումրու շրջանցիկ ճանապարհի համակարգում և կառավարում, Տրանշ 5
C28: Միջոցառման նկարագրությունը`
C29: Հյուսիս-հարավ ճանապարհային միջանցքի զարգացման ծրագրի Գյումրու շրջանցիկ ճանապարհի շրջանակներում հողերի օտարում
C30: Միջոցառման տեսակը
C31: Ծառայությունների մատուցում
B32: 21006 | C32: Միջոցառման անվանումը` | D32: =+'h2'!G41 -> 2700000 | E32: =+'h2'!H41 -> 3300000
C33: Ասիական զարգացման բանկի աջակցությամբ իրականացվող Հյուսիս-հարավ միջանցքի զարգացման վարկային ծրագիր, Տրանշ 2
C34: Միջոցառման նկարագրությունը`
C35: Աշտարակ-Թալին 29+600կմ-71+500կմ հատվածի կառուցում
C36: Միջոցառման տեսակը
C37: Հանրության կողմից անմիջականորեն օգտագործվող ակտիվների հետ կապված միջոցառումներ
B38: 21009 | C38: Միջոցառման անվանումը` | D38: =+'h2'!G63 -> 370000 | E38: =+'h2'!H63 -> 370000
C39: Եվրոպական ներդրումային բանկի աջակցությամբ իրականացվող Հյուսիս-հարավ միջանցքի զարգացման վարկային ծրագիր, Տրանշ 3
C40: Միջոցառման նկարագրությունը`
C41: Լանջիկ-Գյումրի 27.47 կմ երկարությամբ ճանապարհային հատվածի կառուցում
C42: Միջոցառման տեսակը
...

Sheet h2
A1: Հավելված N 2
A2: ՀՀ կառավարության 2024 թվականի
A3: ______________ ի ___Ն որոշման
A5: ՀԱՅԱՍՏԱՆԻ ՀԱՆՐԱՊԵՏՈՒԹՅԱՆ ԿԱՌԱՎԱՐՈՒԹՅԱՆ 2023 ԹՎԱԿԱՆԻ ԴԵԿՏԵՄԲԵՐԻ 28-Ի ԹԻՎ 2323-Ն ՈՐՈՇՄԱՆ N 3 ԵՎ N 4 ՀԱՎԵԼՎԱԾՆԵՐՈՒՄ ԿԱՏԱՐՎՈՂ ՓՈՓՈԽՈՒԹՅՈՒՆՆԵՐԸ ԵՎ ԼՐԱՑՈՒՄՆԵՐԸ
H7: հազար դրամով
A8: Գործառական դասիչը | D8: Ծրագրային դասիչը | F8: Բյուջետային հատկացումների գլխավոր կարգադրիչների, ծրագրերի, միջոցառումների և միջոցառումները կատարող պետական մարմինների անվանումները | G8: Ցուցանիշների փոփոխությունը (ավելացումները նշված են դրական նշանով, իսկ նվազեցումները` փակագծերում)
A9: Բաժին | B9: Խումբ | C9: Դաս | D9: Ծրագիր | E9: Միջոցառում | G9: Ինն ամիս | H9: Տարի
F10: ԸՆԴԱՄԵՆԸ | G10: =G12 -> 0 | H10: =H12 -> 0
F11: այդ թվում
F12: ՀՀ ՏԱՐԱԾՔԱՅԻՆ ԿԱՌԱՎԱՐՄԱՆ ԵՎ ԵՆԹԱԿԱՌՈՒՑՎԱԾՔՆԵՐԻ ՆԱԽԱՐԱՐՈՒԹՅՈՒՆ | G12: =+G13 -> 0 | H12: =+H13 -> 0
A13: 04 | F13: ՏՆՏԵՍԱԿԱՆ ՀԱՐԱԲԵՐՈՒԹՅՈՒՆՆԵՐ | G13: =G15 -> 0 | H13: =H15 -> 0
F14: այդ թվում`
B15: 05 | F15: Տրանսպորտ | G15: =G17 -> 0 | H15: =H17 -> 0
F16: այդ թվում`
C17: 01 | F17: Ճանապարհային տրանսպորտ | G17: =G19 -> 0 | H17: =H19 -> 0
F18: այդ թվում`
F19: ՀՀ տարածքային կառավարման և ենթակառուցվածքների նախարարություն | G19: =G21 -> 0 | H19: =H21 -> 0
F20: այդ թվում`
D21: 1049 | F21: Ճանապարհային ցանցի բարելավում | G21: =+G23+G32+G41+G52+G63+G72+G81+G90+G99+G108 -> 0 | H21: =+H23+H32+H41+H52+H63+H72+H81+H90+H99+H108 -> 0
F22: այդ թվում`
E23: 11009 | F23: Ասիական զարգացման բանկի աջակցությամբ իրականացվող Հյուսիս-հարավ միջանցքի զարգացման ծրագրի համակարգում և կառավարում (Տրանշ 2) | G23: =G25 -> 5000 | H23: =H25 -> 105000
F24: այդ թվում` ըստ կատարողների
F25: ՀՀ տարածքային կառավարման և ենթակառուցվածքների նախարարություն | G25: =G27 -> 5000 | H25: =H27 -> 105000
F26: այդ թվում` բյուջետային ծախսերի տնտեսագիտական դասակարգման հոդվածներ
F27: ԸՆԴԱՄԵՆԸ ԾԱԽՍԵՐ | G27: =G28 -> 5000 | H27: =H28 -> 105000
F28: ԸՆԹԱՑԻԿ ԾԱԽՍԵՐ | G28: =+G29 -> 5000 | H28: =+H29 -> 105000
F29: ԴՐԱՄԱՇՆՈՐՀՆԵՐ | G29: =G30 -> 5000 | H29: =H30 -> 105000
F30: Կապիտալ դրամաշնորհներ պետական հատվածի այլ մակարդակներին | G30: =G31 -> 5000 | H30: =H31 -> 105000
F31: - Այլ կապիտալ դրամաշնորհներ | G31: ='h3'!E26 -> 5000 | H31: ='h3'!H26 -> 105000
E32: 11020 | F32: Հյուսիս-հարավ ճանապարհային միջանցքի զարգացման ծրագրի Գյումրու շրջանցիկ ճանապարհի համակարգում և կառավարում, Տրանշ 5 | G32: =G34 -> -5000 | H32: =H34 -> -5000
F33: այդ թվում` ըստ կատարողների
F34: ՀՀ տարածքային կառավարման և ենթակառուցվածքների նախարարություն | G34: =G36 -> -5000 | H34: ='h3'!J35 -> -5000
F35: այդ թվում` բյուջետային ծախսերի տնտեսագիտական դասակարգման հոդվածներ
F36: ԸՆԴԱՄԵՆԸ ԾԱԽՍԵՐ | G36: =G37 -> -5000 | H36: =H37 -> -5000
F37: ԸՆԹԱՑԻԿ ԾԱԽՍԵՐ | G37: =G38 -> -5000 | H37: =H38 -> -5000
F38: ԴՐԱՄԱՇՆՈՐՀՆԵՐ | G38: =G39 -> -5000 | H38: =H39 -> -5000
F39: Կապիտալ դրամաշնորհներ պետական հատվածի այլ մակարդակներին | G39: =G40 -> -5000 | H39: =H40 -> -5000
F40: - Այլ կապիտալ դրամաշնորհներ | G40: ='h3'!E35 -> -5000 | H40: ='h3'!H35 -> -5000
E41: 21006 | F41: Ասիական զարգացման բանկի աջակցությամբ իրականացվող Հյուսիս-հարավ միջանցքի զարգացման վարկային ծրագիր, Տրանշ 2 | G41: =G43 -> 2700000 | H41: =H43 -> 3300000
F42: այդ թվում` ըստ կատարողների
...

Sheet h3
J1: Հավելված N3
J2: ՀՀ կառավարության 2024 թվականի
J3: ______________ ի ___Ն որոշման
B5: «ՀԱՅԱUՏԱՆԻ ՀԱՆՐԱՊԵՏՈՒԹՅԱՆ 2024 ԹՎԱԿԱՆԻ ՊԵՏԱԿԱՆ ԲՅՈՒՋԵԻ ՄԱUԻՆ» OՐԵՆՔԻ N 1 ՀԱՎԵԼՎԱԾԻ N 4 ԱՂՅՈՒՍԱԿՈՒՄ ԿԱՏԱՐՎՈՂ ՎԵՐԱԲԱՇԽՈՒՄԸ ԵՎ ՓՈՓՈԽՈՒԹՅՈՒՆՆԵՐԸ ԵՎ ՀԱՅԱՍՏԱՆԻ ՀԱՆՐԱՊԵՏՈՒԹՅԱՆ ԿԱՌԱՎԱՐՈՒԹՅԱՆ 2023 ԹՎԱԿԱՆԻ ԴԵԿՏԵՄԲԵՐԻ 28-Ի N 2323-Ն ՈՐՈՇՄԱՆ N 5 ՀԱՎԵԼՎԱԾԻ N 3 ԱՂՅՈՒՍԱԿՈՒՄ ԿԱՏԱՐՎՈՂ ԼՐԱՑՈՒՄՆԵՐԸ ԵՎ ՓՈՓՈԽՈՒԹՅՈՒՆՆԵՐԸ
J6: հազ. դրամ
B7: Ծրագրային դասիչը | D7: Բյուջետային գլխավոր կարգադրիչների, ծրագրերի և միջոցառումների անվանումները | E7: Ցուցանիշների փոփոխությունը (ավելացումները նշված են դրական նշանով, իսկ նվազեցումները` փակագծերում)
E8: Ինն ամիս | H8: Տարի
E9: Ընդամենը | F9: այդ թվում` | H9: Ընդամենը | I9: այդ թվում`
B10: Ծրագիր | C10: Միջոցառում | F10: Վարկային միջոցներ | G10: Համաֆինան սավորում | I10: Վարկային միջոցներ | J10: Համաֆինան սավորում
D11: ԸՆԴԱՄԵՆԸ | E11: =E13+E14 -> -30000 | F11: =F13+F14 -> 0 | G11: =G13+G14 -> -30000 | H11: =H13+H14 -> -30000 | I11: =I13+I14 -> 0 | J11: =J13+J14 -> -30000
D12: այդ թվում`
D13: ԸՆԹԱՑԻԿ ԾԱԽՍԵՐ | E13: =+E18+E27 -> 0 | F13: =+F18+F27 -> 0 | G13: =+G18+G27 -> 0 | H13: =+H18+H27 -> 100000 | I13: =+I18+I27 -> 0 | J13: =+J18+J27 -> 100000
D14: ՈՉ ՖԻՆԱՆՍԱԿԱՆ ԱԿՏԻՎՆԵՐԻ ԳԾՈՎ ԾԱԽՍԵՐ | E14: =+E36+E47+E58+E67+E76+E85+E94 -> -30000 | F14: =+F36+F47+F58+F67+F76+F85+F94 -> 0 | G14: =+G36+G47+G58+G67+G76+G85+G94 -> -30000 | H14: =+H36+H47+H58+H67+H76+H85+H94 -> -130000 | I14: =+I36+I47+I58+I67+I76+I85+I94 -> 0 | J14: =+J36+J47+J58+J67+J76+J85+J94 -> -130000
D15: ՀՀ ՏԱՐԱԾՔԱՅԻՆ ԿԱՌԱՎԱՐՄԱՆ ԵՎ ԵՆԹԱԿԱՌՈՒՑՎԱԾՔՆԵՐԻ ՆԱԽԱՐԱՐՈՒԹՅՈՒՆ | E15: =F15+G15 -> -30000 | F15: =F16 -> 0 | G15: =G16 -> -30000 | H15: =I15+J15 -> -30000 | I15: =I16 -> 0 | J15: =J16 -> -30000
B16: 1049 | D16: Ճանապարհային ցանցի բարելավում | E16: =+E18+E27+E36+E47+E58+E67+E76+E85+E94 -> -30000 | F16: =+F18+F27+F36+F47+F58+F67+F76+F85+F94 -> 0 | G16: =+G18+G27+G36+G47+G58+G67+G76+G85+G94 -> -30000 | H16: =+H18+H27+H36+H47+H58+H67+H76+H85+H94 -> -30000 | I16: =+I18+I27+I36+I47+I58+I67+I76+I85+I94 -> 0 | J16: =+J18+J27+J36+J47+J58+J67+J76+J85+J94 -> -30000
D17: այդ թվում`
C18: 11009 | D18: Ասիական զարգացման բանկի աջակցությամբ իրականացվող Հյուսիս-հարավ միջանցքի զարգացման ծրագրի համակարգում և կառավարում ( Տրանշ 2) | E18: =F18+G18 -> 5000 | G18: =G20 -> 5000 | H18: =+I18+J18 -> 105000 | I18: =+I20 -> 0 | J18: =+J20 -> 105000
D19: այդ թվում` ըստ կատարողների
D20: ՀՀ տարածքային կառավարման և ենթակառուցվածքների նախարարություն | E20: =F20+G20 -> 5000 | G20: =G22 -> 5000 | H20: =+I20+J20 -> 105000 | I20: =+I22 -> 0 | J20: =+J22 -> 105000
D21: այդ թվում` բյուջետային ծախսերի տնտեսագիտական դասակարգման հոդվածներ
D22: ԸՆԴԱՄԵՆԸ ԾԱԽՍԵՐ | E22: =F22+G22 -> 5000 | G22: =G23 -> 5000 | H22: =+I22+J22 -> 105000 | I22: =+I24 -> 0 | J22: =J23 -> 105000
D23: ԸՆԹԱՑԻԿ ԾԱԽՍԵՐ | E23: =+E24 -> 5000 | F23: =+F24 -> 0 | G23: =+G24 -> 5000 | H23: =+H24 -> 105000 | I23: =+I24 -> 0 | J23: =+J24 -> 105000
D24: ԴՐԱՄԱՇՆՈՐՀՆԵՐ | E24: =F24+G24 -> 5000 | G24: =G25 -> 5000 | H24: =+I24+J24 -> 105000 | I24: 0 | J24: =J25 -> 105000
D25: Կապիտալ դրամաշնորհներ պետական հատվածի այլ մակարդակներին | E25: =F25+G25 -> 5000 | G25: =G26 -> 5000 | H25: =+I25+J25 -> 105000 | J25: =J26 -> 105000
D26: - Այլ կապիտալ դրամաշնորհներ | E26: =F26+G26 -> 5000 | F26: 0 | G26: =5000 -> 5000 | H26: =+I26+J26 -> 105000 | J26: =+G26+100000 -> 105000
C27: 11020 | D27: Հյուսիս-հարավ ճանապարհային միջանցքի զարգացման ծրագրի Գյումրու շրջանցիկ ճանապարհի համակարգում և կառավարում, Տրանշ 5 | E27: =F27+G27 -> -5000 | F27: 0 | G27: =+G29 -> -5000 | H27: =I27+J27 -> -5000 | J27: =J29 -> -5000
D28: այդ թվում` ըստ կատարողների | F28: 0
D29: ՀՀ տարածքային կառավարման և ենթակառուցվածքների նախարարություն | E29: =F29+G29 -> -5000 | F29: 0 | G29: =+G31 -> -5000 | H29: =I29+J29 -> -5000 | J29: =J31 -> -5000
D30: այդ թվում` բյուջետային ծախսերի տնտեսագիտական դասակարգման հոդվածներ | F30: 0
D31: ԸՆԴԱՄԵՆԸ ԾԱԽՍԵՐ | E31: =F31+G31 -> -5000 | F31: 0 | G31: =+G32 -> -5000 | H31: =I31+J31 -> -5000 | J31: =J32 -> -5000
D32: ԸՆԹԱՑԻԿ ԾԱԽՍԵՐ | E32: =F32+G32 -> -5000 | F32: 0 | G32: =+G33 -> -5000 | H32: =I32+J32 -> -5000 | J32: =J33 -> -5000
D33: ԴՐԱՄԱՇՆՈՐՀՆԵՐ | E33: =F33+G33 -> -5000 | F33: 0 | G33: =+G34 -> -5000 | H33: =I33+J33 -> -5000 | J33: =J34 -> -5000
D34: Կապիտալ դրամաշնորհներ պետական հատվածի այլ մակարդակներին | E34: =F34+G34 -> -5000 | F34: 0 | G34: =+G35 -> -5000 | H34: =I34+J34 -> -5000 | J34: =J35 -> -5000
D35: - Այլ կապիտալ դրամաշնորհներ | E35: =F35+G35 -> -5000 | F35: 0 | G35: -5000 | H35: =I35+J35 -> -5000 | J35: =G35 -> -5000
C36: 21006 | D36: Ասիական զարգացման բանկի աջակցությամբ իրականացվող Հյուսիս-հարավ միջանցքի զարգացման վարկային ծրագիր, Տրանշ 2 | E36: =F36+G36 -> 2700000 | F36: =F38 -> 2700000 | G36: =+G38 -> 0 | H36: =I36+J36 -> 3300000 | I36: =I38 -> 3300000 | J36: =J38 -> 0
D37: այդ թվում` ըստ կատարողների
D38: ՀՀ տարածքային կառավարման և ենթակառուցվածքների նախարարություն | E38: =F38+G38 -> 2700000 | F38: =F40 -> 2700000 | G38: =+G40 -> 0 | H38: =I38+J38 -> 3300000 | I38: =I40 -> 3300000 | J38: =J40 -> 0
D39: այդ թվում` բյուջետային ծախսերի տնտեսագիտական դասակարգման հոդվածներ
D40: ԸՆԴԱՄԵՆԸ ԾԱԽՍԵՐ | E40: =F40+G40 -> 2700000 | F40: =F41 -> 2700000 | G40: =+G41 -> 0 | H40: =I40+J40 -> 3300000 | I40: =I41 -> 3300000 | J40: =J41 -> 0
D41: ՈՉ ՖԻՆԱՆՍԱԿԱՆ ԱԿՏԻՎՆԵՐԻ ԳԾՈՎ ԾԱԽՍԵՐ | E41: =F41+G41 -> 2700000 | F41: =F42 -> 2700000 | G41: =+G42 -> 0 | H41: =I41+J41 -> 3300000 | I41: =I42 -> 3300000 | J41: =J42 -> 0
...

Sheet h4
I1: Հավելված 4
I2: ՀՀ կառավարության 2024 թվականի
I3: " " " " N -Ն որոշման
A5: «ՀԱՅԱՍՏԱՆԻ ՀԱՆՐԱՊԵՏՈՒԹՅԱՆ 2024 ԹՎԱԿԱՆԻ ՊԵՏԱԿԱՆ ԲՅՈՒՋԵԻ ՄԱՍԻՆ» ՕՐԵՆՔԻ N 1 ՀԱՎԵԼՎԱԾԻ N 5 ԱՂՅՈՒՍԱԿՈՒՄ ԿԱՏԱՐՎՈՂ ՎԵՐԱԲԱՇԽՈՒՄԸ ԵՎ ՀԱՅԱՍՏԱՆԻ ՀԱՆՐԱՊԵՏՈՒԹՅԱՆ ԿԱՌԱՎԱՐՈՒԹՅԱՆ 2023 ԹՎԱԿԱՆԻ ԴԵԿՏԵՄԲԵՐԻ 28-Ի N 2323-Ն ՈՐՈՇՄԱՆ N5 ՀԱՎԵԼՎԱԾԻ N 4 ԱՂՅՈՒՍԱԿՈՒՄ ԿԱՏԱՐՎՈՂ ՓՈՓՈԽՈՒԹՅՈՒՆՆԵՐԸ
I7: (հազ. դրամ)
A8: Ծրագրային դասիչը | C8: Բյուջետային հատկացումների գլխավոր կարգադրիչների, ծրագրերի, միջոցառումների և միջոցառումները կատարող պետական մարմինների անվանումները | D8: Ցուցանիշների փոփոխությունը (ավելացումները նշված են դրական նշանով)
D9: Ինն ամիս | G9: Տարի
D10: Ընդամենը | E10: այդ թվում` | G10: Ընդամենը | H10: այդ թվում`
A11: Ծրագիր | B11: Միջոց առում | E11: Դրամաշնորհային միջոցներ | F11: Համաֆինան սավորում | H11: Դրամաշնորհային միջոցներ | I11: Համաֆինան սավորում
C12: ԸՆԴԱՄԵՆԸ | D12: =E12+F12 -> 30000 | E12: =+E15+E14 -> 0 | F12: =+F15+F14 -> 30000 | G12: =H12+I12 -> 30000 | H12: =+H15+H14 -> 0 | I12: =+I15+I14 -> 30000
C13: այդ թվում`
C14: ԸՆԹԱՑԻԿ ԾԱԽՍԵՐ | D14: =E14+F14 -> 0 | E14: 0 | F14: 0 | G14: =H14+I14 -> 0 | H14: 0 | I14: 0
C15: ՈՉ ՖԻՆԱՆՍԱԿԱՆ ԱԿՏԻՎՆԵՐԻ ԳԾՈՎ ԾԱԽՍԵՐ | D15: =E15+F15 -> 30000 | E15: =+E16 -> 0 | F15: =+F16 -> 30000 | G15: =H15+I15 -> 30000 | H15: =+H16 -> 0 | I15: =+I16 -> 30000
A16: 1049 | C16: Ճանապարհային ցանցի բարելավում | D16: =+D18 -> 30000 | E16: =+E18 -> 0 | F16: =+F18 -> 30000 | G16: =+G18 -> 30000 | H16: =+H18 -> 0 | I16: =+I18 -> 30000
C17: այդ թվում`
B18: 21014 | C18: Եվրոպական ներդրումային բանկի աջակցությամբ իրականացվող Մ6 Վանաձոր-Ալավերդի-Վրաստանի սահման միջպետական նշանակության ճանապարհի անվտանգության բարելավման դրամաշնորհային ծրագիր | D18: =E18+F18 -> 30000 | E18: =+E20 -> 0 | F18: =+F20 -> 30000 | G18: =H18+I18 -> 30000 | H18: =+H20 -> 0 | I18: =+I20 -> 30000
C19: այդ թվում` ըստ կատարողների
C20: ՀՀ տարածքային կառավարման և ենթակառուցվածքների նախարարություն | D20: =+E20+F20 -> 30000 | E20: =+E22 -> 0 | F20: =+F22 -> 30000 | G20: =+H20+I20 -> 30000 | H20: =+H22 -> 0 | I20: =+I22 -> 30000
C21: այդ թվում` բյուջետային ծախսերի տնտեսագիտական դասակարգման հոդվածներ
C22: ԸՆԴԱՄԵՆԸ ԾԱԽՍԵՐ | D22: =+E22+F22 -> 30000 | E22: =+E23 -> 0 | F22: =+F23 -> 30000 | G22: =+H22+I22 -> 30000 | H22: =+H23 -> 0 | I22: =+I23 -> 30000
C23: ՈՉ ՖԻՆԱՆՍԱԿԱՆ ԱԿՏԻՎՆԵՐԻ ԳԾՈՎ ԾԱԽՍԵՐ | D23: =+E23+F23 -> 30000 | E23: =+E24 -> 0 | F23: =+F24 -> 30000 | G23: =+H23+I23 -> 30000 | H23: =+H24 -> 0 | I23: =+I24 -> 30000
C24: ՀԻՄՆԱԿԱՆ ՄԻՋՈՑՆԵՐ | D24: =+E24+F24 -> 30000 | E24: =+E25 -> 0 | F24: =+F25 -> 30000 | G24: =+H24+I24 -> 30000 | H24: =+H25 -> 0 | I24: =+I25 -> 30000
C25: ՇԵՆՔԵՐ ԵՎ ՇԻՆՈՒԹՅՈՒՆՆԵՐ | D25: =+E25+F25 -> 30000 | E25: =+E26 -> 0 | F25: =+F26 -> 30000 | G25: =+H25+I25 -> 30000 | H25: =+H26 -> 0 | I25: =+I26 -> 30000
C26: - Շենքերի և շինությունների շինարարություն | D26: =+E26+F26 -> 30000 | E26: 0 | F26: 30000 | G26: =+H26+I26 -> 30000 | H26: =+E26 -> 0 | I26: =+F26 -> 30000

Sheet h5
D1: Հավելված N 5
D2: ՀՀ կառավարության 2024 թվականի
D3: ______________ ի ___Ն որոշման
A5: ՀԱՅԱՍՏԱՆԻ ՀԱՆՐԱՊԵՏՈՒԹՅԱՆ ԿԱՌԱՎԱՐՈՒԹՅԱՆ 2023 ԹՎԱԿԱՆԻ ԴԵԿՏԵՄԲԵՐԻ 28-Ի N 2323-Ն ՈՐՈՇՄԱՆ NN 9 ԵՎ N 9.1 ՀԱՎԵԼՎԱԾՆԵՐԻ NN 9.7 ԵՎ 9.1․7 ԱՂՅՈՒՍԱԿՆԵՐՈՒՄ ԿԱՏԱՐՎՈՂ ՓՈՓՈԽՈՒԹՅՈՒՆՆԵՐԸ ԵՎ ԼՐԱՑՈՒՄՆԵՐԸ
D6: Աղյուսակ 9.7
D7: Աղյուսակ 9.1.7
A8: ՀՀ ՏԱՐԱԾՔԱՅԻՆ ԿԱՌԱՎԱՐՄԱՆ ԵՎ ԵՆԹԱԿԱՌՈՒՑՎԱԾՔՆԵՐԻ ՆԱԽԱՐԱՐՈՒԹՅՈՒՆ
A9: ՄԱՍ 1, 2. ՊԵՏԱԿԱՆ ՄԱՐՄՆԻ ԳԾՈՎ ԱՐԴՅՈՒՆՔԱՅԻՆ (ԿԱՏԱՐՈՂԱԿԱՆ) ՑՈՒՑԱՆԻՇՆԵՐԸ
A11: Ծրագրի դասիչը | B11: Ծրագրի անվանումը
A12: 1049 | B12: Ճանապարհային ցանցի բարելավում
A14: Ծրագրի միջոցառումները
A15: Ծրագրի դասիչը` | B15: 1049 | C15: Ցուցանիշների փոփոխությունը (ավելացումները նշված են դրական նշանով)
A16: Միջոցառման դասիչը` | B16: 11009 | C16: Ինն ամիս | D16: Տարի
A17: Միջոցառման անվանումը` | B17: Ասիական զարգացման բանկի աջակցությամբ իրականացվող Հյուսիս-հարավ միջանցքի զարգացման ծրագրի համակարգում և կառավարում ( Տրանշ 2)
A18: Նկարագրությունը` | B18: Խորհրդատվական ծառայություններ և պահպանման ծախսեր
A19: Միջոցառման տեսակը` | B19: Ծառայությունների մատուցում
A20: Միջոցառումն իրականացնողի անվանումը՛ | B20: Մասնագիտացված միավոր
A21: Արդյունքի չափորոշիչներ
A22: Հողերի օտարում, շահառուների քանակ | D22: 30
A23: Միջոցառման վրա կատարվող ծախսը (հազար դրամ) | C23: ='h1'!D20 -> 5000 | D23: ='h1'!E20 -> 105000
A25: Ծրագրի դասիչը` | B25: 1049 | C25: Ցուցանիշների փոփոխությունը (նվազեցումները նշված են փակագծերում)
A26: Միջոցառման դասիչը` | B26: 11020 | C26: Ինն ամիս | D26: Տարի
A27: Միջոցառման անվանումը` | B27: Հյուսիս-հարավ ճանապարհային միջանցքի զարգացման ծրագրի Գյումրու շրջանցիկ ճանապարհի համակարգում և կառավարում, Տրանշ 5
A28: Նկարագրությունը` | B28: Հյուսիս-հարավ ճանապարհային միջանցքի զարգացման ծրագրի Գյումրու շրջանցիկ ճանապարհի շրջանակներում հողերի օտարում
A29: Միջոցառման տեսակը` | B29: Ծառայությունների մատուցում
A30: Միջոցառումն իրականացնողի անվանումը՛ | B30: Մասնագիտացված միավոր
A31: Արդյունքի չափորոշիչներ
A32: Հողերի օտարում, շահառուների քանակ | D32: -300
A33: ՀՕՏԾ իրականացման ծառայություն | D33: -1
A34: Միջոցառման վրա կատարվող ծախսը (հազար դրամ) | C34: ='h1'!D26 -> -5000 | D34: ='h1'!E26 -> -5000
A36: Ծրագրի դասիչը` | B36: 1049 | C36: Ցուցանիշների փոփոխությունը (ավելացումները նշված են դրական նշանով)
C37: Ինն ամիս | D37: Տարի
A38: Միջոցառման դասիչը` | B38: 21006
A39: Միջոցառման անվանումը` | B39: Ասիական զարգացման բանկի աջակցությամբ իրականացվող Հյուսիս-հարավ միջանցքի զարգացման վարկային ծրագիր, Տրանշ 2
A40: Նկարագրությունը` | B40: Աշտարակ-Թալին 29+600կմ-71+500կմ հատվածի կառուցում
A41: Միջոցառման տեսակը` | B41: Հանրության կողմից անմիջականորեն օգտագործվող ակտիվների հետ կապված միջոցառումներ
A42: Միջոցառումն իրականացնողի անվանումը | B42: Մասնագիտացված միավոր
A43: Արդյունքի չափորոշիչներ
A44: Միջոցառման վրա կատարվող ծախսը (հազար դրամ) | C44: =+'h3'!E36 -> 2700000 | D44: =+'h3'!H36 -> 3300000
A46: Ծրագրի դասիչը` | B46: 1049 | C46: Ցուցանիշների փոփոխությունը (ավելացումները նշված են դրական նշանով)
...
