Workbook
Name AgencyCode: #REF!
Name AgencyCode: #REF!
Name AgencyName: #REF!
Name AgencyName: #REF!
Name åû: #REF!
Name davit: #REF!
Name Functional1: #REF!
Name Functional1: #REF!
Name ggg: #REF!
Name mas: #REF!
Name mass: #REF!
Name PANature: #REF!
Name PANature: #REF!
Name PAType: #REF!
Name PAType: #REF!
Name Performance2: #REF!
Name Performance2: #REF!
Name PerformanceType: #REF!
Name PerformanceType: #REF!
Name x: #REF!
Name Հավելված: #REF!
Name Մաս: #REF!
Name շախմատիստ: #REF!

Sheet h1
A1: Հավելված N 1
A2: ՀՀ կառավարության 2024 թվականի
A3: ______________ ի ___Ն որոշման
A5: «ՀԱՅԱUՏԱՆԻ ՀԱՆՐԱՊԵՏՈՒԹՅԱՆ 2024 ԹՎԱԿԱՆԻ ՊԵՏԱԿԱՆ ԲՅՈՒՋԵԻ ՄԱUԻՆ» OՐԵՆՔԻ N 1 ՀԱՎԵԼՎԱԾԻ N 2 ԱՂՅՈՒՍԱԿՈՒՄ ԿԱՏԱՐՎՈՂ ՎԵՐԱԲԱՇԽՈՒՄԸ ԵՎ ՀԱՅԱՍՏԱՆԻ ՀԱՆՐԱՊԵՏՈՒԹՅԱՆ ԿԱՌԱՎԱՐՈՒԹՅԱՆ 2023 ԹՎԱԿԱՆԻ ԴԵԿՏԵՄԲԵՐԻ 28-Ի ԹԻՎ 2323-Ն ՈՐՈՇՄԱՆ N 5 ՀԱՎԵԼՎԱԾԻ N 1 ԱՂՅՈՒՍԱԿՈՒՄ ԿԱՏԱՐՎՈՂ ՓՈՓՈԽՈՒԹՅՈՒՆՆԵՐԸ ԵՎ ԼՐԱՑՈՒՄՆԵՐԸ
E7: հազար դրամով
A8: Ծրագրային դասիչը | C8: Բյուջետային հատկացումների գլխավոր կարգադրիչների, ծրագրերի և միջոցառումների անվանումները | D8: Ցուցանիշների փոփոխությունը(ավելացումները նշված են դրական նշանով, իսկ նվազեցումները` փակագծերում)
A9: Ծրագիր | B9: Միջոցառում | D9: Ինն ամիս | E9: Տարի
A10: 1192 | C10: ԸՆԴԱՄԵՆԸ | D10: =D12 -> 0 | E10: =E12 -> 0
C11: այդ թվում
C12: ՀՀ ՏԱՐԱԾՔԱՅԻՆ ԿԱՌԱՎԱՐՄԱՆ ԵՎ ԵՆԹԱԿԱՌՈՒՑՎԱԾՔՆԵՐԻ ՆԱԽԱՐԱՐՈՒԹՅՈՒՆ | D12: =D13 -> 0 | E12: =E13 -> 0
A13: 1049 | C13: Ծրագրի անվանումը` | D13: =+D20+D26+D32+D38+D44+D50+D56+D62+D68 -> 0 | E13: =+E20+E26+E32+E38+E44+E50+E56+E62+E68 -> 0
C14: Ճանապարհային ցանցի բարելավում
C15: Ծրագրի նպատակը`
C16: Ճանապարհային ցանցի բարելավում և անվտանգ երթևեկության ապահովում
C17: Վերջնական արդյունքի նկարագրությունը`
C18: Ճանապարհների ծածկի որակի և փոխադրումների արդյունավետության բարելավում, ճանապարհների վիճակով պայմանավորված պատահարների նվազում
C19: Ծրագրի միջոցառումներ
B20: 11009 | C20: Միջոցառման անվանումը` | D20: =+'h2'!G23 -> 5000 | E20: =+'h2'!H23 -> 105000
C21: Ասիական զարգացման բանկի աջակցությամբ իրականացվող Հյուսիս-հարավ միջանցքի զարգացման ծրագրի համակարգում և կառավարում (Տրանշ 2)
C22: Միջոցառման նկարագրությունը`
C23: Խորհրդատվական ծառայություններ և պահպանման ծախսեր
C24: Միջոցառման տեսակը
C25: Ծառայությունների մատուցում
B26: 11020 | C26: Միջոցառման անվանումը` | D26: =+'h2'!G32 -> -5000 | E26: =+'h2'!H32 -> -5000
C27: Հյուսիս-հարավ ճանապարհային միջանցքի զարգացման ծրագրի Գյումրու շրջանցիկ ճանապարհի համակարգում և կառավարում, Տրանշ 5
C28: Միջոցառման նկարագրությունը`
C29: Հյուսիս-հարավ ճանապարհային միջանցքի զարգացման ծրագրի Գյումրու շրջանցիկ ճանապարհի շրջանակներում հողերի օտարում
C30: Միջոցառման տեսակը
C31: Ծառայությունների մատուցում
B32: 21006 | C32: Միջոցառման անվանումը` | D32: =+'h2'!G41 -> 2700000 | E32: =+'h2'!H41 -> 3300000
C33: Ասիական զարգացման բանկի աջակցությամբ իրականացվող Հյուսիս-հարավ միջանցքի զարգացման վարկային ծրագիր, Տրանշ 2
C34: Միջոցառման նկարագրությունը`
C35: Աշտարակ-Թալին 29+600կմ-71+500կմ հատվածի կառուցում
C36: Միջոցառման տեսակը
C37: Հանրության կողմից անմիջականորեն օգտագործվող ակտիվների հետ կապված միջոցառումներ
B38: 21009 | C38: Միջոցառման անվանումը` | D38: =+'h2'!G63 -> 370000 | E38: =+'h2'!H63 -> 370000
C39: Եվրոպական ներդրումային բանկի աջակցությամբ իրականացվող Հյուսիս-հարավ միջանցքի զարգացման վարկային ծրագիր, Տրանշ 3
C40: Միջոցառման նկարագրությունը`
C41: Լանջիկ-Գյումրի 27.47 կմ երկարությամբ ճանապարհային հատվածի կառուցում
C42: Միջոցառման տեսակը
C43: Հանրության կողմից անմիջականորեն օգտագործվող ակտիվների հետ կապված միջոցառումներ
B44: 21012 | C44: Միջոցառման անվանումը` | D44: =+'h2'!G72 -> -3100000 | E44: =+'h2'!H72 -> -3100000
C45: Եվրասիական զարգացման բանկի աջակցությամբ իրականացվող Հյուսիս-հարավ միջանցքի զարգացման ծրագիր (Տրանշ 4)
C46: Միջոցառման նկարագրությունը`
C47: Ճանապարհաշինական աշխատանքներ
C48: Միջոցառման տեսակը
C49: Հանրության կողմից անմիջականորեն օգտագործվող ակտիվների հետ կապված միջոցառումներ
B50: 21014 | C50: Միջոցառման անվանումը` | D50: =+'h2'!G81 -> 30000 | E50: =+'h2'!H81 -> 30000
C51: Եվրոպական ներդրումային բանկի աջակցությամբ իրականացվող Մ6 Վանաձոր-Ալավերդի-Վրաստանի սահման միջպետական նշանակության ճանապարհի անվտանգության բարելավման դրամաշնորհային ծրագիր
C52: Միջոցառման նկարագրությունը`
C53: Ճանապարհաշինական աշխատանքներ
C54: Միջոցառման տեսակը
C55: Հանրության կողմից անմիջականորեն օգտագործվող ակտիվների հետ կապված միջոցառումներ
B56: 21017 | C56: Միջոցառման անվանումը` | D56: =+'h2'!G90 -> 0 | E56: =+'h2'!H90 -> -250000
C57: Հյուսիս-հարավ ճանապարհային միջանցքի զարգացման ծրագրի Սիսիան-Քաջարան 60կմ ճանապարհահատվածի կառուցում
C58: Միջոցառման նկարագրությունը`
C59: Սիսիան-Քաջարան 60կմ ճանապարհահատվածի շինարարություն
C60: Միջոցառման տեսակը
C61: Հանրության կողմից անմիջականորեն օգտագործվող ակտիվների հետ կապված միջոցառումներ
B62: 21018 | C62: Միջոցառման անվանումը` | D62: =+'h2'!G96 -> 0 | E62: =+'h2'!H96 -> -250000
C63: Հյուսիս-հարավ ճանապարհային միջանցքի զարգացման ծրագրի Քաջարանի թունելի և մոտեցումների կառուցում
C64: Միջոցառման նկարագրությունը`
C65: Քաջարանի թունելի և մոտեցումների շինարարություն
C66: Միջոցառման տեսակը
C67: Հանրության կողմից անմիջականորեն օգտագործվող ակտիվների հետ կապված միջոցառումներ
B68: 21021 | C68: Միջոցառման անվանումը` | D68: =+'h2'!G108 -> 0 | E68: =+'h2'!H108 -> -200000
C69: Հյուսիս-հարավ ճանապարհային միջանցքի զարգացման ծրագրի Գյումրու շրջանցիկ ճանապարհի կառուցում և հիմնանորոգում, Տրանշ 5
C70: Միջոցառման նկարագրությունը`
C71: Ճանապարհաշինական աշխատանքներ
C72: Միջոցառման տեսակը
C73: Հանրության կողմից անմիջականորեն օգտագործվող ակտիվների հետ կապված միջոցառումներ
C76: ՀԱՅԱՍՏԱՆԻ ՀԱՆՐԱՊԵՏՈՒԹՅԱՆ ՎԱՐՉԱՊԵՏԻ ԱՇԽԱՏԱԿԱԶՄԻ ՂԵԿԱՎԱՐ՝ | E76: Ա.ՀԱՐՈՒԹՅՈՒՆՅԱՆ

Sheet h2
A1: Հավելված N 2
A2: ՀՀ կառավարության 2024 թվականի
A3: ______________ ի ___Ն որոշման
A5: ՀԱՅԱՍՏԱՆԻ ՀԱՆՐԱՊԵՏՈՒԹՅԱՆ ԿԱՌԱՎԱՐՈՒԹՅԱՆ 2023 ԹՎԱԿԱՆԻ ԴԵԿՏԵՄԲԵՐԻ 28-Ի ԹԻՎ 2323-Ն ՈՐՈՇՄԱՆ N 3 ԵՎ N 4 ՀԱՎԵԼՎԱԾՆԵՐՈՒՄ ԿԱՏԱՐՎՈՂ ՓՈՓՈԽՈՒԹՅՈՒՆՆԵՐԸ ԵՎ ԼՐԱՑՈՒՄՆԵՐԸ
H7: հազար դրամով
A8: Գործառական դասիչը | D8: Ծրագրային դասիչը | F8: Բյուջետային հատկացումների գլխավոր կարգադրիչների, ծրագրերի, միջոցառումների և միջոցառումները կատարող պետական մարմինների անվանումները | G8: Ցուցանիշների փոփոխությունը (ավելացումները նշված են դրական նշանով, իսկ նվազեցումները` փակագծերում)
A9: Բաժին | B9: Խումբ | C9: Դաս | D9: Ծրագիր | E9: Միջոցառում | G9: Ինն ամիս | H9: Տարի
F10: ԸՆԴԱՄԵՆԸ | G10: =G12 -> 0 | H10: =H12 -> 0
F11: այդ թվում
F12: ՀՀ ՏԱՐԱԾՔԱՅԻՆ ԿԱՌԱՎԱՐՄԱՆ ԵՎ ԵՆԹԱԿԱՌՈՒՑՎԱԾՔՆԵՐԻ ՆԱԽԱՐԱՐՈՒԹՅՈՒՆ | G12: =+G13 -> 0 | H12: =+H13 -> 0
A13: 04 | F13: ՏՆՏԵՍԱԿԱՆ ՀԱՐԱԲԵՐՈՒԹՅՈՒՆՆԵՐ | G13: =G15 -> 0 | H13: =H15 -> 0
F14: այդ թվում`
B15: 05 | F15: Տրանսպորտ | G15: =G17 -> 0 | H15: =H17 -> 0
F16: այդ թվում`
C17: 01 | F17: Ճանապարհային տրանսպորտ | G17: =G19 -> 0 | H17: =H19 -> 0
F18: այդ թվում`
F19: ՀՀ տարածքային կառավարման և ենթակառուցվածքների նախարարություն | G19: =G21 -> 0 | H19: =H21 -> 0
F20: այդ թվում`
D21: 1049 | F21: Ճանապարհային ցանցի բարելավում | G21: =+G23+G32+G41+G52+G63+G72+G81+G90+G99+G108 -> 0 | H21: =+H23+H32+H41+H52+H63+H72+H81+H90+H99+H108 -> 0
F22: այդ թվում`
E23: 11009 | F23: Ասիական զարգացման բանկի աջակցությամբ իրականացվող Հյուսիս-հարավ միջանցքի զարգացման ծրագրի համակարգում և կառավարում (Տրանշ 2) | G23: =G25 -> 5000 | H23: =H25 -> 105000
F24: այդ թվում` ըստ կատարողների
F25: ՀՀ տարածքային կառավարման և ենթակառուցվածքների նախարարություն | G25: =G27 -> 5000 | H25: =H27 -> 105000
F26: այդ թվում` բյուջետային ծախսերի տնտեսագիտական դասակարգման հոդվածներ
F27: ԸՆԴԱՄԵՆԸ ԾԱԽՍԵՐ | G27: =G28 -> 5000 | H27: =H28 -> 105000
F28: ԸՆԹԱՑԻԿ ԾԱԽՍԵՐ | G28: =+G29 -> 5000 | H28: =+H29 -> 105000
F29: ԴՐԱՄԱՇՆՈՐՀՆԵՐ | G29: =G30 -> 5000 | H29: =H30 -> 105000
F30: Կապիտալ դրամաշնորհներ պետական հատվածի այլ մակարդակներին | G30: =G31 -> 5000 | H30: =H31 -> 105000
F31: - Այլ կապիտալ դրամաշնորհներ | G31: ='h3'!E26 -> 5000 | H31: ='h3'!H26 -> 105000
E32: 11020 | F32: Հյուսիս-հարավ ճանապարհային միջանցքի զարգացման ծրագրի Գյումրու շրջանցիկ ճանապարհի համակարգում և կառավարում, Տրանշ 5 | G32: =G34 -> -5000 | H32: =H34 -> -5000
F33: այդ թվում` ըստ կատարողների
F34: ՀՀ տարածքային կառավարման և ենթակառուցվածքների նախարարություն | G34: =G36 -> -5000 | H34: ='h3'!J35 -> -5000
F35: այդ թվում` բյուջետային ծախսերի տնտեսագիտական դասակարգման հոդվածներ
F36: ԸՆԴԱՄԵՆԸ ԾԱԽՍԵՐ | G36: =G37 -> -5000 | H36: =H37 -> -5000
F37: ԸՆԹԱՑԻԿ ԾԱԽՍԵՐ | G37: =G38 -> -5000 | H37: =H38 -> -5000
F38: ԴՐԱՄԱՇՆՈՐՀՆԵՐ | G38: =G39 -> -5000 | H38: =H39 -> -5000
F39: Կապիտալ դրամաշնորհներ պետական հատվածի այլ մակարդակներին | G39: =G40 -> -5000 | H39: =H40 -> -5000
F40: - Այլ կապիտալ դրամաշնորհներ | G40: ='h3'!E35 -> -5000 | H40: ='h3'!H35 -> -5000
E41: 21006 | F41: Ասիական զարգացման բանկի աջակցությամբ իրականացվող Հյուսիս-հարավ միջանցքի զարգացման վարկային ծրագիր, Տրանշ 2 | G41: =G43 -> 2700000 | H41: =H43 -> 3300000
F42: այդ թվում` ըստ կատարողների
F43: ՀՀ տարածքային կառավարման և ենթակառուցվածքների նախարարություն | G43: =G45 -> 2700000 | H43: =H45 -> 3300000
F44: այդ թվում` բյուջետային ծախսերի տնտեսագիտական դասակարգման հոդվածներ
F45: ԸՆԴԱՄԵՆԸ ԾԱԽՍԵՐ | G45: =G46 -> 2700000 | H45: =H46 -> 3300000
F46: ՈՉ ՖԻՆԱՆՍԱԿԱՆ ԱԿՏԻՎՆԵՐԻ ԳԾՈՎ ԾԱԽՍԵՐ | G46: =G47 -> 2700000 | H46: =H47 -> 3300000
F47: ՀԻՄՆԱԿԱՆ ՄԻՋՈՑՆԵՐ | G47: =+G48+G50 -> 2700000 | H47: =+H48+H50 -> 3300000
F48: ՇԵՆՔԵՐ ԵՎ ՇԻՆՈՒԹՅՈՒՆՆԵՐ | G48: =+G49 -> 2944000 | H48: =+H49 -> 3780000
F49: - Շենքերի և շինությունների շինարարություն | G49: =+'h3'!E44 -> 2944000 | H49: =+'h3'!H44 -> 3780000
F50: ԱՅԼ ՀԻՄՆԱԿԱՆ ՄԻՋՈՑՆԵՐ | G50: =G51 -> -244000 | H50: =H51 -> -480000
F51: - Նախագծահետազոտական ծախսեր | G51: =+'h3'!E46 -> -244000 | H51: =+'h3'!H46 -> -480000
E52: 21008 | F52: Վերակառուցման և զարգացման եվրոպական բանկի աջակցությամբ իրականացվող ՀՀ պետական սահմանի Բագրատաշեն անցման կետի կամրջի վերակառուցման վարկային ծրագիր | G52: =G54 -> 0 | H52: =H54 -> 0
F53: այդ թվում` ըստ կատարողների
F54: ՀՀ տարածքային կառավարման և ենթակառուցվածքների նախարարություն | G54: =G56 -> 0 | H54: =H56 -> 0
F55: այդ թվում` բյուջետային ծախսերի տնտեսագիտական դասակարգման հոդվածներ
F56: ԸՆԴԱՄԵՆԸ ԾԱԽՍԵՐ | G56: =G57 -> 0 | H56: =H57 -> 0
F57: ՈՉ ՖԻՆԱՆՍԱԿԱՆ ԱԿՏԻՎՆԵՐԻ ԳԾՈՎ ԾԱԽՍԵՐ | G57: =G58 -> 0 | H57: =H58 -> 0
F58: ՀԻՄՆԱԿԱՆ ՄԻՋՈՑՆԵՐ | G58: =+G59+G61 -> 0 | H58: =+H59+H61 -> 0
F59: ՇԵՆՔԵՐ ԵՎ ՇԻՆՈՒԹՅՈՒՆՆԵՐ | G59: =G60 -> -12000 | H59: =H60 -> -12000
F60: - Շենքերի և շինությունների շինարարություն | G60: =+'h3'!E55 -> -12000 | H60: =+'h3'!H55 -> -12000
F61: ԱՅԼ ՀԻՄՆԱԿԱՆ ՄԻՋՈՑՆԵՐ | G61: =G62 -> 12000 | H61: =H62 -> 12000
F62: - Նախագծահետազոտական ծախսեր | G62: ='h3'!E57 -> 12000 | H62: ='h3'!H57 -> 12000
E63: 21009 | F63: Եվրոպական ներդրումային բանկի աջակցությամբ իրականացվող Հյուսիս-հարավ միջանցքի զարգացման վարկային ծրագիր, Տրանշ 3 | G63: =G65 -> 370000 | H63: =H65 -> 370000
F64: այդ թվում` ըստ կատարողների
F65: ՀՀ տարածքային կառավարման և ենթակառուցվածքների նախարարություն | G65: =G67 -> 370000 | H65: =H67 -> 370000
F66: այդ թվում` բյուջետային ծախսերի տնտեսագիտական դասակարգման հոդվածներ
F67: ԸՆԴԱՄԵՆԸ ԾԱԽՍԵՐ | G67: =G68 -> 370000 | H67: =H68 -> 370000
F68: ՈՉ ՖԻՆԱՆՍԱԿԱՆ ԱԿՏԻՎՆԵՐԻ ԳԾՈՎ ԾԱԽՍԵՐ | G68: =G69 -> 370000 | H68: =H69 -> 370000
F69: ՀԻՄՆԱԿԱՆ ՄԻՋՈՑՆԵՐ | G69: =G70 -> 370000 | H69: =H70 -> 370000
F70: ՇԵՆՔԵՐ ԵՎ ՇԻՆՈՒԹՅՈՒՆՆԵՐ | G70: =G71 -> 370000 | H70: =H71 -> 370000
F71: - Շենքերի և շինությունների շինարարություն | G71: =+'h3'!E66 -> 370000 | H71: =+'h3'!H66 -> 370000
E72: 21012 | F72: Եվրասիական զարգացման բանկի աջակցությամբ իրականացվող Հյուսիս-հարավ միջանցքի զարգացման ծրագիր (Տրանշ 4) | G72: =G74 -> -3100000 | H72: =H74 -> -3100000
F73: այդ թվում` ըստ կատարողների
F74: ՀՀ տարածքային կառավարման և ենթակառուցվածքների նախարարություն | G74: =G76 -> -3100000 | H74: =H76 -> -3100000
F75: այդ թվում` բյուջետային ծախսերի տնտեսագիտական դասակարգման հոդվածներ
F76: ԸՆԴԱՄԵՆԸ ԾԱԽՍԵՐ | G76: =G77 -> -3100000 | H76: =H77 -> -3100000
F77: ՈՉ ՖԻՆԱՆՍԱԿԱՆ ԱԿՏԻՎՆԵՐԻ ԳԾՈՎ ԾԱԽՍԵՐ | G77: =G78 -> -3100000 | H77: =H78 -> -3100000
F78: ՀԻՄՆԱԿԱՆ ՄԻՋՈՑՆԵՐ | G78: =G79 -> -3100000 | H78: =H79 -> -3100000
F79: ՇԵՆՔԵՐ ԵՎ ՇԻՆՈՒԹՅՈՒՆՆԵՐ | G79: =G80 -> -3100000 | H79: =H80 -> -3100000
F80: - Շենքերի և շինությունների շինարարություն | G80: =+'h3'!E74 -> -3100000 | H80: =+'h3'!H74 -> -3100000
E81: 21014 | F81: Եվրոպական ներդրումային բանկի աջակցությամբ իրականացվող Մ6 Վանաձոր-Ալավերդի-Վրաստանի սահման միջպետական նշանակության ճանապարհի անվտանգության բարելավման դրամաշնորհային ծրագիր | G81: =G83 -> 30000 | H81: =H83 -> 30000
F82: այդ թվում` ըստ կատարողների
F83: ՀՀ տարածքային կառավարման և ենթակառուցվածքների նախարարություն | G83: =G85 -> 30000 | H83: =H85 -> 30000
F84: այդ թվում` բյուջետային ծախսերի տնտեսագիտական դասակարգման հոդվածներ
F85: ԸՆԴԱՄԵՆԸ ԾԱԽՍԵՐ | G85: =G86 -> 30000 | H85: =H86 -> 30000
F86: ՈՉ ՖԻՆԱՆՍԱԿԱՆ ԱԿՏԻՎՆԵՐԻ ԳԾՈՎ ԾԱԽՍԵՐ | G86: =G87 -> 30000 | H86: =H87 -> 30000
F87: ՀԻՄՆԱԿԱՆ ՄԻՋՈՑՆԵՐ | G87: =G88 -> 30000 | H87: =H88 -> 30000
F88: ՇԵՆՔԵՐ ԵՎ ՇԻՆՈՒԹՅՈՒՆՆԵՐ | G88: =G89 -> 30000 | H88: =H89 -> 30000
F89: - Շենքերի և շինությունների շինարարություն | G89: =+'h4'!D26 -> 30000 | H89: =+'h4'!G26 -> 30000
E90: 21017 | F90: Հյուսիս-հարավ ճանապարհային միջանցքի զարգացման ծրագրի Սիսիան-Քաջարան 60կմ ճանապարհահատվածի կառուցում | G90: =G92 -> 0 | H90: =H92 -> -250000
F91: այդ թվում` ըստ կատարողների
F92: ՀՀ տարածքային կառավարման և ենթակառուցվածքների նախարարություն | G92: =G94 -> 0 | H92: =H94 -> -250000
F93: այդ թվում` բյուջետային ծախսերի տնտեսագիտական դասակարգման հոդվածներ
F94: ԸՆԴԱՄԵՆԸ ԾԱԽՍԵՐ | G94: =G95 -> 0 | H94: =H95 -> -250000
F95: ՈՉ ՖԻՆԱՆՍԱԿԱՆ ԱԿՏԻՎՆԵՐԻ ԳԾՈՎ ԾԱԽՍԵՐ | G95: =G96 -> 0 | H95: =H96 -> -250000
F96: ՀԻՄՆԱԿԱՆ ՄԻՋՈՑՆԵՐ | G96: =G97 -> 0 | H96: =H97 -> -250000
F97: ԱՅԼ ՀԻՄՆԱԿԱՆ ՄԻՋՈՑՆԵՐ | G97: =G98 -> 0 | H97: =H98 -> -250000
F98: - Նախագծահետազոտական ծախսեր | G98: 0 | H98: ='h3'!H84 -> -250000
E99: 21018 | F99: Հյուսիս-հարավ ճանապարհային միջանցքի զարգացման ծրագրի Քաջարանի թունելի և մոտեցումների կառուցում | G99: =G101 -> 0 | H99: =H101 -> -250000
F100: այդ թվում` ըստ կատարողների
F101: ՀՀ տարածքային կառավարման և ենթակառուցվածքների նախարարություն | G101: =G103 -> 0 | H101: =H103 -> -250000
F102: այդ թվում` բյուջետային ծախսերի տնտեսագիտական դասակարգման հոդվածներ
...

Sheet h3
J1: Հավելված N3
J2: ՀՀ կառավարության 2024 թվականի
J3: ______________ ի ___Ն որոշման
B5: «ՀԱՅԱUՏԱՆԻ ՀԱՆՐԱՊԵՏՈՒԹՅԱՆ 2024 ԹՎԱԿԱՆԻ ՊԵՏԱԿԱՆ ԲՅՈՒՋԵԻ ՄԱUԻՆ» OՐԵՆՔԻ N 1 ՀԱՎԵԼՎԱԾԻ N 4 ԱՂՅՈՒՍԱԿՈՒՄ ԿԱՏԱՐՎՈՂ ՎԵՐԱԲԱՇԽՈՒՄԸ ԵՎ ՓՈՓՈԽՈՒԹՅՈՒՆՆԵՐԸ ԵՎ ՀԱՅԱՍՏԱՆԻ ՀԱՆՐԱՊԵՏՈՒԹՅԱՆ ԿԱՌԱՎԱՐՈՒԹՅԱՆ 2023 ԹՎԱԿԱՆԻ ԴԵԿՏԵՄԲԵՐԻ 28-Ի N 2323-Ն ՈՐՈՇՄԱՆ N 5 ՀԱՎԵԼՎԱԾԻ N 3 ԱՂՅՈՒՍԱԿՈՒՄ ԿԱՏԱՐՎՈՂ ԼՐԱՑՈՒՄՆԵՐԸ ԵՎ ՓՈՓՈԽՈՒԹՅՈՒՆՆԵՐԸ
J6: հազ. դրամ
B7: Ծրագրային դասիչը | D7: Բյուջետային գլխավոր կարգադրիչների, ծրագրերի և միջոցառումների անվանումները | E7: Ցուցանիշների փոփոխությունը (ավելացումները նշված են դրական նշանով, իսկ նվազեցումները` փակագծերում)
E8: Ինն ամիս | H8: Տարի
E9: Ընդամենը | F9: այդ թվում` | H9: Ընդամենը | I9: այդ թվում`
B10: Ծրագիր | C10: Միջոցառում | F10: Վարկային միջոցներ | G10: Համաֆինան սավորում | I10: Վարկային միջոցներ | J10: Համաֆինան սավորում
D11: ԸՆԴԱՄԵՆԸ | E11: =E13+E14 -> -30000 | F11: =F13+F14 -> 0 | G11: =G13+G14 -> -30000 | H11: =H13+H14 -> -30000 | I11: =I13+I14 -> 0 | J11: =J13+J14 -> -30000
D12: այդ թվում`
D13: ԸՆԹԱՑԻԿ ԾԱԽՍԵՐ | E13: =+E18+E27 -> 0 | F13: =+F18+F27 -> 0 | G13: =+G18+G27 -> 0 | H13: =+H18+H27 -> 100000 | I13: =+I18+I27 -> 0 | J13: =+J18+J27 -> 100000
D14: ՈՉ ՖԻՆԱՆՍԱԿԱՆ ԱԿՏԻՎՆԵՐԻ ԳԾՈՎ ԾԱԽՍԵՐ | E14: =+E36+E47+E58+E67+E76+E85+E94 -> -30000 | F14: =+F36+F47+F58+F67+F76+F85+F94 -> 0 | G14: =+G36+G47+G58+G67+G76+G85+G94 -> -30000 | H14: =+H36+H47+H58+H67+H76+H85+H94 -> -130000 | I14: =+I36+I47+I58+I67+I76+I85+I94 -> 0 | J14: =+J36+J47+J58+J67+J76+J85+J94 -> -130000
D15: ՀՀ ՏԱՐԱԾՔԱՅԻՆ ԿԱՌԱՎԱՐՄԱՆ ԵՎ ԵՆԹԱԿԱՌՈՒՑՎԱԾՔՆԵՐԻ ՆԱԽԱՐԱՐՈՒԹՅՈՒՆ | E15: =F15+G15 -> -30000 | F15: =F16 -> 0 | G15: =G16 -> -30000 | H15: =I15+J15 -> -30000 | I15: =I16 -> 0 | J15: =J16 -> -30000
B16: 1049 | D16: Ճանապարհային ցանցի բարելավում | E16: =+E18+E27+E36+E47+E58+E67+E76+E85+E94 -> -30000 | F16: =+F18+F27+F36+F47+F58+F67+F76+F85+F94 -> 0 | G16: =+G18+G27+G36+G47+G58+G67+G76+G85+G94 -> -30000 | H16: =+H18+H27+H36+H47+H58+H67+H76+H85+H94 -> -30000 | I16: =+I18+I27+I36+I47+I58+I67+I76+I85+I94 -> 0 | J16: =+J18+J27+J36+J47+J58+J67+J76+J85+J94 -> -30000
D17: այդ թվում`
C18: 11009 | D18: Ասիական զարգացման բանկի աջակցությամբ իրականացվող Հյուսիս-հարավ միջանցքի զարգացման ծրագրի համակարգում և կառավարում ( Տրանշ 2) | E18: =F18+G18 -> 5000 | G18: =G20 -> 5000 | H18: =+I18+J18 -> 105000 | I18: =+I20 -> 0 | J18: =+J20 -> 105000
D19: այդ թվում` ըստ կատարողների
D20: ՀՀ տարածքային կառավարման և ենթակառուցվածքների նախարարություն | E20: =F20+G20 -> 5000 | G20: =G22 -> 5000 | H20: =+I20+J20 -> 105000 | I20: =+I22 -> 0 | J20: =+J22 -> 105000
D21: այդ թվում` բյուջետային ծախսերի տնտեսագիտական դասակարգման հոդվածներ
D22: ԸՆԴԱՄԵՆԸ ԾԱԽՍԵՐ | E22: =F22+G22 -> 5000 | G22: =G23 -> 5000 | H22: =+I22+J22 -> 105000 | I22: =+I24 -> 0 | J22: =J23 -> 105000
D23: ԸՆԹԱՑԻԿ ԾԱԽՍԵՐ | E23: =+E24 -> 5000 | F23: =+F24 -> 0 | G23: =+G24 -> 5000 | H23: =+H24 -> 105000 | I23: =+I24 -> 0 | J23: =+J24 -> 105000
D24: ԴՐԱՄԱՇՆՈՐՀՆԵՐ | E24: =F24+G24 -> 5000 | G24: =G25 -> 5000 | H24: =+I24+J24 -> 105000 | I24: 0 | J24: =J25 -> 105000
D25: Կապիտալ դրամաշնորհներ պետական հատվածի այլ մակարդակներին | E25: =F25+G25 -> 5000 | G25: =G26 -> 5000 | H25: =+I25+J25 -> 105000 | J25: =J26 -> 105000
D26: - Այլ կապիտալ դրամաշնորհներ | E26: =F26+G26 -> 5000 | F26: 0 | G26: =5000 -> 5000 | H26: =+I26+J26 -> 105000 | J26: =+G26+100000 -> 105000
C27: 11020 | D27: Հյուսիս-հարավ ճանապարհային միջանցքի զարգացման ծրագրի Գյումրու շրջանցիկ ճանապարհի համակարգում և կառավարում, Տրանշ 5 | E27: =F27+G27 -> -5000 | F27: 0 | G27: =+G29 -> -5000 | H27: =I27+J27 -> -5000 | J27: =J29 -> -5000
D28: այդ թվում` ըստ կատարողների | F28: 0
D29: ՀՀ տարածքային կառավարման և ենթակառուցվածքների նախարարություն | E29: =F29+G29 -> -5000 | F29: 0 | G29: =+G31 -> -5000 | H29: =I29+J29 -> -5000 | J29: =J31 -> -5000
D30: այդ թվում` բյուջետային ծախսերի տնտեսագիտական դասակարգման հոդվածներ | F30: 0
D31: ԸՆԴԱՄԵՆԸ ԾԱԽՍԵՐ | E31: =F31+G31 -> -5000 | F31: 0 | G31: =+G32 -> -5000 | H31: =I31+J31 -> -5000 | J31: =J32 -> -5000
D32: ԸՆԹԱՑԻԿ ԾԱԽՍԵՐ | E32: =F32+G32 -> -5000 | F32: 0 | G32: =+G33 -> -5000 | H32: =I32+J32 -> -5000 | J32: =J33 -> -5000
D33: ԴՐԱՄԱՇՆՈՐՀՆԵՐ | E33: =F33+G33 -> -5000 | F33: 0 | G33: =+G34 -> -5000 | H33: =I33+J33 -> -5000 | J33: =J34 -> -5000
D34: Կապիտալ դրամաշնորհներ պետական հատվածի այլ մակարդակներին | E34: =F34+G34 -> -5000 | F34: 0 | G34: =+G35 -> -5000 | H34: =I34+J34 -> -5000 | J34: =J35 -> -5000
D35: - Այլ կապիտալ դրամաշնորհներ | E35: =F35+G35 -> -5000 | F35: 0 | G35: -5000 | H35: =I35+J35 -> -5000 | J35: =G35 -> -5000
C36: 21006 | D36: Ասիական զարգացման բանկի աջակցությամբ իրականացվող Հյուսիս-հարավ միջանցքի զարգացման վարկային ծրագիր, Տրանշ 2 | E36: =F36+G36 -> 2700000 | F36: =F38 -> 2700000 | G36: =+G38 -> 0 | H36: =I36+J36 -> 3300000 | I36: =I38 -> 3300000 | J36: =J38 -> 0
D37: այդ թվում` ըստ կատարողների
D38: ՀՀ տարածքային կառավարման և ենթակառուցվածքների նախարարություն | E38: =F38+G38 -> 2700000 | F38: =F40 -> 2700000 | G38: =+G40 -> 0 | H38: =I38+J38 -> 3300000 | I38: =I40 -> 3300000 | J38: =J40 -> 0
D39: այդ թվում` բյուջետային ծախսերի տնտեսագիտական դասակարգման հոդվածներ
D40: ԸՆԴԱՄԵՆԸ ԾԱԽՍԵՐ | E40: =F40+G40 -> 2700000 | F40: =F41 -> 2700000 | G40: =+G41 -> 0 | H40: =I40+J40 -> 3300000 | I40: =I41 -> 3300000 | J40: =J41 -> 0
D41: ՈՉ ՖԻՆԱՆՍԱԿԱՆ ԱԿՏԻՎՆԵՐԻ ԳԾՈՎ ԾԱԽՍԵՐ | E41: =F41+G41 -> 2700000 | F41: =F42 -> 2700000 | G41: =+G42 -> 0 | H41: =I41+J41 -> 3300000 | I41: =I42 -> 3300000 | J41: =J42 -> 0
D42: ՀԻՄՆԱԿԱՆ ՄԻՋՈՑՆԵՐ | E42: =F42+G42 -> 2700000 | F42: =F45+F43 -> 2700000 | G42: =G45+G43 -> 0 | H42: =I42+J42 -> 3300000 | I42: =I45+I43 -> 3300000 | J42: =J45+J43 -> 0
D43: ՇԵՆՔԵՐ ԵՎ ՇԻՆՈՒԹՅՈՒՆՆԵՐ | E43: =+E44 -> 2944000 | F43: =+F44 -> 2900000 | G43: =+G44 -> 44000 | H43: =+H44 -> 3780000 | I43: =+I44 -> 3700000 | J43: =+J44 -> 80000
D44: - Շենքերի և շինությունների շինարարություն | E44: =F44+G44 -> 2944000 | F44: 2900000 | G44: 44000 | H44: =I44+J44 -> 3780000 | I44: =+F44+800000 -> 3700000 | J44: 80000
D45: ԱՅԼ ՀԻՄՆԱԿԱՆ ՄԻՋՈՑՆԵՐ | E45: =F45+G45 -> -244000 | F45: =F46 -> -200000 | G45: =G46 -> -44000 | H45: =H46 -> -480000 | I45: =I46 -> -400000 | J45: =J46 -> -80000
D46: - Նախագծահետազոտական ծախսեր | E46: =F46+G46 -> -244000 | F46: -200000 | G46: -44000 | H46: =I46+J46 -> -480000 | I46: -400000 | J46: -80000
C47: 21008 | D47: Վերակառուցման և զարգացման եվրոպական բանկի աջակցությամբ իրականացվող ՀՀ պետական սահմանի Բագրատաշեն անցման կետի կամրջի վերակառուցման վարկային ծրագիր | E47: =F47+G47 -> 0 | F47: =F49 -> 0 | G47: =+G49 -> 0 | H47: =I47+J47 -> 0 | I47: =I49 -> 0 | J47: =J49 -> 0
D48: այդ թվում` ըստ կատարողների
D49: ՀՀ տարածքային կառավարման և ենթակառուցվածքների նախարարություն | E49: =F49+G49 -> 0 | F49: =F51 -> 0 | G49: =+G51 -> 0 | H49: =I49+J49 -> 0 | I49: =I51 -> 0 | J49: =J51 -> 0
D50: այդ թվում` բյուջետային ծախսերի տնտեսագիտական դասակարգման հոդվածներ
D51: ԸՆԴԱՄԵՆԸ ԾԱԽՍԵՐ | E51: =F51+G51 -> 0 | F51: =F52 -> 0 | G51: =+G52 -> 0 | H51: =I51+J51 -> 0 | I51: =I52 -> 0 | J51: =J52 -> 0
D52: ՈՉ ՖԻՆԱՆՍԱԿԱՆ ԱԿՏԻՎՆԵՐԻ ԳԾՈՎ ԾԱԽՍԵՐ | E52: =F52+G52 -> 0 | F52: =F53 -> 0 | G52: =+G53 -> 0 | H52: =I52+J52 -> 0 | I52: =I53 -> 0 | J52: =J53 -> 0
D53: ՀԻՄՆԱԿԱՆ ՄԻՋՈՑՆԵՐ | E53: =F53+G53 -> 0 | F53: =F56+F54 -> 0 | G53: =G56+G54 -> 0 | H53: =I53+J53 -> 0 | I53: =I56+I54 -> 0 | J53: =J56+J54 -> 0
D54: ՇԵՆՔԵՐ ԵՎ ՇԻՆՈՒԹՅՈՒՆՆԵՐ | E54: =+E55 -> -12000 | F54: =+F55 -> -10000 | G54: =+G55 -> -2000 | H54: =+H55 -> -12000 | I54: =+I55 -> -10000 | J54: =+J55 -> -2000
D55: - Շենքերի և շինությունների շինարարություն | E55: =F55+G55 -> -12000 | F55: -10000 | G55: -2000 | H55: =I55+J55 -> -12000 | I55: =+F55 -> -10000 | J55: =+G55 -> -2000
D56: ԱՅԼ ՀԻՄՆԱԿԱՆ ՄԻՋՈՑՆԵՐ | E56: =F56+G56 -> 12000 | F56: =F57 -> 10000 | G56: 2000 | H56: =I56+J56 -> 12000 | I56: =I57 -> 10000 | J56: =J57 -> 2000
D57: - Նախագծահետազոտական ծախսեր | E57: =F57+G57 -> 12000 | F57: 10000 | G57: 2000 | H57: =I57+J57 -> 12000 | I57: =F57 -> 10000 | J57: =G57 -> 2000
C58: 21009 | D58: Եվրոպական ներդրումային բանկի աջակցությամբ իրականացվող Հյուսիս-հարավ միջանցքի զարգացման վարկային ծրագիր, Տրանշ 3 | E58: =F58+G58 -> 370000 | F58: =F60 -> 0 | G58: =G60 -> 370000 | H58: =I58+J58 -> 370000 | I58: =F58 -> 0 | J58: =J60 -> 370000
D59: այդ թվում` ըստ կատարողների
D60: ՀՀ տարածքային կառավարման և ենթակառուցվածքների նախարարություն | E60: =F60+G60 -> 370000 | F60: =F62 -> 0 | G60: =G62 -> 370000 | H60: =I60+J60 -> 370000 | I60: =F60 -> 0 | J60: =J62 -> 370000
D61: այդ թվում` բյուջետային ծախսերի տնտեսագիտական դասակարգման հոդվածներ
D62: ԸՆԴԱՄԵՆԸ ԾԱԽՍԵՐ | E62: =F62+G62 -> 370000 | F62: =F63 -> 0 | G62: =G63 -> 370000 | H62: =I62+J62 -> 370000 | I62: =F62 -> 0 | J62: =J63 -> 370000
D63: ՈՉ ՖԻՆԱՆՍԱԿԱՆ ԱԿՏԻՎՆԵՐԻ ԳԾՈՎ ԾԱԽՍԵՐ | E63: =F63+G63 -> 370000 | F63: =F64 -> 0 | G63: =G64 -> 370000 | H63: =I63+J63 -> 370000 | I63: =F63 -> 0 | J63: =J64 -> 370000
D64: ՀԻՄՆԱԿԱՆ ՄԻՋՈՑՆԵՐ | E64: =F64+G64 -> 370000 | F64: =+F65 -> 0 | G64: =+G65 -> 370000 | H64: =I64+J64 -> 370000 | I64: =F64 -> 0 | J64: =+J65 -> 370000
D65: ՇԵՆՔԵՐ ԵՎ ՇԻՆՈՒԹՅՈՒՆՆԵՐ | E65: =F65+G65 -> 370000 | F65: =F66 -> 0 | G65: =G66 -> 370000 | H65: =I65+J65 -> 370000 | I65: =I66 -> 0 | J65: =J66 -> 370000
D66: - Շենքերի և շինությունների շինարարություն | E66: =F66+G66 -> 370000 | G66: =130000+240000 -> 370000 | H66: =I66+J66 -> 370000 | I66: =F66 -> 0 | J66: =+G66 -> 370000
C67: 21012 | D67: Եվրասիական զարգացման բանկի աջակցությամբ իրականացվող Հյուսիս-հարավ միջանցքի զարգացման ծրագիր (Տրանշ 4) | E67: =F67+G67 -> -3100000 | F67: =F69 -> -2700000 | G67: =G69 -> -400000 | H67: =I67+J67 -> -3100000 | I67: =I69 -> -2700000 | J67: =J69 -> -400000
D68: այդ թվում` ըստ կատարողների
D69: ՀՀ տարածքային կառավարման և ենթակառուցվածքների նախարարություն | E69: =F69+G69 -> -3100000 | F69: =F71 -> -2700000 | G69: =G71 -> -400000 | H69: =I69+J69 -> -3100000 | I69: =I71 -> -2700000 | J69: =J71 -> -400000
D70: այդ թվում` բյուջետային ծախսերի տնտեսագիտական դասակարգման հոդվածներ
D71: ԸՆԴԱՄԵՆԸ ԾԱԽՍԵՐ | E71: =F71+G71 -> -3100000 | F71: =F72 -> -2700000 | G71: =G72 -> -400000 | H71: =I71+J71 -> -3100000 | I71: =I72 -> -2700000 | J71: =J72 -> -400000
D72: ՈՉ ՖԻՆԱՆՍԱԿԱՆ ԱԿՏԻՎՆԵՐԻ ԳԾՈՎ ԾԱԽՍԵՐ | E72: =F72+G72 -> -3100000 | F72: =F73 -> -2700000 | G72: =G73 -> -400000 | H72: =I72+J72 -> -3100000 | I72: =I73 -> -2700000 | J72: =J73 -> -400000
D73: ՀԻՄՆԱԿԱՆ ՄԻՋՈՑՆԵՐ | E73: =F73+G73 -> -3100000 | F73: =F74 -> -2700000 | G73: =G74 -> -400000 | H73: =I73+J73 -> -3100000 | I73: =I74 -> -2700000 | J73: =J74 -> -400000
D74: ՇԵՆՔԵՐ ԵՎ ՇԻՆՈՒԹՅՈՒՆՆԵՐ | E74: =F74+G74 -> -3100000 | F74: =F75 -> -2700000 | G74: =G75 -> -400000 | H74: =I74+J74 -> -3100000 | I74: =I75 -> -2700000 | J74: =J75 -> -400000
D75: - Շենքերի և շինությունների շինարարություն | E75: =F75+G75 -> -3100000 | F75: -2700000 | G75: -400000 | H75: =I75+J75 -> -3100000 | I75: =+F75 -> -2700000 | J75: =+G75 -> -400000
C76: 21017 | D76: Հյուսիս-հարավ ճանապարհային միջանցքի զարգացման ծրագրի Սիսիան-Քաջարան 60կմ ճանապարհահատվածի կառուցում | E76: =F76+G76 -> 0 | F76: =F78 -> 0 | G76: =G78 -> 0 | H76: =I76+J76 -> -250000 | I76: =I78 -> -200000 | J76: =J78 -> -50000
D77: այդ թվում` ըստ կատարողների
D78: ՀՀ տարածքային կառավարման և ենթակառուցվածքների նախարարություն | E78: =F78+G78 -> 0 | F78: =F80 -> 0 | G78: =G80 -> 0 | H78: =I78+J78 -> -250000 | I78: =I80 -> -200000 | J78: =J80 -> -50000
D79: այդ թվում` բյուջետային ծախսերի տնտեսագիտական դասակարգման հոդվածներ
D80: ԸՆԴԱՄԵՆԸ ԾԱԽՍԵՐ | E80: =F80+G80 -> 0 | F80: =F81 -> 0 | G80: =G81 -> 0 | H80: =I80+J80 -> -250000 | I80: =I81 -> -200000 | J80: =J81 -> -50000
D81: ՈՉ ՖԻՆԱՆՍԱԿԱՆ ԱԿՏԻՎՆԵՐԻ ԳԾՈՎ ԾԱԽՍԵՐ | E81: =F81+G81 -> 0 | F81: =F82 -> 0 | G81: =G82 -> 0 | H81: =I81+J81 -> -250000 | I81: =I82 -> -200000 | J81: =J82 -> -50000
D82: ՀԻՄՆԱԿԱՆ ՄԻՋՈՑՆԵՐ | E82: =F82+G82 -> 0 | F82: =F83 -> 0 | G82: =G83 -> 0 | H82: =I82+J82 -> -250000 | I82: =I83 -> -200000 | J82: =J83 -> -50000
D83: ԱՅԼ ՀԻՄՆԱԿԱՆ ՄԻՋՈՑՆԵՐ | E83: =F83+G83 -> 0 | F83: =F84 -> 0 | G83: =G84 -> 0 | H83: =I83+J83 -> -250000 | I83: =I84 -> -200000 | J83: =J84 -> -50000
D84: - Նախագծահետազոտական ծախսեր | E84: =F84+G84 -> 0 | F84: 0 | G84: 0 | H84: =I84+J84 -> -250000 | I84: -200000 | J84: -50000
C85: 21018 | D85: Հյուսիս-հարավ ճանապարհային միջանցքի զարգացման ծրագրի Քաջարանի թունելի և մոտեցումների կառուցում | E85: =F85+G85 -> 0 | F85: =F87 -> 0 | G85: =G87 -> 0 | H85: =I85+J85 -> -250000 | I85: =I87 -> -200000 | J85: =J87 -> -50000
D86: այդ թվում` ըստ կատարողների
D87: ՀՀ տարածքային կառավարման և ենթակառուցվածքների նախարարություն | E87: =F87+G87 -> 0 | F87: =F89 -> 0 | G87: =G89 -> 0 | H87: =I87+J87 -> -250000 | I87: =I89 -> -200000 | J87: =J89 -> -50000
D88: այդ թվում` բյուջետային ծախսերի տնտեսագիտական դասակարգման հոդվածներ
D89: ԸՆԴԱՄԵՆԸ ԾԱԽՍԵՐ | E89: =F89+G89 -> 0 | F89: =F90 -> 0 | G89: =G90 -> 0 | H89: =I89+J89 -> -250000 | I89: =I90 -> -200000 | J89: =J90 -> -50000
D90: ՈՉ ՖԻՆԱՆՍԱԿԱՆ ԱԿՏԻՎՆԵՐԻ ԳԾՈՎ ԾԱԽՍԵՐ | E90: =F90+G90 -> 0 | F90: =F91 -> 0 | G90: =G91 -> 0 | H90: =I90+J90 -> -250000 | I90: =I91 -> -200000 | J90: =J91 -> -50000
D91: ՀԻՄՆԱԿԱՆ ՄԻՋՈՑՆԵՐ | E91: =F91+G91 -> 0 | F91: =F92 -> 0 | G91: =G92 -> 0 | H91: =I91+J91 -> -250000 | I91: =I92 -> -200000 | J91: =J92 -> -50000
D92: ԱՅԼ ՀԻՄՆԱԿԱՆ ՄԻՋՈՑՆԵՐ | E92: =F92+G92 -> 0 | F92: =F93 -> 0 | G92: =G93 -> 0 | H92: =I92+J92 -> -250000 | I92: =I93 -> -200000 | J92: =J93 -> -50000
D93: - Նախագծահետազոտական ծախսեր | E93: =F93+G93 -> 0 | F93: 0 | G93: 0 | H93: =I93+J93 -> -250000 | I93: -200000 | J93: -50000
C94: 21021 | D94: Հյուսիս-հարավ ճանապարհային միջանցքի զարգացման ծրագրի Գյումրու շրջանցիկ ճանապարհի կառուցում և հիմնանորոգում, Տրանշ 5 | E94: =F94+G94 -> 0 | F94: =F96 -> 0 | G94: =G96 -> 0 | H94: =I94+J94 -> -200000 | I94: =I96 -> -200000 | J94: =J96 -> 0
D95: այդ թվում` ըստ կատարողների
D96: ՀՀ տարածքային կառավարման և ենթակառուցվածքների նախարարություն | E96: =F96+G96 -> 0 | F96: =F98 -> 0 | G96: =G98 -> 0 | H96: =I96+J96 -> -200000 | I96: =I98 -> -200000 | J96: =J98 -> 0
D97: այդ թվում` բյուջետային ծախսերի տնտեսագիտական դասակարգման հոդվածներ
D98: ԸՆԴԱՄԵՆԸ ԾԱԽՍԵՐ | E98: =F98+G98 -> 0 | F98: =F99 -> 0 | G98: =G99 -> 0 | H98: =I98+J98 -> -200000 | I98: =I99 -> -200000 | J98: =J99 -> 0
D99: ՈՉ ՖԻՆԱՆՍԱԿԱՆ ԱԿՏԻՎՆԵՐԻ ԳԾՈՎ ԾԱԽՍԵՐ | E99: =F99+G99 -> 0 | F99: =F100 -> 0 | G99: =G100 -> 0 | H99: =I99+J99 -> -200000 | I99: =I100 -> -200000 | J99: =J100 -> 0
D100: ՀԻՄՆԱԿԱՆ ՄԻՋՈՑՆԵՐ | E100: =F100+G100 -> 0 | F100: =F101 -> 0 | G100: =G101 -> 0 | H100: =I100+J100 -> -200000 | I100: =I101 -> -200000 | J100: =J101 -> 0
D101: ԱՅԼ ՀԻՄՆԱԿԱՆ ՄԻՋՈՑՆԵՐ | E101: =F101+G101 -> 0 | F101: =F102 -> 0 | G101: =G102 -> 0 | H101: =I101+J101 -> -200000 | I101: =I102 -> -200000 | J101: =J102 -> 0
...

Sheet h4
I1: Հավելված 4
I2: ՀՀ կառավարության 2024 թվականի
I3: " " " " N -Ն որոշման
A5: «ՀԱՅԱՍՏԱՆԻ ՀԱՆՐԱՊԵՏՈՒԹՅԱՆ 2024 ԹՎԱԿԱՆԻ ՊԵՏԱԿԱՆ ԲՅՈՒՋԵԻ ՄԱՍԻՆ» ՕՐԵՆՔԻ N 1 ՀԱՎԵԼՎԱԾԻ N 5 ԱՂՅՈՒՍԱԿՈՒՄ ԿԱՏԱՐՎՈՂ ՎԵՐԱԲԱՇԽՈՒՄԸ ԵՎ ՀԱՅԱՍՏԱՆԻ ՀԱՆՐԱՊԵՏՈՒԹՅԱՆ ԿԱՌԱՎԱՐՈՒԹՅԱՆ 2023 ԹՎԱԿԱՆԻ ԴԵԿՏԵՄԲԵՐԻ 28-Ի N 2323-Ն ՈՐՈՇՄԱՆ N5 ՀԱՎԵԼՎԱԾԻ N 4 ԱՂՅՈՒՍԱԿՈՒՄ ԿԱՏԱՐՎՈՂ ՓՈՓՈԽՈՒԹՅՈՒՆՆԵՐԸ
I7: (հազ. դրամ)
A8: Ծրագրային դասիչը | C8: Բյուջետային հատկացումների գլխավոր կարգադրիչների, ծրագրերի, միջոցառումների և միջոցառումները կատարող պետական մարմինների անվանումները | D8: Ցուցանիշների փոփոխությունը (ավելացումները նշված են դրական նշանով)
D9: Ինն ամիս | G9: Տարի
D10: Ընդամենը | E10: այդ թվում` | G10: Ընդամենը | H10: այդ թվում`
A11: Ծրագիր | B11: Միջոց առում | E11: Դրամաշնորհային միջոցներ | F11: Համաֆինան սավորում | H11: Դրամաշնորհային միջոցներ | I11: Համաֆինան սավորում
C12: ԸՆԴԱՄԵՆԸ | D12: =E12+F12 -> 30000 | E12: =+E15+E14 -> 0 | F12: =+F15+F14 -> 30000 | G12: =H12+I12 -> 30000 | H12: =+H15+H14 -> 0 | I12: =+I15+I14 -> 30000
C13: այդ թվում`
C14: ԸՆԹԱՑԻԿ ԾԱԽՍԵՐ | D14: =E14+F14 -> 0 | E14: 0 | F14: 0 | G14: =H14+I14 -> 0 | H14: 0 | I14: 0
C15: ՈՉ ՖԻՆԱՆՍԱԿԱՆ ԱԿՏԻՎՆԵՐԻ ԳԾՈՎ ԾԱԽՍԵՐ | D15: =E15+F15 -> 30000 | E15: =+E16 -> 0 | F15: =+F16 -> 30000 | G15: =H15+I15 -> 30000 | H15: =+H16 -> 0 | I15: =+I16 -> 30000
A16: 1049 | C16: Ճանապարհային ցանցի բարելավում | D16: =+D18 -> 30000 | E16: =+E18 -> 0 | F16: =+F18 -> 30000 | G16: =+G18 -> 30000 | H16: =+H18 -> 0 | I16: =+I18 -> 30000
C17: այդ թվում`
B18: 21014 | C18: Եվրոպական ներդրումային բանկի աջակցությամբ իրականացվող Մ6 Վանաձոր-Ալավերդի-Վրաստանի սահման միջպետական նշանակության ճանապարհի անվտանգության բարելավման դրամաշնորհային ծրագիր | D18: =E18+F18 -> 30000 | E18: =+E20 -> 0 | F18: =+F20 -> 30000 | G18: =H18+I18 -> 30000 | H18: =+H20 -> 0 | I18: =+I20 -> 30000
C19: այդ թվում` ըստ կատարողների
C20: ՀՀ տարածքային կառավարման և ենթակառուցվածքների նախարարություն | D20: =+E20+F20 -> 30000 | E20: =+E22 -> 0 | F20: =+F22 -> 30000 | G20: =+H20+I20 -> 30000 | H20: =+H22 -> 0 | I20: =+I22 -> 30000
C21: այդ թվում` բյուջետային ծախսերի տնտեսագիտական դասակարգման հոդվածներ
C22: ԸՆԴԱՄԵՆԸ ԾԱԽՍԵՐ | D22: =+E22+F22 -> 30000 | E22: =+E23 -> 0 | F22: =+F23 -> 30000 | G22: =+H22+I22 -> 30000 | H22: =+H23 -> 0 | I22: =+I23 -> 30000
C23: ՈՉ ՖԻՆԱՆՍԱԿԱՆ ԱԿՏԻՎՆԵՐԻ ԳԾՈՎ ԾԱԽՍԵՐ | D23: =+E23+F23 -> 30000 | E23: =+E24 -> 0 | F23: =+F24 -> 30000 | G23: =+H23+I23 -> 30000 | H23: =+H24 -> 0 | I23: =+I24 -> 30000
C24: ՀԻՄՆԱԿԱՆ ՄԻՋՈՑՆԵՐ | D24: =+E24+F24 -> 30000 | E24: =+E25 -> 0 | F24: =+F25 -> 30000 | G24: =+H24+I24 -> 30000 | H24: =+H25 -> 0 | I24: =+I25 -> 30000
C25: ՇԵՆՔԵՐ ԵՎ ՇԻՆՈՒԹՅՈՒՆՆԵՐ | D25: =+E25+F25 -> 30000 | E25: =+E26 -> 0 | F25: =+F26 -> 30000 | G25: =+H25+I25 -> 30000 | H25: =+H26 -> 0 | I25: =+I26 -> 30000
C26: - Շենքերի և շինությունների շինարարություն | D26: =+E26+F26 -> 30000 | E26: 0 | F26: 30000 | G26: =+H26+I26 -> 30000 | H26: =+E26 -> 0 | I26: =+F26 -> 30000

Sheet h5
D1: Հավելված N 5
D2: ՀՀ կառավարության 2024 թվականի
D3: ______________ ի ___Ն որոշման
A5: ՀԱՅԱՍՏԱՆԻ ՀԱՆՐԱՊԵՏՈՒԹՅԱՆ ԿԱՌԱՎԱՐՈՒԹՅԱՆ 2023 ԹՎԱԿԱՆԻ ԴԵԿՏԵՄԲԵՐԻ 28-Ի N 2323-Ն ՈՐՈՇՄԱՆ NN 9 ԵՎ N 9.1 ՀԱՎԵԼՎԱԾՆԵՐԻ NN 9.7 ԵՎ 9.1․7 ԱՂՅՈՒՍԱԿՆԵՐՈՒՄ ԿԱՏԱՐՎՈՂ ՓՈՓՈԽՈՒԹՅՈՒՆՆԵՐԸ ԵՎ ԼՐԱՑՈՒՄՆԵՐԸ
D6: Աղյուսակ 9.7
D7: Աղյուսակ 9.1.7
A8: ՀՀ ՏԱՐԱԾՔԱՅԻՆ ԿԱՌԱՎԱՐՄԱՆ ԵՎ ԵՆԹԱԿԱՌՈՒՑՎԱԾՔՆԵՐԻ ՆԱԽԱՐԱՐՈՒԹՅՈՒՆ
A9: ՄԱՍ 1, 2. ՊԵՏԱԿԱՆ ՄԱՐՄՆԻ ԳԾՈՎ ԱՐԴՅՈՒՆՔԱՅԻՆ (ԿԱՏԱՐՈՂԱԿԱՆ) ՑՈՒՑԱՆԻՇՆԵՐԸ
A11: Ծրագրի դասիչը | B11: Ծրագրի անվանումը
A12: 1049 | B12: Ճանապարհային ցանցի բարելավում
A14: Ծրագրի միջոցառումները
A15: Ծրագրի դասիչը` | B15: 1049 | C15: Ցուցանիշների փոփոխությունը (ավելացումները նշված են դրական նշանով)
A16: Միջոցառման դասիչը` | B16: 11009 | C16: Ինն ամիս | D16: Տարի
A17: Միջոցառման անվանումը` | B17: Ասիական զարգացման բանկի աջակցությամբ իրականացվող Հյուսիս-հարավ միջանցքի զարգացման ծրագրի համակարգում և կառավարում ( Տրանշ 2)
A18: Նկարագրությունը` | B18: Խորհրդատվական ծառայություններ և պահպանման ծախսեր
A19: Միջոցառման տեսակը` | B19: Ծառայությունների մատուցում
A20: Միջոցառումն իրականացնողի անվանումը՛ | B20: Մասնագիտացված միավոր
A21: Արդյունքի չափորոշիչներ
A22: Հողերի օտարում, շահառուների քանակ | D22: 30
A23: Միջոցառման վրա կատարվող ծախսը (հազար դրամ) | C23: ='h1'!D20 -> 5000 | D23: ='h1'!E20 -> 105000
A25: Ծրագրի դասիչը` | B25: 1049 | C25: Ցուցանիշների փոփոխությունը (նվազեցումները նշված են փակագծերում)
A26: Միջոցառման դասիչը` | B26: 11020 | C26: Ինն ամիս | D26: Տարի
A27: Միջոցառման անվանումը` | B27: Հյուսիս-հարավ ճանապարհային միջանցքի զարգացման ծրագրի Գյումրու շրջանցիկ ճանապարհի համակարգում և կառավարում, Տրանշ 5
A28: Նկարագրությունը` | B28: Հյուսիս-հարավ ճանապարհային միջանցքի զարգացման ծրագրի Գյումրու շրջանցիկ ճանապարհի շրջանակներում հողերի օտարում
A29: Միջոցառման տեսակը` | B29: Ծառայությունների մատուցում
A30: Միջոցառումն իրականացնողի անվանումը՛ | B30: Մասնագիտացված միավոր
A31: Արդյունքի չափորոշիչներ
A32: Հողերի օտարում, շահառուների քանակ | D32: -300
A33: ՀՕՏԾ իրականացման ծառայություն | D33: -1
A34: Միջոցառման վրա կատարվող ծախսը (հազար դրամ) | C34: ='h1'!D26 -> -5000 | D34: ='h1'!E26 -> -5000
A36: Ծրագրի դասիչը` | B36: 1049 | C36: Ցուցանիշների փոփոխությունը (ավելացումները նշված են դրական նշանով)
C37: Ինն ամիս | D37: Տարի
A38: Միջոցառման դասիչը` | B38: 21006
A39: Միջոցառման անվանումը` | B39: Ասիական զարգացման բանկի աջակցությամբ իրականացվող Հյուսիս-հարավ միջանցքի զարգացման վարկային ծրագիր, Տրանշ 2
A40: Նկարագրությունը` | B40: Աշտարակ-Թալին 29+600կմ-71+500կմ հատվածի կառուցում
A41: Միջոցառման տեսակը` | B41: Հանրության կողմից անմիջականորեն օգտագործվող ակտիվների հետ կապված միջոցառումներ
A42: Միջոցառումն իրականացնողի անվանումը | B42: Մասնագիտացված միավոր
A43: Արդյունքի չափորոշիչներ
A44: Միջոցառման վրա կատարվող ծախսը (հազար դրամ) | C44: =+'h3'!E36 -> 2700000 | D44: =+'h3'!H36 -> 3300000
A46: Ծրագրի դասիչը` | B46: 1049 | C46: Ցուցանիշների փոփոխությունը (ավելացումները նշված են դրական նշանով)
A47: Միջոցառման դասիչը` | B47: 21008 | C47: Ինն ամիս | D47: Տարի
A48: Միջոցառման անվանումը` | B48: Վերակառուցման և զարգացման եվրոպական բանկի աջակցությամբ իրականացվող ՀՀ պետական սահմանի Բագրատաշեն անցման կետի կամրջի վերակառուցման վարկային ծրագիր
A49: Նկարագրությունը` | B49: Նոր կամրջի կառուցման շինարարական աշխատանքներ
A50: Միջոցառման տեսակը` | B50: Հանրության կողմից անմիջականորեն օգտագործվող ակտիվների հետ կապված միջոցառումներ
A51: Միջոցառումն իրականացնողի անվանումը՛ | B51: Մասնագիտացված միավոր
A52: Արդյունքի չափորոշիչներ
A53: Պայմանագրերի քանակը, հատ այդ թվում՛ | D53: =+D54 -> 1
A54: Տեխնիկական հսկողություն, հատ | D54: 1
A55: Միջոցառման վրա կատարվող ծախսը (հազար դրամ) | C55: =+'h2'!G52 -> 0 | D55: =+'h2'!H52 -> 0
A57: Ծրագրի դասիչը` | B57: 1049 | C57: Ցուցանիշների փոփոխությունը (ավելացումները նշված են դրական նշանով)
A58: Միջոցառման դասիչը` | B58: 21009 | C58: Ինն ամիս | D58: Տարի
A59: Միջոցառման անվանումը` | B59: Եվրոպական ներդրումային բանկի աջակցությամբ իրականացվող Հյուսիս-հարավ միջանցքի զարգացման վարկային ծրագիր, Տրանշ 3
A60: Նկարագրությունը` | B60: Լանջիկ-Գյումրի 27.47 կմ երկարությամբ ճանապարհային հատվածի կառուցում
A61: Միջոցառման տեսակը` | B61: Հանրության կողմից անմիջականորեն օգտագործվող ակտիվների հետ կապված միջոցառումներ
A62: Միջոցառումն իրականացնողի անվանումը՛ | B62: Մասնագիտացված միավոր
A63: Արդյունքի չափորոշիչներ
A64: Միջոցառման վրա կատարվող ծախսը (հազար դրամ) | C64: ='h1'!D38 -> 370000 | D64: ='h1'!E38 -> 370000
A66: Ծրագրի դասիչը` | B66: 1049 | C66: Ցուցանիշների փոփոխությունը (նվազեցումները նշված են փակագծերում)
A67: Միջոցառման դասիչը` | B67: 21012 | C67: Ինն ամիս | D67: Տարի
A68: Միջոցառման անվանումը` | B68: Եվրասիական զարգացման բանկի աջակցությամբ իրականացվող Հյուսիս-հարավ միջանցքի զարգացման ծրագիր (Տրանշ 4)
A69: Նկարագրությունը` | B69: Ճանապարհաշինական աշխատանքներ
A70: Միջոցառման տեսակը` | B70: Հանրության կողմից անմիջականորեն օգտագործվող ակտիվների հետ կապված միջոցառումներ
A71: Միջոցառումն իրականացնողի անվանումը՛ | B71: Մասնագիտացված միավոր
A72: Արդյունքի չափորոշիչներ
A73: Միջոցառման վրա կատարվող ծախսը (հազար դրամ) | C73: =+'h2'!G72 -> -3100000 | D73: =+'h2'!H72 -> -3100000
A75: Ծրագրի դասիչը` | B75: 1049 | C75: Ցուցանիշների փոփոխությունը (ավելացումները նշված են դրական նշանով)
A76: Միջոցառման դասիչը` | B76: 21014 | C76: Ինն ամիս | D76: Տարի
A77: Միջոցառման անվանումը` | B77: Եվրոպական ներդրումային բանկի աջակցությամբ իրականացվող Մ6 Վանաձոր-Ալավերդի-Վրաստանի սահման միջպետական նշանակության ճանապարհի անվտանգության բարելավման դրամաշնորհային ծրագիր
A78: Նկարագրությունը` | B78: Ճանապարհաշինական աշխատանքներ
A79: Միջոցառման տեսակը` | B79: Հանրության կողմից անմիջականորեն օգտագործվող ակտիվների հետ կապված միջոցառումներ
A80: Միջոցառումն իրականացնողի անվանումը՛ | B80: Մասնագիտացված միավոր
A81: Արդյունքի չափորոշիչներ
A82: Միջոցառման վրա կատարվող ծախսը (հազար դրամ) | C82: =+'h2'!G81 -> 30000 | D82: =+'h2'!H81 -> 30000
A84: Ծրագրի դասիչը` | B84: 1049 | C84: Ցուցանիշների փոփոխությունը (նվազեցումները նշված են փակագծերում)
A85: Միջոցառման դասիչը` | B85: 21017 | C85: Ինն ամիս | D85: Տարի
A86: Միջոցառման անվանումը` | B86: Հյուսիս-հարավ ճանապարհային միջանցքի զարգացման ծրագրի Սիսիան-Քաջարան 60կմ ճանապարհահատվածի կառուցում
A87: Նկարագրությունը` | B87: Սիսիան-Քաջարան 60կմ ճանապարհահատվածի շինարարություն
A88: Միջոցառման տեսակը` | B88: Հանրության կողմից անմիջականորեն օգտագործվող ակտիվների հետ կապված միջոցառումներ
A89: Միջոցառումն իրականացնողի անվանումը՛ | B89: Մասնագիտացված միավոր
A90: Արդյունքի չափորոշիչներ
A91: Կապալի պայմանագրերի քանակը (հատ)այդ թվում՛ | D91: -2
A92: Տեխնիկական հսկողություն, հատ | D92: -1
A93: ՀՕՏԾ նախագծող, իրականացնող, հատ | D93: -1
A94: Միջոցառման վրա կատարվող ծախսը (հազար դրամ) | C94: =+'h2'!G91 -> 0 | D94: =+'h3'!H76 -> -250000
A96: Ծրագրի դասիչը` | B96: 1049 | C96: Ցուցանիշների փոփոխությունը (նվազեցումները նշված են փակագծերում)
A97: Միջոցառման դասիչը` | B97: 21018 | C97: Ինն ամիս | D97: Տարի
A98: Միջոցառման անվանումը` | B98: Հյուսիս-հարավ ճանապարհային միջանցքի զարգացման ծրագրի Քաջարանի թունելի և մոտեցումների կառուցում
A99: Նկարագրությունը` | B99: Քաջարանի թունելի և մոտեցումների շինարարություն
A100: Միջոցառման տեսակը` | B100: Հանրության կողմից անմիջականորեն օգտագործվող ակտիվների հետ կապված միջոցառումներ
A101: Միջոցառումն իրականացնողի անվանումը՛ | B101: Մասնագիտացված միավոր
A102: Արդյունքի չափորոշիչներ
A103: Կապալի պայմանագրերի քանակը (հատ)այդ թվում՛ | D103: -1
A104: Տեխնիկական հսկողություն, հատ | D104: -1
A105: Միջոցառման վրա կատարվող ծախսը (հազար դրամ) | C105: =+'h2'!G103 -> 0 | D105: =+'h3'!H85 -> -250000
A107: Ծրագրի դասիչը` | B107: 1049 | C107: Ցուցանիշների փոփոխությունը (նվազեցումները նշված են փակագծերում)
A108: Միջոցառման դասիչը` | B108: 21021 | C108: Ինն ամիս | D108: Տարի
A109: Միջոցառման անվանումը` | B109: Հյուսիս-հարավ ճանապարհային միջանցքի զարգացման ծրագրի Գյումրու շրջանցիկ ճանապարհի կառուցում և հիմնանորոգում, Տրանշ 5
A110: Նկարագրությունը` | B110: Ճանապարհաշինական աշխատանքներ
A111: Միջոցառման տեսակը` | B111: Հանրության կողմից անմիջականորեն օգտագործվող ակտիվների հետ կապված միջոցառումներ
A112: Միջոցառումն իրականացնողի անվանումը՛ | B112: Մասնագիտացված միավոր
...
