Workbook
Name AgencyCode: #REF!
Name AgencyCode: #REF!
Name AgencyCode: #REF!
Name AgencyCode: #REF!
Name AgencyCode: #REF!
Name AgencyName: #REF!
Name AgencyName: #REF!
Name AgencyName: #REF!
Name AgencyName: #REF!
Name åû: #REF!
Name åû: #REF!
Name davit: #REF!
Name davit: #REF!
Name Functional1: #REF!
Name Functional1: #REF!
Name Functional1: #REF!
Name Functional1: #REF!
Name ggg: #REF!
Name ggg: #REF!
Name mas: #REF!
Name mas: #REF!
Name mass: #REF!
Name mass: #REF!
Name PANature: #REF!
Name PANature: #REF!
Name PANature: #REF!
Name PANature: #REF!
Name PAType: #REF!
Name PAType: #REF!
Name PAType: #REF!
Name PAType: #REF!
Name Performance2: #REF!
Name Performance2: #REF!
Name Performance2: #REF!
Name Performance2: #REF!
Name PerformanceType: #REF!
Name PerformanceType: #REF!
Name PerformanceType: #REF!
Name PerformanceType: #REF!
Name x: #REF!
Name x: #REF!
Name Հավելված: #REF!
Name Հավելված: #REF!
Name Հավելված: #REF!
Name Մաս: #REF!
Name Մաս: #REF!
Name Մաս: #REF!
Name շախմատիստ: #REF!
Name շախմատիստ: #REF!
Name շախմատիստ: #REF!

Sheet h1
D1: Հավելված N 1
D2: ՀՀ կառավարության 2024 թվականի
D3: ______________ ի ___Ն որոշման
B5: ՀԱՅԱՍՏԱՆԻ ՀԱՆՐԱՊԵՏՈՒԹՅԱՆ ԿԱՌԱՎԱՐՈՒԹՅԱՆ 2023 ԹՎԱԿԱՆԻ ԴԵԿՏԵՄԲԵՐԻ 28-Ի N 2323-Ն ՈՐՈՇՄԱՆ N 1 ՀԱՎԵԼՎԱԾԻ N 1 ԱՂՅՈՒՍԱԿՈՒՄ ԿԱՏԱՐՎՈՂ ՓՈՓՈԽՈՒԹՅՈՒՆՆԵՐԸ
D7: հազ. դրամ
B8: Պետական բյուջեի դեֆիցիտի ֆինանսավորման աղբյուրներն ու դրանց տարրերի անվանումները | C8: Ցուցանիշների փոփոխությունը (Ավելացումները նշված են դրական նշանով, իսկ նվազեցումները՝ փակագծերում)
C9: Ինն ամիս | D9: Տարի
B10: ԸՆԴԱՄԵՆԸ | C10: =C12 -> -2541302.8 | D10: =D12 -> 0
B11: այդ թվում՝
B12: Ա. Ներքին աղբյուրներ-ընդամենը | C12: =C13 -> -2541302.8 | D12: =D13 -> 0
B13: 2. Ֆինանսական զուտ ակտիվներ | C13: =C15 -> -2541302.8 | D13: =D15 -> 0
B14: այդ թվում՝
B15: 2.6. Այլ | C15: =C16 -> -2541302.8 | D15: =D16 -> 0
B16: ժամանակավորապես ազատ միջոցներ | C16: ='h4'!G31 -> -2541302.8 | D16: 0
B20: ՀԱՅԱՍՏԱՆԻ ՀԱՆՐԱՊԵՏՈՒԹՅԱՆ ՎԱՐՉԱՊԵՏԻ ԱՇԽԱՏԱԿԱԶՄԻ ՂԵԿԱՎԱՐ՝ | D20: Ա.ՀԱՐՈՒԹՅՈՒՆՅԱՆ

Sheet h2
F1: Հավելված N2
F2: ՀՀ կառավարության 2024 թվականի
F3: ______________ ի ___Ն որոշման
B5: «ՀԱՅԱUՏԱՆԻ ՀԱՆՐԱՊԵՏՈՒԹՅԱՆ 2024 ԹՎԱԿԱՆԻ ՊԵՏԱԿԱՆ ԲՅՈՒՋԵԻ ՄԱUԻՆ» OՐԵՆՔԻ N 1 ՀԱՎԵԼՎԱԾԻ N 2 ԱՂՅՈՒՍԱԿՈՒՄ ԵՎ ՀԱՅԱՍՏԱՆԻ ՀԱՆՐԱՊԵՏՈՒԹՅԱՆ ԿԱՌԱՎԱՐՈՒԹՅԱՆ 2023 ԹՎԱԿԱՆԻ ԴԵԿՏԵՄԲԵՐԻ 28-Ի N 2323-Ն ՈՐՈՇՄԱՆ N 5 ՀԱՎԵԼՎԱԾԻ N 1 ԱՂՅՈՒՍԱԿՈՒՄ ԿԱՏԱՐՎՈՂ ՓՈՓՈԽՈՒԹՅՈՒՆԸ
F6: հազ. դրամ
B7: Ծրագրային դասիչը | D7: Բյուջետային հատկացումների գլխավոր կարգադրիչների, ծրագրերի և միջոցառումների անվանումները | E7: Ցուցանիշների փոփոխությունը (ավելացումները նշված են դրական նշանով, իսկ նվազեցումները` փակագծերում)
B8: Ծրագիր | C8: Միջոցառում | E8: Ինն ամիս | F8: Տարի
B9: 1192 | D9: ԸՆԴԱՄԵՆԸ | E9: =E11 -> -2541302.8 | F9: =F11 -> 0
D10: այդ թվում
D11: ՀՀ տարածքային կառավարման և ենթակառուցվածքների նախարարություն | E11: =E12 -> -2541302.8 | F11: =F12 -> 0
B12: 1049 | D12: Ծրագրի անվանումը` | E12: =E19 -> -2541302.8 | F12: =F19 -> 0
D13: Տարածքային կառավարման ոլորտում քաղաքականության մշակում, ծրագրերի համակարգում և մոնիտորինգի իրականացում
D14: Ծրագրի նպատակը`
D15: Տարածքային կառավարման բնագավառում պետական արդյունավետ քաղաքականության մշակման և իրականացման ապահովում
D16: Վերջնական արդյունքի նկարագրությունը`
D17: Տարածքային կառավարման քաղաքականության իրագործմանն ուղղված ծրագրերի ազդեցության և արդյունավետության բարելավում
D18: Ծրագրի միջոցառումներ
C19: 21020 | D19: Միջոցառման անվանումը` | E19: ='h4'!G23 -> -2541302.8 | F19: =[1]h3!H23 -> 0
D20: Միջպետական և հանրապետական նշանակության ավտոճանապարհների միջին նորոգում
D21: Միջոցառման նկարագրությունը`
D22: Միջպետական և հանրապետական նշանակության ավտոճանապարհների պատվածքի մաշված վերին շերտի վերականգնում և շինարարական նորմերով նախատեսված սկզբնական որակական ցուցանիշների ապահովում
D23: Միջոցառման տեսակը
D24: Հանրության կողմից անմիջականորեն օգտագործվող ակտիվների հետ կապված միջոցառումներ
C28: ՀԱՅԱՍՏԱՆԻ ՀԱՆՐԱՊԵՏՈՒԹՅԱՆ ՎԱՐՉԱՊԵՏԻ ԱՇԽԱՏԱԿԱԶՄԻ ՂԵԿԱՎԱՐ՝ | F28: Ա.ՀԱՐՈՒԹՅՈՒՆՅԱՆ

Sheet h3
H1: Հավելված N 3
H2: ՀՀ կառավարության 2024 թվականի
H3: ______________ ի ___Ն որոշման
A4: «ՀԱՅԱՍՏԱՆԻ ՀԱՆՐԱՊԵՏՈՒԹՅԱՆ 2024 ԹՎԱԿԱՆԻ ՊԵՏԱԿԱՆ ԲՅՈՒՋԵԻ ՄԱՍԻՆ» ՕՐԵՆՔԻ N 1 ՀԱՎԵԼՎԱԾԻ N 3 ԱՂՅՈՒՍԱԿՈՒՄ ԿԱՏԱՐՎՈՂ ՓՈՓՈԽՈՒԹՅՈՒՆՆԵՐԸ ԵՎ ԼՐԱՑՈՒՄՆԵՐԸ
G5: հազ. դրամ
A6: Ծրագրային դասիչ | C6: Բյուջետային գլխավոր կարգադրիչների, ծրագրերի, միջոցառումների և ուղղությունների անվանումները | D6: Ցուցանիշների փոփոխությունը (Ավելացումները նշված են դրական նշանով, իսկ նվազեցումները` փակագծերում)
D7: Ընդամենը, | E7: այդ թվում՝
A8: Ծրագիր | B8: Միջոցառում | E8: Կառուցման աշխատանքներ | F8: Վերակառուցման, վերանորոգման և վերականգնման աշխատանքներ | G8: Նախագծահե- տազոտական, գեոդեզիա- քարտեզագրա- կան աշխա- տանքներ | H8: Ոչ ֆինանսական այլ ակտիվների ձեռքբերում
C9: ԸՆԴԱՄԵՆԸ | D9: 0 | E9: =+E11 -> 0 | F9: =+F11 -> 0 | G9: =+G11 -> 0 | H9: =+H11 -> 0
C10: այդ թվում՝
C11: ՀՀ ՏԱՐԱԾՔԱՅԻՆ ԿԱՌԱՎԱՐՄԱՆ ԵՎ ԵՆԹԱԿԱՌՈՒՑՎԱԾՔՆԵՐԻ ՆԱԽԱՐԱՐՈՒԹՅՈՒՆ | D11: 0 | E11: =+E13+E14 -> 0 | F11: =+F13+F14 -> 0 | G11: =+G13+G14 -> 0 | H11: =+H13+H14 -> 0
C12: այդ թվում`
A13: 1049 | B13: 21020 | C13: Միջպետական և հանրապետական նշանակության ավտոճանապարհների միջին նորոգում | D13: =+E13+F13+G13+H13 -> -4618109.2 | E13: 0 | F13: =-G14-F14-E14 -> -4618109.2 | G13: 0 | H13: 0
A14: 1049 | B14: 21020 | C14: Միջպետական և հանրապետական նշանակության ավտոճանապարհների միջին նորոգում | D14: =+E14+F14+G14+H14 -> 4618109.2 | E14: =E18+E22 -> 0 | F14: =F18+F16 -> 4618109.2 | G14: =G18+G22 -> 0 | H14: 0
C15: այդ թվում`
B16: 1․ | C16: Միջպետական նշանակության ավտոճանապարհներ, այդ թվում | D16: =D17 -> 320100 | E16: =E17 -> 0 | F16: =F17 -> 320100 | G16: =G17 -> 0 | H16: =H17 -> 0
C17: Մ-1 Երևան-Գյումրի- ՀՀ սահման (Բավրա) միջպետական նշանակության ավտոճանապարհի կմ30+128-կմ35+945 հատվածի միջին նորոգում | D17: =E17+F17+G17+H17 -> 320100 | E17: 0 | F17: 320100 | G17: 0 | H17: 0
B18: 2 | C18: Հանրապետական նշանակության ավտոճանապարհներ, այդ թվում | D18: =+E18+F18+G18+H18 -> 4298009.2 | E18: =SUM(E19:E21) -> 0 | F18: =SUM(F19:F28) -> 4298009.2 | G18: =SUM(G19:G21) -> 0 | H18: =SUM(H19:H21) -> 0
C19: =+'h5'!D22 -> Հ-73 /Մ-4/- Պարզ լիճ հանրապետական նշանակության ավտոճանապարհի կմ0+000+կմ2+873 հատվածի միջին նորոգում | D19: =+E19+F19+G19+H19 -> 129600 | E19: 0 | F19: =+'h5'!F22 -> 129600 | G19: 0 | H19: 0
C20: =+'h5'!D23 -> Հ-30 /Մ-4/ -Ճամբարակ -/Հ-7/ հանրապետական նշանակության ավտոճանապարհի կմ41+ 158 + կմ55 + 200 հատվածի միջին նորոգում | D20: =+E20+F20+G20+H20 -> 728899.2 | E20: 0 | F20: =+'h5'!F23 -> 728899.2 | G20: 0 | H20: 0
C21: =+'h5'!D24 -> Հ-58 /Մ-4/ Ոսկեպար-Նոյեմբերյան -/Մ-6/ հանրապետական նշանակության ավտոճանապարհի կմ24+810-կմ29+000 հատվածի միջին նորոգում | D21: =+E21+F21+G21+H21 -> 221470 | E21: 0 | F21: =+'h5'!F24 -> 221470 | G21: 0 | H21: 0
C22: =+'h5'!D25 -> Հ-30 /Մ-4/ -Ճամբարակ -/Հ-7/ հանրապետական նշանակության ավտոճանապարհիկմ 11+000-կմ 18+540 հատվածի միջին նորոգում | D22: =+E22+F22+G22+H22 -> 357600 | E22: 0 | F22: =+'h5'!F25 -> 357600 | G22: 0 | H22: 0
C23: =+'h5'!D26 -> Հ-4 Երևան -Եղվարդ - Արագյուղ - Հարթավան - /Մ3/ հանրապետական նշանակության ավտոճանապարհի կմ33+340 + կմ40+516հատվածի միջին նորոգում | D23: =+E23+F23+G23+H23 -> 288000 | E23: 0 | F23: =+'h5'!F26 -> 288000 | G23: 0 | H23: 0
C24: =+'h5'!D27 -> Հ-1,Վ. Պտղնու տրանսպորտային հանգույց -Աբովյան - Ֆանտան -Ալափարս-Հ-5 հանրապետական նշանակության ավտոճանապարհի կմ21+754 +կմ31 +270 հատվածի և Մ-4,Չարենցավանի տրանսպորտային հանգույցի միջին նորոգում | D24: =+E24+F24+G24+H24 -> 483600 | E24: 0 | F24: =+'h5'!F27 -> 483600 | G24: 0 | H24: 0
C25: =+'h5'!D28 -> Հ-21 /Հ-75/ -Հոռոմ -Արթիկ -Ալագյազ-/Մ-3/ հանրապետական նշանակության ավտոճանապարհի կմ8+ 777 + կմ19 + 107 հատվածի միջին նորոգում | D25: =+E25+F25+G25+H25 -> 565200 | E25: 0 | F25: =+'h5'!F28 -> 565200 | G25: 0 | H25: 0
C26: Հ-30 /Մ-4/ -Ճամբարակ -/Հ-7/ հանրապետական նշանակության ավտոճանապարհի կմ19+ 233 + կմ32 + 000 հատվածի միջին նորոգում | D26: =E26+F26+G26+H26 -> 517740 | E26: 0 | F26: 517740 | G26: 0 | H26: 0
C27: Հ-30 /Մ-4/ -Ճամբարակ -/Հ-7/ հանրապետական նշանակության ավտոճանապարհի կմ34+ 900 + կմ41 + 158 հատվածի միջին նորոգում | D27: =E27+F27+G27+H27 -> 284400 | E27: 0 | F27: 284400 | G27: 0 | H27: 0
C28: Հ-64/Հ-36/ (Բերդ) -Արծվաբերդ-Չինարի հանրապետական նշանակության ավտոճանապարհի կմ 16+400 - կմ 32+660 հատվածի միջին նորոգում | D28: =E28+F28+G28+H28 -> 721500 | E28: 0 | F28: 721500 | G28: 0 | H28: 0
B32: ՀԱՅԱՍՏԱՆԻ ՀԱՆՐԱՊԵՏՈՒԹՅԱՆ ՎԱՐՉԱՊԵՏԻ ԱՇԽԱՏԱԿԱԶՄԻ
C33: ՂԵԿԱՎԱՐ՝ Ա.ՀԱՐՈՒԹՅՈՒՆՅԱՆ

Sheet h4
H1: Հավելված N 4
H2: ՀՀ կառավարության 2024 թվականի
H3: ______________ ի ___Ն որոշման
A5: ՀԱՅԱՍՏԱՆԻ ՀԱՆՐԱՊԵՏՈՒԹՅԱՆ ԿԱՌԱՎԱՐՈՒԹՅԱՆ 2023 ԹՎԱԿԱՆԻ ԴԵԿՏԵՄԲԵՐԻ 28-Ի N 2323-Ն ՈՐՈՇՄԱՆ N 3 ԵՎ N 4 ՀԱՎԵԼՎԱԾՆԵՐՈՒՄ ԿԱՏԱՐՎՈՂ ՓՈՓՈԽՈՒԹՅՈՒՆՆԵՐԸ ԵՎ ԼՐԱՑՈՒՄՆԵՐԸ
H7: հազար դրամներով
A8: Գործառական դասիչը | D8: Ծրագրային դասիչը | F8: Բյուջետային հատկացումների գլխավոր կարգադրիչների, ծրագրերի, միջոցառումների և միջոցառումները կատարող պետական մարմինների անվանումները | G8: Ցուցանիշների փոփոխությունը (ավելացումները նշված են դրական նշանով, իսկ նվազեցումները` փակագծերում)
A9: Բաժին | B9: Խումբ | C9: Դաս | D9: Ծրագիր | E9: Միջոցառում | G9: Ինն ամիս | H9: Տարի
F10: ԸՆԴԱՄԵՆԸ | G10: =+G12 -> -2541302.8 | H10: =+H12 -> 0
F11: այդ թվում
F12: ՀՀ տարածքային կառավարման և ենթակառուցվածքների նախարարություն | G12: =+G13 -> -2541302.8 | H12: =+H13 -> 0
A13: 04 | F13: ՏՆՏԵՍԱԿԱՆ ՀԱՐԱԲԵՐՈՒԹՅՈՒՆՆԵՐ | G13: =G15 -> -2541302.8 | H13: =H15 -> 0
F14: այդ թվում`
B15: 05 | F15: Տրանսպորտ | G15: =G17 -> -2541302.8 | H15: =H17 -> 0
F16: այդ թվում`
C17: 01 | F17: Ճանապարհային տրանսպորտ | G17: =+G19 -> -2541302.8 | H17: =+H19 -> 0
F18: այդ թվում`
F19: ՀՀ տարածքային կառավարման և ենթակառուցվածքների նախարարություն | G19: =+G21 -> -2541302.8 | H19: =+H21 -> 0
F20: այդ թվում`
D21: 1049 | F21: Ճանապարհային ցանցի բարելավում | G21: =+G23 -> -2541302.8 | H21: =+H23 -> 0
F22: այդ թվում`
E23: 21020 | F23: Միջպետական և հանրապետական նշանակության ավտոճանապարհների միջին նորոգում | G23: =G32+G25 -> -2541302.8 | H23: =H32+H25 -> 0
F24: այդ թվում` ըստ կատարողների
F25: ՀՀ կառավարություն | G25: =G27 -> -2541302.8 | H25: =H27 -> -4618109.2
F26: այդ թվում` բյուջետային ծախսերի տնտեսագիտական դասակարգման հոդվածներ
F27: ԸՆԴԱՄԵՆԸ ԾԱԽՍԵՐ | G27: =+G28 -> -2541302.8 | H27: =+H28 -> -4618109.2
F28: ՈՉ ՖԻՆԱՆՍԱԿԱՆ ԱԿՏԻՎՆԵՐԻ ԳԾՈՎ ԾԱԽՍԵՐ | G28: =G29 -> -2541302.8 | H28: =H29 -> -4618109.2
F29: ՀԻՄՆԱԿԱՆ ՄԻՋՈՑՆԵՐ | G29: =G30 -> -2541302.8 | H29: =H30 -> -4618109.2
F30: ՇԵՆՔԵՐ ԵՎ ՇԻՆՈՒԹՅՈՒՆՆԵՐ | G30: =G31 -> -2541302.8 | H30: =H31 -> -4618109.2
F31: - Շենքերի և շինությունների կապիտալ վերանորոգում | G31: ='h5'!E16 -> -2541302.8 | H31: =-H32 -> -4618109.2
F32: ՀՀ տարածքային կառավարման և ենթակառուցվածքների նախարարություն | G32: =G34 -> 0 | H32: =H34 -> 4618109.2
F33: այդ թվում`բյուջետային ծախսերի տնտեսագիտական դասակարգման հոդվածներ
F34: ԸՆԴԱՄԵՆԸ ԾԱԽՍԵՐ | G34: =+G35 -> 0 | H34: =+H35 -> 4618109.2
F35: ՈՉ ՖԻՆԱՆՍԱԿԱՆ ԱԿՏԻՎՆԵՐԻ ԳԾՈՎ ԾԱԽՍԵՐ | G35: =G36 -> 0 | H35: =H36 -> 4618109.2
F36: ՀԻՄՆԱԿԱՆ ՄԻՋՈՑՆԵՐ | G36: =+G37 -> 0 | H36: =+H37 -> 4618109.2
F37: ՇԵՆՔԵՐ ԵՎ ՇԻՆՈՒԹՅՈՒՆՆԵՐ | G37: =+G38 -> 0 | H37: =+H38 -> 4618109.2
F38: - Շենքերի և շինությունների կապիտալ վերանորոգում | G38: 0 | H38: =+'h5'!F17 -> 4618109.2
B41: ՀԱՅԱՍՏԱՆԻ ՀԱՆՐԱՊԵՏՈՒԹՅԱՆ ՎԱՐՉԱՊԵՏԻ ԱՇԽԱՏԱԿԱԶՄԻ
D42: ՂԵԿԱՎԱՐ՝ | F42: Ա.ՀԱՐՈՒԹՅՈՒՆՅԱՆ

Sheet h5
F1: Հավելված N 5
F2: ՀՀ կառավարության 2024 թվականի
F3: ______________ ի ___Ն որոշման
A5: ՀԱՅԱՍՏԱՆԻ ՀԱՆՐԱՊԵՏՈՒԹՅԱՆ ԿԱՌԱՎԱՐՈՒԹՅԱՆ 2023 ԹՎԱԿԱՆԻ ԴԵԿՏԵՄԲԵՐԻ 28-Ի N 2323-Ն ՈՐՈՇՄԱՆ N 5 ՀԱՎԵԼՎԱԾԻ N 2 ԱՂՅՈՒՍԱԿՈՒՄ ԿԱՏԱՐՎՈՂ ՓՈՓՈԽՈՒԹՅՈՒՆՆԵՐԸ ԵՎ ԼՐԱՑՈՒՄՆԵՐԸ
F7: հազար դրամներով
B8: Ծրագրային դասիչը | D8: Հատկացումների տրամադրման նպատակները և բյուջետային գլխավոր կարգադրիչների, ծրագրերի, միջոցառումների և կատարող պետական մարմնի անվանումները | E8: Ցուցանիշների փոփոխությունը (Ավելացումները նշված են դրական նշանով, իսկ նվազեցումները` փակագծերում)
B9: Ծրագիր | C9: Միջոցառում | E9: Ինն ամիս | F9: Տարի
D10: ԸՆԴԱՄԵՆԸ | E10: =+E12 -> -2541302.8 | F10: =+F12 -> 0
D11: այդ թվում՝
D12: ՀՀ ՏԱՐԱԾՔԱՅԻՆ ԿԱՌԱՎԱՐՄԱՆ ԵՎ ԵՆԹԱԿԱՌՈՒՑՎԱԾՔՆԵՐԻ ՆԱԽԱՐԱՐՈՒԹՅՈՒՆ | E12: =+E14 -> -2541302.8 | F12: =+F14 -> 0
D13: այդ թվում`
B14: 1049 | C14: =+'h3'!B13 -> 21020 | D14: ='h4'!F23 -> Միջպետական և հանրապետական նշանակության ավտոճանապարհների միջին նորոգում | E14: =+E16+E17 -> -2541302.8 | F14: =+F16+F17 -> 0
D15: այդ թվում` ըստ կատարողների
D16: ՀՀ կառավարություն | E16: =h6.!D21 -> -2541302.8 | F16: =-F17 -> -4618109.2
D17: ՀՀ տարածքային կառավարման և ենթակառուցվածքների նախարարություն | E17: =+E21+E19 -> 0 | F17: =+F21+F19 -> 4618109.2
D18: այդ թվում՝ ըստ ուղղությունների
C19: 1․ | D19: Միջպետական նշանակության ավտոճանապարհներ, այդ թվում | E19: =E20 -> 0 | F19: =F20 -> 320100
D20: Մ-1 Երևան-Գյումրի- ՀՀ սահման (Բավրա) միջպետական նշանակության ավտոճանապարհի կմ30+128-կմ35+945 հատվածի միջին նորոգում | E20: 0 | F20: ='h3'!F17 -> 320100
C21: 2․ | D21: Հանրապետական նշանակության ավտոճանապարհներ, այդ թվում | E21: =SUM(E22:E30) -> 0 | F21: =SUM(F22:F31) -> 4298009.2
D22: Հ-73 /Մ-4/- Պարզ լիճ հանրապետական նշանակության ավտոճանապարհի կմ0+000+կմ2+873 հատվածի միջին նորոգում | E22: 0 | F22: 129600
D23: Հ-30 /Մ-4/ -Ճամբարակ -/Հ-7/ հանրապետական նշանակության ավտոճանապարհի կմ41+ 158 + կմ55 + 200 հատվածի միջին նորոգում | E23: 0 | F23: 728899.2
D24: Հ-58 /Մ-4/ Ոսկեպար-Նոյեմբերյան -/Մ-6/ հանրապետական նշանակության ավտոճանապարհի կմ24+810-կմ29+000 հատվածի միջին նորոգում | E24: 0 | F24: 221470
D25: Հ-30 /Մ-4/ -Ճամբարակ -/Հ-7/ հանրապետական նշանակության ավտոճանապարհիկմ 11+000-կմ 18+540 հատվածի միջին նորոգում | E25: 0 | F25: 357600
D26: Հ-4 Երևան -Եղվարդ - Արագյուղ - Հարթավան - /Մ3/ հանրապետական նշանակության ավտոճանապարհի կմ33+340 + կմ40+516հատվածի միջին նորոգում | E26: 0 | F26: 288000
D27: Հ-1,Վ. Պտղնու տրանսպորտային հանգույց -Աբովյան - Ֆանտան -Ալափարս-Հ-5 հանրապետական նշանակության ավտոճանապարհի կմ21+754 +կմ31 +270 հատվածի և Մ-4,Չարենցավանի տրանսպորտային հանգույցի միջին նորոգում | E27: 0 | F27: 483600
D28: Հ-21 /Հ-75/ -Հոռոմ -Արթիկ -Ալագյազ-/Մ-3/ հանրապետական նշանակության ավտոճանապարհի կմ8+ 777 + կմ19 + 107 հատվածի միջին նորոգում | E28: 0 | F28: 565200
D29: Հ-30 /Մ-4/ -Ճամբարակ -/Հ-7/ հանրապետական նշանակության ավտոճանապարհի կմ19+ 233 + կմ32 + 000 հատվածի միջին նորոգում | E29: 0 | F29: ='h3'!F26 -> 517740
D30: Հ-30 /Մ-4/ -Ճամբարակ -/Հ-7/ հանրապետական նշանակության ավտոճանապարհի կմ34+ 900 + կմ41 + 158 հատվածի միջին նորոգում | E30: 0 | F30: ='h3'!F27 -> 284400
D31: Հ-64/Հ-36/ (Բերդ) -Արծվաբերդ-Չինարի հանրապետական նշանակության ավտոճանապարհի կմ 16+400 - կմ 32+660 հատվածի միջին նորոգում | E31: 0 | F31: ='h3'!F28 -> 721500
D36: ՀԱՅԱՍՏԱՆԻ ՀԱՆՐԱՊԵՏՈՒԹՅԱՆ ՎԱՐՉԱՊԵՏԻ ԱՇԽԱՏԱԿԱԶՄԻ
D37: ՂԵԿԱՎԱՐ՝ Ա.ՀԱՐՈՒԹՅՈՒՆՅԱՆ

Sheet h6.
E1: Հավելված N 6
E2: ՀՀ կառավարության 2024 թվականի
E3: ______________ ի ___Ն որոշման
B5: ՀԱՅԱՍՏԱՆԻ ՀԱՆՐԱՊԵՏՈՒԹՅԱՆ ԿԱՌԱՎԱՐՈՒԹՅԱՆ 2023 ԹՎԱԿԱՆԻ ԴԵԿՏԵՄԲԵՐԻ 28-Ի N 2323-Ն ՈՐՈՇՄԱՆ N 9 ՀԱՎԵԼՎԱԾԻ NN 9.7 ԱՂՅՈՒՍԱԿՈՒՄ ԿԱՏԱՐՎՈՂ ՓՈՓՈԽՈՒԹՅՈՒՆԸ
E6: Աղյուսակ 9.7
B7: ՀՀ տարածքային կառավարման և ենթակառուցվածքների նախարարություն
B8: ՄԱՍ 2. ՊԵՏԱԿԱՆ ՄԱՐՄՆԻ ԳԾՈՎ ԱՐԴՅՈՒՆՔԱՅԻՆ (ԿԱՏԱՐՈՂԱԿԱՆ) ՑՈՒՑԱՆԻՇՆԵՐԸ
B10: Ծրագրի դասիչը | C10: Ծրագրի անվանումը
B11: 1049 | C11: Ճանապարհային ցանցի բարելավում
B13: Ծրագրի միջոցառումները
B14: Ծրագրի դասիչը` | C14: 1049 | D14: Ցուցանիշների փոփոխությունը (նվազեցումները նշված են փակագծերում)
B15: Միջոցառման դասիչը` | C15: 21020 | D15: Ինն ամիս | E15: Տարի
B16: Միջոցառման անվանումը` | C16: Միջպետական և հանրապետական նշանակության ավտոճանապարհների միջին նորոգում
B17: Նկարագրությունը` | C17: Միջպետական և հանրապետական նշանակության ավտոճանապարհների պատվածքի մաշված վերին շերտի վերականգնում և շինարարական նորմերով նախատեսված սկզբնական որակական ցուցանիշների ապահովում
B18: Միջոցառման տեսակը` | C18: Հանրության կողմից անմիջականորեն օգտագործվող ակտիվների հետ կապված միջոցառումներ
B19: Միջոցառումն իրականացնողի անվանումը | C19: ՀՀ տարածքային կառավարման և ենթակառուցվածքների նախարարություն, մրցութային կարգով ընտրված կազմակերպություններ
B20: Արդյունքի չափորոշիչներ
B21: Միջոցառման վրա կատարվող ծախսը (հազար դրամ) | D21: =[2]h3!G23 -> -2541302.8 | E21: =[2]h3!H23 -> 0
C24: ՀԱՅԱՍՏԱՆԻ ՀԱՆՐԱՊԵՏՈՒԹՅԱՆ ՎԱՐՉԱՊԵՏԻ ԱՇԽԱՏԱԿԱԶՄԻ
C25: ՂԵԿԱՎԱՐ՝
D26: Ա.ՀԱՐՈՒԹՅՈՒՆՅԱՆ

Sheet h7.
E1: Հավելված N 7
E2: ՀՀ կառավարության 2024 թվականի
E3: ______________ ի ___Ն որոշման
B5: ՀԱՅԱՍՏԱՆԻ ՀԱՆՐԱՊԵՏՈՒԹՅԱՆ ԿԱՌԱՎԱՐՈՒԹՅԱՆ 2023 ԹՎԱԿԱՆԻ ԴԵԿՏԵՄԲԵՐԻ 28-Ի N 2323-Ն ՈՐՈՇՄԱՆ N 9.1 ՀԱՎԵԼՎԱԾԻ NN 9.1.7 ԵՎ 9.1.58 ԱՂՅՈՒՍԱԿՆԵՐՈՒՄ ԿԱՏԱՐՎՈՂ ՓՈՓՈԽՈՒԹՅՈՒՆՆԵՐԸ ԵՎ ԼՐԱՑՈՒՄՆԵՐԸ
E7: Աղյուսակ 9.1.7
B8: ՀՀ տարածքային կառավարման և ենթակառուցվածքների նախարարություն
B9: ՄԱՍ 1. ՊԵՏԱԿԱՆ ՄԱՐՄՆԻ ԳԾՈՎ ԱՐԴՅՈՒՆՔԱՅԻՆ (ԿԱՏԱՐՈՂԱԿԱՆ) ՑՈՒՑԱՆԻՇՆԵՐԸ
B11: Ծրագրի դասիչը | C11: Ծրագրի անվանումը
B12: 1049 | C12: Ճանապարհային ցանցի բարելավում
B14: Ծրագրի միջոցառումները
B15: Ծրագրի դասիչը` | C15: 1049 | D15: Ցուցանիշների փոփոխությունը (ավելացումները նշված են դրական նշանով)
B16: Միջոցառման դասիչը` | C16: 21020 | D16: Ինն ամիս | E16: Տարի
B17: Միջոցառման անվանումը` | C17: Միջպետական և հանրապետական նշանակության ավտոճանապարհների միջին նորոգում
B18: Նկարագրությունը` | C18: Միջպետական և հանրապետական նշանակության ավտոճանապարհների պատվածքի մաշված վերին շերտի վերականգնում և շինարարական նորմերով նախատեսված սկզբնական որակական ցուցանիշների ապահովում
B19: Միջոցառման տեսակը` | C19: Հանրության կողմից անմիջականորեն օգտագործվող ակտիվների հետ կապված միջոցառումներ
B20: Միջոցառումն իրականացնողի անվանումը | C20: ՀՀ տարածքային կառավարման և ենթակառուցվածքների նախարարություն, մրցութային կարգով ընտրված կազմակերպություններ
B21: Արդյունքի չափորոշիչներ
B22: =+B42 -> Միջին նորոգման ենթակա ճանապարհների երկարությունը, կիլոմետր | E22: 97.732
B23: =+B43 -> Աշխատանքների ավարտվածության աստիճան, % | E23: 94
B24: Միջոցառման վրա կատարվող ծախսը (հազար դրամ) | D24: =+'h5'!E17 -> 0 | E24: =+'h5'!F17 -> 4618109.2
E27: Աղյուսակ 9.1.58
C28: ՀՀ կառավարություն
B29: ՄԱՍ 1. ՊԵՏԱԿԱՆ ՄԱՐՄՆԻ ԳԾՈՎ ԱՐԴՅՈՒՆՔԱՅԻՆ (ԿԱՏԱՐՈՂԱԿԱՆ) ՑՈՒՑԱՆԻՇՆԵՐԸ
B31: Ծրագրի դասիչը | C31: Ծրագրի անվանումը
B32: 1049 | C32: Ճանապարհային ցանցի բարելավում
B34: Ծրագրի միջոցառումները
B35: Ծրագրի դասիչը` | C35: 1049 | D35: Ցուցանիշների փոփոխությունը (նվազեցումները նշված են փակագծերում)
B36: Միջոցառման դասիչը` | C36: 21020 | D36: Ինն ամիս | E36: Տարի
B37: Միջոցառման անվանումը` | C37: Միջպետական և հանրապետական նշանակության ավտոճանապարհների միջին նորոգում
B38: Նկարագրությունը` | C38: Միջպետական և հանրապետական նշանակության ավտոճանապարհների պատվածքի մաշված վերին շերտի վերականգնում և շինարարական նորմերով նախատեսված սկզբնական որակական ցուցանիշների ապահովում
B39: Միջոցառման տեսակը` | C39: Հանրության կողմից անմիջականորեն օգտագործվող ակտիվների հետ կապված միջոցառումներ
B40: Միջոցառումն իրականացնողի անվանումը | C40: ՀՀ տարածքային կառավարման և ենթակառուցվածքների նախարարություն, մրցութային կարգով ընտրված կազմակերպություններ
C41: Արդյունքի չափորոշիչներ
B42: Միջին նորոգման ենթակա ճանապարհների երկարությունը, կիլոմետր | E42: =-E22 -> -97.732
B43: Աշխատանքների ավարտվածության աստիճան, % | E43: -94
B44: Միջոցառման վրա կատարվող ծախսը (հազար դրամ) | D44: ='h4'!G21 -> -2541302.8 | E44: =-E24 -> -4618109.2
C66: ՀԱՅԱՍՏԱՆԻ ՀԱՆՐԱՊԵՏՈՒԹՅԱՆ ՎԱՐՉԱՊԵՏԻ ԱՇԽԱՏԱԿԱԶՄԻ
C67: ՂԵԿԱՎԱՐ՝
D68: Ա.ՀԱՐՈՒԹՅՈՒՆՅԱՆ

Sheet h8
H1: Հավելված N 8
H2: ՀՀ կառավարության 2024 թվականի
H3: ______________ ի ___Ն որոշման
B5: ՀԱՅԱՍՏԱՆԻ ՀԱՆՐԱՊԵՏՈՒԹՅԱՆ ԿԱՌԱՎԱՐՈՒԹՅԱՆ 2023 ԹՎԱԿԱՆԻ ԴԵԿՏԵՄԲԵՐԻ 28-Ի N 2323-Ն ՈՐՈՇՄԱՆ N 10 ՀԱՎԵԼՎԱԾՈՒՄ ԿԱՏԱՐՎՈՂ ԼՐԱՑՈՒՄՆԵՐԸ
B6: Կոդը | C6: Անվանումը | D6: Գնման ձևը | E6: Չափման միավորը | F6: Միավորի գինը | G6: Ցուցանիշների փոփոխությունը (ավելացումները նշված են դրական նշանով)
G7: Քանակը | H7: Գումարը (հազար դրամով)
B8: ՀՀ տարածքային կառավարման և ենթակառուցվածքների նախարարություն | H8: =+H9 -> 4618109.2
B9: Բաժին N 04 | C9: Խումբ N 05 | D9: Դաս N 01 | E9: Ճանապարհային տրանսպորտ | H9: =+H10 -> 4618109.2
B10: 1049 21020 | C10: =+'h5'!D14 -> Միջպետական և հանրապետական նշանակության ավտոճանապարհների միջին նորոգում | H10: =+H11 -> 4618109.2
B11: ՄԱՍ II. ԱՇԽԱՏԱՆՔՆԵՐ | H11: =+H12+H13+H14+H15+H16+H17+H18+H19+H20+H21+H22 -> 4618109.2
B12: 45231177/591 | C12: ճանապարհների վերանորոգման աշխատանքներ | D12: ՀԲՄ | E12: դրամ | F12: 129600000 | G12: 1 | H12: =+G12*F12/1000 -> 129600
B13: 45231177/593 | C13: ճանապարհների վերանորոգման աշխատանքներ | D13: ՀԲՄ | E13: դրամ | F13: 728899200 | G13: 1 | H13: =+G13*F13/1000 -> 728899.2
B14: 45231177/594 | C14: ճանապարհների վերանորոգման աշխատանքներ | D14: ՀԲՄ | E14: դրամ | F14: 221469984 | G14: 1 | H14: =+G14*F14/1000 -> 221469.98
B15: 45231177/595 | C15: ճանապարհների վերանորոգման աշխատանքներ | D15: ՀԲՄ | E15: դրամ | F15: 357600000 | G15: 1 | H15: =+G15*F15/1000 -> 357600
B16: 45231177/597 | C16: ճանապարհների վերանորոգման աշխատանքներ | D16: ՀԲՄ | E16: դրամ | F16: 288000000 | G16: 1 | H16: =+G16*F16/1000 -> 288000
B17: 45231177/598 | C17: ճանապարհների վերանորոգման աշխատանքներ | D17: ՀԲՄ | E17: դրամ | F17: 483600000 | G17: 1 | H17: =+G17*F17/1000 -> 483600
B18: 45231177/599 | C18: ճանապարհների վերանորոգման աշխատանքներ | D18: ՀԲՄ | E18: դրամ | F18: 565200000 | G18: 1 | H18: =+G18*F18/1000 -> 565200
B19: 45231177/602 | C19: ճանապարհների վերանորոգման աշխատանքներ | D19: ՀԲՄ | E19: դրամ | F19: =H19*1000 -> 517740000 | G19: 1 | H19: 517740
B20: 45231177/604 | C20: =C19 -> ճանապարհների վերանորոգման աշխատանքներ | D20: =D19 -> ՀԲՄ | E20: =E19 -> դրամ | F20: =H20*1000 -> 284400000 | G20: 1 | H20: 284400
B21: 45231177/603 | C21: =C20 -> ճանապարհների վերանորոգման աշխատանքներ | D21: =D20 -> ՀԲՄ | E21: =E20 -> դրամ | F21: =H21*1000 -> 320100000 | G21: 1 | H21: 320100
B22: 45231177/605 | C22: =C21 -> ճանապարհների վերանորոգման աշխատանքներ | D22: =D21 -> ՀԲՄ | E22: =E21 -> դրամ | F22: =H22*1000 -> 721500000 | G22: 1 | H22: ='h5'!F31 -> 721500
C30: ՀԱՅԱՍՏԱՆԻ ՀԱՆՐԱՊԵՏՈՒԹՅԱՆ ՎԱՐՉԱՊԵՏԻ ԱՇԽԱՏԱԿԱԶՄԻ
E31: ՂԵԿԱՎԱՐ՝ | G31: Ա.ՀԱՐՈՒԹՅՈՒՆՅԱՆ
