Workbook

Sheet Հավելված 1
D1: Հավելված 1
D2: ՀՀ կառավարության 2024 թվականի -ի N -Ն որոշման
A3: ՀԱՅԱՍՏԱՆԻ ՀԱՆՐԱՊԵՏՈՒԹՅԱՆ 2024 ԹՎԱԿԱՆԻ ՊԵՏԱԿԱՆ ԲՅՈՒՋԵԻ ՄԱՍԻՆ ՕՐԵՆՔԻ N 1 ՀԱՎԵԼՎԱԾԻ N 2 ԱՂՅՈՒՍԱԿՈՒՄ ԿԱՏԱՐՎՈՂ ՎԵՐԱԲԱՇԽՈՒՄԸ, ՓՈՓՈԽՈՒԹՅՈՒՆՆԵՐՆ ՈՒ ԼՐԱՑՈՒՄՆԵՐԸ ԵՎ ՀԱՅԱՍՏԱՆԻ ՀԱՆՐԱՊԵՏՈՒԹՅԱՆ ԿԱՌԱՎԱՐՈՒԹՅԱՆ 2023 ԹՎԱԿԱՆԻ ԴԵԿՏԵՄԲԵՐԻ 28-Ի N 2323-Ն ՈՐՈՇՄԱՆ N 5 ՀԱՎԵԼՎԱԾԻ N1 ԱՂՅՈՒՍԱԿՈՒՄ ԿԱՏԱՐՎՈՂ ՓՈՓՈԽՈՒԹՅՈՒՆՆԵՐԸ ԵՎ ԼՐԱՑՈՒՄՆԵՐԸ
D4: հազար դրամ
A5: Ծրագրային դասիչը | C5: Բյուջետային գլխավոր կարգադրիչների, ծրագրերի և միջոցառումների անվանումները | D5: Ցուցանիշների փոփոխությունը (ավելացումները նշված են դրական նշանով, իսկ նվազեցումները՝ փակագծերում)
A6: Ծրագիր | B6: Միջոցառում | D6: Ինն ամիս | E6: Տարի
C7: ԸՆԴԱՄԵՆԸ ԾԱԽՍԵՐ | D7: =SUM(D8) -> 0 | E7: =SUM(E8) -> 0.02574
C8: ՀՀ ԲԱՐՁՐ ՏԵԽՆՈԼՈԳԻԱԿԱՆ ԱՐԴՅՈՒՆԱԲԵՐՈՒԹՅԱՆ ՆԱԽԱՐԱՐՈՒԹՅՈՒՆ | D8: =SUM(D9+D28) -> 0 | E8: =SUM(E9+E28) -> 0.02574
A9: 1043 | C9: Ծրագրի անվանումը` | D9: =SUM(D16+D22) -> 15782.4 | E9: =SUM(E16+E22) -> 1948179.5
C10: Բարձր տեխնոլոգիական արդյունաբերության էկոհամակարգի և շուկայի զարգացման ծրագիր
C11: Ծրագրի նպատակը`
C12: Բարձր տեխնոլոգիաների ենթակառուցվածքների բարելավում
C13: Վերջնական արդյունքի նկարագրությունը`
C14: Բարձր տեխնոլոգիաների ոլորտի աճ
A15: Ծրագրի միջոցառումներ
B16: 21001 | C16: Միջոցառման անվանումը` | D16: 0 | E16: 1880215.1
C17: Ինժեներական բիզնես աքսելերատորի շենքի կառուցման և կահավորման շարունակականության ապահովում
C18: Միջոցառման նկարագրությունը`
C19: Ինժեներական բիզնես աքսելերատորի շենքի կառուցման շարունակականության ապահովման նպատակով շինարարական աշխատանքների իրականացում, ավտոկայանատեղիների կառուցում, տարածքի բարեկարգում և սարքավորումների ձեռքբերում
C20: Միջոցառման տեսակը
C21: Հանրության կողմից անմիջականորեն օգտագործվող ակտիվների հետ կապված միջոցառումներ
B22: 11022 | C22: Միջոցառման անվանումը` | D22: 15782.4 | E22: 67964.4
C23: Ինժեներական բիզնես աքսելերատորի շենքի և ընդհանուր ենթակառուցվածքների համակարգման, պահպանման, սպասարկման աշխատանքների իրականացում
C24: Միջոցառման նկարագրությունը`
C25: Ինժեներական բիզնես աքսելերատորի շենքի կառուցման շարունակականության ապահովման նպատակով հաշվետվությունների կազմում, պահպանման աշխատանքների իրականացում
C26: Միջոցառման տեսակը
C27: Ծառայությունների մատուցում
A28: 1235 | C28: Ծրագրի անվանումը` | D28: =SUM(D35) -> -15782.4 | E28: =SUM(E35) -> -1948179.5
C29: Թվային փոխակերպման գործընթացի իրականացում
C30: Ծրագրի նպատակը`
C31: Պետական մարմինների կողմից իրականացվող թվային փոխակերպման միջոցառումների ֆինանսավորում
C32: Վերջնական արդյունքի նկարագրությունը`
C33: Թվային ծառայությունների և համակարգերի ներդրում
A34: Ծրագրի միջոցառումներ
B35: 31001 | C35: Միջոցառման անվանումը` | D35: -15782.4 | E35: -1948179.5
C36: Միասնական թվային միջավայրի ձևավորում
C37: Միջոցառման նկարագրությունը`
C38: Թվային փոխակերպման գործընթացի շրջանակներում թվայնացման համակարգերի ներդրում և կայքերի արդիականացում
C39: Միջոցառման տեսակը
C40: Պետական մարմինների կողմից օգտագործվող ոչ ֆինանսական ակտիվների հետ գործառնություններ
...

Sheet Հավելված 2
H1: Հավելված 2
G2: ՀՀ կառավարության 2024 թվականի -ի N -Ն որոշման
B3: ՀԱՅԱՍՏԱՆԻ ՀԱՆՐԱՊԵՏՈՒԹՅԱՆ ԿԱՌԱՎԱՐՈՒԹՅԱՆ 2023 ԹՎԱԿԱՆԻ ԴԵԿՏԵՄԲԵՐԻ 28-Ի N 2323-Ն ՈՐՈՇՄԱՆ N 3 ԵՎ 4 ՀԱՎԵԼՎԱԾՆԵՐՈՒՄ ԿԱՏԱՐՎՈՂ ՓՈՓՈԽՈՒԹՅՈՒՆՆԵՐԸ ԵՎ ԼՐԱՑՈՒՄՆԵՐԸ
H5: հազար դրամ
A6: Գործառական դասիչը | D6: Ծրագրային դասիչը | F6: Բյուջետային ծախսերի գործառական դասակարգման բաժինների, խմբերի և դասերի, բյուջետային ծրագրերի միջոցառումների, բյուջետային հատկացումների գլխավոր կարգադրիչների անվանումները | G6: Ցուցանիշների փոփոխությունը (ավելացումները նշված են դրական նշանով, իսկ նվազեցումները՝ փակագծերում)
G7: Ինն ամիս | H7: Տարի
A8: Բաժին | B8: Խումբ | C8: Դաս | D8: Ծրագիր | E8: Միջոցա ռում
F9: ԸՆԴԱՄԵՆԸ ԾԱԽՍԵՐ | G9: =SUM(G10) -> 0 | H9: =SUM(H10) -> 0.02574
F10: ՀՀ ԲԱՐՁՐ ՏԵԽՆՈԼՈԳԻԱԿԱՆ ԱՐԴՅՈՒՆԱԲԵՐՈՒԹՅԱՆ ՆԱԽԱՐԱՐՈՒԹՅՈՒՆ | G10: =SUM(G11) -> 0 | H10: =SUM(H11) -> 0.02574
A11: 01 | F11: ԸՆԴՀԱՆՈՒՐ ԲՆՈՒՅԹԻ ՀԱՆՐԱՅԻՆ ԾԱՌԱՅՈՒԹՅՈՒՆՆԵՐ | G11: =SUM(G13) -> 0 | H11: =SUM(H13) -> 0.02574
F12: այդ թվում`
B13: 03 | F13: Ընդհանուր բնույթի ծառայություններ | G13: =SUM(G15) -> 0 | H13: =SUM(H15) -> 0.02574
F14: այդ թվում`
C15: 02 | F15: Ծրագրման և վիճակագրական ընդհանուր ծառայություններ | G15: =SUM(G17+G40) -> 0 | H15: =SUM(H17+H40) -> 0.02574
F16: այդ թվում`
D17: 1043 | F17: Բարձր տեխնոլոգիական արդյունաբերության էկոհամակարգի և շուկայի զարգացման ծրագիր | G17: =SUM(G19+G31) -> 15782.4 | H17: =SUM(H19+H31) -> 1948179.5
F18: այդ թվում`
E19: 21001 | F19: Ինժեներական բիզնես աքսելերատորի շենքի կառուցման և կահավորման շարունակականության ապահովում | G19: =SUM(G21) -> 0 | H19: =SUM(H21) -> 1880215.1
F20: այդ թվում` ըստ կատարողների
F21: ՀՀ բարձր տեխնոլոգիական արդյունաբերության նախարարություն | G21: =SUM(G23) -> 0 | H21: =SUM(H23) -> 1880215.1
F22: այդ թվում` բյուջետային ծախսերի տնտեսագիտական դասակարգման հոդվածներ
F23: ԸՆԴԱՄԵՆԸ ԾԱԽՍԵՐ | G23: =SUM(G24) -> 0 | H23: =SUM(H24) -> 1880215.1
F24: ՈՉ ՖԻՆԱՆՍԱԿԱՆ ԱԿՏԻՎՆԵՐԻ ԳԾՈՎ ԾԱԽՍԵՐ | G24: =SUM(G25) -> 0 | H24: =SUM(H25) -> 1880215.1
F25: ՀԻՄՆԱԿԱՆ ՄԻՋՈՑՆԵՐ | G25: =SUM(G26+G29) -> 0 | H25: =SUM(H26+H29) -> 1880215.1
F26: ՇԵՆՔԵՐ ԵՎ ՇԻՆՈՒԹՅՈՒՆՆԵՐ | G26: =SUM(G27:G28) -> 0 | H26: =SUM(H27:H28) -> 1552392.1
F27: - Շենքերի և շինությունների շինարարություն | G27: 0 | H27: 1517575.2
F28: - Շենքերի և շինությունների կապիտալ վերանորոգում | G28: 0 | H28: 34816.9
F29: ՄԵՔԵՆԱՆԵՐ ԵՎ ՍԱՐՔԱՎՈՐՈՒՄՆԵՐ | G29: 0 | H29: =H30 -> 327823
F30: - Վարչական սարքավորումներ | G30: 0 | H30: 327823
E31: 11022 | F31: Ինժեներական բիզնես աքսելերատորի շենքի և ընդհանուր ենթակառուցվածքների համակարգման, պահպանման, սպասարկման աշխատանքների իրականացում | G31: =SUM(G33) -> 15782.4 | H31: =SUM(H33) -> 67964.4
F32: այդ թվում` ըստ կատարողների
F33: ՀՀ բարձր տեխնոլոգիական արդյունաբերության նախարարություն | G33: =SUM(G35) -> 15782.4 | H33: =SUM(H35) -> 67964.4
F34: այդ թվում` բյուջետային ծախսերի տնտեսագիտական դասակարգման հոդվածներ
F35: ԸՆԴԱՄԵՆԸ ԾԱԽՍԵՐ | G35: =G36 -> 15782.4 | H35: =H36 -> 67964.4
F36: ԸՆԹԱՑԻԿ ԾԱԽՍԵՐ | G36: =G37 -> 15782.4 | H36: =H37 -> 67964.4
F37: ԾԱՌԱՅՈՒԹՅՈՒՆՆԵՐԻ ԵՎ ԱՊՐԱՆՔՆԵՐԻ ՁԵՌՔԲԵՐՈՒՄ | G37: =SUM(G39) -> 15782.4 | H37: =SUM(H39) -> 67964.4
F38: Պայմանագրային այլ ծառայությունների ձեռքբերում | G38: 15782.4 | H38: 67964.4
F39: - Ընդհանուր բնույթի այլ ծառայություններ | G39: 15782.4 | H39: 67964.4
D40: 1235 | F40: Թվային փոխակերպման գործընթացի իրականացում | G40: =SUM(G42) -> -15782.4 | H40: =SUM(H42) -> -1948179.5
F41: այդ թվում`
...

Sheet Հավելված 3
D1: Հավելված 3
D2: ՀՀ կառավարության 2024 թվականի -ի N -Ն որոշման
A4: ՀԱՅԱՍՏԱՆԻ ՀԱՆՐԱՊԵՏՈՒԹՅԱՆ ԿԱՌԱՎԱՐՈՒԹՅԱՆ 2023 ԹՎԱԿԱՆԻ ԴԵԿՏԵՄԲԵՐԻ 28-Ի N 2323-Ն ՈՐՈՇՄԱՆ N 5 ՀԱՎԵԼՎԱԾԻ N 2 ԱՂՅՈՒՍԱԿՈՒՄ ԿԱՏԱՐՎՈՂ ՓՈՓՈԽՈՒԹՅՈՒՆՆԵՐԸ ԵՎ ԼՐԱՑՈՒՄՆԵՐԸ
E5: (հազ. դրամ)
A6: Շրագրային դասիչը | C6: Բյուջետային գլխավոր կարգադրիչների, ծրագրերի, միջոցառումների և ուղղությունների անվանումները | D6: Ցուցանիշների փոփոխությունը (ավելացումները նշված են դրական նշանով, իսկ նվազեցումները՝ փակագծերում)
A8: Ծրագիր | B8: Միջոցառում | D8: Ինն ամիս | E8: Տարի
C9: ԸՆԴԱՄԵՆԸ | D9: =+D11 -> -15782.4 | E9: =+E11 -> -67964.374
C10: այդ թվում`
C11: ՀՀ ԲԱՐՁՐ ՏԵԽՆՈԼՈԳԻԱԿԱՆ ԱՐԴՅՈՒՆԱԲԵՐՈՒԹՅԱՆ ՆԱԽԱՐԱՐՈՒԹՅՈՒՆ | D11: =SUM(D12+D15) -> -15782.4 | E11: =SUM(E12+E15) -> -67964.374
A12: 1043 | B12: 21001 | C12: Ինժեներական բիզնես աքսելերատորի շենքի կառուցման և կահավորման շարունակականության ապահովում | D12: =SUM(D14:D14) -> 0 | E12: =SUM(E14:E14) -> 1880215.1
C13: այդ թվում` ըստ կատարողների
C14: ՀՀ բարձր տեխնոլոգիական արդյունաբերության նախարարություն | D14: 0 | E14: 1880215.1
A15: 1235 | B15: 31001 | C15: Միասնական թվային միջավայրի ձևավորում | D15: =SUM(D17:D17) -> -15782.4 | E15: =SUM(E17:E17) -> -1948179.5
C16: այդ թվում` ըստ կատարողների
C17: ՀՀ կառավարություն | D17: -15782.4 | E17: -1948179.5

Sheet Հավելված 4
F1: Հավելված N 4
D2: ՀՀ կառավարության 2024 թվականի -ի N -Ն որոշման
A5: ՀԱՅԱՍՏԱՆԻ ՀԱՆՐԱՊԵՏՈՒԹՅԱՆ 2024 ԹՎԱԿԱՆԻ ՊԵՏԱԿԱՆ ԲՅՈՒՋԵԻ ՄԱՍԻՆ ՕՐԵՆՔԻ N 1 ՀԱՎԵԼՎԱԾԻ N 3 ԱՂՅՈՒՍԱԿՈՒՄ ԿԱՏԱՐՎՈՂ ՓՈՓՈԽՈՒԹՅՈՒՆՆԵՐԸ ԵՎ ԼՐԱՑՈՒՄՆԵՐԸ
G6: (հազ. դրամ)
A7: Շրագրային դասիչը | C7: Բյուջետային գլխավոր կարգադրիչների, ծրագրերի և միջոցառումների և ուղղությունների անվանումները | D7: Ընդամենը | E7: Ցուցանիշների փոփոխությունը (ավելացումները նշված են դրական նշանով, իսկ նվազեցումները՝ փակագծերում)
A9: Ծրագիր | B9: Միջոցառում | E9: Կառուցման աշխատանքներ | F9: Վերակառուցման, վերանորոգման և վերականգնման աշխատանքներ | G9: Նախագծահե- տազոտական, գեոդեզիա- քարտեզագրական աշխատանքներ | H9: Ոչ ֆինանսական այլ ակտիվների ձեռքբերում
C10: ԸՆԴԱՄԵՆԸ | D10: =SUM(D12) -> -67964.424 | E10: =SUM(E12) -> 1517575.2 | F10: =SUM(F12) -> 34816.85 | G10: =SUM(G12) -> 0 | H10: =SUM(H12) -> -1620356.5
C11: այդ թվում`
C12: ՀՀ ԲԱՐՁՐ ՏԵԽՆՈԼՈԳԻԱԿԱՆ ԱՐԴՅՈՒՆԱԲԵՐՈՒԹՅԱՆ ՆԱԽԱՐԱՐՈՒԹՅՈՒՆ | D12: =SUM(E12:H12) -> -67964.424 | E12: =SUM(E15:E16) -> 1517575.2 | F12: =SUM(F15:F16) -> 34816.85 | G12: =SUM(G15:G16) -> 0 | H12: =SUM(H15:H16) -> -1620356.5
C13: այդ թվում`
A15: 1043 | B15: 21001 | C15: Ինժեներական բիզնես աքսելերատորի շենքի կառուցման և կահավորման շարունակականության ապահովում | D15: =SUM(E15:H15) -> 1880215.1 | E15: 1517575.2 | F15: 34816.85 | H15: 327823
A16: 1235 | B16: 31001 | C16: Միասնական թվային միջավայրի ձևավորում | D16: =SUM(E16:H16) -> -1948179.5 | E16: 0 | F16: 0 | H16: -1948179.5

Sheet Հավելված 5
D1: Հավելված N 5
B2: ՀՀ կառավարության 2024 թվականի N -Ն որոշման
A3: ՀԱՅԱՍՏԱՆԻ ՀԱՆՐԱՊԵՏՈՒԹՅԱՆ ԿԱՌԱՎԱՐՈՒԹՅԱՆ 2023 ԹՎԱԿԱՆԻ ԴԵԿՏԵՄԲԵՐԻ 28-Ի N 2323-Ն ՈՐՈՇՄԱՆ N 9 ՀԱՎԵԼՎԱԾԻ NN 9.16 և 9.48 ԱՂՅՈՒՍԱԿՆԵՐՈՒՄ ԿԱՏԱՐՎՈՂ ՓՈՓՈԽՈՒԹՅՈՒՆՆԵՐԸ ԵՎ ԼՐԱՑՈՒՄՆԵՐԸ
A4: ՀՀ բարձր տեխնոլոգիական արդյունաբերության նախարարություն
A5: ՄԱՍ 2. ՊԵՏԱԿԱՆ ՄԱՐՄՆԻ ԳԾՈՎ ԱՐԴՅՈՒՆՔԱՅԻՆ (ԿԱՏԱՐՈՂԱԿԱՆ) ՑՈՒՑԱՆԻՇՆԵՐԸ
A7: Ծրագրի դասիչը | B7: Ծրագրի անվանումը
A8: 1043 | B8: Բարձր տեխնոլոգիական արդյունաբերության էկոհամակարգի և շուկայի զարգացման ծրագիր
A10: Ծրագրի միջոցառումները
A12: Ծրագրի դասիչը` | B12: 1043 | C12: Ցուցանիշների փոփոխությունը (ավելացումները նշված են դրական նշանով)
A13: Միջոցառման դասիչը` | B13: 21001 | C13: Ինն ամիս | D13: Տարի
A14: Միջոցառման անվանումը` | B14: Ինժեներական բիզնես աքսելերատորի շենքի կառուցման և կահավորման շարունակականության ապահովում
A15: Նկարագրությունը` | B15: Ինժեներական բիզնես աքսելերատորի շենքի կառուցման շարունակականության ապահովման նպատակով շինարարական աշխատանքների իրականացում, ավտոկայանատեղիների կառուցում, տարածքի բարեկարգում և սարքավորումների ձեռքբերում
A16: Միջոցառման տեսակը` | B16: Պետական մարմինների կողմից օգտագործվող ոչ ֆինանսական ակտիվների հետ գործառնություններ
A17: Միջոցառումն իրականացնողի անվանումը՛ | B17: Հանրային իշխանության մարմիններ
A18: Արդյունքի չափորոշիչներ
A20: Ինժեներական բիզնես աքսելերատորի շենքի կառուցում, պայմանագրերի քանակը, հատ | D20: 1
A21: ԻՔ ավտոկայանատեղիների կառուցման և տարածքի բարեկարգման աշխատանքների պայմանագրերի քանակը, հատ | D21: 1
A22: Ինժեներական բիզնես աքսելերատորի շենքի կառուցման և ԻՔ ավտոկայանատեղիների կառուցման և տարածքի բարեկարգման տեխնիկական հսկողություն նպատակով կնքված պայմանագրերի քանակը, հատ | D22: 1
A23: Ինժեներական բիզնես աքսելերատորի շենքի կառուցման ծրագրի ղեկավար, պայմանագրերի քանակը, հատ | D23: 1
A24: Ինժեներական բիզնես աքսելերատորի շենքի կառուցման հեղինակային հսկողության պայմանագրերի քանակը, հատ | D24: 1
A25: ԻՔ ավտոկայանատեղիների կառուցման և տարածքի բարեկարգման ծրագրի ղեկավար, պայմանագրերի քանակը, հատ | D25: 1
A26: Միջոցառման վրա կատարվող ծախսը (հազար դրամ) | C26: 0 | D26: =SUM('Հավելված 2'!H25) -> 1880215.1
A30: Ծրագրի դասիչը` | B30: 1043 | C30: Ցուցանիշների փոփոխությունը (ավելացումները նշված են դրական նշանով)
A31: Միջոցառման դասիչը` | B31: 11022 | C31: Ինն ամիս | D31: Տարի
A32: Միջոցառման անվանումը` | B32: Ինժեներական բիզնես աքսելերատորի շենքի և ընդհանուր ենթակառուցվածքների համակարգման, պահպանման, սպասարկման աշխատանքների իրականացում
A33: Նկարագրությունը` | B33: Ինժեներական բիզնես աքսելերատորի շենքի կառուցման շարունակականության ապահովման նպատակով հաշվետվությունների կազմում, պահպանման աշխատանքների իրականացում
A34: Միջոցառման տեսակը` | B34: Հանրության կողմից անմիջականորեն օգտագործվող ակտիվների հետ կապված միջոցառումներ
A35: Միջոցառումն իրականացնողի անվանումը | B35: «Գնումների մասին» ՀՀ օրենքի համաձայն ընտրված կազմակերպություն
A36: Արդյունքի չափորոշիչներ
A37: Ինժեներական բիզնես աքսելերատորի շենքի ընդհանուր ենթակառուցվածքների համակարգման և պահպանման աշխատանքների իրականացման նպատակով կնքվող պայմանագրերի քանակը, հատ | D37: 1
A38: Միջոցառման վրա կատարվող ծախսը (հազար դրամ) | C38: =SUM('Հավելված 2'!G31) -> 15782.4 | D38: =SUM('Հավելված 2'!H31) -> 67964.4
A40: Ծրագրի դասիչը | B40: Ծրագրի անվանումը
A41: 1235 | B41: Թվային փոխակերպման գործընթացի իրականացում
A43: Ծրագրի միջոցառումները
A45: Ծրագրի դասիչը` | B45: 1235 | C45: Ցուցանիշների փոփոխությունը (նվազեցումները նշված են փակագծերում)
A46: Միջոցառման դասիչը` | B46: 31001 | C46: Ինն ամիս | D46: Տարի
A47: Միջոցառման անվանումը` | B47: Միասնական թվային միջավայրի ձևավորում
A48: Նկարագրությունը` | B48: Թվային փոխակերպման գործընթացի շրջանակներում թվայնացման համակարգերի ներդրում և կայքերի արդիականացում
A49: Միջոցառման տեսակը` | B49: Պետական մարմինների կողմից օգտագործվող ոչ ֆինանսական ակտիվների հետ գործառնություններ
A50: Միջոցառումն իրականացնողի անվանումը՛ | B50: Հանրային իշխանության մարմիններ
...

Sheet Հավելված 6
C1: Հավելված 6
B2: ՀՀ կառավարության 2024 թվականի N -Ն որոշման
A3: ՀԱՅԱՍՏԱՆԻ ՀԱՆՐԱՊԵՏՈՒԹՅԱՆ ԿԱՌԱՎԱՐՈՒԹՅԱՆ 2023 ԹՎԱԿԱՆԻ ԴԵԿՏԵՄԲԵՐԻ 28-Ի N 2323-Ն ՈՐՈՇՄԱՆ N 9.1 ՀԱՎԵԼՎԱԾԻ NN 9.1.16 ԵՎ 9.1.58 ԱՂՅՈՒՍԱԿՆԵՐՈՒՄ ԿԱՏԱՐՎՈՂ ՓՈՓՈԽՈՒԹՅՈՒՆՆԵՐԸ ԵՎ ԼՐԱՑՈՒՄՆԵՐԸ
A4: ՀՀ բարձր տեխնոլոգիական արդյունաբերության նախարարություն
A5: ՄԱՍ 1. ՊԵՏԱԿԱՆ ՄԱՐՄՆԻ ԳԾՈՎ ԱՐԴՅՈՒՆՔԱՅԻՆ (ԿԱՏԱՐՈՂԱԿԱՆ) ՑՈՒՑԱՆԻՇՆԵՐԸ
A7: Ծրագրի դասիչը | B7: Ծրագրի անվանումը
A8: 1043 | B8: Բարձր տեխնոլոգիական արդյունաբերության էկոհամակարգի և շուկայի զարգացման ծրագիր
A10: Ծրագրի միջոցառումները
A12: Ծրագրի դասիչը` | B12: 1043 | C12: Ցուցանիշների փոփոխությունը (ավելացումները նշված են դրական նշանով)
A13: Միջոցառման դասիչը` | B13: 21001 | C13: Ինն ամիս | D13: Տարի
A14: Միջոցառման անվանումը` | B14: Ինժեներական բիզնես աքսելերատորի շենքի կառուցման և կահավորման շարունակականության ապահովում
A15: Նկարագրությունը` | B15: Ինժեներական բիզնես աքսելերատորի շենքի կառուցման շարունակականության ապահովման նպատակով շինարարական աշխատանքների իրականացում, ավտոկայանատեղիների կառուցում, տարածքի բարեկարգում և սարքավորումների ձեռքբերում
A16: Միջոցառման տեսակը` | B16: Հանրության կողմից անմիջականորեն օգտագործվող ակտիվների հետ կապված միջոցառումներ
A17: Միջոցառումն իրականացնողի անվանումը՛ | B17: Մասնագիտացված միավոր
A18: Արդյունքի չափորոշիչներ
A20: Ինժեներական բիզնես աքսելերատորի շենքի կառուցում, պայմանագրերի քանակը, հատ | D20: 1
A21: ԻՔ ավտոկայանատեղիների կառուցման և տարածքի բարեկարգման աշխատանքների պայմանագրերի քանակը, հատ | D21: 1
A22: Ինժեներական բիզնես աքսելերատորի շենքի կառուցման և ԻՔ ավտոկայանատեղիների կառուցման և տարածքի բարեկարգման տեխնիկական հսկողություն նպատակով կնքված պայմանագրերի քանակը, հատ | D22: 1
A23: Ինժեներական բիզնես աքսելերատորի շենքի կառուցման ծրագրի ղեկավար, պայմանագրերի քանակը, հատ | D23: 1
A24: Ինժեներական բիզնես աքսելերատորի շենքի կառուցման հեղինակային հսկողության պայմանագրերի քանակը, հատ | D24: 1
A25: ԻՔ ավտոկայանատեղիների կառուցման և տարածքի բարեկարգման ծրագրի ղեկավար, պայմանագրերի քանակը, հատ | D25: 1
A26: Միջոցառման վրա կատարվող ծախսը (հազար դրամ) | C26: 0 | D26: =SUM('Հավելված 2'!H25) -> 1880215.1
A30: Ծրագրի դասիչը` | B30: 1043 | C30: Ցուցանիշների փոփոխությունը (ավելացումները նշված են դրական նշանով)
A31: Միջոցառման դասիչը` | B31: 11022 | C31: Ինն ամիս | D31: Տարի
A32: Միջոցառման անվանումը` | B32: Ինժեներական բիզնես աքսելերատորի շենքի և ընդհանուր ենթակառուցվածքների համակարգման, պահպանման, սպասարկման աշխատանքների իրականացում
A33: Նկարագրությունը` | B33: Ինժեներական բիզնես աքսելերատորի շենքի կառուցման շարունակականության ապահովման նպատակով հաշվետվությունների կազմում, պահպանման աշխատանքների իրականացում
A34: Միջոցառման տեսակը` | B34: Ծառայությունների մատուցում
A35: Միջոցառումն իրականացնողի անվանումը | B35: «Գնումների մասին» ՀՀ օրենքի համաձայն ընտրված կազմակերպություն
A36: Արդյունքի չափորոշիչներ
A37: Ինժեներական բիզնես աքսելերատորի շենքի ընդհանուր ենթակառուցվածքների համակարգման և պահպանման աշխատանքների իրականացման նպատակով կնքվող պայմանագրերի քանակը, հատ | D37: 1
A38: Միջոցառման վրա կատարվող ծախսը (հազար դրամ) | C38: =SUM('Հավելված 2'!G31) -> 15782.4 | D38: =SUM('Հավելված 2'!H31) -> 67964.4
B40: ՀՀ կառավարություն
A42: ՄԱՍ 1. ՊԵՏԱԿԱՆ ՄԱՐՄՆԻ ԳԾՈՎ ԱՐԴՅՈՒՆՔԱՅԻՆ (ԿԱՏԱՐՈՂԱԿԱՆ) ՑՈՒՑԱՆԻՇՆԵՐԸ
A43: Ծրագրի դասիչը | B43: Ծրագրի անվանումը
A45: 1235 | B45: Թվային փոխակերպման գործընթացի իրականացում
A47: Ծրագրի միջոցառումները
A49: Ծրագրի դասիչը` | B49: 1235 | C49: Ցուցանիշների փոփոխությունը (նվազեցումները նշված են փակագծերում)
A50: Միջոցառման դասիչը` | B50: 31001 | C50: Ինն ամիս | D50: Տարի
A51: Միջոցառման անվանումը` | B51: Միասնական թվային միջավայրի ձևավորում
A52: Նկարագրությունը` | B52: Թվային փոխակերպման գործընթացի շրջանակներում թվայնացման համակարգերի ներդրում և կայքերի արդիականացում
...

Sheet Հավելված 7
B1: Հավելված 7
A2: ՀՀ կառավարության 2024 թվականի
A3: ______________ ի ___Ն որոշման
A5: ՀԱՅԱՍՏԱՆԻ ՀԱՆՐԱՊԵՏՈՒԹՅԱՆ ԿԱՌԱՎԱՐՈՒԹՅԱՆ 2023 ԹՎԱԿԱՆԻ ԴԵԿՏԵՄԲԵՐԻ 28-Ի N 2323-Ն ՈՐՈՇՄԱՆ N 10 ՀԱՎԵԼՎԱԾՈՒՄ ԿԱՏԱՐՎՈՂ ՓՈՓՈԽՈՒԹՅՈՒՆՆԵՐԸ ԵՎ ԼՐԱՑՈՒՄԸ
A7: Կոդը | B7: Անվանումը | C7: Գնման ձևը | D7: Չափման միավորը | E7: Միավորի գինը | F7: Ցուցանիշների փոփոխությունը (ավելացումները նշված են դրական նշանով)
F8: Քանակը | G8: Գումարը (հազար դրամով)
A9: ՀՀ բարձր տեխնոլոգիական արդյունաբերության նախարարություն | G9: =SUM(G11) -> 67964.4
A10: Բաժին N 01 | B10: Խումբ N 03 | C10: Դաս N 02 | D10: Ծրագրման և վիճակագրական ընդհանուր ծառայություններ
A11: 1043 11022 | B11: Ինժեներական բիզնես աքսելերատորի շենքի և ընդհանուր ենթակառուցվածքների համակարգման, պահպանման, սպասարկման աշխատանքների իրականացում | G11: =G13 -> 67964.4
A12: ՄԱՍ III. ԾԱՌԱՅՈՒԹՅՈՒՆՆԵՐ
A13: 98341140/1 | B13: Շենքի պահպանման ծառայություններ | C13: ՄԱ | D13: դրամ | E13: 67964400 | F13: 1 | G13: 67964.4
