Workbook
Name _tab10: #REF!
Name _tab10: #REF!
Name _tab10: #REF!
Name _tab10: #REF!
Name _tab10: #REF!
Name _tab11: #REF!
Name _tab11: #REF!
Name _tab11: #REF!
Name _tab11: #REF!
Name _tab11: #REF!
Name _tab12: #REF!
Name _tab12: #REF!
Name _tab12: #REF!
Name _tab12: #REF!
Name _tab12: #REF!
Name _tab13: #REF!
Name _tab13: #REF!
Name _tab13: #REF!
Name _tab13: #REF!
Name _tab13: #REF!
Name _tab14: #REF!
Name _tab14: #REF!
Name _tab14: #REF!
Name _tab14: #REF!
Name _tab14: #REF!
Name _tab15: #REF!
Name _tab15: #REF!
Name _tab15: #REF!
Name _tab15: #REF!
Name _tab15: #REF!
Name _tab16: #REF!
Name _tab16: #REF!
Name _tab16: #REF!
Name _tab16: #REF!
Name _tab16: #REF!
Name _tab17: #REF!
Name _tab17: #REF!
Name _tab17: #REF!
Name _tab17: #REF!
Name _tab17: #REF!
Name _tab18: #REF!
Name _tab18: #REF!
Name _tab18: #REF!
Name _tab18: #REF!
Name _tab18: #REF!
Name _tab19: #REF!
Name _tab19: #REF!
Name _tab19: #REF!
Name _tab19: #REF!
Name _tab19: #REF!
Name _tab20: #REF!
Name _tab20: #REF!
Name _tab20: #REF!
Name _tab20: #REF!
Name _tab20: #REF!
Name _tab21: #REF!
Name _tab21: #REF!
Name _tab21: #REF!
Name _tab21: #REF!
Name _tab21: #REF!

Sheet ՕՀ-1 Ա-2 և Հ-5 Ա-1
B1: Հավելված N 1
B2: ՀՀ կառավարության 2024 թվականի
B3: ______________ ի N___ -Ն որոշման
B5: «ՀԱՅԱՍՏԱՆԻ ՀԱՆՐԱՊԵՏՈՒԹՅԱՆ 2024 ԹՎԱԿԱՆԻ ՊԵՏԱԿԱՆ ԲՅՈՒՋԵԻ ՄԱՍԻՆ» ՀԱՅԱՍՏԱՆԻ ՀԱՆՐԱՊԵՏՈՒԹՅԱՆ ՕՐԵՆՔԻ N 1 ՀԱՎԵԼՎԱԾԻ N 2 ԱՂՅՈՒՍԱԿՈՒՄ ԿԱՏԱՐՎՈՂ ՎԵՐԱԲԱՇԽՈՒՄԸ ԵՎ ՀԱՅԱՍՏԱՆԻ ՀԱՆՐԱՊԵՏՈՒԹՅԱՆ ԿԱՌԱՎԱՐՈՒԹՅԱՆ 2023 ԹՎԱԿԱՆԻ ԴԵԿՏԵՄԲԵՐԻ 28-Ի N 2323-Ն ՈՐՈՇՄԱՆ N 5 ՀԱՎԵԼՎԱԾԻ N 1 ԱՂՅՈՒՍԱԿՈՒՄ ԿԱՏԱՐՎՈՂ ՓՈՓՈԽՈՒԹՅՈՒՆՆԵՐԸ
F6: հազար դրամ
B7: Ծրագրային դասիչը | D7: Բյուջետային հատկացումների գլխավոր կարգադրիչների, ծրագրերի և միջոցառումների անվանումները | E7: Ցուցանիշների փոփոխությունը (ավելացումները նշված են դրական նշանով, իսկ նվազեցումները՝ փակագծերում)
B8: ծրագիր | C8: միջո-ցառում | E8: ինն ամիս | F8: տարի
D9: Ընդամենը | E9: =E10 -> 0 | F9: =F10 -> 0
D10: ՀՀ պաշտպանության նախարարություն | E10: =E11 -> 0 | F10: =F11 -> 0
B11: 1169 | D11: Ծրագրի անվանումը՝ | E11: =E24+E18 -> 0 | F11: =F24+F18 -> 0
D12: ՀՀ պաշտպանության ապահովում
D13: Ծրագրի նպատակը՝
D14: ՀՀ ԶՈւ ռազմավարական ծավալումն ապահովող մարտական պատրաստականության պահպանում՝ արտաքին թշնամուց ՀՀ պետական սահմանների պաշտպանության ապահովում
D15: Վերջնական արդյունքի նկարագրությունը՝
D16: ՀՀ ԶՈւ ռազմավարական ծավալումն ապահովող մարտական պատրաստականության պահպանում
B17: Ծրագրի միջոցառումներ
C18: 11001 | D18: Միջոցառման անվանումը՝ | E18: =+'Հ-3 և 4'!H21 -> -499506.1 | F18: =+'Հ-3 և 4'!I21 -> -499506.1
D19: Ռազմական կարիքների բավարարում
D20: Միջոցառման նկարագրությունը՝
D21: Ընթացիկ գործունեության ապահովման գործողություններ
D22: Միջոցառման տեսակը
D23: Ծառայությունների մատուցում
C24: 31001 | D24: Միջոցառման անվանումը՝ | E24: ='Հ-3 և 4'!H35 -> 499506.1 | F24: ='Հ-3 և 4'!I35 -> 499506.1
D25: ՀՀ պաշտպանության նախարարության շենքային պայմանների բարելավում
D26: Միջոցառման նկարագրությունը՝
D27: Պաշտպանության կարիքների համար բնակելի, գրասենյակային և այլ նշանակության շենքերի և շինությունների կառուցում
D28: Միջոցառման տեսակը
D29: Պետական մարմինների կողմից օգտագործվող ոչ ֆինանսական ակտիվների հետ գործառնություններ

Sheet ՕՀ-1 Ա-3
H1: Հավելված N 2
H2: ՀՀ կառավարության 2024 թվականի
H3: ___________ ___-ի N _______ -Ն որոշման
A5: «ՀԱՅԱՍՏԱՆԻ ՀԱՆՐԱՊԵՏՈՒԹՅԱՆ 2024 ԹՎԱԿԱՆԻ ՊԵՏԱԿԱՆ ԲՅՈՒՋԵԻ ՄԱՍԻՆ» ՀԱՅԱՍՏԱՆԻ ՀԱՆՐԱՊԵՏՈՒԹՅԱՆ ՕՐԵՆՔԻ N 1 ՀԱՎԵԼՎԱԾԻ N 3 ԱՂՅՈՒՍԱԿՈՒՄ ԿԱՏԱՐՎՈՂ ՓՈՓՈԽՈՒԹՅՈՒՆԸ
H6: հազար դրամով
A7: Ծրագրային դասիչ | C7: Բյուջետային գլխավոր կարգադրիչների, ծրագրերի, միջոցառումների և ուղղությունների անվանումները | D7: Ցուցանիշների փոփոխությունը (ավելացումները նշված են դրական նշանով)
D8: Ընդամենը | E8: այդ թվում՝
A9: Ծրագիր | B9: Միջոցառում | E9: Կառուցման աշխատանքներ | F9: Վերակառուցման, վերանորոգման և վերականգնման աշխատանքներ | G9: Նախագծահե- տազոտական, գեոդեզիա- քարտեզագրա- կան աշխա- տանքներ | H9: Ոչ ֆինանսական այլ ակտիվների ձեռքբերում
C10: ԸՆԴԱՄԵՆԸ | D10: =+D12 -> 499506.1 | E10: =+E12 -> 499506.1 | H10: =+H12 -> 0
C11: այդ թվում՝
C12: ՀՀ պաշտպանության նախարարություն | D12: =+D14 -> 499506.1 | E12: =+E14 -> 499506.1 | H12: =+H14 -> 0
C13: այդ թվում`
A14: 1169 | B14: 31001 | C14: ՀՀ պաշտպանության նախարարության շենքային պայմանների բարելավում | D14: =SUM(E14:H14) -> 499506.1 | E14: 499506.1

Sheet Հ-3 և 4
B1: Հավելված N 3
B2: ՀՀ կառավարության 2024 թվականի
B3: ______________ ի N ___ -Ն որոշման
B5: ՀԱՅԱՍՏԱՆԻ ՀԱՆՐԱՊԵՏՈՒԹՅԱՆ ԿԱՌԱՎԱՐՈՒԹՅԱՆ 2023 ԹՎԱԿԱՆԻ ԴԵԿՏԵՄԲԵՐԻ 28-Ի N 2323-Ն
B6: ՈՐՈՇՄԱՆ N 3 և N 4 ՀԱՎԵԼՎԱԾՆԵՐՈՒՄ ԿԱՏԱՐՎՈՂ ՓՈՓՈԽՈՒԹՅՈՒՆՆԵՐԸ
I7: հազար դրամ
B8: Գործառական դասիչը | E8: Ծրագրային դասիչը | G8: Բյուջետային ծախսերի գործառական դասակարգման բաժինների, խմբերի և դասերի, բյուջետային ծրագրերի միջոցառումների, բյուջետային հատկացումների գլխավոր կարգադրիչների անվանումները | H8: Ցուցանիշների փոփոխությունը (ավելացումները նշված են դրական նշանով, իսկ նվազեցումները՝ փակագծերում)
B9: բաժին | C9: խումբ | D9: դաս | E9: ծրագիր | F9: միջոցառում | H9: ինն ամիս | I9: տարի
G10: ԸՆԴԱՄԵՆԸ ԾԱԽՍԵՐ այդ թվում՝ | H10: =H11 -> 0 | I10: =I11 -> 0
B11: 02 | G11: ՊԱՇՏՊԱՆՈՒԹՅՈՒՆ | H11: =H13 -> 0 | I11: =I13 -> 0
G12: այդ թվում`
C13: 01 | G13: Ռազմական պաշտպանություն | H13: =H15 -> 0 | I13: =I15 -> 0
G14: այդ թվում`
D15: 01 | G15: Ռազմական պաշտպանություն | H15: =H17 -> 0 | I15: =I17 -> 0
G16: այդ թվում`
G17: ՀՀ պաշտպանության նախարարություն | H17: =H19 -> 0 | I17: =I19 -> 0
G18: այդ թվում`
E19: 1169 | G19: ՀՀ պաշտպանության ապահովում | H19: =H35+H21 -> 0 | I19: =I35+I21 -> 0
G20: այդ թվում`
F21: 11001 | G21: Ռազմական կարիքների բավարարում | H21: =H23 -> -499506.1 | I21: =I23 -> -499506.1
G22: այդ թվում` ըստ կատարողների
G23: ՀՀ պաշտպանության նախարարություն | H23: =H25 -> -499506.1 | I23: =I25 -> -499506.1
G24: այդ թվում` բյուջետային ծախսերի տնտեսագիտական դասակարգման հոդվածներ
G25: ԸՆԴԱՄԵՆԸ ԾԱԽՍԵՐ | H25: =H26 -> -499506.1 | I25: =I26 -> -499506.1
G26: ԸՆԹԱՑԻԿ ԾԱԽՍԵՐ | H26: =+H27+H32 -> -499506.1 | I26: =+I27+I32 -> -499506.1
G27: ԾԱՌԱՅՈՒԹՅՈՒՆՆԵՐԻ ԵՎ ԱՊՐԱՆՔՆԵՐԻ ՁԵՌՔ ԲԵՐՈՒՄ | H27: =+H28 -> -243646.9 | I27: =+I28 -> -243646.9
G28: ՆՅՈՒԹԵՐ | H28: =SUM(H29:H31) -> -243646.9 | I28: =SUM(I29:I31) -> -243646.9
G29: - Գրասենյակային նյութեր և հագուստ | H29: -31386.2 | I29: =+H29 -> -31386.2
G30: - Տրանսպորտային նյութեր | H30: -72563.3 | I30: =+H30 -> -72563.3
G31: - Հատուկ նպատակային այլ նյութեր | H31: -139697.4 | I31: =+H31 -> -139697.4
G32: ԱՅԼ ԾԱԽՍԵՐ | H32: =H33 -> -255859.2 | I32: =I33 -> -255859.2
G33: ԱՅԼ ԾԱԽՍԵՐ | H33: =H34 -> -255859.2 | I33: =I34 -> -255859.2
G34: - Այլ ծախսեր | H34: -255859.2 | I34: -255859.2
F35: 31001 | G35: ՀՀ պաշտպանության նախարարության շենքային պայմանների բարելավում | H35: =H37 -> 499506.1 | I35: =I37 -> 499506.1
G36: այդ թվում` ըստ կատարողների
G37: ՀՀ պաշտպանության նախարարություն | H37: =H39 -> 499506.1 | I37: =I39 -> 499506.1
G38: այդ թվում` բյուջետային ծախսերի տնտեսագիտական դասակարգման հոդվածներ
G39: ԸՆԴԱՄԵՆԸ ԾԱԽՍԵՐ | H39: =H40 -> 499506.1 | I39: =I40 -> 499506.1
G40: ՈՉ ՖԻՆԱՆՍԱԿԱՆ ԱԿՏԻՎՆԵՐԻ ԳԾՈՎ ԾԱԽՍԵՐ | H40: =H41 -> 499506.1 | I40: =I41 -> 499506.1
G41: ՀԻՄՆԱԿԱՆ ՄԻՋՈՑՆԵՐ | H41: =+H42 -> 499506.1 | I41: =+I42 -> 499506.1
G42: ՄԵՔԵՆԱՆԵՐ ԵՎ ՍԱՐՔԱՎՈՐՈՒՄՆԵՐ | H42: =SUM(H43:H45) -> 499506.1 | I42: =SUM(I43:I45) -> 499506.1
G43: - Տրանսպորտային սարքավորումներ | H43: 285000 | I43: =H43 -> 285000
G44: - Վարչական սարքավորումներ | H44: 102345.1 | I44: =H44 -> 102345.1
G45: - Այլ մեքենաներ և սարքավորումներ | H45: 112161 | I45: =H45 -> 112161

Sheet Հ-5 Ա-2
B1: Հավելված N 4
B2: ='Հ-3 և 4'!B2 -> ՀՀ կառավարության 2024 թվականի
B3: ='Հ-3 և 4'!B3 -> ______________ ի N ___ -Ն որոշման
B5: ='Հ-3 և 4'!B5:I5 -> ՀԱՅԱՍՏԱՆԻ ՀԱՆՐԱՊԵՏՈՒԹՅԱՆ ԿԱՌԱՎԱՐՈՒԹՅԱՆ 2023 ԹՎԱԿԱՆԻ ԴԵԿՏԵՄԲԵՐԻ 28-Ի N 2323-Ն
B6: ՈՐՈՇՄԱՆ N 5 ՀԱՎԵԼՎԱԾԻ N 2 ԱՂՅՈՒՍԱԿՈՒՄ ԿԱՏԱՐՎՈՂ ՓՈՓՈԽՈՒԹՅՈՒՆՆԵՐԸ
F7: հազար դրամ
B8: Ծրագրային դասիչ | D8: Բյուջետային գլխավոր կարգադրիչների, ծրագրերի, միջոցառումների և ուղղությունների անվանումները | E8: Ցուցանիշների փոփոխությունը (ավելացումները նշված են դրական նշանով)
B9: ծրագիր | C9: միջո-ցառում | E9: ինն ամիս | F9: տարի
D10: ԸՆԴԱՄԵՆԸ | E10: =E12 -> 499506.1 | F10: =F12 -> 499506.1
D11: այդ թվում՝
D12: ՀՀ պաշտպանության նախարարություն | E12: =E14 -> 499506.1 | F12: =F14 -> 499506.1
D13: այդ թվում`
B14: 1169 | C14: 31001 | D14: ՀՀ պաշտպանության նախարարության շենքային պայմանների բարելավում | E14: =E16 -> 499506.1 | F14: =F16 -> 499506.1
D15: այդ թվում` ըստ կատարողների
D16: ՀՀ պաշտպանության նախարարություն | E16: ='Հ-3 և 4'!H35 -> 499506.1 | F16: ='Հ-3 և 4'!I35 -> 499506.1

Sheet Հ-9 Ա-9.14
B1: Հավելված N 5
B2: ='Հ-3 և 4'!B2 -> ՀՀ կառավարության 2024 թվականի
B3: ='Հ-3 և 4'!B3 -> ______________ ի N ___ -Ն որոշման
B5: =+'Հ-3 և 4'!B5:I5 -> ՀԱՅԱՍՏԱՆԻ ՀԱՆՐԱՊԵՏՈՒԹՅԱՆ ԿԱՌԱՎԱՐՈՒԹՅԱՆ 2023 ԹՎԱԿԱՆԻ ԴԵԿՏԵՄԲԵՐԻ 28-Ի N 2323-Ն
B6: ՈՐՈՇՄԱՆ N 9 ՀԱՎԵԼՎԱԾԻ N 9.14 ԱՂՅՈՒՍԱԿՈՒՄ ԿԱՏԱՐՎՈՂ ՓՈՓՈԽՈՒԹՅՈՒՆՆԵՐԸ
B8: ՀՀ պաշտպանության նախարարություն
B10: ՄԱՍ 2. ՊԵՏԱԿԱՆ ՄԱՐՄՆԻ ԳԾՈՎ ԱՐԴՅՈՒՆՔԱՅԻՆ (ԿԱՏԱՐՈՂԱԿԱՆ) ՑՈՒՑԱՆԻՇՆԵՐԸ
B12: Ծրագրի դասիչը | C12: Ծրագրի անվանումը
B13: 1169 | C13: ՀՀ պաշտպանության ապահովում
B15: Ծրագրի միջոցառումները
B17: Ծրագրի դասիչը` | C17: 1169 | D17: Ցուցանիշների փոփոխությունը (նվազեցումները նշված են փակագծերում)
B18: Միջոցառման դասիչը` | C18: 11001 | D18: ինն ամիս | E18: տարի
B19: Միջոցառման անվանումը` | C19: Ռազմական կարիքների բավարարում
B20: Նկարագրությունը` | C20: Ընթացիկ գործունեության ապահովման գործողություններ
B21: Միջոցառման տեսակը` | C21: Ծառայությունների մատուցում
B22: Ծառայությունը մատուցող կազմակերպության(ների) անվանում(ներ)ը՛ | C22: ՀՀ պաշտպանության նախարարություն
B23: Արդյունքի չափորոշիչներ
B24: Չի սահմանվում
B25: Միջոցառման վրա կատարվող ծախսը (հազար դրամ) | D25: =+'Հ-3 և 4'!H21 -> -499506.1 | E25: =+'Հ-3 և 4'!I21 -> -499506.1
B27: Ծրագրի դասիչը` | C27: 1169 | D27: Ցուցանիշների փոփոխությունը (ավելացումները նշված են դրական նշանով)
B28: Միջոցառման դասիչը` | C28: 31001 | D28: ինն ամիս | E28: տարի
B29: Միջոցառման անվանումը` | C29: ՀՀ պաշտպանության նախարարության շենքային պայմանների բարելավում
B30: Նկարագրությունը` | C30: Պաշտպանության կարիքների համար բնակելի, գրասենյակային և այլ նշանակության շենքերի և շինությունների կառուցում
B31: Միջոցառման տեսակը` | C31: Պետական մարմինների կողմից օգտագործվող ոչ ֆինանսական ակտիվների հետ գործառնություններ
B32: Ակտիվն օգտագործող կազմակերպության(ների) անվանում(ներ)ը՝ | C32: ՀՀ պաշտպանության նախարարություն
B33: Արդյունքի չափորոշիչներ
B34: Չի սահմանվում
B35: Միջոցառման վրա կատարվող ծախսը (հազար դրամ) | D35: ='Հ-3 և 4'!H35 -> 499506.1 | E35: ='Հ-3 և 4'!I35 -> 499506.1

Sheet Հ-9.1 Ա-9.1.14
B1: Հավելված N 6
B2: ='Հ-3 և 4'!B2:I2 -> ՀՀ կառավարության 2024 թվականի
B3: ='Հ-3 և 4'!B3:I3 -> ______________ ի N ___ -Ն որոշման
B5: ='Հ-3 և 4'!B5:I5 -> ՀԱՅԱՍՏԱՆԻ ՀԱՆՐԱՊԵՏՈՒԹՅԱՆ ԿԱՌԱՎԱՐՈՒԹՅԱՆ 2023 ԹՎԱԿԱՆԻ ԴԵԿՏԵՄԲԵՐԻ 28-Ի N 2323-Ն
B6: ՈՐՈՇՄԱՆ N 9.1 ՀԱՎԵԼՎԱԾԻN 9.1.14 ԱՂՅՈՒՍԱԿՈՒՄ ԿԱՏԱՐՎՈՂ ՓՈՓՈԽՈՒԹՅՈՒՆՆԵՐԸ
B8: ՀՀ պաշտպանության նախարարություն
B10: ՄԱՍ 1. ՊԵՏԱԿԱՆ ՄԱՐՄՆԻ ԳԾՈՎ ԱՐԴՅՈՒՆՔԱՅԻՆ (ԿԱՏԱՐՈՂԱԿԱՆ) ՑՈՒՑԱՆԻՇՆԵՐԸ
B12: Ծրագրի դասիչը | C12: Ծրագրի անվանումը
B13: 1169 | C13: ՀՀ պաշտպանության ապահովում
B15: Ծրագրի միջոցառումները
B17: Ծրագրի դասիչը` | C17: 1169 | D17: Ցուցանիշների փոփոխությունը (նվազեցումները նշված են փակագծերում)
B18: Միջոցառման դասիչը` | C18: 11001 | D18: ինն ամիս | E18: տարի
B19: Միջոցառման անվանումը` | C19: Ռազմական կարիքների բավարարում
B20: Նկարագրությունը` | C20: Ընթացիկ գործունեության ապահովման գործողություններ
B21: Միջոցառման տեսակը` | C21: Ծառայությունների մատուցում
B22: Ծառայությունը մատուցող կազմակերպության(ների) անվանում(ներ)ը՛ | C22: ՀՀ պաշտպանության նախարարություն
B23: Արդյունքի չափորոշիչներ
B24: Չի սահմանվում
B25: Միջոցառման վրա կատարվող ծախսը (հազար դրամ) | D25: =+'Հ-3 և 4'!H21 -> -499506.1 | E25: =+'Հ-3 և 4'!I21 -> -499506.1
B27: Ծրագրի դասիչը` | C27: 1169 | D27: Ցուցանիշների փոփոխությունը (ավելացումները նշված են դրական նշանով)
B28: Միջոցառման դասիչը` | C28: 31001 | D28: ինն ամիս | E28: տարի
B29: Միջոցառման անվանումը` | C29: ՀՀ պաշտպանության նախարարության շենքային պայմանների բարելավում
B30: Նկարագրությունը` | C30: Պաշտպանության կարիքների համար բնակելի, գրասենյակային և այլ նշանակության շենքերի և շինությունների կառուցում
B31: Միջոցառման տեսակը` | C31: Պետական մարմինների կողմից օգտագործվող ոչ ֆինանսական ակտիվների հետ գործառնություններ
B32: Ակտիվն օգտագործող կազմակերպության(ների) անվանում(ներ)ը՝ | C32: ՀՀ պաշտպանության նախարարություն
B33: Արդյունքի չափորոշիչներ
B34: Չի սահմանվում
B35: Միջոցառման վրա կատարվող ծախսը (հազար դրամ) | D35: ='Հ-3 և 4'!H35 -> 499506.1 | E35: ='Հ-3 և 4'!I35 -> 499506.1

Sheet Հ-10
H1: Հավելված N 7
H2: ՀՀ կառավարության 2024 թվականի
H3: ______________ ի N ___ -Ն որոշման
B5: ՀԱՅԱՍՏԱՆԻ ՀԱՆՐԱՊԵՏՈՒԹՅԱՆ ԿԱՌԱՎԱՐՈՒԹՅԱՆ 2023 ԹՎԱԿԱՆԻ ԴԵԿՏԵՄԲԵՐԻ 28-Ի N 2323-Ն ՈՐՈՇՄԱՆ N 10 ՀԱՎԵԼՎԱԾՈՒՄ ԿԱՏԱՐՎՈՂ ՓՈՓՈԽՈՒԹՅՈՒՆՆԵՐՆ ՈՒ ԼՐԱՑՈՒՄՆԵՐԸ
B7: Կոդը | C7: Անվանումը | F7: Գնման ձևը | G7: Չափման միավորը | H7: Միավորի գինը (դրամով) | I7: Ցուցանիշների փոփոխությունը (ավելացումները նշված են դրական նշանով, իսկ նվազեցումները՝ փակագծերում)
I8: քանակը | J8: գումարը (հազար դրամով)
C9: ՀՀ պաշտպանության նախարարություն | J9: =J10 -> -29140.804
B10: Բաժին N 02 | C10: Խումբ N 01 | D10: Դաս N 01 | E10: Ռազմական պաշտպանություն | J10: =J11+J252 -> -29140.804
B11: 1169 11001 | C11: Ռազմական կարիքների բավարարում | J11: =J12 -> -243646.9
C12: Ապրանքներ | J12: =SUM(J13:J251) -> -243646.9
B13: 31321130/3 | C13: միջին լարման մալուխներ | F13: ԳՀ | G13: մետր | J13: -212
B14: 35811240/13 | C14: թևքանշան և այլ պարագաներ | F14: ԳՀ | G14: հատ | J14: -946.4
B15: 35811190/13 | C15: ուսադիր | F15: ԳՀ | G15: զույգ | J15: -156.4
B16: 35811240/3 | C16: թևքանշան և այլ պարագաներ | F16: ԳՀ | G16: հատ | J16: -1760
B17: 35811240/2 | C17: թևքանշան և այլ պարագաներ | F17: ԳՀ | G17: հատ | J17: -1920
B18: 35811190/12 | C18: ուսադիր | F18: ԳՀ | G18: զույգ | J18: -170
B19: 35811190/11 | C19: ուսադիր | F19: ԳՀ | G19: զույգ | J19: -156.4
B20: 35811240/4 | C20: թևքանշան և այլ պարագաներ | F20: ԳՀ | G20: հատ | J20: -104.4
B21: 35811230/1 | C21: թիկունքի մակագրություն | F21: ԳՀ | G21: հատ | J21: -196.8
B22: 39561133/1 | C22: տարբերանշաններ | F22: ԳՀ | G22: հատ | J22: -1280
B23: 39561133/4 | C23: տարբերանշաններ | F23: ԳՀ | G23: հատ | J23: -438
B24: 39561133/2 | C24: տարբերանշաններ | F24: ԳՀ | G24: հատ | J24: -1280
... B251: 31421100/2 | C251: կապարային մարտկոցներ | F251: ԳՀ | G251: հատ | J251: -3000
B252: 1169 31001 | C252: ՀՀ պաշտպանության նախարարության շենքային պայմանների բարելավում | J252: =J253 -> 214506.1
C253: Ապրանքներ | J253: =SUM(J254:J327) -> 214506.1
B254: 39141120/1 | C254: դարակներով պահարաններ | F254: ԳՀ | G254: հատ | J254: -250
B255: 39111140/2 | C255: աթոռներ | F255: ԳՀ | G255: հատ | J255: -406.8
B256: 39111260/1 | C256: աթոռակներ | F256: ԳՀ | G256: հատ | J256: -3300
B257: 39111310/1 | C257: աթոռակ` ծալովի, դաշտային | F257: ԳՀ | G257: հատ | J257: -100
B258: 39111280/1 | C258: աթոռակ` լամինատե նստատեղով | F258: ԳՀ | G258: հատ | J258: -165.01
B259: 44611400/1 | C259: արկղեր | F259: ԳՀ | G259: հատ | J259: -105
B260: 39121330/1 | C260: սեղան` լսարանային | F260: ԳՀ | G260: հատ | J260: -155
B261: 32341230/501 | C261: ձայնային ազդանշանների ձայնագրման սարք | F261: ԳՀ | G261: հատ | H261: 1200000 | I261: 10 | J261: =+I261*H261/1000 -> 12000
B262: 32341110/501 | C262: բարձրախոսներ | F262: ԳՀ | G262: հատ | H262: 2450000 | I262: 10 | J262: =+I262*H262/1000 -> 24500
B263: 42961260/501 | C263: հսկման սարքեր | F263: ԳՀ | G263: հատ | H263: 400000 | I263: 10 | J263: =+I263*H263/1000 -> 4000
B264: 39141120/3 | C264: դարակներով պահարաններ | F264: ԳՀ | G264: հատ | J264: -213.4
B265: 39121490/1 | C265: սեղան` ծալովի, դաշտային | F265: ԳՀ | G265: հատ | J265: -210
B266: 39121100/2 | C266: գրասեղաններ | F266: ԳՀ | G266: հատ | J266: -229.8
B267: 39121200/1 | C267: սեղաններ | F267: ԳՀ | G267: հատ | J267: -1288.8
B268: 39111140/3 | C268: աթոռներ | F268: ԳՀ | G268: հատ | J268: -2236
B269: 39141340/1 | C269: հյուրասենյակի կահույք | F269: ԳՀ | G269: հատ | J269: -175
B270: 39111190/3 | C270: բազկաթոռներ | F270: ԳՀ | G270: հատ | J270: -139
B271: 42941110/2 | C271: վառարաններ և դրանց պարագաներ | F271: ԳՀ | G271: հատ | J271: -3612
B272: 42941110/4 | C272: վառարաններ և դրանց պարագաներ | F272: ԳՀ | G272: հատ | J272: -1525
B273: 39522170/1 | C273: արշավի մահճակալներ | F273: ԳՀ | G273: հատ | J273: -360
B274: 39111220/4 | C274: բազկաթոռ` ղեկավարի | F274: ԳՀ | G274: հատ | J274: -750
B275: 44421300/3 | C275: չհրկիզվող պահարաններ | F275: ԳՀ | G275: հատ | J275: -1541.4
... B300: 39141170/12 | C300: ննջասենյակի կահույք | F300: ԲՄ | G300: հատ | J300: -28032.6
B301: 30211220/504 | C301: սեղանի համակարգիչներ | F301: ԳՀ | G301: հատ | H301: 274800 | I301: 150 | J301: =+I301*H301/1000 -> 41220
B302: 30211200/503 | C302: դյուրակիր համակարգիչներ | F302: ԳՀ | G302: հատ | H302: 263700 | I302: 150 | J302: =+I302*H302/1000 -> 39555
B303: 30211200/505 | C303: դյուրակիր համակարգիչներ | F303: ԳՀ | G303: հատ | H303: 179400 | I303: 206 | J303: =+I303*H303/1000 -> 36956.4
B304: 38651110/2 | C304: լուսանկարչական խցիկների օբյեկտիվներ | F304: ԳՀ | G304: հատ | J304: -718.00001
B305: 38651110/1 | C305: լուսանկարչական խցիկների օբյեկտիվներ | F305: ԳՀ | G305: հատ | J305: -427.6
B306: 18931170/1 | C306: կտորից պայուսակներ | F306: ԳՀ | G306: հատ | J306: -149.45
B307: 42121190/4 | C307: ջրի պոմպեր | F307: ԳՀ | G307: հատ | J307: -487.6032
B308: 31671300/1 | C308: էլեկտրաբեռնիչ | F308: ԳՀ | G308: հատ | J308: -2600
B309: 32341100/2 | C309: խոսափողներ | F309: ԳՀ | G309: հատ | J309: -241.5
B310: 38651160/1 | C310: թվային լուսանկարչական ապարատներ | F310: ԳՀ | G310: հատ | J310: -1699.2
B311: 39711140/1 | C311: կենցաղային սառնարաններ | F311: ԳՀ | G311: հատ | J311: -1800.8
B312: 37311380/501 | C312: կլարնետներ | F312: ԳՀ | G312: հատ | H312: 368000 | I312: 15 | J312: =+I312*H312/1000 -> 5520
B313: 37311180/501 | C313: սաքսոֆոններ | F313: ԳՀ | G313: հատ | H313: 1199000 | I313: 1 | J313: =+I313*H313/1000 -> 1199
B314: 37311500/502 | C314: հարվածային գործիքներ | F314: ԳՀ | G314: հատ | H314: 195000 | I314: 6 | J314: =+I314*H314/1000 -> 1170
B315: 44423400/502 | C315: ցուցանակներ և հարակից առարկաներ | F315: ԳՀ | G315: հատ | H315: 31140 | I315: 10 | J315: =+I315*H315/1000 -> 311.4
B316: 37461331/502 | C316: հրաձգության ուղղություն | F316: ԳՀ | G316: լրակազմ | H316: 15000000 | I316: 1 | J316: =+I316*H316/1000 -> 15000
B317: 37461331/504 | C317: հրաձգության ուղղություն | F317: ԳՀ | G317: լրակազմ | H317: 15300000 | I317: 1 | J317: =+I317*H317/1000 -> 15300
B318: 37461331/506 | C318: հրաձգության ուղղություն | F318: ԳՀ | G318: լրակազմ | H318: 16900000 | I318: 1 | J318: =+I318*H318/1000 -> 16900
B319: 38411200/501 | C319: ջերմաչափեր | F319: ԳՀ | G319: հատ | H319: 45600 | I319: 100 | J319: =+I319*H319/1000 -> 4560
B320: 44611200/501 | C320: գազի բալոններ | F320: ԳՀ | G320: հատ | H320: 72000 | I320: 165 | J320: =+I320*H320/1000 -> 11880
B321: 44611400/502 | C321: արկղեր | F321: ԳՀ | G321: հատ | H321: 27000 | I321: 80 | J321: =+I321*H321/1000 -> 2160
B322: 31731100/502 | C322: էլեկտրատեխնիկական սարքեր | F322: ԳՀ | G322: հատ | H322: 3660000 | I322: 2 | J322: =+I322*H322/1000 -> 7320
B323: 31731100/503 | C323: էլեկտրատեխնիկական սարքեր | F323: ԳՀ | G323: հատ | H323: 2880000 | I323: 3 | J323: =+I323*H323/1000 -> 8640
... B327: 39132170/501 | C327: ցուցափեղկեր (պահարաններ) | F327: ԳՀ | G327: հատ | H327: 105000 | I327: 200 | J327: =+I327*H327/1000 -> 21000

Sheet Sheet1
A1: 4239 | B1: 20939.6
A2: 4252 | B2: 4001.2
A3: 4261 | B3: 24221.5
A4: 4264 | B4: 658398.2
A5: 4267 | B5: 51113.2
A6: 4269 | B6: 58135.2
A7: 5121 | B7: 34800
A8: 5122 | B8: 30780.6
A9: 5129 | B9: 165718.2
A10: 5132 | B10: 33.2
