Workbook

Sheet հավ 1 
D2: Հավելված N 1
D3: ՀՀ կառավարության 2024 թվականի
D4: ______________ ի ___Ն որոշման
A6: «ՀԱՅԱUՏԱՆԻ ՀԱՆՐԱՊԵՏՈՒԹՅԱՆ 2024 ԹՎԱԿԱՆԻ ՊԵՏԱԿԱՆ ԲՅՈՒՋԵԻ ՄԱUԻՆ» OՐԵՆՔԻ N 1 ՀԱՎԵԼՎԱԾԻ N 2 ԱՂՅՈՒՍԱԿՈՒՄ ԿԱՏԱՐՎՈՂ ՎԵՐԱԲԱՇԽՈՒՄԸ ԵՎ ՀԱՅԱՍՏԱՆԻ ՀԱՆՐԱՊԵՏՈՒԹՅԱՆ ԿԱՌԱՎԱՐՈՒԹՅԱՆ 2023 ԹՎԱԿԱՆԻ ԴԵԿՏԵՄԲԵՐԻ 28-Ի N 2323-Ն ՈՐՈՇՄԱՆ N 5 ՀԱՎԵԼՎԱԾԻ N 1 ԱՂՅՈՒՍԱԿՈՒՄ ԿԱՏԱՐՎՈՂ ՓՈՓՈԽՈՒԹՅՈՒՆՆԵՐԸ
E11: (հազար դրամ)
A12: Ծրագրային դասիչը | C12: Բյուջետային հատկացումների գլխավոր կարգադրիչների, ծրագրերի և միջոցառումների անվանումները | D12: Ցուցանիշների փոփոխությունը (ավելացումները նշված են դրական նշանով, իսկ նվազեցումները՝ փակագծերում)
A13: Ծրագիր | B13: Միջոցառում | D13: Ինն ամիս | E13: Տարի
C14: ԸՆԴԱՄԵՆԸ | D14: =+D15 -> 0 | E14: =+E15 -> 0
C15: Հակակոռուպցիոն կոմիտե | D15: =+D16 -> 0 | E15: =+E16 -> 0
A16: 1231 | C16: Ծրագրի անվանումը` | D16: =+D23+D29 -> 0 | E16: =+E23+E29 -> 0
C17: Կոռուպցիոն հանցագործությունների բացահայտման և քննության ապահովում
C18: Ծրագրի նպատակը`
C19: ՀՀ քրեական դատավարության օրենսգրքով ՀՀ հակակոռուպցիոն կոմիտեի ենթակայությանը վերապահված քրեական գործերի քննության իրականացումը և օպերատիվ -հետախուզական գործունեությունը
C20: Վերջնական արդյունքի նկարագրությունը`
C21: Արդյունավետ օպերատիվ-հետախուզական գործունեություն, հետաքննություն և նախաքննություն` դրանց ողջամիտ ժամկետներում իրականացում
A22: Ծրագրի միջոցառումներ
B23: 11001 | C23: Միջոցառման անվանումը` | D23: =-D29 -> 35766.4 | E23: =+D23 -> 35766.4
C24: Կոռուպցիոն հանցագործությունների բացահայտում և քննություն
C25: Միջոցառման նկարագրությունը`
C26: Կոռուպցիոն դեպքերի բացահայտման և քննության ապահովում, դրանց արդյունավետության բարձրացում
C27: Միջոցառման տեսակը
C28: Ծառայությունների մատուցում
B29: 31001 | C29: Միջոցառման անվանումը` | D29: =+հավ3!G47 -> -35766.4 | E29: =+D29 -> -35766.4
C30: ՀՀ հակակոռուպցիոն կոմիտեի տեխնիկական հագեցվածության բարելավում
C31: Միջոցառման նկարագրությունը`
C32: ՀՀ հակակոռուպցիոն կոմիտեի գործունեությունն ապահովելու համար վարչական սարքավորումների ձեռքբերում
C33: Միջոցառման տեսակը
C34: Պետական մարմինների կողմից օգտագործվող ոչ ֆինանսական ակտիվների հետ գործառնություններ
C35: ՀՀ կառավարություն | D35: =+D36 -> 0 | E35: =+E36 -> 0
A36: 1139 | C36: Ծրագրի անվանումը` | D36: =+D43+D49 -> 0 | E36: =+E43+E49 -> 0
C37: ՀՀ կառավարության պահուստային ֆոնդ
C38: Ծրագրի նպատակը`
C39: Պետական բյուջեում չկանխատեսված, ինչպես նաեւ բյուջետային երաշխիքների ապահովման ծախսերի ֆինանսավորման ապահովում
C40: Վերջնական արդյունքի նկարագրությունը`
C41: Պահուստային ֆոնդի կառավարման արդյունավետության և թափանցիկության ապահովում
A42: Ծրագրի միջոցառումներ
B43: 11001 | C43: Միջոցառման անվանումը` | D43: =-D49 -> 8200.4 | E43: =-E49 -> 9990.6
C44: ՀՀ կառավարության պահուստային ֆոնդ
C45: Միջոցառման նկարագրությունը`
C46: ՀՀ պետական բյուջեում նախատեսված ելքերի լրացուցիչ ֆինանսավորման, պետական բյուջեում չկանխատեսված ելքերի, ինչպես նաև բյուջետային երաշխիքների ապահովման ելքերի ֆինանսավորման ապահովում
...

Sheet հավ 2
G2: Հավելված N 2
G3: ՀՀ կառավարության 2024 թվականի
G4: ______________ ի ___Ն որոշման
B6: «ՀԱՅԱUՏԱՆԻ ՀԱՆՐԱՊԵՏՈՒԹՅԱՆ 2024 ԹՎԱԿԱՆԻ ՊԵՏԱԿԱՆ ԲՅՈՒՋԵԻ ՄԱUԻՆ» OՐԵՆՔԻ N 1 ՀԱՎԵԼՎԱԾԻ N 3 ԱՂՅՈՒՍԱԿՈՒՄ ԿԱՏԱՐՎՈՂ ՓՈՓՈԽՈՒԹՅՈՒՆՆԵՐԸ
G9: (հազար դրամ)
A10: Ծրագրային դասիչ | C10: Բյուջետային գլխավոր կարգադրիչների, ծրագրերի, միջոցառումների և ուղղությունների անվանումները | D10: Ընդամենը | H10: Ցուցանիշների փոփոխությունները (նվազեցումները նշված են փակագծերում)
E11: այդ թվում`
A12: Ծրագիր | B12: Միջոց առում | E12: Կառուցման աշխատանքներ | F12: Վերակառուցման, վերանորոգման և վերականգնման աշխատանքներ | G12: Նախագծահե- տազոտական, գեոդեզիա- քարտեզագրական աշխատանքներ | H12: Ոչ ֆինանսական այլ ակտիվների ձեռքբերում
C13: ԸՆԴԱՄԵՆԸ | D13: =+D14+D17+D20+D30+D33+D41+D95+D176+D184+D190+D195+D202+D663+D666+D671+D676+D679+D683+D686+D689+D692+D695+D700+D703+D708+D713+D718+D722+D725+D728+D733+D738+D778+D782+D786+D789+D792+D795+D798+D801+D804+D807 -> -35766.4 | E13: =+E14+E17+E20+E30+E33+E41+E95+E176+E184+E190+E195+E202+E663+E666+E671+E676+E679+E683+E686+E689+E692+E695+E700+E703+E708+E713+E718+E722+E725+E728+E733+E738+E778+E782+E786+E789+E792+E795+E798+E801+E804+E807 -> 0 | F13: =+F14+F17+F20+F30+F33+F41+F95+F176+F184+F190+F195+F202+F663+F666+F671+F676+F679+F683+F686+F689+F692+F695+F700+F703+F708+F713+F718+F722+F725+F728+F733+F738+F778+F782+F786+F789+F792+F795+F798+F801+F804+F807 -> 0 | G13: =+G14+G17+G20+G30+G33+G41+G95+G176+G184+G190+G195+G202+G663+G666+G671+G676+G679+G683+G686+G689+G692+G695+G700+G703+G708+G713+G718+G722+G725+G728+G733+G738+G778+G782+G786+G789+G792+G795+G798+G801+G804+G807 -> 0 | H13: =+H14+H17+H20+H30+H33+H41+H95+H176+H184+H190+H195+H202+H663+H666+H671+H676+H679+H683+H686+H689+H692+H695+H700+H703+H708+H713+H718+H722+H725+H728+H733+H738+H778+H782+H786+H789+H792+H795+H798+H801+H804+H807 -> -35766.4
C15: ՀՀ հակակոռուպցիոն կոմիտե | D15: =+D17 -> -35766.4 | E15: =+E17 -> 0 | F15: =+F17 -> 0 | G15: =+G17 -> 0 | H15: =+H17 -> -35766.4
C16: այդ թվում՛
A17: 1231 | B17: 31001 | C17: ՀՀ հակակոռուպցիոն կոմիտեի տեխնիկական հագեցվածության բարելավում | D17: =+H17 -> -35766.4 | E17: 0 | F17: 0 | G17: 0 | H17: ='հավ 1 '!D29 -> -35766.4

Sheet հավ3
G2: Հավելված N 3
G3: ՀՀ կառավարության 2024 թվականի
G4: ______________ ի ___Ն որոշման
A7: ՀԱՅԱՍՏԱՆԻ ՀԱՆՐԱՊԵՏՈՒԹՅԱՆ ԿԱՌԱՎԱՐՈՒԹՅԱՆ 2023 ԹՎԱԿԱՆԻ ԴԵԿՏԵՄԲԵՐԻ 28-Ի N 2323-Ն ՈՐՈՇՄԱՆ NN 3 ԵՎ 4 ՀԱՎԵԼՎԱԾՆԵՐՈՒՄ ԿԱՏԱՐՎՈՂ ՓՈՓՈԽՈՒԹՅՈՒՆՆԵՐԸ
H11: (հազար դրամ)
A12: Գործառական դասիչը | D12: Ծրագրային դասիչը | F12: Բյուջետային ծախսերի գործառական դասակարգման բաժինների, խմբերի և դասերի, բյուջետային ծրագրերի միջոցառումների, բյուջետային հատկացումների գլխավոր կարգադրիչների անվանումները | G12: Ցուցանիշների փոփոխությունը (ավելացումները նշված են դրական նշանով, իսկ նվազեցումները՝ փակագծերում)
A13: Բաժին | B13: Խումբ | C13: Դաս | D13: Ծրագիր | E13: Միջոցառում | G13: Ինն ամիս | H13: Տարի
F14: ԸՆԴԱՄԵՆԸ | G14: =+G21 -> 0 | H14: =+H21 -> 0
A15: 03 | F15: ՀԱՍԱՐԱԿԱԿԱՆ ԿԱՐԳ, ԱՆՎՏԱՆԳՈՒԹՅՈՒՆ ԵՎ ԴԱՏԱԿԱՆ ԳՈՐԾՈՒՆԵՈՒԹՅՈՒՆ
F16: այդ թվում`
B17: 07 | F17: Նախաքննություն | G17: =+G21 -> 0 | H17: =+H21 -> 0
F18: այդ թվում`
C19: 01 | F19: Նախաքննություն | G19: =+G21 -> 0 | H19: =+H21 -> 0
F20: այդ թվում`
F21: Հակակոռուպցիոն կոմիտե | G21: =+G23 -> 0 | H21: =+H23 -> 0
F22: այդ թվում`
D23: 1231 | F23: Կոռուպցիոն հանցագործությունների բացահայտման և քննության ապահովում | G23: =+G25+G39 -> 0 | H23: =+H25+H39 -> 0
F24: այդ թվում`
E25: 11001 | F25: Կոռուպցիոն հանցագործությունների բացահայտում և քննություն | G25: =+G29 -> 35766.4 | H25: =+H29 -> 35766.4
F26: այդ թվում` ըստ կատարողների
F27: Հակակոռուպցիոն կոմիտե | G27: =+G29 -> 35766.4 | H27: =+H29 -> 35766.4
F28: այդ թվում` բյուջետային ծախսերի տնտեսագիտական դասակարգման հոդվածներ
F29: ԸՆԴԱՄԵՆԸ ԾԱԽՍԵՐ | G29: =+G30 -> 35766.4 | H29: =+H30 -> 35766.4
F30: ԸՆԹԱՑԻԿ ԾԱԽՍԵՐ | G30: =+G31 -> 35766.4 | H30: =+H31 -> 35766.4
F31: ԾԱՌԱՅՈՒԹՅՈՒՆՆԵՐԻ ԵՎ ԱՊՐԱՆՔՆԵՐԻ ՁԵՌՔԲԵՐՈՒՄ | G31: =+G32+G34+G36 -> 35766.4 | H31: =+H32+H34+H36 -> 35766.4
F32: Շարունակական ծախսեր | G32: =+G33 -> -240 | H32: =+H33 -> -240
F33: - Ապահովագրական ծախսեր | G33: -240 | H33: =+G33 -> -240
F34: Ընթացիկ նորոգում և պահպանում (ծառայություններ և նյութեր) | G34: =+G35 -> 40600.4 | H34: =+H35 -> 42390.6
F35: - Շենքերի և կառույցների ընթացիկ նորոգում և պահպանում | G35: =-G36-G39-G32 -> 40600.4 | H35: =-H36-H39-H32 -> 42390.6
F36: Նյութեր (Ապրանքներ) | G36: =+G37 -> -4594 | H36: =H37+H38 -> -6384.2
F37: - Գրասենյակային նյութեր և հագուստ | G37: -4594 | H37: -5539.2
F38: - Կենցաղային և հանրային սննդի նյութեր | G38: 0 | H38: -845
E39: 31001 | F39: ՀՀ հակակոռուպցիոն կոմիտեի տեխնիկական հագեցվածության բարելավում | G39: =+G41 -> -35766.4 | H39: =+H41 -> -35766.4
F40: այդ թվում` ըստ կատարողների
F41: Հակակոռուպցիոն կոմիտե | G41: =+G47 -> -35766.4 | H41: =+H47 -> -35766.4
F42: այդ թվում` բյուջետային ծախսերի տնտեսագիտական դասակարգման հոդվածներ
F43: ԸՆԴԱՄԵՆԸ ԾԱԽՍԵՐ | G43: =+G44 -> -35766.4 | H43: =+H44 -> -35766.4
F44: ՈՉ ՖԻՆԱՆՍԱԿԱՆ ԱԿՏԻՎՆԵՐԻ ԳԾՈՎ ԾԱԽՍԵՐ | G44: =+G45 -> -35766.4 | H44: =+H45 -> -35766.4
F45: ՀԻՄՆԱԿԱՆ ՄԻՋՈՑՆԵՐ | G45: =+G46 -> -35766.4 | H45: =+H46 -> -35766.4
F46: ՄԵՔԵՆԱՆԵՐ ԵՎ ՍԱՐՔԱՎՈՐՈՒՄՆԵՐ | G46: =+G47 -> -35766.4 | H46: =+H47 -> -35766.4
...

Sheet հավ 4
D2: Հավելված N 4
D3: ՀՀ կառավարության 2024 թվականի
D4: ______________ ի ___Ն որոշման
A6: ՀԱՅԱՍՏԱՆԻ ՀԱՆՐԱՊԵՏՈՒԹՅԱՆ ԿԱՌԱՎԱՐՈՒԹՅԱՆ 2023 ԹՎԱԿԱՆԻ ԴԵԿՏԵՄԲԵՐԻ 28-Ի N 2323-Ն ՈՐՈՇՄԱՆ N 5 ՀԱՎԵԼՎԱԾԻ N 2 ԱՂՅՈՒՍԱԿՈՒՄ ԿԱՏԱՐՎՈՂ ՓՈՓՈԽՈՒԹՅՈՒՆՆԵՐԸ
E9: (հազար դրամ)
A10: Ծրագրային դասիչ | C10: Բյուջետային գլխավոր կարգադրիչների, ծրագրերի, միջոցառումների և ուղղությունների անվանումները | D10: Ցուցանիշների փոփոխությունները (նվազեցումները նշված են փակագծերում)
D11: Ինն ամիս | E11: Տարի
A12: Ծրագիր | B12: Միջոցառում
C13: ԸՆԴԱՄԵՆԸ | D13: =+D15 -> -35766.4 | E13: =+E15 -> -35766.4
C14: այդ թվում`
C15: Հակակոռուպցիոն կոմիտե | D15: =+D17 -> -35766.4 | E15: =+E17 -> -35766.4
C16: այդ թվում՛
A17: 1231 | B17: 31001 | C17: ՀՀ հակակոռուպցիոն կոմիտեի տեխնիկական հագեցվածության բարելավում | D17: =+D19 -> -35766.4 | E17: =+E19 -> -35766.4
C18: այդ թվում` ըստ կատարողների
C19: Հակակոռուպցիոն կոմիտե | D19: =+'հավ 2'!D17 -> -35766.4 | E19: =+D19 -> -35766.4

Sheet հավ5
C2: Հավելված N 5
C3: ՀՀ կառավարության 2024 թվականի
C4: ______________ ի ___Ն որոշման
A6: ՀԱՅԱՍՏԱՆԻ ՀԱՆՐԱՊԵՏՈՒԹՅԱՆ ԿԱՌԱՎԱՐՈՒԹՅԱՆ 2023 ԹՎԱԿԱՆԻ ԴԵԿՏԵՄԲԵՐԻ 28-Ի N 2323-Ն ՈՐՈՇՄԱՆ N 9 ՀԱՎԵԼՎԱԾԻ N 9.36 ԵՎ 9.48 ԱՂՅՈՒՍԱԿՆԵՐՈՒՄ ԿԱՏԱՐՎՈՂ ՓՈՓՈԽՈՒԹՅՈՒՆՆԵՐԸ
A9: Հակակոռուպցիոն կոմիտե
A10: ՄԱՍ 2. ՊԵՏԱԿԱՆ ՄԱՐՄՆԻ ԳԾՈՎ ԱՐԴՅՈՒՆՔԱՅԻՆ (ԿԱՏԱՐՈՂԱԿԱՆ) ՑՈՒՑԱՆԻՇՆԵՐԸ
A12: Ծրագրի դասիչը | B12: Ծրագրի անվանումը
A13: 1231 | B13: Կոռուպցիոն հանցագործությունների բացահայտման և քննության ապահովում
A15: Ծրագրի միջոցառումները
A17: Ծրագրի դասիչը` | B17: 1231 | C17: Ցուցանիշների փոփոխությունները (ավելացումները նշված են դրական նշանով)
A18: Միջոցառման դասիչը` | B18: 11001 | C18: Ինն ամիս | D18: Տարի
A19: Միջոցառման անվանումը` | B19: Կոռուպցիոն հանցագործությունների բացահայտում և քննություն
A20: Նկարագրությունը` | B20: Կոռուպցիոն դեպքերի բացահայտման և քննության ապահովում, դրանց արդյունավետության բարձրացում
A21: Միջոցառման տեսակը` | B21: Ծառայությունների մատուցում
A22: Ծառայությունը մատուցող կազմակերպության(ների) անվանում(ներ)ը | B22: ՀՀ հակակոռուպցիոն կոմիտե
A23: Արդյունքի չափորոշիչներ
A24: Միջոցառման վրա կատարվող ծախսը (հազար դրամ) | C24: =-C35 -> 35766.4 | D24: =-D35 -> 35766.4
A27: Ծրագրի դասիչը` | B27: 1231 | C27: Ցուցանիշների փոփոխությունները (նվազեցումները նշված են փակագծերում)
A28: Միջոցառման դասիչը` | B28: 31001 | C28: Ինն ամիս | D28: Տարի
A29: Միջոցառման անվանումը` | B29: ՀՀ հակակոռուպցիոն կոմիտեի տեխնիկական հագեցվածության բարելավում
A30: Նկարագրությունը` | B30: ՀՀ հակակոռուպցիոն կոմիտեի գործունեությունն ապահովելու համար վարչական սարքավորումների ձեռքբերում
A31: Միջոցառման տեսակը` | B31: Պետական մարմինների կողմից օգտագործվող ոչ ֆինանսական ակտիվների հետ գործառնություններ
A32: Ակտիվն օգտագործող կազմակերպության անվանումը | B32: ՀՀ հակակոռուպցիոն կոմիտե
A33: Արդյունքի չափորոշիչներ
A34: Վարչական սարքավորումներ | D34: -90
A35: Միջոցառման վրա կատարվող ծախսը (հազար դրամ) | C35: =+հավ3!G47 -> -35766.4 | D35: =+հավ3!H47 -> -35766.4
A37: ՀՀ կառավարություն
A38: ՄԱՍ 2. ՊԵՏԱԿԱՆ ՄԱՐՄՆԻ ԳԾՈՎ ԱՐԴՅՈՒՆՔԱՅԻՆ (ԿԱՏԱՐՈՂԱԿԱՆ) ՑՈՒՑԱՆԻՇՆԵՐԸ
A40: Ծրագրի դասիչը | B40: Ծրագրի անվանումը
A41: 1139 | B41: ՀՀ կառավարության պահուստային ֆոնդ
A42: Ծրագրի միջոցառումները
A43: Ծրագրի դասիչը` | B43: 1139 | C43: Ցուցանիշների փոփոխությունները (ավելացումները նշված են դրական նշանով)
A44: Միջոցառման դասիչը` | B44: 11001 | C44: Ինն ամիս | D44: Տարի
A45: Միջոցառման անվանումը` | B45: ՀՀ կառավարության պահուստային ֆոնդ
A46: Նկարագրությունը` | B46: ՀՀ պետական բյուջեում նախատեսված ելքերի լրացուցիչ ֆինանսավորման, պետական բյուջեում չկանխատեսված ելքերի, ինչպես նաև բյուջետային երաշխիքների ապահովման ելքերի ֆինանսավորման ապահովում
A47: Միջոցառման տեսակը` | B47: Ծառայությունների մատուցում
A48: Միջոցառումն իրականացնողի անվանումը | B48: ՀՀ կառավարություն
A49: Արդյունքի չափորոշիչներ
A50: Միջոցառման վրա կատարվող ծախսը (հազար դրամ) | C50: =+-C59 -> 8200.4 | D50: 9990.6
A52: Ծրագրի դասիչը` | B52: 1139 | C52: Ցուցանիշների փոփոխությունները (նվազեցումները նշված են փակագծերում)
...

Sheet հավ 6
C2: Հավելված N 6
C3: ՀՀ կառավարության 2024 թվականի
C4: ______________ ի ___Ն որոշման
A6: ՀԱՅԱՍՏԱՆԻ ՀԱՆՐԱՊԵՏՈՒԹՅԱՆ ԿԱՌԱՎԱՐՈՒԹՅԱՆ 2023 ԹՎԱԿԱՆԻ ԴԵԿՏԵՄԲԵՐԻ 28-Ի N 2323-Ն ՈՐՈՇՄԱՆ N 9.1 ՀԱՎԵԼՎԱԾԻ N 9.1.46 ԵՎ 9.1.58 ԱՂՅՈՒՍԱԿՆԵՐՈՒՄ ԿԱՏԱՐՎՈՂ ՓՈՓՈԽՈՒԹՅՈՒՆՆԵՐԸ
A8: Հակակոռուպցիոն կոմիտե
A9: ՄԱՍ 1. ՊԵՏԱԿԱՆ ՄԱՐՄՆԻ ԳԾՈՎ ԱՐԴՅՈՒՆՔԱՅԻՆ (ԿԱՏԱՐՈՂԱԿԱՆ) ՑՈՒՑԱՆԻՇՆԵՐԸ
A10: Ծրագրի դասիչը | B10: Ծրագրի անվանումը
A11: 1231 | B11: Կոռուպցիոն հանցագործությունների բացահայտման և քննության ապահովում
A13: Ծրագրի միջոցառումները
A14: Ծրագրի դասիչը` | B14: 1231 | C14: Ցուցանիշների փոփոխությունները (ավելացումները նշված են դրական նշանով)
A15: Միջոցառման դասիչը` | B15: 11001 | C15: Ինն ամիս | D15: Տարի
A16: Միջոցառման անվանումը` | B16: Կոռուպցիոն հանցագործությունների բացահայտում և քննություն
A17: Նկարագրությունը` | B17: Կոռուպցիոն դեպքերի բացահայտման և քննության ապահովում, դրանց արդյունավետության բարձրացում
A18: Միջոցառման տեսակը` | B18: Ծառայությունների մատուցում
A19: Ծառայությունը մատուցող կազմակերպության(ների) անվանում(ներ)ը | B19: ՀՀ հակակոռուպցիոն կոմիտե
A20: Արդյունքի չափորոշիչներ
A21: Միջոցառման վրա կատարվող ծախսը (հազար դրամ) | C21: =-C31 -> 35766.4 | D21: =-D31 -> 35766.4
A23: Ծրագրի դասիչը` | B23: 1231 | C23: Ցուցանիշների փոփոխությունները (նվազեցումները նշված են փակագծերում)
A24: Միջոցառման դասիչը` | B24: 31001 | C24: Ինն ամիս | D24: Տարի
A25: Միջոցառման անվանումը` | B25: ՀՀ հակակոռուպցիոն կոմիտեի տեխնիկական հագեցվածության բարելավում
A26: Նկարագրությունը` | B26: ՀՀ հակակոռուպցիոն կոմիտեի գործունեությունն ապահովելու համար վարչական սարքավորումների ձեռքբերում
A27: Միջոցառման տեսակը` | B27: Պետական մարմինների կողմից օգտագործվող ոչ ֆինանսական ակտիվների հետ գործառնություններ
A28: Ակտիվն օգտագործող կազմակերպության անվանումը | B28: ՀՀ հակակոռուպցիոն կոմիտե
A29: Արդյունքի չափորոշիչներ
A30: Վարչական սարքավորումներ | D30: -90
A31: Միջոցառման վրա կատարվող ծախսը (հազար դրամ) | C31: -35766.4 | D31: -35766.4
A33: ՀՀ կառավարություն
A34: ՄԱՍ 1. ՊԵՏԱԿԱՆ ՄԱՐՄՆԻ ԳԾՈՎ ԱՐԴՅՈՒՆՔԱՅԻՆ (ԿԱՏԱՐՈՂԱԿԱՆ) ՑՈՒՑԱՆԻՇՆԵՐԸ
A36: Ծրագրի դասիչը | B36: Ծրագրի անվանումը
A37: 1139 | B37: ՀՀ կառավարության պահուստային ֆոնդ
A38: Ծրագրի միջոցառումները
A40: Ծրագրի դասիչը` | B40: 1139 | C40: Ցուցանիշների փոփոխությունները (ավելացումները նշված են դրական նշանով)
A41: Միջոցառման դասիչը` | B41: 11001 | C41: Ինն ամիս | D41: Տարի
A42: Միջոցառման անվանումը` | B42: ՀՀ կառավարության պահուստային ֆոնդ
A43: Նկարագրությունը` | B43: ՀՀ պետական բյուջեում նախատեսված ելքերի լրացուցիչ ֆինանսավորման, պետական բյուջեում չկանխատեսված ելքերի, ինչպես նաև բյուջետային երաշխիքների ապահովման ելքերի ֆինանսավորման ապահովում
A44: Միջոցառման տեսակը` | B44: Ծառայությունների մատուցում
A45: Միջոցառումն իրականացնողի անվանումը | B45: ՀՀ կառավարություն
A46: Արդյունքի չափորոշիչներ
A47: Միջոցառման վրա կատարվող ծախսը (հազար դրամ) | C47: =+-C56 -> 8200.4 | D47: =+-D56 -> 9990.6
A49: Ծրագրի դասիչը` | B49: 1139 | C49: Ցուցանիշների փոփոխությունները (նվազեցումները նշված են փակագծերում)
...

Sheet հավ7
H2: Հավելված N 7
G3: ՀՀ կառավարության 2024 թվականի
G4: ______________ ի ___Ն որոշման
A5: ՀԱՅԱՍՏԱՆԻ ՀԱՆՐԱՊԵՏՈՒԹՅԱՆ ԿԱՌԱՎԱՐՈՒԹՅԱՆ 2023 ԹՎԱԿԱՆԻ ԴԵԿՏԵՄԲԵՐԻ 28-Ի N 2323-Ն ՈՐՈՇՄԱՆ N 10 ՀԱՎԵԼՎԱԾՈՒՄ ԿԱՏԱՐՎՈՂ ՓՈՓՈԽՈՒԹՅՈՒՆՆԵՐԸ
A7: Կոդը | B7: Անվանումը | E7: Գնման ձևը | F7: Չափի միավորը | G7: Միավորի գինը | I7: Ցուցանիշների փոփոխությունը (ավելացումները նշված են դրական նշանով, իսկ նվազեցումները՝ փակագծերում)
H8: քանակը | I8: գումարը (հազ. դրամ)
A9: Հակակոռուպցիոն կոմիտե | I9: =+I10 -> 0
A10: Բաժին N 03 | B10: Խումբ N 07 | C10: Դաս N 01 | D10: Նախաքննություն | I10: =+I11+I103 -> 0
A11: 1231 11001 | B11: Կոռուպցիոն հանցագործությունների բացահայտում և քննություն | I11: =+I12+I85+I87 -> 35766.4
B12: ՄԱՍ I. Ա Պ Ր Ա Ն Ք Ն Ե Ր | I12: =SUM(I13:I84) -> -6384.2
A13: 30197622/501 | B13: թուղթ, A4 ֆորմատի | E13: ԷԱՃ | F13: կիլոգրամ | I13: -1670.7
A14: 30234400/504 | B14: դատարկ սկավառակ, առանց տուփի, DVD | E14: ԷԱՃ | F14: հատ | I14: -1110
A15: 30197234/502 | B15: թղթապանակ, կոշտ կազմով | E15: ԷԱՃ | F15: հատ | I15: -210
A16: 30199230/501 | B16: նամակի ծրար, A5 ձ―աչափի | E16: ԷԱՃ | F16: հատ | I16: -152.4
A17: 22811180/1 | B17: օրագրեր | E17: ԷԱՃ | F17: հատ | I17: -114
A18: 30197332/502 | B18: դակիչ միջին | E18: ԷԱՃ | F18: հատ | I18: -111.4
A19: 30234300/501 | B19: դատարկ սկավառակ, առանց տուփի, CD | E19: ԷԱՃ | F19: հատ | I19: -84
A20: 30121460/516 | B20: տոներային քարտրիջներ | E20: ԷԱՃ | F20: հատ | I20: -67
A21: 30237412/1 | B21: մկնիկ, համակարգչային, անլար | E21: ԷԱՃ | F21: հատ | I21: -54
A22: 39263520/502 | B22: սեղմակ, միջին | E22: ԷԱՃ | F22: հատ | I22: -50.6
A23: 39263530/502 | B23: սեղմակ, մեծ | E23: ԷԱՃ | F23: հատ | I23: -48.3
A24: 30199420/501 | B24: թուղթ նշումների համար, սոսնձվածքով | E24: ԷԱՃ | F24: հատ | I24: -38.4
... A84: 39221490/501 | B84: սպունգներ | E84: ԷԱՃ | F84: հատ | I84: -3.4
B85: ՄԱՍ II. ԱՇԽԱՏԱՆՔՆԵՐ | I85: =+I86 -> 42390.6
A86: 45461100-/506 | B86: շենքերի, շինությունների ընթացիկ նորոգման աշխատանքներ | E86: գհ | F86: դրամ | G86: 42390.6 | H86: 1 | I86: =+G86 -> 42390.6
B87: ՄԱՍ III. ԾԱՌԱՅՈՒԹՅՈՒՆՆԵՐ | I87: =+I88+I89+I90+I91+I92+I93+I94+I95+I96+I97+I98+I99+I100+I101+I102 -> -240
A88: 66511180/508 | B88: շարժիչներով փոխադրամիջոցների ապահովագրման ծառայություններ | E88: ԳՀ | F88: դրամ | I88: -16
A89: 66511180/507 | B89: շարժիչներով փոխադրամիջոցների ապահովագրման ծառայություններ | E89: ԳՀ | F89: դրամ | I89: -16
A90: 66511180/509 | B90: շարժիչներով փոխադրամիջոցների ապահովագրման ծառայություններ | E90: ԳՀ | F90: դրամ | I90: -16
A91: 66511180/514 | B91: շարժիչներով փոխադրամիջոցների ապահովագրման ծառայություններ | E91: ԳՀ | F91: դրամ | I91: -16
A92: 66511180/513 | B92: շարժիչներով փոխադրամիջոցների ապահովագրման ծառայություններ | E92: ԳՀ | F92: դրամ | I92: -16
A93: 66511180/505 | B93: շարժիչներով փոխադրամիջոցների ապահովագրման ծառայություններ | E93: ԳՀ | F93: դրամ | I93: -16
A94: 66511180/502 | B94: շարժիչներով փոխադրամիջոցների ապահովագրման ծառայություններ | E94: ԳՀ | F94: դրամ | I94: -16
A95: 66511180/510 | B95: շարժիչներով փոխադրամիջոցների ապահովագրման ծառայություններ | E95: ԳՀ | F95: դրամ | I95: -16
A96: 66511180/515 | B96: շարժիչներով փոխադրամիջոցների ապահովագրման ծառայություններ | E96: ԳՀ | F96: դրամ | I96: -16
A97: 66511180/512 | B97: շարժիչներով փոխադրամիջոցների ապահովագրման ծառայություններ | E97: ԳՀ | F97: դրամ | I97: -16
A98: 66511180/503 | B98: շարժիչներով փոխադրամիջոցների ապահովագրման ծառայություններ | E98: ԳՀ | F98: դրամ | I98: -16
A99: 66511180/501 | B99: շարժիչներով փոխադրամիջոցների ապահովագրման ծառայություններ | E99: ԳՀ | F99: դրամ | I99: -16
... A102: 66511180/511 | B102: շարժիչներով փոխադրամիջոցների ապահովագրման ծառայություններ | E102: ԳՀ | F102: դրամ | I102: -16
A103: 1231 31001 | B103: ՀՀ հակակոռուպցիոն կոմիտեի տեխնիկական հագեցվածության բարելավում | I103: =+I104 -> -35766.4
...
