Workbook
Name _tab10: #REF!
Name _tab10: #REF!
Name _tab11: #REF!
Name _tab11: #REF!
Name _tab12: #REF!
Name _tab12: #REF!
Name _tab13: #REF!
Name _tab13: #REF!
Name _tab14: #REF!
Name _tab14: #REF!
Name _tab15: #REF!
Name _tab15: #REF!
Name _tab16: #REF!
Name _tab16: #REF!
Name _tab17: #REF!
Name _tab17: #REF!
Name _tab18: #REF!
Name _tab18: #REF!
Name _tab19: #REF!
Name _tab19: #REF!
Name _tab20: #REF!
Name _tab20: #REF!
Name _tab21: #REF!
Name _tab21: #REF!
Name _tab22: #REF!
Name _tab22: #REF!
Name _tab23: #REF!
Name _tab23: #REF!
Name _tab24: #REF!
Name _tab24: #REF!
Name _tab5: #REF!
Name _tab5: #REF!
Name _tab6: #REF!
Name _tab6: #REF!
Name _tab7: #REF!
Name _tab7: #REF!
Name _tab8: #REF!
Name _tab8: #REF!
Name _tab9: #REF!
Name _tab9: #REF!
Name AgencyCode: #REF!
Name AgencyCode: #REF!
Name AgencyName: #REF!
Name AgencyName: #REF!
Name åû: #REF!
Name åû: #REF!
Name davit: #REF!
Name davit: #REF!
Name Functional1: #REF!
Name Functional1: #REF!
Name ggg: #REF!
Name ggg: #REF!
Name hav: #REF!
Name hav: #REF!
Name havelvac: #REF!
Name havelvac: #REF!
Name mas: #REF!
Name mas: #REF!
Name mass: #REF!
Name mass: #REF!

Sheet 1
E1: Հավելված N 1
E2: ՀՀ կառավարության 2024 թվականի
E3: -----------------ի N -----------Ն որոշման
A6: ՀԱՅԱՍՏԱՆԻ ՀԱՆՐԱՊԵՏՈՒԹՅԱՆ 2024 ԹՎԱԿԱՆԻ ՊԵՏԱԿԱՆ ԲՅՈՒՋԵԻ ՄԱՍԻՆ» ՕՐԵՆՔԻ N 1 ՀԱՎԵԼՎԱԾԻ N 2 ԱՂՅՈՒՍԱԿՈՒՄ ԿԱՏԱՐՎՈՂ ՎԵՐԱԲԱՇԽՈՒՄԸ ԵՎ ՀԱՅԱՍՏԱՆԻ ՀԱՆՐԱՊԵՏՈՒԹՅԱՆ ԿԱՌԱՎԱՐՈՒԹՅԱՆ 2023 ԹՎԱԿԱՆԻ ԴԵԿՏԵՄԲԵՐԻ 28-Ի N 2323-Ն ՈՐՈՇՄԱՆ N 5 ՀԱՎԵԼՎԱԾԻ N 1 ԱՂՅՈՒՍԱԿՈՒՄ ԿԱՏԱՐՎՈՂ ՓՈՓՈԽՈՒԹՅՈՒՆՆԵՐԸ ԵՎ ԼՐԱՑՈՒՄՆԵՐԸ
D7: (հազար դրամ)
A8: Ծրագրային դասիչը | C8: Բյուջետային հատկացումների գլխավոր կարգադրիչների, ծրագրերի և միջոցառումների անվանումները | D8: Ցուցանիշների փոփոխությունները ավելացումները նշված են դրական նշանով, իսկ նվազեցումները՝ փակագծերում
A9: Ծրագիր | B9: Միջոցառում | D9: Ինն ամիս | E9: Տարի
C10: ԸՆԴԱՄԵՆԸ | D10: =D11 -> 0 | E10: =E11 -> 0
C11: ՀՀ աշխատանքի և սոցիալական հարցերի նախարարություն | D11: =SUM(D12,D25,D38) -> 0 | E11: =SUM(E12,E25,E38) -> 0
A12: 1011 | C12: Ծրագրի անվանումը` | D12: =SUM(D19) -> -320000 | E12: =SUM(E19) -> -2320000
C13: Անապահով սոցիալական խմբերին աջակցություն
C14: Ծրագրի նպատակը`
C15: Օժանդակել անապահով ընտանիքների կենսամակարդակի բարձրացմանը
C16: Վերջնական արդյունքի նկարագրությունը`
C17: Աղքատության մեղմում և ծայրահեղ աղքատության կրճատում
A18: Ծրագրի միջոցառումներ
B19: 12001 | C19: Միջոցառման անվանումը` | D19: -320000 | E19: -2320000
C20: Ընտանիքի կենսամակարդակի բարձրացմանն ուղղված նպաստներ
C21: Միջոցառման նկարագրությունը`
C22: Ընտանիքների անապահովության գնահատման համակարգում հաշվառված, անապահով ճանաչված ընտանիքներին նպաստի, սոցիալական նպաստի և հրատապ օգնության տրամադրում
C23: Միջոցառման տեսակը
C24: Տրանսֆերտների տրամադրում
A25: 1082 | C25: Ծրագրի անվանումը` | D25: =SUM(D32) -> -80000 | E25: =SUM(E32) -> -100000
C26: Սոցիալական աջակցություն անաշխատունակության դեպքում
C27: Ծրագրի նպատակը`
C28: Կորցրած եկամուտների մասնակի փոխհատուցում
C29: Վերջնական արդյունքի նկարագրությունը`
C30: Անաշխատունակության հետևանքով եկամտի կորստի մասնակի փոխհատուցման ապահովում
A31: Ծրագրի միջոցառումներ
B32: 12003 | C32: Միջոցառման անվանումը` | D32: =-80000 -> -80000 | E32: =-100000 -> -100000
C33: Աշխատողների աշխատանքային պարտականությունների կատարման հետ կապված խեղման, մասնագիտական հիվանդության և առողջության այլ վնասման հետևանքով պատճառված վնասի փոխհատուցում
C34: Միջոցառման նկարագրությունը`
C35: Աշխատողների աշխատանքային պարտականությունների կատարման հետ կապված խեղման, մասնագիտական հիվանդության և առողջության այլ վնասման հետևանքով պատճառված վնասի փոխհատուցման տրամադրում
C36: Միջոցառման տեսակը
C37: Տրանսֆերտների տրամադրում
A38: 1098 | C38: Ծրագրի անվանումը` | D38: =SUM(D45,D51,D57) -> 400000 | E38: =SUM(E45,E51,E57) -> 2420000
C39: Բնակարանային ապահովում
C40: Ծրագրի նպատակը`
C41: Հանրապետությունում մշտական բնակության վայր չունեցող անօթևան անձանց բնակարանային ապահովմանն աջակցություն
C42: Վերջնական արդյունքի նկարագրությունը`
...

Sheet 2
H1: Հավելված N 2
H2: ՀՀ կառավարության 2024 թվականի
H3: -----------------ի N -----------Ն որոշման
A5: ՀԱՅԱՍՏԱՆԻ ՀԱՆՐԱՊԵՏՈՒԹՅԱՆ ԿԱՌԱՎԱՐՈՒԹՅԱՆ 2023 ԹՎԱԿԱՆԻ ԴԵԿՏԵՄԲԵՐԻ 28-Ի N 2323-Ն ՈՐՈՇՄԱՆ N N 3 ԵՎ 4 ՀԱՎԵԼՎԱԾՆԵՐՈՒՄ ԿԱՏԱՐՎՈՂ ՓՈՓՈԽՈՒԹՅՈՒՆՆԵՐԸ ԵՎ ԼՐԱՑՈՒՄՆԵՐԸ
H6: (հազար դրամ)
A7: Գործառական դասիչը | D7: Ծրագրային դասիչը | F7: Բյուջետային ծախսերի գործառական դասակարգման բաժինների, խմբերի և դասերի, բյուջետային ծրագրերի միջոցառումների, բյուջետային հատկացումների գլխավոր կարգադրիչների անվանումները | G7: Ցուցանիշների փոփոխությունները ավելացումները նշված են դրական նշանով, իսկ նվազեցումները՝ փակագծերում
A8: Բաժինը | B8: Խումբը | C8: Դասը | D8: Ծրագիր | E8: Միջոցառում | G8: Ինն ամիս | H8: Տարի
F9: ԸՆԴԱՄԵՆԸ ԾԱԽՍԵՐ | G9: =G11 -> 0 | H9: =H11 -> 0
F10: այդ թվում`
F11: ՀՀ աշխատանքի և սոցիալական հարցերի նախարարություն | G11: =SUM(G13) -> 0 | H11: =SUM(H13) -> 0
F12: այդ թվում`
A13: 10 | F13: ՍՈՑԻԱԼԱԿԱՆ ՊԱՇՏՊԱՆՈՒԹՅՈՒՆ | G13: =SUM(G15,G30,G45) -> 0 | H13: =SUM(H15,H30,H45) -> 0
F14: այդ թվում`
B15: 01 | F15: Վատառողջություն և անաշխատունակություն | G15: =G17 -> -80000 | H15: =H17 -> -100000
F16: այդ թվում`
C17: 01 | F17: Վատառողջություն | G17: =+G19 -> -80000 | H17: =+H19 -> -100000
F18: այդ թվում`
D19: 1082 | F19: Սոցիալական աջակցություն անաշխատունակության դեպքում | G19: =+G29 -> -80000 | H19: =+H29 -> -100000
F20: այդ թվում`
E21: 12003 | F21: Աշխատողների աշխատանքային պարտականությունների կատարման հետ կապված խեղման, մասնագիտական հիվանդության և առողջության այլ վնասման հետևանքով պատճառված վնասի փոխհատուցում | G21: =+G23 -> -80000 | H21: =+H23 -> -100000
F22: այդ թվում` ըստ կատարողների
F23: ՀՀ աշխատանքի և սոցիալական հարցերի նախարարության միասնական սոցիալական ծառայություն | G23: =+G25 -> -80000 | H23: =+H25 -> -100000
F24: այդ թվում` բյուջետային ծախսերի տնտեսագիտական դասակարգման հոդվածներ | G24: =+G26 -> -80000 | H24: =+H26 -> -100000
F25: ԸՆԴԱՄԵՆԸ ԾԱԽՍԵՐ | G25: =+G26 -> -80000 | H25: =+H26 -> -100000
F26: ԸՆԹԱՑԻԿ ԾԱԽՍԵՐ | G26: =+G27 -> -80000 | H26: =+H27 -> -100000
F27: ՍՈՑԻԱԼԱԿԱՆ ՆՊԱՍՏՆԵՐ ԵՎ ԿԵՆՍԱԹՈՇԱԿՆԵՐ | G27: =+G28 -> -80000 | H27: =+H28 -> -100000
F28: Սոցիալական օգնության դրամական արտահայտությամբ նպաստներ (բյուջեից) | G28: =+G29 -> -80000 | H28: =+H29 -> -100000
F29: - Այլ նպաստներ բյուջեից | G29: =SUM('1'!D32) -> -80000 | H29: =SUM('1'!E32) -> -100000
B30: 04 | F30: Ընտանիքի անդամներ և զավակներ | G30: =+G32 -> -320000 | H30: =+H32 -> -2320000
F31: այդ թվում`
C32: 01 | F32: Ընտանիքի անդամներ և զավակներ | G32: =SUM(G34) -> -320000 | H32: =SUM(H34) -> -2320000
F33: այդ թվում`
D34: 1011 | F34: Անապահով սոցիալական խմբերին աջակցություն | G34: =+G36 -> -320000 | H34: =+H36 -> -2320000
F35: այդ թվում`
E36: 12001 | F36: Ընտանիքի կենսամակարդակի բարձրացմանն ուղղված նպաստներ | G36: =+G38 -> -320000 | H36: =+H38 -> -2320000
F37: այդ թվում` ըստ կատարողների
F38: ՀՀ աշխատանքի և սոցիալական հարցերի նախարարության միասնական սոցիալական ծառայություն | G38: =+G40 -> -320000 | H38: =+H40 -> -2320000
F39: այդ թվում` բյուջետային ծախսերի տնտեսագիտական դասակարգման հոդվածներ
F40: ԸՆԴԱՄԵՆԸ ԾԱԽՍԵՐ | G40: =+G41 -> -320000 | H40: =+H41 -> -2320000
F41: ԸՆԹԱՑԻԿ ԾԱԽՍԵՐ | G41: =+G42 -> -320000 | H41: =+H42 -> -2320000
...

Sheet 3
D1: Հավելված N 3
D2: ՀՀ կառավարության 2024 թվականի
D3: -----------------ի N -----------Ն որոշման
A6: ՀԱՅԱՍՏԱՆԻ ՀԱՆՐԱՊԵՏՈՒԹՅԱՆ ԿԱՌԱՎԱՐՈՒԹՅԱՆ 2023 ԹՎԱԿԱՆԻ ԴԵԿՏԵՄԲԵՐԻ 28-Ի N 2323-Ն ՈՐՈՇՄԱՆ N 9 ՀԱՎԵԼՎԱԾԻ N 9.15 ԱՂՅՈՒՍԱԿՈՒՄ ԿԱՏԱՐՎՈՂ ՓՈՓՈԽՈՒԹՅՈՒՆՆԵՐԸ ԵՎ ԼՐԱՑՈՒՄՆԵՐԸ
A8: ՄԱՍ 2. ՊԵՏԱԿԱՆ ՄԱՐՄՆԻ ԳԾՈՎ ԱՐԴՅՈՒՆՔԱՅԻՆ (ԿԱՏԱՐՈՂԱԿԱՆ) ՑՈՒՑԱՆԻՇՆԵՐԸ
A10: Հայաստանի Հանրապետության աշխատանքի և սոցիալական հարցերի նախարարություն
A11: Ծրագրի դասիչը | B11: Ծրագրի անվանումը
A12: ='1'!A12 -> 1011 | B12: ='1'!C13 -> Անապահով սոցիալական խմբերին աջակցություն
A13: Ծրագրի միջոցառումներ
A15: Ծրագրի դասիչը` | B15: 1011 | C15: Ցուցանիշների փոփոխությունները նվազեցումները նշված են փակագծերում
A16: Միջոցառման դասիչը` | B16: 12001 | C16: Ինն ամիս | D16: Տարի
A17: Միջոցառման անվանումը` | B17: Ընտանիքի կենսամակարդակի բարձրացմանն ուղղված նպաստներ
A18: Նկարագրությունը` | B18: Ընտանիքների անապահովության գնահատման համակարգում հաշվառված, անապահով ճանաչված ընտանիքներին նպաստի, սոցիալական նպաստի և հրատապ օգնության տրամադրում
A19: Միջոցառման տեսակը` | B19: Տրանսֆերտների տրամադրում
A20: Շահառուների ընտրության չափանիշները | B20: Ընտանիքների անապահովության գնահատման համակարգում հաշվառված ընտանիք (ընտանիքի անապահովության միավորի հիման վրա)
A21: Արդյունքի չափորոշիչներ
A22: Ընտանիքի կենսամակարդակի բարձրացմանն ուղղված նպաստներ ստացող ընտանիքների թիվ, հատ, այդ թվում՛ | C22: =SUM(C23:C24) -> 0 | D22: =SUM(D23:D24) -> -4000
A23: Ընտանիքի կենսամակարդակի բարձրացմանն ուղղված նպաստներ ստացող ՀՀ ընտանիքների թիվ, հատ | C23: 0 | D23: -3000
A24: Ընտանիքի կենսամակարդակի բարձրացմանն ուղղված նպաստներ ստացող ԼՂ ընտանիքների թիվ, հատ | C24: 0 | D24: -1000
A25: Միջոցառման վրա կատարվող ծախսը (հազար դրամ) | C25: ='1'!D19 -> -320000 | D25: ='1'!E19 -> -2320000
A27: Ծրագրի դասիչը` | B27: Ծրագրի անվանումը`
A28: 1082 | B28: Սոցիալական աջակցություն անաշխատունակության դեպքում
A29: Ծրագրի միջոցառումները
A31: Ծրագրի դասիչը` | B31: 1082 | C31: Ցուցանիշների փոփոխությունները նվազեցումները նշված են փակագծերում
A32: Միջոցառման դասիչը` | B32: 12003 | C32: Ինն ամիս | D32: Տարի
A33: Միջոցառման անվանումը` | B33: Աշխատողների աշխատանքային պարտականությունների կատարման հետ կապված խեղման, մասնագիտական հիվանդության և առողջության այլ վնասման հետևանքով պատճառված վնասի փոխհատուցում
A34: Նկարագրությունը` | B34: Աշխատողների աշխատանքային պարտականությունների կատարման հետ կապված խեղման, մասնագիտական հիվանդության և առողջության այլ վնասման հետևանքով պատճառված վնասի փոխհատուցման տրամադրում
A35: Միջոցառման տեսակը` | B35: Տրանսֆերտների տրամադրում
A36: Շահառուների ընտրության չափանիշները | B36: Աշխատանքային պարտականությունների կատարման հետ կապված խեղում, մասնագիտական հիվանդություն և առողջության այլ վնաս ստացած աշխատող անձ
A37: Արդյունքի չափորոշիչներ
A38: Խեղում, մասնագիտական հիվանդություն և առողջության այլ վնասներ ստացածների թիվ, մարդ | D38: -245
A39: Միջոցառման վրա կատարվող ծախսը (հազար դրամ) | C39: =SUM('1'!D32) -> -80000 | D39: =SUM('1'!E32) -> -100000
A41: Ծրագրի դասիչը | B41: Ծրագրի անվանումը
A42: 1098 | B42: ='1'!C39 -> Բնակարանային ապահովում
A43: Ծրագրի միջոցառումներ
A45: Ծրագրի դասիչը` | B45: 1098 | C45: Ցուցանիշների փոփոխությունները ավելացումները նշված են դրական նշանով
A46: Միջոցառման դասիչը` | B46: 12007 | C46: Ինն ամիս | D46: Տարի
A47: Միջոցառման անվանումը` | B47: Լեռնային Ղարաբաղի առանձին շրջաններից բռնի տեղահանված ընտանիքների համար բնակարանային մատչելիության ապահովման պետական աջակցության տրամադրում
A48: Նկարագրությունը` | B48: Լեռնային Ղարաբաղի առանձին շրջաններից բռնի տեղահանված ընտանիքների համար բնակարանային մատչելիության ապահովման պետական աջակցության տրամադրում
A49: Միջոցառման տեսակը` | B49: Տրանսֆերտների տրամադրում
...

Sheet 4
D1: Հավելված N 4
D2: ՀՀ կառավարության 2024 թվականի
D3: -----------------ի N -----------Ն որոշման
A5: ՀԱՅԱՍՏԱՆԻ ՀԱՆՐԱՊԵՏՈՒԹՅԱՆ ԿԱՌԱՎԱՐՈՒԹՅԱՆ 2023 ԹՎԱԿԱՆԻ ԴԵԿՏԵՄԲԵՐԻ 28-Ի N 2323-Ն ՈՐՈՇՄԱՆ N 9.1 ՀԱՎԵԼՎԱԾԻ N 9.1.19 ԱՂՅՈՒՍԱԿՆԵՐՈՒՄ ԿԱՏԱՐՎՈՂ ՓՈՓՈԽՈՒԹՅՈՒՆՆԵՐԸ ԵՎ ԼՐԱՑՈՒՄՆԵՐԸ
A7: ՄԱՍ 1. ՊԵՏԱԿԱՆ ՄԱՐՄՆԻ ԳԾՈՎ ԱՐԴՅՈՒՆՔԱՅԻՆ (ԿԱՏԱՐՈՂԱԿԱՆ) ՑՈՒՑԱՆԻՇՆԵՐԸ
A9: ՀՀ աշխատանքի և սոցիալական հարցերի նախարարության միասնական սոցիալական ծառայություն
A11: Ծրագրի դասիչը | B11: Ծրագրի անվանումը
A12: ='1'!A12 -> 1011 | B12: ='1'!C13 -> Անապահով սոցիալական խմբերին աջակցություն
A13: Ծրագրի միջոցառումներ
A15: Ծրագրի դասիչը` | B15: 1011 | C15: Ցուցանիշների փոփոխությունները նվազեցումները նշված են փակագծերում
A16: Միջոցառման դասիչը` | B16: 12001 | C16: Ինն ամիս | D16: Տարի
A17: Միջոցառման անվանումը` | B17: Ընտանիքի կենսամակարդակի բարձրացմանն ուղղված նպաստներ
A18: Նկարագրությունը` | B18: Ընտանիքների անապահովության գնահատման համակարգում հաշվառված, անապահով ճանաչված ընտանիքներին նպաստի, սոցիալական նպաստի և հրատապ օգնության տրամադրում
A19: Միջոցառման տեսակը` | B19: Տրանսֆերտների տրամադրում
A20: Շահառուների ընտրության չափանիշները | B20: Ընտանիքների անապահովության գնահատման համակարգում հաշվառված ընտանիք (ընտանիքի անապահովության միավորի հիման վրա)
A21: Արդյունքի չափորոշիչներ
A22: Ընտանիքի կենսամակարդակի բարձրացմանն ուղղված նպաստներ ստացող ընտանիքների թիվ, հատ, այդ թվում՛ | C22: =SUM(C23:C24) -> 0 | D22: =SUM(D23:D24) -> -4000
A23: Ընտանիքի կենսամակարդակի բարձրացմանն ուղղված նպաստներ ստացող ՀՀ ընտանիքների թիվ, հատ | C23: 0 | D23: -3000
A24: Ընտանիքի կենսամակարդակի բարձրացմանն ուղղված նպաստներ ստացող ԼՂ ընտանիքների թիվ, հատ | C24: 0 | D24: -1000
A25: Միջոցառման վրա կատարվող ծախսը (հազար դրամ) | C25: ='1'!D19 -> -320000 | D25: ='1'!E19 -> -2320000
A27: Ծրագրի դասիչը` | B27: Ծրագրի անվանումը`
A28: 1082 | B28: Սոցիալական աջակցություն անաշխատունակության դեպքում
A29: Ծրագրի միջոցառումները
A31: Ծրագրի դասիչը` | B31: ='3'!B31 -> 1082 | C31: Ցուցանիշների փոփոխությունները նվազեցումները նշված են փակագծերում
A32: Միջոցառման դասիչը` | B32: ='3'!B32 -> 12003 | C32: Ինն ամիս | D32: Տարի
A33: Միջոցառման անվանումը` | B33: ='3'!B33 -> Աշխատողների աշխատանքային պարտականությունների կատարման հետ կապված խեղման, մասնագիտական հիվանդության և առողջության այլ վնասման հետևանքով պատճառված վնասի փոխհատուցում
A34: Նկարագրությունը` | B34: ='3'!B34 -> Աշխատողների աշխատանքային պարտականությունների կատարման հետ կապված խեղման, մասնագիտական հիվանդության և առողջության այլ վնասման հետևանքով պատճառված վնասի փոխհատուցման տրամադրում
A35: Միջոցառման տեսակը` | B35: ='3'!B35 -> Տրանսֆերտների տրամադրում
A36: Շահառուների ընտրության չափանիշները | B36: ='3'!B36 -> Աշխատանքային պարտականությունների կատարման հետ կապված խեղում, մասնագիտական հիվանդություն և առողջության այլ վնաս ստացած աշխատող անձ
A37: Արդյունքի չափորոշիչներ
A38: Խեղում, մասնագիտական հիվանդություն և առողջության այլ վնասներ ստացածների թիվ, մարդ | D38: -245
A39: Միջոցառման վրա կատարվող ծախսը (հազար դրամ) | C39: =SUM('1'!D32) -> -80000 | D39: =SUM('1'!E32) -> -100000
A41: Ծրագրի դասիչը | B41: Ծրագրի անվանումը
A42: 1098 | B42: ='3'!B42 -> Բնակարանային ապահովում
A43: Ծրագրի միջոցառումներ
A45: Ծրագրի դասիչը` | B45: ='3'!B45 -> 1098 | C45: Ցուցանիշների փոփոխությունները ավելացումները նշված են դրական նշանով
A46: Միջոցառման դասիչը` | B46: ='3'!B46 -> 12007 | C46: Ինն ամիս | D46: Տարի
A47: Միջոցառման անվանումը` | B47: ='3'!B47 -> Լեռնային Ղարաբաղի առանձին շրջաններից բռնի տեղահանված ընտանիքների համար բնակարանային մատչելիության ապահովման պետական աջակցության տրամադրում
A48: Նկարագրությունը` | B48: ='3'!B48 -> Լեռնային Ղարաբաղի առանձին շրջաններից բռնի տեղահանված ընտանիքների համար բնակարանային մատչելիության ապահովման պետական աջակցության տրամադրում
A49: Միջոցառման տեսակը` | B49: ='3'!B49 -> Տրանսֆերտների տրամադրում
...
