Workbook
Name a: #REF!
Name a: #REF!
Name a: #REF!
Name AgencyCode: #REF!
Name AgencyCode: #REF!
Name AgencyCode: #REF!
Name AgencyCode: #REF!
Name AgencyCode: #REF!
Name AgencyCode: #REF!
Name AgencyName: #REF!
Name AgencyName: #REF!
Name AgencyName: #REF!
Name davit: #REF!
Name davit: #REF!
Name davit: #REF!
Name Functional1: #REF!
Name Functional1: #REF!
Name Functional1: #REF!
Name ggg: #REF!
Name ggg: #REF!
Name ggg: #REF!
Name PANature: #REF!
Name PANature: #REF!
Name PANature: #REF!
Name PAType: #REF!
Name PAType: #REF!
Name PAType: #REF!
Name Performance2: #REF!
Name Performance2: #REF!
Name Performance2: #REF!
Name PerformanceType: #REF!
Name PerformanceType: #REF!
Name PerformanceType: #REF!
Name Հավելված: #REF!
Name Հավելված: #REF!
Name Հավելված: #REF!
Name Հավելված10: #REF!
Name Հավելված10: #REF!
Name Հավելված10: #REF!
Name Հավելված11: #REF!
Name Հավելված11: #REF!
Name Հավելված11: #REF!
Name Հավելված20: #REF!
Name Հավելված20: #REF!
Name Հավելված20: #REF!
Name Հավելված9: #REF!
Name Հավելված9: #REF!
Name Հավելված9: #REF!
Name Մաս: #REF!
Name Մաս: #REF!
Name Մաս: #REF!
Name շախմատիստ: #REF!
Name շախմատիստ: #REF!
Name շախմատիստ: #REF!

Sheet Հավելված N 1
F1: Հավելված N 1
F2: ՀՀ կառավարության 2024 թվականի
F3: ______________ ի ___Ն որոշման
A7: ՀԱՅԱՍՏԱՆԻ ՀԱՆՐԱՊԵՏՈՒԹՅԱՆ ԿԱՌԱՎԱՐՈՒԹՅԱՆ 2023 ԹՎԱԿԱՆԻ ԴԵԿՏԵՄԲԵՐԻ 28-Ի N 2323-Ն ՈՐՈՇՄԱՆ N 3 ԵՎ N 4 ՀԱՎԵԼՎԱԾՆԵՐՈՒՄ ԿԱՏԱՐՎՈՂ ՓՈՓՈԽՈՒԹՅՈՒՆԸ ԵՎ ԼՐԱՑՈՒՄԸ
H10: հազ. դրամներով
A11: Գործառական դասիչը | D11: Ծրագրային դասիչը | F11: Բյուջետային հատկացումների գլխավոր կարգադրիչների, ծրագրերի, միջոցառումների և միջոցառումները կատարող պետական մարմինների անվանումները | G11: Ցուցանիշների փոփոխությունը (ավելացումները նշված են դրական նշանով, իսկ նվազեցումները փակագծերում)
A12: Բաժին | B12: Խումբ | C12: Դաս | D12: Ծրագիր | E12: Միջոցառում | G12: Ինն ամիս | H12: Տարի
F13: ԸՆԴԱՄԵՆԸ | G13: =+G15 -> 0 | H13: =+H15 -> 0
F14: այդ թվում՝
F15: ՀՀ ԿՐԹՈՒԹՅԱՆ, ԳԻՏՈՒԹՅԱՆ, ՄՇԱԿՈՒՅԹԻ ԵՎ ՍՊՈՐՏԻ ՆԱԽԱՐԱՐՈՒԹՅՈՒՆ | G15: =+G16 -> 0 | H15: =+H16 -> 0
A16: 09 | F16: ԿՐԹՈՒԹՅՈՒՆ | G16: =G18 -> 0 | H16: =H18 -> 0
F17: այդ թվում`
B18: 02 | F18: Միջնակարգ ընդհանուր կրթություն | G18: =+G20 -> 0 | H18: =+H20 -> 0
F19: այդ թվում`
F20: Հիմնական ընդհանուր կրթություն | G20: =+G22 -> 0 | H20: =+H22 -> 0
C21: 01 | F21: այդ թվում`
F22: ՀՀ կրթության, գիտության, մշակույթի և սպորտի նախարարություն | G22: =+G24 -> 0 | H22: =+H24 -> 0
F23: այդ թվում`
D24: 1236 | E24: Հանրակրթական և նախադպրոցական հաստատությունների հիմնում, կառուցում, բարելավում | G24: =+G26 -> 0 | H24: =+H26 -> 0
F25: այդ թվում`
E26: 32003 | F26: Հանրակրթական դպրոցների նոր շենքերի կառուցում | G26: =+G28+G35 -> 0 | H26: =+H28+H35 -> 0
F27: այդ թվում` ըստ կատարողների
F28: ՀՀ քաղաքաշինության կոմիտե | G28: =+G30 -> 30241.7 | H28: =+H30 -> 30241.7
F29: այդ թվում՝ բյուջետային ծախսերի տնտեսագիտական դասակարգման հոդվածներ
F30: ԸՆԴԱՄԵՆԸ ԾԱԽՍԵՐ | G30: =G31 -> 30241.7 | H30: =H31 -> 30241.7
F31: ՈՉ ՖԻՆԱՆՍԱԿԱՆ ԱԿՏԻՎՆԵՐԻ ԳԾՈՎ ԾԱԽՍԵՐ | G31: =+G32 -> 30241.7 | H31: =+H32 -> 30241.7
F32: ՀԻՄՆԱԿԱՆ ՄԻՋՈՑՆԵՐ | G32: =+G33 -> 30241.7 | H32: =+H33 -> 30241.7
F33: ՇԵՆՔԵՐ ԵՎ ՇԻՆՈՒԹՅՈՒՆՆԵՐ | G33: =+G34 -> 30241.7 | H33: =+H34 -> 30241.7
F34: - Շենքերի և շինությունների շինարարություն | G34: =+'Հավելված N 3'!E15 -> 30241.7 | H34: =+'Հավելված N 3'!F15 -> 30241.7
F35: ՀՀ կառավարություն | G35: =+G37 -> -30241.7 | H35: =+H37 -> -30241.7
F36: այդ թվում՝ բյուջետային ծախսերի տնտեսագիտական դասակարգման հոդվածներ
F37: ԸՆԴԱՄԵՆԸ ԾԱԽՍԵՐ | G37: =G38 -> -30241.7 | H37: =H38 -> -30241.7
F38: ՈՉ ՖԻՆԱՆՍԱԿԱՆ ԱԿՏԻՎՆԵՐԻ ԳԾՈՎ ԾԱԽՍԵՐ | G38: =+G39 -> -30241.7 | H38: =+H39 -> -30241.7
F39: ՀԻՄՆԱԿԱՆ ՄԻՋՈՑՆԵՐ | G39: =+G40 -> -30241.7 | H39: =+H40 -> -30241.7
F40: ՇԵՆՔԵՐ ԵՎ ՇԻՆՈՒԹՅՈՒՆՆԵՐ | G40: =+G41 -> -30241.7 | H40: =+H41 -> -30241.7
F41: - Շենքերի և շինությունների շինարարություն | G41: =+'Հավելված N 3'!E21 -> -30241.7 | H41: =+'Հավելված N 3'!F21 -> -30241.7

Sheet Հավելված N 2
F1: Հավելված N 2
F2: ՀՀ կառավարության 2024 թվականի
F3: ______________ ի ___Ն որոշման
A5: «ՀԱՅԱUՏԱՆԻ ՀԱՆՐԱՊԵՏՈՒԹՅԱՆ 2024 ԹՎԱԿԱՆԻ ՊԵՏԱԿԱՆ ԲՅՈՒՋԵԻ ՄԱUԻՆ» ՀԱՅԱUՏԱՆԻ ՀԱՆՐԱՊԵՏՈՒԹՅԱՆ OՐԵՆՔԻ N 1 ՀԱՎԵԼՎԱԾԻ N 3 ԱՂՅՈՒՍԱԿՈՒՄ ԿԱՏԱՐՎՈՂ ՓՈՓՈԽՈՒԹՅՈՒՆԸ ԵՎ ԼՐԱՑՈՒՄՆԵՐԸ
G8: հազ. դրամներով
A9: Ծրագրային դասիչ | C9: Բյուջետային գլխավոր կարգադրիչների, ծրագրերի, միջոցառումների, միջոցառումները կատարող պետական մարմինների և ուղղությունների անվանումները | D9: Ընդամենը | E9: Ցուցանիշների փոփոխությունը (ավելացումները նշված են դրական նշանով, իսկ նվազեցումները՝ փակագծերում)
A10: Ծրագիր | B10: Միջոցառում | E10: Կառուցման աշխատանքներ | F10: Վերակառուցման, վերանորոգման և վերականգնման աշխատանքներ | G10: Նախագծահե- տազոտական, գեոդեզիա- քարտեզագրա- կան աշխա- տանքներ | H10: Ոչ ֆինանսական այլ ակտիվների ձեռքբերում
C11: ԸՆԴԱՄԵՆԸ | D11: =SUM(E11:H11) -> 0 | E11: =+E13 -> 0 | F11: =+F13 -> 0 | G11: =+G13 -> 0 | H11: =+H13 -> 0
C12: այդ թվում՝
C13: ՀՀ ԿՐԹՈՒԹՅԱՆ, ԳԻՏՈՒԹՅԱՆ, ՄՇԱԿՈՒՅԹԻ ԵՎ ՍՊՈՐՏԻ ՆԱԽԱՐԱՐՈՒԹՅՈՒՆ | D13: =SUM(E13:H13) -> 0 | E13: =E15 -> 0 | F13: =F15 -> 0 | G13: =G15 -> 0 | H13: =H15 -> 0
C14: այդ թվում`
A15: 1236 | B15: 32003 | C15: Հանրակրթական դպրոցների նոր շենքերի կառուցում | D15: =SUM(E15:H15) -> 0 | E15: =+E17+E18+E20 -> 0 | F15: =+F17+F18+F20 -> 0 | G15: =+G17+G18+G20 -> 0 | H15: =+H17+H18+H20 -> 0
C16: այդ թվում`
C17: Հանրակրթական դպրոցների նոր շենքերի կառուցում | D17: =SUM(E17:H17) -> -30241.7 | E17: =-E18-E20 -> -30241.7 | F17: =-F18-F20 -> 0 | G17: =-G18-G20 -> 0 | H17: =-H18-H20 -> 0
C18: ՀՀ Շիրակի մարզ | D18: =SUM(E18:H18) -> 10380.8 | E18: =+E19 -> 10380.8 | F18: =+F19 -> 0 | G18: =+G19 -> 0 | H18: =+H19 -> 0
C19: Կապսի միջնակարգ դպրոց ՊՈԱԿ | D19: =+E19+F19+G19+H19 -> 10380.8 | E19: =+'Հավելված N 5'!I17 -> 10380.8
C20: ՀՀ Տավուշի մարզ | D20: =SUM(E20:H20) -> 19860.9 | E20: =+E21 -> 19860.9 | F20: =+F21 -> 0 | G20: =+G21 -> 0 | H20: =+H21 -> 0
C21: «Կիրանցի Գ.Վարդանյանի անվ. հիմնական դպրոց» ՊՈԱԿ | D21: =+E21+F21+G21+H21 -> 19860.9 | E21: =+'Հավելված N 5'!I18 -> 19860.9

Sheet Հավելված N 3
E1: Հավելված N 3
E2: ՀՀ կառավարության 2024 թվականի
E3: ______________ ի ___Ն որոշման
B6: ՀԱՅԱՍՏԱՆԻ ՀԱՆՐԱՊԵՏՈՒԹՅԱՆ ԿԱՌԱՎԱՐՈՒԹՅԱՆ 2023 ԹՎԱԿԱՆԻ ԴԵԿՏԵՄԲԵՐԻ 28-Ի N 2323-Ն ՈՐՈՇՄԱՆ N 5 ՀԱՎԵԼՎԱԾԻ N 2 ԱՂՅՈՒՍԱԿՈՒՄ ԿԱՏԱՐՎՈՂ ՓՈՓՈԽՈՒԹՅՈՒՆԸ ԵՎ ԼՐԱՑՈՒՄՆԵՐԸ
F8: հազ. դրամներով
B9: Ծրագրային դասիչ | D9: Բյուջետային գլխավոր կարգադրիչների, ծրագրերի, միջոցառումների, միջոցառումները կատարող պետական մարմինների և ուղղությունների անվանումները | E9: Ցուցանիշների փոփոխությունը (ավելացումները նշված են դրական նշանով, իսկ նվազեցումները՝ փակագծերում)
B10: Ծրագիր | C10: Միջոցառում | E10: Ինն ամիս | F10: Տարի
D11: ՀՀ ԿՐԹՈՒԹՅԱՆ, ԳԻՏՈՒԹՅԱՆ, ՄՇԱԿՈՒՅԹԻ ԵՎ ՍՊՈՐՏԻ ՆԱԽԱՐԱՐՈՒԹՅՈՒՆ | E11: =E13 -> 0 | F11: =F13 -> 0
D12: այդ թվում՝
B13: 1236 | C13: 32003 | D13: Հանրակրթական դպրոցների նոր շենքերի կառուցում | E13: =+E15+E21 -> 0 | F13: =+F15+F21 -> 0
D14: այդ թվում` ըստ կատարողների
D15: ՀՀ քաղաքաշինության կոմիտե | E15: =+E17+E19 -> 30241.7 | F15: =+F17+F19 -> 30241.7
D16: այդ թվում՝ ըստ ուղղությունների
D17: ՀՀ Շիրակի մարզ | E17: =SUM(E18:E18) -> 10380.8 | F17: =SUM(F18:F18) -> 10380.8
D18: =+'Հավելված N 2'!C19 -> Կապսի միջնակարգ դպրոց ՊՈԱԿ | E18: =+F18 -> 10380.8 | F18: =+'Հավելված N 2'!D19 -> 10380.8
D19: ՀՀ Տավուշի մարզ | E19: =SUM(E20:E20) -> 19860.9 | F19: =SUM(F20:F20) -> 19860.9
D20: =+'Հավելված N 2'!C21 -> «Կիրանցի Գ.Վարդանյանի անվ. հիմնական դպրոց» ՊՈԱԿ | E20: =+F20 -> 19860.9 | F20: =+'Հավելված N 2'!D21 -> 19860.9
D21: ՀՀ կառավարություն | E21: =+F21 -> -30241.7 | F21: =+'Հավելված N 2'!D17 -> -30241.7

Sheet Հավելված N 4
C1: Հավելված N 4
C2: ՀՀ կառավարության 2024 թվականի
C3: ______________ ի ___Ն որոշման
B6: ՀԱՅԱՍՏԱՆԻ ՀԱՆՐԱՊԵՏՈՒԹՅԱՆ ԿԱՌԱՎԱՐՈՒԹՅԱՆ 2023 ԹՎԱԿԱՆԻ ԴԵԿՏԵՄԲԵՐԻ 28-Ի N 2323-Ն ՈՐՈՇՄԱՆ N 9.1 ՀԱՎԵԼՎԱԾԻ N 9.1.39 ԱՂՅՈՒՍԱԿՈՒՄ ԿԱՏԱՐՎՈՂ ԼՐԱՑՈՒՄԸ ԵՎ N 9.1.58 ԱՂՅՈՒՍԱԿՈՒՄ ԿԱՏԱՐՎՈՂ ՓՈՓՈԽՈՒԹՅՈՒՆԸ
A9: Աղյուսակ 9․1.39
C10: ՀՀ քաղաքաշինության կոմիտե
B11: ՄԱՍ 1. ՊԵՏԱԿԱՆ ՄԱՐՄՆԻ ԳԾՈՎ ԱՐԴՅՈՒՆՔԱՅԻՆ (ԿԱՏԱՐՈՂԱԿԱՆ) ՑՈՒՑԱՆԻՇՆԵՐԸ
B15: Ծրագրի միջոցառումները
B16: Ծրագրի դասիչը՝ | C16: 1236 | D16: Ցուցանիշների փոփոխությունը (ավելացումները նշված են դրական նշանով)
B17: Միջոցառման դասիչը՝ | C17: 32003 | D17: Ինն ամիս | E17: Տարի
B18: Միջոցառման անվանումը` | C18: Հանրակրթական դպրոցների նոր շենքերի կառուցում
B19: Նկարագրությունը` | C19: ՀՀ մարզերում կրթական որակյալ ծառայությունների հասանելիության ապահովման ծրագրի շրջանակներում հանրակրթական և նախադպրոցական կրթության հասանելիության ապահովման նպատակով կրթական կենտրոնների կառուցում
B20: Միջոցառման տեսակը` | C20: Այլ պետական կազմակերպությունների կողմից օգտագործվող ոչ ֆինանսական ակտիվների հետ գործառնություններ
B21: Ակտիվն օգտագործող կազմակերպությունների անվանումները | C21: Հանրակրթական դպրոցներ
B22: Արդյունքի չափորոշիչներ
B23: Միջոցառման վրա կատարվող ծախսը (հազար դրամ) | D23: =+'Հավելված N 1'!G28 -> 30241.7 | E23: =+'Հավելված N 1'!H28 -> 30241.7
A29: Աղյուսակ 9․1.58
C30: ՀՀ կառավարություն
B31: ՄԱՍ 1. ՊԵՏԱԿԱՆ ՄԱՐՄՆԻ ԳԾՈՎ ԱՐԴՅՈՒՆՔԱՅԻՆ (ԿԱՏԱՐՈՂԱԿԱՆ) ՑՈՒՑԱՆԻՇՆԵՐԸ
B34: Ծրագրի միջոցառումները
B35: Ծրագրի դասիչը՝ | C35: 1236 | D35: Ցուցանիշների փոփոխությունը (նվազեցումները նշված են փակագծերում)
B36: Միջոցառման դասիչը՝ | C36: 32003 | D36: Ինն ամիս | E36: Տարի
B37: Միջոցառման անվանումը` | C37: Հանրակրթական դպրոցների նոր շենքերի կառուցում
B38: Նկարագրությունը` | C38: ՀՀ մարզերում կրթական որակյալ ծառայությունների հասանելիության ապահովման ծրագրի շրջանակներում հանրակրթական և նախադպրոցական կրթության հասանելիության ապահովման նպատակով կրթական կենտրոնների կառուցում
B39: Միջոցառման տեսակը` | C39: Այլ պետական կազմակերպությունների կողմից օգտագործվող ոչ ֆինանսական ակտիվների հետ գործառնություններ
B40: Ակտիվն օգտագործող կազմակերպությունների անվանումները | C40: Հանրակրթական դպրոցներ
B41: Արդյունքի չափորոշիչներ
B42: Միջոցառման վրա կատարվող ծախսը (հազար դրամ) | D42: =+'Հավելված N 1'!G35 -> -30241.7 | E42: =+'Հավելված N 1'!H35 -> -30241.7

Sheet Հավելված N 5
H1: Հավելված N 5
H2: ՀՀ կառավարության 2024 թվականի
H3: ______________ ի ___Ն որոշման
A6: ՀԱՅԱՍՏԱՆԻ ՀԱՆՐԱՊԵՏՈՒԹՅԱՆ ԿԱՌԱՎԱՐՈՒԹՅԱՆ 2023 ԹՎԱԿԱՆԻ ԴԵԿՏԵՄԲԵՐԻ 28-Ի N 2323-Ն N 10 ՀԱՎԵԼՎԱԾՈՒՄ ԿԱՏԱՐՎՈՂ ԼՐԱՑՈՒՄՆԵՐԸ
A10: Կոդը | B10: Անվանումը | E10: Գնման ձևը | F10: Չափման միավորը | G10: Միավորի գինը | H10: Ցուցանիշների փոփոխությունը (ավելացումները նշված են դրական նշանով)
H11: Քանակը | I11: Գումարը (հազար դրամ)
A12: 1 | B12: 2 | E12: 3 | F12: 4 | G12: 5 | H12: 6 | I12: 7
A13: ՀՀ քաղաքաշինության կոմիտե | I13: =I14 -> 30241.7
A14: Բաժին N 09 | B14: Խումբ N 02 | C14: Դաս N 01 | D14: Հիմնական ընդհանուր կրթություն | I14: =+I15 -> 30241.7
A15: 1236-32003 | B15: Հանրակրթական դպրոցների նոր շենքերի կառուցում | I15: =+I16 -> 30241.7
B16: ՄԱՍ II. ԱՇԽԱՏԱՆՔՆԵՐ | I16: =SUM(I17:I18) -> 30241.7
A17: 45221142-112 | B17: ընդհանուր շինարարական աշխատանքներ | E17: ԲՄ | F17: դրամ | I17: 10380.8
A18: 45211231-16 | B18: միջնակարգ դպրոցների կառուցման աշխատանքներ | E18: ԲՄ | F18: դրամ | I18: 19860.9
