Workbook
Name a: #REF!
Name a: #REF!
Name AgencyCode: #REF!
Name AgencyCode: #REF!
Name AgencyCode: #REF!
Name AgencyCode: #REF!
Name AgencyCode: #REF!
Name AgencyName: #REF!
Name AgencyName: #REF!
Name AgencyName: #REF!
Name AgencyName: #REF!
Name AgencyName: #REF!
Name davit: #REF!
Name davit: #REF!
Name davit: #REF!
Name davit: #REF!
Name Functional1: #REF!
Name Functional1: #REF!
Name Functional1: #REF!
Name Functional1: #REF!
Name Functional1: #REF!
Name ggg: #REF!
Name ggg: #REF!
Name ggg: #REF!
Name ggg: #REF!
Name HAVELVAC10: #REF!
Name PANature: #REF!
Name PANature: #REF!
Name PANature: #REF!
Name PANature: #REF!
Name PANature: #REF!
Name PAType: #REF!
Name PAType: #REF!
Name PAType: #REF!
Name PAType: #REF!
Name PAType: #REF!
Name Performance2: #REF!
Name Performance2: #REF!
Name Performance2: #REF!
Name Performance2: #REF!
Name Performance2: #REF!
Name PerformanceType: #REF!
Name PerformanceType: #REF!
Name PerformanceType: #REF!
Name PerformanceType: #REF!
Name PerformanceType: #REF!
Name Հավելված: #REF!
Name Հավելված: #REF!
Name Հավելված: #REF!
Name Հավելված: #REF!
Name Մաս: #REF!
Name Մաս: #REF!
Name Մաս: #REF!
Name Մաս: #REF!
Name շախմատիստ: #REF!
Name շախմատիստ: #REF!
Name շախմատիստ: #REF!
Name շախմատիստ: #REF!

Sheet Havelvats 1
D1: Հավելված N 1
D2: ՀՀ կառավարության 2024 թվականի
D3: ______________ ի ___Ն որոշման
A5: «ՀԱՅԱUՏԱՆԻ ՀԱՆՐԱՊԵՏՈՒԹՅԱՆ 2024 ԹՎԱԿԱՆԻ ՊԵՏԱԿԱՆ ԲՅՈՒՋԵԻ ՄԱUԻՆ» ՀԱՅԱUՏԱՆԻ ՀԱՆՐԱՊԵՏՈՒԹՅԱՆ OՐԵՆՔԻ N 1 ՀԱՎԵԼՎԱԾԻ N 2 ԱՂՅՈՒՍԱԿՈՒՄ ԿԱՏԱՐՎՈՂ ՎԵՐԱԲԱՇԽՈՒՄԸ ԵՎ ԼՐԱՑՈՒՄ, ՀԱՅԱՍՏԱՆԻ ՀԱՆՐԱՊԵՏՈՒԹՅԱՆ ԿԱՌԱՎԱՐՈՒԹՅԱՆ 2023 ԹՎԱԿԱՆԻ ԴԵԿՏԵՄԲԵՐԻ 28-Ի «ՀԱՅԱՍՏԱՆԻ ՀԱՆՐԱՊԵՏՈՒԹՅԱՆ 2024 ԹՎԱԿԱՆԻ ՊԵՏԱԿԱՆ ԲՅՈՒՋԵԻ ԿԱՏԱՐՈՒՄՆ ԱՊԱՀՈՎՈՂ ՄԻՋՈՑԱՌՈՒՄՆԵՐԻ ՄԱՍԻՆ» N 2323-Ն ՈՐՈՇՄԱՆ N 5 ՀԱՎԵԼՎԱԾԻ N 1 ԱՂՅՈՒՍԱԿՈՒՄ ԿԱՏԱՐՎՈՂ ՓՈՓՈԽՈՒԹՅՈՒՆՆԵՐԸ ԵՎ ԼՐԱՑՈՒՄՆԵՐԸ
D6: հազար դրամներով
A7: Ծրագրային դասիչը | C7: Բյուջետային հատկացումների գլխավոր կարգադրիչների, ծրագրերի և միջոցառումների անվանումները | D7: Ցուցանիշների փոփոխությունը (ավելացումները նշված են դրական նշանով, իսկ նվազեցումները՝ փակագծերում)
A8: Ծրագիր | B8: Միջոցառում | D8: Ինն ամիս | E8: Տարի
C9: ԸՆԴԱՄԵՆԸ | D9: =+D11+D25 -> 0 | E9: =+E11+E25 -> 0
C10: այդ թվում
C11: ՀՀ ԿՐԹՈՒԹՅԱՆ, ԳԻՏՈՒԹՅԱՆ, ՄՇԱԿՈՒՅԹԻ ԵՎ ՍՊՈՐՏԻ ՆԱԽԱՐԱՐՈՒԹՅՈՒՆ | D11: =D12 -> 380993.3 | E11: =E12 -> 476241.6
A12: 1041 | C12: Ծրագրի անվանումը` | D12: =D19 -> 380993.3 | E12: =E19 -> 476241.6
C13: Մեծ նվաճումների սպորտ
C14: Ծրագրի նպատակը`
C15: Նպաստել Հայաստանում մեծ սպորտի շարունակական զարգացմանը և միջազգային հարթակներում ՀՀ դիրքի բարելավմանը
C16: Վերջնական արդյունքի նկարագրությունը`
C17: ՀՀ առաջնությունների ընդլայնում, միջազգային սպորտային միջոցառումներին մասնակցության և նվաճումների ապահովում
C18: Ծրագրի միջոցառումներ
B19: 11052 | C19: Միջոցառման անվանումը` | D19: 380993.3 | E19: 476241.6
C20: Երևանում զինվորականների ըմբշամարտի աշխարհի 37-րդ առաջնության անցկացում
C21: Միջոցառման նկարագրությունը`
C22: Երևանում զինվորականների ըմբշամարտի աշխարհի 37-րդ առաջնության կազմակերպում և անցկացում
C23: Միջոցառման տեսակը
C24: Ծառայությունների մատուցում
C25: ՀՀ ԿԱՌԱՎԱՐՈՒԹՅՈՒՆ | D25: =+D26 -> -380993.3 | E25: =+E26 -> -476241.6
A26: 1139 | C26: Ծրագրի անվանումը` | D26: =+D32 -> -380993.3 | E26: =+E32 -> -476241.6
C27: ՀՀ կառավարության պահուստային ֆոնդ
C28: Ծրագրի նպատակը`
C29: Պետական բյուջեում չկանխատեսված, ինչպես նաև բյուջետային երաշխիքների ապահովման ծախսերի ֆինանսավորման ապահովում
C30: Վերջնական արդյունքի նկարագրությունը`
C31: Պահուստային ֆոնդի կառավարման արդյունավետության և թափանցիկության ապահովում
B32: 11001 | C32: Միջոցառման անվանումը` | D32: -380993.3 | E32: -476241.6
C33: ՀՀ կառավարության պահուստային ֆոնդ
C34: Միջոցառման նկարագրությունը`
C35: ՀՀ պետական բյուջեում նախատեսված ելքերի լրացուցիչ ֆինանսավորման՝ պետական բյուջեում չկանխատեսված ելքերի, ինչպես նաև բյուջետային երաշխիքների ապահովման ելքերի ֆինանսավորման ապահովում
C36: Միջոցառման տեսակը
C37: Ծառայությունների մատուցում

Sheet Havelvats 2 
G1: Հավելված N 2
G2: ՀՀ կառավարության 2024 թվականի
G3: ______________ ի ___Ն որոշման
A5: ՀԱՅԱՍՏԱՆԻ ՀԱՆՐԱՊԵՏՈՒԹՅԱՆ ԿԱՌԱՎԱՐՈՒԹՅԱՆ 2023 ԹՎԱԿԱՆԻ ԴԵԿՏԵՄԲԵՐԻ 28-Ի «ՀԱՅԱՍՏԱՆԻ ՀԱՆՐԱՊԵՏՈՒԹՅԱՆ 2024 ԹՎԱԿԱՆԻ ՊԵՏԱԿԱՆ ԲՅՈՒՋԵԻ ԿԱՏԱՐՈՒՄՆ ԱՊԱՀՈՎՈՂ ՄԻՋՈՑԱՌՈՒՄՆԵՐԻ ՄԱՍԻՆ» N 2323-Ն ՈՐՈՇՄԱՆ N 3 ԵՎ N 4 ՀԱՎԵԼՎԱԾՆԵՐՈՒՄ ԿԱՏԱՐՎՈՂ ՓՈՓՈԽՈՒԹՅՈՒՆՆԵՐԸ ԵՎ ԼՐԱՑՈՒՄՆԵՐԸ
G8: հազար դրամներով
A9: Գործառական դասիչը | D9: Ծրագրային դասիչը | F9: Բյուջետային հատկացումների գլխավոր կարգադրիչների, ծրագրերի, միջոցառումների և միջոցառումները կատարող պետական մարմինների անվանումները | G9: Ցուցանիշների փոփոխությունը (ավելացումները նշված են դրական նշանով, իսկ նվազեցումները՝ փակագծերում)
A10: Բաժին | B10: Խումբ | C10: Դաս | D10: Ծրագիր | E10: Միջոցառում | G10: Ինն ամիս | H10: Տարի
F11: ԸՆԴԱՄԵՆԸ | G11: =G13+G33 -> 0 | H11: =H13+H33 -> 0
F12: այդ թվում
F13: ՀՀ ԿՐԹՈՒԹՅԱՆ, ԳԻՏՈՒԹՅԱՆ, ՄՇԱԿՈՒՅԹԻ ԵՎ ՍՊՈՐՏԻ ՆԱԽԱՐԱՐՈՒԹՅՈՒՆ | G13: =G14 -> 380993.3 | H13: =H14 -> 476241.6
A14: 08 | F14: ՀԱՆԳԻՍՏ, ՄՇԱԿՈՒՅԹ ԵՎ ԿՐՈՆ | G14: =G16 -> 380993.3 | H14: =H16 -> 476241.6
F15: այդ թվում`
B16: 01 | F16: Հանգստի և սպորտի ծառայություններ | G16: =G18 -> 380993.3 | H16: =H18 -> 476241.6
F17: այդ թվում`
C18: 01 | F18: Հանգստի և սպորտի ծառայություններ | G18: =G20 -> 380993.3 | H18: =H20 -> 476241.6
F19: այդ թվում`
F20: ՀՀ կրթության, գիտության, մշակույթի և սպորտի նախարարություն | G20: =G22 -> 380993.3 | H20: =H22 -> 476241.6
F21: այդ թվում`
D22: 1041 | E22: Մեծ նվաճումների սպորտ | G22: =+G24 -> 380993.3 | H22: =+H24 -> 476241.6
F23: այդ թվում`
E24: 11052 | F24: Երևանում զինվորականների ըմբշամարտի աշխարհի 37-րդ առաջնության անցկացում | G24: =G26 -> 380993.3 | H24: =H26 -> 476241.6
F25: այդ թվում` ըստ կատարողների
F26: ՀՀ կրթության, գիտության, մշակույթի և սպորտի նախարարություն | G26: =G28 -> 380993.3 | H26: =H28 -> 476241.6
F27: այդ թվում՝ բյուջետային ծախսերի տնտեսագիտական դասակարգման հոդվածներ
F28: ԸՆԴԱՄԵՆԸ ԾԱԽՍԵՐ | G28: =G29 -> 380993.3 | H28: =H29 -> 476241.6
F29: ԸՆԹԱՑԻԿ ԾԱԽՍԵՐ | G29: =+G30 -> 380993.3 | H29: =+H30 -> 476241.6
F30: ԴՐԱՄԱՇՆՈՐՀՆԵՐ | G30: =G31 -> 380993.3 | H30: =H31 -> 476241.6
F31: Ընթացիկ դրամաշնորհներ պետական հատվածի այլ մակարդակներին | G31: =G32 -> 380993.3 | H31: =H32 -> 476241.6
F32: - Այլ ընթացիկ դրամաշնորհներ | G32: ='Havelvats 1'!D19 -> 380993.3 | H32: ='Havelvats 1'!E19 -> 476241.6
F33: ՀՀ ԿԱՌԱՎԱՐՈՒԹՅՈՒՆ | G33: =+G34 -> -380993.3 | H33: =+H34 -> -476241.6
A34: 11 | F34: ՀԻՄՆԱԿԱՆ ԲԱԺԻՆՆԵՐԻՆ ՉԴԱՍՎՈՂ ՊԱՀՈՒՍՏԱՅԻՆ ՖՈՆԴԵՐ | G34: =+G36 -> -380993.3 | H34: =+H36 -> -476241.6
F35: այդ թվում`
B36: 01 | F36: ՀՀ կառավարության և համայնքների պահուստային ֆոնդ | G36: =+G38 -> -380993.3 | H36: =+H38 -> -476241.6
F37: այդ թվում`
C38: 01 | F38: ՀՀ կառավարության պահուստային ֆոնդ | G38: =G40 -> -380993.3 | H38: =H40 -> -476241.6
F39: այդ թվում`
F40: ՀՀ կառավարություն | G40: =+G42 -> -380993.3 | H40: =+H42 -> -476241.6
F41: այդ թվում`
D42: 1139 | E42: ՀՀ կառավարության պահուստային ֆոնդ | F42: ՀՀ կառավարության պահուստային ֆոնդ | G42: =+G51 -> -380993.3 | H42: =+H51 -> -476241.6
F43: այդ թվում`
...

Sheet Havelvac 3
F1: Հավելված N 3
F2: ՀՀ կառավարության 2024 թվականի
F3: ______________ ի ___Ն որոշման
A6: ՀԱՅԱՍՏԱՆԻ ՀԱՆՐԱՊԵՏՈՒԹՅԱՆ ԿԱՌԱՎԱՐՈՒԹՅԱՆ 2023 ԹՎԱԿԱՆԻ ԴԵԿՏԵՄԲԵՐԻ 28-Ի «ՀԱՅԱՍՏԱՆԻ ՀԱՆՐԱՊԵՏՈՒԹՅԱՆ 2024 ԹՎԱԿԱՆԻ ՊԵՏԱԿԱՆ ԲՅՈՒՋԵԻ ԿԱՏԱՐՈՒՄՆ ԱՊԱՀՈՎՈՂ ՄԻՋՈՑԱՌՈՒՄՆԵՐԻ ՄԱՍԻՆ» N 2323-Ն ՈՐՈՇՄԱՆ N 5 ՀԱՎԵԼՎԱԾԻ N 7 ԱՂՅՈՒՍԱԿՈՒՄ ԿԱՏԱՐՎՈՂ ԼՐԱՑՈՒՄՆԵՐԸ
G7: հազար դրամներով
A8: Ծրագրային դասիչը | C8: Բյուջետային հատկացումների գլխավոր կարգադրիչների, ծրագրերի, միջոցառումների և միջոցառումները կատարող պետական մարմինների անվանումները | F8: Միջոցառումները կատարող պետական մարմինների և դրամաշնորհ ստացող տնտեսվարող սուբյեկտների անվանումները | G8: Ցուցանիշների փոփոխությունը (ավելացումները նշված են դրական նշանով )
A9: Ծրագիր | B9: Միջոցառում | G9: Տարի
A10: ՀՀ կրթության, գիտության, մշակույթի և սպորտի նախարարություն | G10: =+G11 -> 476241.6
A11: 1041 | B11: Մեծ նվաճումների սպորտ | G11: =+G12 -> 476241.6
B12: 11052 | C12: Երևանում զինվորականների ըմբշամարտի աշխարհի 37-րդ առաջնության անցկացում | F12: ՀՀ կրթության, գիտության, մշակույթի և սպորտի նախարարություն | G12: =SUM(G13:G13) -> 476241.6
F13: Մրցույթով ընտրված կազմակերպություն | G13: 476241.6

Sheet Havelvats 4
A1: Հավելված N 4
A2: ՀՀ կառավարության 2024թվականի
A3: ______________ ի ___Ն որոշման
B5: ՀԱՅԱՍՏԱՆԻ ՀԱՆՐԱՊԵՏՈՒԹՅԱՆ ԿԱՌԱՎԱՐՈՒԹՅԱՆ 2023 ԹՎԱԿԱՆԻ ԴԵԿՏԵՄԲԵՐԻ 28-Ի «ՀԱՅԱՍՏԱՆԻ ՀԱՆՐԱՊԵՏՈՒԹՅԱՆ 2024 ԹՎԱԿԱՆԻ ՊԵՏԱԿԱՆ ԲՅՈՒՋԵԻ ԿԱՏԱՐՈՒՄՆ ԱՊԱՀՈՎՈՂ ՄԻՋՈՑԱՌՈՒՄՆԵՐԻ ՄԱՍԻՆ» N 2323-Ն ՈՐՈՇՄԱՆ N 9 ՀԱՎԵԼՎԱԾԻ N 9.13 և 9.48 ԱՂՅՈՒՍԱԿՆԵՐՈՒՄ ԿԱՏԱՐՎՈՂ ՓՈՓՈԽՈՒԹՅՈՒՆՆԵՐԸ ԵՎ ԼՐԱՑՈՒՄՆԵՐԸ
A7: Աղյուսակ 9․13
C8: ՀՀ կրթության, գիտության, մշակույթի և սպորտի նախարարություն
B9: ՄԱՍ 2. ՊԵՏԱԿԱՆ ՄԱՐՄՆԻ ԳԾՈՎ ԱՐԴՅՈՒՆՔԱՅԻՆ (ԿԱՏԱՐՈՂԱԿԱՆ) ՑՈՒՑԱՆԻՇՆԵՐԸ
B12: Ծրագրի դասիչը | C12: Ծրագրի անվանումը
B13: 1041 | C13: Մեծ նվաճումների սպորտ
B15: Ծրագրի միջոցառումները
B16: Ծրագրի դասիչը՝ | C16: 1041 | D16: Ցուցանիշների փոփոխությունը (ավելացումները նշված են դրական նշանով)
B17: Միջոցառման դասիչը՝ | C17: 11052 | D17: Ինն ամիս | E17: Տարի
B18: Միջոցառման անվանումը՝ | C18: Երևանում զինվորականների ըմբշամարտի աշխարհի 37-րդ առաջնության անցկացում
B19: Նկարագրությունը՝ | C19: Երևանում զինվորականների ըմբշամարտի աշխարհի 37-րդ առաջնության կազմակերպում և անցկացում
B20: Միջոցառման տեսակը՝ | C20: Ծառայությունների մատուցում
B21: Միջոցառումն իրականացնողի անվանումը | C21: Մասնագիտացված կազմակերպություններ
B22: Արդյունքի չափորոշիչներ
B23: Միջազգային միջոցառումների քանակ, հատ | D23: 1 | E23: 1
B24: Երկրների թիվը | D24: 40 | E24: 40
B25: Միջազգային միջոցառումների մասնակիցների թիվ, մարդ | D25: 400 | E25: 400
B26: Միջոցառման վրա կատարվող ծախսը (հազ. դրամ) | D26: ='Havelvats 1'!D19 -> 380993.3 | E26: 476241.6
A29: Աղյուսակ 9․48
C30: ՀՀ կառավարություն
B31: ՄԱՍ 2. ՊԵՏԱԿԱՆ ՄԱՐՄՆԻ ԳԾՈՎ ԱՐԴՅՈՒՆՔԱՅԻՆ (ԿԱՏԱՐՈՂԱԿԱՆ) ՑՈՒՑԱՆԻՇՆԵՐԸ
B34: Ծրագրի դասիչը | C34: Ծրագրի անվանումը
B35: 1139 | C35: ՀՀ կառավարության պահուստային ֆոնդ
B37: Ծրագրի միջոցառումները
B38: Ծրագրի դասիչը՝ | C38: 1139 | D38: Ցուցանիշների փոփոխությունը (նվազեցումները նշված են փակագծերում)
B39: Միջոցառման դասիչը՝ | C39: 11001 | D39: Ինն ամիս | E39: Տարի
B40: Միջոցառման անվանումը՝ | C40: ՀՀ կառավարության պահուստային ֆոնդ
B41: Նկարագրությունը՝ | C41: ՀՀ պետական բյուջեում նախատեսված ելքերի լրացուցիչ ֆինանսավորման՝ պետական բյուջեում չկանխատեսված ելքերի, ինչպես նաև բյուջետային երաշխիքների ապահովման ելքերի ֆինանսավորման ապահովում
B42: Միջոցառման տեսակը՝ | C42: Ծառայությունների մատուցում
B43: Միջոցառումն իրականացնողի անվանումը | C43: ՀՀ կառավարություն
C44: Արդյունքի չափորոշիչներ
B45: Միջոցառման վրա կատարվող ծախսը (հազ. դրամ) | D45: ='Havelvats 1'!D32 -> -380993.3 | E45: -476241.6

Sheet Havelvats 5
D1: Հավելված N 5
D2: ՀՀ կառավարության 2024 թվականի
D3: ______________ ի ___Ն որոշման
B5: ՀԱՅԱՍՏԱՆԻ ՀԱՆՐԱՊԵՏՈՒԹՅԱՆ ԿԱՌԱՎԱՐՈՒԹՅԱՆ 2023 ԹՎԱԿԱՆԻ ԴԵԿՏԵՄԲԵՐԻ 28-Ի «ՀԱՅԱՍՏԱՆԻ ՀԱՆՐԱՊԵՏՈՒԹՅԱՆ 2024 ԹՎԱԿԱՆԻ ՊԵՏԱԿԱՆ ԲՅՈՒՋԵԻ ԿԱՏԱՐՈՒՄՆ ԱՊԱՀՈՎՈՂ ՄԻՋՈՑԱՌՈՒՄՆԵՐԻ ՄԱՍԻՆ» N 2323-Ն ՈՐՈՇՄԱՆ N 9․1 ՀԱՎԵԼՎԱԾԻ N 9.1․13 ԵՎ 9.1.58 ԱՂՅՈՒՍԱԿՆԵՐՈՒՄ ԿԱՏԱՐՎՈՂ ՓՈՓՈԽՈՒԹՅՈՒՆՆԵՐԸ ԵՎ ԼՐԱՑՈՒՄՆԵՐԸ
A7: Աղյուսակ 9․1․13
C9: ՀՀ կրթության, գիտության, մշակույթի և սպորտի նախարարություն
B10: ՄԱՍ 1. ՊԵՏԱԿԱՆ ՄԱՐՄՆԻ ԳԾՈՎ ԱՐԴՅՈՒՆՔԱՅԻՆ (ԿԱՏԱՐՈՂԱԿԱՆ) ՑՈՒՑԱՆԻՇՆԵՐԸ
B12: Ծրագրի դասիչը | C12: Ծրագրի անվանումը
B13: 1041 | C13: Մեծ նվաճումների սպորտ
B15: Ծրագրի միջոցառումները
B16: Ծրագրի դասիչը՝ | C16: 1041 | D16: Ցուցանիշների փոփոխությունը (ավելացումները նշված են դրական նշանով)
B17: Միջոցառման դասիչը՝ | C17: 11052 | D17: Ինն ամիս | E17: Տարի
B18: Միջոցառման անվանումը՝ | C18: Երևանում զինվորականների ըմբշամարտի աշխարհի 37-րդ առաջնության անցկացում
B19: Նկարագրությունը՝ | C19: Երևանում զինվորականների ըմբշամարտի աշխարհի 37-րդ առաջնության կազմակերպում և անցկացում
B20: Միջոցառման տեսակը՝ | C20: Ծառայությունների մատուցում
B21: Միջոցառումն իրականացնողի անվանումը | C21: Մասնագիտացված կազմակերպություններ
B22: Արդյունքի չափորոշիչներ
B23: Միջոցառումների քանակ, հատ | D23: 1 | E23: 1
B24: Երկրների թիվը | D24: 40 | E24: 40
B25: Միջազգային միջոցառումների մասնակիցների թիվ, մարդ | D25: 400 | E25: 400
B26: Միջոցառման վրա կատարվող ծախսը (հազ. դրամ) | D26: ='Havelvats 1'!D19 -> 380993.3 | E26: 476241.6
A30: Աղյուսակ 9․1.58
C31: ՀՀ կառավարություն
B32: ՄԱՍ 1. ՊԵՏԱԿԱՆ ՄԱՐՄՆԻ ԳԾՈՎ ԱՐԴՅՈՒՆՔԱՅԻՆ (ԿԱՏԱՐՈՂԱԿԱՆ) ՑՈՒՑԱՆԻՇՆԵՐԸ
B35: Ծրագրի դասիչը | C35: Ծրագրի անվանումը
B36: 1139 | C36: ՀՀ կառավարության պահուստային ֆոնդ
B38: Ծրագրի միջոցառումները
B39: Ծրագրի դասիչը՝ | C39: 1139 | D39: Ցուցանիշների փոփոխությունը (նվազեցումները նշված են փակագծերում)
B40: Միջոցառման դասիչը՝ | C40: 11001 | D40: Ինն ամիս | E40: Տարի
B41: Միջոցառման անվանումը՝ | C41: ՀՀ կառավարության պահուստային ֆոնդ
B42: Նկարագրությունը՝ | C42: ՀՀ պետական բյուջեում նախատեսված ելքերի լրացուցիչ ֆինանսավորման՝ պետական բյուջեում չկանխատեսված ելքերի, ինչպես նաև բյուջետային երաշխիքների ապահովման ելքերի ֆինանսավորման ապահովում
B43: Միջոցառման տեսակը՝ | C43: Ծառայությունների մատուցում
B44: Միջոցառումն իրականացնողի անվանումը | C44: ՀՀ կառավարություն
C45: Արդյունքի չափորոշիչներ
B46: Միջոցառման վրա կատարվող ծախսը (հազ. դրամ) | D46: ='Havelvats 4'!D45 -> -380993.3 | E46: -476241.6

Sheet Havelvac 6
G1: Հավելված N 6
G2: ՀՀ կառավարության 2024 թվականի
G3: ______________ ի ___Ն որոշման
A6: ՀԱՅԱՍՏԱՆԻ ՀԱՆՐԱՊԵՏՈՒԹՅԱՆ 2024 ԹՎԱԿԱՆԻ ՊԵՏԱԿԱՆ ԲՅՈՒՋԵՈՎ ՆԱԽԱՏԵՍՎԱԾ՝ ՀԱՅԱՍՏԱՆԻ ՀԱՆՐԱՊԵՏՈՒԹՅԱՆ ԿԱՌԱՎԱՐՈՒԹՅԱՆ ՊԱՀՈՒՍՏԱՅԻՆ ՖՈՆԴԻՑ ՀԱՏԿԱՑՈՒՄՆԵՐ ԿԱՏԱՐԵԼՈՒ ՎԵՐԱԲԵՐՅԱԼ
H8: հազ. դրամներով
A9: Գործառական դասիչը | D9: Ծրագրային դասիչը | F9: Բյուջետային հատկացումների գլխավոր կարգադրիչների, ծրագրերի, միջոցառումների և միջոցառումները կատարող պետական մարմինների անվանումները | G9: Ցուցանիշների փոփոխությունը (ավելացումները նշված են դրական նշանով, իսկ նվազեցումները՝ փակագծերում)
A10: Բաժին | B10: Խումբ | C10: Դաս | D10: Ծրագիր | E10: Միջոցառում | G10: Ինն ամիս | H10: Տարի
F11: ԸՆԴԱՄԵՆԸ | G11: 0 | H11: 0
F12: այդ թվում
F13: ՀՀ կառավարություն | G13: =+G14 -> -380993.3 | H13: =+H14 -> -476241.6
A14: 11 | F14: ՀԻՄՆԱԿԱՆ ԲԱԺԻՆՆԵՐԻՆ ՉԴԱՍՎՈՂ ՊԱՀՈՒՍՏԱՅԻՆ ՖՈՆԴԵՐ | G14: =+G16 -> -380993.3 | H14: =+H16 -> -476241.6
F15: այդ թվում`
B16: 01 | F16: ՀՀ կառավարության և համայնքների պահուստային ֆոնդ | G16: =+G18 -> -380993.3 | H16: =+H18 -> -476241.6
F17: այդ թվում`
C18: 01 | F18: ՀՀ կառավարության պահուստային ֆոնդ | G18: =+G20 -> -380993.3 | H18: =+H20 -> -476241.6
F19: այդ թվում`
F20: ՀՀ կառավարություն | G20: =+G22 -> -380993.3 | H20: =+H22 -> -476241.6
F21: այդ թվում`
D22: 1139 | E22: ՀՀ կառավարության պահուստային ֆոնդ | F22: ՀՀ կառավարության պահուստային ֆոնդ | G22: =+G24 -> -380993.3 | H22: =+H24 -> -476241.6
F23: այդ թվում`
E24: 11001 | F24: ՀՀ կառավարության պահուստային ֆոնդ | G24: =+G26 -> -380993.3 | H24: =+H26 -> -476241.6
F25: այդ թվում` ըստ կատարողների
F26: ՀՀ կառավարություն | G26: =G28 -> -380993.3 | H26: =H28 -> -476241.6
F27: այդ թվում` բյուջետային ծախսերի տնտեսագիտական դասակարգման հոդվածներ
F28: ԸՆԴԱՄԵՆԸ ԾԱԽՍԵՐ | G28: =+G29 -> -380993.3 | H28: =+H29 -> -476241.6
F29: ԸՆԹԱՑԻԿ ԾԱԽՍԵՐ | G29: =+G30 -> -380993.3 | H29: =+H30 -> -476241.6
F30: ԱՅԼ ԾԱԽՍԵՐ | G30: =+G31 -> -380993.3 | H30: =+H31 -> -476241.6
F31: Պահուստային միջոցներ | G31: -380993.3 | H31: -476241.6
F33: ՀՀ կրթության, գիտության, մշակույթի և սպորտի նախարարություն | G33: =G34 -> 380993.3 | H33: =H34 -> 476241.6
A34: 08 | F34: ՀԱՆԳԻՍՏ, ՄՇԱԿՈՒՅԹ ԵՎ ԿՐՈՆ | G34: =+G36 -> 380993.3 | H34: =+H36 -> 476241.6
F35: այդ թվում`
B36: 01 | F36: Հանգստի և սպորտի ծառայություններ | G36: =+G38 -> 380993.3 | H36: =+H38 -> 476241.6
F37: այդ թվում`
C38: 01 | F38: Հանգստի և սպորտի ծառայություններ | G38: =+G40 -> 380993.3 | H38: =+H40 -> 476241.6
F39: այդ թվում`
F40: ՀՀ կրթության, գիտության, մշակույթի և սպորտի նախարարություն | G40: =+G42 -> 380993.3 | H40: =+H42 -> 476241.6
F41: այդ թվում`
D42: 1041 | E42: Մեծ նվաճումների սպորտ | G42: =+G44 -> 380993.3 | H42: =+H44 -> 476241.6
E43: 11052 | F43: այդ թվում`
F44: Երևանում զինվորականների ըմբշամարտի աշխարհի 37-րդ առաջնության անցկացում | G44: =+G46 -> 380993.3 | H44: =+H46 -> 476241.6
...
