Workbook
Name _tab10: #REF!
Name _tab11: #REF!
Name _tab12: #REF!
Name _tab13: #REF!
Name _tab14: #REF!
Name _tab15: #REF!
Name _tab16: #REF!
Name _tab17: #REF!
Name _tab18: #REF!
Name _tab19: #REF!
Name _tab20: #REF!
Name _tab21: #REF!
Name _tab22: #REF!
Name _tab23: #REF!
Name _tab24: #REF!
Name _tab5: #REF!
Name _tab6: #REF!
Name _tab7: #REF!
Name _tab8: #REF!
Name _tab9: #REF!
Name par_count: #REF!,#REF!,#REF!,#REF!,#REF!,#REF!,#REF!,#REF!,#REF!,#REF!,#REF!,#REF!,#REF!,#REF!,#REF!
Name par_qual: #REF!,#REF!,#REF!,#REF!,#REF!
Name par_time: #REF!,#REF!,#REF!,#REF!
Name par2.12s: #REF!
Name par2.4s: #REF!,#REF!,#REF!,#REF!,#REF!,#REF!,#REF!,#REF!,#REF!,#REF!,#REF!,#REF!,#REF!,#REF!,#REF!,#REF!
Name par2.5s: #REF!,#REF!
Name par2.6s: #REF!,#REF!,#REF!,#REF!
Name par2.7s: #REF!,#REF!
Name par2.9s: #REF!,#REF!,#REF!,#REF!,#REF!,#REF!,#REF!,#REF!,#REF!,#REF!,#REF!,#REF!,#REF!,#REF!,#REF!,#REF!
Name par4.10s: #REF!,#REF!
Name par4.11d: #REF!,#REF!,#REF!,#REF!,#REF!
Name par4.12d: #REF!
Name par4.13s: #REF!
Name par4.14: #REF!,#REF!,#REF!,#REF!,#REF!,#REF!
Name par4.15: #REF!,#REF!,#REF!
Name par4.16: #REF!,#REF!,#REF!
Name par4.17: #REF!,#REF!,#REF!,#REF!
Name par4.18d: #REF!,#REF!
Name par4.19s: #REF!
Name par4.20f: #REF!
Name par4.21f: #REF!
Name par4.22: #REF!
Name par4.4: #REF!
Name par4.5: #REF!
Name par4.6s: #REF!
Name par4.7s: #REF!
Name par4.8: #REF!,#REF!,#REF!,#REF!,#REF!
Name par4.9: #REF!,#REF!,#REF!,#REF!,#REF!,#REF!
Name par5.1: #REF!,#REF!
Name par5.3: #REF!,#REF!,#REF!,#REF!,#REF!,#REF!
Name par5.4: #REF!,#REF!,#REF!,#REF!,#REF!
Name par5.5: #REF!
Name par5.6: #REF!,#REF!
Name program: #REF!,#REF!,#REF!,#REF!,#REF!,#REF!,#REF!,#REF!,#REF!,#REF!,#REF!,#REF!,#REF!,#REF!,#REF!,#REF!,#REF!,#REF!,#REF!,#REF!

Sheet 1
B1: Հավելված № 1
B2: ՀՀ կառավարության 2024 թվականի
B3: __________ «____» -ի
B4: № ---------- Ն որոշման
B5: «ՀԱՅԱՍՏԱՆԻ ՀԱՆՐԱՊԵՏՈՒԹՅԱՆ 2024 ԹՎԱԿԱՆԻ ՊԵՏԱԿԱՆ ԲՅՈՒՋԵԻ ՄԱՍԻՆ» ՀԱՅԱՍՏԱՆԻ ՀԱՆՐԱՊԵՏՈՒԹՅԱՆ ՕՐԵՆՔԻ N 1 ՀԱՎԵԼՎԱԾԻ N 1 ԱՂՅՈՒՍԱԿՈՒՄ ԿԱՏԱՐՎՈՂ ՓՈՓՈԽՈՒԹՅՈՒՆԸ ԵՎ ԼՐԱՑՈՒՄԸ
D6: (հազ.դրամ)
B7: Ծրագրային դասիչը | C7: Ծրագրի անվանումը | D7: Ցուցանիշների փոփոխությունները (ավելացումը նշված է դրական նշանով, իսկ նվազեցումը` փակագծերում)
D8: Տարի
B9: Ընդամենը | D9: =+D10+D11 -> 0
B10: 1188 | C10: Դեղապահովում | D10: =+-D11 -> 959255.3
B11: 1139 | C11: ՀՀ կառավարության պահուստային ֆոնդ | D11: -959255.3

Sheet 2
B1: Հավելված № 2
B2: ՀՀ կառավարության 2024 թվականի
B3: __________ «____» -ի
B4: № ----------Ն որոշման
B5: «ՀԱՅԱՍՏԱՆԻ ՀԱՆՐԱՊԵՏՈՒԹՅԱՆ 2024 ԹՎԱԿԱՆԻ ՊԵՏԱԿԱՆ ԲՅՈՒՋԵԻ ՄԱՍԻՆ» ՀԱՅԱՍՏԱՆԻ ՀԱՆՐԱՊԵՏՈՒԹՅԱՆ ՕՐԵՆՔԻ N 1 ՀԱՎԵԼՎԱԾԻ N 2 ԱՂՅՈՒՍԱԿՈՒՄ ԿԱՏԱՐՎՈՂ ՎԵՐԱԲԱՇԽՈՒՄԸ ԵՎ ՀԱՅԱՍՏԱՆԻ ՀԱՆՐԱՊԵՏՈՒԹՅԱՆ ԿԱՌԱՎԱՐՈՒԹՅԱՆ 2023 ԹՎԱԿԱՆԻ ԴԵԿՏԵՄԲԵՐԻ 28-Ի № 2323-Ն ՈՐՈՇՄԱՆ № 5 ՀԱՎԵԼՎԱԾԻ № 1 ԱՂՅՈՒՍԱԿՈՒՄ ԿԱՏԱՐՎՈՂ ՓՈՓՈԽՈՒԹՅՈՒՆՆԵՐԸ ԵՎ ԼՐԱՑՈՒՄՆԵՐԸ
E6: (հազ.դրամ)
B7: Ծրագրային դասիչը | D7: Բյուջետային հատկացումների գլխավոր կարգադրիչների, ծրագրերի և միջոցառումների անվանումները | E7: Ցուցանիշների փոփոխությունները (ավելացումը նշված է դրական նշանով, իսկ նվազեցումը` փակագծերում)
B8: Ծրագիր | C8: Միջոցառում | E8: Ինն ամիս | F8: Տարի
D9: ԸՆԴԱՄԵՆԸ | E9: =+E10+E24 -> 0 | F9: =+F10+F24 -> 0
D10: ՀՀ առողջապահության նախարարություն | E10: =+E11 -> 319751.8 | F10: =+F11 -> 959255.3
B11: 1188 | D11: Ծրագրի անվանումը` | E11: =+E18 -> 319751.8 | F11: =+F18 -> 959255.3
D12: Դեղապահովում
D13: Ծրագրի նպատակը`
D14: Դեղերի անվտանգության, արդյունավետության և որակի ապահովում, ՀՀ հիմնական դեղերի ցանկում առկա կենսականորեն անհրաժեշտ դեղերի ֆիզիկական և տնտեսական մատչելիության բարձրացում
D15: Վերջնական արդյունքի նկարագրությունը`
D16: Հանրապետությունում առանձին հիվանդություններով տառապող անձանց առանցքային նշանակության դեղորայքի մատչելիության բարձրացում
B17: Ծրագրի միջոցառումներ
C18: 11002 | D18: Միջոցառման անվանումը` | E18: 319751.8 | F18: 959255.3
D19: Դեղերի փորձաքննության ծառայությունների իրականացում
D20: Միջոցառման նկարագրությունը`
D21: Դեղերի շրջանառության պետական կարգավորման ոլորտում փորձաքննությունների կազմակերպում և իրականացում
D22: Միջոցառման տեսակը
D23: Ծառայությունների մատուցում
D24: ՀՀ կառավարություն | E24: =+E25 -> -319751.8 | F24: =+F25 -> -959255.3
B25: 1139 | D25: Ծրագրի անվանումը | E25: =+E32 -> -319751.8 | F25: =+F32 -> -959255.3
D26: ՀՀ կառավարության պահուստային ֆոնդ
D27: Ծրագրի նպատակը
D28: Պետական բյուջեում չկանխատեսված, ինչպես նաեւ բյուջետային երաշխիքների ապահովման ծախսերի ֆինանսավորման ապահովում
D29: Վերջնական արդյունքի նկարագրությունը
D30: Պահուստային ֆոնդի կառավարման արդյունավետության և թափանցիկության ապահովում
B31: Ծրագրի միջոցառումներ
C32: 11001 | D32: Միջոցառման անվանումը | E32: =+-E18 -> -319751.8 | F32: =+-F18 -> -959255.3
D33: ՀՀ կառավարության պահուստային ֆոնդ
D34: Միջոցառման նկարագրությունը
D35: ՀՀ պետական բյուջեում նախատեսված ելքերի լրացուցիչ ֆինանսավորման, պետական բյուջեում չկանխատեսված ելքերի, ինչպես նաև բյուջետային երաշխիքների ապահովման ելքերի ֆինանսավորման ապահովում
D36: Միջոցառման տեսակը
D37: Ծառայությունների մատուցում

Sheet 3
B1: Հավելված № 3
B2: ՀՀ կառավարության 2024 թվականի
B3: __________ «____» -ի
B4: № ------------ -Ն որոշման
B5: ՀԱՅԱՍՏԱՆԻ ՀԱՆՐԱՊԵՏՈՒԹՅԱՆ ԿԱՌԱՎԱՐՈՒԹՅԱՆ 2023 ԹՎԱԿԱՆԻ ԴԵԿՏԵՄԲԵՐԻ 28-Ի № 2323-Ն ՈՐՈՇՄԱՆ NN 3 և 4 ՀԱՎԵԼՎԱԾՆԵՐՈՒՄ ԿԱՏԱՐՎՈՂ ՓՈՓՈԽՈՒԹՅՈՒՆՆԵՐԸ ԵՎ ԼՐԱՑՈՒՄՆԵՐԸ
H6: (հազ.դրամ)
B7: Գործառական դասիչը | E7: Ծրագրային դասիչը | G7: Բյուջետային ծախսերի գործառական դասակարգման բաժինների, խմբերի և դասերի, բյուջետային ծրագրերի միջոցառումների, բյուջետային հատկացումների գլխավոր կարգադրիչների անվանումները և միջոցառումները կատարող պետական մարմինների անվանումները | H7: Ցուցանիշների փոփոխությունները (ավելացումը նշված է դրական նշանով, իսկ նվազեցումը` փակագծերում)
B8: բաժին | C8: խումբ | D8: դաս | E8: Ծրագիր | F8: Միջոցառում | H8: Ինն ամիս | I8: Տարի
B9: ԸՆԴԱՄԵՆԸ | H9: =++H10+H29 -> 0 | I9: =++I10+I29 -> 0
B10: 07 | G10: ԱՌՈՂՋԱՊԱՀՈՒԹՅՈՒՆ | H10: =+H12 -> 319751.8 | I10: =+I12 -> 959255.3
G11: այդ թվում՝
C12: 01 | G12: Բժշկական ապրանքներ, սարքեր և սարքավորումներ | H12: =+H14 -> 319751.8 | I12: =+I14 -> 959255.3
G13: այդ թվում՝
D14: 01 | G14: Դեղագործական ապրանքներ | H14: =+H18 -> 319751.8 | I14: =+I18 -> 959255.3
G15: այդ թվում՝
G16: ՀՀ առողջապահության նախարարություն | H16: =+H18 -> 319751.8 | I16: =+I18 -> 959255.3
G17: այդ թվում՝
E18: 1188 | G18: Դեղապահովում | H18: =+H20 -> 319751.8 | I18: =+I20 -> 959255.3
G19: այդ թվում`
F20: 11002 | G20: Դեղերի փորձաքննության ծառայությունների իրականացում | H20: =+H22 -> 319751.8 | I20: =+I22 -> 959255.3
G21: այդ թվում` ըստ կատարողների
G22: ՀՀ առողջապահության նախարարություն | H22: =+H24 -> 319751.8 | I22: =+I24 -> 959255.3
G23: այդ թվում` բյուջետային ծախսերի տնտեսագիտական դասակարգման հոդվածներ
G24: ԸՆԴԱՄԵՆԸ ԾԱԽՍԵՐ | H24: =+H25 -> 319751.8 | I24: =+I25 -> 959255.3
G25: ԸՆԹԱՑԻԿ ԾԱԽՍԵՐ | H25: =H26 -> 319751.8 | I25: =I26 -> 959255.3
G26: ԴՐԱՄԱՇՆՈՐՀՆԵՐ | H26: =+H28 -> 319751.8 | I26: =+I28 -> 959255.3
G27: Ընթացիկ դրամաշնորհներ պետական հատվածի այլ մակարդակներին
G28: - Ընթացիկ դրամաշնորհներ պետական և համայնքների ոչ առևտրային կազմակերպություններին | H28: =+'2'!E18 -> 319751.8 | I28: =+'2'!F18 -> 959255.3
B29: 11 | G29: ՀԻՄՆԱԿԱՆ ԲԱԺԻՆՆԵՐԻՆ ՉԴԱՍՎՈՂ ՊԱՀՈՒՍՏԱՅԻՆ ՖՈՆԴԵՐ | H29: =+H31 -> -319751.8 | I29: =+I31 -> -959255.3
G30: այդ թվում՝
C31: 01 | G31: ՀՀ կառավարության և համայնքների պահուստային ֆոնդ | H31: =+H33 -> -319751.8 | I31: =+I33 -> -959255.3
G32: այդ թվում՝
D33: 01 | G33: ՀՀ կառավարության պահուստային ֆոնդ | H33: =+H35 -> -319751.8 | I33: =+I35 -> -959255.3
G34: այդ թվում՝
G35: ՀՀ կառավարություն | H35: =+H37 -> -319751.8 | I35: =+I37 -> -959255.3
G36: այդ թվում՝
E37: 1139 | G37: ՀՀ կառավարության պահուստային ֆոնդ | H37: =+H39 -> -319751.8 | I37: =+I39 -> -959255.3
G38: այդ թվում`
F39: 11001 | G39: ՀՀ կառավարության պահուստային ֆոնդ | H39: =+H41 -> -319751.8 | I39: =+I41 -> -959255.3
G40: այդ թվում ըստ կատարողների
...

Sheet 4
B1: Հավելված № 4
B2: ՀՀ կառավարության 2024 թվականի
B3: __________ «____» -ի
B4: N_____ -Ն որոշման
B5: ՀԱՅԱՍՏԱՆԻ ՀԱՆՐԱՊԵՏՈՒԹՅԱՆ ԿԱՌԱՎԱՐՈՒԹՅԱՆ 2023 ԹՎԱԿԱՆԻ ԴԵԿՏԵՄԲԵՐԻ 28-Ի ԹԻՎ 2323-Ն ՈՐՈՇՄԱՆ N5 ՀԱՎԵԼՎԱԾԻ N 7 ԱՂՅՈՒՍԱԿՈՒՄ ԿԱՏԱՐՎՈՂ ՓՈՓՈԽՈՒԹՅՈՒՆՆԵՐԸ ԵՎ ԼՐԱՑՈՒՄՆԵՐԸ
H6: (հազ.դրամ)
B7: Ծրագրային դասիչ | D7: Բյուջետային հատկացումների գլխավոր կարգադրիչների, ծրագրերի, միջոցառումների, ծախսային ուղղությունների անվանումները | G7: Միջոցառումները կատարող պետական մարմինների և դրամաշնորհ ստացող տնտեսվարող սուբյեկտների անվանումները | H7: Տարի Ցուցանիշների փոփոխությունները (ավելացումները նշված են դրական նշանով)
B8: Ծրագիր | C8: Միջոցառում
B9: ՀՀ առողջապահության նախարարություն | H9: =+H10 -> 959255.3
B10: 1188 | C10: Դեղապահովում | H10: =+H11 -> 959255.3
C11: 11002 | D11: Դեղերի փորձաքննության ծառայությունների իրականացում | G11: ՀՀ առողջապահության նախարարություն | H11: =SUM(H12:H12) -> 959255.3
G12: «Դեղերի և բժշկական տեխնոլոգիաների փորձագիտական կենտրոն» ՊՈԱԿ | H12: =+'2'!F18 -> 959255.3

Sheet 5
B1: Հավելված № 5
B2: ՀՀ կառավարության 2024 թվականի
B3: __________ «____» -ի
B4: № ------------ -Ն որոշման
B5: ՀՀ Առողջապահության նախարարություն
B6: ՀԱՅԱՍՏԱՆԻ ՀԱՆՐԱՊԵՏՈՒԹՅԱՆ ԿԱՌԱՎԱՐՈՒԹՅԱՆ 2023 ԹՎԱԿԱՆԻ ԴԵԿՏԵՄԲԵՐԻ 28-Ի N 2323-Ն ՈՐՈՇՄԱՆ N 9 ՀԱՎԵԼՎԱԾԻ 9.8 ԱՂՅՈՒՍԱԿՈՒՄ ԿԱՏԱՐՎՈՂ ՓՈՓՈԽՈՒԹՅՈՒՆՆԵՐԸ ԵՎ ԼՐԱՑՈՒՄՆԵՐԸ
B7: ՄԱՍ 2. ՊԵՏԱԿԱՆ ՄԱՐՄՆԻ ԳԾՈՎ ԱՐԴՅՈՒՆՔԱՅԻՆ (ԿԱՏԱՐՈՂԱԿԱՆ) ՑՈՒՑԱՆԻՇՆԵՐԸ
B8: Ծրագրի դասիչը | C8: Ծրագրի անվանումը
B9: 1188 | C9: Դեղապահովում
B10: Ծրագրի միջոցառումները
B11: Ծրագրի դասիչը` | C11: 1188 | D11: Տարի Ցուցանիշների փոփոխությունները (ավելացումները նշված են դրական նշանով)
B12: Միջոցառման դասիչը` | C12: 11002 | D12: Ինն ամիս | E12: Տարի
B13: Միջոցառման անվանումը` | C13: Դեղերի փորձաքննության ծառայությունների իրականացում
B14: Նկարագրությունը` | C14: Դեղերի շրջանառության պետական կարգավորման ոլորտում փորձաքննությունների կազմակերպում և իրականացում
B15: Միջոցառման տեսակը` | C15: Ծառայությունների մատուցում
B16: Միջոցառումն իրականացնողի անվանումը | C16: Մասնագիտացված կազմակերպություն
B17: Արդյունքի չափորոշիչներ
B18: Փորձաքննությունների թիվ, հատ | E18: 52500
B19: Միջոցառման վրա կատարվող ծախսը (հազար դրամ) | D19: =+'2'!E18 -> 319751.8 | E19: =+'2'!F18 -> 959255.3
B21: ՀՀ կառավարություն
B22: ՀԱՅԱՍՏԱՆԻ ՀԱՆՐԱՊԵՏՈՒԹՅԱՆ ԿԱՌԱՎԱՐՈՒԹՅԱՆ 2023 ԹՎԱԿԱՆԻ ԴԵԿՏԵՄԲԵՐԻ 28-Ի N 2323-Ն ՈՐՈՇՄԱՆ N 9 ՀԱՎԵԼՎԱԾԻ 9.48 ԱՂՅՈՒՍԱԿՈՒՄ ԿԱՏԱՐՎՈՂ ՓՈՓՈԽՈՒԹՅՈՒՆԸ ԵՎ ԼՐԱՑՈՒՄԸ
B23: ՄԱՍ 2. ՊԵՏԱԿԱՆ ՄԱՐՄՆԻ ԳԾՈՎ ԱՐԴՅՈՒՆՔԱՅԻՆ (ԿԱՏԱՐՈՂԱԿԱՆ) ՑՈՒՑԱՆԻՇՆԵՐԸ
B24: Ծրագրի դասիչը | C24: Ծրագրի անվանումը
B25: 1139 | C25: ՀՀ կառավարության պահուստային ֆոնդ
B26: Ծրագրի միջոցառումները
B27: Ծրագրի դասիչը` | C27: 1139 | D27: Ցուցանիշների փոփոխությունները (նվազեցումները նշված են փակագծերում)
B28: Միջոցառման դասիչը` | C28: 11001 | D28: Ինն ամիս | E28: Տարի
B29: Միջոցառման անվանումը` | C29: ՀՀ կառավարության պահուստային ֆոնդ
B30: Նկարագրությունը` | C30: ՀՀ պետական բյուջեում նախատեսված ելքերի լրացուցիչ ֆինանսավորման, պետական բյուջեում չկանխատեսված ելքերի, ինչպես նաև բյուջետային երաշխիքների ապահովման ելքերի ֆինանսավորման ապահովում
B31: Միջոցառման տեսակը` | C31: Ծառայությունների մատուցում
B32: Արդյունքի չափորոշիչներ
B33: Միջոցառման վրա կատարվող ծախսը (հազար դրամ) | D33: =+'2'!E32 -> -319751.8 | E33: =+'2'!F32 -> -959255.3

Sheet 6
B1: Հավելված № 6
B2: ՀՀ կառավարության 2024 թվականի
B3: __________ «____» -ի
B4: № ------------ -Ն որոշման
B5: ՀՀ առողջապահության նախարարություն
B6: ՀԱՅԱՍՏԱՆԻ ՀԱՆՐԱՊԵՏՈՒԹՅԱՆ ԿԱՌԱՎԱՐՈՒԹՅԱՆ 2023 ԹՎԱԿԱՆԻ ԴԵԿՏԵՄԲԵՐԻ 28-Ի N 2323-Ն ՈՐՈՇՄԱՆ N 9.1 ՀԱՎԵԼՎԱԾԻ 9.1.8 ԱՂՅՈՒՍԱԿՈՒՄ ԿԱՏԱՐՎՈՂ ՓՈՓՈԽՈՒԹՅՈՒՆՆԵՐԸ ԵՎ ԼՐԱՑՈՒՄՆԵՐԸ
B7: ՄԱՍ 1. ՊԵՏԱԿԱՆ ՄԱՐՄՆԻ ԳԾՈՎ ԱՐԴՅՈՒՆՔԱՅԻՆ (ԿԱՏԱՐՈՂԱԿԱՆ) ՑՈՒՑԱՆԻՇՆԵՐԸ
B8: Ծրագրի դասիչը | C8: Ծրագրի անվանումը
B9: 1188 | C9: Դեղապահովում
B10: Ծրագրի միջոցառումները
B11: Ծրագրի դասիչը` | C11: 1188 | D11: Տարի Ցուցանիշների փոփոխությունները (ավելացումները նշված են դրական նշանով)
B12: Միջոցառման դասիչը` | C12: 11002 | D12: Ինն ամիս | E12: Տարի
B13: Միջոցառման անվանումը` | C13: Դեղերի փորձաքննության ծառայությունների իրականացում
B14: Նկարագրությունը` | C14: Դեղերի շրջանառության պետական կարգավորման ոլորտում փորձաքննությունների կազմակերպում և իրականացում
B15: Միջոցառման տեսակը` | C15: Ծառայությունների մատուցում
B16: Միջոցառումն իրականացնողի անվանումը | C16: Մասնագիտացված կազմակերպություն
B17: Արդյունքի չափորոշիչներ
B18: Փորձաքննությունների թիվ, հատ | E18: 52500
B19: Միջոցառման վրա կատարվող ծախսը (հազար դրամ) | D19: =+'2'!E18 -> 319751.8 | E19: =+'2'!F18 -> 959255.3
B21: ՀԱՅԱՍՏԱՆԻ ՀԱՆՐԱՊԵՏՈՒԹՅԱՆ ԿԱՌԱՎԱՐՈՒԹՅԱՆ 2023 ԹՎԱԿԱՆԻ ԴԵԿՏԵՄԲԵՐԻ 28-Ի N 2323-Ն ՈՐՈՇՄԱՆ N 9 ՀԱՎԵԼՎԱԾԻ 9.1.58 ԱՂՅՈՒՍԱԿՈՒՄ ԿԱՏԱՐՎՈՂ ՓՈՓՈԽՈՒԹՅՈՒՆԸ ԵՎ ԼՐԱՑՈՒՄԸ
B22: ՀՀ կառավարություն
B23: ՄԱՍ 1. ՊԵՏԱԿԱՆ ՄԱՐՄՆԻ ԳԾՈՎ ԱՐԴՅՈՒՆՔԱՅԻՆ (ԿԱՏԱՐՈՂԱԿԱՆ) ՑՈՒՑԱՆԻՇՆԵՐԸ
B24: Ծրագրի դասիչը | C24: Ծրագրի անվանումը
B25: 1139 | C25: ՀՀ կառավարության պահուստային ֆոնդ
B26: Ծրագրի միջոցառումները
B27: Ծրագրի դասիչը` | C27: 1139 | D27: Ցուցանիշների փոփոխությունները (նվազեցումները նշված են փակագծերում)
B28: Միջոցառման դասիչը` | C28: 11001 | D28: Ինն ամիս | E28: Տարի
B29: Միջոցառման անվանումը` | C29: ՀՀ կառավարության պահուստային ֆոնդ
B30: Նկարագրությունը` | C30: ՀՀ պետական բյուջեում նախատեսված ելքերի լրացուցիչ ֆինանսավորման, պետական բյուջեում չկանխատեսված ելքերի, ինչպես նաև բյուջետային երաշխիքների ապահովման ելքերի ֆինանսավորման ապահովում
B31: Միջոցառման տեսակը` | C31: Ծառայությունների մատուցում
B32: Արդյունքի չափորոշիչներ
B33: Միջոցառման վրա կատարվող ծախսը (հազար դրամ) | D33: =+'2'!E32 -> -319751.8 | E33: =+'2'!F32 -> -959255.3
