Workbook
Name a: #REF!
Name a: #REF!
Name a: #REF!
Name a: #REF!
Name a: #REF!
Name AgencyCode: #REF!
Name AgencyCode: #REF!
Name AgencyCode: #REF!
Name AgencyCode: #REF!
Name AgencyCode: #REF!
Name AgencyCode: #REF!
Name AgencyCode: #REF!
Name AgencyCode: #REF!
Name AgencyName: #REF!
Name AgencyName: #REF!
Name AgencyName: #REF!
Name AgencyName: #REF!
Name AgencyName: #REF!
Name davit: #REF!
Name davit: #REF!
Name davit: #REF!
Name davit: #REF!
Name Functional1: #REF!
Name Functional1: #REF!
Name Functional1: #REF!
Name Functional1: #REF!
Name Functional1: #REF!
Name ggg: #REF!
Name ggg: #REF!
Name ggg: #REF!
Name ggg: #REF!
Name PANature: #REF!
Name PANature: #REF!
Name PANature: #REF!
Name PANature: #REF!
Name PANature: #REF!
Name PAType: #REF!
Name PAType: #REF!
Name PAType: #REF!
Name PAType: #REF!
Name PAType: #REF!
Name Performance2: #REF!
Name Performance2: #REF!
Name Performance2: #REF!
Name Performance2: #REF!
Name Performance2: #REF!
Name PerformanceType: #REF!
Name PerformanceType: #REF!
Name PerformanceType: #REF!
Name PerformanceType: #REF!
Name PerformanceType: #REF!
Name Հավելված: #REF!
Name Հավելված: #REF!
Name Հավելված: #REF!
Name Հավելված: #REF!
Name Հավելված: #REF!
Name Հավելված10: #REF!
Name Հավելված10: #REF!
Name Հավելված11: #REF!
Name Հավելված11: #REF!

Sheet Հավելված N 1
C1: Հավելված N 1
C2: ՀՀ կառավարության 2024 թվականի
C3: ______________ ի ___Ն որոշման
A6: «ՀԱՅԱUՏԱՆԻ ՀԱՆՐԱՊԵՏՈՒԹՅԱՆ 2024 ԹՎԱԿԱՆԻ ՊԵՏԱԿԱՆ ԲՅՈՒՋԵԻ ՄԱUԻՆ» ՀԱՅԱUՏԱՆԻ ՀԱՆՐԱՊԵՏՈՒԹՅԱՆ OՐԵՆՔԻ N 1 ՀԱՎԵԼՎԱԾԻ N 2 ԱՂՅՈՒՍԱԿՈՒՄ ԿԱՏԱՐՎՈՂ ՎԵՐԱԲԱՇԽՈՒՄԸ ԵՎ ՀԱՅԱՍՏԱՆԻ ՀԱՆՐԱՊԵՏՈՒԹՅԱՆ ԿԱՌԱՎԱՐՈՒԹՅԱՆ 2023 ԹՎԱԿԱՆԻ ԴԵԿՏԵՄԲԵՐԻ 28-Ի N 2323-Ն ՈՐՈՇՄԱՆ N 5 ՀԱՎԵԼՎԱԾԻ N 1 ԱՂՅՈՒՍԱԿՈՒՄ ԿԱՏԱՐՎՈՂ ՓՈՓՈԽՈՒԹՅՈՒՆՆԵՐԸ ԵՎ ԼՐԱՑՈՒՄՆԵՐԸ
E9: հազ. դրամներով
A10: Ծրագրային դասիչը | C10: Բյուջետային հատկացումների գլխավոր կարգադրիչների, ծրագրերի և միջոցառումների անվանումները | D10: Ցուցանիշների փոփոխությունը (ավելացումները նշված են դրական նշանով, իսկ նվազեցումները փակագծերում)
A11: Ծրագիր | B11: Միջոցառում | D11: Ինն ամիս | E11: Տարի
A12: 1192 | C12: ԸՆԴԱՄԵՆԸ | D12: =+D14+D164 -> 2.8194336e-11 | E12: =+E14+E164 -> 2.8194336e-11
C13: այդ թվում
C14: ՀՀ ԿՐԹՈՒԹՅԱՆ, ԳԻՏՈՒԹՅԱՆ, ՄՇԱԿՈՒՅԹԻ ԵՎ ՍՊՈՐՏԻ ՆԱԽԱՐԱՐՈՒԹՅՈՒՆ | D14: =+D16+D29+D42+D61+D74+D87+D100+D113+D126+D145 -> -3750 | E14: =+E16+E29+E42+E61+E74+E87+E100+E113+E126+E145 -> -7918.5
A15: 1041 | C15: Ծրագրի անվանումը`
C16: Մեծ նվաճումների սպորտ | D16: =+D23 -> -68503.7 | E16: =+E23 -> -68503.7
C17: Ծրագրի նպատակը`
C18: Նպաստել Հայաստանում մեծ սպորտի շարունակական զարգացմանը և միջազգային հարթակներում ՀՀ դիրքի բարելավմանը
C19: Վերջնական արդյունքի նկարագրությունը`
C20: ՀՀ առաջնությունների ընդլայնում, միջազգային սպորտային միջոցառումներին մասնակցության և նվաճումների ապահովում
C21: Ծրագրի միջոցառումներ
B22: 32001 | C22: Միջոցառման անվանումը`
C23: Մանկապատանեկան մարզադպրոցներին, մարզաձևերի ազգային ֆեդերացիաներին և այլ մարզական հասարակական կազմակերպություններին գույքով ապահովում | D23: =+'Հավելված N 2'!G26 -> -68503.7 | E23: =+'Հավելված N 2'!H26 -> -68503.7
C24: Միջոցառման նկարագրությունը`
C25: Սպորտի զարգացման նպատակով մարզադպրոցներին, ազգային ֆեդերացիաներին և այլ մարզական հասարակական կազմակերպություններին մարզական և այլ անհրաժեշտ գույքի տրամադրում
C26: Միջոցառման տեսակը
C27: Այլ պետական կազմակերպությունների կողմից օգտագործվող ոչ ֆինանսական ակտիվների հետ գործառնություններ
A28: 1045 | C28: Ծրագրի անվանումը`
C29: Նախնական (արհեստագործական) և միջին մասնագիտական կրթություն | D29: =+D36 -> 27536.7 | E29: =+E36 -> 27536.7
C30: Ծրագրի նպատակը`
C31: Աշխատաշուկայի արդի պահանջներին համապատասխան նախնական մասնագիտական (արհեստագործական) և միջին մասնագիտական կրթության որակավորում ունեցող մասնագետների պատրաստում, կրթության մատչելիության ապահովում:
C32: Վերջնական արդյունքի նկարագրությունը`
C33: Նախնական (արհեստագործական) և միջին մասնագիտական կրթության գրավչության բարձրացում, մատչելի և մրցունակ նախնական (արհեստագործական) և միջին մասնագիտական կրթության ապահովում
C34: Ծրագրի միջոցառումներ
B35: 32001 | C35: Միջոցառման անվանումը`
C36: Նախնական մասնագիտական (արհեստագործական) և միջին մասնագիտական ուսումնական հաստատությունների շենքային պայմանների բարելավում | D36: =+'Հավելված N 2'!G169 -> 27536.7 | E36: =+'Հավելված N 2'!H169 -> 27536.7
C37: Միջոցառման նկարագրությունը`
C38: ՆՄՄԿՈՒ հաստատությունների շենքերի հիմնանորոգման և նախագծման (շինարարական աշխատանքներ, ջեռուցման համակարգի ստեղծում, ներքին հարդարում, տարածքի բարեկարգում) աշխատանքների իրականացում
C39: Միջոցառման տեսակը
C40: Այլ պետական կազմակերպությունների կողմից օգտագործվող ոչ ֆինանսական ակտիվների հետ գործառնություններ
A41: 1075 | C41: Ծրագրի անվանումը`
C42: Մշակութային ժառանգության ծրագիր | D42: =+D49+D55 -> 35624.9 | E42: =+E49+E55 -> 30717
C43: Ծրագրի նպատակը`
C44: Մշակութային ժառանգության պահպանում, օգտագործում, համալրում և հանրահռչակում
C45: Վերջնական արդյունքի նկարագրությունը`
C46: Մշակութային ժառանգության շարունակական պահպանում, մշակութային զբոսաշրջության զարգացում և խթանում
C47: Ծրագրի միջոցառումներ
B48: 21001 | C48: Միջոցառման անվանումը`
C49: Հուշարձանների ամրակայում, նորոգում և վերականգնում | D49: =+'Հավելված N 2'!G99 -> 24879.3 | E49: =+'Հավելված N 2'!H99 -> -2084.9
C50: Միջոցառման նկարագրությունը`
C51: Հուշարձանների գիտանախագծային փաստաթղթերի կազմում, հրատապ ուսումնասիրում, վավերագրման և ուսումնասիրման աշխատանքներ, հետախուզում և հնագիտական պեղում, ամրակայում, նորոգում և վերականգնում
C52: Միջոցառման տեսակը
C53: Հանրության կողմից անմիջականորեն օգտագործվող ակտիվների հետ կապված միջոցառումներ
B54: 32001 | C54: Միջոցառման անվանումը`
C55: Ներդրումներ թանգարանների և պատկերասրահների հիմնանորոգման համար | D55: =+'Հավելված N 2'!G69 -> 10745.6 | E55: =+'Հավելված N 2'!H69 -> 32801.9
C56: Միջոցառման նկարագրությունը`
C57: Թանգարանների և պատկերասրահների շենքերի, մասնաշենքերի հիմնանորոգում, համաշինարարական աշխատանքներ, ջեռուցման համակարգի իրականացում, ներքին հարդարում, տարածքի բարեկարգում և նախագծում
C58: Միջոցառման տեսակը
C59: Այլ պետական կազմակերպությունների կողմից օգտագործվող ոչ ֆինանսական ակտիվների հետ գործառնություններ
A60: 1111 | C60: Ծրագրի անվանումը`
C61: Բարձրագույն և հետբուհական մասնագիտական կրթության ծրագիր | D61: =+D68 -> 0 | E61: =+E68 -> -36062.7
C62: Ծրագրի նպատակը`
C63: Ապահովել մատչելի, որակյալ և մրցունակ բարձրագույն և հետբուհական մասնագիտական կրթություն:
C64: Վերջնական արդյունքի նկարագրությունը`
C65: Գիտելիքների տնտեսության և գիտության զարգացման արդի պահանջներին համապատասխան բարձրագույն և հետբուհական մասնագիտական որակավորում ունեցող մասնագետների պատրաստում
C66: Ծրագրի միջոցառումներ
B67: 32001 | C67: Միջոցառման անվանումը`
C68: Բարձրագույն ուսումնական հաստատությունների և «Զեյթուն» ուսանողական ավան» հիմնադրամի շենքային պայմանների բարելավում | D68: =+'Հավելված N 2'!G180 -> 0 | E68: =+'Հավելված N 2'!H180 -> -36062.7
C69: Միջոցառման նկարագրությունը`
C70: Բարձրագույն ուսումնական հաստատությունների և «Զեյթուն» ուսանողական ավան» հիմնադրամի շենքային պայմանների բարելավում
C71: Միջոցառման տեսակը
C72: Այլ պետական կազմակերպությունների կողմից օգտագործվող ոչ ֆինանսական ակտիվների հետ գործառնություններ
A73: 1124 | C73: Ծրագրի անվանումը`
C74: Գրահրատարակչության և գրադարանների ծրագիր | D74: =+D81 -> 4452.8 | E74: =+E81 -> 4452.8
C75: Ծրագրի նպատակը`
C76: Նպաստել գրականության զարգացմանը, տարածմանը և հանրահռչակմանը
C77: Վերջնական արդյունքի նկարագրությունը`
C78: Գրքի և գրական արտադրանքի բազմազանության և հասանելիության ապահովում, ստեղծագործական գործընթացների խթանում
C79: Ծրագրի միջոցառումներ
B80: 32002 | C80: Միջոցառման անվանումը`
C81: Ներդրումներ գրադարանների հիմնանորոգման համար | D81: =+'Հավելված N 2'!G54 -> 4452.8 | E81: =+'Հավելված N 2'!H54 -> 4452.8
C82: Միջոցառման նկարագրությունը`
C83: Գրադարանների շենքերի, մասնաշենքերի հիմնանորոգում, համաշինարարական աշխատանքներ, ջեռուցման համակարգի իրականացում, ներքին հարդարում, տարածքի բարեկարգում և նախագծում
C84: Միջոցառման տեսակը
C85: Այլ պետական կազմակերպությունների կողմից օգտագործվող ոչ ֆինանսական ակտիվների հետ գործառնություններ
A86: 1163 | C86: Ծրագրի անվանումը`
C87: Մասսայական սպորտ | D87: =+D94 -> 600 | E87: =+E94 -> 600
C88: Ծրագրի նպատակը`
C89: Բնակչության շրջանում առողջ ապրելակերպի արմատավորում, անհատի բազմակողմանի ու ներդաշնակ զարգացման գործում ֆիզիկական կուլտուրայի և սպորտի դերի բարձրացում
C90: Վերջնական արդյունքի նկարագրությունը`
C91: Սպորտի նկատմամբ հետաքրքրվածության և մասնակցության ընդլայնում
C92: Ծրագրի միջոցառումներ
B93: 32003 | C93: Միջոցառման անվանումը՝
C94: Թեթև կոնստրուկցիաներով մարզադահլիճների հիմնում | D94: =+'Հավելված N 2'!G37 -> 600 | E94: =+'Հավելված N 2'!H37 -> 600
C95: Միջոցառման նկարագրությունը՝
C96: ՀՀ մարզերում արագ հավաքվող, թեթև կոնստրուկցիաներով, օդահենային պնևմատիկ, եվրոպական ստանդարտներին համապատասխան մարզադահլիճների հիմնում՝ չինական արտադրության PVDF հատուկ ծածկույթով մարզադահլիճների տեղակապմամբ
C97: Միջոցառման տեսակը
C98: Այլ պետական կազմակերպությունների կողմից օգտագործվող ոչ ֆինանսական ակտիվների հետ գործառնություններ
A99: 1168 | C99: Ծրագրի անվանումը`
C100: Արվեստների ծրագիր | D100: =+D107 -> 820 | E100: =+E107 -> 820
C101: Ծրագրի նպատակը`
C102: Նպաստել ազգային հենքի վրա ժամանակակից թատերարվեստի, երաժշտարվեստի, կերպարվեստի և պարարվեստի զարգացմանը և հանրահռչակմանը
C103: Վերջնական արդյունքի նկարագրությունը`
C104: Մրցունակ արվեստային արտադրանքի ստեղծում, ստեղծագործական գործընթացների խթանում, արվեստի նոր նախագծերի ներդրում և մշակութային կյանքում հասարակության ներգրավում
...

Sheet Հավելված N 2
F1: Հավելված N 2
F2: ՀՀ կառավարության 2024 թվականի
F3: ______________ ի ___Ն որոշման
A7: ՀԱՅԱՍՏԱՆԻ ՀԱՆՐԱՊԵՏՈՒԹՅԱՆ ԿԱՌԱՎԱՐՈՒԹՅԱՆ 2023 ԹՎԱԿԱՆԻ ԴԵԿՏԵՄԲԵՐԻ 28-Ի N 2323-Ն ՈՐՈՇՄԱՆ N 3 ԵՎ N 4 ՀԱՎԵԼՎԱԾՆԵՐՈՒՄ ԿԱՏԱՐՎՈՂ ՓՈՓՈԽՈՒԹՅՈՒՆՆԵՐԸ ԵՎ ԼՐԱՑՈՒՄՆԵՐԸ
H10: հազ. դրամներով
A11: Գործառական դասիչը | D11: Ծրագրային դասիչը | F11: Բյուջետային հատկացումների գլխավոր կարգադրիչների, ծրագրերի, միջոցառումների և միջոցառումները կատարող պետական մարմինների անվանումները | G11: Ցուցանիշների փոփոխությունը (ավելացումները նշված են դրական նշանով, իսկ նվազեցումները փակագծերում)
A12: Բաժին | B12: Խումբ | C12: Դաս | D12: Ծրագիր | E12: Միջոցառում | G12: Ինն ամիս | H12: Տարի
F13: ԸՆԴԱՄԵՆԸ | G13: =+G15+G205 -> 2.5465852e-11 | H13: =+H15+H205 -> 3.5470293e-11
F14: այդ թվում՝
F15: ՀՀ ԿՐԹՈՒԹՅԱՆ, ԳԻՏՈՒԹՅԱՆ, ՄՇԱԿՈՒՅԹԻ ԵՎ ՍՊՈՐՏԻ ՆԱԽԱՐԱՐՈՒԹՅՈՒՆ | G15: =+G16+G114 -> -3750 | H15: =+H16+H114 -> -7918.5
A16: 08 | F16: ՀԱՆԳԻՍՏ, ՄՇԱԿՈՒՅԹ ԵՎ ԿՐՈՆ | G16: =+G18+G46 -> -27006 | H16: =+H18+H46 -> -31913.9
F17: այդ թվում`
B18: 01 | F18: Հանգստի և սպորտի ծառայություններ | G18: =+G20 -> -67903.7 | H18: =+H20 -> -67903.7
F19: այդ թվում`
C20: 01 | F20: Հանգստի և սպորտի ծառայություններ | G20: =+G22 -> -67903.7 | H20: =+H22 -> -67903.7
F21: այդ թվում`
F22: ՀՀ կրթության, գիտության, մշակույթի և սպորտի նախարարություն | G22: =+G24+G35 -> -67903.7 | H22: =+H24+H35 -> -67903.7
F23: այդ թվում`
D24: 1041 | E24: Մեծ նվաճումների սպորտ | G24: =+G26 -> -68503.7 | H24: =+H26 -> -68503.7
F25: այդ թվում`
E26: 32001 | F26: Մանկապատանեկան մարզադպրոցներին, մարզաձևերի ազգային ֆեդերացիաներին այլ մարզական հասարակական կազմակերպություններին գույքով ապահովում | G26: =+G28 -> -68503.7 | H26: =+H28 -> -68503.7
F27: այդ թվում` ըստ կատարողների
F28: ՀՀ կրթության, գիտության, մշակույթի և սպորտի նախարարություն | G28: =+G30 -> -68503.7 | H28: =+H30 -> -68503.7
F29: այդ թվում՝ բյուջետային ծախսերի տնտեսագիտական դասակարգման հոդվածներ
F30: ԸՆԴԱՄԵՆԸ ԾԱԽՍԵՐ | G30: =G31 -> -68503.7 | H30: =H31 -> -68503.7
F31: ՈՉ ՖԻՆԱՆՍԱԿԱՆ ԱԿՏԻՎՆԵՐԻ ԳԾՈՎ ԾԱԽՍԵՐ | G31: =+G32 -> -68503.7 | H31: =+H32 -> -68503.7
F32: ՀԻՄՆԱԿԱՆ ՄԻՋՈՑՆԵՐ | G32: =+G33 -> -68503.7 | H32: =+H33 -> -68503.7
F33: ՄԵՔԵՆԱՆԵՐ ԵՎ ՍԱՐՔԱՎՈՐՈՒՄՆԵՐ | G33: =+G34 -> -68503.7 | H33: =+H34 -> -68503.7
F34: - Այլ մեքենաներ և սարքավորումներ | G34: =+'Հավելված N 4'!E15 -> -68503.7 | H34: =+'Հավելված N 4'!F15 -> -68503.7
D35: 1163 | E35: Մասսայական սպորտ | G35: =+G37 -> 600 | H35: =+H37 -> 600
F36: այդ թվում`
E37: 32003 | F37: Թեթև կոնստրուկցիաներով մարզադահլիճների հիմնում | G37: =+G39+G144 -> 600 | H37: =+H39+H144 -> 600
F38: այդ թվում` ըստ կատարողների
F39: ՀՀ կրթության, գիտության, մշակույթի և սպորտի նախարարություն | G39: =+G41 -> 600 | H39: =+H41 -> 600
F40: այդ թվում՝ բյուջետային ծախսերի տնտեսագիտական դասակարգման հոդվածներ
F41: ԸՆԴԱՄԵՆԸ ԾԱԽՍԵՐ | G41: =G42 -> 600 | H41: =H42 -> 600
F42: ՈՉ ՖԻՆԱՆՍԱԿԱՆ ԱԿՏԻՎՆԵՐԻ ԳԾՈՎ ԾԱԽՍԵՐ | G42: =+G43 -> 600 | H42: =+H43 -> 600
F43: ՀԻՄՆԱԿԱՆ ՄԻՋՈՑՆԵՐ | G43: =+G44 -> 600 | H43: =+H44 -> 600
F44: ԱՅԼ ՀԻՄՆԱԿԱՆ ՄԻՋՈՑՆԵՐ | G44: =+G45 -> 600 | H44: =+H45 -> 600
F45: - Նախագծահետազոտական ծախսեր | G45: =+'Հավելված N 4'!E62 -> 600 | H45: =+'Հավելված N 4'!F62 -> 600
B46: 02 | F46: Մշակութային ծառայություններ | G46: =+G48+G63+G78+G93 -> 40897.7 | H46: =+H48+H63+H78+H93 -> 35989.8
F47: այդ թվում`
C48: 01 | F48: Գրադարաններ | G48: =+G50 -> 4452.8 | H48: =+H50 -> 4452.8
F49: այդ թվում`
F50: ՀՀ կրթության, գիտության, մշակույթի և սպորտի նախարարություն | G50: =+G52 -> 4452.8 | H50: =+H52 -> 4452.8
F51: այդ թվում`
D52: 1124 | E52: Գրահրատարակչության և գրադարանների ծրագիր | G52: =+G54 -> 4452.8 | H52: =+H54 -> 4452.8
F53: այդ թվում`
E54: 32002 | F54: Ներդրումներ գրադարանների հիմնանորոգման համար | G54: =+G56 -> 4452.8 | H54: =+H56 -> 4452.8
F55: այդ թվում` ըստ կատարողների
F56: ՀՀ կրթության, գիտության, մշակույթի և սպորտի նախարարություն | G56: =+G58 -> 4452.8 | H56: =+H58 -> 4452.8
F57: այդ թվում՝ բյուջետային ծախսերի տնտեսագիտական դասակարգման հոդվածներ
F58: ԸՆԴԱՄԵՆԸ ԾԱԽՍԵՐ | G58: =G59 -> 4452.8 | H58: =H59 -> 4452.8
F59: ՈՉ ՖԻՆԱՆՍԱԿԱՆ ԱԿՏԻՎՆԵՐԻ ԳԾՈՎ ԾԱԽՍԵՐ | G59: =+G60 -> 4452.8 | H59: =+H60 -> 4452.8
F60: ՀԻՄՆԱԿԱՆ ՄԻՋՈՑՆԵՐ | G60: =+G61 -> 4452.8 | H60: =+H61 -> 4452.8
F61: ՇԵՆՔԵՐ ԵՎ ՇԻՆՈՒԹՅՈՒՆՆԵՐ | G61: =+G62 -> 4452.8 | H61: =+H62 -> 4452.8
F62: - Շենքերի և շինությունների կապիտալ վերանորոգում | G62: =+'Հավելված N 4'!E56 -> 4452.8 | H62: =+'Հավելված N 4'!F56 -> 4452.8
C63: 02 | F63: Թանգարաններ և ցուցասրահներ | G63: =+G65 -> 10745.6 | H63: =+H65 -> 32801.9
F64: այդ թվում`
F65: ՀՀ կրթության, գիտության, մշակույթի և սպորտի նախարարություն | G65: =+G67 -> 10745.6 | H65: =+H67 -> 32801.9
F66: այդ թվում`
D67: 1075 | E67: Մշակութային ժառանգության ծրագիր | G67: =+G69 -> 10745.6 | H67: =+H69 -> 32801.9
F68: այդ թվում`
E69: 32001 | F69: Ներդրումներ թանգարանների և պատկերասրահների հիմնանորոգման համար | G69: =+G71 -> 10745.6 | H69: =+H71 -> 32801.9
F70: այդ թվում` ըստ կատարողների
F71: ՀՀ կրթության, գիտության, մշակույթի և սպորտի նախարարություն | G71: =+G73 -> 10745.6 | H71: =+H73 -> 32801.9
F72: այդ թվում՝ բյուջետային ծախսերի տնտեսագիտական դասակարգման հոդվածներ
F73: ԸՆԴԱՄԵՆԸ ԾԱԽՍԵՐ | G73: =G74 -> 10745.6 | H73: =H74 -> 32801.9
F74: ՈՉ ՖԻՆԱՆՍԱԿԱՆ ԱԿՏԻՎՆԵՐԻ ԳԾՈՎ ԾԱԽՍԵՐ | G74: =+G75 -> 10745.6 | H74: =+H75 -> 32801.9
F75: ՀԻՄՆԱԿԱՆ ՄԻՋՈՑՆԵՐ | G75: =+G76 -> 10745.6 | H75: =+H76 -> 32801.9
F76: ՇԵՆՔԵՐ ԵՎ ՇԻՆՈՒԹՅՈՒՆՆԵՐ | G76: =+G77 -> 10745.6 | H76: =+H77 -> 32801.9
F77: - Շենքերի և շինությունների կապիտալ վերանորոգում | G77: =+'Հավելված N 4'!E44 -> 10745.6 | H77: =+'Հավելված N 4'!F44 -> 32801.9
C78: 05 | F78: Արվեստ | G78: =+G80 -> 820 | H78: =+H80 -> 820
F79: այդ թվում`
F80: ՀՀ կրթության, գիտության, մշակույթի և սպորտի նախարարություն | G80: =+G82 -> 820 | H80: =+H82 -> 820
F81: այդ թվում`
D82: 1168 | E82: Արվեստների ծրագիր | G82: =+G84 -> 820 | H82: =+H84 -> 820
F83: այդ թվում`
E84: 32001 | F84: Ներդրումներ թատրոնների և համերգային կազմակերպությունների շենքերի կապիտալ վերանորոգման համար | G84: =+G86 -> 820 | H84: =+H86 -> 820
F85: այդ թվում` ըստ կատարողների
F86: ՀՀ կրթության, գիտության, մշակույթի և սպորտի նախարարություն | G86: =+G88 -> 820 | H86: =+H88 -> 820
F87: այդ թվում՝ բյուջետային ծախսերի տնտեսագիտական դասակարգման հոդվածներ
F88: ԸՆԴԱՄԵՆԸ ԾԱԽՍԵՐ | G88: =G89 -> 820 | H88: =H89 -> 820
F89: ՈՉ ՖԻՆԱՆՍԱԿԱՆ ԱԿՏԻՎՆԵՐԻ ԳԾՈՎ ԾԱԽՍԵՐ | G89: =+G90 -> 820 | H89: =+H90 -> 820
F90: ՀԻՄՆԱԿԱՆ ՄԻՋՈՑՆԵՐ | G90: =+G91 -> 820 | H90: =+H91 -> 820
F91: ԱՅԼ ՀԻՄՆԱԿԱՆ ՄԻՋՈՑՆԵՐ | G91: =+G92 -> 820 | H91: =+H92 -> 820
F92: - Նախագծահետազոտական ծախսեր | G92: =+'Հավելված N 4'!E68 -> 820 | H92: =+'Հավելված N 4'!F68 -> 820
C93: 07 | F93: Հուշարձանների և մշակութային արժեքների վերականգնում և պահպանում | G93: =+G95 -> 24879.3 | H93: =+H95 -> -2084.9
F94: այդ թվում`
F95: ՀՀ կրթության, գիտության, մշակույթի և սպորտի նախարարություն | G95: =+G97 -> 24879.3 | H95: =+H97 -> -2084.9
F96: այդ թվում`
D97: 1075 | E97: Մշակութային ժառանգության ծրագիր | G97: =+G99 -> 24879.3 | H97: =+H99 -> -2084.9
F98: այդ թվում`
E99: 21001 | F99: Հուշարձանների ամրակայում, նորոգում և վերականգնում | G99: =+G101 -> 24879.3 | H99: =+H101 -> -2084.9
F100: այդ թվում` ըստ կատարողների
F101: ՀՀ կրթության, գիտության, մշակույթի և սպորտի նախարարություն | G101: =+G103 -> 24879.3 | H101: =+H103 -> -2084.9
F102: այդ թվում՝ բյուջետային ծախսերի տնտեսագիտական դասակարգման հոդվածներ
F103: ԸՆԴԱՄԵՆԸ ԾԱԽՍԵՐ | G103: =+G104+G108 -> 24879.3 | H103: =+H104+H108 -> -2084.9
F104: ԸՆԹԱՑԻԿ ԾԱԽՍԵՐ | G104: =+G105 -> 39787.2 | H104: =+H105 -> 39787.2
F105: ԴՐԱՄԱՇՆՈՐՀՆԵՐ | G105: =+G106 -> 39787.2 | H105: =+H106 -> 39787.2
...

Sheet Հավելված N 3
F1: Հավելված N 3
F2: ՀՀ կառավարության 2024 թվականի
F3: ______________ ի ___Ն որոշման
A5: «ՀԱՅԱUՏԱՆԻ ՀԱՆՐԱՊԵՏՈՒԹՅԱՆ 2024 ԹՎԱԿԱՆԻ ՊԵՏԱԿԱՆ ԲՅՈՒՋԵԻ ՄԱUԻՆ» ՀԱՅԱUՏԱՆԻ ՀԱՆՐԱՊԵՏՈՒԹՅԱՆ OՐԵՆՔԻ N 1 ՀԱՎԵԼՎԱԾԻ N 3 ԱՂՅՈՒՍԱԿՈՒՄ ԿԱՏԱՐՎՈՂ ՓՈՓՈԽՈՒԹՅՈՒՆՆԵՐԸ ԵՎ ԼՐԱՑՈՒՄՆԵՐԸ
G8: հազ. դրամներով
A9: Ծրագրային դասիչ | C9: Բյուջետային գլխավոր կարգադրիչների, ծրագրերի, միջոցառումների, միջոցառումները կատարող պետական մարմինների և ուղղությունների անվանումները | D9: Ընդամենը | E9: Ցուցանիշների փոփոխությունը (ավելացումները նշված են դրական նշանով, իսկ նվազեցումները՝ փակագծերում)
A10: Ծրագիր | B10: Միջոցառում | E10: Կառուցման աշխատանքներ | F10: Վերակառուցման, վերանորոգման և վերականգնման աշխատանքներ | G10: Նախագծահե- տազոտական, գեոդեզիա- քարտեզագրա- կան աշխա- տանքներ | H10: Ոչ ֆինանսական այլ ակտիվների ձեռքբերում
C11: ԸՆԴԱՄԵՆԸ | D11: =SUM(E11:H11) -> -575725.3 | E11: =+E13 -> 0 | F11: =+F13 -> 50068.9 | G11: =+G13 -> -31428.3 | H11: =+H13 -> -594365.9
C12: այդ թվում՝
C13: ՀՀ ԿՐԹՈՒԹՅԱՆ, ԳԻՏՈՒԹՅԱՆ, ՄՇԱԿՈՒՅԹԻ ԵՎ ՍՊՈՐՏԻ ՆԱԽԱՐԱՐՈՒԹՅՈՒՆ | D13: =SUM(E13:H13) -> -575725.3 | E13: =+E15+E16+E20+E38+E42+E46+E50+E54+E58+E62+E63+E67 -> 0 | F13: =+F15+F16+F20+F38+F42+F46+F50+F54+F58+F62+F63+F67 -> 50068.9 | G13: =+G15+G16+G20+G38+G42+G46+G50+G54+G58+G62+G63+G67 -> -31428.3 | H13: =+H15+H16+H20+H38+H42+H46+H50+H54+H58+H62+H63+H67 -> -594365.9
C14: այդ թվում`
A15: 1041 | B15: 32001 | C15: Մանկապատանեկան մարզադպրոցներին, մարզաձևերի ազգային ֆեդերացիաներին այլ մարզական կազմակերպություններին գույքով ապահովում | D15: =SUM(E15:H15) -> -68503.7 | E15: 0 | F15: 0 | G15: 0 | H15: =+'Հավելված N 8'!I15 -> -68503.7
A16: 1045 | B16: 32001 | C16: Նախնական մասնագիտական (արհեստագործական) և միջին մասնագիտական ուսումնական հաստատությունների շենքային պայմանների բարելավում | D16: =SUM(E16:H16) -> 27536.7 | E16: =+E18 -> 0 | F16: =+F18 -> 27536.7 | G16: =+G18 -> 0 | H16: =+H18 -> 0
C17: այդ թվում`
C18: Երևան քաղաք | D18: =SUM(E18:H18) -> 27536.7 | E18: =+E19 -> 0 | F18: =+F19 -> 27536.7 | G18: =+G19 -> 0 | H18: =+H19 -> 0
C19: «Երևանի պետական հումանիտար քոլեջ» ՊՈԱԿ | D19: =+E19+F19+G19+H19 -> 27536.7 | F19: =+'Հավելված N 8'!I196+'Հավելված N 8'!I198+'Հավելված N 8'!I199 -> 27536.7
A20: 1075 | B20: 21001 | C20: Հուշարձանների ամրակայում, նորոգում և վերականգնում | D20: =SUM(E20:H20) -> -41872.1 | E20: =+E22+E28 -> 0 | F20: =+F22+F28 -> -9023.8 | G20: =+G22+G28 -> -32848.3 | H20: =+H22+H28 -> 0
C21: այդ թվում`
C22: 1. Վերականգնողական աշխատանքներ | D22: =SUM(E22:H22) -> -9023.8 | E22: =+E24+E26 -> 0 | F22: =+F24+F26 -> -9023.8 | G22: =+G24+G26 -> 0 | H22: =+H24+H26 -> 0
C23: որից`
C24: ՀՀ Լոռու մարզ | D24: =SUM(E24:H24) -> 42956.2 | E24: =+E25 -> 0 | F24: =+F25 -> 42956.2 | G24: =+G25 -> 0 | H24: =+H25 -> 0
C25: Քոբայրավանք համալիրի գլխավոր եկեղեցու, նրան կից եկեղեցու և Մարիամաշեն եկեղեցու տանիքների վերականգնում | D25: =+E25+F25+G25+H25 -> 42956.2 | F25: =+'Հավելված N 8'!I140+'Հավելված N 8'!I143+'Հավելված N 8'!I146 -> 42956.2
C26: ՀՀ Վայոց Ձորի մարզ | D26: =SUM(E26:H26) -> -51980 | E26: =+E27 -> 0 | F26: =+F27 -> -51980 | G26: =+G27 -> 0 | H26: =+H27 -> 0
C27: Շատիվանքի վանական համալիրի ամրակայում, մասնակի վերականգնում և տարածքի բարեկարգում | D27: =+E27+F27+G27+H27 -> -51980 | F27: =+'Հավելված N 8'!I141+'Հավելված N 8'!I144+'Հավելված N 8'!I145+'Հավելված N 8'!I147-0.2 -> -51980
C28: 2. Վավերագրման և ուսումնասիրման աշխատանքներ, (այդ թվում՝ հետախուզումև պեղում), գիտանախագծային փաստաթղթերի կազմում և փորձաքննում | D28: =SUM(E28:H28) -> -32848.3 | E28: =+E30+E32+E34+E36 -> 0 | F28: =+F30+F32+F34+F36 -> 0 | G28: =+G30+G32+G34+G36 -> -32848.3 | H28: =+H30+H32+H34+H36 -> 0
C29: որից`
C30: ՀՀ Արագածոտնի մարզ | D30: =SUM(E30:H30) -> -9810 | E30: =+E31 -> 0 | F30: =+F31 -> 0 | G30: =+G31 -> -9810 | H30: =+H31 -> 0
C31: Աղձք Հայոց արքաների դամբարանի և հնավայրի ամրակայման, վերականգնման և տարածքի բարեկարգման գիտանախագծային փաստաթղթեր | D31: =+E31+F31+G31+H31 -> -9810 | G31: =+'Հավելված N 8'!I148+'Հավելված N 8'!I152+'Հավելված N 8'!I156 -> -9810
C32: ՀՀ Արարատի մարզ | D32: =SUM(E32:H32) -> -4950 | E32: =+E33 -> 0 | F32: =+F33 -> 0 | G32: =+G33 -> -4950 | H32: =+H33 -> 0
C33: Տափի բերդի պարիսպներին կից օժանդակ շինությունների վերականգնման, ավտոկայանատեղի կառուցման գիտանախագծային փաստաթղթեր | D33: =+E33+F33+G33+H33 -> -4950 | G33: =+'Հավելված N 8'!I149+'Հավելված N 8'!I153+'Հավելված N 8'!I157 -> -4950
C34: ՀՀ Սյունիքի մարզ | D34: =SUM(E34:H34) -> -12597.1 | E34: =+E35 -> 0 | F34: =+F35 -> 0 | G34: =+G35 -> -12597.1 | H34: =+H35 -> 0
C35: Բաղաբերդ ամրոցի ամրակայման, նորոգման, վերականգնման գիտանախագծային փաստաթղթեր | D35: =+E35+F35+G35+H35 -> -12597.1 | G35: =+'Հավելված N 8'!I151+'Հավելված N 8'!I155+'Հավելված N 8'!I159 -> -12597.1
C36: ՀՀ Վայոց Ձորի մարզ | D36: =SUM(E36:H36) -> -5491.2 | E36: =+E37 -> 0 | F36: =+F37 -> 0 | G36: =+G37 -> -5491.2 | H36: =+H37 -> 0
C37: Սմբատաբերդի պարիսպների վթարային հատվածների և կից կառույցների ամրակայման, նորոգման, վերականգնման և տարածքի բարեկարգման գիտանախագծային փաստաթղթերի կազմում | D37: =+E37+F37+G37+H37 -> -5491.2 | G37: =+'Հավելված N 8'!I150+'Հավելված N 8'!I154+'Հավելված N 8'!I158 -> -5491.2
A38: 1075 | B38: 32001 | C38: Ներդրումներ թանգարանների և պատկերասրահների հիմնանորոգման համար | D38: =SUM(E38:H38) -> 32801.9 | E38: =+E40 -> 0 | F38: =+F40 -> 32801.9 | G38: =+G40 -> 0 | H38: =+H40 -> 0
C39: այդ թվում`
C40: Երևան քաղաք | D40: =SUM(E40:H40) -> 32801.9 | E40: =+E41 -> 0 | F40: =+F41 -> 32801.9 | G40: =+G41 -> 0 | H40: =+H41 -> 0
C41: «Հայաստանի ազգային պատկերասրահ» ՊՈԱԿ | D41: =+E41+F41+G41+H41 -> 32801.9 | F41: =+'Հավելված N 8'!I129+'Հավելված N 8'!I131+'Հավելված N 8'!I132 -> 32801.9
A42: 1111 | B42: 32001 | C42: Բարձրագույն ուսումնական հաստատությունների և ««Զեյթուն» ուսանողական ավան» հիմնադրամի շենքային պայմանների բարելավում | D42: =SUM(E42:H42) -> -36062.7 | E42: =+E44 -> 0 | F42: =+F44 -> -36062.7 | G42: =+G44 -> 0 | H42: =+H44 -> 0
C43: այդ թվում`
C44: Երևան քաղաք | D44: =SUM(E44:H44) -> -36062.7 | E44: =+E45 -> 0 | F44: =+F45 -> -36062.7 | G44: =+G45 -> 0 | H44: =+H45 -> 0
C45: «Զեյթուն» ուսանողական ավան» հիմնադրամ | D45: =SUM(E45:H45) -> -36062.7 | F45: =+'Հավելված N 8'!I202+'Հավելված N 8'!I204+'Հավելված N 8'!I205+'Հավելված N 8'!I206 -> -36062.7
A46: 1124 | B46: 32002 | C46: Ներդրումներ գրադարանների հիմնանորոգման համար | D46: =SUM(E46:H46) -> 4452.8 | E46: =+E48 -> 0 | F46: =+F48 -> 4452.8 | G46: =+G48 -> 0 | H46: =+H48 -> 0
C47: այդ թվում`
C48: Երևան քաղաք | D48: =SUM(E48:H48) -> 4452.8 | E48: =+E49 -> 0 | F48: =+F49 -> 4452.8 | G48: =+G49 -> 0 | H48: =+H49 -> 0
C49: «Հայաստանի ազգային գրադարան» ՊՈԱԿ | D49: =+E49+F49+G49+H49 -> 4452.8 | F49: =3771+541.2+50+90.6 -> 4452.8
A50: 1163 | B50: 32003 | C50: Թեթև կոնստրուկցիաներով մարզադահլիճների հիմնում | D50: =+E50+F50+G50+H50 -> 600 | E50: =+E52 -> 0 | F50: =+F52 -> 0 | G50: =+G52 -> 600 | H50: =+H52 -> 0
C51: այդ թվում`
C52: ՀՀ Կոտայքի մարզ | D52: =SUM(E52:H52) -> 600 | E52: =+E53 -> 0 | F52: =+F53 -> 0 | G52: =+G53 -> 600 | H52: =+H53 -> 0
C53: ՀՀ Կոտայքի մարզի Նաիրի համայնքի Զովունի գյուղում թեթև կոնստրուկցիաներով մարզադահլիճ | D53: =+E53+F53+G53+H53 -> 600 | G53: =+'Հավելված N 8'!I125 -> 600
A54: 1168 | B54: 32001 | C54: Ներդրումներ թատրոնների և համերգային կազմակերպությունների շենքերի կապիտալ վերանորոգման համար | D54: =+E54+F54+G54+H54 -> 820 | E54: =+E56 -> 0 | F54: =+F56 -> 0 | G54: =+G56 -> 820 | H54: =+H56 -> 0
C55: այդ թվում`
C56: Երևան քաղաք | D56: =SUM(E56:H56) -> 820 | E56: =+E57 -> 0 | F56: =+F57 -> 0 | G56: =+G57 -> 820 | H56: =+H57 -> 0
C57: «Հայաստանի պետական սիմֆոնիկ նվագախումբ» ՊՈԱԿ | D57: =+E57+F57+G57+H57 -> 820 | G57: =+'Հավելված N 8'!I136 -> 820
A58: 1183 | B58: 32001 | C58: Կրթական օբյեկտների շենքային պայմանների բարելավում | D58: =+E58+F58+G58+H58 -> 982.5 | E58: =+E60 -> 0 | F58: =+F60 -> 982.5 | G58: =+G60 -> 0 | H58: =+H60 -> 0
C59: այդ թվում`
C60: Երևան քաղաք | D60: =SUM(E60:H60) -> 982.5 | E60: =+E61 -> 0 | F60: =+F61 -> 982.5 | G60: =+G61 -> 0 | H60: =+H61 -> 0
C61: «Երևանի Վ.Համբարձումյանի անվան հ.12 հիմնական դպրոց» ՊՈԱԿ | D61: =+E61+F61+G61+H61 -> 982.5 | F61: =+'Հավելված N 8'!I209 -> 982.5
A62: 1192 | B62: 32007 | C62: ՀՀ պետական դպրոցների՝ ԳՏՃՄ լաբորատորիաներով ապահովում | D62: =+E62+F62+G62+H62 -> -289330.7 | E62: 0 | F62: 0 | G62: 0 | H62: -289330.7
A63: 1236 | B63: 32004 | C63: Հանրակրթական դպրոցների շենքերի վերակառուցում, հիմնանորոգում | D63: =+E63+F63+G63+H63 -> 29381.5 | E63: =+E65 -> 0 | F63: =+F65 -> 29381.5 | G63: =+G65 -> 0 | H63: =+H65 -> 0
C64: այդ թվում`
C65: ՀՀ Արարատի մարզ | D65: =SUM(E65:H65) -> 29381.5 | E65: =+E66 -> 0 | F65: =+F66 -> 29381.5 | G65: =+G66 -> 0 | H65: =+H66 -> 0
C66: «Արտաշատի ավագ դպրոց» ՊՈԱԿ | D66: =+E66+F66+G66+H66 -> 29381.5 | F66: =+'Հավելված N 8'!I175+'Հավելված N 8'!I177+'Հավելված N 8'!I178 -> 29381.5
A67: 1236 | B67: 32006 | C67: Հանրակրթական դպրոցների, մանկապարտեզների և կրթահամալիրների գույքով և տեխնիկայով ապահովում | D67: =+E67+F67+G67+H67 -> -236531.5 | E67: =+E69+E72+E73 -> 0 | F67: =+F69+F72+F73 -> 0 | G67: =+G69+G72+G73 -> 0 | H67: =+H69+H72+H73 -> -236531.5
C68: այդ թվում`
C69: ՀՀ Արագածոտնի մարզ | D69: =SUM(E69:H69) -> 0 | E69: =+E70+E71 -> 0 | F69: =+F70+F71 -> 0 | G69: =+G70+G71 -> 0 | H69: =+H70+H71 -> 0
C70: Ապարան համայնքի Արագածի Գուսան Աշխույժի անվան մանկապարտեզ | D70: =+E70+F70+G70+H70 -> -37585.6 | H70: -37585.6
C71: Ապարան համայնքի Արագածի Լիա Տեր–Ղևոնդյանի անվան մանկապարտեզ | D71: =+E71+F71+G71+H71 -> 37585.6 | H71: 37585.6
C72: Լոռու մարզի դպրոցների լաբորատոր գույքով և սարքավորումներով ապահովում | D72: =SUM(E72:H72) -> -115720.9 | E72: 0 | F72: 0 | G72: 0 | H72: -115720.9
C73: Շիրակի մարզի դպրոցների լաբորատոր գույքով և սարքավորումներով ապահովում | D73: =SUM(E73:H73) -> -120810.6 | E73: 0 | F73: 0 | G73: 0 | H73: -120810.6

Sheet Հավելված N 4
E1: Հավելված N 4
D2: ՀՀ կառավարության 2024 թվականի
E3: ______________ ի ___Ն որոշման
B6: ՀԱՅԱՍՏԱՆԻ ՀԱՆՐԱՊԵՏՈՒԹՅԱՆ ԿԱՌԱՎԱՐՈՒԹՅԱՆ 2023 ԹՎԱԿԱՆԻ ԴԵԿՏԵՄԲԵՐԻ 28-Ի N 2323-Ն ՈՐՈՇՄԱՆ N 5 ՀԱՎԵԼՎԱԾԻ N 2 ԱՂՅՈՒՍԱԿՈՒՄ ԿԱՏԱՐՎՈՂ ՓՈՓՈԽՈՒԹՅՈՒՆՆԵՐԸ ԵՎ ԼՐԱՑՈՒՄՆԵՐԸ
F8: հազ. դրամներով
B9: Ծրագրային դասիչ | D9: Բյուջետային գլխավոր կարգադրիչների, ծրագրերի, միջոցառումների, միջոցառումները կատարող պետական մարմինների և ուղղությունների անվանումները | E9: Ցուցանիշների փոփոխությունը (ավելացումները նշված են դրական նշանով, իսկ նվազեցումները՝ փակագծերում)
B10: Ծրագիր | C10: Միջոցառում | E10: Ինն ամիս | F10: Տարի
D11: ՀՀ ԿՐԹՈՒԹՅԱՆ, ԳԻՏՈՒԹՅԱՆ, ՄՇԱԿՈՒՅԹԻ ԵՎ ՍՊՈՐՏԻ ՆԱԽԱՐԱՐՈՒԹՅՈՒՆ | E11: =+E13+E16+E22+E42+E48+E54+E60+E66+E72+E78+E81+E87 -> -387510.5 | F11: =+F13+F16+F22+F42+F48+F54+F60+F66+F72+F78+F81+F87 -> -575725.3
D12: այդ թվում՝
B13: 1041 | C13: 32001 | D13: Մանկապատանեկան մարզադպրոցներին, մարզաձևերի ազգային ֆեդերացիաներին այլ մարզական կազմակերպություններին գույքով ապահովում | E13: =+E15 -> -68503.7 | F13: =+F15 -> -68503.7
D14: այդ թվում` ըստ կատարողների
D15: ՀՀ կրթության, գիտության, մշակույթի և սպորտի նախարարություն | E15: =+F15 -> -68503.7 | F15: =+'Հավելված N 3'!D15 -> -68503.7
B16: 1045 | C16: 32001 | D16: Նախնական մասնագիտական (արհեստագործական) և միջին մասնագիտական ուսումնական հաստատությունների շենքային պայմանների բարելավում | E16: =+E18 -> 27536.7 | F16: =+F18 -> 27536.7
D17: այդ թվում` ըստ կատարողների
D18: ՀՀ կրթության, գիտության, մշակույթի և սպորտի նախարարություն | E18: =+F18 -> 27536.7 | F18: =+'Հավելված N 3'!D18 -> 27536.7
D19: այդ թվում`ըստ ուղղությունների
D20: Երևան քաղաք | E20: =+E21 -> 27536.7 | F20: =+F21 -> 27536.7
D21: =+'Հավելված N 3'!C19 -> «Երևանի պետական հումանիտար քոլեջ» ՊՈԱԿ | E21: =+F21 -> 27536.7 | F21: =+'Հավելված N 3'!D19 -> 27536.7
B22: 1075 | C22: 21001 | D22: Հուշարձանների ամրակայում, նորոգում և վերականգնում | E22: =+E24 -> -14907.9 | F22: =+F24 -> -41872.1
D23: այդ թվում` ըստ կատարողների
D24: ՀՀ կրթության, գիտության, մշակույթի և սպորտի նախարարություն | E24: =+E26+E32 -> -14907.9 | F24: =+F26+F32 -> -41872.1
D25: այդ թվում`ըստ ուղղությունների
D26: 1. Վերականգնողական աշխատանքներ | E26: =+E28+E30 -> -14907.9 | F26: =+F28+F30 -> -9023.8
D27: որից`
D28: ՀՀ Լոռու մարզ | E28: =+E29 -> 21478.1 | F28: =+F29 -> 42956.2
D29: =+'Հավելված N 3'!C25 -> Քոբայրավանք համալիրի գլխավոր եկեղեցու, նրան կից եկեղեցու և Մարիամաշեն եկեղեցու տանիքների վերականգնում | E29: =+ROUND(F29/2,1) -> 21478.1 | F29: =+'Հավելված N 3'!D25 -> 42956.2
D30: ՀՀ Վայոց Ձորի մարզ | E30: =+E31 -> -36386 | F30: =+F31 -> -51980
D31: =+'Հավելված N 3'!C27 -> Շատիվանքի վանական համալիրի ամրակայում, մասնակի վերականգնում և տարածքի բարեկարգում | E31: -36386 | F31: =+'Հավելված N 3'!D27 -> -51980
D32: 2. Վավերագրման և ուսումնասիրման աշխատանքներ, (այդ թվում՝ հետախուզումև պեղում), գիտանախագծային փաստաթղթերի կազմում և փորձաքննում | E32: =+E34+E36+E38+E40 -> 0 | F32: =+F34+F36+F38+F40 -> -32848.3
D33: որից`
D34: ՀՀ Արագածոտնի մարզ | E34: =+E35 -> 0 | F34: =+F35 -> -9810
D35: =+'Հավելված N 3'!C31 -> Աղձք Հայոց արքաների դամբարանի և հնավայրի ամրակայման, վերականգնման և տարածքի բարեկարգման գիտանախագծային փաստաթղթեր | E35: 0 | F35: =+'Հավելված N 3'!D31 -> -9810
D36: ՀՀ Արարատի մարզ | E36: =+E37 -> 0 | F36: =+F37 -> -4950
D37: =+'Հավելված N 3'!C33 -> Տափի բերդի պարիսպներին կից օժանդակ շինությունների վերականգնման, ավտոկայանատեղի կառուցման գիտանախագծային փաստաթղթեր | E37: 0 | F37: =+'Հավելված N 3'!D33 -> -4950
D38: ՀՀ Սյունիքի մարզ | E38: =+E39 -> 0 | F38: =+F39 -> -12597.1
D39: =+'Հավելված N 3'!C35 -> Բաղաբերդ ամրոցի ամրակայման, նորոգման, վերականգնման գիտանախագծային փաստաթղթեր | E39: 0 | F39: =+'Հավելված N 3'!D35 -> -12597.1
D40: ՀՀ Վայոց Ձորի մարզ | E40: =+E41 -> 0 | F40: =+F41 -> -5491.2
D41: =+'Հավելված N 3'!C37 -> Սմբատաբերդի պարիսպների վթարային հատվածների և կից կառույցների ամրակայման, նորոգման, վերականգնման և տարածքի բարեկարգման գիտանախագծային փաստաթղթերի կազմում | E41: 0 | F41: =+'Հավելված N 3'!D37 -> -5491.2
B42: 1075 | C42: 32001 | D42: Ներդրումներ թանգարանների և պատկերասրահների հիմնանորոգման համար | E42: =+E44 -> 10745.6 | F42: =+F44 -> 32801.9
D43: այդ թվում` ըստ կատարողների
D44: ՀՀ կրթության, գիտության, մշակույթի և սպորտի նախարարություն | E44: =+E46 -> 10745.6 | F44: =+F46 -> 32801.9
D45: այդ թվում`ըստ ուղղությունների
D46: Երևան քաղաք | E46: =+E47 -> 10745.6 | F46: =+F47 -> 32801.9
D47: =+'Հավելված N 3'!C41 -> «Հայաստանի ազգային պատկերասրահ» ՊՈԱԿ | E47: =10366.8+378.8 -> 10745.6 | F47: =+'Հավելված N 3'!D41 -> 32801.9
B48: 1111 | C48: 32001 | D48: Բարձրագույն ուսումնական հաստատությունների և ««Զեյթուն» ուսանողական ավան» հիմնադրամի շենքային պայմանների բարելավում | E48: =+E50 -> 0 | F48: =+F50 -> -36062.7
D49: այդ թվում` ըստ կատարողների
D50: ՀՀ կրթության, գիտության, մշակույթի և սպորտի նախարարություն | E50: =+E52 -> 0 | F50: =+F52 -> -36062.7
D51: այդ թվում`ըստ ուղղությունների
D52: Երևան քաղաք | E52: =+E53 -> 0 | F52: =+F53 -> -36062.7
D53: =+'Հավելված N 3'!C45 -> «Զեյթուն» ուսանողական ավան» հիմնադրամ | E53: 0 | F53: =+'Հավելված N 3'!D45 -> -36062.7
B54: 1124 | C54: 32002 | D54: Ներդրումներ գրադարանների հիմնանորոգման համար | E54: =+E56 -> 4452.8 | F54: =+F56 -> 4452.8
D55: այդ թվում` ըստ կատարողների
D56: ՀՀ կրթության, գիտության, մշակույթի և սպորտի նախարարություն | E56: =+E58 -> 4452.8 | F56: =+F58 -> 4452.8
D57: այդ թվում`ըստ ուղղությունների
D58: Երևան քաղաք | E58: =+E59 -> 4452.8 | F58: =+F59 -> 4452.8
D59: =+'Հավելված N 3'!C49 -> «Հայաստանի ազգային գրադարան» ՊՈԱԿ | E59: =+F59 -> 4452.8 | F59: =+'Հավելված N 3'!D49 -> 4452.8
B60: 1163 | C60: 32003 | D60: Թեթև կոնստրուկցիաներով մարզադահլիճների հիմնում | E60: =+E62 -> 600 | F60: =+F62 -> 600
D61: այդ թվում` ըստ կատարողների
D62: ՀՀ կրթության, գիտության, մշակույթի և սպորտի նախարարություն | E62: =+E64 -> 600 | F62: =+F64 -> 600
D63: այդ թվում`ըստ ուղղությունների
D64: ՀՀ Կոտայքի մարզ | E64: =+E65 -> 600 | F64: =+F65 -> 600
D65: =+'Հավելված N 3'!C53 -> ՀՀ Կոտայքի մարզի Նաիրի համայնքի Զովունի գյուղում թեթև կոնստրուկցիաներով մարզադահլիճ | E65: =+F65 -> 600 | F65: =+'Հավելված N 3'!D53 -> 600
B66: 1168 | C66: 32001 | D66: Ներդրումներ թատրոնների և համերգային կազմակերպությունների շենքերի կապիտալ վերանորոգման համար | E66: =+E68 -> 820 | F66: =+F68 -> 820
D67: այդ թվում` ըստ կատարողների
D68: ՀՀ կրթության, գիտության, մշակույթի և սպորտի նախարարություն | E68: =+E70 -> 820 | F68: =+F70 -> 820
D69: այդ թվում`ըստ ուղղությունների
D70: Երևան քաղաք | E70: =+E71 -> 820 | F70: =+F71 -> 820
D71: =+'Հավելված N 3'!C57 -> «Հայաստանի պետական սիմֆոնիկ նվագախումբ» ՊՈԱԿ | E71: =+F71 -> 820 | F71: =+'Հավելված N 3'!D57 -> 820
B72: 1183 | C72: 32001 | D72: Կրթական օբյեկտների շենքային պայմանների բարելավում | E72: =+E74 -> 982.5 | F72: =+F74 -> 982.5
D73: այդ թվում` ըստ կատարողների
D74: ՀՀ կրթության, գիտության, մշակույթի և սպորտի նախարարություն | E74: =+E76 -> 982.5 | F74: =+F76 -> 982.5
D75: այդ թվում`ըստ ուղղությունների
D76: Երևան քաղաք | E76: =+E77 -> 982.5 | F76: =+F77 -> 982.5
D77: =+'Հավելված N 3'!C61 -> «Երևանի Վ.Համբարձումյանի անվան հ.12 հիմնական դպրոց» ՊՈԱԿ | E77: =+F77 -> 982.5 | F77: =+'Հավելված N 3'!D61 -> 982.5
B78: 1192 | C78: 32007 | D78: ՀՀ պետական դպրոցների՝ ԳՏՃՄ լաբորատորիաներով ապահովում | E78: =+E80 -> -188065 | F78: =+F80 -> -289330.7
D79: այդ թվում` ըստ կատարողների
D80: ՀՀ կրթության, գիտության, մշակույթի և սպորտի նախարարություն | E80: -188065 | F80: =+'Հավելված N 3'!D62 -> -289330.7
B81: 1236 | C81: 32004 | D81: Հանրակրթական դպրոցների շենքերի վերակառուցում, հիմնանորոգում | E81: =+E83 -> 29381.5 | F81: =+F83 -> 29381.5
D82: այդ թվում` ըստ կատարողների
D83: ՀՀ կրթության, գիտության, մշակույթի և սպորտի նախարարություն | E83: =+E85 -> 29381.5 | F83: =+F85 -> 29381.5
D84: այդ թվում`ըստ ուղղությունների
D85: ՀՀ Արարատի մարզ | E85: =+E86 -> 29381.5 | F85: =+F86 -> 29381.5
D86: =+'Հավելված N 3'!C66 -> «Արտաշատի ավագ դպրոց» ՊՈԱԿ | E86: =+F86 -> 29381.5 | F86: =+'Հավելված N 3'!D66 -> 29381.5
B87: 1236 | C87: 32006 | D87: Հանրակրթական դպրոցների, մանկապարտեզների և կրթահամալիրների գույքով և տեխնիկայով ապահովում | E87: =+E89+E93 -> -190553 | F87: =+F89+F93 -> -236531.5
D88: այդ թվում` ըստ կատարողների
D89: ՀՀ կրթության, գիտության, մշակույթի և սպորտի նախարարություն | E89: =+E91+E92 -> -190553 | F89: =+F91+F92 -> -236531.5
D90: այդ թվում`ըստ ուղղությունների
D91: =+'Հավելված N 3'!C72 -> Լոռու մարզի դպրոցների լաբորատոր գույքով և սարքավորումներով ապահովում | E91: =-75224.1-36802.1 -> -112026.2 | F91: =+'Հավելված N 3'!D72 -> -115720.9
D92: =+'Հավելված N 3'!C73 -> Շիրակի մարզի դպրոցների լաբորատոր գույքով և սարքավորումներով ապահովում | E92: -78526.8 | F92: =+'Հավելված N 3'!D73 -> -120810.6
D93: ՀՀ Արագածոտնի մարզպետի աշխատակազմ | E93: =+E95 -> 0 | F93: =+F95 -> 0
D94: այդ թվում`ըստ ուղղությունների
D95: ՀՀ Արագածոտնի մարզ | E95: =SUM(E96:E97) -> 0 | F95: =SUM(F96:F97) -> 0
D96: =+'Հավելված N 3'!C70 -> Ապարան համայնքի Արագածի Գուսան Աշխույժի անվան մանկապարտեզ | E96: =+F96 -> -37585.6 | F96: =+'Հավելված N 3'!D70 -> -37585.6
D97: =+'Հավելված N 3'!C71 -> Ապարան համայնքի Արագածի Լիա Տեր–Ղևոնդյանի անվան մանկապարտեզ | E97: =+F97 -> 37585.6 | F97: =+'Հավելված N 3'!D71 -> 37585.6

Sheet Հավելված N 5
F1: Հավելված 5
F2: ՀՀ կառավարության 2024 թվականի
F3: ______________ ի ___Ն որոշման
A6: ՀԱՅԱՍՏԱՆԻ ՀԱՆՐԱՊԵՏՈՒԹՅԱՆ ԿԱՌԱՎԱՐՈՒԹՅԱՆ 2023 ԹՎԱԿԱՆԻ ԴԵԿՏԵՄԲԵՐԻ 28-Ի N 2323-Ն ՈՐՈՇՄԱՆ N 5 ՀԱՎԵԼՎԱԾԻ N 7 ԱՂՅՈՒՍԱԿՈՒՄ ԿԱՏԱՐՎՈՂ ԼՐԱՑՈՒՄՆԵՐԸ
A7: հազար դրամ
A8: Ծրագրային դասիչը | D8: Բյուջետային հատկացումների գլխավոր կարգադրիչների, ծրագրերի, միջոցառումների և միջոցառումները կատարող պետական մարմինների անվանումները | F8: Միջոցառումները կատարող պետական մարմինների և դրամաշնորհ ստացող տնտեսվարող սուբյեկտների անվանումները | G8: Ցուցանիշների փոփոխությունը (ավելացումները նշված են դրական նշանով)
A9: Ծրագիր | B9: Միջոցառում | G9: Տարի
A10: ՀՀ կրթության, գիտության, մշակույթի և սպորտի նախարարություն | G10: =+G11+G20 -> 41944.6
A11: 1075 | B11: Մշակութային ժառանգության ծրագիր | G11: =+G12 -> 39787.2
B12: 21001 | C12: Հուշարձանների ամրակայում, նորոգում և վերականգնում | F12: ՀՀ կրթության, գիտության, մշակույթի և սպորտի նախարարություն | G12: =+G14 -> 39787.2
D13: այդ թվում՝ ըստ ուղղությունների և միջոցառումների անվանումների
E14: Վավերագրման և ուսումնասիրման աշխատանքներ, (այդ թվում՝ հետախուզումև պեղում), գիտանախագծային փաստաթղթերի կազմում և փորձաքննում | G14: =+G15+G16+G17+G18+G19 -> 39787.2
E15: ՀՀ Արագածոտնի մարզի Աղձք Հայոց արքաների դամբարանի և հնավայրի ամրակայման, վերականգնման և տարածքի բարեկարգման գիտանախագծային փաստաթղթերի կազմում | F15: «Պատմամշակութային ժառանգության գիտահետազոտական կենտրոն» ՊՈԱԿ | G15: =+ROUNDUP(9000*1.2,1) -> 10800
E16: ՀՀ Արարատի մարզի Տափի բերդի պարիսպներին կից օժանդակ շինությունների վերականգնման, ավտոկայանատեղի կառուցման գիտանախագծային փաստաթղթերի կազմում | F16: «Պատմամշակութային ժառանգության գիտահետազոտական կենտրոն» ՊՈԱԿ | G16: =+ROUNDUP(4500*1.2,1) -> 5400
E17: ՀՀ Շիրակի մարզի Անի համայնքի Գուսանագյուղի դղյակի ամրակայման, նորոգման և մասնակի վերականգնման գիտանախագծային փաստաթղթերի կազմում | F17: «Պատմամշակութային ժառանգության գիտահետազոտական կենտրոն» ՊՈԱԿ | G17: =+ROUNDUP(3000*1.2,1) -> 3600
E18: ՀՀ Սյունիքի մարզի Բաղաբերդ ամրոցի ամրակայման, նորոգման, վերականգնման գիտանախագծային փաստաթղթերի կազմում | F18: «Պատմամշակութային արգելոց-թանգարանների և պատմական միջավայրի պահպանության ծառայություն» ՊՈԱԿ | G18: =+ROUNDUP(11664*1.2,1) -> 13996.8
E19: ՀՀ Վայոց Ձորի մարզի Սմբատաբերդի պարիսպների վթարային հատվածների և կից կառույցների ամրակայման, նորոգման, վերականգնման և տարածքի բարեկարգման գիտանախագծային փաստաթղթերի կազմում | F19: «Պատմամշակութային ժառանգության գիտահետազոտական կենտրոն» ՊՈԱԿ | G19: =+ROUNDUP(4992*1.2,1) -> 5990.4
A20: 1183 | B20: Ապահով դպրոց | G20: =+G21 -> 2157.4
B21: 32001 | C21: Կրթական օբյեկտների շենքային պայմանների բարելավում | G21: =+G22 -> 2157.4
F22: ՀՀ կրթության, գիտության, մշակույթի և սպորտի նախարարություն | G22: =+G23 -> 2157.4
F23: «Երևանի Ս. Խանզադյանի անվան հ. 184 ավագ դպրոց» ՊՈԱԿ | G23: 2157.4

Sheet Հավելված N 6
C1: Հավելված N 6
C2: ՀՀ կառավարության 2024 թվականի
C3: ______________ ի ___Ն որոշման
B6: ՀԱՅԱՍՏԱՆԻ ՀԱՆՐԱՊԵՏՈՒԹՅԱՆ ԿԱՌԱՎԱՐՈՒԹՅԱՆ 2023 ԹՎԱԿԱՆԻ ԴԵԿՏԵՄԲԵՐԻ 28-Ի N 2323-Ն ՈՐՈՇՄԱՆ N 9 ՀԱՎԵԼՎԱԾԻ NN 9.13 ԵՎ 9.48 ԱՂՅՈՒՍԱԿՆԵՐՈՒՄ ԿԱՏԱՐՎՈՂ ՓՈՓՈԽՈՒԹՅՈՒՆՆԵՐԸ ԵՎ ԼՐԱՑՈՒՄՆԵՐԸ
A8: Աղյուսակ 9․13
C9: ՀՀ կրթության, գիտության, մշակույթի և սպորտի նախարարություն
B10: ՄԱՍ 2. ՊԵՏԱԿԱՆ ՄԱՐՄՆԻ ԳԾՈՎ ԱՐԴՅՈՒՆՔԱՅԻՆ (ԿԱՏԱՐՈՂԱԿԱՆ) ՑՈՒՑԱՆԻՇՆԵՐԸ
B13: Ծրագրի դասիչը | C13: Ծրագրի անվանումը
B14: 1041 | C14: Մեծ նվաճումների սպորտ
B16: Ծրագրի միջոցառումները
B17: Ծրագրի դասիչը՝ | C17: 1041 | D17: Ցուցանիշների փոփոխությունը (նվազեցումները նշված են փակագծերում)
B18: Միջոցառման դասիչը՝ | C18: 32001 | D18: Ինն ամիս | E18: Տարի
B19: Միջոցառման անվանումը` | C19: Մանկապատանեկան մարզադպրոցներին, մարզաձևերի ազգային ֆեդերացիաներին և այլ մարզական հասարակական կազմակերպություններին գույքով ապահովում
B20: Նկարագրությունը` | C20: Սպորտի զարգացման նպատակով մարզադպրոցներին, ազգային ֆեդերացիաներին և այլ մարզական հասարակական կազմակերպություններին մարզական և այլ անհրաժեշտ գույքի տրամադրում
B21: Միջոցառման տեսակը` | C21: Այլ պետական կազմակերպությունների կողմից օգտագործվող ոչ ֆինանսական ակտիվների հետ գործառնություններ
B22: Ակտիվն օգտագործող կազմակերպությունների անվանում | C22: Մարզական հաստատություններ
B23: Արդյունքի չափորոշիչներ
B24: Միջոցառման վրա կատարվող ծախսը (հազար դրամ) | D24: =+'Հավելված N 1'!D23 -> -68503.7 | E24: =+'Հավելված N 1'!E23 -> -68503.7
B26: Ծրագրի դասիչը | C26: Ծրագրի անվանումը
B27: 1045 | C27: Նախնական (արհեստագործական) և միջին մասնագիտական կրթություն
B29: Ծրագրի միջոցառումները
B30: Ծրագրի դասիչը՝ | C30: 1045 | D30: Ցուցանիշների փոփոխությունը (ավելացումները նշված են դրական նշանով)
B31: Միջոցառման դասիչը՝ | C31: 32001 | D31: Ինն ամիս | E31: Տարի
B32: Միջոցառման անվանումը` | C32: Նախնական մասնագիտական (արհեստագործական) և միջին մասնագիտական ուսումնական հաստատությունների շենքային պայմանների բարելավում
B33: Նկարագրությունը` | C33: ՆՄՄԿՈՒ հաստատությունների շենքերի հիմնանորոգման և նախագծման (շինարարական աշխատանքներ, ջեռուցման համակարգի ստեղծում, ներքին հարդարում, տարածքի բարեկարգում) աշխատանքների իրականացում
B34: Միջոցառման տեսակը` | C34: Այլ պետական կազմակերպությունների կողմից օգտագործվող ոչ ֆինանսական ակտիվների հետ գործառնություններ
B35: Ակտիվն օգտագործող կազմակերպությունների անվանումները | C35: Միջին մասնագիտական ուսումնական հաստատություններ
B36: Արդյունքի չափորոշիչներ
B37: Մասնակի նորոգվող նախնական (արհեստագործական) և միջին մասնագիտական ուսումնական հաստատությունների քանակ, հատ | E37: 1
B38: Միջոցառման վրա կատարվող ծախսը (հազար դրամ) | D38: =+'Հավելված N 1'!D36 -> 27536.7 | E38: =+'Հավելված N 1'!E36 -> 27536.7
B40: Ծրագրի դասիչը | C40: Ծրագրի անվանումը
B41: 1075 | C41: Մշակութային ժառանգության ծրագիր
B43: Ծրագրի միջոցառումները
B44: Ծրագրի դասիչը՝ | C44: 1075 | D44: Ցուցանիշների փոփոխությունը (ավելացումները նշված են դրական նշանով, իսկ նվազեցումները՝ փակագծերում)
B45: Միջոցառման դասիչը՝ | C45: 21001 | D45: Ինն ամիս | E45: Տարի
B46: Միջոցառման անվանումը` | C46: Հուշարձանների ամրակայում, նորոգում և վերականգնում
B47: Նկարագրությունը` | C47: Հուշարձանների գիտանախագծային փաստաթղթերի կազմում, հրատապ ուսումնասիրում, վավերագրման և ուսումնասիրման աշխատանքներ, հետախուզում և հնագիտական պեղում, ամրակայում, նորոգում և վերականգնում
B48: Միջոցառման տեսակը` | C48: Հանրության կողմից անմիջականորեն օգտագործվող ակտիվների հետ կապված միջոցառումներ
B49: Ակտիվն օգտագործող կազմակերպությունների անվանումները | C49: Մասնագիտացված կազմակերպություն
B50: Արդյունքի չափորոշիչներ
B51: Հուշարձանների ամրակայման, նորոգման և վերականգնման աշխատանքներ, քանակ
B52: Հուշարձանների նախագծման, փորձաքննության աշխատանքներ, քանակ | E52: 1
B53: Միջոցառման վրա կատարվող ծախսը (հազար դրամ) | D53: =+'Հավելված N 1'!D49 -> 24879.3 | E53: =+'Հավելված N 1'!E49 -> -2084.9
B55: Ծրագրի միջոցառումները
B56: Ծրագրի դասիչը՝ | C56: 1075 | D56: Ցուցանիշների փոփոխությունը (ավելացումները նշված են դրական նշանով)
B57: Միջոցառման դասիչը՝ | C57: 32001 | D57: Ինն ամիս | E57: Տարի
B58: Միջոցառման անվանումը` | C58: Ներդրումներ թանգարանների և պատկերասրահների հիմնանորոգման համար
B59: Նկարագրությունը` | C59: Թանգարանների և պատկերասրահների շենքերի, մասնաշենքերի հիմնանորոգում, համաշինարարական աշխատանքներ, ջեռուցման համակարգի իրականացում, ներքին հարդարում, տարածքի բարեկարգում և նախագծում
B60: Միջոցառման տեսակը` | C60: Այլ պետական կազմակերպությունների կողմից օգտագործվող ոչ ֆինանսական ակտիվների հետ գործառնություններ
B61: Ակտիվն օգտագործող կազմակերպությունների անվանումները | C61: Թանգարաններ և պատկերասրահներ
B62: Արդյունքի չափորոշիչներ
B63: Միջոցառման վրա կատարվող ծախսը (հազար դրամ) | D63: =+'Հավելված N 1'!D55 -> 10745.6 | E63: =+'Հավելված N 1'!E55 -> 32801.9
B65: Ծրագրի դասիչը | C65: Ծրագրի անվանումը
B66: 1111 | C66: Բարձրագույն և հետբուհական մասնագիտական կրթության ծրագիր
B68: Ծրագրի միջոցառումները
B69: Ծրագրի դասիչը՝ | C69: 1111 | D69: Ցուցանիշների փոփոխությունը (նվազեցումները նշված են փակագծերում)
B70: Միջոցառման դասիչը՝ | C70: 32001 | D70: Ինն ամիս | E70: Տարի
B71: Միջոցառման անվանումը` | C71: Բարձրագույն ուսումնական հաստատությունների և «Զեյթուն» ուսանողական ավան» հիմնադրամի շենքային պայմանների բարելավում
B72: Նկարագրությունը` | C72: Բարձրագույն ուսումնական հաստատությունների և «Զեյթուն» ուսանողական ավան» հիմնադրամի շենքային պայմանների բարելավում
B73: Միջոցառման տեսակը` | C73: Այլ պետական կազմակերպությունների կողմից օգտագործվող ոչ ֆինանսական ակտիվների հետ գործառնություններ
B74: Ակտիվն օգտագործող կազմակերպությունների անվանումները | C74: Միջին մասնագիտական ուսումնական հաստատություններ
B75: Արդյունքի չափորոշիչներ
B76: Կազմակերպությունների թիվը, որտեղ կատարվում են ներդրումները, հատ | E76: -1
B77: Միջոցառման վրա կատարվող ծախսը (հազար դրամ) | D77: =+'Հավելված N 1'!D61 -> 0 | E77: =+'Հավելված N 1'!E61 -> -36062.7
B79: Ծրագրի դասիչը | C79: Ծրագրի անվանումը
B80: 1124 | C80: Գրահրատարակչության և գրադարանների ծրագիր
B82: Ծրագրի միջոցառումները
B83: Ծրագրի դասիչը՝ | C83: 1124 | D83: Ցուցանիշների փոփոխությունը (ավելացումները նշված են դրական նշանով)
B84: Միջոցառման դասիչը՝ | C84: 32002 | D84: Ինն ամիս | E84: Տարի
B85: Միջոցառման անվանումը՝ | C85: Ներդրումներ գրադարանների հիմնանորոգման համար
B86: Նկարագրությունը՝ | C86: Գրադարանների շենքերի, մասնաշենքերի հիմնանորոգում, համաշինարարական աշխատանքներ, ջեռուցման համակարգի իրականացում, ներքին հարդարում, տարածքի բարեկարգում և նախագծում
B87: Միջոցառման տեսակը՝ | C87: Այլ պետական կազմակերպությունների կողմից օգտագործվող ոչ ֆինանսական ակտիվների հետ գործառնություններ
B88: Ակտիվն օգտագործող կազմակերպությունների անվանումները | C88: Հանրային գրադարաններ
B89: Արդյունքի չափորոշիչներ
B90: Միջոցառման վրա կատարվող ծախսը (հազար դրամ) | D90: =+'Հավելված N 1'!D81 -> 4452.8 | E90: =+'Հավելված N 1'!E81 -> 4452.8
B92: Ծրագրի դասիչը | C92: Ծրագրի անվանումը
B93: 1163 | C93: Մասսայական սպորտ
B95: Ծրագրի միջոցառումները
B96: Ծրագրի դասիչը՝ | C96: 1163 | D96: Ցուցանիշների փոփոխությունը (ավելացումները նշված են դրական նշանով)
B97: Միջոցառման դասիչը՝ | C97: 32003 | D97: Ինն ամիս | E97: Տարի
B98: Միջոցառման անվանումը` | C98: Թեթև կոնստրուկցիաներով մարզադահլիճների հիմնում
B99: Նկարագրությունը` | C99: ՀՀ մարզերում արագ հավաքվող, թեթև կոնստրուկցիաներով, օդահենային պնևմատիկ, եվրոպական ստանդարտներին համապատասխան մարզադահլիճների հիմնում՝ չինական արտադրության PVDF հատուկ ծածկույթով մարզադահլիճների տեղակապմամբ
B100: Միջոցառման տեսակը` | C100: Այլ պետական կազմակերպությունների կողմից օգտագործվող ոչ ֆինանսական ակտիվների հետ գործառնություններ
B101: Ակտիվն օգտագործող կազմակերպությունների անվանումները | C101: Մարզական հաստատություններ
B102: Արդյունքի չափորոշիչներ
B103: Միջոցառման վրա կատարվող ծախսը (հազար դրամ) | D103: =+'Հավելված N 1'!D94 -> 600 | E103: =+'Հավելված N 1'!E94 -> 600
B105: Ծրագրի դասիչը | C105: Ծրագրի անվանումը
B106: 1168 | C106: Արվեստների ծրագիր
B108: Ծրագրի միջոցառումները
B109: Ծրագրի դասիչը՝ | C109: 1168 | D109: Ցուցանիշների փոփոխությունը (ավելացումները նշված են դրական նշանով)
B110: Միջոցառման դասիչը՝ | C110: 32001 | D110: Ինն ամիս | E110: Տարի
B111: Միջոցառման անվանումը` | C111: Ներդրումներ թատրոնների և համերգային կազմակերպությունների շենքերի կապիտալ վերանորոգման համար
B112: Նկարագրությունը` | C112: Թատրոնների և համերգային կազմակերպությունների շենքերի մասնաշենքերի հիմնանորոգում, համաշինարարական աշխատանքներ, ջեռուցման համակարգի իրականացում, ներքին հարդարում, տարածքի բարեկարգում և նախագծում
B113: Միջոցառման տեսակը` | C113: Այլ պետական կազմակերպությունների կողմից օգտագործվող ոչ ֆինանսական ակտիվների հետ գործառնություններ
B114: Ակտիվն օգտագործող կազմակերպությունների անվանումները | C114: Թատրոններ և համերգային կազմակերպություններ
B115: Արդյունքի չափորոշիչներ
B116: Միջոցառման վրա կատարվող ծախսը (հազար դրամ) | D116: =+'Հավելված N 1'!D100 -> 820 | E116: =+'Հավելված N 1'!E100 -> 820
B118: Ծրագրի դասիչը | C118: Ծրագրի անվանումը
B119: 1183 | C119: Ապահով դպրոց
B121: Ծրագրի միջոցառումները
...

Sheet Հավելված N 7
C1: Հավելված N 7
C2: ՀՀ կառավարության 2024 թվականի
C3: ______________ ի ___Ն որոշման
B6: ՀԱՅԱՍՏԱՆԻ ՀԱՆՐԱՊԵՏՈՒԹՅԱՆ ԿԱՌԱՎԱՐՈՒԹՅԱՆ 2023 ԹՎԱԿԱՆԻ ԴԵԿՏԵՄԲԵՐԻ 28-Ի N 2323-Ն ՈՐՈՇՄԱՆ N 9.1 ՀԱՎԵԼՎԱԾԻ NN 9.1.13 ԵՎ 9.1.58 ԱՂՅՈՒՍԱԿՆԵՐՈՒՄ ԿԱՏԱՐՎՈՂ ՓՈՓՈԽՈՒԹՅՈՒՆՆԵՐԸ ԵՎ ԼՐԱՑՈՒՄՆԵՐԸ
A8: Աղյուսակ 9․1.13
C9: ՀՀ կրթության, գիտության, մշակույթի և սպորտի նախարարություն
B10: ՄԱՍ 1. ՊԵՏԱԿԱՆ ՄԱՐՄՆԻ ԳԾՈՎ ԱՐԴՅՈՒՆՔԱՅԻՆ (ԿԱՏԱՐՈՂԱԿԱՆ) ՑՈՒՑԱՆԻՇՆԵՐԸ
B13: Ծրագրի դասիչը | C13: Ծրագրի անվանումը
B14: 1041 | C14: Մեծ նվաճումների սպորտ
B16: Ծրագրի միջոցառումները
B17: Ծրագրի դասիչը՝ | C17: 1041 | D17: Ցուցանիշների փոփոխությունը (նվազեցումները նշված են փակագծերում)
B18: Միջոցառման դասիչը՝ | C18: 32001 | D18: Ինն ամիս | E18: Տարի
B19: Միջոցառման անվանումը` | C19: Մանկապատանեկան մարզադպրոցներին, մարզաձևերի ազգային ֆեդերացիաներին և այլ մարզական հասարակական կազմակերպություններին գույքով ապահովում
B20: Նկարագրությունը` | C20: Սպորտի զարգացման նպատակով մարզադպրոցներին, ազգային ֆեդերացիաներին և այլ մարզական հասարակական կազմակերպություններին մարզական և այլ անհրաժեշտ գույքի տրամադրում
B21: Միջոցառման տեսակը` | C21: Այլ պետական կազմակերպությունների կողմից օգտագործվող ոչ ֆինանսական ակտիվների հետ գործառնություններ
B22: Ակտիվն օգտագործող կազմակերպությունների անվանում | C22: Մարզական հաստատություններ
B23: Արդյունքի չափորոշիչներ
B24: Միջոցառման վրա կատարվող ծախսը (հազար դրամ) | D24: =+'Հավելված N 2'!G28 -> -68503.7 | E24: =+'Հավելված N 2'!H28 -> -68503.7
B26: Ծրագրի դասիչը | C26: Ծրագրի անվանումը
B27: 1045 | C27: Նախնական (արհեստագործական) և միջին մասնագիտական կրթություն
B29: Ծրագրի միջոցառումները
B30: Ծրագրի դասիչը՝ | C30: 1045 | D30: Ցուցանիշների փոփոխությունը (ավելացումները նշված են դրական նշանով)
B31: Միջոցառման դասիչը՝ | C31: 32001 | D31: Ինն ամիս | E31: Տարի
B32: Միջոցառման անվանումը` | C32: Նախնական մասնագիտական (արհեստագործական) և միջին մասնագիտական ուսումնական հաստատությունների շենքային պայմանների բարելավում
B33: Նկարագրությունը` | C33: ՆՄՄԿՈՒ հաստատությունների շենքերի հիմնանորոգման և նախագծման (շինարարական աշխատանքներ, ջեռուցման համակարգի ստեղծում, ներքին հարդարում, տարածքի բարեկարգում) աշխատանքների իրականացում
B34: Միջոցառման տեսակը` | C34: Այլ պետական կազմակերպությունների կողմից օգտագործվող ոչ ֆինանսական ակտիվների հետ գործառնություններ
B35: Ակտիվն օգտագործող կազմակերպությունների անվանումները | C35: Միջին մասնագիտական ուսումնական հաստատություններ
B36: Արդյունքի չափորոշիչներ
B37: Մասնակի նորոգվող նախնական (արհեստագործական) և միջին մասնագիտական ուսումնական հաստատությունների քանակ, հատ | E37: 1
B38: Միջոցառման վրա կատարվող ծախսը (հազար դրամ) | D38: =+'Հավելված N 2'!G171 -> 27536.7 | E38: =+'Հավելված N 2'!H171 -> 27536.7
B40: Ծրագրի դասիչը | C40: Ծրագրի անվանումը
B41: 1075 | C41: Մշակութային ժառանգության ծրագիր
B43: Ծրագրի միջոցառումները
B44: Ծրագրի դասիչը՝ | C44: 1075 | D44: Ցուցանիշների փոփոխությունը (ավելացումները նշված են դրական նշանով, իսկ նվազեցումները՝ փակագծերում)
B45: Միջոցառման դասիչը՝ | C45: 21001 | D45: Ինն ամիս | E45: Տարի
B46: Միջոցառման անվանումը` | C46: Հուշարձանների ամրակայում, նորոգում և վերականգնում
B47: Նկարագրությունը` | C47: Հուշարձանների գիտանախագծային փաստաթղթերի կազմում, հրատապ ուսումնասիրում, վավերագրման և ուսումնասիրման աշխատանքներ, հետախուզում և հնագիտական պեղում, ամրակայում, նորոգում և վերականգնում
B48: Միջոցառման տեսակը` | C48: Հանրության կողմից անմիջականորեն օգտագործվող ակտիվների հետ կապված միջոցառումներ
B49: Ակտիվն օգտագործող կազմակերպությունների անվանումները | C49: Մասնագիտացված կազմակերպություն
B50: Արդյունքի չափորոշիչներ
B51: Հուշարձանների ամրակայման, նորոգման և վերականգնման աշխատանքներ, քանակ
B52: Հուշարձանների նախագծման, փորձաքննության աշխատանքներ, քանակ | E52: 1
B53: Միջոցառման վրա կատարվող ծախսը (հազար դրամ) | D53: =+'Հավելված N 2'!G101 -> 24879.3 | E53: =+'Հավելված N 2'!H101 -> -2084.9
B55: Ծրագրի միջոցառումները
B56: Ծրագրի դասիչը՝ | C56: 1075 | D56: Ցուցանիշների փոփոխությունը (ավելացումները նշված են դրական նշանով)
B57: Միջոցառման դասիչը՝ | C57: 32001 | D57: Ինն ամիս | E57: Տարի
B58: Միջոցառման անվանումը` | C58: Ներդրումներ թանգարանների և պատկերասրահների հիմնանորոգման համար
B59: Նկարագրությունը` | C59: Թանգարանների և պատկերասրահների շենքերի, մասնաշենքերի հիմնանորոգում, համաշինարարական աշխատանքներ, ջեռուցման համակարգի իրականացում, ներքին հարդարում, տարածքի բարեկարգում և նախագծում
B60: Միջոցառման տեսակը` | C60: Այլ պետական կազմակերպությունների կողմից օգտագործվող ոչ ֆինանսական ակտիվների հետ գործառնություններ
B61: Ակտիվն օգտագործող կազմակերպությունների անվանումները | C61: Թանգարաններ և պատկերասրահներ
B62: Արդյունքի չափորոշիչներ
B63: Միջոցառման վրա կատարվող ծախսը (հազար դրամ) | D63: =+'Հավելված N 2'!G71 -> 10745.6 | E63: =+'Հավելված N 2'!H71 -> 32801.9
B65: Ծրագրի դասիչը | C65: Ծրագրի անվանումը
B66: 1111 | C66: Բարձրագույն և հետբուհական մասնագիտական կրթության ծրագիր
B68: Ծրագրի միջոցառումները
B69: Ծրագրի դասիչը՝ | C69: 1111 | D69: Ցուցանիշների փոփոխությունը (նվազեցումները նշված են փակագծերում)
B70: Միջոցառման դասիչը՝ | C70: 32001 | D70: Ինն ամիս | E70: Տարի
B71: Միջոցառման անվանումը` | C71: Բարձրագույն ուսումնական հաստատությունների և «Զեյթուն» ուսանողական ավան» հիմնադրամի շենքային պայմանների բարելավում
B72: Նկարագրությունը` | C72: Բարձրագույն ուսումնական հաստատությունների և «Զեյթուն» ուսանողական ավան» հիմնադրամի շենքային պայմանների բարելավում
B73: Միջոցառման տեսակը` | C73: Այլ պետական կազմակերպությունների կողմից օգտագործվող ոչ ֆինանսական ակտիվների հետ գործառնություններ
B74: Ակտիվն օգտագործող կազմակերպությունների անվանումները | C74: Միջին մասնագիտական ուսումնական հաստատություններ
B75: Արդյունքի չափորոշիչներ
B76: Կազմակերպությունների թիվը, որտեղ կատարվում են ներդրումները, հատ | E76: -1
B77: Միջոցառման վրա կատարվող ծախսը (հազար դրամ) | D77: =+'Հավելված N 2'!G182 -> 0 | E77: =+'Հավելված N 2'!H182 -> -36062.7
B79: Ծրագրի դասիչը | C79: Ծրագրի անվանումը
B80: 1124 | C80: Գրահրատարակչության և գրադարանների ծրագիր
B82: Ծրագրի միջոցառումները
B83: Ծրագրի դասիչը՝ | C83: 1124 | D83: Ցուցանիշների փոփոխությունը (ավելացումները նշված են դրական նշանով)
B84: Միջոցառման դասիչը՝ | C84: 32002 | D84: Ինն ամիս | E84: Տարի
B85: Միջոցառման անվանումը՝ | C85: Ներդրումներ գրադարանների հիմնանորոգման համար
B86: Նկարագրությունը՝ | C86: Գրադարանների շենքերի, մասնաշենքերի հիմնանորոգում, համաշինարարական աշխատանքներ, ջեռուցման համակարգի իրականացում, ներքին հարդարում, տարածքի բարեկարգում և նախագծում
B87: Միջոցառման տեսակը՝ | C87: Այլ պետական կազմակերպությունների կողմից օգտագործվող ոչ ֆինանսական ակտիվների հետ գործառնություններ
B88: Ակտիվն օգտագործող կազմակերպությունների անվանումները | C88: Հանրային գրադարաններ
B89: Արդյունքի չափորոշիչներ
B90: Միջոցառման վրա կատարվող ծախսը (հազար դրամ) | D90: =+'Հավելված N 2'!G56 -> 4452.8 | E90: =+'Հավելված N 2'!H56 -> 4452.8
B92: Ծրագրի դասիչը | C92: Ծրագրի անվանումը
B93: 1163 | C93: Մասսայական սպորտ
B95: Ծրագրի միջոցառումները
B96: Ծրագրի դասիչը՝ | C96: 1163 | D96: Ցուցանիշների փոփոխությունը (ավելացումները նշված են դրական նշանով)
B97: Միջոցառման դասիչը՝ | C97: 32003 | D97: Ինն ամիս | E97: Տարի
B98: Միջոցառման անվանումը` | C98: Թեթև կոնստրուկցիաներով մարզադահլիճների հիմնում
B99: Նկարագրությունը` | C99: ՀՀ մարզերում արագ հավաքվող, թեթև կոնստրուկցիաներով, օդահենային պնևմատիկ, եվրոպական ստանդարտներին համապատասխան մարզադահլիճների հիմնում՝ չինական արտադրության PVDF հատուկ ծածկույթով մարզադահլիճների տեղակապմամբ
B100: Միջոցառման տեսակը` | C100: Այլ պետական կազմակերպությունների կողմից օգտագործվող ոչ ֆինանսական ակտիվների հետ գործառնություններ
B101: Ակտիվն օգտագործող կազմակերպությունների անվանումները | C101: Մարզական հաստատություններ
B102: Արդյունքի չափորոշիչներ
B103: Միջոցառման վրա կատարվող ծախսը (հազար դրամ) | D103: =+'Հավելված N 2'!G39 -> 600 | E103: =+'Հավելված N 2'!H39 -> 600
B105: Ծրագրի դասիչը | C105: Ծրագրի անվանումը
B106: 1168 | C106: Արվեստների ծրագիր
B108: Ծրագրի միջոցառումները
B109: Ծրագրի դասիչը՝ | C109: 1168 | D109: Ցուցանիշների փոփոխությունը (ավելացումները նշված են դրական նշանով)
B110: Միջոցառման դասիչը՝ | C110: 32001 | D110: Ինն ամիս | E110: Տարի
B111: Միջոցառման անվանումը` | C111: Ներդրումներ թատրոնների և համերգային կազմակերպությունների շենքերի կապիտալ վերանորոգման համար
B112: Նկարագրությունը` | C112: Թատրոնների և համերգային կազմակերպությունների շենքերի մասնաշենքերի հիմնանորոգում, համաշինարարական աշխատանքներ, ջեռուցման համակարգի իրականացում, ներքին հարդարում, տարածքի բարեկարգում և նախագծում
B113: Միջոցառման տեսակը` | C113: Այլ պետական կազմակերպությունների կողմից օգտագործվող ոչ ֆինանսական ակտիվների հետ գործառնություններ
B114: Ակտիվն օգտագործող կազմակերպությունների անվանումները | C114: Թատրոններ և համերգային կազմակերպություններ
B115: Արդյունքի չափորոշիչներ
B116: Միջոցառման վրա կատարվող ծախսը (հազար դրամ) | D116: =+'Հավելված N 2'!G86 -> 820 | E116: =+'Հավելված N 2'!H86 -> 820
B118: Ծրագրի դասիչը | C118: Ծրագրի անվանումը
B119: 1183 | C119: Ապահով դպրոց
B121: Ծրագրի միջոցառումները
...

Sheet Հավելված N 8
H1: Հավելված N 8
H2: ՀՀ կառավարության 2024 թվականի
H3: ______________ ի ___Ն որոշման
A6: ՀԱՅԱՍՏԱՆԻ ՀԱՆՐԱՊԵՏՈՒԹՅԱՆ ԿԱՌԱՎԱՐՈՒԹՅԱՆ 2023 ԹՎԱԿԱՆԻ ԴԵԿՏԵՄԲԵՐԻ 28-Ի N 2323-Ն N 10 ՀԱՎԵԼՎԱԾՈՒՄ ԿԱՏԱՐՎՈՂ ՓՈՓՈԽՈՒԹՅՈՒՆՆԵՐԸ ԵՎ ԼՐԱՑՈՒՄՆԵՐԸ
A10: Կոդը | B10: Անվանումը | E10: Գնման ձևը | F10: Չափման միավորը | G10: Միավորի գինը | H10: Ցուցանիշների փոփոխությունը (ավելացումները նշված են դրական նշանով, իսկ նվազեցումները՝ փակագծերում)
H11: Քանակը | I11: Գումարը (հազար դրամ)
A12: 1 | B12: 2 | E12: 3 | F12: 4 | G12: 5 | H12: 6 | I12: 7
A13: ՀՀ կրթության, գիտության, մշակույթի և սպորտի նախարարություն | I13: =+I14+I126+I133+I137+I160+I193 -> -580177.8
A14: Բաժին N 08 | B14: Խումբ N 01 | C14: Դաս N 01 | D14: Հանգստի և սպորտի ծառայություններ | I14: =+I15+I123 -> -67903.7
A15: 1041-32001 | B15: Մանկապատանեկան մարզադպրոցներին, մարզաձևերի ազգային ֆեդերացիաներին այլ մարզական կազմակերպություններին գույքով ապահովում | I15: =+I16 -> -68503.7
B16: ՄԱՍ I. ԱՊՐԱՆՔՆԵՐ | I16: =SUM(I17:I122) -> -68503.7
A17: 37431111-501 | B17: բռնցքամարտի ռինգեր | E17: ԷԱՃ | F17: լրակազմ | I17: -6700
A18: 37411630-503 | B18: թեթև ատլետիկայի սարքեր | E18: ԷԱՃ | F18: հատ | I18: -46
A19: 37431110-501 | B19: բռնցքամարտի տանձեր | E19: ԷԱՃ | F19: հատ | I19: -1222
A20: 37451860-502 | B20: դարպասի ցանց | E20: ԷԱՃ | F20: հատ | I20: -1411.9
A21: 37411230-501 | B21: ջրային սպորտի սարքեր | E21: ԷԱՃ | F21: հատ | I21: -4.8
A22: 37431230-501 | B22: մարզման գնդակներ (ֆիթբոլ) | E22: ԷԱՃ | F22: հատ | I22: -12
A23: 37451860-503 | B23: դարպասի ցանց | E23: ԷԱՃ | F23: հատ | I23: -94
A24: 37471200-505 | B24: բուլավա | E24: ԷԱՃ | F24: հատ | I24: -272
A25: 37411130-508 | B25: դահուկներ | E25: ԷԱՃ | F25: հատ | I25: -9
A26: 37421141-505 | B26: պտտաձող | E26: ԷԱՃ | F26: հատ | I26: -652
A27: 37451861-505 | B27: ֆուտբոլի դարպասներ | E27: ԷԱՃ | F27: հատ | I27: -529.4
A28: 37421161-501 | B28: մարմնամարզության ժապավեն | E28: ԷԱՃ | F28: հատ | I28: -252
... A119: 37421151-505 | B119: մարմնամարզական պատ | E119: ԷԱՃ | F119: հատ | I119: -220
A120: 34521240-1 | B120: կանոեներ | E120: ԷԱՃ | F120: հատ | G120: 1000000 | H120: -1 | I120: =+ROUNDDOWN(H120*G120/1000,1) -> -1000
A121: 34521240-2 | B121: կանոեներ | E121: ԷԱՃ | F121: հատ | G121: 1250000 | H121: -1 | I121: =+ROUNDDOWN(H121*G121/1000,1) -> -1250
A122: 34431100-1 | B122: առանց շարժիչի հեծանիվներ | E122: ԷԱՃ | F122: հատ | G122: 150000 | H122: -10 | I122: =+ROUNDDOWN(H122*G122/1000,1) -> -1500
A123: 1163-32003 | B123: Թեթև կոնստրուկցիաներով մարզադահլիճների հիմնում | I123: =+I124 -> 600
B124: ՄԱՍ III. ԾԱՌԱՅՈՒԹՅՈՒՆՆԵՐ | I124: =+I125 -> 600
A125: 50531140-501 | B125: փորձաքննության ծառայություններ | E125: ԳՀ | F125: դրամ | G125: 600000 | H125: 1 | I125: =+ROUND(H125*G125/1000,1) -> 600
A126: Բաժին N 08 | B126: Խումբ N 02 | C126: Դաս N 02 | D126: Թանգարաններ և ցուցասրահներ | I126: =+I127 -> 32801.9
A127: 1075-32001 | B127: Ներդրումներ թանգարանների և պատկերասրահների հիմնանորոգման համար | I127: =+I128+I130 -> 32801.9
B128: ՄԱՍ II. ԱՇԽԱՏԱՆՔՆԵՐ | I128: =+I129 -> 35532.5
A129: 45611200-2 | B129: մշակութային օբյեկտների հիմնանորոգում | E129: ԲՄ | F129: դրամ | I129: =10366.8+11324.5+13841.2 -> 35532.5
B130: ՄԱՍ III. ԾԱՌԱՅՈՒԹՅՈՒՆՆԵՐ | I130: =SUM(I131:I132) -> -2730.6
A131: 71351540-2 | B131: տեխնիկական հսկողության ծառայություններ | E131: ԳՀ | F131: դրամ | I131: =-3391.7+48.2+59 -> -3284.5
A132: 98111140-2 | B132: հեղինակային հսկողության ծառայություններ | E132: ՄԱ | F132: դրամ | I132: =378.8+78.8+96.3 -> 553.9
A133: Բաժին N 08 | B133: Խումբ N 02 | C133: Դաս N 05 | D133: Արվեստ | I133: =+I134 -> 820
A134: 1168-32001 | B134: Ներդրումներ թատրոնների և համերգային կազմակերպությունների շենքերի կապիտալ վերանորոգման համար | I134: =+I135 -> 820
B135: ՄԱՍ III. ԾԱՌԱՅՈՒԹՅՈՒՆՆԵՐ | I135: =+I136 -> 820
A136: 50531140 | B136: փորձաքննության ծառայություններ | E136: ԳՀ | F136: դրամ | G136: 820000 | H136: 1 | I136: =+ROUND(H136*G136/1000,1) -> 820
A137: Բաժին N 08 | B137: Խումբ N 02 | C137: Դաս N 07 | D137: Հուշարձանների և մշակութային արժեքների վերականգնում և պահպանում | I137: =+I138 -> -41871.9
A138: 1075-21001 | B138: Հուշարձանների ամրակայում, նորոգում և վերականգնում | I138: =+I139+I142 -> -41871.9
B139: ՄԱՍ II. ԱՇԽԱՏԱՆՔՆԵՐ | I139: =SUM(I140:I141) -> -9279.4
A140: 45451600 | B140: վերականգնողական աշխատանքներ | E140: ԳՀ | F140: դրամ | G140: 41583881 | H140: 1 | I140: =+ROUNDUP(H140*G140/1000,1) -> 41583.9
A141: 45451600-9 | B141: վերականգնողական աշխատանքներ | E141: ԲՄ | F141: դրամ | G141: 50863300 | H141: -1 | I141: =+ROUNDDOWN(H141*G141/1000,1) -> -50863.3
B142: ՄԱՍ III. ԾԱՌԱՅՈՒԹՅՈՒՆՆԵՐ | I142: =SUM(I143:I159) -> -32592.5
A143: 71351540 | B143: տեխնիկական հսկողության ծառայություններ | E143: ԳՀ | F143: դրամ | G143: 831678 | H143: 1 | I143: =+ROUNDUP(H143*G143/1000,1) -> 831.7
A144: 71351540-9 | B144: տեխնիկական հսկողության ծառայություններ | E144: ԳՀ | F144: դրամ | G144: 521070 | H144: -1 | I144: =+ROUNDDOWN(H144*G144/1000,1) -> -521
A145: 71351540-535 | B145: տեխնիկական հսկողության ծառայություններ | E145: ԳՀ | F145: դրամ | G145: 80070 | H145: -1 | I145: =+ROUNDDOWN(H145*G145/1000,1) -> -80
A146: 98111140 | B146: հեղինակային հսկողության ծառայություններ | E146: ՄԱ | F146: դրամ | G146: 540590 | H146: 1 | I146: =+ROUNDUP(H146*G146/1000,1) -> 540.6
A147: 98111140-11 | B147: հեղինակային հսկողության ծառայություններ | E147: ՄԱ | F147: դրամ | G147: 515580 | H147: -1 | I147: =+ROUNDDOWN(H147*G147/1000,1) -> -515.5
A148: 71241200-1 | B148: նախագծերի պատրաստում, ծախսերի գնահատում | E148: ԳՀ | F148: դրամ | G148: 9000000 | H148: -1 | I148: =+ROUNDDOWN(H148*G148/1000,1) -> -9000
A149: 71241200-2 | B149: նախագծերի պատրաստում, ծախսերի գնահատում | E149: ԳՀ | F149: դրամ | G149: 4500000 | H149: -1 | I149: =+ROUNDDOWN(H149*G149/1000,1) -> -4500
A150: 71241200-8 | B150: նախագծերի պատրաստում, ծախսերի գնահատում | E150: ԳՀ | F150: դրամ | G150: 4992000 | H150: -1 | I150: =+ROUNDDOWN(H150*G150/1000,1) -> -4992
A151: 71241200-9 | B151: նախագծերի պատրաստում, ծախսերի գնահատում | E151: ԳՀ | F151: դրամ | G151: 11664000 | H151: -1 | I151: =+ROUNDDOWN(H151*G151/1000,1) -> -11664
A152: 50531140-1 | B152: փորձաքննության ծառայություններ | E152: ԳՀ | F152: դրամ | G152: 310000 | H152: -1 | I152: =+ROUNDDOWN(H152*G152/1000,1) -> -310
A153: 50531140-2 | B153: փորձաքննության ծառայություններ | E153: ԳՀ | F153: դրամ | G153: 220000 | H153: -1 | I153: =+ROUNDDOWN(H153*G153/1000,1) -> -220
A154: 50531140-8 | B154: փորձաքննության ծառայություններ | E154: ԳՀ | F154: դրամ | G154: 209200 | H154: -1 | I154: =+ROUNDDOWN(H154*G154/1000,1) -> -209.2
A155: 50531140-9 | B155: փորձաքննության ծառայություններ | E155: ԳՀ | F155: դրամ | G155: 393100 | H155: -1 | I155: =+ROUNDDOWN(H155*G155/1000,1) -> -393.1
A156: 50531140-529 | B156: փորձաքննության ծառայություններ | E156: ԳՀ | F156: դրամ | G156: 500000 | H156: -1 | I156: =+ROUNDDOWN(H156*G156/1000,1) -> -500
A157: 50531140-530 | B157: փորձաքննության ծառայություններ | E157: ԳՀ | F157: դրամ | G157: 230000 | H157: -1 | I157: =+ROUNDDOWN(H157*G157/1000,1) -> -230
A158: 50531140-536 | B158: փորձաքննության ծառայություններ | E158: ԳՀ | F158: դրամ | G158: 290000 | H158: -1 | I158: =+ROUNDDOWN(H158*G158/1000,1) -> -290
A159: 50531140-537 | B159: փորձաքննության ծառայություններ | E159: ԳՀ | F159: դրամ | G159: 540000 | H159: -1 | I159: =+ROUNDDOWN(H159*G159/1000,1) -> -540
A160: Բաժին N 09 | B160: Խումբ N 02 | C160: Դաս N 01 | D160: Հիմնական ընդհանուր կրթություն | I160: =+I161+I173+I179 -> -496480.6
A161: 1192-32007 | B161: ՀՀ պետական դպրոցների՝ ԳՏՃՄ լաբորատորիաներով ապահովում | I161: =+I162 -> -289330.6
B162: ՄԱՍ I. ԱՊՐԱՆՔՆԵՐ | I162: =SUM(I163:I172) -> -289330.6
A163: 39181200-9 | B163: լաբորատոր կահույք | E163: ԷԱՃ | F163: լրակազմ | I163: -424.8
A164: 45421140-3 | B164: կահույքի պատրաստման աշխատանքներ | E164: ԲՄ | F164: դրամ | I164: -45000
A165: 39181200-7 | B165: լաբորատոր կահույք | E165: ԷԱՃ | F165: լրակազմ | I165: -971.6
A166: 45421140-4 | B166: կահույքի պատրաստման աշխատանքներ | E166: ԲՄ | F166: դրամ | I166: -54243
A167: 39181200-10 | B167: լաբորատոր կահույք | E167: ԷԱՃ | F167: լրակազմ | I167: -953.5
A168: 39181200-8 | B168: լաբորատոր կահույք | E168: ԷԱՃ | F168: լրակազմ | I168: -14320
A169: 39181200-6 | B169: լաբորատոր կահույք | E169: ԷԱՃ | F169: լրակազմ | I169: -6869.9
A170: 30211300-1 | B170: համակարգչային սարքավորումներ | E170: ԷԱՃ | F170: լրակազմ | I170: -62224
A171: 30211300-2 | B171: համակարգչային սարքավորումներ | E171: ԷԱՃ | F171: լրակազմ | I171: -57000
A172: 39181200-21 | B172: լաբորատոր կահույք | E172: ԲՄ | F172: լրակազմ | G172: 47323800 | H172: -1 | I172: =+ROUND(H172*G172/1000,1) -> -47323.8
A173: 1236-32004 | B173: Հանրակրթական դպրոցների շենքերի վերակառուցում, հիմնանորոգում | I173: =+I174+I176 -> 29381.5
B174: ՄԱՍ II. ԱՇԽԱՏԱՆՔՆԵՐ | I174: =+I175 -> 28637
A175: 45111100 | B175: քանդման աշխատանքներ | E175: ԳՀ | F175: դրամ | G175: 28636920 | H175: 1 | I175: =+ROUNDUP(H175*G175/1000,1) -> 28637
B176: ՄԱՍ III. ԾԱՌԱՅՈՒԹՅՈՒՆՆԵՐ | I176: =SUM(I177:I178) -> 744.5
A177: 71351540 | B177: տեխնիկական հսկողության ծառայություններ | E177: ԳՀ | F177: դրամ | G177: 572730 | H177: 1 | I177: =+ROUND(H177*G177/1000,1) -> 572.7
A178: 98111140 | B178: հեղինակային հսկողության ծառայություններ | E178: ՄԱ | F178: դրամ | G178: 171810 | H178: 1 | I178: =+ROUND(H178*G178/1000,1) -> 171.8
A179: 1236-32006 | B179: Հանրակրթական դպրոցների, մանկապարտեզների և կրթահամալիրների գույքով և տեխնիկայով ապահովում | I179: =+I180 -> -236531.5
B180: ՄԱՍ I. ԱՊՐԱՆՔՆԵՐ | I180: =SUM(I181:I192) -> -236531.5
A181: 30211300-3 | B181: համակարգչային սարքավորումներ | E181: ԷԱՃ | F181: լրակազմ | I181: -25969
A182: 30211300-4 | B182: համակարգչային սարքավորումներ | E182: ԷԱՃ | F182: լրակազմ | I182: -37509.6
A183: 39181200-17 | B183: լաբորատոր կահույք | E183: ԷԱՃ | F183: լրակազմ | I183: -40
A184: 39181200-18 | B184: լաբորատոր կահույք | E184: ԷԱՃ | F184: լրակազմ | I184: -47.7
A185: 45421140-6 | B185: կահույքի պատրաստման աշխատանքներ | E185: ԲՄ | F185: դրամ | I185: -88318.9
A186: 39181200-14 | B186: լաբորատոր կահույք | E186: ԷԱՃ | F186: լրակազմ | I186: -541.6
A187: 39181200-11 | B187: լաբորատոր կահույք | E187: ԷԱՃ | F187: լրակազմ | I187: -6282
A188: 39181200-12 | B188: լաբորատոր կահույք | E188: ԷԱՃ | F188: լրակազմ | I188: -5503.8
A189: 39181200-15 | B189: լաբորատոր կահույք | E189: ԷԱՃ | F189: լրակազմ | I189: -200.4
A190: 39181200-16 | B190: լաբորատոր կահույք | E190: ԷԱՃ | F190: լրակազմ | I190: -373.7
A191: 45421140-5 | B191: կահույքի պատրաստման աշխատանքներ | E191: ԲՄ | F191: դրամ | I191: -71322.6
A192: 39181200-13 | B192: լաբորատոր կահույք | E192: ԷԱՃ | F192: լրակազմ | I192: -422.2
A193: Բաժին N 09 | B193: Խումբ N 06 | C193: Դաս N 01 | D193: Կրթությանը տրամադրվող օժանդակ ծառայություններ | I193: =+I194+I200+I207 -> -7543.5
A194: 1045-32001 | B194: Նախնական մասնագիտական (արհեստագործական) և միջին մասնագիտական ուսումնական հաստատությունների շենքային պայմանների բարելավում | I194: =+I195+I197 -> 27536.7
B195: ՄԱՍ II. ԱՇԽԱՏԱՆՔՆԵՐ | I195: =+I196 -> 27240
...

Sheet Հավելված N 9
G1: Հավելված N 9
H2: ՀՀ կառավարության 2024 թվականի
H3: ______________ ի ___Ն որոշման
A6: ՀԱՅԱՍՏԱՆԻ ՀԱՆՐԱՊԵՏՈՒԹՅԱՆ 2024 ԹՎԱԿԱՆԻ ՊԵՏԱԿԱՆ ԲՅՈՒՋԵՈՎ ՆԱԽԱՏԵՍՎԱԾ՝ ՀԱՅԱՍՏԱՆԻ ՀԱՆՐԱՊԵՏՈՒԹՅԱՆ ԿԱՌԱՎԱՐՈՒԹՅԱՆ ՊԱՀՈՒՍՏԱՅԻՆ ՖՈՆԴԻՑ ՀԱՏԿԱՑՈՒՄՆԵՐ ԿԱՏԱՐԵԼՈՒ ՎԵՐԱԲԵՐՅԱԼ
G8: հազ. դրամներով
A9: Գործառական դասիչը | D9: Ծրագրային դասիչը | F9: Բյուջետային հատկացումների գլխավոր կարգադրիչների, ծրագրերի, միջոցառումների և միջոցառումները կատարող պետական մարմինների անվանումները | G9: Ցուցանիշների փոփոխությունը (ավելացումները նշված են դրական նշանով, իսկ նվազեցումները` փակագծերում)
A10: Բաժին | B10: Խումբ | C10: Դաս | D10: Ծրագիր | E10: Միջոցառում | G10: Ինն ամիս | H10: Տարի
F11: ԸՆԴԱՄԵՆԸ | G11: =+G13+G34 -> 0 | H11: =+H13+H34 -> 0
F12: այդ թվում
F13: ՀՀ ԿԱՌԱՎԱՐՈՒԹՅՈՒՆ | G13: =+G14 -> -5052.8 | H13: =+H14 -> -5052.8
A14: 11 | F14: ՀԻՄՆԱԿԱՆ ԲԱԺԻՆՆԵՐԻՆ ՉԴԱՍՎՈՂ ՊԱՀՈՒՍՏԱՅԻՆ ՖՈՆԴԵՐ | G14: =+G16 -> -5052.8 | H14: =+H16 -> -5052.8
F15: այդ թվում`
B16: 01 | F16: ՀՀ կառավարության և համայնքների պահուստային ֆոնդ | G16: =+G18 -> -5052.8 | H16: =+H18 -> -5052.8
F17: այդ թվում`
C18: 01 | F18: ՀՀ կառավարության պահուստային ֆոնդ | G18: =+G20 -> -5052.8 | H18: =+H20 -> -5052.8
F19: այդ թվում`
F20: ՀՀ կառավարություն | G20: =+G22 -> -5052.8 | H20: =+H22 -> -5052.8
F21: այդ թվում`
D22: 1139 | E22: ՀՀ կառավարության պահուստային ֆոնդ | F22: ՀՀ կառավարության պահուստային ֆոնդ | G22: =+G24 -> -5052.8 | H22: =+H24 -> -5052.8
F23: այդ թվում`
E24: 11001 | F24: ՀՀ կառավարության պահուստային ֆոնդ | G24: =+G26 -> -5052.8 | H24: =+H26 -> -5052.8
F25: այդ թվում` ըստ կատարողների
F26: ՀՀ կառավարություն | G26: =+G28 -> -5052.8 | H26: =+H28 -> -5052.8
F27: այդ թվում՝ բյուջետային ծախսերի տնտեսագիտական դասակարգման հոդվածներ
F28: ԸՆԴԱՄԵՆԸ ԾԱԽՍԵՐ | G28: =+G29 -> -5052.8 | H28: =+H29 -> -5052.8
F29: ՈՉ ՖԻՆԱՆՍԱԿԱՆ ԱԿՏԻՎՆԵՐԻ ԳԾՈՎ ԾԱԽՍԵՐ | G29: =+G30 -> -5052.8 | H29: =+H30 -> -5052.8
F30: ՀԻՄՆԱԿԱՆ ՄԻՋՈՑՆԵՐ | G30: =+G31 -> -5052.8 | H30: =+H31 -> -5052.8
F31: ՇԵՆՔԵՐ ԵՎ ՇԻՆՈՒԹՅՈՒՆՆԵՐ | G31: =+G32 -> -5052.8 | H31: =+H32 -> -5052.8
F32: - Շենքերի և շինությունների շինարարություն | G32: =+'Հավելված N 2'!G231 -> -5052.8 | H32: =+'Հավելված N 2'!H231 -> -5052.8
F34: ՀՀ ԿՐԹՈՒԹՅԱՆ, ԳԻՏՈՒԹՅԱՆ, ՄՇԱԿՈՒՅԹԻ ԵՎ ՍՊՈՐՏԻ ՆԱԽԱՐԱՐՈՒԹՅՈՒՆ | G34: =+G35 -> 5052.8 | H34: =+H35 -> 5052.8
A35: 08 | F35: ՀԱՆԳԻՍՏ, ՄՇԱԿՈՒՅԹ ԵՎ ԿՐՈՆ | G35: =+G37+G54 -> 5052.8 | H35: =+H37+H54 -> 5052.8
F36: այդ թվում`
B37: 01 | F37: Հանգստի և սպորտի ծառայություններ | G37: =+G39 -> 600 | H37: =+H39 -> 600
F38: այդ թվում`
C39: 01 | F39: Հանգստի և սպորտի ծառայություններ | G39: =+G41 -> 600 | H39: =+H41 -> 600
F40: այդ թվում`
F41: ՀՀ կրթության, գիտության, մշակույթի և սպորտի նախարարություն | G41: =+G43 -> 600 | H41: =+H43 -> 600
F42: այդ թվում`
D43: 1163 | E43: Մասսայական սպորտ | G43: =+G45 -> 600 | H43: =+H45 -> 600
F44: այդ թվում`
E45: 32003 | F45: Թեթև կոնստրուկցիաներով մարզադահլիճների հիմնում | G45: =+G47 -> 600 | H45: =+H47 -> 600
F46: այդ թվում` ըստ կատարողների
F47: ՀՀ կրթության, գիտության, մշակույթի և սպորտի նախարարություն | G47: =+G49 -> 600 | H47: =+H49 -> 600
F48: այդ թվում՝ բյուջետային ծախսերի տնտեսագիտական դասակարգման հոդվածներ
F49: ԸՆԴԱՄԵՆԸ ԾԱԽՍԵՐ | G49: =+G50 -> 600 | H49: =+H50 -> 600
F50: ՈՉ ՖԻՆԱՆՍԱԿԱՆ ԱԿՏԻՎՆԵՐԻ ԳԾՈՎ ԾԱԽՍԵՐ | G50: =+G51 -> 600 | H50: =+H51 -> 600
F51: ՀԻՄՆԱԿԱՆ ՄԻՋՈՑՆԵՐ | G51: =+G52 -> 600 | H51: =+H52 -> 600
F52: ԱՅԼ ՀԻՄՆԱԿԱՆ ՄԻՋՈՑՆԵՐ | G52: =+G53 -> 600 | H52: =+H53 -> 600
F53: - Նախագծահետազոտական ծախսեր | G53: =+'Հավելված N 2'!G45 -> 600 | H53: =+'Հավելված N 2'!H45 -> 600
B54: 02 | F54: Մշակութային ծառայություններ | G54: =+G56 -> 4452.8 | H54: =+H56 -> 4452.8
F55: այդ թվում`
C56: 01 | F56: Գրադարաններ | G56: =+G58 -> 4452.8 | H56: =+H58 -> 4452.8
F57: այդ թվում`
F58: ՀՀ կրթության, գիտության, մշակույթի և սպորտի նախարարություն | G58: =+G60 -> 4452.8 | H58: =+H60 -> 4452.8
F59: այդ թվում`
D60: 1124 | E60: Գրահրատարակչության և գրադարանների ծրագիր | G60: =+G62 -> 4452.8 | H60: =+H62 -> 4452.8
F61: այդ թվում`
E62: 32002 | F62: Ներդրումներ գրադարանների հիմնանորոգման համար | G62: =+G64 -> 4452.8 | H62: =+H64 -> 4452.8
F63: այդ թվում` ըստ կատարողների
F64: ՀՀ կրթության, գիտության, մշակույթի և սպորտի նախարարություն | G64: =+G66 -> 4452.8 | H64: =+H66 -> 4452.8
F65: այդ թվում՝ բյուջետային ծախսերի տնտեսագիտական դասակարգման հոդվածներ
F66: ԸՆԴԱՄԵՆԸ ԾԱԽՍԵՐ | G66: =+G67 -> 4452.8 | H66: =+H67 -> 4452.8
F67: ՈՉ ՖԻՆԱՆՍԱԿԱՆ ԱԿՏԻՎՆԵՐԻ ԳԾՈՎ ԾԱԽՍԵՐ | G67: =+G68 -> 4452.8 | H67: =+H68 -> 4452.8
F68: ՀԻՄՆԱԿԱՆ ՄԻՋՈՑՆԵՐ | G68: =+G69 -> 4452.8 | H68: =+H69 -> 4452.8
F69: ՇԵՆՔԵՐ ԵՎ ՇԻՆՈՒԹՅՈՒՆՆԵՐ | G69: =+G70 -> 4452.8 | H69: =+H70 -> 4452.8
F70: - Շենքերի և շինությունների կապիտալ վերանորոգում | G70: =+'Հավելված N 2'!G62 -> 4452.8 | H70: =+'Հավելված N 2'!H62 -> 4452.8
