Workbook
Name a: #REF!
Name a: #REF!
Name a: #REF!
Name a: #REF!
Name a: #REF!
Name AgencyCode: #REF!
Name AgencyCode: #REF!
Name AgencyCode: #REF!
Name AgencyCode: #REF!
Name AgencyCode: #REF!
Name AgencyCode: #REF!
Name AgencyCode: #REF!
Name AgencyCode: #REF!
Name AgencyName: #REF!
Name AgencyName: #REF!
Name AgencyName: #REF!
Name AgencyName: #REF!
Name AgencyName: #REF!
Name davit: #REF!
Name davit: #REF!
Name davit: #REF!
Name davit: #REF!
Name Functional1: #REF!
Name Functional1: #REF!
Name Functional1: #REF!
Name Functional1: #REF!
Name Functional1: #REF!
Name ggg: #REF!
Name ggg: #REF!
Name ggg: #REF!
Name ggg: #REF!
Name PANature: #REF!
Name PANature: #REF!
Name PANature: #REF!
Name PANature: #REF!
Name PANature: #REF!
Name PAType: #REF!
Name PAType: #REF!
Name PAType: #REF!
Name PAType: #REF!
Name PAType: #REF!
Name Performance2: #REF!
Name Performance2: #REF!
Name Performance2: #REF!
Name Performance2: #REF!
Name Performance2: #REF!
Name PerformanceType: #REF!
Name PerformanceType: #REF!
Name PerformanceType: #REF!
Name PerformanceType: #REF!
Name PerformanceType: #REF!
Name Հավելված: #REF!
Name Հավելված: #REF!
Name Հավելված: #REF!
Name Հավելված: #REF!
Name Հավելված: #REF!
Name Հավելված10: #REF!
Name Հավելված10: #REF!
Name Հավելված11: #REF!
Name Հավելված11: #REF!

Sheet Հավելված N 1
C1: Հավելված N 1
C2: ՀՀ կառավարության 2024 թվականի
C3: ______________ ի ___Ն որոշման
A6: «ՀԱՅԱUՏԱՆԻ ՀԱՆՐԱՊԵՏՈՒԹՅԱՆ 2024 ԹՎԱԿԱՆԻ ՊԵՏԱԿԱՆ ԲՅՈՒՋԵԻ ՄԱUԻՆ» ՀԱՅԱUՏԱՆԻ ՀԱՆՐԱՊԵՏՈՒԹՅԱՆ OՐԵՆՔԻ N 1 ՀԱՎԵԼՎԱԾԻ N 2 ԱՂՅՈՒՍԱԿՈՒՄ ԿԱՏԱՐՎՈՂ ՎԵՐԱԲԱՇԽՈՒՄԸ ԵՎ ՀԱՅԱՍՏԱՆԻ ՀԱՆՐԱՊԵՏՈՒԹՅԱՆ ԿԱՌԱՎԱՐՈՒԹՅԱՆ 2023 ԹՎԱԿԱՆԻ ԴԵԿՏԵՄԲԵՐԻ 28-Ի N 2323-Ն ՈՐՈՇՄԱՆ N 5 ՀԱՎԵԼՎԱԾԻ N 1 ԱՂՅՈՒՍԱԿՈՒՄ ԿԱՏԱՐՎՈՂ ՓՈՓՈԽՈՒԹՅՈՒՆՆԵՐԸ ԵՎ ԼՐԱՑՈՒՄՆԵՐԸ
E9: հազ. դրամներով
A10: Ծրագրային դասիչը | C10: Բյուջետային հատկացումների գլխավոր կարգադրիչների, ծրագրերի և միջոցառումների անվանումները | D10: Ցուցանիշների փոփոխությունը (ավելացումները նշված են դրական նշանով, իսկ նվազեցումները փակագծերում)
A11: Ծրագիր | B11: Միջոցառում | D11: Ինն ամիս | E11: Տարի
A12: 1192 | C12: ԸՆԴԱՄԵՆԸ | D12: =+D14+D164 -> 2.8194336e-11 | E12: =+E14+E164 -> 2.8194336e-11
C13: այդ թվում
C14: ՀՀ ԿՐԹՈՒԹՅԱՆ, ԳԻՏՈՒԹՅԱՆ, ՄՇԱԿՈՒՅԹԻ ԵՎ ՍՊՈՐՏԻ ՆԱԽԱՐԱՐՈՒԹՅՈՒՆ | D14: =+D16+D29+D42+D61+D74+D87+D100+D113+D126+D145 -> -3750 | E14: =+E16+E29+E42+E61+E74+E87+E100+E113+E126+E145 -> -7918.5
A15: 1041 | C15: Ծրագրի անվանումը`
C16: Մեծ նվաճումների սպորտ | D16: =+D23 -> -68503.7 | E16: =+E23 -> -68503.7
C17: Ծրագրի նպատակը`
C18: Նպաստել Հայաստանում մեծ սպորտի շարունակական զարգացմանը և միջազգային հարթակներում ՀՀ դիրքի բարելավմանը
C19: Վերջնական արդյունքի նկարագրությունը`
C20: ՀՀ առաջնությունների ընդլայնում, միջազգային սպորտային միջոցառումներին մասնակցության և նվաճումների ապահովում
C21: Ծրագրի միջոցառումներ
B22: 32001 | C22: Միջոցառման անվանումը`
C23: Մանկապատանեկան մարզադպրոցներին, մարզաձևերի ազգային ֆեդերացիաներին և այլ մարզական հասարակական կազմակերպություններին գույքով ապահովում | D23: =+'Հավելված N 2'!G26 -> -68503.7 | E23: =+'Հավելված N 2'!H26 -> -68503.7
C24: Միջոցառման նկարագրությունը`
C25: Սպորտի զարգացման նպատակով մարզադպրոցներին, ազգային ֆեդերացիաներին և այլ մարզական հասարակական կազմակերպություններին մարզական և այլ անհրաժեշտ գույքի տրամադրում
C26: Միջոցառման տեսակը
C27: Այլ պետական կազմակերպությունների կողմից օգտագործվող ոչ ֆինանսական ակտիվների հետ գործառնություններ
A28: 1045 | C28: Ծրագրի անվանումը`
C29: Նախնական (արհեստագործական) և միջին մասնագիտական կրթություն | D29: =+D36 -> 27536.7 | E29: =+E36 -> 27536.7
C30: Ծրագրի նպատակը`
C31: Աշխատաշուկայի արդի պահանջներին համապատասխան նախնական մասնագիտական (արհեստագործական) և միջին մասնագիտական կրթության որակավորում ունեցող մասնագետների պատրաստում, կրթության մատչելիության ապահովում:
C32: Վերջնական արդյունքի նկարագրությունը`
C33: Նախնական (արհեստագործական) և միջին մասնագիտական կրթության գրավչության բարձրացում, մատչելի և մրցունակ նախնական (արհեստագործական) և միջին մասնագիտական կրթության ապահովում
C34: Ծրագրի միջոցառումներ
B35: 32001 | C35: Միջոցառման անվանումը`
C36: Նախնական մասնագիտական (արհեստագործական) և միջին մասնագիտական ուսումնական հաստատությունների շենքային պայմանների բարելավում | D36: =+'Հավելված N 2'!G169 -> 27536.7 | E36: =+'Հավելված N 2'!H169 -> 27536.7
C37: Միջոցառման նկարագրությունը`
C38: ՆՄՄԿՈՒ հաստատությունների շենքերի հիմնանորոգման և նախագծման (շինարարական աշխատանքներ, ջեռուցման համակարգի ստեղծում, ներքին հարդարում, տարածքի բարեկարգում) աշխատանքների իրականացում
C39: Միջոցառման տեսակը
C40: Այլ պետական կազմակերպությունների կողմից օգտագործվող ոչ ֆինանսական ակտիվների հետ գործառնություններ
A41: 1075 | C41: Ծրագրի անվանումը`
C42: Մշակութային ժառանգության ծրագիր | D42: =+D49+D55 -> 35624.9 | E42: =+E49+E55 -> 30717
C43: Ծրագրի նպատակը`
C44: Մշակութային ժառանգության պահպանում, օգտագործում, համալրում և հանրահռչակում
...

Sheet Հավելված N 2
F1: Հավելված N 2
F2: ՀՀ կառավարության 2024 թվականի
F3: ______________ ի ___Ն որոշման
A7: ՀԱՅԱՍՏԱՆԻ ՀԱՆՐԱՊԵՏՈՒԹՅԱՆ ԿԱՌԱՎԱՐՈՒԹՅԱՆ 2023 ԹՎԱԿԱՆԻ ԴԵԿՏԵՄԲԵՐԻ 28-Ի N 2323-Ն ՈՐՈՇՄԱՆ N 3 ԵՎ N 4 ՀԱՎԵԼՎԱԾՆԵՐՈՒՄ ԿԱՏԱՐՎՈՂ ՓՈՓՈԽՈՒԹՅՈՒՆՆԵՐԸ ԵՎ ԼՐԱՑՈՒՄՆԵՐԸ
H10: հազ. դրամներով
A11: Գործառական դասիչը | D11: Ծրագրային դասիչը | F11: Բյուջետային հատկացումների գլխավոր կարգադրիչների, ծրագրերի, միջոցառումների և միջոցառումները կատարող պետական մարմինների անվանումները | G11: Ցուցանիշների փոփոխությունը (ավելացումները նշված են դրական նշանով, իսկ նվազեցումները փակագծերում)
A12: Բաժին | B12: Խումբ | C12: Դաս | D12: Ծրագիր | E12: Միջոցառում | G12: Ինն ամիս | H12: Տարի
F13: ԸՆԴԱՄԵՆԸ | G13: =+G15+G205 -> 2.5465852e-11 | H13: =+H15+H205 -> 3.5470293e-11
F14: այդ թվում՝
F15: ՀՀ ԿՐԹՈՒԹՅԱՆ, ԳԻՏՈՒԹՅԱՆ, ՄՇԱԿՈՒՅԹԻ ԵՎ ՍՊՈՐՏԻ ՆԱԽԱՐԱՐՈՒԹՅՈՒՆ | G15: =+G16+G114 -> -3750 | H15: =+H16+H114 -> -7918.5
A16: 08 | F16: ՀԱՆԳԻՍՏ, ՄՇԱԿՈՒՅԹ ԵՎ ԿՐՈՆ | G16: =+G18+G46 -> -27006 | H16: =+H18+H46 -> -31913.9
F17: այդ թվում`
B18: 01 | F18: Հանգստի և սպորտի ծառայություններ | G18: =+G20 -> -67903.7 | H18: =+H20 -> -67903.7
F19: այդ թվում`
C20: 01 | F20: Հանգստի և սպորտի ծառայություններ | G20: =+G22 -> -67903.7 | H20: =+H22 -> -67903.7
F21: այդ թվում`
F22: ՀՀ կրթության, գիտության, մշակույթի և սպորտի նախարարություն | G22: =+G24+G35 -> -67903.7 | H22: =+H24+H35 -> -67903.7
F23: այդ թվում`
D24: 1041 | E24: Մեծ նվաճումների սպորտ | G24: =+G26 -> -68503.7 | H24: =+H26 -> -68503.7
F25: այդ թվում`
E26: 32001 | F26: Մանկապատանեկան մարզադպրոցներին, մարզաձևերի ազգային ֆեդերացիաներին այլ մարզական հասարակական կազմակերպություններին գույքով ապահովում | G26: =+G28 -> -68503.7 | H26: =+H28 -> -68503.7
F27: այդ թվում` ըստ կատարողների
F28: ՀՀ կրթության, գիտության, մշակույթի և սպորտի նախարարություն | G28: =+G30 -> -68503.7 | H28: =+H30 -> -68503.7
F29: այդ թվում՝ բյուջետային ծախսերի տնտեսագիտական դասակարգման հոդվածներ
F30: ԸՆԴԱՄԵՆԸ ԾԱԽՍԵՐ | G30: =G31 -> -68503.7 | H30: =H31 -> -68503.7
F31: ՈՉ ՖԻՆԱՆՍԱԿԱՆ ԱԿՏԻՎՆԵՐԻ ԳԾՈՎ ԾԱԽՍԵՐ | G31: =+G32 -> -68503.7 | H31: =+H32 -> -68503.7
F32: ՀԻՄՆԱԿԱՆ ՄԻՋՈՑՆԵՐ | G32: =+G33 -> -68503.7 | H32: =+H33 -> -68503.7
F33: ՄԵՔԵՆԱՆԵՐ ԵՎ ՍԱՐՔԱՎՈՐՈՒՄՆԵՐ | G33: =+G34 -> -68503.7 | H33: =+H34 -> -68503.7
F34: - Այլ մեքենաներ և սարքավորումներ | G34: =+'Հավելված N 4'!E15 -> -68503.7 | H34: =+'Հավելված N 4'!F15 -> -68503.7
D35: 1163 | E35: Մասսայական սպորտ | G35: =+G37 -> 600 | H35: =+H37 -> 600
F36: այդ թվում`
E37: 32003 | F37: Թեթև կոնստրուկցիաներով մարզադահլիճների հիմնում | G37: =+G39+G144 -> 600 | H37: =+H39+H144 -> 600
F38: այդ թվում` ըստ կատարողների
F39: ՀՀ կրթության, գիտության, մշակույթի և սպորտի նախարարություն | G39: =+G41 -> 600 | H39: =+H41 -> 600
F40: այդ թվում՝ բյուջետային ծախսերի տնտեսագիտական դասակարգման հոդվածներ
F41: ԸՆԴԱՄԵՆԸ ԾԱԽՍԵՐ | G41: =G42 -> 600 | H41: =H42 -> 600
F42: ՈՉ ՖԻՆԱՆՍԱԿԱՆ ԱԿՏԻՎՆԵՐԻ ԳԾՈՎ ԾԱԽՍԵՐ | G42: =+G43 -> 600 | H42: =+H43 -> 600
F43: ՀԻՄՆԱԿԱՆ ՄԻՋՈՑՆԵՐ | G43: =+G44 -> 600 | H43: =+H44 -> 600
F44: ԱՅԼ ՀԻՄՆԱԿԱՆ ՄԻՋՈՑՆԵՐ | G44: =+G45 -> 600 | H44: =+H45 -> 600
F45: - Նախագծահետազոտական ծախսեր | G45: =+'Հավելված N 4'!E62 -> 600 | H45: =+'Հավելված N 4'!F62 -> 600
...

Sheet Հավելված N 3
F1: Հավելված N 3
F2: ՀՀ կառավարության 2024 թվականի
F3: ______________ ի ___Ն որոշման
A5: «ՀԱՅԱUՏԱՆԻ ՀԱՆՐԱՊԵՏՈՒԹՅԱՆ 2024 ԹՎԱԿԱՆԻ ՊԵՏԱԿԱՆ ԲՅՈՒՋԵԻ ՄԱUԻՆ» ՀԱՅԱUՏԱՆԻ ՀԱՆՐԱՊԵՏՈՒԹՅԱՆ OՐԵՆՔԻ N 1 ՀԱՎԵԼՎԱԾԻ N 3 ԱՂՅՈՒՍԱԿՈՒՄ ԿԱՏԱՐՎՈՂ ՓՈՓՈԽՈՒԹՅՈՒՆՆԵՐԸ ԵՎ ԼՐԱՑՈՒՄՆԵՐԸ
G8: հազ. դրամներով
A9: Ծրագրային դասիչ | C9: Բյուջետային գլխավոր կարգադրիչների, ծրագրերի, միջոցառումների, միջոցառումները կատարող պետական մարմինների և ուղղությունների անվանումները | D9: Ընդամենը | E9: Ցուցանիշների փոփոխությունը (ավելացումները նշված են դրական նշանով, իսկ նվազեցումները՝ փակագծերում)
A10: Ծրագիր | B10: Միջոցառում | E10: Կառուցման աշխատանքներ | F10: Վերակառուցման, վերանորոգման և վերականգնման աշխատանքներ | G10: Նախագծահե- տազոտական, գեոդեզիա- քարտեզագրա- կան աշխա- տանքներ | H10: Ոչ ֆինանսական այլ ակտիվների ձեռքբերում
C11: ԸՆԴԱՄԵՆԸ | D11: =SUM(E11:H11) -> -575725.3 | E11: =+E13 -> 0 | F11: =+F13 -> 50068.9 | G11: =+G13 -> -31428.3 | H11: =+H13 -> -594365.9
C12: այդ թվում՝
C13: ՀՀ ԿՐԹՈՒԹՅԱՆ, ԳԻՏՈՒԹՅԱՆ, ՄՇԱԿՈՒՅԹԻ ԵՎ ՍՊՈՐՏԻ ՆԱԽԱՐԱՐՈՒԹՅՈՒՆ | D13: =SUM(E13:H13) -> -575725.3 | E13: =+E15+E16+E20+E38+E42+E46+E50+E54+E58+E62+E63+E67 -> 0 | F13: =+F15+F16+F20+F38+F42+F46+F50+F54+F58+F62+F63+F67 -> 50068.9 | G13: =+G15+G16+G20+G38+G42+G46+G50+G54+G58+G62+G63+G67 -> -31428.3 | H13: =+H15+H16+H20+H38+H42+H46+H50+H54+H58+H62+H63+H67 -> -594365.9
C14: այդ թվում`
A15: 1041 | B15: 32001 | C15: Մանկապատանեկան մարզադպրոցներին, մարզաձևերի ազգային ֆեդերացիաներին այլ մարզական կազմակերպություններին գույքով ապահովում | D15: =SUM(E15:H15) -> -68503.7 | E15: 0 | F15: 0 | G15: 0 | H15: =+'Հավելված N 8'!I15 -> -68503.7
A16: 1045 | B16: 32001 | C16: Նախնական մասնագիտական (արհեստագործական) և միջին մասնագիտական ուսումնական հաստատությունների շենքային պայմանների բարելավում | D16: =SUM(E16:H16) -> 27536.7 | E16: =+E18 -> 0 | F16: =+F18 -> 27536.7 | G16: =+G18 -> 0 | H16: =+H18 -> 0
C17: այդ թվում`
C18: Երևան քաղաք | D18: =SUM(E18:H18) -> 27536.7 | E18: =+E19 -> 0 | F18: =+F19 -> 27536.7 | G18: =+G19 -> 0 | H18: =+H19 -> 0
C19: «Երևանի պետական հումանիտար քոլեջ» ՊՈԱԿ | D19: =+E19+F19+G19+H19 -> 27536.7 | F19: =+'Հավելված N 8'!I196+'Հավելված N 8'!I198+'Հավելված N 8'!I199 -> 27536.7
A20: 1075 | B20: 21001 | C20: Հուշարձանների ամրակայում, նորոգում և վերականգնում | D20: =SUM(E20:H20) -> -41872.1 | E20: =+E22+E28 -> 0 | F20: =+F22+F28 -> -9023.8 | G20: =+G22+G28 -> -32848.3 | H20: =+H22+H28 -> 0
C21: այդ թվում`
C22: 1. Վերականգնողական աշխատանքներ | D22: =SUM(E22:H22) -> -9023.8 | E22: =+E24+E26 -> 0 | F22: =+F24+F26 -> -9023.8 | G22: =+G24+G26 -> 0 | H22: =+H24+H26 -> 0
C23: որից`
C24: ՀՀ Լոռու մարզ | D24: =SUM(E24:H24) -> 42956.2 | E24: =+E25 -> 0 | F24: =+F25 -> 42956.2 | G24: =+G25 -> 0 | H24: =+H25 -> 0
C25: Քոբայրավանք համալիրի գլխավոր եկեղեցու, նրան կից եկեղեցու և Մարիամաշեն եկեղեցու տանիքների վերականգնում | D25: =+E25+F25+G25+H25 -> 42956.2 | F25: =+'Հավելված N 8'!I140+'Հավելված N 8'!I143+'Հավելված N 8'!I146 -> 42956.2
C26: ՀՀ Վայոց Ձորի մարզ | D26: =SUM(E26:H26) -> -51980 | E26: =+E27 -> 0 | F26: =+F27 -> -51980 | G26: =+G27 -> 0 | H26: =+H27 -> 0
C27: Շատիվանքի վանական համալիրի ամրակայում, մասնակի վերականգնում և տարածքի բարեկարգում | D27: =+E27+F27+G27+H27 -> -51980 | F27: =+'Հավելված N 8'!I141+'Հավելված N 8'!I144+'Հավելված N 8'!I145+'Հավելված N 8'!I147-0.2 -> -51980
C28: 2. Վավերագրման և ուսումնասիրման աշխատանքներ, (այդ թվում՝ հետախուզումև պեղում), գիտանախագծային փաստաթղթերի կազմում և փորձաքննում | D28: =SUM(E28:H28) -> -32848.3 | E28: =+E30+E32+E34+E36 -> 0 | F28: =+F30+F32+F34+F36 -> 0 | G28: =+G30+G32+G34+G36 -> -32848.3 | H28: =+H30+H32+H34+H36 -> 0
C29: որից`
C30: ՀՀ Արագածոտնի մարզ | D30: =SUM(E30:H30) -> -9810 | E30: =+E31 -> 0 | F30: =+F31 -> 0 | G30: =+G31 -> -9810 | H30: =+H31 -> 0
C31: Աղձք Հայոց արքաների դամբարանի և հնավայրի ամրակայման, վերականգնման և տարածքի բարեկարգման գիտանախագծային փաստաթղթեր | D31: =+E31+F31+G31+H31 -> -9810 | G31: =+'Հավելված N 8'!I148+'Հավելված N 8'!I152+'Հավելված N 8'!I156 -> -9810
C32: ՀՀ Արարատի մարզ | D32: =SUM(E32:H32) -> -4950 | E32: =+E33 -> 0 | F32: =+F33 -> 0 | G32: =+G33 -> -4950 | H32: =+H33 -> 0
C33: Տափի բերդի պարիսպներին կից օժանդակ շինությունների վերականգնման, ավտոկայանատեղի կառուցման գիտանախագծային փաստաթղթեր | D33: =+E33+F33+G33+H33 -> -4950 | G33: =+'Հավելված N 8'!I149+'Հավելված N 8'!I153+'Հավելված N 8'!I157 -> -4950
C34: ՀՀ Սյունիքի մարզ | D34: =SUM(E34:H34) -> -12597.1 | E34: =+E35 -> 0 | F34: =+F35 -> 0 | G34: =+G35 -> -12597.1 | H34: =+H35 -> 0
C35: Բաղաբերդ ամրոցի ամրակայման, նորոգման, վերականգնման գիտանախագծային փաստաթղթեր | D35: =+E35+F35+G35+H35 -> -12597.1 | G35: =+'Հավելված N 8'!I151+'Հավելված N 8'!I155+'Հավելված N 8'!I159 -> -12597.1
C36: ՀՀ Վայոց Ձորի մարզ | D36: =SUM(E36:H36) -> -5491.2 | E36: =+E37 -> 0 | F36: =+F37 -> 0 | G36: =+G37 -> -5491.2 | H36: =+H37 -> 0
C37: Սմբատաբերդի պարիսպների վթարային հատվածների և կից կառույցների ամրակայման, նորոգման, վերականգնման և տարածքի բարեկարգման գիտանախագծային փաստաթղթերի կազմում | D37: =+E37+F37+G37+H37 -> -5491.2 | G37: =+'Հավելված N 8'!I150+'Հավելված N 8'!I154+'Հավելված N 8'!I158 -> -5491.2
A38: 1075 | B38: 32001 | C38: Ներդրումներ թանգարանների և պատկերասրահների հիմնանորոգման համար | D38: =SUM(E38:H38) -> 32801.9 | E38: =+E40 -> 0 | F38: =+F40 -> 32801.9 | G38: =+G40 -> 0 | H38: =+H40 -> 0
C39: այդ թվում`
C40: Երևան քաղաք | D40: =SUM(E40:H40) -> 32801.9 | E40: =+E41 -> 0 | F40: =+F41 -> 32801.9 | G40: =+G41 -> 0 | H40: =+H41 -> 0
C41: «Հայաստանի ազգային պատկերասրահ» ՊՈԱԿ | D41: =+E41+F41+G41+H41 -> 32801.9 | F41: =+'Հավելված N 8'!I129+'Հավելված N 8'!I131+'Հավելված N 8'!I132 -> 32801.9
A42: 1111 | B42: 32001 | C42: Բարձրագույն ուսումնական հաստատությունների և ««Զեյթուն» ուսանողական ավան» հիմնադրամի շենքային պայմանների բարելավում | D42: =SUM(E42:H42) -> -36062.7 | E42: =+E44 -> 0 | F42: =+F44 -> -36062.7 | G42: =+G44 -> 0 | H42: =+H44 -> 0
C43: այդ թվում`
...

Sheet Հավելված N 4
E1: Հավելված N 4
D2: ՀՀ կառավարության 2024 թվականի
E3: ______________ ի ___Ն որոշման
B6: ՀԱՅԱՍՏԱՆԻ ՀԱՆՐԱՊԵՏՈՒԹՅԱՆ ԿԱՌԱՎԱՐՈՒԹՅԱՆ 2023 ԹՎԱԿԱՆԻ ԴԵԿՏԵՄԲԵՐԻ 28-Ի N 2323-Ն ՈՐՈՇՄԱՆ N 5 ՀԱՎԵԼՎԱԾԻ N 2 ԱՂՅՈՒՍԱԿՈՒՄ ԿԱՏԱՐՎՈՂ ՓՈՓՈԽՈՒԹՅՈՒՆՆԵՐԸ ԵՎ ԼՐԱՑՈՒՄՆԵՐԸ
F8: հազ. դրամներով
B9: Ծրագրային դասիչ | D9: Բյուջետային գլխավոր կարգադրիչների, ծրագրերի, միջոցառումների, միջոցառումները կատարող պետական մարմինների և ուղղությունների անվանումները | E9: Ցուցանիշների փոփոխությունը (ավելացումները նշված են դրական նշանով, իսկ նվազեցումները՝ փակագծերում)
B10: Ծրագիր | C10: Միջոցառում | E10: Ինն ամիս | F10: Տարի
D11: ՀՀ ԿՐԹՈՒԹՅԱՆ, ԳԻՏՈՒԹՅԱՆ, ՄՇԱԿՈՒՅԹԻ ԵՎ ՍՊՈՐՏԻ ՆԱԽԱՐԱՐՈՒԹՅՈՒՆ | E11: =+E13+E16+E22+E42+E48+E54+E60+E66+E72+E78+E81+E87 -> -387510.5 | F11: =+F13+F16+F22+F42+F48+F54+F60+F66+F72+F78+F81+F87 -> -575725.3
D12: այդ թվում՝
B13: 1041 | C13: 32001 | D13: Մանկապատանեկան մարզադպրոցներին, մարզաձևերի ազգային ֆեդերացիաներին այլ մարզական կազմակերպություններին գույքով ապահովում | E13: =+E15 -> -68503.7 | F13: =+F15 -> -68503.7
D14: այդ թվում` ըստ կատարողների
D15: ՀՀ կրթության, գիտության, մշակույթի և սպորտի նախարարություն | E15: =+F15 -> -68503.7 | F15: =+'Հավելված N 3'!D15 -> -68503.7
B16: 1045 | C16: 32001 | D16: Նախնական մասնագիտական (արհեստագործական) և միջին մասնագիտական ուսումնական հաստատությունների շենքային պայմանների բարելավում | E16: =+E18 -> 27536.7 | F16: =+F18 -> 27536.7
D17: այդ թվում` ըստ կատարողների
D18: ՀՀ կրթության, գիտության, մշակույթի և սպորտի նախարարություն | E18: =+F18 -> 27536.7 | F18: =+'Հավելված N 3'!D18 -> 27536.7
D19: այդ թվում`ըստ ուղղությունների
D20: Երևան քաղաք | E20: =+E21 -> 27536.7 | F20: =+F21 -> 27536.7
D21: =+'Հավելված N 3'!C19 -> «Երևանի պետական հումանիտար քոլեջ» ՊՈԱԿ | E21: =+F21 -> 27536.7 | F21: =+'Հավելված N 3'!D19 -> 27536.7
B22: 1075 | C22: 21001 | D22: Հուշարձանների ամրակայում, նորոգում և վերականգնում | E22: =+E24 -> -14907.9 | F22: =+F24 -> -41872.1
D23: այդ թվում` ըստ կատարողների
D24: ՀՀ կրթության, գիտության, մշակույթի և սպորտի նախարարություն | E24: =+E26+E32 -> -14907.9 | F24: =+F26+F32 -> -41872.1
D25: այդ թվում`ըստ ուղղությունների
D26: 1. Վերականգնողական աշխատանքներ | E26: =+E28+E30 -> -14907.9 | F26: =+F28+F30 -> -9023.8
D27: որից`
D28: ՀՀ Լոռու մարզ | E28: =+E29 -> 21478.1 | F28: =+F29 -> 42956.2
D29: =+'Հավելված N 3'!C25 -> Քոբայրավանք համալիրի գլխավոր եկեղեցու, նրան կից եկեղեցու և Մարիամաշեն եկեղեցու տանիքների վերականգնում | E29: =+ROUND(F29/2,1) -> 21478.1 | F29: =+'Հավելված N 3'!D25 -> 42956.2
D30: ՀՀ Վայոց Ձորի մարզ | E30: =+E31 -> -36386 | F30: =+F31 -> -51980
D31: =+'Հավելված N 3'!C27 -> Շատիվանքի վանական համալիրի ամրակայում, մասնակի վերականգնում և տարածքի բարեկարգում | E31: -36386 | F31: =+'Հավելված N 3'!D27 -> -51980
D32: 2. Վավերագրման և ուսումնասիրման աշխատանքներ, (այդ թվում՝ հետախուզումև պեղում), գիտանախագծային փաստաթղթերի կազմում և փորձաքննում | E32: =+E34+E36+E38+E40 -> 0 | F32: =+F34+F36+F38+F40 -> -32848.3
D33: որից`
D34: ՀՀ Արագածոտնի մարզ | E34: =+E35 -> 0 | F34: =+F35 -> -9810
D35: =+'Հավելված N 3'!C31 -> Աղձք Հայոց արքաների դամբարանի և հնավայրի ամրակայման, վերականգնման և տարածքի բարեկարգման գիտանախագծային փաստաթղթեր | E35: 0 | F35: =+'Հավելված N 3'!D31 -> -9810
D36: ՀՀ Արարատի մարզ | E36: =+E37 -> 0 | F36: =+F37 -> -4950
D37: =+'Հավելված N 3'!C33 -> Տափի բերդի պարիսպներին կից օժանդակ շինությունների վերականգնման, ավտոկայանատեղի կառուցման գիտանախագծային փաստաթղթեր | E37: 0 | F37: =+'Հավելված N 3'!D33 -> -4950
D38: ՀՀ Սյունիքի մարզ | E38: =+E39 -> 0 | F38: =+F39 -> -12597.1
D39: =+'Հավելված N 3'!C35 -> Բաղաբերդ ամրոցի ամրակայման, նորոգման, վերականգնման գիտանախագծային փաստաթղթեր | E39: 0 | F39: =+'Հավելված N 3'!D35 -> -12597.1
D40: ՀՀ Վայոց Ձորի մարզ | E40: =+E41 -> 0 | F40: =+F41 -> -5491.2
D41: =+'Հավելված N 3'!C37 -> Սմբատաբերդի պարիսպների վթարային հատվածների և կից կառույցների ամրակայման, նորոգման, վերականգնման և տարածքի բարեկարգման գիտանախագծային փաստաթղթերի կազմում | E41: 0 | F41: =+'Հավելված N 3'!D37 -> -5491.2
B42: 1075 | C42: 32001 | D42: Ներդրումներ թանգարանների և պատկերասրահների հիմնանորոգման համար | E42: =+E44 -> 10745.6 | F42: =+F44 -> 32801.9
D43: այդ թվում` ըստ կատարողների
...

Sheet Հավելված N 5
F1: Հավելված 5
F2: ՀՀ կառավարության 2024 թվականի
F3: ______________ ի ___Ն որոշման
A6: ՀԱՅԱՍՏԱՆԻ ՀԱՆՐԱՊԵՏՈՒԹՅԱՆ ԿԱՌԱՎԱՐՈՒԹՅԱՆ 2023 ԹՎԱԿԱՆԻ ԴԵԿՏԵՄԲԵՐԻ 28-Ի N 2323-Ն ՈՐՈՇՄԱՆ N 5 ՀԱՎԵԼՎԱԾԻ N 7 ԱՂՅՈՒՍԱԿՈՒՄ ԿԱՏԱՐՎՈՂ ԼՐԱՑՈՒՄՆԵՐԸ
A7: հազար դրամ
A8: Ծրագրային դասիչը | D8: Բյուջետային հատկացումների գլխավոր կարգադրիչների, ծրագրերի, միջոցառումների և միջոցառումները կատարող պետական մարմինների անվանումները | F8: Միջոցառումները կատարող պետական մարմինների և դրամաշնորհ ստացող տնտեսվարող սուբյեկտների անվանումները | G8: Ցուցանիշների փոփոխությունը (ավելացումները նշված են դրական նշանով)
A9: Ծրագիր | B9: Միջոցառում | G9: Տարի
A10: ՀՀ կրթության, գիտության, մշակույթի և սպորտի նախարարություն | G10: =+G11+G20 -> 41944.6
A11: 1075 | B11: Մշակութային ժառանգության ծրագիր | G11: =+G12 -> 39787.2
B12: 21001 | C12: Հուշարձանների ամրակայում, նորոգում և վերականգնում | F12: ՀՀ կրթության, գիտության, մշակույթի և սպորտի նախարարություն | G12: =+G14 -> 39787.2
D13: այդ թվում՝ ըստ ուղղությունների և միջոցառումների անվանումների
E14: Վավերագրման և ուսումնասիրման աշխատանքներ, (այդ թվում՝ հետախուզումև պեղում), գիտանախագծային փաստաթղթերի կազմում և փորձաքննում | G14: =+G15+G16+G17+G18+G19 -> 39787.2
E15: ՀՀ Արագածոտնի մարզի Աղձք Հայոց արքաների դամբարանի և հնավայրի ամրակայման, վերականգնման և տարածքի բարեկարգման գիտանախագծային փաստաթղթերի կազմում | F15: «Պատմամշակութային ժառանգության գիտահետազոտական կենտրոն» ՊՈԱԿ | G15: =+ROUNDUP(9000*1.2,1) -> 10800
E16: ՀՀ Արարատի մարզի Տափի բերդի պարիսպներին կից օժանդակ շինությունների վերականգնման, ավտոկայանատեղի կառուցման գիտանախագծային փաստաթղթերի կազմում | F16: «Պատմամշակութային ժառանգության գիտահետազոտական կենտրոն» ՊՈԱԿ | G16: =+ROUNDUP(4500*1.2,1) -> 5400
E17: ՀՀ Շիրակի մարզի Անի համայնքի Գուսանագյուղի դղյակի ամրակայման, նորոգման և մասնակի վերականգնման գիտանախագծային փաստաթղթերի կազմում | F17: «Պատմամշակութային ժառանգության գիտահետազոտական կենտրոն» ՊՈԱԿ | G17: =+ROUNDUP(3000*1.2,1) -> 3600
E18: ՀՀ Սյունիքի մարզի Բաղաբերդ ամրոցի ամրակայման, նորոգման, վերականգնման գիտանախագծային փաստաթղթերի կազմում | F18: «Պատմամշակութային արգելոց-թանգարանների և պատմական միջավայրի պահպանության ծառայություն» ՊՈԱԿ | G18: =+ROUNDUP(11664*1.2,1) -> 13996.8
E19: ՀՀ Վայոց Ձորի մարզի Սմբատաբերդի պարիսպների վթարային հատվածների և կից կառույցների ամրակայման, նորոգման, վերականգնման և տարածքի բարեկարգման գիտանախագծային փաստաթղթերի կազմում | F19: «Պատմամշակութային ժառանգության գիտահետազոտական կենտրոն» ՊՈԱԿ | G19: =+ROUNDUP(4992*1.2,1) -> 5990.4
A20: 1183 | B20: Ապահով դպրոց | G20: =+G21 -> 2157.4
B21: 32001 | C21: Կրթական օբյեկտների շենքային պայմանների բարելավում | G21: =+G22 -> 2157.4
F22: ՀՀ կրթության, գիտության, մշակույթի և սպորտի նախարարություն | G22: =+G23 -> 2157.4
F23: «Երևանի Ս. Խանզադյանի անվան հ. 184 ավագ դպրոց» ՊՈԱԿ | G23: 2157.4

Sheet Հավելված N 6
C1: Հավելված N 6
C2: ՀՀ կառավարության 2024 թվականի
C3: ______________ ի ___Ն որոշման
B6: ՀԱՅԱՍՏԱՆԻ ՀԱՆՐԱՊԵՏՈՒԹՅԱՆ ԿԱՌԱՎԱՐՈՒԹՅԱՆ 2023 ԹՎԱԿԱՆԻ ԴԵԿՏԵՄԲԵՐԻ 28-Ի N 2323-Ն ՈՐՈՇՄԱՆ N 9 ՀԱՎԵԼՎԱԾԻ NN 9.13 ԵՎ 9.48 ԱՂՅՈՒՍԱԿՆԵՐՈՒՄ ԿԱՏԱՐՎՈՂ ՓՈՓՈԽՈՒԹՅՈՒՆՆԵՐԸ ԵՎ ԼՐԱՑՈՒՄՆԵՐԸ
A8: Աղյուսակ 9․13
C9: ՀՀ կրթության, գիտության, մշակույթի և սպորտի նախարարություն
B10: ՄԱՍ 2. ՊԵՏԱԿԱՆ ՄԱՐՄՆԻ ԳԾՈՎ ԱՐԴՅՈՒՆՔԱՅԻՆ (ԿԱՏԱՐՈՂԱԿԱՆ) ՑՈՒՑԱՆԻՇՆԵՐԸ
B13: Ծրագրի դասիչը | C13: Ծրագրի անվանումը
B14: 1041 | C14: Մեծ նվաճումների սպորտ
B16: Ծրագրի միջոցառումները
B17: Ծրագրի դասիչը՝ | C17: 1041 | D17: Ցուցանիշների փոփոխությունը (նվազեցումները նշված են փակագծերում)
B18: Միջոցառման դասիչը՝ | C18: 32001 | D18: Ինն ամիս | E18: Տարի
B19: Միջոցառման անվանումը` | C19: Մանկապատանեկան մարզադպրոցներին, մարզաձևերի ազգային ֆեդերացիաներին և այլ մարզական հասարակական կազմակերպություններին գույքով ապահովում
B20: Նկարագրությունը` | C20: Սպորտի զարգացման նպատակով մարզադպրոցներին, ազգային ֆեդերացիաներին և այլ մարզական հասարակական կազմակերպություններին մարզական և այլ անհրաժեշտ գույքի տրամադրում
B21: Միջոցառման տեսակը` | C21: Այլ պետական կազմակերպությունների կողմից օգտագործվող ոչ ֆինանսական ակտիվների հետ գործառնություններ
B22: Ակտիվն օգտագործող կազմակերպությունների անվանում | C22: Մարզական հաստատություններ
B23: Արդյունքի չափորոշիչներ
B24: Միջոցառման վրա կատարվող ծախսը (հազար դրամ) | D24: =+'Հավելված N 1'!D23 -> -68503.7 | E24: =+'Հավելված N 1'!E23 -> -68503.7
B26: Ծրագրի դասիչը | C26: Ծրագրի անվանումը
B27: 1045 | C27: Նախնական (արհեստագործական) և միջին մասնագիտական կրթություն
B29: Ծրագրի միջոցառումները
B30: Ծրագրի դասիչը՝ | C30: 1045 | D30: Ցուցանիշների փոփոխությունը (ավելացումները նշված են դրական նշանով)
B31: Միջոցառման դասիչը՝ | C31: 32001 | D31: Ինն ամիս | E31: Տարի
B32: Միջոցառման անվանումը` | C32: Նախնական մասնագիտական (արհեստագործական) և միջին մասնագիտական ուսումնական հաստատությունների շենքային պայմանների բարելավում
B33: Նկարագրությունը` | C33: ՆՄՄԿՈՒ հաստատությունների շենքերի հիմնանորոգման և նախագծման (շինարարական աշխատանքներ, ջեռուցման համակարգի ստեղծում, ներքին հարդարում, տարածքի բարեկարգում) աշխատանքների իրականացում
B34: Միջոցառման տեսակը` | C34: Այլ պետական կազմակերպությունների կողմից օգտագործվող ոչ ֆինանսական ակտիվների հետ գործառնություններ
B35: Ակտիվն օգտագործող կազմակերպությունների անվանումները | C35: Միջին մասնագիտական ուսումնական հաստատություններ
B36: Արդյունքի չափորոշիչներ
B37: Մասնակի նորոգվող նախնական (արհեստագործական) և միջին մասնագիտական ուսումնական հաստատությունների քանակ, հատ | E37: 1
B38: Միջոցառման վրա կատարվող ծախսը (հազար դրամ) | D38: =+'Հավելված N 1'!D36 -> 27536.7 | E38: =+'Հավելված N 1'!E36 -> 27536.7
B40: Ծրագրի դասիչը | C40: Ծրագրի անվանումը
B41: 1075 | C41: Մշակութային ժառանգության ծրագիր
B43: Ծրագրի միջոցառումները
B44: Ծրագրի դասիչը՝ | C44: 1075 | D44: Ցուցանիշների փոփոխությունը (ավելացումները նշված են դրական նշանով, իսկ նվազեցումները՝ փակագծերում)
B45: Միջոցառման դասիչը՝ | C45: 21001 | D45: Ինն ամիս | E45: Տարի
B46: Միջոցառման անվանումը` | C46: Հուշարձանների ամրակայում, նորոգում և վերականգնում
B47: Նկարագրությունը` | C47: Հուշարձանների գիտանախագծային փաստաթղթերի կազմում, հրատապ ուսումնասիրում, վավերագրման և ուսումնասիրման աշխատանքներ, հետախուզում և հնագիտական պեղում, ամրակայում, նորոգում և վերականգնում
B48: Միջոցառման տեսակը` | C48: Հանրության կողմից անմիջականորեն օգտագործվող ակտիվների հետ կապված միջոցառումներ
B49: Ակտիվն օգտագործող կազմակերպությունների անվանումները | C49: Մասնագիտացված կազմակերպություն
B50: Արդյունքի չափորոշիչներ
...

Sheet Հավելված N 7
C1: Հավելված N 7
C2: ՀՀ կառավարության 2024 թվականի
C3: ______________ ի ___Ն որոշման
B6: ՀԱՅԱՍՏԱՆԻ ՀԱՆՐԱՊԵՏՈՒԹՅԱՆ ԿԱՌԱՎԱՐՈՒԹՅԱՆ 2023 ԹՎԱԿԱՆԻ ԴԵԿՏԵՄԲԵՐԻ 28-Ի N 2323-Ն ՈՐՈՇՄԱՆ N 9.1 ՀԱՎԵԼՎԱԾԻ NN 9.1.13 ԵՎ 9.1.58 ԱՂՅՈՒՍԱԿՆԵՐՈՒՄ ԿԱՏԱՐՎՈՂ ՓՈՓՈԽՈՒԹՅՈՒՆՆԵՐԸ ԵՎ ԼՐԱՑՈՒՄՆԵՐԸ
A8: Աղյուսակ 9․1.13
C9: ՀՀ կրթության, գիտության, մշակույթի և սպորտի նախարարություն
B10: ՄԱՍ 1. ՊԵՏԱԿԱՆ ՄԱՐՄՆԻ ԳԾՈՎ ԱՐԴՅՈՒՆՔԱՅԻՆ (ԿԱՏԱՐՈՂԱԿԱՆ) ՑՈՒՑԱՆԻՇՆԵՐԸ
B13: Ծրագրի դասիչը | C13: Ծրագրի անվանումը
B14: 1041 | C14: Մեծ նվաճումների սպորտ
B16: Ծրագրի միջոցառումները
B17: Ծրագրի դասիչը՝ | C17: 1041 | D17: Ցուցանիշների փոփոխությունը (նվազեցումները նշված են փակագծերում)
B18: Միջոցառման դասիչը՝ | C18: 32001 | D18: Ինն ամիս | E18: Տարի
B19: Միջոցառման անվանումը` | C19: Մանկապատանեկան մարզադպրոցներին, մարզաձևերի ազգային ֆեդերացիաներին և այլ մարզական հասարակական կազմակերպություններին գույքով ապահովում
B20: Նկարագրությունը` | C20: Սպորտի զարգացման նպատակով մարզադպրոցներին, ազգային ֆեդերացիաներին և այլ մարզական հասարակական կազմակերպություններին մարզական և այլ անհրաժեշտ գույքի տրամադրում
B21: Միջոցառման տեսակը` | C21: Այլ պետական կազմակերպությունների կողմից օգտագործվող ոչ ֆինանսական ակտիվների հետ գործառնություններ
B22: Ակտիվն օգտագործող կազմակերպությունների անվանում | C22: Մարզական հաստատություններ
B23: Արդյունքի չափորոշիչներ
B24: Միջոցառման վրա կատարվող ծախսը (հազար դրամ) | D24: =+'Հավելված N 2'!G28 -> -68503.7 | E24: =+'Հավելված N 2'!H28 -> -68503.7
B26: Ծրագրի դասիչը | C26: Ծրագրի անվանումը
B27: 1045 | C27: Նախնական (արհեստագործական) և միջին մասնագիտական կրթություն
B29: Ծրագրի միջոցառումները
B30: Ծրագրի դասիչը՝ | C30: 1045 | D30: Ցուցանիշների փոփոխությունը (ավելացումները նշված են դրական նշանով)
B31: Միջոցառման դասիչը՝ | C31: 32001 | D31: Ինն ամիս | E31: Տարի
B32: Միջոցառման անվանումը` | C32: Նախնական մասնագիտական (արհեստագործական) և միջին մասնագիտական ուսումնական հաստատությունների շենքային պայմանների բարելավում
B33: Նկարագրությունը` | C33: ՆՄՄԿՈՒ հաստատությունների շենքերի հիմնանորոգման և նախագծման (շինարարական աշխատանքներ, ջեռուցման համակարգի ստեղծում, ներքին հարդարում, տարածքի բարեկարգում) աշխատանքների իրականացում
B34: Միջոցառման տեսակը` | C34: Այլ պետական կազմակերպությունների կողմից օգտագործվող ոչ ֆինանսական ակտիվների հետ գործառնություններ
B35: Ակտիվն օգտագործող կազմակերպությունների անվանումները | C35: Միջին մասնագիտական ուսումնական հաստատություններ
B36: Արդյունքի չափորոշիչներ
B37: Մասնակի նորոգվող նախնական (արհեստագործական) և միջին մասնագիտական ուսումնական հաստատությունների քանակ, հատ | E37: 1
B38: Միջոցառման վրա կատարվող ծախսը (հազար դրամ) | D38: =+'Հավելված N 2'!G171 -> 27536.7 | E38: =+'Հավելված N 2'!H171 -> 27536.7
B40: Ծրագրի դասիչը | C40: Ծրագրի անվանումը
B41: 1075 | C41: Մշակութային ժառանգության ծրագիր
B43: Ծրագրի միջոցառումները
B44: Ծրագրի դասիչը՝ | C44: 1075 | D44: Ցուցանիշների փոփոխությունը (ավելացումները նշված են դրական նշանով, իսկ նվազեցումները՝ փակագծերում)
B45: Միջոցառման դասիչը՝ | C45: 21001 | D45: Ինն ամիս | E45: Տարի
B46: Միջոցառման անվանումը` | C46: Հուշարձանների ամրակայում, նորոգում և վերականգնում
B47: Նկարագրությունը` | C47: Հուշարձանների գիտանախագծային փաստաթղթերի կազմում, հրատապ ուսումնասիրում, վավերագրման և ուսումնասիրման աշխատանքներ, հետախուզում և հնագիտական պեղում, ամրակայում, նորոգում և վերականգնում
B48: Միջոցառման տեսակը` | C48: Հանրության կողմից անմիջականորեն օգտագործվող ակտիվների հետ կապված միջոցառումներ
B49: Ակտիվն օգտագործող կազմակերպությունների անվանումները | C49: Մասնագիտացված կազմակերպություն
B50: Արդյունքի չափորոշիչներ
...

Sheet Հավելված N 8
H1: Հավելված N 8
H2: ՀՀ կառավարության 2024 թվականի
H3: ______________ ի ___Ն որոշման
A6: ՀԱՅԱՍՏԱՆԻ ՀԱՆՐԱՊԵՏՈՒԹՅԱՆ ԿԱՌԱՎԱՐՈՒԹՅԱՆ 2023 ԹՎԱԿԱՆԻ ԴԵԿՏԵՄԲԵՐԻ 28-Ի N 2323-Ն N 10 ՀԱՎԵԼՎԱԾՈՒՄ ԿԱՏԱՐՎՈՂ ՓՈՓՈԽՈՒԹՅՈՒՆՆԵՐԸ ԵՎ ԼՐԱՑՈՒՄՆԵՐԸ
A10: Կոդը | B10: Անվանումը | E10: Գնման ձևը | F10: Չափման միավորը | G10: Միավորի գինը | H10: Ցուցանիշների փոփոխությունը (ավելացումները նշված են դրական նշանով, իսկ նվազեցումները՝ փակագծերում)
H11: Քանակը | I11: Գումարը (հազար դրամ)
A12: 1 | B12: 2 | E12: 3 | F12: 4 | G12: 5 | H12: 6 | I12: 7
A13: ՀՀ կրթության, գիտության, մշակույթի և սպորտի նախարարություն | I13: =+I14+I126+I133+I137+I160+I193 -> -580177.8
A14: Բաժին N 08 | B14: Խումբ N 01 | C14: Դաս N 01 | D14: Հանգստի և սպորտի ծառայություններ | I14: =+I15+I123 -> -67903.7
A15: 1041-32001 | B15: Մանկապատանեկան մարզադպրոցներին, մարզաձևերի ազգային ֆեդերացիաներին այլ մարզական կազմակերպություններին գույքով ապահովում | I15: =+I16 -> -68503.7
B16: ՄԱՍ I. ԱՊՐԱՆՔՆԵՐ | I16: =SUM(I17:I122) -> -68503.7
A17: 37431111-501 | B17: բռնցքամարտի ռինգեր | E17: ԷԱՃ | F17: լրակազմ | I17: -6700
A18: 37411630-503 | B18: թեթև ատլետիկայի սարքեր | E18: ԷԱՃ | F18: հատ | I18: -46
A19: 37431110-501 | B19: բռնցքամարտի տանձեր | E19: ԷԱՃ | F19: հատ | I19: -1222
A20: 37451860-502 | B20: դարպասի ցանց | E20: ԷԱՃ | F20: հատ | I20: -1411.9
A21: 37411230-501 | B21: ջրային սպորտի սարքեր | E21: ԷԱՃ | F21: հատ | I21: -4.8
A22: 37431230-501 | B22: մարզման գնդակներ (ֆիթբոլ) | E22: ԷԱՃ | F22: հատ | I22: -12
A23: 37451860-503 | B23: դարպասի ցանց | E23: ԷԱՃ | F23: հատ | I23: -94
A24: 37471200-505 | B24: բուլավա | E24: ԷԱՃ | F24: հատ | I24: -272
A25: 37411130-508 | B25: դահուկներ | E25: ԷԱՃ | F25: հատ | I25: -9
A26: 37421141-505 | B26: պտտաձող | E26: ԷԱՃ | F26: հատ | I26: -652
A27: 37451861-505 | B27: ֆուտբոլի դարպասներ | E27: ԷԱՃ | F27: հատ | I27: -529.4
A28: 37421161-501 | B28: մարմնամարզության ժապավեն | E28: ԷԱՃ | F28: հատ | I28: -252
... A119: 37421151-505 | B119: մարմնամարզական պատ | E119: ԷԱՃ | F119: հատ | I119: -220
A120: 34521240-1 | B120: կանոեներ | E120: ԷԱՃ | F120: հատ | G120: 1000000 | H120: -1 | I120: =+ROUNDDOWN(H120*G120/1000,1) -> -1000
A121: 34521240-2 | B121: կանոեներ | E121: ԷԱՃ | F121: հատ | G121: 1250000 | H121: -1 | I121: =+ROUNDDOWN(H121*G121/1000,1) -> -1250
A122: 34431100-1 | B122: առանց շարժիչի հեծանիվներ | E122: ԷԱՃ | F122: հատ | G122: 150000 | H122: -10 | I122: =+ROUNDDOWN(H122*G122/1000,1) -> -1500
A123: 1163-32003 | B123: Թեթև կոնստրուկցիաներով մարզադահլիճների հիմնում | I123: =+I124 -> 600
B124: ՄԱՍ III. ԾԱՌԱՅՈՒԹՅՈՒՆՆԵՐ | I124: =+I125 -> 600
A125: 50531140-501 | B125: փորձաքննության ծառայություններ | E125: ԳՀ | F125: դրամ | G125: 600000 | H125: 1 | I125: =+ROUND(H125*G125/1000,1) -> 600
A126: Բաժին N 08 | B126: Խումբ N 02 | C126: Դաս N 02 | D126: Թանգարաններ և ցուցասրահներ | I126: =+I127 -> 32801.9
A127: 1075-32001 | B127: Ներդրումներ թանգարանների և պատկերասրահների հիմնանորոգման համար | I127: =+I128+I130 -> 32801.9
B128: ՄԱՍ II. ԱՇԽԱՏԱՆՔՆԵՐ | I128: =+I129 -> 35532.5
A129: 45611200-2 | B129: մշակութային օբյեկտների հիմնանորոգում | E129: ԲՄ | F129: դրամ | I129: =10366.8+11324.5+13841.2 -> 35532.5
B130: ՄԱՍ III. ԾԱՌԱՅՈՒԹՅՈՒՆՆԵՐ | I130: =SUM(I131:I132) -> -2730.6
A131: 71351540-2 | B131: տեխնիկական հսկողության ծառայություններ | E131: ԳՀ | F131: դրամ | I131: =-3391.7+48.2+59 -> -3284.5
A132: 98111140-2 | B132: հեղինակային հսկողության ծառայություններ | E132: ՄԱ | F132: դրամ | I132: =378.8+78.8+96.3 -> 553.9
A133: Բաժին N 08 | B133: Խումբ N 02 | C133: Դաս N 05 | D133: Արվեստ | I133: =+I134 -> 820
A134: 1168-32001 | B134: Ներդրումներ թատրոնների և համերգային կազմակերպությունների շենքերի կապիտալ վերանորոգման համար | I134: =+I135 -> 820
B135: ՄԱՍ III. ԾԱՌԱՅՈՒԹՅՈՒՆՆԵՐ | I135: =+I136 -> 820
...

Sheet Հավելված N 9
G1: Հավելված N 9
H2: ՀՀ կառավարության 2024 թվականի
H3: ______________ ի ___Ն որոշման
A6: ՀԱՅԱՍՏԱՆԻ ՀԱՆՐԱՊԵՏՈՒԹՅԱՆ 2024 ԹՎԱԿԱՆԻ ՊԵՏԱԿԱՆ ԲՅՈՒՋԵՈՎ ՆԱԽԱՏԵՍՎԱԾ՝ ՀԱՅԱՍՏԱՆԻ ՀԱՆՐԱՊԵՏՈՒԹՅԱՆ ԿԱՌԱՎԱՐՈՒԹՅԱՆ ՊԱՀՈՒՍՏԱՅԻՆ ՖՈՆԴԻՑ ՀԱՏԿԱՑՈՒՄՆԵՐ ԿԱՏԱՐԵԼՈՒ ՎԵՐԱԲԵՐՅԱԼ
G8: հազ. դրամներով
A9: Գործառական դասիչը | D9: Ծրագրային դասիչը | F9: Բյուջետային հատկացումների գլխավոր կարգադրիչների, ծրագրերի, միջոցառումների և միջոցառումները կատարող պետական մարմինների անվանումները | G9: Ցուցանիշների փոփոխությունը (ավելացումները նշված են դրական նշանով, իսկ նվազեցումները` փակագծերում)
A10: Բաժին | B10: Խումբ | C10: Դաս | D10: Ծրագիր | E10: Միջոցառում | G10: Ինն ամիս | H10: Տարի
F11: ԸՆԴԱՄԵՆԸ | G11: =+G13+G34 -> 0 | H11: =+H13+H34 -> 0
F12: այդ թվում
F13: ՀՀ ԿԱՌԱՎԱՐՈՒԹՅՈՒՆ | G13: =+G14 -> -5052.8 | H13: =+H14 -> -5052.8
A14: 11 | F14: ՀԻՄՆԱԿԱՆ ԲԱԺԻՆՆԵՐԻՆ ՉԴԱՍՎՈՂ ՊԱՀՈՒՍՏԱՅԻՆ ՖՈՆԴԵՐ | G14: =+G16 -> -5052.8 | H14: =+H16 -> -5052.8
F15: այդ թվում`
B16: 01 | F16: ՀՀ կառավարության և համայնքների պահուստային ֆոնդ | G16: =+G18 -> -5052.8 | H16: =+H18 -> -5052.8
F17: այդ թվում`
C18: 01 | F18: ՀՀ կառավարության պահուստային ֆոնդ | G18: =+G20 -> -5052.8 | H18: =+H20 -> -5052.8
F19: այդ թվում`
F20: ՀՀ կառավարություն | G20: =+G22 -> -5052.8 | H20: =+H22 -> -5052.8
F21: այդ թվում`
D22: 1139 | E22: ՀՀ կառավարության պահուստային ֆոնդ | F22: ՀՀ կառավարության պահուստային ֆոնդ | G22: =+G24 -> -5052.8 | H22: =+H24 -> -5052.8
F23: այդ թվում`
E24: 11001 | F24: ՀՀ կառավարության պահուստային ֆոնդ | G24: =+G26 -> -5052.8 | H24: =+H26 -> -5052.8
F25: այդ թվում` ըստ կատարողների
F26: ՀՀ կառավարություն | G26: =+G28 -> -5052.8 | H26: =+H28 -> -5052.8
F27: այդ թվում՝ բյուջետային ծախսերի տնտեսագիտական դասակարգման հոդվածներ
F28: ԸՆԴԱՄԵՆԸ ԾԱԽՍԵՐ | G28: =+G29 -> -5052.8 | H28: =+H29 -> -5052.8
F29: ՈՉ ՖԻՆԱՆՍԱԿԱՆ ԱԿՏԻՎՆԵՐԻ ԳԾՈՎ ԾԱԽՍԵՐ | G29: =+G30 -> -5052.8 | H29: =+H30 -> -5052.8
F30: ՀԻՄՆԱԿԱՆ ՄԻՋՈՑՆԵՐ | G30: =+G31 -> -5052.8 | H30: =+H31 -> -5052.8
F31: ՇԵՆՔԵՐ ԵՎ ՇԻՆՈՒԹՅՈՒՆՆԵՐ | G31: =+G32 -> -5052.8 | H31: =+H32 -> -5052.8
F32: - Շենքերի և շինությունների շինարարություն | G32: =+'Հավելված N 2'!G231 -> -5052.8 | H32: =+'Հավելված N 2'!H231 -> -5052.8
F34: ՀՀ ԿՐԹՈՒԹՅԱՆ, ԳԻՏՈՒԹՅԱՆ, ՄՇԱԿՈՒՅԹԻ ԵՎ ՍՊՈՐՏԻ ՆԱԽԱՐԱՐՈՒԹՅՈՒՆ | G34: =+G35 -> 5052.8 | H34: =+H35 -> 5052.8
A35: 08 | F35: ՀԱՆԳԻՍՏ, ՄՇԱԿՈՒՅԹ ԵՎ ԿՐՈՆ | G35: =+G37+G54 -> 5052.8 | H35: =+H37+H54 -> 5052.8
F36: այդ թվում`
B37: 01 | F37: Հանգստի և սպորտի ծառայություններ | G37: =+G39 -> 600 | H37: =+H39 -> 600
F38: այդ թվում`
C39: 01 | F39: Հանգստի և սպորտի ծառայություններ | G39: =+G41 -> 600 | H39: =+H41 -> 600
F40: այդ թվում`
F41: ՀՀ կրթության, գիտության, մշակույթի և սպորտի նախարարություն | G41: =+G43 -> 600 | H41: =+H43 -> 600
F42: այդ թվում`
D43: 1163 | E43: Մասսայական սպորտ | G43: =+G45 -> 600 | H43: =+H45 -> 600
F44: այդ թվում`
...
