Workbook
Name _tab10: #REF!
Name _tab11: #REF!
Name _tab12: #REF!
Name _tab13: #REF!
Name _tab14: #REF!
Name _tab15: #REF!
Name _tab16: #REF!
Name _tab17: #REF!
Name _tab18: #REF!
Name _tab19: #REF!
Name _tab20: #REF!
Name _tab21: #REF!
Name _tab22: #REF!
Name _tab23: #REF!
Name _tab24: #REF!
Name _tab5: #REF!
Name _tab6: #REF!
Name _tab7: #REF!
Name _tab8: #REF!
Name _tab9: #REF!
Name par_count: #REF!,#REF!,#REF!,#REF!,#REF!,#REF!,#REF!,#REF!,#REF!,#REF!,#REF!,#REF!,#REF!,#REF!,#REF!
Name par_qual: #REF!,#REF!,#REF!,#REF!,#REF!
Name par_time: #REF!,#REF!,#REF!,#REF!
Name par2.12s: #REF!
Name par2.4s: #REF!,#REF!,#REF!,#REF!,#REF!,#REF!,#REF!,#REF!,#REF!,#REF!,#REF!,#REF!,#REF!,#REF!,#REF!,#REF!
Name par2.5s: #REF!,#REF!
Name par2.6s: #REF!,#REF!,#REF!,#REF!
Name par2.7s: #REF!,#REF!
Name par2.9s: #REF!,#REF!,#REF!,#REF!,#REF!,#REF!,#REF!,#REF!,#REF!,#REF!,#REF!,#REF!,#REF!,#REF!,#REF!,#REF!
Name par4.10s: #REF!,#REF!
Name par4.11d: #REF!,#REF!,#REF!,#REF!,#REF!
Name par4.12d: #REF!
Name par4.13s: #REF!
Name par4.14: #REF!,#REF!,#REF!,#REF!,#REF!,#REF!
Name par4.15: #REF!,#REF!,#REF!
Name par4.16: #REF!,#REF!,#REF!
Name par4.17: #REF!,#REF!,#REF!,#REF!
Name par4.18d: #REF!,#REF!
Name par4.19s: #REF!
Name par4.20f: #REF!
Name par4.21f: #REF!
Name par4.22: #REF!
Name par4.4: #REF!
Name par4.5: #REF!
Name par4.6s: #REF!
Name par4.7s: #REF!
Name par4.8: #REF!,#REF!,#REF!,#REF!,#REF!
Name par4.9: #REF!,#REF!,#REF!,#REF!,#REF!,#REF!
Name par5.1: #REF!,#REF!
Name par5.3: #REF!,#REF!,#REF!,#REF!,#REF!,#REF!
Name par5.4: #REF!,#REF!,#REF!,#REF!,#REF!
Name par5.5: #REF!
Name par5.6: #REF!,#REF!
Name program: #REF!,#REF!,#REF!,#REF!,#REF!,#REF!,#REF!,#REF!,#REF!,#REF!,#REF!,#REF!,#REF!,#REF!,#REF!,#REF!,#REF!,#REF!,#REF!,#REF!

Sheet 1
B1: Հավելված № 1
B2: ՀՀ կառավարության 2024 թվականի
B3: __________ «____» -ի
B4: № ---------- Ն որոշման
B5: «ՀԱՅԱՍՏԱՆԻ ՀԱՆՐԱՊԵՏՈՒԹՅԱՆ 2024 ԹՎԱԿԱՆԻ ՊԵՏԱԿԱՆ ԲՅՈՒՋԵԻ ՄԱՍԻՆ» ՀԱՅԱՍՏԱՆԻ ՀԱՆՐԱՊԵՏՈՒԹՅԱՆ ՕՐԵՆՔԻ N 1 ՀԱՎԵԼՎԱԾԻ N 1 ԱՂՅՈՒՍԱԿՈՒՄ ԿԱՏԱՐՎՈՂ ՓՈՓՈԽՈՒԹՅՈՒՆՆԵՐԸ
D6: հազար դրամ
B7: Ծրագրային դասիչը | C7: Ծրագրի անվանումը | D7: Ցուցանիշների փոփոխությունները (ավելացումը նշված է դրական նշանով, իսկ նվազեցումը` փակագծերում)
D8: Տարի
B9: Ընդամենը | D9: =+D10+D11+D12+D13 -> 0
B10: 1126 | C10: Առողջապահության ոլորտում պետական քաղաքականության մշակում, ծրագրերի համակարգում և մոնիտորինգ | D10: =+'2'!F11 -> 106924
B11: 1207 | C11: Սոցիալապես անապահով և առանձին խմբերի անձանց բժշկական օգնություն | D11: =+'2'!F43 -> -106924
B12: 1139 | C12: ՀՀ կառավարության պահուստային ֆոնդ | D12: =+'2'!F57 -> -11884
B13: 1139 | C13: ՀՀ կառավարության պահուստային ֆոնդ | D13: =+'2'!F63 -> 11884

Sheet 2
B1: Հավելված № 2
B2: ՀՀ կառավարության 2024 թվականի
B3: __________ «____» -ի
B4: № ----------Ն որոշման
B5: «ՀԱՅԱՍՏԱՆԻ ՀԱՆՐԱՊԵՏՈՒԹՅԱՆ 2024 ԹՎԱԿԱՆԻ ՊԵՏԱԿԱՆ ԲՅՈՒՋԵԻ ՄԱՍԻՆ» ՀԱՅԱՍՏԱՆԻ ՀԱՆՐԱՊԵՏՈՒԹՅԱՆ ՕՐԵՆՔԻ N 1 ՀԱՎԵԼՎԱԾԻ N 2 ԱՂՅՈՒՍԱԿՈՒՄ ԿԱՏԱՐՎՈՂ ՎԵՐԱԲԱՇԽՈՒՄԸ ԵՎ ՀԱՅԱՍՏԱՆԻ ՀԱՆՐԱՊԵՏՈՒԹՅԱՆ ԿԱՌԱՎԱՐՈՒԹՅԱՆ 2023 ԹՎԱԿԱՆԻ ԴԵԿՏԵՄԲԵՐԻ 28-Ի № 2323-Ն ՈՐՈՇՄԱՆ № 5 ՀԱՎԵԼՎԱԾԻ № 1 ԱՂՅՈՒՍԱԿՈՒՄ ԿԱՏԱՐՎՈՂ ՓՈՓՈԽՈՒԹՅՈՒՆՆԵՐԸ ԵՎ ԼՐԱՑՈՒՄՆԵՐԸ
B7: Ծրագրային դասիչը | D7: Բյուջետային հատկացումների գլխավոր կարգադրիչների, ծրագրերի և միջոցառումների անվանումները | E7: Ցուցանիշների փոփոխությունները (ավելացումը նշված է դրական նշանով, իսկ նվազեցումը` փակագծերում)
B8: Ծրագիր | C8: Միջոցառում | E8: Ինն ամիս | F8: Տարի
D9: ԸՆԴԱՄԵՆԸ | E9: =+E10+E49 -> 0 | F9: =+F10+F49 -> 0
D10: ՀՀ առողջապահության նախարարություն | E10: =+E11+E36 -> 0 | F10: =+F11+F36 -> 0
B11: 1126 | D11: Ծրագրի անվանումը` | E11: =+E18+E24+E30 -> 59500 | F11: =+F18+F24+F30 -> 106924
D12: Առողջապահության ոլորտում պետական քաղաքականության մշակում, ծրագրերի համակարգում և մոնիտորինգ
D13: Ծրագրի նպատակը`
D14: Մարդու և հանրության առողջության պահպանում, բնակչության առողջության բարելավում, հիվանդությունների կանխարգելում, հաշմանդամության և մահացության ցուցանիշների նվազեցում
D15: Վերջնական արդյունքի նկարագրությունը`
D16: Առողջապահության ոլորտում իրականացվող ծրագրերի ազդեցության և արդյունավետության բարելավում
B17: Ծրագրի միջոցառումներ
C18: 11001 | D18: Միջոցառման անվանումը` | E18: 31616 | F18: 79040
D19: Առողջապահության ոլորտի պետական քաղաքականության մշակում, ծրագրերի համակարգում և մոնիտորինգ
D20: Միջոցառման նկարագրությունը`
D21: Մարդու և հանրության առողջության պահպանում, բնակչության առողջության բարելավում, հիվանդությունների կանխարգելում, հաշմանդամության և մահացության ցուցանիշների նվազեցում
D22: Միջոցառման տեսակը
D23: Ծառայությունների մատուցում
C24: 12005 | D24: Միջոցառման անվանումը | E24: =+'6'!H9 -> 11884 | F24: =+E24 -> 11884
D25: Առողջապահական կազմակերպություններում անձեռնմխելի պաշարների ապահովման համար ծախսերի փոխհատուցում
D26: Միջոցառման նկարագրությունը
D27: Գեղարքունիքի, Վայոց Ձորի, Սյունիքի, Լոռու և Տավուշի առողջապահական կազմակերպություններում դեղերի անձեռնմխելի պաշարների ապահովման համար ծախսերի փոխհատուցում
D28: Միջոցառման տեսակը
D29: Տրանսֆերտի տրամադրում
C30: 31002 | D30: Միջոցառման անվանումը` | E30: 16000 | F30: 16000
D31: Առողջապահական կազմակերպությունների վերազինում
D32: Միջոցառման նկարագրությունը`
D33: Բնակչությանը որակյալ բժշկական օգնության և սպասարկման ծառայություններ մատուցելու նպատակով՛ առողջապահական կազմակերպությունների անհրաժեշտ սարքավորումներով վերազինում
D34: Միջոցառման տեսակը
D35: Պետական մարմինների կողմից օգտագործվող ոչ ֆինանսական ակտիվների հետ գործառնություններ
B36: 1207 | D36: Ծրագրի անվանումը` | E36: =+E43 -> -59500 | F36: =+F43 -> -106924
D37: Սոցիալապես անապահով և առանձին խմբերի անձանց բժշկական օգնություն
D38: Ծրագրի նպատակը`
D39: Սոցիալապես անապահով և հատուկ խմբերում ընդգրկված անձանց բժշկական օգնության հասանելիության և մատչելիության մակարդակի բարձրացում, հիվանդանոցային որակյալ բժշկական օգնության ապահովում
D40: Վերջնական արդյունքի նկարագրությունը`
D41: Սոցիալապես անապահով և հատուկ խմբերում ընդգրկված անձանց բժշկական օգնության հասանելիության և մատչելիության բարձրացում, ծառայությունների մատուցման հասցեականության բարելավում
B42: Ծրագրի միջոցառումներ
C43: 11003 | D43: Միջոցառման անվանումը` | E43: =-E11 -> -59500 | F43: =-F11 -> -106924
D44: Զինծառայողներին, ինչպես նաև փրկարար ծառայողներին և նրանց ընտանիքի անդամներին բժշկական օգնության ծառայություններ
D45: Միջոցառման նկարագրությունը`
D46: Զինծառայողներին, նրանց հավասարեցված անձանց, ինչպես նաև փրկարար ծառայողներին և նրանց ընտանիքի անդամներին բժշկական օգնության իրականացում (հետազոտում, ախտորոշում, բուժում)
D47: Միջոցառման տեսակը
D48: Ծառայությունների մատուցում
D49: ՀՀ կառավարություն | E49: =+E50 -> 0 | F49: =+F50 -> 0
B50: 1139 | D50: Ծրագրի անվանումը | E50: =+E57+E63 -> 0 | F50: =+F57+F63 -> 0
D51: ՀՀ կառավարության պահուստային ֆոնդ
D52: Ծրագրի նպատակը
D53: Պետական բյուջեում չկանխատեսված, ինչպես նաեւ բյուջետային երաշխիքների ապահովման ծախսերի ֆինանսավորման ապահովում
D54: Վերջնական արդյունքի նկարագրությունը
D55: Պահուստային ֆոնդի կառավարման արդյունավետության և թափանցիկության ապահովում
B56: Ծրագրի միջոցառումներ
C57: 11001 | D57: Միջոցառման անվանումը | E57: =+-E63 -> -11884 | F57: =+-F63 -> -11884
D58: ՀՀ կառավարության պահուստային ֆոնդ
D59: Միջոցառման նկարագրությունը
D60: ՀՀ պետական բյուջեում նախատեսված ելքերի լրացուցիչ ֆինանսավորման, պետական բյուջեում չկանխատեսված ելքերի, ինչպես նաև բյուջետային երաշխիքների ապահովման ելքերի ֆինանսավորման ապահովում
D61: Միջոցառման տեսակը
D62: Ծառայությունների մատուցում
C63: 11001 | D63: Միջոցառման անվանումը | E63: =+E24 -> 11884 | F63: =+F24 -> 11884
D64: ՀՀ կառավարության պահուստային ֆոնդ
D65: Միջոցառման նկարագրությունը
D66: ՀՀ պետական բյուջեում նախատեսված ելքերի լրացուցիչ ֆինանսավորման, պետական բյուջեում չկանխատեսված ելքերի, ինչպես նաև բյուջետային երաշխիքների ապահովման ելքերի ֆինանսավորման ապահովում
D67: Միջոցառման տեսակը
D68: Ծառայությունների մատուցում

Sheet 3
B1: Հավելված № 3
B2: ՀՀ կառավարության 2024 թվականի
B3: __________ «____» -ի
B4: N_____ -Ն որոշման
B6: (հազ. դրամ)
B7: «ՀԱՅԱՍՏԱՆԻ ՀԱՆՐԱՊԵՏՈՒԹՅԱՆ 2024 ԹՎԱԿԱՆԻ ՊԵՏԱԿԱՆ ԲՅՈՒՋԵԻ ՄԱՍԻՆ» ՀԱՅԱՍՏԱՆԻ ՀԱՆՐԱՊԵՏՈՒԹՅԱՆ ՕՐԵՆՔԻ № 1 ՀԱՎԵԼՎԱԾԻ № 3 ԱՂՅՈՒՍԱԿՈՒՄ ԿԱՏԱՐՎՈՂ ՓՈՓՈԽՈՒԹՅՈՒՆՆԵՐԸ
B8: Ծրագրային դասիչ | D8: Բյուջետային գլխավոր կարգադրիչների, ծրագրերի, միջոցառումների և ուղղությունների անվանումները | E8: Ցուցանիշների փոփոխությունները (ավելացումները նշված են դրական նշանով)
E9: Ընդամենը | F9: այդ թվում
B10: Ծրագիր | C10: Միջոցառում | F10: Կառուցման աշխատանքներ | G10: Վերակառուցման, վերանորոգման և վերականգնման աշխատանքներ | H10: Նախագծահե- տազոտական, գեոդեզիա- քարտեզագրական աշխատանքներ | I10: Ոչ ֆինանսական այլ ակտիվների ձեռքբերում
D11: ՀՀ ԱՌՈՂՋԱՊԱՀՈՒԹՅԱՆ ՆԱԽԱՐԱՐՈՒԹՅՈՒՆ | E11: =+E12 -> 16000 | F11: =+F12 -> 0 | G11: =+G12 -> 0 | H11: =+H12 -> 0 | I11: =+I12 -> 16000
B12: 1126 | C12: 31002 | D12: Առողջապահական կազմակերպությունների վերազինում | E12: =+E14 -> 16000 | F12: =+F14 -> 0 | G12: =+G14 -> 0 | H12: =+H14 -> 0 | I12: =+I14 -> 16000
D13: այդ թվում`
D14: Երևան քաղաք | E14: =E15 -> 16000 | F14: =F15 -> 0 | G14: =G15 -> 0 | H14: =H15 -> 0 | I14: =I15 -> 16000
D15: Առողջապահության նախարարություն | E15: =+F15+G15+H15+I15 -> 16000 | F15: 0 | G15: 0 | H15: 0 | I15: =+'2'!F30 -> 16000

Sheet 4
B1: Հավելված № 4
B2: ՀՀ կառավարության 2024 թվականի
B3: __________ «____» -ի
B4: № ------------ -Ն որոշման
B5: ՀԱՅԱՍՏԱՆԻ ՀԱՆՐԱՊԵՏՈՒԹՅԱՆ ԿԱՌԱՎԱՐՈՒԹՅԱՆ 2023 ԹՎԱԿԱՆԻ ԴԵԿՏԵՄԲԵՐԻ 28-Ի № 2323-Ն ՈՐՈՇՄԱՆ NN 3 և 4 ՀԱՎԵԼՎԱԾՆԵՐՈՒՄ ԿԱՏԱՐՎՈՂ ՓՈՓՈԽՈՒԹՅՈՒՆՆԵՐԸ ԵՎ ԼՐԱՑՈՒՄՆԵՐԸ
B6: հազար դրամ
B7: Գործառական դասիչը | E7: Ծրագրային դասիչը | G7: Բյուջետային ծախսերի գործառական դասակարգման բաժինների, խմբերի և դասերի, բյուջետային ծրագրերի միջոցառումների, բյուջետային հատկացումների գլխավոր կարգադրիչների անվանումները և միջոցառումները կատարող պետական մարմինների անվանումները | H7: Ցուցանիշների փոփոխությունները (ավելացումը նշված է դրական նշանով, իսկ նվազեցումը` փակագծերում)
B8: բաժին | C8: խումբ | D8: դաս | E8: Ծրագիր | F8: Միջոցառում | H8: Ինն ամիս | I8: Տարի
B9: ԸՆԴԱՄԵՆԸ | H9: =+H10+H64 -> 0 | I9: =+I10+I64 -> 0
B10: 07 | G10: ԱՌՈՂՋԱՊԱՀՈՒԹՅՈՒՆ | H10: =+H12+H29 -> 0 | I10: =+I12+I29 -> 0
G11: այդ թվում՝
C12: 03 | G12: Հիվանդանոցային ծառայություններ | H12: =+H14 -> -59500 | I12: =+I14 -> -106924
G13: այդ թվում՝
D14: 01 | G14: Ընդհանուր բնույթի հիվանդանոցային ծառայություններ | H14: =+H16 -> -59500 | I14: =+I16 -> -106924
G15: այդ թվում՝
G16: ՀՀ առողջապահության նախարարություն | H16: =+H18 -> -59500 | I16: =+I18 -> -106924
G17: այդ թվում՝
E18: 1207 | G18: Սոցիալապես անապահով և առանձին խմբերի անձանց բժշկական օգնություն | H18: =+H20 -> -59500 | I18: =+I20 -> -106924
G19: այդ թվում`
F20: 11003 | G20: Զինծառայողներին, ինչպես նաև փրկարար ծառայողներին և նրանց ընտանիքի անդամներին բժշկական օգնության ծառայություններ | H20: =+H22 -> -59500 | I20: =+I22 -> -106924
G21: այդ թվում` ըստ կատարողների
G22: ՀՀ առողջապահության նախարարություն | H22: =+H24 -> -59500 | I22: =+I24 -> -106924
G23: այդ թվում` բյուջետային ծախսերի տնտեսագիտական դասակարգման հոդվածներ
G24: ԸՆԴԱՄԵՆԸ ԾԱԽՍԵՐ | H24: =+H25 -> -59500 | I24: =+I25 -> -106924
G25: ԸՆԹԱՑԻԿ ԾԱԽՍԵՐ | H25: =H26 -> -59500 | I25: =I26 -> -106924
G26: ՍՈՑԻԱԼԱԿԱՆ ՆՊԱՍՏՆԵՐ ԵՎ ԿԵՆՍԱԹՈՇԱԿՆԵՐ | H26: =+H28 -> -59500 | I26: =+I28 -> -106924
G27: Սոցիալական օգնության դրամական արտահայտությամբ նպաստներ (բյուջեից)
G28: - Այլ նպաստներ բյուջեից | H28: =+'2'!E43 -> -59500 | I28: =+'2'!F43 -> -106924
C29: 06 | G29: Առողջապահություն (այլ դասերին չպատկանող) | H29: =+H31 -> 59500 | I29: =+I31 -> 106924
G30: այդ թվում`
D31: 02 | G31: Առողջապահություն (այլ դասերին չպատկանող) | H31: =+H33 -> 59500 | I31: =+I33 -> 106924
G32: այդ թվում`
G33: ՀՀ առողջապահության նախարարություն | H33: =+H35 -> 59500 | I33: =+I35 -> 106924
G34: այդ թվում՝
E35: 1126 | G35: Առողջապահության ոլորտում պետական քաղաքականության մշակում, ծրագրերի համակարգում և մոնիտորինգ | H35: =+H37+H46+H55 -> 59500 | I35: =+I37+I46+I55 -> 106924
G36: այդ թվում`
F37: 11001 | G37: Առողջապահության ոլորտի պետական քաղաքականության մշակում, ծրագրերի համակարգում և մոնիտորինգ | H37: =+H39 -> 31616 | I37: =+I39 -> 79040
G38: այդ թվում` ըստ կատարողների
G39: ՀՀ առողջապահության նախարարություն | H39: =+H41 -> 31616 | I39: =+I41 -> 79040
G40: այդ թվում` բյուջետային ծախսերի տնտեսագիտական դասակարգման հոդվածներ
G41: ԸՆԴԱՄԵՆԸ ԾԱԽՍԵՐ | H41: =+H42 -> 31616 | I41: =+I42 -> 79040
G42: ԸՆԹԱՑԻԿ ԾԱԽՍԵՐ | H42: =+H43 -> 31616 | I42: =+I43 -> 79040
G43: ԱՇԽԱՏԱՆՔԻ ՎԱՐՁԱՏՐՈՒԹՅՈՒՆ | H43: =+H44 -> 31616 | I43: =+I44 -> 79040
G44: Դրամով վճարվող աշխատավարձեր և հավելավճարներ | H44: =+H45 -> 31616 | I44: =+I45 -> 79040
G45: - Աշխատողների աշխատավարձեր և հավելավճարներ | H45: =+'2'!E18 -> 31616 | I45: =+'2'!F18 -> 79040
F46: 12005 | G46: Առողջապահական կազմակերպություններում անձեռնմխելի պաշարների ապահովման համար ծախսերի փոխհատուցում | H46: =H48 -> 11884 | I46: =I48 -> 11884
G47: այդ թվում` ըստ կատարողների
G48: ՀՀ առողջապահության նախարարություն | H48: =H50 -> 11884 | I48: =I50 -> 11884
G49: այդ թվում` բյուջետային ծախսերի տնտեսագիտական դասակարգման հոդվածներ | H49: =H50 -> 11884 | I49: =I50 -> 11884
G50: ԸՆԴԱՄԵՆԸ ԾԱԽՍԵՐ | H50: =H52 -> 11884 | I50: =I52 -> 11884
G51: ԸՆԹԱՑԻԿ ԾԱԽՍԵՐ
G52: ԴՐԱՄԱՇՆՈՐՀՆԵՐ | H52: =H53 -> 11884 | I52: =I53 -> 11884
G53: Ընթացիկ դրամաշնորհներ պետական հատվածի այլ մակարդակներին | H53: =+H54 -> 11884 | I53: =+I54 -> 11884
G54: - Ընթացիկ դրամաշնորհներ պետական և համայնքների առևտրային կազմակերպություններին | H54: =+'2'!E24 -> 11884 | I54: =+'2'!F24 -> 11884
F55: 31002 | G55: Առողջապահական կազմակերպությունների վերազինում | H55: =+H57 -> 16000 | I55: =+I57 -> 16000
G56: այդ թվում` ըստ կատարողների
G57: ՀՀ առողջապահության նախարարություն | H57: =+H59 -> 16000 | I57: =+I59 -> 16000
G58: այդ թվում` բյուջետային ծախսերի տնտեսագիտական դասակարգման հոդվածներ
G59: ԸՆԴԱՄԵՆԸ ԾԱԽՍԵՐ | H59: =+H60 -> 16000 | I59: =+I60 -> 16000
G60: ՈՉ ՖԻՆԱՆՍԱԿԱՆ ԱԿՏԻՎՆԵՐԻ ԳԾՈՎ ԾԱԽՍԵՐ | H60: =+H61 -> 16000 | I60: =+I61 -> 16000
G61: ՀԻՄՆԱԿԱՆ ՄԻՋՈՑՆԵՐ | H61: =+H62 -> 16000 | I61: =+I62 -> 16000
G62: ՄԵՔԵՆԱՆԵՐ ԵՎ ՍԱՐՔԱՎՈՐՈՒՄՆԵՐ | H62: =+H63 -> 16000 | I62: =+I63 -> 16000
G63: - Վարչական սարքավորումներ | H63: =+'2'!E30 -> 16000 | I63: =+'2'!F30 -> 16000
B64: 11 | G64: ՀԻՄՆԱԿԱՆ ԲԱԺԻՆՆԵՐԻՆ ՉԴԱՍՎՈՂ ՊԱՀՈՒՍՏԱՅԻՆ ՖՈՆԴԵՐ | H64: =+H66 -> 0 | I64: =+I66 -> 0
G65: այդ թվում՝
C66: 01 | G66: ՀՀ կառավարության և համայնքների պահուստային ֆոնդ | H66: =+H68 -> 0 | I66: =+I68 -> 0
G67: այդ թվում՝
D68: 01 | G68: ՀՀ կառավարության պահուստային ֆոնդ | H68: =+H72+H82 -> 0 | I68: =+I72+I82 -> 0
G69: այդ թվում՝
G70: ՀՀ կառավարություն | H70: =+H72 -> -11884 | I70: =+I72 -> -11884
G71: այդ թվում՝
E72: 1139 | G72: ՀՀ կառավարության պահուստային ֆոնդ | H72: =+H74 -> -11884 | I72: =+I74 -> -11884
G73: այդ թվում`
F74: 11001 | G74: ՀՀ կառավարության պահուստային ֆոնդ | H74: =+H76 -> -11884 | I74: =+I76 -> -11884
G75: այդ թվում ըստ կատարողների
G76: ՀՀ կառավարություն | H76: =+H78 -> -11884 | I76: =+I78 -> -11884
G77: այդ թվում` բյուջետային ծախսերի տնտեսագիտական դասակարգման հոդվածներ
G78: ԸՆԴԱՄԵՆԸ ԾԱԽՍԵՐ | H78: =+H79 -> -11884 | I78: =+I79 -> -11884
G79: ԸՆԹԱՑԻԿ ԾԱԽՍԵՐ | H79: =+H80 -> -11884 | I79: =+I80 -> -11884
G80: ԱՅԼ ԾԱԽՍԵՐ | H80: =+H81 -> -11884 | I80: =+I81 -> -11884
G81: Պահուստային միջոցներ | H81: =+'2'!E57 -> -11884 | I81: =+'2'!F57 -> -11884
E82: 1139 | G82: ՀՀ կառավարության պահուստային ֆոնդ | H82: =+H84 -> 11884 | I82: =+I84 -> 11884
G83: այդ թվում`
F84: 11001 | G84: ՀՀ կառավարության պահուստային ֆոնդ | H84: =+H86 -> 11884 | I84: =+I86 -> 11884
G85: այդ թվում ըստ կատարողների
G86: ՀՀ կառավարություն | H86: =+H88 -> 11884 | I86: =+I88 -> 11884
G87: այդ թվում` բյուջետային ծախսերի տնտեսագիտական դասակարգման հոդվածներ
G88: ԸՆԴԱՄԵՆԸ ԾԱԽՍԵՐ | H88: =+H89 -> 11884 | I88: =+I89 -> 11884
G89: ԸՆԹԱՑԻԿ ԾԱԽՍԵՐ | H89: =+H90 -> 11884 | I89: =+I90 -> 11884
G90: ԱՅԼ ԾԱԽՍԵՐ | H90: =+H91 -> 11884 | I90: =+I91 -> 11884
G91: Պահուստային միջոցներ | H91: =+'2'!E63 -> 11884 | I91: =+'2'!F63 -> 11884

Sheet 5
B1: Հավելված № 5
B2: ՀՀ կառավարության 2024 թվականի
B3: __________ «____» -ի
B4: N_____ -Ն որոշման
B5: ՀԱՅԱՍՏԱՆԻ ՀԱՆՐԱՊԵՏՈՒԹՅԱՆ ԿԱՌԱՎԱՐՈՒԹՅԱՆ 2023 ԹՎԱԿԱՆԻ ԴԵԿՏԵՄԲԵՐԻ 28-Ի № 2323-Ն ՈՐՈՇՄԱՆ № 5 ՀԱՎԵԼՎԱԾԻ № 2 ԱՂՅՈՒՍԱԿՈՒՄ ԿԱՏԱՐՎՈՂ ՓՈՓՈԽՈՒԹՅՈՒՆՆԵՐԸ
B6: (հազ. դրամ)
B7: Ծրագրային դասիչ | D7: Բյուջետային գլխավոր կարգադրիչների, ծրագրերի, միջոցառումների և ուղղությունների անվանումները | E7: Ցուցանիշների փոփոխությունները (ավելացումները նշված են դրական նշանով)
B8: Ծրագիր | C8: Միջոցառում | E8: Ինն ամիս | F8: Տարի
D9: ՀՀ ԱՌՈՂՋԱՊԱՀՈՒԹՅԱՆ ՆԱԽԱՐԱՐՈՒԹՅՈՒՆ | E9: =+E11 -> 16000 | F9: =+F11 -> 16000
B10: 1126 | D10: այդ թվում՛
C11: 31002 | D11: Առողջապահական կազմակերպությունների վերազինում | E11: =+E13 -> 16000 | F11: =+F13 -> 16000
D12: այդ թվում` ըստ կատարողների
D13: ՀՀ առողջապահության նախարարություն | E13: =+E15 -> 16000 | F13: =+F15 -> 16000
D14: այդ թվում`ըստ ուղղությունների
D15: Երևան քաղաք | E15: =+E16 -> 16000 | F15: =+F16 -> 16000
D16: Առողջապահության նախարարություն | E16: =+'2'!E30 -> 16000 | F16: =+'2'!F30 -> 16000

Sheet 6
B1: Հավելված № 6
B2: ՀՀ կառավարության 2023 թվականի
B3: __________ «____» -ի
B4: N_____ -Ն որոշման
B5: ՀԱՅԱՍՏԱՆԻ ՀԱՆՐԱՊԵՏՈՒԹՅԱՆ ԿԱՌԱՎԱՐՈՒԹՅԱՆ 2023 ԹՎԱԿԱՆԻ ԴԵԿՏԵՄԲԵՐԻ 28-Ի ԹԻՎ 2323-Ն ՈՐՈՇՄԱՆ N 5 ՀԱՎԵԼՎԱԾԻ N 7 ԱՂՅՈՒՍԱԿՈՒՄ ԿԱՏԱՐՎՈՂ ՓՈՓՈԽՈՒԹՅՈՒՆՆԵՐԸ ԵՎ ԼՐԱՑՈՒՄՆԵՐԸ
H6: հազար դրամ
B7: Ծրագրային դասիչ | D7: Բյուջետային հատկացումների գլխավոր կարգադրիչների, ծրագրերի, միջոցառումների, ծախսային ուղղությունների անվանումները | G7: Միջոցառումները կատարող պետական մարմինների և դրամաշնորհ ստացող տնտեսվարող սուբյեկտների անվանումները | H7: Տարի
B8: Ծրագիր | C8: Միջոցառում
B9: ՀՀ առողջապահության նախարարություն | H9: =+H10 -> 11884
B10: 1126 | C10: Առողջապահության ոլորտում պետական քաղաքականության մշակում, ծրագրերի համակարգում և մոնիտորինգ | H10: =+H11 -> 11884
C11: 12005 | D11: Առողջապահական կազմակերպություններում անձեռնմխելի պաշարների ապահովման համար ծախսերի փոխհատուցում | G11: ՀՀ առողջապահության նախարարություն | H11: =+H12+H13+H14+H15 -> 11884
G12: «Նոյեմբերյանի ԲԿ» ՓԲԸ | H12: 1693.7
G13: «Իջևանի ԲԿ» ՓԲԸ | H13: 5623.8
G14: «Ալավերդու ԲԿ» ՓԲԸ | H14: 2100.3
G15: «Բերդի ԲԿ» ՓԲԸ | H15: 2466.2

Sheet 7
B1: Հավելված № 7
B2: ՀՀ կառավարության 2024 թվականի
B3: __________ «____» -ի
B4: № ------------ -Ն որոշման
B5: ՀԱՅԱՍՏԱՆԻ ՀԱՆՐԱՊԵՏՈՒԹՅԱՆ ԿԱՌԱՎԱՐՈՒԹՅԱՆ 2023 ԹՎԱԿԱՆԻ ԴԵԿՏԵՄԲԵՐԻ 28-Ի N 2323-Ն ՈՐՈՇՄԱՆ N 9 ՀԱՎԵԼՎԱԾԻ 9.8 ԱՂՅՈՒՍԱԿՈՒՄ ԿԱՏԱՐՎՈՂ ՓՈՓՈԽՈՒԹՅՈՒՆՆԵՐԸ ԵՎ ԼՐԱՑՈՒՄՆԵՐԸ
B6: ՄԱՍ 2. ՊԵՏԱԿԱՆ ՄԱՐՄՆԻ ԳԾՈՎ ԱՐԴՅՈՒՆՔԱՅԻՆ (ԿԱՏԱՐՈՂԱԿԱՆ) ՑՈՒՑԱՆԻՇՆԵՐԸ
B7: Ծրագրի դասիչը | C7: Ծրագրի անվանումը
B8: 1126 | C8: Առողջապահության ոլորտում պետական քաղաքականության մշակում, ծրագրերի համակարգում և մոնիտորինգ
B9: Ծրագրի միջոցառումները
B10: Ծրագրի դասիչը` | C10: 1126 | D10: Ցուցանիշների փոփոխությունները (ավելացումները նշված են դրական նշանով)
B11: Միջոցառման դասիչը` | C11: 11001 | D11: Ինն ամիս | E11: Տարի
B12: Միջոցառման անվանումը` | C12: Առողջապահության ոլորտի պետական քաղաքականության մշակում, ծրագրերի համակարգում և մոնիտորինգ
B13: Նկարագրությունը` | C13: Մարդու և հանրության առողջության պահպանում, բնակչության առողջության բարելավում, հիվանդությունների կանխարգելում, հաշմանդամության և մահացության ցուցանիշների նվազեցում
B14: Միջոցառման տեսակը` | C14: Ծառայությունների մատուցում
B15: Ծառայությունը մատուցող կազմակերպության(ների) անվանում(ներ)ը | C15: ՀՀ առողջապահության նախարարություն
B16: Արդյունքի չափորոշիչներ
B17: Միջոցառման վրա կատարվող ծախսը (հազար դրամ) | D17: =+'2'!E18 -> 31616 | E17: =+'2'!F18 -> 79040
B19: Ծրագրի դասիչը` | C19: 1126 | D19: Ցուցանիշների փոփոխությունը (ավելացումները նշված են դրական նշանով)
B20: Միջոցառման դասիչը` | C20: 12005 | D20: Ինն ամիս | E20: Տարի
B21: Միջոցառման անվանումը` | C21: Առողջապահական կազմակերպություններում անձեռնմխելի պաշարների ապահովման համար ծախսերի փոխհատուցում
B22: Նկարագրությունը` | C22: Գեղարքունիքի, Վայոց Ձորի, Սյունիքի, Լոռու և Տավուշի առողջապահական կազմակերպություններում դեղերի անձեռնմխելի պաշարների ապահովման համար ծախսերի փոխհատուցում
B23: Միջոցառման տեսակը` | C23: Տրանսֆերտի տրամադրում
B24: Ակտիվն օգտագործող կազմակերպության (ների) անվանում(ներ)ը | C24: Առողջապահական կազմակերպություններ
B25: Արդյունքի չափորոշիչներ
B26: Մարզային առողջապահական կազմակերպություններ, հատ | E26: 4
B27: Միջոցառման վրա կատարվող ծախսը (հազար դրամ) | D27: =+'2'!E24 -> 11884 | E27: =+'2'!F24 -> 11884
B29: Ծրագրի դասիչը` | C29: 1126 | D29: Ցուցանիշների փոփոխությունները (ավելացումները նշված են դրական նշանով)
B30: Միջոցառման դասիչը` | C30: 31002 | D30: Ինն ամիս | E30: Տարի
B31: Միջոցառման անվանումը` | C31: Առողջապահական կազմակերպությունների վերազինում
B32: Նկարագրությունը` | C32: Բնակչությանը որակյալ բժշկական օգնության և սպասարկման ծառայություններ մատուցելու նպատակով՛ առողջապահական կազմակերպությունների անհրաժեշտ սարքավորումներով վերազինում
B33: Միջոցառման տեսակը` | C33: Պետական մարմինների կողմից օգտագործվող ոչ ֆինանսական ակտիվների հետ գործառնություններ
B34: Ծառայությունը մատուցող կազմակերպության(ների) անվանում(ներ)ը | C34: Բժշկական կազմակերպություններ
B35: Արդյունքի չափորոշիչներ
B36: Համակարգչային սարքավորումների թվաքանակը, հատ | E36: 40
B37: Միջոցառման վրա կատարվող ծախսը (հազար դրամ) | D37: =+'2'!E30 -> 16000 | E37: =+'2'!F30 -> 16000
B39: Ծրագրի դասիչը | C39: Ծրագրի անվանումը
B40: 1207 | C40: Սոցիալապես անապահով և առանձին խմբերի անձանց բժշկական օգնություն
B41: Ծրագրի միջոցառումները
B42: Ծրագրի դասիչը` | C42: 1207 | D42: Ցուցանիշների փոփոխությունները (ավելացումները նշված են դրական նշանով)
B43: Միջոցառման դասիչը` | C43: 11003 | D43: Ինն ամիս | E43: Տարի
B44: Միջոցառման անվանումը` | C44: Զինծառայողներին, ինչպես նաև փրկարար ծառայողներին և նրանց ընտանիքի անդամներին բժշկական օգնության ծառայություններ
B45: Նկարագրությունը` | C45: Զինծառայողներին, նրանց հավասարեցված անձանց, ինչպես նաև փրկարար ծառայողներին և նրանց ընտանիքի անդամներին բժշկական օգնության իրականացում (հետազոտում, ախտորոշում, բուժում)
B46: Միջոցառման տեսակը` | C46: Ծառայությունների մատուցում
B47: Ծառայությունը մատուցող կազմակերպության(ների) անվանում(ներ)ը | C47: ՀՀ գնումների մասին օրենսդրությանը համապատասխան ընտրված կազմակերպություններ
B48: Արդյունքի չափորոշիչներ
B49: Բժշկական օգնության գծով ծառայություններից օգտվելու դեպքերի թիվ, հատ | E49: -950
B50: Միջոցառման վրա կատարվող ծախսը (հազար դրամ) | D50: =+'2'!E43 -> -59500 | E50: =+'2'!F43 -> -106924
B52: ՀՀ կառավարություն
B53: ՀԱՅԱՍՏԱՆԻ ՀԱՆՐԱՊԵՏՈՒԹՅԱՆ ԿԱՌԱՎԱՐՈՒԹՅԱՆ 2023 ԹՎԱԿԱՆԻ ԴԵԿՏԵՄԲԵՐԻ 28-Ի N 2323-Ն ՈՐՈՇՄԱՆ N 9 ՀԱՎԵԼՎԱԾԻ 9.48 ԱՂՅՈՒՍԱԿՈՒՄ ԿԱՏԱՐՎՈՂ ՓՈՓՈԽՈՒԹՅՈՒՆԸ ԵՎ ԼՐԱՑՈՒՄԸ
B54: ՄԱՍ 2. ՊԵՏԱԿԱՆ ՄԱՐՄՆԻ ԳԾՈՎ ԱՐԴՅՈՒՆՔԱՅԻՆ (ԿԱՏԱՐՈՂԱԿԱՆ) ՑՈՒՑԱՆԻՇՆԵՐԸ
B55: Ծրագրի դասիչը | C55: Ծրագրի անվանումը
B56: 1139 | C56: ՀՀ կառավարության պահուստային ֆոնդ
B57: Ծրագրի միջոցառումները
B58: Ծրագրի դասիչը` | C58: 1139 | D58: Ցուցանիշների փոփոխությունները (ավելացումները նշված են դրական նշանով)
B59: Միջոցառման դասիչը` | C59: 11001 | D59: Ինն ամիս | E59: Տարի
B60: Միջոցառման անվանումը` | C60: ՀՀ կառավարության պահուստային ֆոնդ
B61: Նկարագրությունը` | C61: ՀՀ պետական բյուջեում նախատեսված ելքերի լրացուցիչ ֆինանսավորման, պետական բյուջեում չկանխատեսված ելքերի, ինչպես նաև բյուջետային երաշխիքների ապահովման ելքերի ֆինանսավորման ապահովում
B62: Միջոցառման տեսակը` | C62: Ծառայությունների մատուցում
B63: Արդյունքի չափորոշիչներ
B64: Միջոցառման վրա կատարվող ծախսը (հազար դրամ) | D64: =+'4'!H91 -> 11884 | E64: =+'4'!I91 -> 11884
B66: Ծրագրի դասիչը` | C66: 1139 | D66: Ցուցանիշների փոփոխությունները (նվազեցումները նշված են փակագծերում)
B67: Միջոցառման դասիչը` | C67: 11001 | D67: Ինն ամիս | E67: Տարի
B68: Միջոցառման անվանումը` | C68: ՀՀ կառավարության պահուստային ֆոնդ
B69: Նկարագրությունը` | C69: ՀՀ պետական բյուջեում նախատեսված ելքերի լրացուցիչ ֆինանսավորման, պետական բյուջեում չկանխատեսված ելքերի, ինչպես նաև բյուջետային երաշխիքների ապահովման ելքերի ֆինանսավորման ապահովում
B70: Միջոցառման տեսակը` | C70: Ծառայությունների մատուցում
B71: Արդյունքի չափորոշիչներ
B72: Միջոցառման վրա կատարվող ծախսը (հազար դրամ) | D72: =+'4'!H81 -> -11884 | E72: =+'4'!I81 -> -11884

Sheet 8
B1: Հավելված № 8
B2: ՀՀ կառավարության 2024 թվականի
B3: __________ «____» -ի
B4: № ------------ -Ն որոշման
B5: ՀԱՅԱՍՏԱՆԻ ՀԱՆՐԱՊԵՏՈՒԹՅԱՆ ԿԱՌԱՎԱՐՈՒԹՅԱՆ 2023 ԹՎԱԿԱՆԻ ԴԵԿՏԵՄԲԵՐԻ 28-Ի N 2323-Ն ՈՐՈՇՄԱՆ N 9.1 ՀԱՎԵԼՎԱԾԻ 9.1.8 ԱՂՅՈՒՍԱԿՈՒՄ ԿԱՏԱՐՎՈՂ ՓՈՓՈԽՈՒԹՅՈՒՆՆԵՐԸ ԵՎ ԼՐԱՑՈՒՄՆԵՐԸ
B6: ՄԱՍ 1. ՊԵՏԱԿԱՆ ՄԱՐՄՆԻ ԳԾՈՎ ԱՐԴՅՈՒՆՔԱՅԻՆ (ԿԱՏԱՐՈՂԱԿԱՆ) ՑՈՒՑԱՆԻՇՆԵՐԸ
B7: Ծրագրի դասիչը | C7: Ծրագրի անվանումը
B8: 1126 | C8: Առողջապահության ոլորտում պետական քաղաքականության մշակում, ծրագրերի համակարգում և մոնիտորինգ
B9: Ծրագրի դասիչը` | C9: 1126 | D9: Ցուցանիշների փոփոխությունները (ավելացումները նշված են դրական նշանով)
B10: Միջոցառման դասիչը` | C10: 11001 | D10: Ինն ամիս | E10: Տարի
B11: Միջոցառման անվանումը` | C11: Առողջապահության ոլորտի պետական քաղաքականության մշակում, ծրագրերի համակարգում և մոնիտորինգ
B12: Նկարագրությունը` | C12: Մարդու և հանրության առողջության պահպանում, բնակչության առողջության բարելավում, հիվանդությունների կանխարգելում, հաշմանդամության և մահացության ցուցանիշների նվազեցում
B13: Միջոցառման տեսակը` | C13: Ծառայությունների մատուցում
B14: Ծառայությունը մատուցող կազմակերպության(ների) անվանում(ներ)ը | C14: ՀՀ առողջապահության նախարարություն
B15: Արդյունքի չափորոշիչներ
B16: Միջոցառման վրա կատարվող ծախսը (հազար դրամ) | D16: =+'2'!E18 -> 31616 | E16: =+'2'!F18 -> 79040
B18: Ծրագրի դասիչը` | C18: 1126 | D18: Ցուցանիշների փոփոխությունները (ավելացումները նշված են դրական նշանով)
B19: Միջոցառման դասիչը` | C19: 12005 | D19: Ինն ամիս | E19: Տարի
B20: Միջոցառման անվանումը` | C20: Առողջապահական կազմակերպություններում անձեռնմխելի պաշարների ապահովման համար ծախսերի փոխհատուցում
B21: Նկարագրությունը` | C21: Գեղարքունիքի, Վայոց Ձորի, Սյունիքի, Լոռու և Տավուշի առողջապահական կազմակերպություններում դեղերի անձեռնմխելի պաշարների ապահովման համար ծախսերի փոխհատուցում
B22: Միջոցառման տեսակը` | C22: Տրանսֆերտի տրամադրում
B23: Ակտիվն օգտագործող կազմակերպության (ների) անվանում(ներ)ը | C23: Առողջապահական կազմակերպություններ
B24: Արդյունքի չափորոշիչներ
B25: Մարզային առողջապահական կազմակերպություններ, հատ | E25: 4
B26: Միջոցառման վրա կատարվող ծախսը (հազար դրամ) | D26: =+'7'!D27 -> 11884 | E26: =+'7'!E27 -> 11884
B28: Ծրագրի դասիչը` | C28: 1126 | D28: Ցուցանիշների փոփոխությունները (ավելացումները նշված են դրական նշանով)
B29: Միջոցառման դասիչը` | C29: 31002 | D29: Ինն ամիս | E29: Տարի
B30: Միջոցառման անվանումը` | C30: Առողջապահական կազմակերպությունների վերազինում
B31: Նկարագրությունը` | C31: Բնակչությանը որակյալ բժշկական օգնության և սպասարկման ծառայություններ մատուցելու նպատակով՛ առողջապահական կազմակերպությունների անհրաժեշտ սարքավորումներով վերազինում
B32: Միջոցառման տեսակը` | C32: Պետական մարմինների կողմից օգտագործվող ոչ ֆինանսական ակտիվների հետ գործառնություններ
B33: Ծառայությունը մատուցող կազմակերպության(ների) անվանում(ներ)ը | C33: Բժշկական կազմակերպություններ
B34: Արդյունքի չափորոշիչներ
B35: Համակարգչային սարքավորումների թվաքանակը, հատ | E35: 40
B36: Միջոցառման վրա կատարվող ծախսը (հազար դրամ) | D36: =+'2'!E30 -> 16000 | E36: =+'2'!F30 -> 16000
B38: Ծրագրի դասիչը | C38: Ծրագրի անվանումը
B39: 1207 | C39: =+'1'!C11 -> Սոցիալապես անապահով և առանձին խմբերի անձանց բժշկական օգնություն | D39: Ցուցանիշների փոփոխությունները (նվազեցումները նշված են փակագծերում)
B40: Ծրագրի միջոցառումները
B41: Ծրագրի դասիչը` | C41: 1207
B42: Միջոցառման դասիչը` | C42: 11003 | D42: Ինն ամիս | E42: Տարի
B43: Միջոցառման անվանումը` | C43: Զինծառայողներին, ինչպես նաև փրկարար ծառայողներին և նրանց ընտանիքի անդամներին բժշկական օգնության ծառայություններ
B44: Նկարագրությունը` | C44: Զինծառայողներին, նրանց հավասարեցված անձանց, ինչպես նաև փրկարար ծառայողներին և նրանց ընտանիքի անդամներին բժշկական օգնության իրականացում (հետազոտում, ախտորոշում, բուժում)
B45: Միջոցառման տեսակը` | C45: Ծառայությունների մատուցում
B46: Ծառայությունը մատուցող կազմակերպության(ների) անվանում(ներ)ը | C46: ՀՀ գնումների մասին օրենսդրությանը համապատասխան ընտրված կազմակերպություններ
B47: Արդյունքի չափորոշիչներ
B48: Բժշկական օգնության գծով ծառայություններից օգտվելու դեպքերի թիվ, հատ | E48: -950
B49: Միջոցառման վրա կատարվող ծախսը (հազար դրամ) | D49: =+'2'!E43 -> -59500 | E49: =+'2'!F43 -> -106924
B51: ՀԱՅԱՍՏԱՆԻ ՀԱՆՐԱՊԵՏՈՒԹՅԱՆ ԿԱՌԱՎԱՐՈՒԹՅԱՆ 2023 ԹՎԱԿԱՆԻ ԴԵԿՏԵՄԲԵՐԻ 28-Ի N 2323-Ն ՈՐՈՇՄԱՆ N 9 ՀԱՎԵԼՎԱԾԻ 9.1.58 ԱՂՅՈՒՍԱԿՈՒՄ ԿԱՏԱՐՎՈՂ ՓՈՓՈԽՈՒԹՅՈՒՆԸ ԵՎ ԼՐԱՑՈՒՄԸ
B52: ՀՀ կառավարություն
B53: ՄԱՍ 1. ՊԵՏԱԿԱՆ ՄԱՐՄՆԻ ԳԾՈՎ ԱՐԴՅՈՒՆՔԱՅԻՆ (ԿԱՏԱՐՈՂԱԿԱՆ) ՑՈՒՑԱՆԻՇՆԵՐԸ
B54: Ծրագրի դասիչը | C54: Ծրագրի անվանումը
B55: 1139 | C55: ՀՀ կառավարության պահուստային ֆոնդ
B56: Ծրագրի միջոցառումները
B57: Ծրագրի դասիչը` | C57: 1139 | D57: Ցուցանիշների փոփոխությունները (ավելացումները նշված են դրական նշանով)
B58: Միջոցառման դասիչը` | C58: 11001 | D58: Ինն ամիս | E58: Տարի
B59: Միջոցառման անվանումը` | C59: ՀՀ կառավարության պահուստային ֆոնդ
B60: Նկարագրությունը` | C60: ՀՀ պետական բյուջեում նախատեսված ելքերի լրացուցիչ ֆինանսավորման, պետական բյուջեում չկանխատեսված ելքերի, ինչպես նաև բյուջետային երաշխիքների ապահովման ելքերի ֆինանսավորման ապահովում
B61: Միջոցառման տեսակը` | C61: Ծառայությունների մատուցում
B62: Արդյունքի չափորոշիչներ
B63: Միջոցառման վրա կատարվող ծախսը (հազար դրամ) | D63: =+'4'!H91 -> 11884 | E63: =+'4'!I91 -> 11884
B65: Ծրագրի դասիչը` | C65: 1139 | D65: Ցուցանիշների փոփոխությունները (նվազեցումները նշված են փակագծերում)
B66: Միջոցառման դասիչը` | C66: 11001 | D66: Ինն ամիս | E66: Տարի
B67: Միջոցառման անվանումը` | C67: ՀՀ կառավարության պահուստային ֆոնդ
B68: Նկարագրությունը` | C68: ՀՀ պետական բյուջեում նախատեսված ելքերի լրացուցիչ ֆինանսավորման, պետական բյուջեում չկանխատեսված ելքերի, ինչպես նաև բյուջետային երաշխիքների ապահովման ելքերի ֆինանսավորման ապահովում
B69: Միջոցառման տեսակը` | C69: Ծառայությունների մատուցում
B70: Արդյունքի չափորոշիչներ
B71: Միջոցառման վրա կատարվող ծախսը (հազար դրամ) | D71: =+'4'!H81 -> -11884 | E71: =+'4'!I81 -> -11884

Sheet 9
A1: Հավելված № 9
A2: ՀՀ կառավարության 2024 թվականի
A3: __________ «____» -ի
A4: № ------------ -Ն որոշման
A5: ՀԱՅԱՍՏԱՆԻ ՀԱՆՐԱՊԵՏՈՒԹՅԱՆ ԿԱՌԱՎԱՐՈՒԹՅԱՆ 2023 ԹՎԱԿԱՆԻ ԴԵԿՏԵՄԲԵՐԻ 28-Ի N 2323-Ն ՈՐՈՇՄԱՆ N 10 ՀԱՎԵԼՎԱԾՈՒՄ ԿԱՏԱՐՎՈՂ ԼՐԱՑՈՒՄՆԵՐԸ
A7: Կոդը | B7: Անվանումը | E7: Գնման ձևը | F7: Չափման միավորը | G7: Միավորի գինը | H7: Քանակը | I7: Ցուցանիշների փոփոխությունները (ավելացումները նշված են դրական նշանով)
I8: Գումարը (հազար դրամով)
A9: 1 | B9: 2 | C9: 3 | D9: 4 | E9: 5 | F9: 6 | G9: 7 | H9: 8 | I9: 9
A10: ՀՀ առողջապահության նախարարություն
A11: Բաժին N 07 | B11: Խումբ N 06 | C11: Դաս N 02 | D11: Առողջապահություն (այլ դասերին չպատկանող) | I11: =+I12 -> 16000
A12: 1126 31002 | B12: Առողջապահական կազմակերպությունների վերազինում | I12: =+I13 -> 16000
B13: ՄԱՍ I. Ա Պ Ր Ա Ն Ք Ն Ե Ր | I13: =+I14 -> 16000
A14: 30211200 | B14: դյուրակիր համակարգիչ | E14: ԷԱՃ | F14: հատ | G14: 400000 | H14: 40 | I14: =+G14*H14/1000 -> 16000

Sheet 10
B1: Հավելված № 10
B2: ՀՀ կառավարության 2024 թվականի
B3: __________ «____» -ի
B4: № ------------ -Ն որոշման
B5: ՀԱՅԱՍՏԱՆԻ ՀԱՆՐԱՊԵՏՈՒԹՅԱՆ 2024 ԹՎԱԿԱՆԻ ՊԵՏԱԿԱՆ ԲՅՈՒՋՈՎ ՆԱԽԱՏԵՍՎԱԾ` ՀԱՅԱՍՏԱՆԻ ՀԱՆՐԱՊԵՏՈՒԹՅԱՆ ԿԱՌԱՎԱՐՈՒԹՅԱՆ ՊԱՀՈՒՍՏԱՅԻՆ ՖՈՆԴԻՑ ՀԱՏԿԱՑՈՒՄՆԵՐ ԿԱՏԱՐԵԼՈՒ ՎԵՐԱԲԵՐՅԱԼ
B6: հազար դրամ
B7: Գործառական դասիչը | E7: Ծրագրային դասիչը | G7: Բյուջետային հատկացումների գլխավոր կարգադրիչների, ծրագրերի, միջոցառումների և միջոցառումները կատարող պետական մարմինների անվանումները | H7: Ցուցանիշների փոփոխությունները (ավելացումը նշված է դրական նշանով, իսկ նվազեցումը` փակագծերում)
B8: բաժին | C8: խումբ | D8: դաս | E8: Ծրագիր | F8: Միջոցառում | H8: Ինն ամիս | I8: Տարի
B9: ԸՆԴԱՄԵՆԸ | H9: =+H10+H29 -> 0 | I9: =+I10+I29 -> 0
B10: 07 | G10: ԱՌՈՂՋԱՊԱՀՈՒԹՅՈՒՆ | H10: =+H12 -> 11884 | I10: =+I12 -> 11884
G11: այդ թվում՝
C12: 06 | G12: Առողջապահություն (այլ դասերին չպատկանող) | H12: =+H14 -> 11884 | I12: =+I14 -> 11884
G13: այդ թվում`
D14: 02 | G14: Առողջապահություն (այլ դասերին չպատկանող) | H14: =+H16 -> 11884 | I14: =+I16 -> 11884
G15: այդ թվում`
G16: ՀՀ առողջապահության նախարարություն | H16: =+H18 -> 11884 | I16: =+I18 -> 11884
G17: այդ թվում՝
E18: 1126 | G18: Առողջապահության ոլորտում պետական քաղաքականության մշակում, ծրագրերի համակարգում և մոնիտորինգ | H18: =+H20 -> 11884 | I18: =+I20 -> 11884
G19: այդ թվում`
F20: 12005 | G20: Առողջապահական կազմակերպություններում անձեռնմխելի պաշարների ապահովման համար ծախսերի փոխհատուցում | H20: =H22 -> 11884 | I20: =I22 -> 11884
G21: այդ թվում` ըստ կատարողների
G22: ՀՀ առողջապահության նախարարություն | H22: =H24 -> 11884 | I22: =I24 -> 11884
G23: այդ թվում` բյուջետային ծախսերի տնտեսագիտական դասակարգման հոդվածներ | H23: =H24 -> 11884 | I23: =I24 -> 11884
G24: ԸՆԴԱՄԵՆԸ ԾԱԽՍԵՐ | H24: =H26 -> 11884 | I24: =I26 -> 11884
G25: ԸՆԹԱՑԻԿ ԾԱԽՍԵՐ | H25: =+H26 -> 11884 | I25: =+I26 -> 11884
G26: ԴՐԱՄԱՇՆՈՐՀՆԵՐ | H26: =H27 -> 11884 | I26: =I27 -> 11884
G27: Ընթացիկ դրամաշնորհներ պետական հատվածի այլ մակարդակներին | H27: =+H28 -> 11884 | I27: =+I28 -> 11884
G28: - Ընթացիկ դրամաշնորհներ պետական և համայնքների առևտրային կազմակերպություններին | H28: =+'2'!E24 -> 11884 | I28: =+'2'!F24 -> 11884
B29: 11 | G29: ՀԻՄՆԱԿԱՆ ԲԱԺԻՆՆԵՐԻՆ ՉԴԱՍՎՈՂ ՊԱՀՈՒՍՏԱՅԻՆ ՖՈՆԴԵՐ | H29: =+H31 -> -11884 | I29: =+I31 -> -11884
G30: այդ թվում՝
C31: 01 | G31: ՀՀ կառավարության և համայնքների պահուստային ֆոնդ | H31: =+H33 -> -11884 | I31: =+I33 -> -11884
G32: այդ թվում՝
D33: 01 | G33: ՀՀ կառավարության պահուստային ֆոնդ | H33: =+H37 -> -11884 | I33: =+I37 -> -11884
G34: այդ թվում՝
G35: ՀՀ կառավարություն | H35: =+H37 -> -11884 | I35: =+I37 -> -11884
G36: այդ թվում՝
E37: 1139 | G37: ՀՀ կառավարության պահուստային ֆոնդ | H37: =+H39 -> -11884 | I37: =+I39 -> -11884
G38: այդ թվում`
F39: 11001 | G39: ՀՀ կառավարության պահուստային ֆոնդ | H39: =+H41 -> -11884 | I39: =+I41 -> -11884
G40: այդ թվում ըստ կատարողների
G41: ՀՀ կառավարություն | H41: =+H43 -> -11884 | I41: =+I43 -> -11884
G42: այդ թվում` բյուջետային ծախսերի տնտեսագիտական դասակարգման հոդվածներ
G43: ԸՆԴԱՄԵՆԸ ԾԱԽՍԵՐ | H43: =+H44 -> -11884 | I43: =+I44 -> -11884
G44: ԸՆԹԱՑԻԿ ԾԱԽՍԵՐ | H44: =+H45 -> -11884 | I44: =+I45 -> -11884
G45: ԱՅԼ ԾԱԽՍԵՐ | H45: =+H46 -> -11884 | I45: =+I46 -> -11884
G46: Պահուստային միջոցներ | H46: =+'2'!E57 -> -11884 | I46: =+'2'!F57 -> -11884
