Workbook
Name a: #REF!
Name a: #REF!
Name AgencyCode: #REF!
Name AgencyCode: #REF!
Name AgencyCode: #REF!
Name AgencyCode: #REF!
Name AgencyName: #REF!
Name AgencyName: #REF!
Name AgencyName: #REF!
Name AgencyName: #REF!
Name davit: #REF!
Name davit: #REF!
Name Functional1: #REF!
Name Functional1: #REF!
Name Functional1: #REF!
Name Functional1: #REF!
Name ggg: #REF!
Name ggg: #REF!
Name PANature: #REF!
Name PANature: #REF!
Name PANature: #REF!
Name PANature: #REF!
Name PAType: #REF!
Name PAType: #REF!
Name PAType: #REF!
Name PAType: #REF!
Name Performance2: #REF!
Name Performance2: #REF!
Name Performance2: #REF!
Name Performance2: #REF!
Name PerformanceType: #REF!
Name PerformanceType: #REF!
Name PerformanceType: #REF!
Name PerformanceType: #REF!
Name Հավելված: #REF!
Name Հավելված: #REF!
Name Հավելված10: #REF!
Name Հավելված10: #REF!
Name Հավելված11: #REF!
Name Հավելված11: #REF!
Name Հավելված20: #REF!
Name Հավելված20: #REF!
Name Հավելված9: #REF!
Name Հավելված9: #REF!
Name Մաս: #REF!
Name Մաս: #REF!
Name շախմատիստ: #REF!
Name շախմատիստ: #REF!

Sheet Հավելված N 1
F1: Հավելված N 1
E2: ՀՀ կառավարության 2024 թվականի
E3: ______________ ի ___Ն որոշման
A5: «ՀԱՅԱUՏԱՆԻ ՀԱՆՐԱՊԵՏՈՒԹՅԱՆ 2024 ԹՎԱԿԱՆԻ ՊԵՏԱԿԱՆ ԲՅՈՒՋԵԻ ՄԱUԻՆ» OՐԵՆՔԻ N 1 ՀԱՎԵԼՎԱԾԻ N 3 ԱՂՅՈՒՍԱԿՈՒՄ ԿԱՏԱՐՎՈՂ ՓՈՓՈԽՈՒԹՅՈՒՆԸ ԵՎ ԼՐԱՑՈՒՄՆԵՐԸ
G6: հազ. դրամ
A7: Ծրագրային դասիչ | C7: Բյուջետային գլխավոր կարգադրիչների, ծրագրերի, միջոցառումների, միջոցառումները կատարող պետական մարմինների և ուղղությունների անվանումները | D7: Ընդամենը | E7: Ցուցանիշների փոփոխությունը (ավելացումները նշված են դրական նշանով, իսկ նվազեցումները՝ փակագծերում)
A8: Ծրագիր | B8: Միջոցառում | E8: Կառուցման աշխատանքներ | F8: Վերակառուցման, վերանորոգման և վերականգնման աշխատանքներ | G8: Նախագծահե- տազոտական, գեոդեզիա- քարտեզագրա- կան աշխա- տանքներ | H8: Ոչ ֆինանսական այլ ակտիվների ձեռքբերում
C9: ԸՆԴԱՄԵՆԸ | D9: =SUM(E9:H9) -> 0 | E9: =+E11 -> 0 | F9: =+F11 -> 0 | G9: =+G11 -> 0 | H9: =+H11 -> 0
C10: այդ թվում՝
C11: ՀՀ ԿՐԹՈՒԹՅԱՆ, ԳԻՏՈՒԹՅԱՆ, ՄՇԱԿՈՒՅԹԻ ԵՎ ՍՊՈՐՏԻ ՆԱԽԱՐԱՐՈՒԹՅՈՒՆ | D11: =SUM(E11:H11) -> 0 | E11: =+E13 -> 0 | F11: =+F13 -> 0 | G11: =+G13 -> 0 | H11: =+H13 -> 0
C12: այդ թվում`
A13: 1236 | B13: 32002 | C13: Մանկապարտեզների շենքերի վերակառուցում, հիմնանորոգում | D13: =SUM(E13:H13) -> 0 | F13: =F15+F16 -> 0
C14: այդ թվում`
C15: Մանկապարտեզների շենքերի վերակառուցում, հիմնանորոգում | D15: =SUM(E15:H15) -> -1480580.5 | F15: -1480580.5
C16: Երևան քաղաք | D16: =SUM(E16:H16) -> 1480580.5 | F16: =SUM(F17:F31) -> 1480580.5
C17: Կենտրոն վարչական շրջանի հ.15 մանկապարտեզի բակի բարեկարգում | D17: =SUM(E17:H17) -> 78090.1 | F17: 78090.1
C18: Աջափնյակ վարչական շրջանի հ.47 մանկապարտեզի բակի բարեկարգում | D18: =SUM(E18:H18) -> 213139.4 | F18: 213139.4
C19: Դավթաշեն վարչական շրջանի հ.61 մանկապարտեզի բակի բարեկարգում | D19: =SUM(E19:H19) -> 113129.4 | F19: 113129.4
C20: Էրեբունի վարչական շրջանի հ.63 մանկապարտեզի բակի բարեկարգում | D20: =SUM(E20:H20) -> 41751 | F20: 41751
C21: Մալաթիա-Սեբաստիա վարչական շրջանի հ.76 մանկապարտեզի բակի բարեկարգում | D21: =SUM(E21:H21) -> 102213.8 | F21: 102213.8
C22: Մալաթիա-Սեբաստիա վարչական շրջանի հ.77 մանկապարտեզի բակի բարեկարգում | D22: =SUM(E22:H22) -> 180194.7 | F22: 180194.7
C23: Մալաթիա-Սեբաստիա վարչական շրջանի հ.81 մանկապարտեզի բակի բարեկարգում | D23: =SUM(E23:H23) -> 153807.1 | F23: 153807.1
C24: Մալաթիա-Սեբաստիա վարչական շրջանի հ.82 մանկապարտեզի բակի բարեկարգում | D24: =SUM(E24:H24) -> 69917.7 | F24: 69917.7
C25: Մալաթիա-Սեբաստիա վարչական շրջանի հ.88 մանկապարտեզի բակի բարեկարգում | D25: =SUM(E25:H25) -> 50125.9 | F25: 50125.9
C26: Մալաթիա-Սեբաստիա վարչական շրջանի հ.90 մանկապարտեզի բակի բարեկարգում | D26: =SUM(E26:H26) -> 67804.5 | F26: 67804.5
C27: Նոր Նորք վարչական շրջանի հ.109 մանկապարտեզի բակի բարեկարգում | D27: =SUM(E27:H27) -> 139303.6 | F27: 139303.6
C28: Նոր Նորք վարչական շրջանի հ.110 մանկապարտեզի բակի բարեկարգում | D28: =SUM(E28:H28) -> 102941.8 | F28: 102941.8
... C31: Քանաքեռ-Զեյթուն վարչական շրջանի հ.161 մանկապարտեզի բակի բարեկարգում | D31: =SUM(E31:H31) -> 77888.3 | F31: 77888.3

Sheet Հավելված N 2
F1: Հավելված N 2
F2: ՀՀ կառավարության 2024 թվականի
F3: ______________ ի ___Ն որոշման
B5: ՀԱՅԱՍՏԱՆԻ ՀԱՆՐԱՊԵՏՈՒԹՅԱՆ ԿԱՌԱՎԱՐՈՒԹՅԱՆ 2023 ԹՎԱԿԱՆԻ ԴԵԿՏԵՄԲԵՐԻ 28-Ի N 2323-Ն ՈՐՈՇՄԱՆ N 5 ՀԱՎԵԼՎԱԾԻ N 2 ԱՂՅՈՒՍԱԿՈՒՄ ԿԱՏԱՐՎՈՂ ՓՈՓՈԽՈՒԹՅՈՒՆԸ ԵՎ ԼՐԱՑՈՒՄՆԵՐԸ
F6: հազ. դրամ
B7: Ծրագրային դասիչ | D7: Բյուջետային գլխավոր կարգադրիչների, ծրագրերի, միջոցառումների, միջոցառումները կատարող պետական մարմինների և ուղղությունների անվանումները | E7: Ցուցանիշների փոփոխությունը (ավելացումները նշված են դրական նշանով, իսկ նվազեցումները՝ փակագծերում)
B8: Ծրագիր | C8: Միջոցառում | E8: Ինն ամիս | F8: Տարի
D9: ՀՀ ԿՐԹՈՒԹՅԱՆ, ԳԻՏՈՒԹՅԱՆ, ՄՇԱԿՈՒՅԹԻ ԵՎ ՍՊՈՐՏԻ ՆԱԽԱՐԱՐՈՒԹՅՈՒՆ | E9: =+E11 -> 0 | F9: =+F11 -> 0
D10: այդ թվում՝
B11: 1236 | C11: 32002 | D11: Մանկապարտեզների շենքերի վերակառուցում, հիմնանորոգում | E11: =+E13+E14 -> 0 | F11: =+F13+F14 -> 0
D12: այդ թվում` ըստ կատարողների
D13: ՀՀ տարածքային կառավարման և ենթակառուցվածքների նախարարություն | E13: =-E14 -> -728224.5 | F13: =+'Հավելված N 1'!D15 -> -1480580.5
D14: ՀՀ տարածքային կառավարման և ենթակառուցվածքների նախարարություն | E14: =+E16 -> 728224.5 | F14: =+F16 -> 1480580.5
D15: այդ թվում`ըստ ուղղությունների
D16: Երևան քաղաք | E16: =SUM(E17:E31) -> 728224.5 | F16: =SUM(F17:F31) -> 1480580.5
D17: =+'Հավելված N 1'!C17 -> Կենտրոն վարչական շրջանի հ.15 մանկապարտեզի բակի բարեկարգում | E17: =+ROUND(F17*0.1,1) -> 7809 | F17: =+'Հավելված N 1'!D17 -> 78090.1
D18: =+'Հավելված N 1'!C18 -> Աջափնյակ վարչական շրջանի հ.47 մանկապարտեզի բակի բարեկարգում | E18: =+ROUND(F18*0.05,1) -> 10657 | F18: =+'Հավելված N 1'!D18 -> 213139.4
D19: =+'Հավելված N 1'!C19 -> Դավթաշեն վարչական շրջանի հ.61 մանկապարտեզի բակի բարեկարգում | E19: =+ROUND(F19*0.9,1) -> 101816.5 | F19: =+'Հավելված N 1'!D19 -> 113129.4
D20: =+'Հավելված N 1'!C20 -> Էրեբունի վարչական շրջանի հ.63 մանկապարտեզի բակի բարեկարգում | E20: =+ROUND(F20*0.9,1) -> 37575.9 | F20: =+'Հավելված N 1'!D20 -> 41751
D21: =+'Հավելված N 1'!C21 -> Մալաթիա-Սեբաստիա վարչական շրջանի հ.76 մանկապարտեզի բակի բարեկարգում | E21: =+ROUND(F21*0.9,1) -> 91992.4 | F21: =+'Հավելված N 1'!D21 -> 102213.8
D22: =+'Հավելված N 1'!C22 -> Մալաթիա-Սեբաստիա վարչական շրջանի հ.77 մանկապարտեզի բակի բարեկարգում | E22: =+ROUND(F22*0.9,1) -> 162175.2 | F22: =+'Հավելված N 1'!D22 -> 180194.7
D23: =+'Հավելված N 1'!C23 -> Մալաթիա-Սեբաստիա վարչական շրջանի հ.81 մանկապարտեզի բակի բարեկարգում | E23: =+ROUND(F23*0.1,1) -> 15380.7 | F23: =+'Հավելված N 1'!D23 -> 153807.1
D24: =+'Հավելված N 1'!C24 -> Մալաթիա-Սեբաստիա վարչական շրջանի հ.82 մանկապարտեզի բակի բարեկարգում | E24: =+ROUND(F24*0.9,1) -> 62925.9 | F24: =+'Հավելված N 1'!D24 -> 69917.7
D25: =+'Հավելված N 1'!C25 -> Մալաթիա-Սեբաստիա վարչական շրջանի հ.88 մանկապարտեզի բակի բարեկարգում | E25: =+ROUND(F25*0.9,1) -> 45113.3 | F25: =+'Հավելված N 1'!D25 -> 50125.9
D26: =+'Հավելված N 1'!C26 -> Մալաթիա-Սեբաստիա վարչական շրջանի հ.90 մանկապարտեզի բակի բարեկարգում | E26: =+ROUND(F26*0.9,1) -> 61024.1 | F26: =+'Հավելված N 1'!D26 -> 67804.5
D27: =+'Հավելված N 1'!C27 -> Նոր Նորք վարչական շրջանի հ.109 մանկապարտեզի բակի բարեկարգում | E27: =+ROUND(F27*0.1,1) -> 13930.4 | F27: =+'Հավելված N 1'!D27 -> 139303.6
D28: =+'Հավելված N 1'!C28 -> Նոր Նորք վարչական շրջանի հ.110 մանկապարտեզի բակի բարեկարգում | E28: 8092.5 | F28: =+'Հավելված N 1'!D28 -> 102941.8
D29: =+'Հավելված N 1'!C29 -> Շենգավիթ վարչական շրջանի հ.135 մանկապարտեզի բակի բարեկարգում | E29: =+ROUND(F29*0.9,1) -> 34430.4 | F29: =+'Հավելված N 1'!D29 -> 38256
D30: =+'Հավելված N 1'!C30 -> Շենգավիթ վարչական շրջանի հ.138 մանկապարտեզի բակի բարեկարգում | E30: =+ROUND(F30*0.1,1) -> 5201.7 | F30: =+'Հավելված N 1'!D30 -> 52017.2
D31: =+'Հավելված N 1'!C31 -> Քանաքեռ-Զեյթուն վարչական շրջանի հ.161 մանկապարտեզի բակի բարեկարգում | E31: =+ROUND(F31*0.9,1) -> 70099.5 | F31: =+'Հավելված N 1'!D31 -> 77888.3

Sheet Հավելված N 3
C1: Հավելված N 3
C2: ՀՀ կառավարության 2024 թվականի
C3: ______________ ի ___Ն որոշման
B6: ՀԱՅԱՍՏԱՆԻ ՀԱՆՐԱՊԵՏՈՒԹՅԱՆ ԿԱՌԱՎԱՐՈՒԹՅԱՆ 2023 ԹՎԱԿԱՆԻ ԴԵԿՏԵՄԲԵՐԻ 28-Ի N 2323-Ն ՈՐՈՇՄԱՆ N 9 ՀԱՎԵԼՎԱԾԻ N 9.13 ԱՂՅՈՒՍԱԿՈՒՄ ԿԱՏԱՐՎՈՂ ԼՐԱՑՈՒՄՆԵՐԸ
A8: Աղյուսակ 9․13
C9: ՀՀ կրթության, գիտության, մշակույթի և սպորտի նախարարություն
B10: ՄԱՍ 2. ՊԵՏԱԿԱՆ ՄԱՐՄՆԻ ԳԾՈՎ ԱՐԴՅՈՒՆՔԱՅԻՆ (ԿԱՏԱՐՈՂԱԿԱՆ) ՑՈՒՑԱՆԻՇՆԵՐԸ
B13: Ծրագրի դասիչը | C13: Ծրագրի անվանումը
B14: 1236 | C14: Հանրակրթական և նախադպրոցական հաստատությունների հիմնում, կառուցում, բարելավում
B16: Ծրագրի միջոցառումները
B17: Ծրագրի դասիչը՝ | C17: 1236 | D17: Ցուցանիշների փոփոխությունը (ավելացումները նշված են դրական նշանով, իսկ նվազեցումները՝ փակագծերում)
B18: Միջոցառման դասիչը՝ | C18: 32002 | D18: Ինն ամիս | E18: Տարի
B19: Միջոցառման անվանումը` | C19: Մանկապարտեզների շենքերի վերակառուցում, հիմնանորոգում
B20: Նկարագրությունը` | C20: Նախադպրոցական կրթության հասանելիության ապահովման նպատակով՛ մանկապարտեզների շենքերի (մասնաշենքերի), վերակառուցում, հիմնանորոգում և նախագծում
B21: Միջոցառման տեսակը` | C21: Այլ պետական կազմակերպությունների կողմից օգտագործվող ոչ ֆինանսական ակտիվների հետ գործառնություններ
B22: Ակտիվն օգտագործող կազմակերպությունների անվանումները | C22: Նախադպրոցական կրթությույն իրականացնող ուսումնական հաստատություններ
B23: Արդյունքի չափորոշիչներ
B24: Մանկապարտեզների քանակ, որտեղ կատարվում են բակի բարեկարգման աշխատանքներ, հատ | E24: 15
B25: Միջոցառման վրա կատարվող ծախսը (հազար դրամ) | D25: =+'Հավելված N 1'!D13 -> 0 | E25: =+'Հավելված N 1'!E13 -> 0

Sheet Հավելված N 4
C1: Հավելված N 4
C2: ՀՀ կառավարության 2024 թվականի
C3: ______________ ի ___Ն որոշման
B6: ՀԱՅԱՍՏԱՆԻ ՀԱՆՐԱՊԵՏՈՒԹՅԱՆ ԿԱՌԱՎԱՐՈՒԹՅԱՆ 2023 ԹՎԱԿԱՆԻ ԴԵԿՏԵՄԲԵՐԻ 28-Ի N 2323-Ն ՈՐՈՇՄԱՆ N 9.1 ՀԱՎԵԼՎԱԾԻ N 9.1.7 ԱՂՅՈՒՍԱԿՈՒՄ ԿԱՏԱՐՎՈՂ ԼՐԱՑՈՒՄՆԵՐԸ
A8: Աղյուսակ 9․1.7
C9: ՀՀ տարածքային կառավարման և ենթակառուցվածքների նախարարություն
B10: ՄԱՍ 1. ՊԵՏԱԿԱՆ ՄԱՐՄՆԻ ԳԾՈՎ ԱՐԴՅՈՒՆՔԱՅԻՆ (ԿԱՏԱՐՈՂԱԿԱՆ) ՑՈՒՑԱՆԻՇՆԵՐԸ
B13: Ծրագրի դասիչը | C13: Ծրագրի անվանումը
B14: 1236 | C14: Հանրակրթական և նախադպրոցական հաստատությունների հիմնում, կառուցում, բարելավում
B16: Ծրագրի միջոցառումները
B17: Ծրագրի դասիչը՝ | C17: 1236 | D17: Ցուցանիշների փոփոխությունը (ավելացումները նշված են դրական նշանով, իսկ նվազեցումները՝ փակագծերում)
B18: Միջոցառման դասիչը՝ | C18: 32002 | D18: Ինն ամիս | E18: Տարի
B19: Միջոցառման անվանումը` | C19: Մանկապարտեզների շենքերի վերակառուցում, հիմնանորոգում
B20: Նկարագրությունը` | C20: Նախադպրոցական կրթության հասանելիության ապահովման նպատակով՛ մանկապարտեզների շենքերի (մասնաշենքերի), վերակառուցում, հիմնանորոգում և նախագծում
B21: Միջոցառման տեսակը` | C21: Այլ պետական կազմակերպությունների կողմից օգտագործվող ոչ ֆինանսական ակտիվների հետ գործառնություններ
B22: Ակտիվն օգտագործող կազմակերպությունների անվանումները | C22: Նախադպրոցական կրթությույն իրականացնող ուսումնական հաստատություններ
B23: Արդյունքի չափորոշիչներ
B24: Մանկապարտեզների քանակ, որտեղ կատարվում են բակի բարեկարգման աշխատանքներ, հատ | E24: 15
B25: Միջոցառման վրա կատարվող ծախսը (հազար դրամ) | D25: =+'Հավելված N 2'!E11 -> 0 | E25: =+'Հավելված N 2'!F11 -> 0
