Workbook
Name AgencyCode: #REF!
Name AgencyCode: #REF!
Name AgencyName: #REF!
Name AgencyName: #REF!
Name åû: #REF!
Name davit: #REF!
Name Functional1: #REF!
Name Functional1: #REF!
Name ggg: #REF!
Name mas: #REF!
Name mass: #REF!
Name PANature: #REF!
Name PANature: #REF!
Name PAType: #REF!
Name PAType: #REF!
Name Performance2: #REF!
Name Performance2: #REF!
Name PerformanceType: #REF!
Name PerformanceType: #REF!
Name x: #REF!
Name Հավելված: #REF!
Name Մաս: #REF!
Name շախմատիստ: #REF!

Sheet Հ1
D1: Հավելված N 1
D2: ՀՀ կառավարության 2024 թվականի -ի N -Ն որոշման
C3: «ՀԱՅԱՍՏԱՆԻ ՀԱՆՐԱՊԵՏՈՒԹՅԱՆ 2024 ԹՎԱԿԱՆԻ ՊԵՏԱԿԱՆ ԲՅՈՒՋԵԻ ՄԱՍԻՆ» ՕՐԵՆՔԻ 2-ՐԴ ՀՈԴՎԱԾԻ ԱՂՅՈՒՍԱԿՈՒՄ ԿԱՏԱՐՎՈՂ ԼՐԱՑՈՒՄԸ
D4: հազար դրամներով
D5: Ցուցանիշների փոփոխությունը (գումարների ավելացումը նշված է դրական նշանով)
C6: 1. Եկամուտների գծով | D6: =Հ2!D9 -> 1831.7
C7: 2. Ծախսերի գծով | D7: =+D6 -> 1831.7
C8: 3. Դեֆիցիտը (պակասուրդը) | D8: =+D7-D6 -> 0
C11: ՀԱՅԱՍՏԱՆԻ ՀԱՆՐԱՊԵՏՈՒԹՅԱՆ ՎԱՐՉԱՊԵՏԻ ԱՇԽԱՏԱԿԱԶՄԻ ՂԵԿԱՎԱՐ՝ | D11: Ա.ՀԱՐՈՒԹՅՈՒՆՅԱՆ

Sheet Հ2
E1: Հավելված N 2
E2: ՀՀ կառավարության 2024 թվականի -ի N -Ն որոշման
C3: «ՀԱՅԱՍՏԱՆԻ ՀԱՆՐԱՊԵՏՈՒԹՅԱՆ 2024 ԹՎԱԿԱՆԻ ՊԵՏԱԿԱՆ ԲՅՈՒՋԵԻ ՄԱՍԻՆ» ՕՐԵՆՔԻ 6-ՐԴ ՀՈԴՎԱԾԻ ԱՂՅՈՒՍԱԿՈՒՄ ԵՎ ՀԱՅԱՍՏԱՆԻ ՀԱՆՐԱՊԵՏՈՒԹՅԱՆ ԿԱՌԱՎԱՐՈՒԹՅԱՆ 2023 ԹՎԱԿԱՆԻ ԴԵԿՏԵՄԲԵՐԻ 28-Ի N 2323-Ն ՈՐՈՇՄԱՆ N 2 ՀԱՎԵԼՎԱԾՈՒՄ ԿԱՏԱՐՎՈՂ ԼՐԱՑՈՒՄԸ
C5: Պետական բյուջեի եկամուտները | D5: Ցուցանիշների փոփոխությունը (գումարների ավելացումը նշված է դրական նշանով)
D6: Ինն ամիս | E6: Տարի
C7: Ընդամենը | D7: =+D9 -> 1831.7 | E7: =+E9 -> 1831.7
C8: այդ թվում՝
C9: Այլ եկամուտներ | D9: =Հ4!D11 -> 1831.7 | E9: =Հ4!E11 -> 1831.7
C12: ՀԱՅԱՍՏԱՆԻ ՀԱՆՐԱՊԵՏՈՒԹՅԱՆ ՎԱՐՉԱՊԵՏԻ ԱՇԽԱՏԱԿԱԶՄԻ ՂԵԿԱՎԱՐ՝ | E12: Ա.ՀԱՐՈՒԹՅՈՒՆՅԱՆ

Sheet Հ3
E1: Հավելված N 3
C2: ՀՀ կառավարության 2024 թվականի
C3: ______________ ի ___Ն որոշման
A5: ՀԱՅԱՍՏԱՆԻ ՀԱՆՐԱՊԵՏՈՒԹՅԱՆ ԿԱՌԱՎԱՐՈՒԹՅԱՆ 2023 ԹՎԱԿԱՆԻ ԴԵԿՏԵՄԲԵՐԻ 28-Ի N 2323-Ն ՈՐՈՇՄԱՆ N 6 ՀԱՎԵԼՎԱԾՈՒՄ ԿԱՏԱՐՎՈՂ ԼՐԱՑՈՒՄԸ
B7: եկամտատեսակը | C7: Գանձման համար պատասխանատու պետական կառավարման (մարմինները) | D7: Ցուցանիշների փոփոխությունը (ավելացումները նշված են դրական նշանով)
D8: Ինն ամիս | E8: Տարի
A9: Այլ եկամուտներ, ընդամենը | D9: =D11 -> 1831.7 | E9: =E11 -> 1831.7
B10: այդ թվում`
A11: 6 | B11: Օրենքով և այլ իրավական ակտերով սահմանված պետական բյուջե մուտքագրվող այլ եկամուտներ | D11: =D12 -> 1831.7 | E11: =E12 -> 1831.7
A12: 6.7 | B12: Դատական ծախսերի փոխհատուցումից մուտքեր | C12: ՀՀ պետական կառավարման մարմիններ | D12: =Հ2!D9 -> 1831.7 | E12: =Հ1!D7 -> 1831.7
A15: ՀԱՅԱՍՏԱՆԻ ՀԱՆՐԱՊԵՏՈՒԹՅԱՆ ՎԱՐՉԱՊԵՏԻ ԱՇԽԱՏԱԿԱԶՄԻ ՂԵԿԱՎԱՐ՝ | D15: Ա.ՀԱՐՈՒԹՅՈՒՆՅԱՆ

Sheet Հ4
A1: Հավելված N 4
A2: ՀՀ կառավարության 2024 թվականի
A3: ______________ ի ___Ն որոշման
A5: «ՀԱՅԱUՏԱՆԻ ՀԱՆՐԱՊԵՏՈՒԹՅԱՆ 2024 ԹՎԱԿԱՆԻ ՊԵՏԱԿԱՆ ԲՅՈՒՋԵԻ ՄԱUԻՆ» OՐԵՆՔԻ N 1 ՀԱՎԵԼՎԱԾԻ N 2 ԱՂՅՈՒՍԱԿՈՒՄ ԿԱՏԱՐՎՈՂ ՎԵՐԱԲԱՇԽՈՒՄԸ ԵՎ ՀԱՅԱՍՏԱՆԻ ՀԱՆՐԱՊԵՏՈՒԹՅԱՆ ԿԱՌԱՎԱՐՈՒԹՅԱՆ 2023 ԹՎԱԿԱՆԻ ԴԵԿՏԵՄԲԵՐԻ 28-Ի ԹԻՎ 2323-Ն ՈՐՈՇՄԱՆ N 5 ՀԱՎԵԼՎԱԾԻ N 1 ԱՂՅՈՒՍԱԿՈՒՄ ԿԱՏԱՐՎՈՂ ՓՈՓՈԽՈՒԹՅՈՒՆԸ ԵՎ ԼՐԱՑՈՒՄԸ
E7: հազար դրամով
A8: Ծրագրային դասիչը | C8: Բյուջետային հատկացումների գլխավոր կարգադրիչների, ծրագրերի և միջոցառումների անվանումները | D8: Ցուցանիշների փոփոխությունը (ավելացումները նշված են դրական նշանով, իսկ նվազեցումները` փակագծերում)
A9: Ծրագիր | B9: Միջոցառում | D9: Ինն ամիս | E9: Տարի
A10: 1192 | C10: ԸՆԴԱՄԵՆԸ | D10: =D11 -> 1831.7 | E10: =E11 -> 1831.7
C11: ՀՀ տարածքային կառավարման և ենթակառուցվածքների նախարարություն | D11: 1831.7 | E11: =D11 -> 1831.7
A12: 1001 | C12: Ծրագրի անվանումը` | D12: =D19 -> 38466.2 | E12: =E19 -> 38466.2
C13: Տարածքային կառավարման ոլորտում քաղաքականության մշակում, ծրագրերի համակարգում և մոնիտորինգի իրականացում
C14: Ծրագրի նպատակը`
C15: Տարածքային կառավարման բնագավառում պետական արդյունավետ քաղաքականության մշակման և իրականացման ապահովում
C16: Վերջնական արդյունքի նկարագրությունը`
C17: Տարածքային կառավարման քաղաքականության իրագործմանն ուղղված ծրագրերի ազդեցության և արդյունավետության բարելավում
C18: Ծրագրի միջոցառումներ
B19: 11001 | C19: Միջոցառման անվանումը` | D19: =Հ5!G27 -> 38466.2 | E19: =Հ5!H27 -> 38466.2
C20: Տարածքային կառավարման և ենթակառուցվածքների քաղաքականության մշակում և ծառայությունների մատուցում
C21: Միջոցառման նկարագրությունը`
C22: Տարածքային կառավարման և ենթակառուցվածքների բնագավառում պետական քաղաքականության մշակման և դրա կատարման համակարգման, պետական ծրագրերի մշակման, իրականացման, մոնիտորինգի, խորհրդատվության և աջակցության ծառայություններ
C23: Միջոցառման տեսակը
C24: Ծառայությունների մատուցում
A25: 1049 | C25: Ծրագրի անվանումը` | D25: =D31 -> -36634.5 | E25: =E31 -> -36634.5
C26: Ճանապարհային ցանցի բարելավում
C27: Ծրագրի նպատակը`
C28: Ճանապարհային ցանցի բարելավում և անվտանգ երթևեկության ապահովում
C29: Վերջնական արդյունքի նկարագրությունը`
C30: Ճանապարհների ծածկի որակի և փոխադրումների արդյունավետության բարելավում, ճանապարհների վիճակով պայմանավորված պատահարների նվազում
B31: 11001 | C31: Միջոցառման անվանումը` | D31: =-D12+D11 -> -36634.5 | E31: =-E12+E11 -> -36634.5
C32: Միջպետական և հանրապետական նշանակության ավտոճանապարհների պահպանման և անվտանգ երթևեկության ծառայություններ
C33: Միջոցառման նկարագրությունը`
C34: Հողային պաստառի, երթևեկելի մասի, արհեստական կառույցների և կահավորման տարրերի նորմատիվ մակարդակում պահպանում և շահագործում
C35: Միջոցառման տեսակը
C36: Ծառայությունների մատուցում
C39: ՀԱՅԱՍՏԱՆԻ ՀԱՆՐԱՊԵՏՈՒԹՅԱՆ ՎԱՐՉԱՊԵՏԻ ԱՇԽԱՏԱԿԱԶՄԻ ՂԵԿԱՎԱՐ՝ | E39: Ա.ՀԱՐՈՒԹՅՈՒՆՅԱՆ

Sheet Հ5
A1: Հավելված N 5
A2: ՀՀ կառավարության 2024 թվականի
A3: ______________ ի ___Ն որոշման
A5: ՀԱՅԱՍՏԱՆԻ ՀԱՆՐԱՊԵՏՈՒԹՅԱՆ ԿԱՌԱՎԱՐՈՒԹՅԱՆ 2023 ԹՎԱԿԱՆԻ ԴԵԿՏԵՄԲԵՐԻ 28-Ի ԹԻՎ 2323-Ն ՈՐՈՇՄԱՆ N 3 ԵՎ N 4 ՀԱՎԵԼՎԱԾՆԵՐՈՒՄ ԿԱՏԱՐՎՈՂ ՓՈՓՈԽՈՒԹՅՈՒՆԸ ԵՎ ԼՐԱՑՈՒՄԸ
H7: հազար դրամով
A8: Գործառական դասիչը | D8: Ծրագրային դասիչը | F8: Բյուջետային հատկացումների գլխավոր կարգադրիչների, ծրագրերի, միջոցառումների և միջոցառումները կատարող պետական մարմինների անվանումները | G8: Ցուցանիշների փոփոխությունը (ավելացումները նշված են դրական նշանով, իսկ նվազեցումները` փակագծերում)
A9: Բաժին | B9: Խումբ | C9: Դաս | D9: Ծրագիր | E9: Միջոցառում | G9: Ինն ամիս | H9: Տարի
F10: ԸՆԴԱՄԵՆԸ | G10: =G11 -> 1831.7 | H10: =H11 -> 1831.7
F11: ՀՀ տարածքային կառավարման և ենթակառուցվածքների նախարարություն | G11: =G28+G12 -> 1831.7 | H11: =H28+H12 -> 1831.7
A12: 01 | F12: ԸՆԴՀԱՆՈՒՐ ԲՆՈՒՅԹԻ ՀԱՆՐԱՅԻՆ ԾԱՌԱՅՈՒԹՅՈՒՆՆԵՐ | G12: =G14 -> 38466.2 | H12: =H14 -> 38466.2
F13: այդ թվում`
B14: 01 | F14: Օրենսդիր և գործադիր մարմիններ, պետական կառավարում, ֆինանսական և հարկաբյուջետային հարաբերություններ, արտաքին հարաբերություններ | G14: =G16 -> 38466.2 | H14: =H16 -> 38466.2
F15: այդ թվում`
C16: 01 | F16: Օրենսդիր և գործադիր մարմիններ, պետական կառավարում | G16: =G18 -> 38466.2 | H16: =H18 -> 38466.2
F17: այդ թվում`
D18: 1001 | F18: Տարածքային կառավարման ոլորտում քաղաքականության մշակում, ծրագրերի համակարգում և մոնիտորինգի իրականացում | G18: =G20 -> 38466.2 | H18: =+H20 -> 38466.2
F19: այդ թվում`
E20: 11001 | F20: Տարածքային կառավարման և ենթակառուցվածքների քաղաքականության մշակում և ծառայությունների մատուցում | G20: =G22 -> 38466.2 | H20: =H22 -> 38466.2
F21: այդ թվում` ըստ կատարողների
F22: ՀՀ տարածքային կառավարման և ենթակառուցվածքների նախարարություն | G22: =G24 -> 38466.2 | H22: =H24 -> 38466.2
F23: այդ թվում` բյուջետային ծախսերի տնտեսագիտական դասակարգման հոդվածներ
F24: ԸՆԴԱՄԵՆԸ ԾԱԽՍԵՐ | G24: =G26 -> 38466.2 | H24: =H25 -> 38466.2
F25: ԸՆԹԱՑԻԿ ԾԱԽՍԵՐ | G25: =G26 -> 38466.2 | H25: =H26 -> 38466.2
F26: ԱՅԼ ԾԱԽՍԵՐ | G26: =G27 -> 38466.2 | H26: =H27 -> 38466.2
F27: Հարկեր, պարտադիր վճարներ և տույժեր, որոնք կառավարման տարբեր մակարդակների կողմից կիրառվում են միմյանց նկատմամբ | G27: =38466.2 -> 38466.2 | H27: =38466.2 -> 38466.2
A28: 04 | F28: ՏՆՏԵՍԱԿԱՆ ՀԱՐԱԲԵՐՈՒԹՅՈՒՆՆԵՐ | G28: =G30 -> -36634.5 | H28: =+H30 -> -36634.5
F29: այդ թվում`
B30: 05 | F30: Տրանսպորտ | G30: =G32 -> -36634.5 | H30: =+H32 -> -36634.5
F31: այդ թվում`
C32: 01 | F32: Ճանապարհային տրանսպորտ | G32: =G34 -> -36634.5 | H32: =H34 -> -36634.5
F33: այդ թվում`
D34: 1049 | F34: Ճանապարհային ցանցի բարելավում | G34: =G36 -> -36634.5 | H34: =H38 -> -36634.5
F35: այդ թվում`
E36: 11001 | F36: Միջպետական և հանրապետական նշանակության ավտոճանապարհների պահպանման և անվտանգ երթևեկության ծառայություններ | G36: =G38 -> -36634.5 | H36: =H38 -> -36634.5
F37: այդ թվում` ըստ կատարողների
F38: ՀՀ տարածքային կառավարման և ենթակառուցվածքների նախարարություն | G38: =G40 -> -36634.5 | H38: =+H40 -> -36634.5
F39: այդ թվում` բյուջետային ծախսերի տնտեսագիտական դասակարգման հոդվածներ
F40: ԸՆԴԱՄԵՆԸ ԾԱԽՍԵՐ | G40: =G41 -> -36634.5 | H40: =+H42 -> -36634.5
F41: ԸՆԹԱՑԻԿ ԾԱԽՍԵՐ | G41: =G42 -> -36634.5 | H41: =H42 -> -36634.5
F42: ԾԱՌԱՅՈՒԹՅՈՒՆՆԵՐԻ ԵՎ ԱՊՐԱՆՔՆԵՐԻ ՁԵՌՔԲԵՐՈՒՄ | G42: =G43 -> -36634.5 | H42: =H43 -> -36634.5
...

Sheet Հ6
F1: Հավելված 6
E2: ՀՀ կառավարության 2024 թվականի
E3: ------------ N ---------- որոշման
A5: ՀԱՅԱՍՏԱՆԻ ՀԱՆՐԱՊԵՏՈՒԹՅԱՆ ԿԱՌԱՎԱՐՈՒԹՅԱՆ 2023 ԹՎԱԿԱՆԻ ԴԵԿՏԵՄԲԵՐԻ 28-Ի ԹԻՎ 2323-Ն ՈՐՈՇՄԱՆ N 5 ՀԱՎԵԼՎԱԾԻ N 5 ԱՂՅՈՒՍԱԿՈՒՄ ԿԱՏԱՐՎՈՂ ՓՈՓՈԽՈՒԹՅՈՒՆԸ
E6: հազ.դրամ
B7: Ծրագրային դասիչը | D7: Բյուջետային ծրագրերի, միջոցառումների և աշխատանքների անվանումները | E7: Ցուցանիշների փոփոխությունը ( նվազեցումները նշված են փակագծերում)
B8: Ծրագիր | C8: Միջոցառում
B9: 1049 | D9: Ճանապարհային ցանցի բարելավում | E9: Ինն ամիս | F9: Տարի
C10: 11001 | D10: Միջպետական և հանրապետական նշանակության ավտոճանապարհների պահպանման և անվտանգ երթևեկության ծառայություններ¸ այդ թվում՝ | E10: =E11 -> -36634.5 | F10: =F11 -> -36634.5
D11: 1. Ավտոճանապարհների ձմեռային և ընթացիկ պահպանում, այդ թվում` | E11: =E12 -> -36634.5 | F11: =F12 -> -36634.5
D12: 1.1 Միջպետական և հանրապետական նշանակության ավտոճանապարհների ձմեռային և ընթացիկ պահպանում | E12: =Հ5!G44 -> -36634.5 | F12: =Հ5!H44 -> -36634.5
C16: ՀԱՅԱՍՏԱՆԻ ՀԱՆՐԱՊԵՏՈՒԹՅԱՆ
B17: ՎԱՐՉԱՊԵՏԻ ԱՇԽԱՏԱԿԱԶՄԻ ՂԵԿԱՎԱՐ՝ | D17: Ա. ՀԱՐՈՒԹՅՈՒՆՅԱՆ

Sheet Հ7
E1: Հավելված N 7
E2: ՀՀ կառավարության 2024 թվականի
E3: ______________ ի ___Ն որոշման
B5: ՀԱՅԱՍՏԱՆԻ ՀԱՆՐԱՊԵՏՈՒԹՅԱՆ ԿԱՌԱՎԱՐՈՒԹՅԱՆ 2023 ԹՎԱԿԱՆԻ ԴԵԿՏԵՄԲԵՐԻ 28-Ի N 2323-Ն ՈՐՈՇՄԱՆ NN 9 ԵՎ 9.1 ՀԱՎԵԼՎԱԾՆԵՐԻ NN 9.7 ԵՎ 9.1.7 ԱՂՅՈՒՍԱԿՆԵՐՈՒՄ ԿԱՏԱՐՎՈՂ ՓՈՓՈԽՈՒԹՅՈՒՆԸ ԵՎ ԼՐԱՑՈՒՄԸ
E6: Աղյուսակ 9.7
E7: Աղյուսակ 9.1.7
B8: ՀՀ տարածքային կառավարման և ենթակառուցվածքների նախարարություն
B9: ՄԱՍ 2. ՊԵՏԱԿԱՆ ՄԱՐՄՆԻ ԳԾՈՎ ԱՐԴՅՈՒՆՔԱՅԻՆ (ԿԱՏԱՐՈՂԱԿԱՆ) ՑՈՒՑԱՆԻՇՆԵՐԸ
B12: Ծրագրի դասիչը | C12: Ծրագրի անվանումը
B13: 1001 | C13: Տարածքային կառավարման ոլորտում քաղաքականության մշակում, ծրագրերի համակարգում և մոնիտորինգի իրականացում
B15: Ծրագրի միջոցառումները
B16: Ծրագրի դասիչը` | C16: 1001 | D16: Ցուցանիշների փոփոխությունը(ավելացումները նշված են դրական նշանով)
B17: Միջոցառման դասիչը` | C17: 11001 | D17: Ինն ամիս | E17: Տարի
B18: Միջոցառման անվանումը` | C18: Տարածքային կառավարման և ենթակառուցվածքների քաղաքականության մշակում և ծառայությունների մատուցում
B19: Նկարագրությունը` | C19: Տարածքային կառավարման և ենթակառուցվածքների բնագավառում պետական քաղաքականության մշակման և դրա կատարման համակարգման, պետական ծրագրերի մշակման, իրականացման, մոնիտորինգի, խորհրդատվության և աջակցության ծառայություններ
B20: Միջոցառման տեսակը` | C20: Ծառայությունների մատուցում
B21: Միջոցառումն իրականացնողի անվանումը | C21: ՀՀ տարածքային կառավարման և ենթակառուցվածքների նախարարություն
B22: Արդյունքի չափորոշիչներ
B23: Միջոցառման վրա կատարվող ծախսը (հազար դրամ) | D23: =Հ5!G27 -> 38466.2 | E23: =Հ5!H27 -> 38466.2
B26: Ծրագրի դասիչը | C26: Ծրագրի անվանումը
B27: 1049 | C27: Ճանապարհային ցանցի բարելավում
B29: Ծրագրի միջոցառումները
B30: Ծրագրի դասիչը` | C30: 1049 | D30: Ցուցանիշների փոփոխությունը (նվազեցումները նշված են փակագծերում)
B31: Միջոցառման դասիչը` | C31: 11001 | D31: Ինն ամիս | E31: Տարի
B32: Միջոցառման անվանումը` | C32: Միջպետական և հանրապետական նշանակության ավտոճանապարհների պահպանման և անվտանգ երթևեկության ծառայություններ
B33: Նկարագրությունը` | C33: Հողային պաստառի, երթևեկելի մասի, արհեստական կառույցների և կահավորման տարրերի նորմատիվ մակարդակում պահպանում և շահագործում
B34: Միջոցառման տեսակը` | C34: Ծառայությունների մատուցում
B35: Միջոցառումն իրականացնողի անվանումը | C35: ՀՀ տարածքային կառավարման և ենթակառուցվածքների նախարարություն, մրցութային կարգով ընտրված կազմակերպություններ
C36: Արդյունքի չափորոշիչներ
B37: Միջոցառման վրա կատարվող ծախսը (հազար դրամ) | D37: =Հ5!G44 -> -36634.5 | E37: =Հ5!H44 -> -36634.5
C41: ՀԱՅԱՍՏԱՆԻ ՀԱՆՐԱՊԵՏՈՒԹՅԱՆ ՎԱՐՉԱՊԵՏԻ ԱՇԽԱՏԱԿԱԶՄԻ ՂԵԿԱՎԱՐ՝ | E41: Ա.ՀԱՐՈՒԹՅՈՒՆՅԱՆ

Sheet Հ8
J1: Հավելված N 8
J2: ՀՀ կառավարության 2024 թվականի
J3: ______________ ի ___Ն որոշման
B5: ՀԱՅԱՍՏԱՆԻ ՀԱՆՐԱՊԵՏՈՒԹՅԱՆ ԿԱՌԱՎԱՐՈՒԹՅԱՆ 2023 ԹՎԱԿԱՆԻ ԴԵԿՏԵՄԲԵՐԻ 28-Ի N 2323-Ն ՈՐՈՇՄԱՆ N 10 ՀԱՎԵԼՎԱԾՈՒՄ ԿԱՏԱՐՎՈՂ ՓՈՓՈԽՈՒԹՅՈՒՆԸ
J6: հազար դրամով
B7: Կոդը | C7: Անվանումը | F7: Գնման ձևը | G7: Չափման միավորը | H7: Միավորի գինը | I7: Քանակը | J7: Ցուցանիշների փոփոխությունը ( նվազեցումները նշված են փակագծերում)
B8: ՀՀ տարածքային կառավարման և ենթակառուցվածքների նախարարություն | J8: =+J9 -> -36634.5
B9: Բաժին N 04 | C9: Խումբ N 05 | D9: Դաս N 01 | E9: Ճանապարհային տրանսպորտ | J9: =J10 -> -36634.5
B10: 1049 11001 | C10: Միջպետական և հանրապետական նշանակության ավտոճանապարհների պահպանման և անվտանգ երթևեկության ծառայություններ | J10: =J11 -> -36634.5
B11: ՄԱՍ II. ԱՇԽԱՏԱՆՔՆԵՐ | J11: =J12 -> -36634.5
B12: 45231176-1 | C12: ճանապարհների պահպանման աշխատանքներ | F12: ԲՄ | G12: դրամ | J12: =Հ4!E31 -> -36634.5
B16: ՀԱՅԱՍՏԱՆԻ ՀԱՆՐԱՊԵՏՈՒԹՅԱՆ ՎԱՐՉԱՊԵՏԻ ԱՇԽԱՏԱԿԱԶՄԻ ՂԵԿԱՎԱՐ՝ | D16: Ա.ՀԱՐՈՒԹՅՈՒՆՅԱՆ
