Workbook
Name _tab10: #REF!
Name _tab10: #REF!
Name _tab11: #REF!
Name _tab11: #REF!
Name _tab12: #REF!
Name _tab12: #REF!
Name _tab13: #REF!
Name _tab13: #REF!
Name _tab14: #REF!
Name _tab14: #REF!
Name _tab15: #REF!
Name _tab15: #REF!
Name _tab16: #REF!
Name _tab16: #REF!
Name _tab17: #REF!
Name _tab17: #REF!
Name _tab18: #REF!
Name _tab18: #REF!
Name _tab19: #REF!
Name _tab19: #REF!
Name _tab20: #REF!
Name _tab20: #REF!
Name _tab21: #REF!
Name _tab21: #REF!
Name _tab22: #REF!
Name _tab22: #REF!
Name _tab23: #REF!
Name _tab23: #REF!
Name _tab24: #REF!
Name _tab24: #REF!
Name _tab5: #REF!
Name _tab5: #REF!
Name _tab6: #REF!
Name _tab6: #REF!
Name _tab7: #REF!
Name _tab7: #REF!
Name _tab8: #REF!
Name _tab8: #REF!
Name _tab9: #REF!
Name _tab9: #REF!
Name AgencyCode: #REF!
Name AgencyCode: #REF!
Name AgencyName: #REF!
Name AgencyName: #REF!
Name åû: #REF!
Name åû: #REF!
Name davit: #REF!
Name davit: #REF!
Name Functional1: #REF!
Name Functional1: #REF!
Name ggg: #REF!
Name ggg: #REF!
Name hav: #REF!
Name hav: #REF!
Name havelvac: #REF!
Name havelvac: #REF!
Name mas: #REF!
Name mas: #REF!
Name mass: #REF!
Name mass: #REF!

Sheet 1
E1: Հավելված N 1
C2: ՀՀ կառավարության 2024 թվականի
C3: -----------------ի N -----------Ն որոշման
A6: ՀԱՅԱՍՏԱՆԻ ՀԱՆՐԱՊԵՏՈՒԹՅԱՆ 2024 ԹՎԱԿԱՆԻ ՊԵՏԱԿԱՆ ԲՅՈՒՋԵԻ ՄԱՍԻՆ» ՕՐԵՆՔԻ N 1 ՀԱՎԵԼՎԱԾԻ N 2 ԱՂՅՈՒՍԱԿՈՒՄ ԿԱՏԱՐՎՈՂ ՎԵՐԱԲԱՇԽՈՒՄԸ ԵՎ ՀԱՅԱՍՏԱՆԻ ՀԱՆՐԱՊԵՏՈՒԹՅԱՆ ԿԱՌԱՎԱՐՈՒԹՅԱՆ 2023 ԹՎԱԿԱՆԻ ԴԵԿՏԵՄԲԵՐԻ 28-Ի N 2323-Ն ՈՐՈՇՄԱՆ N 5 ՀԱՎԵԼՎԱԾԻ N 1 ԱՂՅՈՒՍԱԿՈՒՄ ԿԱՏԱՐՎՈՂ ՓՈՓՈԽՈՒԹՅՈՒՆԸ ԵՎ ԼՐԱՑՈՒՄԸ
E7: (հազար դրամ)
A8: Ծրագրային դասիչը | C8: Բյուջետային հատկացումների գլխավոր կարգադրիչների, ծրագրերի և միջոցառումների անվանումները | D8: Ցուցանիշների փոփոխությունները ավելացումները նշված են դրական նշանով, իսկ նվազեցումները՝ փակագծերում
A9: Ծրագիր | B9: Միջոցառում | D9: Ինն ամիս | E9: Տարի
C10: ԸՆԴԱՄԵՆԸ | D10: =D11 -> 0 | E10: =E11 -> 0
C11: ՀՀ աշխատանքի և սոցիալական հարցերի նախարարություն | D11: =D12 -> 0 | E11: =E12 -> 0
A12: 1225 | C12: Ծրագրի անվանումը` | D12: =D13 -> 0 | E12: =E13 -> 0
C13: Ճգնաժամերի հակազդման և արտակարգ իրավիճակների հետևանքների նվազեցման և վերացման նպատակով՛ առանձին սոցիալական խմբերին տրվող սոցիալական աջակցություն
C14: Ծրագրի նպատակը`
C15: Օժանդակել ճգնաժամերի հակազդման և արտակարգ իրավիճակների հետևանքով ընտանիքների առջև ծառացած սոցիալական խնդիրների բացասական հետևանքների մեղմմանը
C16: Վերջնական արդյունքի նկարագրությունը`
C17: Ճգնաժամերի հակազդման և արտակարգ իրավիճակների առաջացրած սոցիալական խնդիրների բացասական հետևանքները մեղմելու նպատակով ընտանիքներին դրամական աջակցության տրամադրում
A18: Ծրագրի միջոցառումներ
B19: 12019 | C19: Միջոցառման անվանումը` | D19: 518150 | E19: 518150
C20: Լեռնային Ղարաբաղից բռնի տեղահանվածներին առաջնային սպառողական ծախսերը հոգալու համար սոցիալական աջակցություն
C21: Միջոցառման նկարագրությունը`
C22: Լեռնային Ղարաբաղից բռնի տեղահանվածներին առաջնային սպառողական ծախսերը հոգալու համար սոցիալական աջակցություն
C23: Միջոցառման տեսակը
C24: Տրանսֆերտների տրամադրում
B25: 12018 | C25: Միջոցառման անվանումը` | D25: -518150 | E25: -518150
C26: Լեռնային Ղարաբաղից տեղահանվածներին կեցության և այլ ծախսերը հոգալու համար սոցիալական աջակցություն
C27: Միջոցառման նկարագրությունը`
C28: Լեռնային Ղարաբաղից տեղահանվածներին կեցության և այլ ծախսերը հոգալու համար սոցիալական աջակցություն
C29: Միջոցառման տեսակը
C30: Տրանսֆերտների տրամադրում

Sheet 2
H1: Հավելված N 2
F2: ՀՀ կառավարության 2024 թվականի
F3: -----------------ի N -----------Ն որոշման
A5: ՀԱՅԱՍՏԱՆԻ ՀԱՆՐԱՊԵՏՈՒԹՅԱՆ ԿԱՌԱՎԱՐՈՒԹՅԱՆ 2023 ԹՎԱԿԱՆԻ ԴԵԿՏԵՄԲԵՐԻ 28-Ի N 2323-Ն ՈՐՈՇՄԱՆ N N 3 ԵՎ 4 ՀԱՎԵԼՎԱԾՆԵՐՈՒՄ ԿԱՏԱՐՎՈՂ ՓՈՓՈԽՈՒԹՅՈՒՆԸ ԵՎ ԼՐԱՑՈՒՄԸ
H6: հազար դրամ
A7: Գործառական դասիչը | D7: Ծրագրային դասիչը | F7: Բյուջետային ծախսերի գործառական դասակարգման բաժինների, խմբերի և դասերի, բյուջետային ծրագրերի միջոցառումների, բյուջետային հատկացումների գլխավոր կարգադրիչների անվանումները | G7: Ցուցանիշների փոփոխությունները ավելացումները նշված են դրական նշանով, իսկ նվազեցումները՝ փակագծերում
A8: Բաժինը | B8: Խումբը | C8: Դասը | D8: Ծրագիր | E8: Միջոցառում | G8: Ինն ամիս | H8: Տարի
F9: ԸՆԴԱՄԵՆԸ ԾԱԽՍԵՐ | G9: =G11 -> 0 | H9: =H11 -> 0
F10: այդ թվում`
A11: 10 | F11: ՍՈՑԻԱԼԱԿԱՆ ՊԱՇՏՊԱՆՈՒԹՅՈՒՆ | G11: =G13 -> 0 | H11: =H13 -> 0
F12: այդ թվում՝
B13: 09 | F13: Սոցիալական պաշտպանություն (այլ դասերին չպատկանող) | G13: =G15 -> 0 | H13: =H15 -> 0
F14: այդ թվում՝
C15: 02 | F15: Սոցիալական պաշտպանությանը տրամադրվող օժանդակ ծառայություններ (այլ դասերին չպատկանող) | G15: =G17 -> 0 | H15: =H17 -> 0
F16: այդ թվում`
F17: ՀՀ աշխատանքի և սոցիալական հարցերի նախարարություն | G17: =G19 -> 0 | H17: =H19 -> 0
F18: այդ թվում`
D19: 1225 | F19: ='1'!C13 -> Ճգնաժամերի հակազդման և արտակարգ իրավիճակների հետևանքների նվազեցման և վերացման նպատակով՛ առանձին սոցիալական խմբերին տրվող սոցիալական աջակցություն | G19: =G21+G30 -> 0 | H19: =H21+H30 -> 0
F20: այդ թվում`
E21: ='1'!B19 -> 12019 | F21: ='1'!C20 -> Լեռնային Ղարաբաղից բռնի տեղահանվածներին առաջնային սպառողական ծախսերը հոգալու համար սոցիալական աջակցություն | G21: =G23 -> 518150 | H21: =H23 -> 518150
F22: այդ թվում` ըստ կատարողների
F23: ՀՀ աշխատանքի և սոցիալական հարցերի նախարարության միասնական սոցիալական ծառայություն | G23: =G25 -> 518150 | H23: =H25 -> 518150
F24: այդ թվում` բյուջետային ծախսերի տնտեսագիտական դասակարգման հոդվածներ
F25: ԸՆԴԱՄԵՆԸ ԾԱԽՍԵՐ | G25: =G26 -> 518150 | H25: =H26 -> 518150
F26: ԸՆԹԱՑԻԿ ԾԱԽՍԵՐ | G26: =G27 -> 518150 | H26: =H27 -> 518150
F27: ՍՈՑԻԱԼԱԿԱՆ ՆՊԱՍՏՆԵՐ ԵՎ ԿԵՆՍԱԹՈՇԱԿՆԵՐ | G27: =G28 -> 518150 | H27: =H28 -> 518150
F28: Սոցիալական օգնության դրամական արտահայտությամբ նպաստներ (բյուջեից) | G28: =G29 -> 518150 | H28: =H29 -> 518150
F29: - Այլ նպաստներ բյուջեից | G29: ='1'!D19 -> 518150 | H29: ='1'!E19 -> 518150
E30: ='1'!B25 -> 12018 | F30: ='1'!C26 -> Լեռնային Ղարաբաղից տեղահանվածներին կեցության և այլ ծախսերը հոգալու համար սոցիալական աջակցություն | G30: =G32 -> -518150 | H30: =H32 -> -518150
F31: այդ թվում` ըստ կատարողների
F32: ՀՀ աշխատանքի և սոցիալական հարցերի նախարարության միասնական սոցիալական ծառայություն | G32: =G34 -> -518150 | H32: =H34 -> -518150
F33: այդ թվում` բյուջետային ծախսերի տնտեսագիտական դասակարգման հոդվածներ
F34: ԸՆԴԱՄԵՆԸ ԾԱԽՍԵՐ | G34: =G35 -> -518150 | H34: =H35 -> -518150
F35: ԸՆԹԱՑԻԿ ԾԱԽՍԵՐ | G35: =G36 -> -518150 | H35: =H36 -> -518150
F36: ՍՈՑԻԱԼԱԿԱՆ ՆՊԱՍՏՆԵՐ ԵՎ ԿԵՆՍԱԹՈՇԱԿՆԵՐ | G36: =G37 -> -518150 | H36: =H37 -> -518150
F37: Սոցիալական օգնության դրամական արտահայտությամբ նպաստներ (բյուջեից) | G37: =G38 -> -518150 | H37: =H38 -> -518150
F38: - Այլ նպաստներ բյուջեից | G38: ='1'!D25 -> -518150 | H38: ='1'!E25 -> -518150

Sheet 3
D1: Հավելված N 3
B2: ՀՀ կառավարության 2024 թվականի
B3: -----------------ի N -----------Ն որոշման
A6: ՀԱՅԱՍՏԱՆԻ ՀԱՆՐԱՊԵՏՈՒԹՅԱՆ ԿԱՌԱՎԱՐՈՒԹՅԱՆ 2023 ԹՎԱԿԱՆԻ ԴԵԿՏԵՄԲԵՐԻ 28-Ի N 2323-Ն ՈՐՈՇՄԱՆ N 9 ՀԱՎԵԼՎԱԾԻ N 9.15 ԱՂՅՈՒՍԱԿՈՒՄ ԿԱՏԱՐՎՈՂ ՓՈՓՈԽՈՒԹՅՈՒՆԸ ԵՎ ԼՐԱՑՈՒՄԸ
A8: ՄԱՍ 2. ՊԵՏԱԿԱՆ ՄԱՐՄՆԻ ԳԾՈՎ ԱՐԴՅՈՒՆՔԱՅԻՆ (ԿԱՏԱՐՈՂԱԿԱՆ) ՑՈՒՑԱՆԻՇՆԵՐԸ
A10: Հայաստանի Հանրապետության աշխատանքի և սոցիալական հարցերի նախարարություն
A11: Ծրագրի դասիչը | B11: Ծրագրի անվանումը
A12: 1225 | B12: ='1'!C13 -> Ճգնաժամերի հակազդման և արտակարգ իրավիճակների հետևանքների նվազեցման և վերացման նպատակով՛ առանձին սոցիալական խմբերին տրվող սոցիալական աջակցություն
A13: Ծրագրի միջոցառումներ
A15: Ծրագրի դասիչը` | B15: ='1'!A12 -> 1225 | C15: Ցուցանիշների փոփոխությունները ավելացումները նշված են դրական նշանով
A16: Միջոցառման դասիչը` | B16: ='1'!B19 -> 12019 | C16: Ինն ամիս | D16: Տարի
A17: Միջոցառման անվանումը` | B17: ='1'!C20 -> Լեռնային Ղարաբաղից բռնի տեղահանվածներին առաջնային սպառողական ծախսերը հոգալու համար սոցիալական աջակցություն
A18: Նկարագրությունը` | B18: ='1'!C22 -> Լեռնային Ղարաբաղից բռնի տեղահանվածներին առաջնային սպառողական ծախսերը հոգալու համար սոցիալական աջակցություն
A19: Միջոցառման տեսակը` | B19: Տրանսֆերտների տրամադրում
A20: Շահառուների ընտրության չափանիշները | B20: ՀՀ կառավարության 2023 թ. նոյեմբերի 9-ի N 1957-Լ որոշման պահանջներին համապատասխան
A21: Արդյունքի չափորոշիչներ
A22: Շահառուների թիվը (անձ) | D22: 5931
A23: Միջոցառման վրա կատարվող ծախսը (հազար դրամ) | C23: ='1'!D19 -> 518150 | D23: ='1'!E19 -> 518150
A26: Ծրագրի դասիչը` | B26: 1225 | C26: Ցուցանիշների փոփոխությունները նվազեցումները նշված են փակագծերում
A27: Միջոցառման դասիչը` | B27: 12018 | C27: Ինն ամիս | D27: Տարի
A28: Միջոցառման անվանումը` | B28: Լեռնային Ղարաբաղից տեղահանվածներին կեցության և այլ ծախսերը հոգալու համար սոցիալական աջակցություն
A29: Նկարագրությունը` | B29: Լեռնային Ղարաբաղից տեղահանվածներին կեցության և այլ ծախսերը հոգալու համար սոցիալական աջակցություն
A30: Միջոցառման տեսակը` | B30: Տրանսֆերտների տրամադրում
A31: Շահառուների ընտրության չափանիշները | B31: ՀՀ կառավարության 2023 թվականի հոկտեմբերի 12-ի N 1763-Լ որոշմամբ
A32: Արդյունքի չափորոշիչներ
A33: Միջոցառման վրա կատարվող ծախսը (հազար դրամ) | C33: ='1'!D25 -> -518150 | D33: ='1'!E25 -> -518150

Sheet 4
D1: Հավելված N 4
B2: ՀՀ կառավարության 2024 թվականի
B3: -----------------ի N -----------Ն որոշման
A5: ՀԱՅԱՍՏԱՆԻ ՀԱՆՐԱՊԵՏՈՒԹՅԱՆ ԿԱՌԱՎԱՐՈՒԹՅԱՆ 2023 ԹՎԱԿԱՆԻ ԴԵԿՏԵՄԲԵՐԻ 28-Ի N 2323-Ն ՈՐՈՇՄԱՆ N 9.1 ՀԱՎԵԼՎԱԾԻ N 9.1.19 ԱՂՅՈՒՍԱԿՈՒՄԿԱՏԱՐՎՈՂ ՓՈՓՈԽՈՒԹՅՈՒՆԸ ԵՎ ԼՐԱՑՈՒՄԸ
A7: ՄԱՍ 1. ՊԵՏԱԿԱՆ ՄԱՐՄՆԻ ԳԾՈՎ ԱՐԴՅՈՒՆՔԱՅԻՆ (ԿԱՏԱՐՈՂԱԿԱՆ) ՑՈՒՑԱՆԻՇՆԵՐԸ
A9: ՀՀ աշխատանքի և սոցիալական հարցերի նախարարության միասնական սոցիալական ծառայություն
A12: Ծրագրի դասիչը | B12: Ծրագրի անվանումը
A13: 1225 | B13: ='1'!C13 -> Ճգնաժամերի հակազդման և արտակարգ իրավիճակների հետևանքների նվազեցման և վերացման նպատակով՛ առանձին սոցիալական խմբերին տրվող սոցիալական աջակցություն
A14: Ծրագրի միջոցառումներ
A16: Ծրագրի դասիչը` | B16: ='3'!B15 -> 1225 | C16: Ցուցանիշների փոփոխությունները ավելացումները նշված են դրական նշանով
A17: Միջոցառման դասիչը` | B17: ='3'!B16 -> 12019 | C17: Ինն ամիս | D17: Տարի
A18: Միջոցառման անվանումը` | B18: ='3'!B17 -> Լեռնային Ղարաբաղից բռնի տեղահանվածներին առաջնային սպառողական ծախսերը հոգալու համար սոցիալական աջակցություն
A19: Նկարագրությունը` | B19: ='3'!B18 -> Լեռնային Ղարաբաղից բռնի տեղահանվածներին առաջնային սպառողական ծախսերը հոգալու համար սոցիալական աջակցություն
A20: Միջոցառման տեսակը` | B20: ='3'!B19 -> Տրանսֆերտների տրամադրում
A21: Շահառուների ընտրության չափանիշները | B21: ='3'!B20 -> ՀՀ կառավարության 2023 թ. նոյեմբերի 9-ի N 1957-Լ որոշման պահանջներին համապատասխան
A22: Արդյունքի չափորոշիչներ
A23: ='3'!A22:B22 -> Շահառուների թիվը (անձ) | D23: ='3'!D22 -> 5931
A24: Միջոցառման վրա կատարվող ծախսը (հազար դրամ) | C24: ='3'!C23 -> 518150 | D24: ='3'!D23 -> 518150
A27: Ծրագրի դասիչը` | B27: 1225 | C27: Ցուցանիշների փոփոխությունները նվազեցումները նշված են փակագծերում
A28: Միջոցառման դասիչը` | B28: 12018 | C28: Ինն ամիս | D28: Տարի
A29: Միջոցառման անվանումը` | B29: Լեռնային Ղարաբաղից տեղահանվածներին կեցության և այլ ծախսերը հոգալու համար սոցիալական աջակցություն
A30: Նկարագրությունը` | B30: Լեռնային Ղարաբաղից տեղահանվածներին կեցության և այլ ծախսերը հոգալու համար սոցիալական աջակցություն
A31: Միջոցառման տեսակը` | B31: Տրանսֆերտների տրամադրում
A32: Շահառուների ընտրության չափանիշները | B32: ՀՀ կառավարության 2023 թվականի հոկտեմբերի 12-ի N 1763-Լ որոշմամբ
A33: Արդյունքի չափորոշիչներ
A34: Միջոցառման վրա կատարվող ծախսը (հազար դրամ) | C34: ='3'!C33 -> -518150 | D34: ='3'!D33 -> -518150
