Workbook
Name AgencyCode: #REF!
Name AgencyName: #REF!
Name åû: #REF!
Name davit: #REF!
Name Functional1: #REF!
Name ggg: #REF!
Name mas: #REF!
Name mass: #REF!
Name PANature: #REF!
Name PAType: #REF!
Name Performance2: #REF!
Name PerformanceType: #REF!
Name x: #REF!
Name Հավելված: #REF!
Name Մաս: #REF!
Name շախմատիստ: #REF!

Sheet Հավելված 1
E1: Հավելված N 1
E2: ՀՀ կառավարության 2024 թվականի
E3: __________-ի N____-Ն որոշման
A5: «ՀԱՅԱՍՏԱՆԻ ՀԱՆՐԱՊԵՏՈՒԹՅԱՆ 2024 ԹՎԱԿԱՆԻ ՊԵՏԱԿԱՆ ԲՅՈՒՋԵԻ ՄԱՍԻՆ» ՀԱՅԱՍՏԱՆԻ ՀԱՆՐԱՊԵՏՈՒԹՅԱՆ ՕՐԵՆՔԻ N 1 ՀԱՎԵԼՎԱԾԻ N 2 ԱՂՅՈՒՍԱԿՈՒՄ ԿԱՏԱՐՎՈՂ ՎԵՐԱԲԱՇԽՈՒՄԸ, ՀԱՅԱՍՏԱՆԻ ՀԱՆՐԱՊԵՏՈՒԹՅԱՆ ԿԱՌԱՎԱՐՈՒԹՅԱՆ 2023 ԹՎԱԿԱՆԻ ԴԵԿՏԵՄԲԵՐԻ 28-Ի N 2323-Ն ՈՐՈՇՄԱՆ N 5 ՀԱՎԵԼՎԱԾԻ N 1 ԱՂՅՈՒՍԱԿՈՒՄ ԿԱՏԱՐՎՈՂ ՓՈՓՈԽՈՒԹՅՈՒՆՆԵՐԸ ԵՎ ԼՐԱՑՈՒՄՆԵՐԸ
D10: (հազ. դրամ)
A11: Ծրագրային դասիչը | C11: Բյուջետային հատկացումների գլխավոր կարգադրիչների, ծրագրերի և միջոցառումների անվանումները | D11: Ցուցանիշների փոփոխությունը (ավելացումները նշված են դրական նշանով, իսկ նվազեցումները՝ փակագծերում)
A12: Ծրագիր | B12: Միջոցառում | D12: Ինն ամիս | E12: Տարի
C13: ԸՆԴԱՄԵՆԸ | D13: =D15+D30 -> 0 | E13: =E15+E30 -> 0
C14: ՀՀ տարածքային կառավարման և ենթակառուցվածքների նախարարություն | D14: 290000 | E14: 290000
A15: 1079 | C15: Ծրագրի անվանումը` | D15: 290000 | E15: 290000
C16: Պետական գույքի կառավարում
C17: Ծրագրի նպատակը`
C18: Պետական գույքի համալիր և արդյունավետ կառավարման ապահովում
C19: Վերջնական արդյունքի նկարագրությունը`
C20: Պետական գույքի կառավարման արդյունավետության բարձրացում
C21: Ծրագրի միջոցառումներ
B22: 11017 | C22: Միջոցառման անվանումը` | D22: 290000 | E22: 290000
C23: Ավիացիոն ծառայությունների մատուցում
C24: Միջոցառման նկարագրությունը`
C25: Ավիացիոն և այլ սարքավորումների նորոգում և պահպանում
C26: Միջոցառման տեսակը
C27: Ծառայությունների մատուցում
C28: ՀՀ բարձր տեխնոլոգիական արդյունաբերության նախարարություն | D28: -290000 | E28: -290000
A29: 1220 | C29: Ծրագրի անվանումը`
C30: Ռազմարդյունաբերության համալիրի զարգացում | D30: =D36 -> -290000 | E30: =E36 -> -290000
C31: Ծրագրի նպատակը`
C32: Նոր արտադրությունների հիմնում, ներկրման և արտադրության մեխանիզմի ստեղծում
C33: Վերջնական արդյունքի նկարագրությունը`
C34: Ռազմարդյունաբերության համալիրի զարգացում
C35: Ծրագրի միջոցառումներ
B36: 11003 | C36: Միջոցառման անվանումը` | D36: -290000 | E36: -290000
C37: Փորձանմուշների արտադրություն
C38: Միջոցառման նկարագրությունը`
C39: Զորային և պետական փորձարկումների համար նախատեսված ռազմարդյունաբերական փորձանմուշների համար անհրաժեշտ հումքի, նյութերի, բաղկացուցիչների արտադրության կազմակերպում
C40: Միջոցառման տեսակը
C41: Ծառայությունների մատուցում

Sheet Հավելված 2
F1: Հավելված N 2
D2: ՀՀ կառավարության 2024 թվականի
D3: ___________ ___-ի N _______ -Ն որոշման
A6: ՀԱՅԱՍՏԱՆԻ ՀԱՆՐԱՊԵՏՈՒԹՅԱՆ ԿԱՌԱՎԱՐՈՒԹՅԱՆ 2023 ԹՎԱԿԱՆԻ ԴԵԿՏԵՄԲԵՐԻ 28-Ի N 2323-Ն ՈՐՈՇՄԱՆ NN 3 ԵՎ 4 ՀԱՎԵԼՎԱԾՆԵՐՈՒՄ ԿԱՏԱՐՎՈՂ ՓՈՓՈԽՈՒԹՅՈՒՆՆԵՐԸ ԵՎ ԼՐԱՑՈՒՄՆԵՐԸ
G8: (հազ. դրամ)
A9: Գործառական դասիչը | D9: Ծրագրային դասիչը | F9: Բյուջետային ծախսերի գործառական դասակարգման բաժինների, խմբերի և դասերի, բյուջետային ծրագրերի միջոցառումների, բյուջետային հատկացումների գլխավոր կարգադրիչների անվանումները | G9: Ցուցանիշների փոփոխությունը (ավելացումները նշված են դրական նշանով, իսկ նվազեցումները՝ փակագծերում)
A10: Բաժին | B10: Խումբ | C10: Դաս | D10: Ծրագիր | E10: Միջոցա ռում | G10: Ինն ամիս | H10: Տարի
F11: ԸՆԴԱՄԵՆԸ ԾԱԽՍԵՐ այդ թվում` | G11: =G20+G37 -> 0 | H11: =H20+H37 -> 0
A12: 01 | F12: ԸՆԴՀԱՆՈՒՐ ԲՆՈՒՅԹԻ ՀԱՆՐԱՅԻՆ ԾԱՌԱՅՈՒԹՅՈՒՆՆԵՐ | G12: =G14 -> 290000 | H12: =H14 -> 290000
F13: այդ թվում`
B14: 03 | F14: Ընդհանուր բնույթի ծառայություններ | G14: =G16 -> 290000 | H14: =H16 -> 290000
F15: այդ թվում`
C16: 03 | F16: Ընդհանուր բնույթի այլ ծառայություններ | G16: =G22 -> 290000 | H16: =H22 -> 290000
F17: այդ թվում`
F18: ՀՀ տարածքային կառավարման և ենթակառուցվածքների նախարարություն | G18: =G22 -> 290000 | H18: =H22 -> 290000
F19: այդ թվում`
D20: 1079 | F20: Պետական գույքի կառավարում | G20: =G22 -> 290000 | H20: =H22 -> 290000
F21: այդ թվում`
E22: 11017 | F22: ='Հավելված 1'!C23 -> Ավիացիոն ծառայությունների մատուցում | G22: =G28 -> 290000 | H22: =H28 -> 290000
F23: այդ թվում` ըստ կատարողների
F24: ՀՀ տարածքային կառավարման և ենթակառուցվածքների նախարարության պետական գույքի կառավարման կոմիտե | G24: =G28 -> 290000 | H24: =H28 -> 290000
F25: այդ թվում` բյուջետային ծախսերի տնտեսագիտական դասակարգման հոդվածներ
F26: ԸՆԴԱՄԵՆԸ ԾԱԽՍԵՐ | G26: =G27 -> 290000 | H26: =H27 -> 290000
F27: ԸՆԹԱՑԻԿ ԾԱԽՍԵՐ | G27: =G28 -> 290000 | H27: =H28 -> 290000
F28: ԾԱՌԱՅՈՒԹՅՈՒՆՆԵՐԻ ԵՎ ԱՊՐԱՆՔՆԵՐԻ ՁԵՌՔԲԵՐՈՒՄ | G28: 290000 | H28: 290000
F29: Ընթացիկ նորոգում և պահպանում (ծառայություններ և նյութեր) | G29: =G30 -> 290000 | H29: =H30 -> 290000
F30: - Մեքենաների և սարքավորումների ընթացիկ նորոգում և պահպանում | G30: 290000 | H30: 290000
A31: 02 | F31: ՊԱՇՏՊԱՆՈՒԹՅՈՒՆ | G31: =G33 -> -290000 | H31: =H33 -> -290000
F32: այդ թվում`
B33: 04 | F33: Հետազոտական և նախագծային աշխատանքներ պաշտպանության ոլորտում | G33: =G35 -> -290000 | H33: =H35 -> -290000
F34: այդ թվում`
C35: 01 | F35: Հետազոտական և նախագծային աշխատանքներ պաշտպանության ոլորտում | G35: =G39 -> -290000 | H35: =H39 -> -290000
F36: այդ թվում`
D37: 1220 | F37: Ռազմարդյունաբերության համալիրի զարգացում | G37: -290000 | H37: -290000
F38: այդ թվում`
E39: 11003 | F39: Փորձանմուշների արտադրություն | G39: =G41 -> -290000 | H39: =H41 -> -290000
F40: այդ թվում` ըստ կատարողների
F41: ՀՀ բարձր տեխնոլոգիական արդյունաբերության նախարարություն | G41: =G43 -> -290000 | H41: =H43 -> -290000
F42: այդ թվում` բյուջետային ծախսերի տնտեսագիտական դասակարգման հոդվածներ
F43: ԸՆԴԱՄԵՆԸ ԾԱԽՍԵՐ | G43: =G44 -> -290000 | H43: =H44 -> -290000
F44: ԸՆԹԱՑԻԿ ԾԱԽՍԵՐ | G44: =G45 -> -290000 | H44: =H45 -> -290000
F45: ԱՅԼ ԾԱԽՍԵՐ | G45: -290000 | H45: -290000
F46: Այլ ծախսեր | G46: =-290000 -> -290000 | H46: =-290000 -> -290000

Sheet Հավելված 3
D1: Հավելված N 3
B2: ՀՀ կառավարության 2024 թվականի
B3: ___________ ___-ի N _______ -Ն որոշման
A8: ՀԱՅԱՍՏԱՆԻ ՀԱՆՐԱՊԵՏՈՒԹՅԱՆ ԿԱՌԱՎԱՐՈՒԹՅԱՆ 2023 ԹՎԱԿԱՆԻ ԴԵԿՏԵՄԲԵՐԻ 28-Ի N 2323-Ն ՈՐՈՇՄԱՆ N 9 ՀԱՎԵԼՎԱԾԻ N 9.7 և 9.16 ԱՂՅՈՒՍԱԿՆԵՐՈՒՄ ԿԱՏԱՐՎՈՂ ՓՈՓՈԽՈՒԹՅՈՒՆՆԵՐԸ ԵՎ ԼՐԱՑՈՒՄՆԵՐԸ
A10: ՀՀ տարածքային կառավարման և ենթակառուցվածքների նախարարություն
A11: ՄԱՍ 2. ՊԵՏԱԿԱՆ ՄԱՐՄՆԻ ԳԾՈՎ ԱՐԴՅՈՒՆՔԱՅԻՆ (ԿԱՏԱՐՈՂԱԿԱՆ) ՑՈՒՑԱՆԻՇՆԵՐԸ
A14: Ծրագրի դասիչը | B14: Ծրագրի անվանումը
A15: 1079 | B15: Պետական գույքի կառավարում
A17: Ծրագրի միջոցառումները
A18: Ծրագրի դասիչը՝ | B18: 1079 | C18: Ցուցանիշների փոփոխությունը (ավելացումները նշված են դրական նշանով)
A19: Միջոցառման դասիչը՝ | B19: 11017 | C19: Ինն ամիս | D19: Տարի
A20: Միջոցառման անվանումը՝ | B20: ='Հավելված 1'!C23 -> Ավիացիոն ծառայությունների մատուցում
A21: Նկարագրությունը՝ | B21: Ավիացիոն և այլ սարքավորումների նորոգում և պահպանում
A22: Միջոցառման տեսակը՝ | B22: Ծառայությունների մատուցում
A23: Միջոցառումը իրականացնողի անվանումը՝ | B23: ՀՀ տարածքային կառավարման և ենթակառուցվածքների նախարարության պետական գույքի կառավարման կոմիտե
B24: Արդյունքի չափորոշիչներ
A26: Միջոցառման վրա կատարվող ծախսը (հազար դրամ) | C26: 290000 | D26: 290000
A29: ՀՀ բարձր տեխնոլոգիական արդյունաբերության նախարարություն
A30: ՄԱՍ 2. ՊԵՏԱԿԱՆ ՄԱՐՄՆԻ ԳԾՈՎ ԱՐԴՅՈՒՆՔԱՅԻՆ (ԿԱՏԱՐՈՂԱԿԱՆ) ՑՈՒՑԱՆԻՇՆԵՐԸ
A33: Ծրագրի դասիչը | B33: Ծրագրի անվանումը
A34: 1220 | B34: Ռազմարդյունաբերության համալիրի զարգացում
A36: Ծրագրի միջոցառումները
A37: Ծրագրի դասիչը՝ | B37: 1220 | C37: Ցուցանիշների փոփոխությունը (նվազեցումները նշված են փակագծերում)
A38: Միջոցառման դասիչը՝ | B38: 11003 | C38: Ինն ամիս | D38: Տարի
A39: Միջոցառման անվանումը՝ | B39: Փորձանմուշների արտադրություն
A40: Նկարագրությունը՝ | B40: Զորային և պետական փորձարկումների համար նախատեսված ռազմարդյունաբերական փորձանմուշների համար անհրաժեշտ հումքի, նյութերի, բաղկացուցիչների արտադրության կազմակերպում
A41: Միջոցառման տեսակը՝ | B41: Ծառայությունների մատուցում
A42: Միջոցառումը իրականացնողի անվանումը՝ | B42: Մասնագիտացված կազմակերպություն
B43: Արդյունքի չափորոշիչներ
A44: Նախագծերի շրջանակում իրականացվող փորձանմուշների արտադրություն, քանակը, հատ | D44: -2
A45: Միջոցառման վրա կատարվող ծախսը (հազար դրամ) | C45: -290000 | D45: -290000

Sheet Հավելված 4
D1: Հավելված N 4
B2: ՀՀ կառավարության 2024 թվականի
B3: ___________ ___-ի N _______ -Ն որոշման
A8: ՀԱՅԱՍՏԱՆԻ ՀԱՆՐԱՊԵՏՈՒԹՅԱՆ ԿԱՌԱՎԱՐՈՒԹՅԱՆ 2023 ԹՎԱԿԱՆԻ ԴԵԿՏԵՄԲԵՐԻ 28-Ի N 2323-Ն ՈՐՈՇՄԱՆ N 9.1 ՀԱՎԵԼՎԱԾԻ NN 9.1.32 ԵՎ 9.1.16 ԱՂՅՈՒՍԱԿՆԵՐՈՒՄ ԿԱՏԱՐՎՈՂ ՓՈՓՈԽՈՒԹՅՈՒՆՆԵՐԸ ԵՎ ԼՐԱՑՈՒՄՆԵՐԸ
A10: ՀՀ տարածքային կառավարման և ենթակառուցվածքների նախարարության պետական գույքի կառավարման կոմիտե
A12: ՄԱՍ 1. ՊԵՏԱԿԱՆ ՄԱՐՄՆԻ ԳԾՈՎ ԱՐԴՅՈՒՆՔԱՅԻՆ (ԿԱՏԱՐՈՂԱԿԱՆ) ՑՈՒՑԱՆԻՇՆԵՐԸ
A15: Ծրագրի դասիչը | B15: Ծրագրի անվանումը
A16: 1079 | B16: Պետական գույքի կառավարում
A18: Ծրագրի միջոցառումները
A20: Ծրագրի դասիչը՝ | B20: 1079 | C20: Ցուցանիշների փոփոխությունը (ավելացումները նշված են դրական նշանով)
A21: Միջոցառման դասիչը՝ | B21: 11017 | C21: Ինն ամիս | D21: Տարի
A22: Միջոցառման անվանումը՝ | B22: ='Հավելված 3'!B20 -> Ավիացիոն ծառայությունների մատուցում
A23: Նկարագրությունը՝ | B23: ='Հավելված 3'!B21 -> Ավիացիոն և այլ սարքավորումների նորոգում և պահպանում
A24: Միջոցառման տեսակը՝ | B24: ='Հավելված 3'!B22 -> Ծառայությունների մատուցում
A25: Միջոցառումը իրականացնողի անվանումը՝ | B25: ='Հավելված 3'!B23 -> ՀՀ տարածքային կառավարման և ենթակառուցվածքների նախարարության պետական գույքի կառավարման կոմիտե
B26: Արդյունքի չափորոշիչներ
A27: Միջոցառման վրա կատարվող ծախսը (հազար դրամ) | C27: 290000 | D27: 290000
A30: ՀՀ բարձր տեխնոլոգիական արդյունաբերության նախարարություն
A31: ՄԱՍ 1. ՊԵՏԱԿԱՆ ՄԱՐՄՆԻ ԳԾՈՎ ԱՐԴՅՈՒՆՔԱՅԻՆ (ԿԱՏԱՐՈՂԱԿԱՆ) ՑՈՒՑԱՆԻՇՆԵՐԸ
A34: Ծրագրի դասիչը | B34: Ծրագրի անվանումը
A35: 1220 | B35: Ռազմարդյունաբերության համալիրի զարգացում
A37: Ծրագրի միջոցառումները
A39: Ծրագրի դասիչը` | B39: 1220 | C39: Ցուցանիշների փոփոխությունը (նվազեցումները նշված են փակագծերում)
A40: Միջոցառման դասիչը` | B40: 11003 | C40: Ինն ամիս | D40: Տարի
A41: Միջոցառման անվանումը` | B41: Փորձանմուշների արտադրություն
A42: Նկարագրությունը` | B42: Զորային և պետական փորձարկումների համար նախատեսված ռազմարդյունաբերական փորձանմուշների համար անհրաժեշտ հումքի, նյութերի, բաղկացուցիչների արտադրության կազմակերպում
A43: Միջոցառման տեսակը` | B43: Ծառայությունների մատուցում
A44: Միջոցառումն իրականացնողի անվանումը՝ | B44: Մասնագիտացված կազմակերպություն
A45: Արդյունքի չափորոշիչներ
A46: Նախագծերի շրջանակում իրականացվող փորձանմուշների արտադրություն, քանակը, հատ | D46: -2
A47: Միջոցառման վրա կատարվող ծախսը (հազար դրամ) | C47: -290000 | D47: -290000

Sheet 10
