Workbook
Name a: #REF!
Name a: #REF!
Name a: #REF!
Name AgencyCode: #REF!
Name AgencyCode: #REF!
Name AgencyCode: #REF!
Name AgencyCode: #REF!
Name AgencyCode: #REF!
Name AgencyCode: #REF!
Name AgencyName: #REF!
Name AgencyName: #REF!
Name AgencyName: #REF!
Name davit: #REF!
Name davit: #REF!
Name Functional1: #REF!
Name Functional1: #REF!
Name Functional1: #REF!
Name ggg: #REF!
Name ggg: #REF!
Name PANature: #REF!
Name PANature: #REF!
Name PANature: #REF!
Name PAType: #REF!
Name PAType: #REF!
Name PAType: #REF!
Name Performance2: #REF!
Name Performance2: #REF!
Name Performance2: #REF!
Name PerformanceType: #REF!
Name PerformanceType: #REF!
Name PerformanceType: #REF!
Name Հավելված: #REF!
Name Հավելված: #REF!
Name Մաս: #REF!
Name Մաս: #REF!
Name շախմատիստ: #REF!
Name շախմատիստ: #REF!

Sheet Հավելված N 1
C1: Հավելված N 1
C2: ՀՀ կառավարության 2024 թվականի
C3: ______________ ի ___Ն որոշման
A6: «ՀԱՅԱUՏԱՆԻ ՀԱՆՐԱՊԵՏՈՒԹՅԱՆ 2024 ԹՎԱԿԱՆԻ ՊԵՏԱԿԱՆ ԲՅՈՒՋԵԻ ՄԱUԻՆ» ՀԱՅԱUՏԱՆԻ ՀԱՆՐԱՊԵՏՈՒԹՅԱՆ OՐԵՆՔԻ N 1 ՀԱՎԵԼՎԱԾԻ N 2 ԱՂՅՈՒՍԱԿՈՒՄ ԿԱՏԱՐՎՈՂ ՎԵՐԱԲԱՇԽՈՒՄԸ ԵՎ ՀԱՅԱՍՏԱՆԻ ՀԱՆՐԱՊԵՏՈՒԹՅԱՆ ԿԱՌԱՎԱՐՈՒԹՅԱՆ 2023 ԹՎԱԿԱՆԻ ԴԵԿՏԵՄԲԵՐԻ 28-Ի N 2323-Ն ՈՐՈՇՄԱՆ N 5 ՀԱՎԵԼՎԱԾԻ N 1 ԱՂՅՈՒՍԱԿՈՒՄ ԿԱՏԱՐՎՈՂ ՓՈՓՈԽՈՒԹՅՈՒՆՆԵՐԸ ԵՎ ԼՐԱՑՈՒՄՆԵՐԸ
E9: հազ. դրամներով
A10: Ծրագրային դասիչը | C10: Բյուջետային հատկացումների գլխավոր կարգադրիչների, ծրագրերի և միջոցառումների անվանումները | D10: Ցուցանիշների փոփոխությունը (ավելացումները նշված են դրական նշանով, իսկ նվազեցումները՝ փակագծերում)
A11: Ծրագիր | B11: Միջոցառում | D11: Ինն ամիս | E11: Տարի
A12: 1192 | C12: ԸՆԴԱՄԵՆԸ | D12: =+D14 -> 1.8189894e-12 | E12: =+E14 -> 1.8189894e-12
C13: այդ թվում
C14: ՀՀ ԿՐԹՈՒԹՅԱՆ, ԳԻՏՈՒԹՅԱՆ, ՄՇԱԿՈՒՅԹԻ ԵՎ ՍՊՈՐՏԻ ՆԱԽԱՐԱՐՈՒԹՅՈՒՆ | D14: =+D16+D35 -> 1.8189894e-12 | E14: =+E16+E35 -> 1.8189894e-12
A15: 1183 | C15: Ծրագրի անվանումը`
C16: Ապահով դպրոց | D16: =+D23+D29 -> -1878.1 | E16: =+E23+E29 -> -1878.1
C17: Ծրագրի նպատակը`
C18: Դպրոցներին սպառնացող աղետների ռիսկի կառավարման կարողությունների հզորացում, դպրոցի անձնակազմի և աշակերտների անվտանգության ապահովման մակարդակի բարձրացում՛ կիրառելով ներառական և երեխայակենտրոն մոտեցում
C19: Վերջնական արդյունքի նկարագրությունը`
C20: Դպրոցական միջավայրի բարելավում
C21: Ծրագրի միջոցառումներ
B22: 32007 | C22: Միջոցառման անվանումը`
C23: Հանրակրթական կրթություն իրականացնող ուսումնական հաստատությունների նոր մարզադահլիճների կառուցում | D23: =+'Հավելված N 2'!G73 -> -2074 | E23: =+'Հավելված N 2'!H73 -> -2074
C24: Միջոցառման նկարագրությունը`
C25: Հանրակրթական ուսուցում իրականացնող ուսումնական հաստատությունների նոր մարզադահլիճների կառուցման նախագծանախահաշվային փաստաթղթերի մշակում
C26: Միջոցառման տեսակը
C27: Այլ պետական կազմակերպությունների կողմից օգտագործվող ոչ ֆինանսական ակտիվների հետ գործառնություններ
B28: 32009 | C28: Միջոցառման անվանումը`
C29: Հանրակրթական կրթություն իրականացնող ուսումնական հաստատությունների մարզադահլիճների վերակառուցում | D29: =+'Հավելված N 2'!G82 -> 195.9 | E29: =+'Հավելված N 2'!H82 -> 195.9
C30: Միջոցառման նկարագրությունը`
C31: Հանրակրթական ուսուցում իրականացնող ուսումնական հաստատությունների մարզադահլիճների վերակառուցման նախագծանախահաշվային փաստաթղթերի մշակում
C32: Միջոցառման տեսակը
C33: Այլ պետական կազմակերպությունների կողմից օգտագործվող ոչ ֆինանսական ակտիվների հետ գործառնություններ
A34: 1236 | C34: Ծրագրի անվանումը`
C35: Հանրակրթական և նախադպրոցական հաստատությունների հիմնում, կառուցում, բարելավում | D35: =+D42+D48+D54 -> 1878.1 | E35: =+E42+E48+E54 -> 1878.1
C36: Ծրագրի նպատակը`
C37: Առնվազն 300 դպրոցի և 500 մանկապարտեզի կառուցման, վերակառուցման, հիմնանորոգման ծրագրերի իրականացում ՀՀ պետական բյուջեի միջոցների շրջանակներում
C38: Վերջնական արդյունքի նկարագրությունը`
C39: Կրթական միջավայրի բարելավում
C40: Ծրագրի միջոցառումներ
B41: 32001 | C41: Միջոցառման անվանումը`
C42: Մանկապարտեզների նոր շենքերի կառուցում | D42: =+'Հավելված N 2'!G26 -> 619.2 | E42: =+'Հավելված N 2'!H26 -> 619.2
C43: Միջոցառման նկարագրությունը`
C44: Նախադպրոցական կրթության հասանելիության ապահովման նպատակով՛ մանկապարտեզների հիմնում, նոր շենքերի (մասնաշենքերի), ներառյալ՛ ,Մոդուլայինե տիպի շենքերի կառուցում և նախագծում
...

Sheet Հավելված N 2
F1: Հավելված N 2
F2: ՀՀ կառավարության 2024 թվականի
F3: ______________ ի ___Ն որոշման
A7: ՀԱՅԱՍՏԱՆԻ ՀԱՆՐԱՊԵՏՈՒԹՅԱՆ ԿԱՌԱՎԱՐՈՒԹՅԱՆ 2023 ԹՎԱԿԱՆԻ ԴԵԿՏԵՄԲԵՐԻ 28-Ի N 2323-Ն ՈՐՈՇՄԱՆ N 3 ԵՎ N 4 ՀԱՎԵԼՎԱԾՆԵՐՈՒՄ ԿԱՏԱՐՎՈՂ ՓՈՓՈԽՈՒԹՅՈՒՆՆԵՐԸ ԵՎ ԼՐԱՑՈՒՄՆԵՐԸ
H10: հազ. դրամներով
A11: Գործառական դասիչը | D11: Ծրագրային դասիչը | F11: Բյուջետային հատկացումների գլխավոր կարգադրիչների, ծրագրերի, միջոցառումների և միջոցառումները կատարող պետական մարմինների անվանումները | G11: Ցուցանիշների փոփոխությունը (ավելացումները նշված են դրական նշանով, իսկ նվազեցումները՝ փակագծերում)
A12: Բաժին | B12: Խումբ | C12: Դաս | D12: Ծրագիր | E12: Միջոցառում | G12: Ինն ամիս | H12: Տարի
F13: ԸՆԴԱՄԵՆԸ | G13: =+G15 -> 0 | H13: =+H15 -> 0
F14: այդ թվում՝
F15: ՀՀ ԿՐԹՈՒԹՅԱՆ, ԳԻՏՈՒԹՅԱՆ, ՄՇԱԿՈՒՅԹԻ ԵՎ ՍՊՈՐՏԻ ՆԱԽԱՐԱՐՈՒԹՅՈՒՆ | G15: =+G16 -> 0 | H15: =+H16 -> 0
A16: 09 | F16: ԿՐԹՈՒԹՅՈՒՆ | G16: =+G18+G35+G65 -> 0 | H16: =+H18+H35+H65 -> 0
F17: այդ թվում`
B18: 01 | F18: Նախադպրոցական և տարրական ընդհանուր կրթություն | G18: =+G20 -> 619.2 | H18: =+H20 -> 619.2
F19: այդ թվում`
C20: 01 | F20: Նախադպրոցական կրթություն | G20: =+G22 -> 619.2 | H20: =+H22 -> 619.2
F21: այդ թվում`
F22: ՀՀ կրթության, գիտության, մշակույթի և սպորտի նախարարություն | G22: =+G24 -> 619.2 | H22: =+H24 -> 619.2
F23: այդ թվում`
D24: 1236 | E24: Հանրակրթական և նախադպրոցական հաստատությունների հիմնում, կառուցում, բարելավում | G24: =+G26 -> 619.2 | H24: =+H26 -> 619.2
F25: այդ թվում`
E26: 32001 | F26: Մանկապարտեզների նոր շենքերի կառուցում | G26: =+G28 -> 619.2 | H26: =+H28 -> 619.2
F27: այդ թվում` ըստ կատարողների
F28: ՀՀ քաղաքաշինության կոմիտե | G28: =+G30 -> 619.2 | H28: =+H30 -> 619.2
F29: այդ թվում՝ բյուջետային ծախսերի տնտեսագիտական դասակարգման հոդվածներ
F30: ԸՆԴԱՄԵՆԸ ԾԱԽՍԵՐ | G30: =G31 -> 619.2 | H30: =H31 -> 619.2
F31: ԸՆԹԱՑԻԿ ԾԱԽՍԵՐ | G31: =+G32 -> 619.2 | H31: =+H32 -> 619.2
F32: ԾԱՌԱՅՈՒԹՅՈՒՆՆԵՐԻ ԵՎ ԱՊՐԱՆՔՆԵՐԻ ՁԵՌՔ ԲԵՐՈՒՄ | G32: =+G33 -> 619.2 | H32: =+H33 -> 619.2
F33: ԱՅԼ ՄԱՍՆԱԳԻՏԱԿԱՆ ԾԱՌԱՅՈՒԹՅՈՒՆՆԵՐԻ ՁԵՌՔ ԲԵՐՈՒՄ | G33: =+G34 -> 619.2 | H33: =+H34 -> 619.2
F34: - Մասնագիտական ծառայություններ | G34: =+H34 -> 619.2 | H34: =+'Հավելված N 7'!I15 -> 619.2
B35: 02 | F35: Միջնակարգ ընդհանուր կրթություն | G35: =+G37 -> 1258.9 | H35: =+H37 -> 1258.9
F36: այդ թվում`
C37: 01 | F37: Հիմնական ընդհանուր կրթություն | G37: =+G39 -> 1258.9 | H37: =+H39 -> 1258.9
F38: այդ թվում`
F39: ՀՀ կրթության, գիտության, մշակույթի և սպորտի նախարարություն | G39: =+G41 -> 1258.9 | H39: =+H41 -> 1258.9
F40: այդ թվում`
D41: 1236 | E41: Հանրակրթական և նախադպրոցական հաստատությունների հիմնում, կառուցում, բարելավում | G41: =+G43+G56 -> 1258.9 | H41: =+H43+H56 -> 1258.9
F42: այդ թվում`
E43: 32003 | F43: Հանրակրթական դպրոցների նոր շենքերի կառուցում | G43: =+G45 -> 19885.5 | H43: =+H45 -> 19885.5
F44: այդ թվում` ըստ կատարողների
F45: ՀՀ քաղաքաշինության կոմիտե | G45: =+G47 -> 19885.5 | H45: =+H47 -> 19885.5
...

Sheet Հավելված N 3
F1: Հավելված N 3
F2: ՀՀ կառավարության 2024 թվականի
F3: ______________ ի ___Ն որոշման
A5: «ՀԱՅԱUՏԱՆԻ ՀԱՆՐԱՊԵՏՈՒԹՅԱՆ 2024 ԹՎԱԿԱՆԻ ՊԵՏԱԿԱՆ ԲՅՈՒՋԵԻ ՄԱUԻՆ» ՀԱՅԱUՏԱՆԻ ՀԱՆՐԱՊԵՏՈՒԹՅԱՆ OՐԵՆՔԻ N 1 ՀԱՎԵԼՎԱԾԻ N 3 ԱՂՅՈՒՍԱԿՈՒՄ ԿԱՏԱՐՎՈՂ ՓՈՓՈԽՈՒԹՅՈՒՆՆԵՐԸ ԵՎ ԼՐԱՑՈՒՄՆԵՐԸ
G8: հազ. դրամներով
A9: Ծրագրային դասիչ | C9: Բյուջետային գլխավոր կարգադրիչների, ծրագրերի, միջոցառումների, միջոցառումները կատարող պետական մարմինների և ուղղությունների անվանումները | D9: Ընդամենը | E9: Ցուցանիշների փոփոխությունը (ավելացումները նշված են դրական նշանով, իսկ նվազեցումները՝ փակագծերում)
A10: Ծրագիր | B10: Միջոցառում | E10: Կառուցման աշխատանքներ | F10: Վերակառուցման, վերանորոգման և վերականգնման աշխատանքներ | G10: Նախագծահե- տազոտական, գեոդեզիա- քարտեզագրա- կան աշխա- տանքներ | H10: Ոչ ֆինանսական այլ ակտիվների ձեռքբերում
C11: ԸՆԴԱՄԵՆԸ | D11: =SUM(E11:H11) -> -1966.5 | E11: =+E13 -> 16660.1 | F11: =+F13 -> 0 | G11: =+G13 -> 0 | H11: =+H13 -> -18626.6
C12: այդ թվում՝
C13: ՀՀ ԿՐԹՈՒԹՅԱՆ, ԳԻՏՈՒԹՅԱՆ, ՄՇԱԿՈՒՅԹԻ ԵՎ ՍՊՈՐՏԻ ՆԱԽԱՐԱՐՈՒԹՅՈՒՆ | D13: =SUM(E13:H13) -> -1966.5 | E13: =+E15+E22+E26 -> 16660.1 | F13: =+F15+F22+F26 -> 0 | G13: =+G15+G22+G26 -> 0 | H13: =+H15+H22+H26 -> -18626.6
C14: այդ թվում`
A15: 1183 | B15: 32007 | C15: Հանրակրթական կրթություն իրականացնող ուսումնական հաստատությունների նոր մարզադահլիճների կառուցում | D15: =SUM(E15:H15) -> -2074 | E15: =+E17 -> -2074 | F15: =+F17 -> 0 | G15: =+G17 -> 0 | H15: =+H17 -> 0
C16: այդ թվում`
C17: Երևան քաղաք | D17: =SUM(E17:H17) -> -2074 | E17: =SUM(E18:E21) -> -2074 | F17: =SUM(F18:F21) -> 0 | G17: =SUM(G18:G21) -> 0 | H17: =SUM(H18:H21) -> 0
C18: «Երևանի Միքայել Նալբանդյանի անվան հ.33 հիմնական դպրոց» ՊՈԱԿ | D18: =+E18+F18+G18+H18 -> 2710.6 | E18: =+'Հավելված N 7'!I27 -> 2710.6
C19: «Երևանի Ս. Խանզադյանի անվան հ. 184 ավագ դպրոց» ՊՈԱԿ | D19: =+E19+F19+G19+H19 -> 5706.8 | E19: =+'Հավելված N 7'!I28 -> 5706.8
C20: «Երևանի Ա. Երզնկյանի անվան հ. 118 ավագ դպրոց» ՊՈԱԿ | D20: =+E20+F20+G20+H20 -> -7447.5 | E20: =+'Հավելված N 7'!I29 -> -7447.5
C21: «Երևանի Սիլվա Կապուտիկյանի անվան հ. 145 հիմնական դպրոց» ՊՈԱԿ | D21: =+E21+F21+G21+H21 -> -3043.9 | E21: =+'Հավելված N 7'!I30 -> -3043.9
A22: 1236 | B22: 32003 | C22: Հանրակրթական դպրոցների նոր շենքերի կառուցում | D22: =SUM(E22:H22) -> 18734.1 | E22: =+E24 -> 18734.1 | F22: =+F24 -> 0 | G22: =+G24 -> 0 | H22: =+H24 -> 0
C23: այդ թվում`
C24: ՀՀ Արարատի մարզ | D24: =SUM(E24:H24) -> 18734.1 | E24: =+E25 -> 18734.1 | F24: =+F25 -> 0 | G24: =+G25 -> 0 | H24: =+H25 -> 0
C25: «Մասիսի թիվ 5 ավագ դպրոց» ՊՈԱԿ | D25: =+E25+F25+G25+H25 -> 18734.1 | E25: =+'Հավելված N 7'!I21 -> 18734.1
A26: 1236 | B26: 32006 | C26: Հանրակրթական դպրոցների, մանկապարտեզների և կրթահամալիրների գույքով և տեխնիկայով ապահովում | D26: =+E26+F26+G26+H26 -> -18626.6 | E26: =+E28+E31+E32 -> 0 | F26: =+F28+F31+F32 -> 0 | G26: =+G28+G31+G32 -> 0 | H26: =+H28+H31+H32 -> -18626.6
C27: այդ թվում`
C28: Լոռու մարզի դպրոցների լաբորատոր գույքով և սարքավորումներով ապահովում | D28: =SUM(E28:H28) -> -18626.6 | E28: 0 | F28: 0 | G28: 0 | H28: =-(E22+1966.5+E15) -> -18626.6

Sheet Հավելված N 4
E1: Հավելված N 4
D2: ՀՀ կառավարության 2024 թվականի
E3: ______________ ի ___Ն որոշման
B6: ՀԱՅԱՍՏԱՆԻ ՀԱՆՐԱՊԵՏՈՒԹՅԱՆ ԿԱՌԱՎԱՐՈՒԹՅԱՆ 2023 ԹՎԱԿԱՆԻ ԴԵԿՏԵՄԲԵՐԻ 28-Ի N 2323-Ն ՈՐՈՇՄԱՆ N 5 ՀԱՎԵԼՎԱԾԻ N 2 ԱՂՅՈՒՍԱԿՈՒՄ ԿԱՏԱՐՎՈՂ ՓՈՓՈԽՈՒԹՅՈՒՆՆԵՐԸ ԵՎ ԼՐԱՑՈՒՄՆԵՐԸ
F8: հազ. դրամներով
B9: Ծրագրային դասիչ | D9: Բյուջետային գլխավոր կարգադրիչների, ծրագրերի, միջոցառումների, միջոցառումները կատարող պետական մարմինների և ուղղությունների անվանումները | E9: Ցուցանիշների փոփոխությունը (ավելացումները նշված են դրական նշանով, իսկ նվազեցումները՝ փակագծերում)
B10: Ծրագիր | C10: Միջոցառում | E10: Ինն ամիս | F10: Տարի
D11: ՀՀ ԿՐԹՈՒԹՅԱՆ, ԳԻՏՈՒԹՅԱՆ, ՄՇԱԿՈՒՅԹԻ ԵՎ ՍՊՈՐՏԻ ՆԱԽԱՐԱՐՈՒԹՅՈՒՆ | E11: =+E13+E22+E28 -> -1966.5 | F11: =+F13+F22+F28 -> -1966.5
D12: այդ թվում՝
B13: 1183 | C13: 32007 | D13: Հանրակրթական կրթություն իրականացնող ուսումնական հաստատությունների նոր մարզադահլիճների կառուցում | E13: =+E15 -> -2074 | F13: =+F15 -> -2074
D14: այդ թվում` ըստ կատարողների
D15: ՀՀ քաղաքաշինության կոմիտե | E15: =+E17 -> -2074 | F15: =+F17 -> -2074
D16: այդ թվում՝ ըստ ուղղությունների
D17: Երևան քաղաք | E17: =SUM(E18:E21) -> -2074 | F17: =SUM(F18:F21) -> -2074
D18: =+'Հավելված N 3'!C18 -> «Երևանի Միքայել Նալբանդյանի անվան հ.33 հիմնական դպրոց» ՊՈԱԿ | E18: =+F18 -> 2710.6 | F18: =+'Հավելված N 3'!D18 -> 2710.6
D19: =+'Հավելված N 3'!C19 -> «Երևանի Ս. Խանզադյանի անվան հ. 184 ավագ դպրոց» ՊՈԱԿ | E19: =+F19 -> 5706.8 | F19: =+'Հավելված N 3'!D19 -> 5706.8
D20: =+'Հավելված N 3'!C20 -> «Երևանի Ա. Երզնկյանի անվան հ. 118 ավագ դպրոց» ՊՈԱԿ | E20: =+F20 -> -7447.5 | F20: =+'Հավելված N 3'!D20 -> -7447.5
D21: =+'Հավելված N 3'!C21 -> «Երևանի Սիլվա Կապուտիկյանի անվան հ. 145 հիմնական դպրոց» ՊՈԱԿ | E21: =+F21 -> -3043.9 | F21: =+'Հավելված N 3'!D21 -> -3043.9
B22: 1236 | C22: 32003 | D22: Հանրակրթական դպրոցների նոր շենքերի կառուցում | E22: =+E24 -> 18734.1 | F22: =+F24 -> 18734.1
D23: այդ թվում` ըստ կատարողների
D24: ՀՀ քաղաքաշինության կոմիտե | E24: =+E26 -> 18734.1 | F24: =+F26 -> 18734.1
D25: այդ թվում՝ ըստ ուղղությունների
D26: ՀՀ Արարատի մարզ | E26: =+E27 -> 18734.1 | F26: =+F27 -> 18734.1
D27: =+'Հավելված N 3'!C25 -> «Մասիսի թիվ 5 ավագ դպրոց» ՊՈԱԿ | E27: =+F27 -> 18734.1 | F27: =+'Հավելված N 3'!D25 -> 18734.1
B28: 1236 | C28: 32006 | D28: Հանրակրթական դպրոցների, մանկապարտեզների և կրթահամալիրների գույքով և տեխնիկայով ապահովում | E28: =+E30 -> -18626.6 | F28: =+F30 -> -18626.6
D29: այդ թվում` ըստ կատարողների
D30: ՀՀ կրթության, գիտության, մշակույթի և սպորտի նախարարություն | E30: =+E32 -> -18626.6 | F30: =+F32 -> -18626.6
D31: այդ թվում`ըստ ուղղությունների
D32: =+'Հավելված N 3'!C28 -> Լոռու մարզի դպրոցների լաբորատոր գույքով և սարքավորումներով ապահովում | E32: =+F32 -> -18626.6 | F32: =+'Հավելված N 3'!D28 -> -18626.6

Sheet Հավելված N 5
C1: Հավելված N 5
C2: ՀՀ կառավարության 2024 թվականի
C3: ______________ ի ___Ն որոշման
B6: ՀԱՅԱՍՏԱՆԻ ՀԱՆՐԱՊԵՏՈՒԹՅԱՆ ԿԱՌԱՎԱՐՈՒԹՅԱՆ 2023 ԹՎԱԿԱՆԻ ԴԵԿՏԵՄԲԵՐԻ 28-Ի N 2323-Ն ՈՐՈՇՄԱՆ N 9 ՀԱՎԵԼՎԱԾԻ N 9.13 ԱՂՅՈՒՍԱԿՈՒՄ ԿԱՏԱՐՎՈՂ ՓՈՓՈԽՈՒԹՅՈՒՆՆԵՐԸ ԵՎ ԼՐԱՑՈՒՄՆԵՐԸ
A8: Աղյուսակ 9․13
C9: ՀՀ կրթության, գիտության, մշակույթի և սպորտի նախարարություն
B10: ՄԱՍ 2. ՊԵՏԱԿԱՆ ՄԱՐՄՆԻ ԳԾՈՎ ԱՐԴՅՈՒՆՔԱՅԻՆ (ԿԱՏԱՐՈՂԱԿԱՆ) ՑՈՒՑԱՆԻՇՆԵՐԸ
B14: Ծրագրի դասիչը | C14: Ծրագրի անվանումը
B15: 1183 | C15: Ապահով դպրոց
B17: Ծրագրի միջոցառումները
B18: Ծրագրի դասիչը՝ | C18: 1183 | D18: Ցուցանիշների փոփոխությունը (նվազեցումները նշված են փակագծերում)
B19: Միջոցառման դասիչը՝ | C19: 32007 | D19: Ինն ամիս | E19: Տարի
B20: Միջոցառման անվանումը` | C20: Հանրակրթական կրթություն իրականացնող ուսումնական հաստատությունների նոր մարզադահլիճների կառուցում
B21: Նկարագրությունը` | C21: Հանրակրթական ուսուցում իրականացնող ուսումնական հաստատությունների նոր մարզադահլիճների կառուցման նախագծանախահաշվային փաստաթղթերի մշակում
B22: Միջոցառման տեսակը` | C22: Այլ պետական կազմակերպությունների կողմից օգտագործվող ոչ ֆինանսական ակտիվների հետ գործառնություններ
B23: Ակտիվն օգտագործող կազմակերպությունների անվանումները | C23: Հանրակրթական դպրոցներ
B24: Արդյունքի չափորոշիչներ
B25: Միջոցառման վրա կատարվող ծախսը (հազար դրամ) | D25: =+'Հավելված N 1'!D23 -> -2074 | E25: =+'Հավելված N 1'!E23 -> -2074
B27: Ծրագրի միջոցառումները
B28: Ծրագրի դասիչը` | C28: 1183 | D28: Ցուցանիշների փոփոխությունը (ավելացումները նշված են դրական նշանով)
B29: Միջոցառման դասիչը` | C29: 32009 | D29: Ինն ամիս | E29: Տարի
B30: Միջոցառման անվանումը` | C30: Հանրակրթական կրթություն իրականացնող ուսումնական հաստատությունների մարզադահլիճների վերակառուցում
B31: Նկարագրությունը` | C31: Հանրակրթական ուսուցում իրականացնող ուսումնական հաստատությունների մարզադահլիճների վերակառուցման նախագծանախահաշվային փաստաթղթերի մշակում
B32: Միջոցառման տեսակը` | C32: Այլ պետական կազմակերպությունների կողմից օգտագործվող ոչ ֆինանսական ակտիվների հետ գործառնություններ
B33: Ակտիվն օգտագործող կազմակերպությունների անվանումները | C33: Հանրակրթական դպրոցներ
B34: Արդյունքի չափորոշիչներ
B35: Դպրոցների թիվը, որոնց համար ձեռք է բերվել շենքի չափագրման ծառայություն, հատ | E35: 3
B36: Միջոցառման վրա կատարվող ծախսը (հազար դրամ) | D36: =+'Հավելված N 1'!D29 -> 195.9 | E36: =+'Հավելված N 1'!E29 -> 195.9
B38: Ծրագրի դասիչը | C38: Ծրագրի անվանումը
B39: 1236 | C39: Հանրակրթական և նախադպրոցական հաստատությունների հիմնում, կառուցում, բարելավում
B41: Ծրագրի միջոցառումները
B42: Ծրագրի դասիչը՝ | C42: 1236 | D42: Ցուցանիշների փոփոխությունը (ավելացումները նշված են դրական նշանով)
B43: Միջոցառման դասիչը՝ | C43: 32001 | D43: Ինն ամիս | E43: Տարի
B44: Միջոցառման անվանումը` | C44: Մանկապարտեզների նոր շենքերի կառուցում
B45: Նկարագրությունը` | C45: Նախադպրոցական կրթության հասանելիության ապահովման նպատակով՛ մանկապարտեզների հիմնում, նոր շենքերի (մասնաշենքերի), ներառյալ՛ ,Մոդուլայինե տիպի շենքերի կառուցում և նախագծում
B46: Միջոցառման տեսակը` | C46: Այլ պետական կազմակերպությունների կողմից օգտագործվող ոչ ֆինանսական ակտիվների հետ գործառնություններ
B47: Շահառուների ընտրության չափորոշիչները° | C47: Նախադպրոցական կրթություն իրականացնող ուսումնական հաստատություններ
B48: Արդյունքի չափորոշիչներ
B49: Մանկապարտեզների թիվը, որոնց համար ձեռք է բերվել շենքի չափագրման ծառայություն, հատ | E49: 4
B50: Միջոցառման վրա կատարվող ծախսը (հազար դրամ) | D50: =+'Հավելված N 1'!D42 -> 619.2 | E50: =+'Հավելված N 1'!E42 -> 619.2
...

Sheet Հավելված N 6
C1: Հավելված N 6
C2: ՀՀ կառավարության 2024 թվականի
C3: ______________ ի ___Ն որոշման
B6: ՀԱՅԱՍՏԱՆԻ ՀԱՆՐԱՊԵՏՈՒԹՅԱՆ ԿԱՌԱՎԱՐՈՒԹՅԱՆ 2023 ԹՎԱԿԱՆԻ ԴԵԿՏԵՄԲԵՐԻ 28-Ի N 2323-Ն ՈՐՈՇՄԱՆ N 9.1 ՀԱՎԵԼՎԱԾԻ NN 9.1.13 ԵՎ 9.1.39 ԱՂՅՈՒՍԱԿՆԵՐՈՒՄ ԿԱՏԱՐՎՈՂ ՓՈՓՈԽՈՒԹՅՈՒՆՆԵՐԸ ԵՎ ԼՐԱՑՈՒՄՆԵՐԸ
A8: Աղյուսակ 9․1.13
C9: ՀՀ կրթության, գիտության, մշակույթի և սպորտի նախարարություն
B10: ՄԱՍ 1. ՊԵՏԱԿԱՆ ՄԱՐՄՆԻ ԳԾՈՎ ԱՐԴՅՈՒՆՔԱՅԻՆ (ԿԱՏԱՐՈՂԱԿԱՆ) ՑՈՒՑԱՆԻՇՆԵՐԸ
B13: Ծրագրի դասիչը | C13: Ծրագրի անվանումը
B14: 1236 | C14: Հանրակրթական և նախադպրոցական հաստատությունների հիմնում, կառուցում, բարելավում
B16: Ծրագրի միջոցառումները
B17: Ծրագրի դասիչը՝ | C17: 1236 | D17: Ցուցանիշների փոփոխությունը (նվազեցումները նշված են փակագծերում)
B18: Միջոցառման դասիչը՝ | C18: 32006 | D18: Ինն ամիս | E18: Տարի
B19: Միջոցառման անվանումը` | C19: Հանրակրթական դպրոցների, մանկապարտեզների և կրթահամալիրների գույքով և տեխնիկայով ապահովում
B20: Նկարագրությունը` | C20: Կրթական ժամանակակից նորմերին և կրթական չափորոշիչներին համապատասխան ուսուցման ծրագրերն իրականացնելու նպատակով հանրակրթական և նախադպրոցական հաստատությունների համար գույքի և տեխնիկայի ձեռքբերում
B21: Միջոցառման տեսակը` | C21: Այլ պետական կազմակերպությունների կողմից օգտագործվող ոչ ֆինանսական ակտիվների հետ գործառնություններ
B22: Ակտիվն օգտագործող կազմակերպությունների անվանումները | C22: Հանրակրթական դպրոցներ, մանկապարտեզներ և կրթահամալիրներ
B23: Արդյունքի չափորոշիչներ
B24: Միջոցառման վրա կատարվող ծախսը (հազար դրամ) | D24: =+'Հավելված N 2'!G58 -> -18626.6 | E24: =+'Հավելված N 2'!H58 -> -18626.6
A30: Աղյուսակ 9․1.39
C31: ՀՀ քաղաքաշինության կոմիտե
B32: ՄԱՍ 1. ՊԵՏԱԿԱՆ ՄԱՐՄՆԻ ԳԾՈՎ ԱՐԴՅՈՒՆՔԱՅԻՆ (ԿԱՏԱՐՈՂԱԿԱՆ) ՑՈՒՑԱՆԻՇՆԵՐԸ
B35: Ծրագրի դասիչը | C35: Ծրագրի անվանումը
B36: 1183 | C36: Ապահով դպրոց
B38: Ծրագրի միջոցառումները
B39: Ծրագրի դասիչը՝ | C39: 1183 | D39: Ցուցանիշների փոփոխությունը (նվազեցումները նշված են փակագծերում)
B40: Միջոցառման դասիչը՝ | C40: 32007 | D40: Ինն ամիս | E40: Տարի
B41: Միջոցառման անվանումը` | C41: Հանրակրթական կրթություն իրականացնող ուսումնական հաստատությունների նոր մարզադահլիճների կառուցում
B42: Նկարագրությունը` | C42: Հանրակրթական ուսուցում իրականացնող ուսումնական հաստատությունների նոր մարզադահլիճների կառուցման նախագծանախահաշվային փաստաթղթերի մշակում
B43: Միջոցառման տեսակը` | C43: Այլ պետական կազմակերպությունների կողմից օգտագործվող ոչ ֆինանսական ակտիվների հետ գործառնություններ
B44: Ակտիվն օգտագործող կազմակերպությունների անվանումները | C44: Հանրակրթական դպրոցներ
B45: Արդյունքի չափորոշիչներ
B46: Միջոցառման վրա կատարվող ծախսը (հազար դրամ) | D46: =+'Հավելված N 2'!G75 -> -2074 | E46: =+'Հավելված N 2'!H75 -> -2074
B48: Ծրագրի միջոցառումները
B49: Ծրագրի դասիչը` | C49: 1183 | D49: Ցուցանիշների փոփոխությունը (ավելացումները նշված են դրական նշանով)
B50: Միջոցառման դասիչը` | C50: 32009 | D50: Ինն ամիս | E50: Տարի
B51: Միջոցառման անվանումը` | C51: Հանրակրթական կրթություն իրականացնող ուսումնական հաստատությունների մարզադահլիճների վերակառուցում
B52: Նկարագրությունը` | C52: Հանրակրթական ուսուցում իրականացնող ուսումնական հաստատությունների մարզադահլիճների վերակառուցման նախագծանախահաշվային փաստաթղթերի մշակում
B53: Միջոցառման տեսակը` | C53: Այլ պետական կազմակերպությունների կողմից օգտագործվող ոչ ֆինանսական ակտիվների հետ գործառնություններ
B54: Ակտիվն օգտագործող կազմակերպությունների անվանումները | C54: Հանրակրթական դպրոցներ
B55: Արդյունքի չափորոշիչներ
...

Sheet Հավելված N 7
H1: Հավելված N 7
H2: ՀՀ կառավարության 2024 թվականի
H3: ______________ ի ___Ն որոշման
A6: ՀԱՅԱՍՏԱՆԻ ՀԱՆՐԱՊԵՏՈՒԹՅԱՆ ԿԱՌԱՎԱՐՈՒԹՅԱՆ 2023 ԹՎԱԿԱՆԻ ԴԵԿՏԵՄԲԵՐԻ 28-Ի N 2323-Ն N 10 ՀԱՎԵԼՎԱԾՈՒՄ ԿԱՏԱՐՎՈՂ ՓՈՓՈԽՈՒԹՅՈՒՆՆԵՐԸ ԵՎ ԼՐԱՑՈՒՄՆԵՐԸ
A10: Կոդը | B10: Անվանումը | E10: Գնման ձևը | F10: Չափման միավորը | G10: Միավորի գինը | H10: Ցուցանիշների փոփոխությունը (ավելացումները նշված են դրական նշանով, իսկ նվազեցումները՝ փակագծերում)
H11: Քանակը | I11: Գումարը (հազար դրամ)
A12: 1 | B12: 2 | E12: 3 | F12: 4 | G12: 5 | H12: 6 | I12: 7
A13: ՀՀ քաղաքաշինության կոմիտե | I13: =+I14+I18+I24 -> 18626.6
A14: Բաժին N 09 | B14: Խումբ N 01 | C14: Դաս N 01 | D14: Նախադպրոցական կրթություն | I14: =+I15 -> 619.2
A15: 1236-32001 | B15: Մանկապարտեզների նոր շենքերի կառուցում | I15: =+I16 -> 619.2
B16: ՄԱՍ III. ԾԱՌԱՅՈՒԹՅՈՒՆՆԵՐ | I16: =SUM(I17:I17) -> 619.2
A17: 71311360-512 | B17: շենքերի չափագրման ծառայություններ | E17: ԳՀ | F17: դրամ | G17: 619200 | H17: 1 | I17: =+ROUNDUP(H17*G17/1000,1) -> 619.2
A18: Բաժին N 09 | B18: Խումբ N 02 | C18: Դաս N 01 | D18: Հիմնական ընդհանուր կրթություն | I18: =+I19 -> 19885.5
A19: 1236-32003 | B19: Հանրակրթական դպրոցների նոր շենքերի կառուցում | I19: =+I20+I22 -> 19885.5
B20: ՄԱՍ II. ԱՇԽԱՏԱՆՔՆԵՐ | I20: =+I21 -> 18734.1
A21: 45221142-107 | B21: ընդհանուր շինարարական աշխատանքներ | E21: ԲՄ | F21: դրամ | I21: 18734.1
B22: ՄԱՍ III. ԾԱՌԱՅՈՒԹՅՈՒՆՆԵՐ | I22: =SUM(I23:I23) -> 1151.4
A23: 71311360 | B23: շենքերի չափագրման ծառայություններ | E23: ԳՀ | F23: դրամ | G23: 1151388 | H23: 1 | I23: =+ROUNDUP(H23*G23/1000,1) -> 1151.4
A24: Բաժին N 09 | B24: Խումբ N 06 | C24: Դաս N 01 | D24: Կրթությանը տրամադրվող օժանդակ ծառայություններ | I24: =+I25+I31 -> -1878.1
A25: 1183-32007 | B25: Հանրակրթական կրթություն իրականացնող ուսումնական հաստատությունների նոր մարզադահլիճների կառուցում | I25: =+I26 -> -2074
B26: ՄԱՍ II. ԱՇԽԱՏԱՆՔՆԵՐ | I26: =SUM(I27:I30) -> -2074
A27: 45221142-89 | B27: ընդհանուր շինարարական աշխատանքներ | E27: ԲՄ | F27: դրամ | I27: 2710.6
A28: 45221142-90 | B28: ընդհանուր շինարարական աշխատանքներ | E28: ԲՄ | F28: դրամ | I28: 5706.8
A29: 45221142-91 | B29: ընդհանուր շինարարական աշխատանքներ | E29: ԲՄ | F29: դրամ | I29: -7447.5
A30: 45221142-92 | B30: ընդհանուր շինարարական աշխատանքներ | E30: ԲՄ | F30: դրամ | I30: -3043.9
A31: 1183-32009 | B31: Հանրակրթական կրթություն իրականացնող ուսումնական հաստատությունների մարզադահլիճների վերակառուցում | I31: =+I32 -> 195.9
B32: ՄԱՍ III. ԾԱՌԱՅՈՒԹՅՈՒՆՆԵՐ | I32: =SUM(I33:I33) -> 195.9
A33: 71311360 | B33: շենքերի չափագրման ծառայություններ | E33: ԳՀ | F33: դրամ | G33: 195804 | H33: 1 | I33: =+ROUNDUP(H33*G33/1000,1) -> 195.9
