Workbook
Name a: #REF!
Name a: #REF!
Name a: #REF!
Name a: #REF!
Name AgencyCode: #REF!
Name AgencyCode: #REF!
Name AgencyCode: #REF!
Name AgencyCode: #REF!
Name AgencyCode: #REF!
Name AgencyCode: #REF!
Name AgencyName: #REF!
Name AgencyName: #REF!
Name AgencyName: #REF!
Name AgencyName: #REF!
Name davit: #REF!
Name davit: #REF!
Name davit: #REF!
Name Functional1: #REF!
Name Functional1: #REF!
Name Functional1: #REF!
Name Functional1: #REF!
Name ggg: #REF!
Name ggg: #REF!
Name ggg: #REF!
Name PANature: #REF!
Name PANature: #REF!
Name PANature: #REF!
Name PANature: #REF!
Name PAType: #REF!
Name PAType: #REF!
Name PAType: #REF!
Name PAType: #REF!
Name Performance2: #REF!
Name Performance2: #REF!
Name Performance2: #REF!
Name Performance2: #REF!
Name PerformanceType: #REF!
Name PerformanceType: #REF!
Name PerformanceType: #REF!
Name PerformanceType: #REF!
Name Հավելված: #REF!
Name Հավելված: #REF!
Name Հավելված: #REF!
Name Հավելված10: #REF!
Name Հավելված10: #REF!
Name Հավելված11: #REF!
Name Հավելված11: #REF!
Name Հավելված20: #REF!
Name Հավելված20: #REF!
Name Հավելված9: #REF!
Name Հավելված9: #REF!
Name Մաս: #REF!
Name Մաս: #REF!
Name Մաս: #REF!
Name շախմատիստ: #REF!
Name շախմատիստ: #REF!
Name շախմատիստ: #REF!

Sheet Հավելված N 1
C1: Հավելված N 1
C2: ՀՀ կառավարության 2024 թվականի
C3: ______________ ի ___Ն որոշման
A6: «ՀԱՅԱUՏԱՆԻ ՀԱՆՐԱՊԵՏՈՒԹՅԱՆ 2024 ԹՎԱԿԱՆԻ ՊԵՏԱԿԱՆ ԲՅՈՒՋԵԻ ՄԱUԻՆ» ՀԱՅԱUՏԱՆԻ ՀԱՆՐԱՊԵՏՈՒԹՅԱՆ OՐԵՆՔԻ N 1 ՀԱՎԵԼՎԱԾԻ N 2 ԱՂՅՈՒՍԱԿՈՒՄ ԿԱՏԱՐՎՈՂ ՎԵՐԱԲԱՇԽՈՒՄԸ ԵՎ ՀԱՅԱՍՏԱՆԻ ՀԱՆՐԱՊԵՏՈՒԹՅԱՆ ԿԱՌԱՎԱՐՈՒԹՅԱՆ 2023 ԹՎԱԿԱՆԻ ԴԵԿՏԵՄԲԵՐԻ 28-Ի N 2323-Ն ՈՐՈՇՄԱՆ N 5 ՀԱՎԵԼՎԱԾԻ N 1 ԱՂՅՈՒՍԱԿՈՒՄ ԿԱՏԱՐՎՈՂ ՓՈՓՈԽՈՒԹՅՈՒՆՆԵՐԸ ԵՎ ԼՐԱՑՈՒՄՆԵՐԸ
F9: հազ. դրամներով
A10: Ծրագրային դասիչը | C10: Բյուջետային հատկացումների գլխավոր կարգադրիչների, ծրագրերի և միջոցառումների անվանումները | D10: Ցուցանիշների փոփոխությունը (ավելացումները նշված են դրական նշանով)
A11: Ծրագիր | B11: Միջոցառում | D11: Առաջին կիսամյակ | E11: Ինն ամիս | F11: Տարի
A12: 1192 | C12: ԸՆԴԱՄԵՆԸ | D12: =+D14 -> 0 | E12: =+E14 -> 0 | F12: =+F14 -> 0
C13: այդ թվում
C14: ՀՀ ԿՐԹՈՒԹՅԱՆ, ԳԻՏՈՒԹՅԱՆ, ՄՇԱԿՈՒՅԹԻ ԵՎ ՍՊՈՐՏԻ ՆԱԽԱՐԱՐՈՒԹՅՈՒՆ | D14: =+D16 -> 0 | E14: =+E16 -> 0 | F14: =+F16 -> 0
A15: 1236 | C15: Ծրագրի անվանումը`
C16: Հանրակրթական և նախադպրոցական հաստատությունների հիմնում, կառուցում, բարելավում | D16: =+D23+D29 -> 0 | E16: =+E23+E29 -> 0 | F16: =+F23+F29 -> 0
C17: Ծրագրի նպատակը`
C18: Առնվազն 300 դպրոցի և 500 մանկապարտեզի կառուցման, վերակառուցման, հիմնանորոգման ծրագրերի իրականացում ՀՀ պետական բյուջեի միջոցների շրջանակներում
C19: Վերջնական արդյունքի նկարագրությունը`
C20: Կրթական միջավայրի բարելավում
C21: Ծրագրի միջոցառումներ
B22: 32002 | C22: Միջոցառման անվանումը`
C23: Մանկապարտեզների շենքերի վերակառուցում, հիմնանորոգում | D23: =+'Հավելված N 2'!G26 -> 0 | E23: =+'Հավելված N 2'!H26 -> -2254574.2 | F23: =+'Հավելված N 2'!I26 -> -2254574.2
C24: Միջոցառման նկարագրությունը`
C25: Նախադպրոցական կրթության հասանելիության ապահովման նպատակով՛ մանկապարտեզների շենքերի (մասնաշենքերի), վերակառուցում, հիմնանորոգում և նախագծում
C26: Միջոցառման տեսակը
C27: Այլ պետական կազմակերպությունների կողմից օգտագործվող ոչ ֆինանսական ակտիվների հետ գործառնություններ
B28: 32006 | C28: Միջոցառման անվանումը`
C29: Հանրակրթական դպրոցների, մանկապարտեզների և կրթահամալիրների գույքով և տեխնիկայով ապահովում | D29: =+'Հավելված N 2'!G50 -> 0 | E29: =+'Հավելված N 2'!H50 -> 2254574.2 | F29: =+'Հավելված N 2'!I50 -> 2254574.2
C30: Միջոցառման նկարագրությունը`
C31: Կրթական ժամանակակից նորմերին և կրթական չափորոշիչներին համապատասխան ուսուցման ծրագրերն իրականացնելու նպատակով հանրակրթական և նախադպրոցական հաստատությունների համար գույքի և տեխնիկայի ձեռքբերում
C32: Միջոցառման տեսակը
C33: Այլ պետական կազմակերպությունների կողմից օգտագործվող ոչ ֆինանսական ակտիվների հետ գործառնություններ

Sheet Հավելված N 2
F1: Հավելված N 2
F2: ՀՀ կառավարության 2024 թվականի
F3: ______________ ի ___Ն որոշման
A7: ՀԱՅԱՍՏԱՆԻ ՀԱՆՐԱՊԵՏՈՒԹՅԱՆ ԿԱՌԱՎԱՐՈՒԹՅԱՆ 2023 ԹՎԱԿԱՆԻ ԴԵԿՏԵՄԲԵՐԻ 28-Ի N 2323-Ն ՈՐՈՇՄԱՆ N 3 ԵՎ N 4 ՀԱՎԵԼՎԱԾՆԵՐՈՒՄ ԿԱՏԱՐՎՈՂ ՓՈՓՈԽՈՒԹՅՈՒՆՆԵՐԸ ԵՎ ԼՐԱՑՈՒՄՆԵՐԸ
I10: հազ. դրամներով
A11: Գործառական դասիչը | D11: Ծրագրային դասիչը | F11: Բյուջետային հատկացումների գլխավոր կարգադրիչների, ծրագրերի, միջոցառումների և միջոցառումները կատարող պետական մարմինների անվանումները | G11: Ցուցանիշների փոփոխությունը (ավելացումները նշված են դրական նշանով, իսկ նվազեցումները փակագծերում)
A12: Բաժին | B12: Խումբ | C12: Դաս | D12: Ծրագիր | E12: Միջոցառում | G12: Առաջին կիսամյակ | H12: Ինն ամիս | I12: Տարի
F13: ԸՆԴԱՄԵՆԸ | G13: =+G15 -> 0 | H13: =+H15 -> 0 | I13: =+I15 -> 0
F14: այդ թվում՝
F15: ՀՀ ԿՐԹՈՒԹՅԱՆ, ԳԻՏՈՒԹՅԱՆ, ՄՇԱԿՈՒՅԹԻ ԵՎ ՍՊՈՐՏԻ ՆԱԽԱՐԱՐՈՒԹՅՈՒՆ | G15: =+G16 -> 0 | H15: =+H16 -> 0 | I15: =+I16 -> 0
A16: 09 | F16: ԿՐԹՈՒԹՅՈՒՆ | G16: =+G18+G42 -> 0 | H16: =+H18+H42 -> 0 | I16: =+I18+I42 -> 0
F17: այդ թվում`
B18: 01 | F18: Նախադպրոցական և տարրական ընդհանուր կրթություն | G18: =+G20 -> 0 | H18: =+H20 -> -2254574.2 | I18: =+I20 -> -2254574.2
F19: այդ թվում`
C20: 01 | F20: Նախադպրոցական կրթություն | G20: =+G22 -> 0 | H20: =+H22 -> -2254574.2 | I20: =+I22 -> -2254574.2
F21: այդ թվում`
F22: ՀՀ կրթության, գիտության, մշակույթի և սպորտի նախարարություն | G22: =+G24 -> 0 | H22: =+H24 -> -2254574.2 | I22: =+I24 -> -2254574.2
F23: այդ թվում`
D24: 1236 | E24: Հանրակրթական և նախադպրոցական հաստատությունների հիմնում, կառուցում, բարելավում | G24: =+G26 -> 0 | H24: =+H26 -> -2254574.2 | I24: =+I26 -> -2254574.2
F25: այդ թվում`
E26: 32002 | F26: Մանկապարտեզների շենքերի վերակառուցում, հիմնանորոգում | G26: =+G28+G35 -> 0 | H26: =+H28+H35 -> -2254574.2 | I26: =+I28+I35 -> -2254574.2
F27: այդ թվում` ըստ կատարողների
F28: ՀՀ Գեղարքունիքի մարզպետի աշխատակազմ | G28: =+G30 -> 0 | H28: =+H30 -> 33557.2 | I28: =+I30 -> 55928.8
F29: այդ թվում՝ բյուջետային ծախսերի տնտեսագիտական դասակարգման հոդվածներ
F30: ԸՆԴԱՄԵՆԸ ԾԱԽՍԵՐ | G30: =G31 -> 0 | H30: =H31 -> 33557.2 | I30: =I31 -> 55928.8
F31: ՈՉ ՖԻՆԱՆՍԱԿԱՆ ԱԿՏԻՎՆԵՐԻ ԳԾՈՎ ԾԱԽՍԵՐ | G31: =+G32 -> 0 | H31: =+H32 -> 33557.2 | I31: =+I32 -> 55928.8
F32: ՀԻՄՆԱԿԱՆ ՄԻՋՈՑՆԵՐ | G32: =+G33 -> 0 | H32: =+H33 -> 33557.2 | I32: =+I33 -> 55928.8
F33: ՇԵՆՔԵՐ ԵՎ ՇԻՆՈՒԹՅՈՒՆՆԵՐ | G33: =+G34 -> 0 | H33: =+H34 -> 33557.2 | I33: =+I34 -> 55928.8
F34: - Շենքերի և շինությունների կապիտալ վերանորոգում | G34: =+'Հավելված N 4'!E15 -> 0 | H34: =+'Հավելված N 4'!F15 -> 33557.2 | I34: =+'Հավելված N 4'!G15 -> 55928.8
F35: ՀՀ կառավարություն | G35: =+G37 -> 0 | H35: =+H37 -> -2288131.4 | I35: =+I37 -> -2310503
F36: այդ թվում՝ բյուջետային ծախսերի տնտեսագիտական դասակարգման հոդվածներ
F37: ԸՆԴԱՄԵՆԸ ԾԱԽՍԵՐ | G37: =G38 -> 0 | H37: =H38 -> -2288131.4 | I37: =I38 -> -2310503
F38: ՈՉ ՖԻՆԱՆՍԱԿԱՆ ԱԿՏԻՎՆԵՐԻ ԳԾՈՎ ԾԱԽՍԵՐ | G38: =+G39 -> 0 | H38: =+H39 -> -2288131.4 | I38: =+I39 -> -2310503
F39: ՀԻՄՆԱԿԱՆ ՄԻՋՈՑՆԵՐ | G39: =+G40 -> 0 | H39: =+H40 -> -2288131.4 | I39: =+I40 -> -2310503
F40: ՇԵՆՔԵՐ ԵՎ ՇԻՆՈՒԹՅՈՒՆՆԵՐ | G40: =+G41 -> 0 | H40: =+H41 -> -2288131.4 | I40: =+I41 -> -2310503
F41: - Շենքերի և շինությունների կապիտալ վերանորոգում | G41: =+'Հավելված N 4'!E19 -> 0 | H41: =+'Հավելված N 4'!F19 -> -2288131.4 | I41: =+'Հավելված N 4'!G19 -> -2310503
B42: 02 | F42: Միջնակարգ ընդհանուր կրթություն | G42: =+G44 -> 0 | H42: =+H44 -> 2254574.2 | I42: =+I44 -> 2254574.2
F43: այդ թվում`
C44: 01 | F44: Հիմնական ընդհանուր կրթություն | G44: =+G46 -> 0 | H44: =+H46 -> 2254574.2 | I44: =+I46 -> 2254574.2
F45: այդ թվում`
F46: ՀՀ կրթության, գիտության, մշակույթի և սպորտի նախարարություն | G46: =+G48 -> 0 | H46: =+H48 -> 2254574.2 | I46: =+I48 -> 2254574.2
F47: այդ թվում`
D48: 1236 | E48: Հանրակրթական և նախադպրոցական հաստատությունների հիմնում, կառուցում, բարելավում | G48: =+G50 -> 0 | H48: =+H50 -> 2254574.2 | I48: =+I50 -> 2254574.2
F49: այդ թվում`
E50: 32006 | F50: Հանրակրթական դպրոցների, մանկապարտեզների և կրթահամալիրների գույքով և տեխնիկայով ապահովում | G50: =+G52+G59+G66+G73+G80+G87+G94+G101+G108 -> 0 | H50: =+H52+H59+H66+H73+H80+H87+H94+H101+H108 -> 2254574.2 | I50: =+I52+I59+I66+I73+I80+I87+I94+I101+I108 -> 2254574.2
F51: այդ թվում` ըստ կատարողների
F52: ՀՀ Արագածոտնի մարզպետի աշխատակազմ | G52: =+G54 -> 0 | H52: =+H54 -> 147032.8 | I52: =+I54 -> 147032.8
F53: այդ թվում՝ բյուջետային ծախսերի տնտեսագիտական դասակարգման հոդվածներ
F54: ԸՆԴԱՄԵՆԸ ԾԱԽՍԵՐ | G54: =G55 -> 0 | H54: =H55 -> 147032.8 | I54: =I55 -> 147032.8
F55: ՈՉ ՖԻՆԱՆՍԱԿԱՆ ԱԿՏԻՎՆԵՐԻ ԳԾՈՎ ԾԱԽՍԵՐ | G55: =+G56 -> 0 | H55: =+H56 -> 147032.8 | I55: =+I56 -> 147032.8
F56: ՀԻՄՆԱԿԱՆ ՄԻՋՈՑՆԵՐ | G56: =+G57 -> 0 | H56: =+H57 -> 147032.8 | I56: =+I57 -> 147032.8
F57: ՄԵՔԵՆԱՆԵՐ ԵՎ ՍԱՐՔԱՎՐՈՒՄՆԵՐ | G57: =+G58 -> 0 | H57: =+H58 -> 147032.8 | I57: =+I58 -> 147032.8
F58: - Այլ մեքենաներ և սարքավորումներ | G58: =+'Հավելված N 4'!E22 -> 0 | H58: =+'Հավելված N 4'!F22 -> 147032.8 | I58: =+'Հավելված N 4'!G22 -> 147032.8
F59: ՀՀ Արարատի մարզպետի աշխատակազմ | G59: =+G61 -> 0 | H59: =+H61 -> 55658.5 | I59: =+I61 -> 55658.5
F60: այդ թվում՝ բյուջետային ծախսերի տնտեսագիտական դասակարգման հոդվածներ
F61: ԸՆԴԱՄԵՆԸ ԾԱԽՍԵՐ | G61: =G62 -> 0 | H61: =H62 -> 55658.5 | I61: =I62 -> 55658.5
F62: ՈՉ ՖԻՆԱՆՍԱԿԱՆ ԱԿՏԻՎՆԵՐԻ ԳԾՈՎ ԾԱԽՍԵՐ | G62: =+G63 -> 0 | H62: =+H63 -> 55658.5 | I62: =+I63 -> 55658.5
F63: ՀԻՄՆԱԿԱՆ ՄԻՋՈՑՆԵՐ | G63: =+G64 -> 0 | H63: =+H64 -> 55658.5 | I63: =+I64 -> 55658.5
F64: ՄԵՔԵՆԱՆԵՐ ԵՎ ՍԱՐՔԱՎՐՈՒՄՆԵՐ | G64: =+G65 -> 0 | H64: =+H65 -> 55658.5 | I64: =+I65 -> 55658.5
F65: - Այլ մեքենաներ և սարքավորումներ | G65: =+'Հավելված N 4'!E30 -> 0 | H65: =+'Հավելված N 4'!F30 -> 55658.5 | I65: =+'Հավելված N 4'!G30 -> 55658.5
F66: ՀՀ Արմավիրի մարզպետի աշխատակազմ | G66: =+G68 -> 0 | H66: =+H68 -> 794409.2 | I66: =+I68 -> 794409.2
F67: այդ թվում՝ բյուջետային ծախսերի տնտեսագիտական դասակարգման հոդվածներ
F68: ԸՆԴԱՄԵՆԸ ԾԱԽՍԵՐ | G68: =G69 -> 0 | H68: =H69 -> 794409.2 | I68: =I69 -> 794409.2
F69: ՈՉ ՖԻՆԱՆՍԱԿԱՆ ԱԿՏԻՎՆԵՐԻ ԳԾՈՎ ԾԱԽՍԵՐ | G69: =+G70 -> 0 | H69: =+H70 -> 794409.2 | I69: =+I70 -> 794409.2
F70: ՀԻՄՆԱԿԱՆ ՄԻՋՈՑՆԵՐ | G70: =+G71 -> 0 | H70: =+H71 -> 794409.2 | I70: =+I71 -> 794409.2
F71: ՄԵՔԵՆԱՆԵՐ ԵՎ ՍԱՐՔԱՎՐՈՒՄՆԵՐ | G71: =+G72 -> 0 | H71: =+H72 -> 794409.2 | I71: =+I72 -> 794409.2
F72: - Այլ մեքենաներ և սարքավորումներ | G72: =+'Հավելված N 4'!E38 -> 0 | H72: =+'Հավելված N 4'!F38 -> 794409.2 | I72: =+'Հավելված N 4'!G38 -> 794409.2
F73: ՀՀ Գեղարքունիքի մարզպետի աշխատակազմ | G73: =+G75 -> 0 | H73: =+H75 -> 75451.3 | I73: =+I75 -> 75451.3
F74: այդ թվում՝ բյուջետային ծախսերի տնտեսագիտական դասակարգման հոդվածներ
F75: ԸՆԴԱՄԵՆԸ ԾԱԽՍԵՐ | G75: =G76 -> 0 | H75: =H76 -> 75451.3 | I75: =I76 -> 75451.3
F76: ՈՉ ՖԻՆԱՆՍԱԿԱՆ ԱԿՏԻՎՆԵՐԻ ԳԾՈՎ ԾԱԽՍԵՐ | G76: =+G77 -> 0 | H76: =+H77 -> 75451.3 | I76: =+I77 -> 75451.3
F77: ՀԻՄՆԱԿԱՆ ՄԻՋՈՑՆԵՐ | G77: =+G78 -> 0 | H77: =+H78 -> 75451.3 | I77: =+I78 -> 75451.3
F78: ՄԵՔԵՆԱՆԵՐ ԵՎ ՍԱՐՔԱՎՐՈՒՄՆԵՐ | G78: =+G79 -> 0 | H78: =+H79 -> 75451.3 | I78: =+I79 -> 75451.3
F79: - Այլ մեքենաներ և սարքավորումներ | G79: =+'Հավելված N 4'!E69 -> 0 | H79: =+'Հավելված N 4'!F69 -> 75451.3 | I79: =+'Հավելված N 4'!G69 -> 75451.3
F80: ՀՀ Լոռու մարզպետի աշխատակազմ | G80: =+G82 -> 0 | H80: =+H82 -> 244729.2 | I80: =+I82 -> 244729.2
F81: այդ թվում՝ բյուջետային ծախսերի տնտեսագիտական դասակարգման հոդվածներ
F82: ԸՆԴԱՄԵՆԸ ԾԱԽՍԵՐ | G82: =G83 -> 0 | H82: =H83 -> 244729.2 | I82: =I83 -> 244729.2
F83: ՈՉ ՖԻՆԱՆՍԱԿԱՆ ԱԿՏԻՎՆԵՐԻ ԳԾՈՎ ԾԱԽՍԵՐ | G83: =+G84 -> 0 | H83: =+H84 -> 244729.2 | I83: =+I84 -> 244729.2
F84: ՀԻՄՆԱԿԱՆ ՄԻՋՈՑՆԵՐ | G84: =+G85 -> 0 | H84: =+H85 -> 244729.2 | I84: =+I85 -> 244729.2
F85: ՄԵՔԵՆԱՆԵՐ ԵՎ ՍԱՐՔԱՎՐՈՒՄՆԵՐ | G85: =+G86 -> 0 | H85: =+H86 -> 244729.2 | I85: =+I86 -> 244729.2
F86: - Այլ մեքենաներ և սարքավորումներ | G86: =+'Հավելված N 4'!E74 -> 0 | H86: =+'Հավելված N 4'!F74 -> 244729.2 | I86: =+'Հավելված N 4'!G74 -> 244729.2
F87: ՀՀ Կոտայքի մարզպետի աշխատակազմ | G87: =+G89 -> 0 | H87: =+H89 -> 302655 | I87: =+I89 -> 302655
F88: այդ թվում՝ բյուջետային ծախսերի տնտեսագիտական դասակարգման հոդվածներ
F89: ԸՆԴԱՄԵՆԸ ԾԱԽՍԵՐ | G89: =G90 -> 0 | H89: =H90 -> 302655 | I89: =I90 -> 302655
F90: ՈՉ ՖԻՆԱՆՍԱԿԱՆ ԱԿՏԻՎՆԵՐԻ ԳԾՈՎ ԾԱԽՍԵՐ | G90: =+G91 -> 0 | H90: =+H91 -> 302655 | I90: =+I91 -> 302655
F91: ՀԻՄՆԱԿԱՆ ՄԻՋՈՑՆԵՐ | G91: =+G92 -> 0 | H91: =+H92 -> 302655 | I91: =+I92 -> 302655
F92: ՄԵՔԵՆԱՆԵՐ ԵՎ ՍԱՐՔԱՎՐՈՒՄՆԵՐ | G92: =+G93 -> 0 | H92: =+H93 -> 302655 | I92: =+I93 -> 302655
F93: - Այլ մեքենաներ և սարքավորումներ | G93: =+'Հավելված N 4'!E91 -> 0 | H93: =+'Հավելված N 4'!F91 -> 302655 | I93: =+'Հավելված N 4'!G91 -> 302655
F94: ՀՀ Շիրակի մարզպետի աշխատակազմ | G94: =+G96 -> 0 | H94: =+H96 -> 459760.9 | I94: =+I96 -> 459760.9
F95: այդ թվում՝ բյուջետային ծախսերի տնտեսագիտական դասակարգման հոդվածներ
F96: ԸՆԴԱՄԵՆԸ ԾԱԽՍԵՐ | G96: =G97 -> 0 | H96: =H97 -> 459760.9 | I96: =I97 -> 459760.9
F97: ՈՉ ՖԻՆԱՆՍԱԿԱՆ ԱԿՏԻՎՆԵՐԻ ԳԾՈՎ ԾԱԽՍԵՐ | G97: =+G98 -> 0 | H97: =+H98 -> 459760.9 | I97: =+I98 -> 459760.9
F98: ՀԻՄՆԱԿԱՆ ՄԻՋՈՑՆԵՐ | G98: =+G99 -> 0 | H98: =+H99 -> 459760.9 | I98: =+I99 -> 459760.9
F99: ՄԵՔԵՆԱՆԵՐ ԵՎ ՍԱՐՔԱՎՐՈՒՄՆԵՐ | G99: =+G100 -> 0 | H99: =+H100 -> 459760.9 | I99: =+I100 -> 459760.9
F100: - Այլ մեքենաներ և սարքավորումներ | G100: =+'Հավելված N 4'!E104 -> 0 | H100: =+'Հավելված N 4'!F104 -> 459760.9 | I100: =+'Հավելված N 4'!G104 -> 459760.9
F101: ՀՀ Սյունիքի մարզպետի աշխատակազմ | G101: =+G103 -> 0 | H101: =+H103 -> 108557.4 | I101: =+I103 -> 108557.4
F102: այդ թվում՝ բյուջետային ծախսերի տնտեսագիտական դասակարգման հոդվածներ
F103: ԸՆԴԱՄԵՆԸ ԾԱԽՍԵՐ | G103: =G104 -> 0 | H103: =H104 -> 108557.4 | I103: =I104 -> 108557.4
F104: ՈՉ ՖԻՆԱՆՍԱԿԱՆ ԱԿՏԻՎՆԵՐԻ ԳԾՈՎ ԾԱԽՍԵՐ | G104: =+G105 -> 0 | H104: =+H105 -> 108557.4 | I104: =+I105 -> 108557.4
F105: ՀԻՄՆԱԿԱՆ ՄԻՋՈՑՆԵՐ | G105: =+G106 -> 0 | H105: =+H106 -> 108557.4 | I105: =+I106 -> 108557.4
...

Sheet Հավելված N 3
F1: Հավելված N 3
F2: ՀՀ կառավարության 2024 թվականի
F3: ______________ ի ___Ն որոշման
A5: «ՀԱՅԱUՏԱՆԻ ՀԱՆՐԱՊԵՏՈՒԹՅԱՆ 2024 ԹՎԱԿԱՆԻ ՊԵՏԱԿԱՆ ԲՅՈՒՋԵԻ ՄԱUԻՆ» ՀԱՅԱUՏԱՆԻ ՀԱՆՐԱՊԵՏՈՒԹՅԱՆ OՐԵՆՔԻ N 1 ՀԱՎԵԼՎԱԾԻ N 3 ԱՂՅՈՒՍԱԿՈՒՄ ԿԱՏԱՐՎՈՂ ՓՈՓՈԽՈՒԹՅՈՒՆԸ ԵՎ ԼՐԱՑՈՒՄՆԵՐԸ
G8: հազ. դրամներով
A9: Ծրագրային դասիչ | C9: Բյուջետային գլխավոր կարգադրիչների, ծրագրերի, միջոցառումների, միջոցառումները կատարող պետական մարմինների և ուղղությունների անվանումները | D9: Ընդամենը | E9: Ցուցանիշների փոփոխությունը (ավելացումները նշված են դրական նշանով, իսկ նվազեցումները՝ փակագծերում)
A10: Ծրագիր | B10: Միջոցառում | E10: Կառուցման աշխատանքներ | F10: Վերակառուցման, վերանորոգման և վերականգնման աշխատանքներ | G10: Նախագծահե- տազոտական, գեոդեզիա- քարտեզագրա- կան աշխա- տանքներ | H10: Ոչ ֆինանսական այլ ակտիվների ձեռքբերում
C11: ԸՆԴԱՄԵՆԸ | D11: =SUM(E11:H11) -> 0 | E11: =+E13 -> 0 | F11: =+F13 -> -2254574.2 | G11: =+G13 -> 0 | H11: =+H13 -> 2254574.2
C12: այդ թվում՝
C13: ՀՀ ԿՐԹՈՒԹՅԱՆ, ԳԻՏՈՒԹՅԱՆ, ՄՇԱԿՈՒՅԹԻ ԵՎ ՍՊՈՐՏԻ ՆԱԽԱՐԱՐՈՒԹՅՈՒՆ | D13: =SUM(E13:H13) -> 0 | E13: =+E15+E20 -> 0 | F13: =+F15+F20 -> -2254574.2 | G13: =+G15+G20 -> 0 | H13: =+H15+H20 -> 2254574.2
C14: այդ թվում`
A15: 1236 | B15: 32002 | C15: Մանկապարտեզների շենքերի վերակառուցում, հիմնանորոգում | D15: =SUM(E15:H15) -> -2254574.2 | E15: =+E17+E18 -> 0 | F15: =+F17+F18 -> -2254574.2 | G15: =+G17+G18 -> 0 | H15: =+H17+H18 -> 0
C16: այդ թվում`
C17: Մանկապարտեզների շենքերի վերակառուցում, հիմնանորոգում | D17: =SUM(E17:H17) -> -2310503 | E17: 0 | F17: =-D18-D20 -> -2310503 | G17: 0 | H17: 0
C18: ՀՀ Գեղարքունիքի մարզ | D18: =SUM(E18:H18) -> 55928.8 | E18: =+E19 -> 0 | F18: =+F19 -> 55928.8 | G18: =+G19 -> 0 | H18: =+H19 -> 0
C19: Վարդենիս համայնքի Գեղամասար բնակավայրի մանկապարտեզ | D19: =+E19+F19+G19+H19 -> 55928.8 | F19: =+'Հավելված N 7'!I392+'Հավելված N 7'!I394+'Հավելված N 7'!I395 -> 55928.8
A20: 1236 | B20: 32006 | C20: Հանրակրթական դպրոցների, մանկապարտեզների և կրթահամալիրների գույքով և տեխնիկայով ապահովում | D20: =SUM(E20:H20) -> 2254574.2 | E20: =+E22+E28+E33+E62+E65+E80+E91+E112+E116 -> 0 | F20: =+F22+F28+F33+F62+F65+F80+F91+F112+F116 -> 0 | G20: =+G22+G28+G33+G62+G65+G80+G91+G112+G116 -> 0 | H20: =+H22+H28+H33+H62+H65+H80+H91+H112+H116 -> 2254574.2
C21: այդ թվում`
C22: ՀՀ Արագածոտնի մարզ | D22: =SUM(E22:H22) -> 147032.8 | E22: =SUM(E23:E27) -> 0 | F22: =SUM(F23:F27) -> 0 | G22: =SUM(G23:G27) -> 0 | H22: =SUM(H23:H27) -> 147032.8
C23: Արտաշավան բնակավայրի «Կակաչ» մանկապարտեզ | D23: =+E23+F23+G23+H23 -> 25763.8 | H23: 25763.8
C24: Ապարան համայնքի Շենավան գյուղի մանկապարտեզ | D24: =+E24+F24+G24+H24 -> 25763.8 | H24: 25763.8
C25: Ապարան համայնքի Արագածի Գուսան Աշխույժի անվան մանկապարտեզ | D25: =+E25+F25+G25+H25 -> 37585.6 | H25: 37585.6
C26: Ալագյազ համայնքի «Մոդուլային» տիպի 144 տեղ հզորությամբ մսուր-մանկապարտեզ | D26: =+E26+F26+G26+H26 -> 14199.8 | H26: 14199.8
C27: Աշտարակի թիվ 4 «Հասմիկ» մանկապարտեզ | D27: =+E27+F27+G27+H27 -> 43719.8 | H27: 43719.8
C28: ՀՀ Արարատի մարզ | D28: =SUM(E28:H28) -> 55658.5 | E28: =SUM(E29:E32) -> 0 | F28: =SUM(F29:F32) -> 0 | G28: =SUM(G29:G32) -> 0 | H28: =SUM(H29:H32) -> 55658.5
C29: Մասիս համայնքի Մասիս քաղաքի թիվ 3 մսուր մանկապարտեզ | D29: =+E29+F29+G29+H29 -> 14591.2 | H29: 14591.2
C30: Մասիս համայնքի Մասիս քաղաքի թիվ 1 մսուր մանկապարտեզ | D30: =+E30+F30+G30+H30 -> 19246.3 | H30: 19246.3
C31: Մասիս համայնքի Դաշտավան գյուղի մանկապարտեզ | D31: =+E31+F31+G31+H31 -> 9670.8 | H31: 9670.8
C32: Արարատ համայնքի Ավշար գյուղի մանկապարտեզ | D32: =+E32+F32+G32+H32 -> 12150.2 | H32: 12150.2
C33: ՀՀ Արմավիրի մարզ | D33: =SUM(E33:H33) -> 794409.2 | E33: =SUM(E34:E61) -> 0 | F33: =SUM(F34:F61) -> 0 | G33: =SUM(G34:G61) -> 0 | H33: =SUM(H34:H61) -> 794409.2
C34: Արաքս համայնքի Խորոնք գյուղի մանկապարտեզ | D34: =+E34+F34+G34+H34 -> 33828.7 | H34: 33828.7
C35: Արաքս համայնքի Ջրառատ գյուղի մանկապարտեզ | D35: =+E35+F35+G35+H35 -> 35432 | H35: 35432
C36: Արաքս համայնքի Մեծամոր գյուղի մանկապարտեզ | D36: =+E36+F36+G36+H36 -> 35022 | H36: 35022
C37: Բաղրամյան համայնքի Հուշակերտ գյուղի մանկապարտեզ | D37: =+E37+F37+G37+H37 -> 28825.9 | H37: 28825.9
C38: Արմավիր համայնքի Սարդարապատ գյուղի մանկապարտեզ | D38: =+E38+F38+G38+H38 -> 5396.8 | H38: 5396.8
C39: Արմավիր համայնքի Արաքս գյուղի մանկապարտեզ | D39: =+E39+F39+G39+H39 -> 5396.8 | H39: 5396.8
C40: Մեծամոր համայնքի Ջանֆիդա գյուղի Վազգեն Սարգսյանի անվան մանկապարտեզ | D40: =+E40+F40+G40+H40 -> 14625.4 | H40: 14625.4
C41: Մեծամոր համայնքի Զարթոնք գյուղի մանկապարտեզ | D41: =+E41+F41+G41+H41 -> 11771.6 | H41: 11771.6
C42: Մեծամոր համայնքի Արևիկ գյուղի «Մոդուլային» տիպի 144 տեղ հզորությամբ մսուր-մանկապարտեզ | D42: =+E42+F42+G42+H42 -> 11038.4 | H42: 11038.4
C43: Վաղարշապատ համայնքի թիվ 10 «Ոսկեհատ» մանկապարտեզ | D43: =+E43+F43+G43+H43 -> 930.4 | H43: 930.4
C44: Վաղարշապատ համայնքի թիվ 3 Ծիծեռնակ մսուր-մանկապարտեզ | D44: =+E44+F44+G44+H44 -> 22139.8 | H44: 22139.8
C45: Արաքս համայնքի Գայ գյուղի մանկապարտեզ | D45: =+E45+F45+G45+H45 -> 14813.2 | H45: 14813.2
... C61: Փարաքար համայնքի Բաղրամյան գյուղի մանկապարտեզ | D61: =+E61+F61+G61+H61 -> 27866.8 | H61: 27866.8
C62: ՀՀ Գեղարքունիքի մարզ | D62: =SUM(E62:H62) -> 75451.3 | E62: =SUM(E63:E64) -> 0 | F62: =SUM(F63:F64) -> 0 | G62: =SUM(G63:G64) -> 0 | H62: =SUM(H63:H64) -> 75451.3
C63: Մարտունու համայնքի Ծովասար գյուղի մանկապարտեզ | D63: =+E63+F63+G63+H63 -> 32316.4 | H63: 32316.4
C64: Մարտունու համայնքի Վարդենիկ բնակավայրի Բանավան թաղամասի թիվ 1 մանկապարտեզ | D64: =+E64+F64+G64+H64 -> 43134.9 | H64: 43134.9
C65: ՀՀ Լոռու մարզ | D65: =SUM(E65:H65) -> 244729.2 | E65: =SUM(E66:E79) -> 0 | F65: =SUM(F66:F79) -> 0 | G65: =SUM(G66:G79) -> 0 | H65: =SUM(H66:H79) -> 244729.2
C66: Ալավերդի համայնքի Մեծ Այրում գյուղի մանկապարտեզ | D66: =+E66+F66+G66+H66 -> 14357.5 | H66: 14357.5
C67: Ալավերդի համայնքի Ճոճկան գյուղի մանկապարտեզ | D67: =+E67+F67+G67+H67 -> 14405.5 | H67: 14405.5
C68: Ալավերդի համայնքի Շնող գյուղի «Հեքիաթ» մանկապարտեզի Քարկոփի մասնաճյուղ | D68: =+E68+F68+G68+H68 -> 4817.6 | H68: 4817.6
C69: Ալավերդի համայնքի թիվ 6 մանկապարտեզ | D69: =+E69+F69+G69+H69 -> 42428 | H69: 42428
C70: Տաշիր համայնքի Ամալյա Կարապետյանի անվան համար 4 մանկապարտեզ, Պրիվոլնոյե | D70: =+E70+F70+G70+H70 -> 11159.8 | H70: 11159.8
C71: Վանաձոր համայնքի թիվ 8 մանկապարտեզ | D71: =+E71+F71+G71+H71 -> 46756.4 | H71: 46756.4
C72: Փամբակ համայնքի Լեռնապատ գյուղի մանկապարտեզ | D72: =+E72+F72+G72+H72 -> 14315.3 | H72: 14315.3
C73: Ստեփանավան համայնքի Արմանիս գյուղի մանկապարտեզ | D73: =+E73+F73+G73+H73 -> 12084.9 | H73: 12084.9
C74: Ստեփանավան համայնքի Կաթնաղբյուր գյուղի մանկապարտեզ | D74: =+E74+F74+G74+H74 -> 12814.8 | H74: 12814.8
C75: Գյուլագարակ համայնքի Կուրթան գյուղի մանկապարտեզ | D75: =+E75+F75+G75+H75 -> 15502.9 | H75: 15502.9
C76: Գյուլագարակ համայնքի Վարդաբլուր գյուղի մանկապարտեզ | D76: =+E76+F76+G76+H76 -> 14971.9 | H76: 14971.9
C77: Լոռի Բերդ համայնքի Ուռուտ գյուղի մանկապարտեզ | D77: =+E77+F77+G77+H77 -> 13823.1 | H77: 13823.1
... C79: Լոռի Բերդ համայնքի Ագարակ գյուղի մանկապարտեզ | D79: =+E79+F79+G79+H79 -> 13468.4 | H79: 13468.4
C80: ՀՀ Կոտայքի մարզ | D80: =SUM(E80:H80) -> 302655 | E80: =SUM(E81:E90) -> 0 | F80: =SUM(F81:F90) -> 0 | G80: =SUM(G81:G90) -> 0 | H80: =SUM(H81:H90) -> 302655
C81: Հրազդան համայնքի թիվ 6 մանկապարտեզ | D81: =+E81+F81+G81+H81 -> 39144.4 | H81: 39144.4
C82: Հրազդան համայնքի թիվ 8 մանկապարտեզ | D82: =+E82+F82+G82+H82 -> 29070.9 | H82: 29070.9
C83: Հրազդան համայնքի թիվ 11 մանկապարտեզ | D83: =+E83+F83+G83+H83 -> 29070.9 | H83: 29070.9
C84: Աբովյան համայնքի Արամուս գյուղի մանկապարտեզ | D84: =+E84+F84+G84+H84 -> 41161.9 | H84: 41161.9
C85: Աբովյան համայնքի Բալահովիտ գյուղի մանկապարտեզ | D85: =+E85+F85+G85+H85 -> 26946.6 | H85: 26946.6
C86: Նաիրի համայնքի Արագյուղ գյուղի մանկապարտեզ | D86: =+E86+F86+G86+H86 -> 31061.4 | H86: 31061.4
C87: Նաիրի համայնքի Բուժական գյուղի մանկապարտեզ | D87: =+E87+F87+G87+H87 -> 31061.4 | H87: 31061.4
C88: Նաիրի համայնքի Պռոշյանի թիվ 1 մսուր մանկապարտեզ | D88: =+E88+F88+G88+H88 -> 41561.2 | H88: 41561.2
C89: Նաիրի համայնքի Զովունի բնակավայրի մանկապարտեզ | D89: =+E89+F89+G89+H89 -> 2753.3 | H89: 2753.3
C90: Ակունք համայնքի Նոր Գյուղ բնակավայրի մանկապարտեզ | D90: =+E90+F90+G90+H90 -> 30823 | H90: 30823
C91: ՀՀ Շիրակի մարզ | D91: =SUM(E91:H91) -> 459760.9 | E91: =SUM(E92:E111) -> 0 | F91: =SUM(F92:F111) -> 0 | G91: =SUM(G92:G111) -> 0 | H91: =SUM(H92:H111) -> 459760.9
C92: Արթիկ համայնքի Արթիկի թիվ 1 մանկապարտեզ | D92: =+E92+F92+G92+H92 -> 32777.7 | H92: 32777.7
C93: Արթիկ համայնքի Լեռնակերտ գյուղի մանկապարտեզ | D93: =+E93+F93+G93+H93 -> 28364.2 | H93: 28364.2
C94: Ախուրյան համայնքի Վահրամաբերդ գյուղի մսուր-մանկապարտեզ | D94: =+E94+F94+G94+H94 -> 29931.8 | H94: 29931.8
C95: Ախուրյան համայնքի Ախուրիկ գյուղի մսուր- մանկապարտեզ | D95: =+E95+F95+G95+H95 -> 29931.8 | H95: 29931.8
C96: Ախուրյան համայնքի Շիրակ գյուղի մանկապարտեզ | D96: =+E96+F96+G96+H96 -> 29931.8 | H96: 29931.8
C97: Գյումրի համայնքի «Սուրբ Մարիամ - մսուր մանկապարտեզ | D97: =+E97+F97+G97+H97 -> 4041.4 | H97: 4041.4
C98: Ախուրյան համայնքի Ջրառատ գյուղի մանկապարտեզ | D98: =+E98+F98+G98+H98 -> 16058.9 | H98: 16058.9
C99: Ախուրյան համայնքի Կառնուտ գյուղի մանկապարտեզ | D99: =+E99+F99+G99+H99 -> 16058.9 | H99: 16058.9
C100: Ախուրյան համայնքի Բայանդուր գյուղի մանկապարտեզ | D100: =+E100+F100+G100+H100 -> 16058.9 | H100: 16058.9
C101: Ախուրյան համայնքի Մարմաշեն գյուղի Հենրիկ Սերոբյանի անվան մանկապարտեզ | D101: =+E101+F101+G101+H101 -> 9092.4 | H101: 9092.4
C102: Ախուրյան համայնքի Քեթի գյուղի մանկապարտեզ | D102: =+E102+F102+G102+H102 -> 9414.4 | H102: 9414.4
C103: Ախուրյան համայնքի Հացիկ գյուղի մանկապարտեզ | D103: =+E103+F103+G103+H103 -> 14261.4 | H103: 14261.4
... C111: Արթիկ համայնքի Փանիկ գյուղի մանկապարտեզ | D111: =+E111+F111+G111+H111 -> 22356.2 | H111: 22356.2
C112: ՀՀ Սյունիքի մարզ | D112: =SUM(E112:H112) -> 108557.4 | E112: =SUM(E113:E115) -> 0 | F112: =SUM(F113:F115) -> 0 | G112: =SUM(G113:G115) -> 0 | H112: =SUM(H113:H115) -> 108557.4
C113: Ագարակի մանկապարտեզի Ալվանք գյուղի մասնաճյուղ | D113: =+E113+F113+G113+H113 -> 17572.3 | H113: 17572.3
C114: Կապան քաղաքի թիվ 2 մանկապարտեզ | D114: =+E114+F114+G114+H114 -> 38682 | H114: 38682
C115: Կապան քաղաքի թիվ 1 մանկապարտեզ | D115: =+E115+F115+G115+H115 -> 52303.1 | H115: 52303.1
C116: ՀՀ Տավուշի մարզ | D116: =SUM(E116:H116) -> 66319.9 | E116: =SUM(E117:E123) -> 0 | F116: =SUM(F117:F123) -> 0 | G116: =SUM(G117:G123) -> 0 | H116: =SUM(H117:H123) -> 66319.9
C117: Նոյեմբերյան համայնքի Դեբեդավան գյուղի մանկապարտեզ | D117: =+E117+F117+G117+H117 -> 4746.4 | H117: 4746.4
C118: Նոյեմբերյան համայնքի Հաղթանակ գյուղի մանկապարտեզ | D118: =+E118+F118+G118+H118 -> 7320.8 | H118: 7320.8
C119: Իջևան քաղաքի թիվ 5 մանկապարտեզ | D119: =+E119+F119+G119+H119 -> 17790.9 | H119: 17790.9
C120: Իջևան համայնքի Ներքին Ծաղկավան գյուղի մանկապարտեզ | D120: =+E120+F120+G120+H120 -> 1261.7 | H120: 1261.7
C121: Բերդ համայնքի Արծվաբերդ գյուղի մանկապարտեզ | D121: =+E121+F121+G121+H121 -> 6769.5 | H121: 6769.5
C122: Բերդ համայնքի Այգեձոր գյուղի մանկապարտեզ | D122: =+E122+F122+G122+H122 -> 1740.7 | H122: 1740.7
C123: Իջևան համայնքի Խաշթառակ գյուղի մանկապարտեզ | D123: =+E123+F123+G123+H123 -> 26689.9 | H123: 26689.9

Sheet Հավելված N 4
F1: Հավելված N 4
E2: ՀՀ կառավարության 2024 թվականի
F3: ______________ ի ___Ն որոշման
B6: ՀԱՅԱՍՏԱՆԻ ՀԱՆՐԱՊԵՏՈՒԹՅԱՆ ԿԱՌԱՎԱՐՈՒԹՅԱՆ 2023 ԹՎԱԿԱՆԻ ԴԵԿՏԵՄԲԵՐԻ 28-Ի N 2323-Ն ՈՐՈՇՄԱՆ N 5 ՀԱՎԵԼՎԱԾԻ N 2 ԱՂՅՈՒՍԱԿՈՒՄ ԿԱՏԱՐՎՈՂ ՓՈՓՈԽՈՒԹՅՈՒՆԸ ԵՎ ԼՐԱՑՈՒՄՆԵՐԸ
G8: հազ. դրամներով
B9: Ծրագրային դասիչ | D9: Բյուջետային գլխավոր կարգադրիչների, ծրագրերի, միջոցառումների, միջոցառումները կատարող պետական մարմինների և ուղղությունների անվանումները | E9: Ցուցանիշների փոփոխությունը (ավելացումները նշված են դրական նշանով, իսկ նվազեցումները՝ փակագծերում)
B10: Ծրագիր | C10: Միջոցառում | E10: Առաջին կիսամյակ | F10: Ինն ամիս | G10: Տարի
D11: ՀՀ ԿՐԹՈՒԹՅԱՆ, ԳԻՏՈՒԹՅԱՆ, ՄՇԱԿՈՒՅԹԻ ԵՎ ՍՊՈՐՏԻ ՆԱԽԱՐԱՐՈՒԹՅՈՒՆ | E11: =+E13+E20 -> 0 | F11: =+F13+F20 -> 0 | G11: =+G13+G20 -> 0
D12: այդ թվում՝
B13: 1236 | C13: 32002 | D13: Մանկապարտեզների շենքերի վերակառուցում, հիմնանորոգում | E13: =+E15+E19 -> 0 | F13: =+F15+F19 -> -2254574.2 | G13: =+G15+G19 -> -2254574.2
D14: այդ թվում` ըստ կատարողների
D15: ՀՀ Գեղարքունիքի մարզպետի աշխատակազմ | E15: =+E17 -> 0 | F15: =+F17 -> 33557.2 | G15: =+G17 -> 55928.8
D16: այդ թվում՝ ըստ ուղղությունների
D17: ՀՀ Գեղարքունիքի մարզ | E17: =+E18 -> 0 | F17: =+F18 -> 33557.2 | G17: =+G18 -> 55928.8
D18: =+'Հավելված N 3'!C19 -> Վարդենիս համայնքի Գեղամասար բնակավայրի մանկապարտեզ | E18: 0 | F18: =33000+357.3+199.9 -> 33557.2 | G18: =+'Հավելված N 3'!D19 -> 55928.8
D19: ՀՀ կառավարություն | E19: 0 | F19: =-F15-F20 -> -2288131.4 | G19: =+'Հավելված N 3'!D17 -> -2310503
B20: 1236 | C20: 32006 | D20: Հանրակրթական դպրոցների, մանկապարտեզների և կրթահամալիրների գույքով և տեխնիկայով ապահովում | E20: =+E22+E30+E38+E69+E74+E91+E104+E127+E133 -> 0 | F20: =+F22+F30+F38+F69+F74+F91+F104+F127+F133 -> 2254574.2 | G20: =+G22+G30+G38+G69+G74+G91+G104+G127+G133 -> 2254574.2
D21: այդ թվում` ըստ կատարողների
D22: ՀՀ Արագածոտնի մարզպետի աշխատակազմ | E22: =+E24 -> 0 | F22: =+F24 -> 147032.8 | G22: =+G24 -> 147032.8
D23: այդ թվում՝ ըստ ուղղությունների
D24: ՀՀ Արագածոտնի մարզ | E24: =SUM(E25:E29) -> 0 | F24: =SUM(F25:F29) -> 147032.8 | G24: =SUM(G25:G29) -> 147032.8
D25: =+'Հավելված N 3'!C23 -> Արտաշավան բնակավայրի «Կակաչ» մանկապարտեզ | E25: 0 | F25: =+G25 -> 25763.8 | G25: =+'Հավելված N 3'!D23 -> 25763.8
D26: =+'Հավելված N 3'!C24 -> Ապարան համայնքի Շենավան գյուղի մանկապարտեզ | E26: 0 | F26: =+G26 -> 25763.8 | G26: =+'Հավելված N 3'!D24 -> 25763.8
D27: =+'Հավելված N 3'!C25 -> Ապարան համայնքի Արագածի Գուսան Աշխույժի անվան մանկապարտեզ | E27: 0 | F27: =+G27 -> 37585.6 | G27: =+'Հավելված N 3'!D25 -> 37585.6
D28: =+'Հավելված N 3'!C26 -> Ալագյազ համայնքի «Մոդուլային» տիպի 144 տեղ հզորությամբ մսուր-մանկապարտեզ | E28: 0 | F28: =+G28 -> 14199.8 | G28: =+'Հավելված N 3'!D26 -> 14199.8
D29: =+'Հավելված N 3'!C27 -> Աշտարակի թիվ 4 «Հասմիկ» մանկապարտեզ | E29: 0 | F29: =+G29 -> 43719.8 | G29: =+'Հավելված N 3'!D27 -> 43719.8
D30: ՀՀ Արարատի մարզպետի աշխատակազմ | E30: =+E32 -> 0 | F30: =+F32 -> 55658.5 | G30: =+G32 -> 55658.5
D31: այդ թվում՝ ըստ ուղղությունների
D32: ՀՀ Արարատի մարզ | E32: =SUM(E33:E36) -> 0 | F32: =SUM(F33:F36) -> 55658.5 | G32: =SUM(G33:G36) -> 55658.5
D33: =+'Հավելված N 3'!C29 -> Մասիս համայնքի Մասիս քաղաքի թիվ 3 մսուր մանկապարտեզ | E33: 0 | F33: =+G33 -> 14591.2 | G33: =+'Հավելված N 3'!D29 -> 14591.2
D34: =+'Հավելված N 3'!C30 -> Մասիս համայնքի Մասիս քաղաքի թիվ 1 մսուր մանկապարտեզ | E34: 0 | F34: =+G34 -> 19246.3 | G34: =+'Հավելված N 3'!D30 -> 19246.3
D35: =+'Հավելված N 3'!C31 -> Մասիս համայնքի Դաշտավան գյուղի մանկապարտեզ | E35: 0 | F35: =+G35 -> 9670.8 | G35: =+'Հավելված N 3'!D31 -> 9670.8
D36: =+'Հավելված N 3'!C32 -> Արարատ համայնքի Ավշար գյուղի մանկապարտեզ | E36: 0 | F36: =+G36 -> 12150.2 | G36: =+'Հավելված N 3'!D32 -> 12150.2
D37: =+'Հավելված N 3'!C35 -> Արաքս համայնքի Ջրառատ գյուղի մանկապարտեզ | E37: 0 | F37: =+G37 -> 35432 | G37: =+'Հավելված N 3'!D35 -> 35432
D38: ՀՀ Արմավիրի մարզպետի աշխատակազմ | E38: =+E40 -> 0 | F38: =+F40 -> 794409.2 | G38: =+G40 -> 794409.2
D39: այդ թվում՝ ըստ ուղղությունների
D40: ՀՀ Արմավիրի մարզ | E40: =SUM(E41:E68) -> 0 | F40: =SUM(F41:F68) -> 794409.2 | G40: =SUM(G41:G68) -> 794409.2
D41: =+'Հավելված N 3'!C34 -> Արաքս համայնքի Խորոնք գյուղի մանկապարտեզ | E41: 0 | F41: =+G41 -> 33828.7 | G41: =+'Հավելված N 3'!D34 -> 33828.7
D42: =+'Հավելված N 3'!C35 -> Արաքս համայնքի Ջրառատ գյուղի մանկապարտեզ | E42: 0 | F42: =+G42 -> 35432 | G42: =+'Հավելված N 3'!D35 -> 35432
D43: =+'Հավելված N 3'!C36 -> Արաքս համայնքի Մեծամոր գյուղի մանկապարտեզ | E43: 0 | F43: =+G43 -> 35022 | G43: =+'Հավելված N 3'!D36 -> 35022
D44: =+'Հավելված N 3'!C37 -> Բաղրամյան համայնքի Հուշակերտ գյուղի մանկապարտեզ | E44: 0 | F44: =+G44 -> 28825.9 | G44: =+'Հավելված N 3'!D37 -> 28825.9
D45: =+'Հավելված N 3'!C38 -> Արմավիր համայնքի Սարդարապատ գյուղի մանկապարտեզ | E45: 0 | F45: =+G45 -> 5396.8 | G45: =+'Հավելված N 3'!D38 -> 5396.8
D46: =+'Հավելված N 3'!C39 -> Արմավիր համայնքի Արաքս գյուղի մանկապարտեզ | E46: 0 | F46: =+G46 -> 5396.8 | G46: =+'Հավելված N 3'!D39 -> 5396.8
D47: =+'Հավելված N 3'!C40 -> Մեծամոր համայնքի Ջանֆիդա գյուղի Վազգեն Սարգսյանի անվան մանկապարտեզ | E47: 0 | F47: =+G47 -> 14625.4 | G47: =+'Հավելված N 3'!D40 -> 14625.4
D48: =+'Հավելված N 3'!C41 -> Մեծամոր համայնքի Զարթոնք գյուղի մանկապարտեզ | E48: 0 | F48: =+G48 -> 11771.6 | G48: =+'Հավելված N 3'!D41 -> 11771.6
D49: =+'Հավելված N 3'!C42 -> Մեծամոր համայնքի Արևիկ գյուղի «Մոդուլային» տիպի 144 տեղ հզորությամբ մսուր-մանկապարտեզ | E49: 0 | F49: =+G49 -> 11038.4 | G49: =+'Հավելված N 3'!D42 -> 11038.4
D50: =+'Հավելված N 3'!C43 -> Վաղարշապատ համայնքի թիվ 10 «Ոսկեհատ» մանկապարտեզ | E50: 0 | F50: =+G50 -> 930.4 | G50: =+'Հավելված N 3'!D43 -> 930.4
D51: =+'Հավելված N 3'!C44 -> Վաղարշապատ համայնքի թիվ 3 Ծիծեռնակ մսուր-մանկապարտեզ | E51: 0 | F51: =+G51 -> 22139.8 | G51: =+'Հավելված N 3'!D44 -> 22139.8
D52: =+'Հավելված N 3'!C45 -> Արաքս համայնքի Գայ գյուղի մանկապարտեզ | E52: 0 | F52: =+G52 -> 14813.2 | G52: =+'Հավելված N 3'!D45 -> 14813.2
... D68: =+'Հավելված N 3'!C61 -> Փարաքար համայնքի Բաղրամյան գյուղի մանկապարտեզ | E68: 0 | F68: =+G68 -> 27866.8 | G68: =+'Հավելված N 3'!D61 -> 27866.8
D69: ՀՀ Գեղարքունիքի մարզպետի աշխատակազմ | E69: =+E71 -> 0 | F69: =+F71 -> 75451.3 | G69: =+G71 -> 75451.3
D70: այդ թվում՝ ըստ ուղղությունների
D71: ՀՀ Գեղարքունիքի մարզ | E71: =SUM(E72:E73) -> 0 | F71: =SUM(F72:F73) -> 75451.3 | G71: =SUM(G72:G73) -> 75451.3
D72: =+'Հավելված N 3'!C63 -> Մարտունու համայնքի Ծովասար գյուղի մանկապարտեզ | E72: 0 | F72: =+G72 -> 32316.4 | G72: =+'Հավելված N 3'!D63 -> 32316.4
D73: =+'Հավելված N 3'!C64 -> Մարտունու համայնքի Վարդենիկ բնակավայրի Բանավան թաղամասի թիվ 1 մանկապարտեզ | E73: 0 | F73: =+G73 -> 43134.9 | G73: =+'Հավելված N 3'!D64 -> 43134.9
D74: ՀՀ Լոռու մարզպետի աշխատակազմ | E74: =+E76 -> 0 | F74: =+F76 -> 244729.2 | G74: =+G76 -> 244729.2
D75: այդ թվում՝ ըստ ուղղությունների
D76: ՀՀ Լոռու մարզ | E76: =SUM(E77:E90) -> 0 | F76: =SUM(F77:F90) -> 244729.2 | G76: =SUM(G77:G90) -> 244729.2
D77: =+'Հավելված N 3'!C66 -> Ալավերդի համայնքի Մեծ Այրում գյուղի մանկապարտեզ | E77: 0 | F77: =+G77 -> 14357.5 | G77: =+'Հավելված N 3'!D66 -> 14357.5
D78: =+'Հավելված N 3'!C67 -> Ալավերդի համայնքի Ճոճկան գյուղի մանկապարտեզ | E78: 0 | F78: =+G78 -> 14405.5 | G78: =+'Հավելված N 3'!D67 -> 14405.5
D79: =+'Հավելված N 3'!C68 -> Ալավերդի համայնքի Շնող գյուղի «Հեքիաթ» մանկապարտեզի Քարկոփի մասնաճյուղ | E79: 0 | F79: =+G79 -> 4817.6 | G79: =+'Հավելված N 3'!D68 -> 4817.6
D80: =+'Հավելված N 3'!C69 -> Ալավերդի համայնքի թիվ 6 մանկապարտեզ | E80: 0 | F80: =+G80 -> 42428 | G80: =+'Հավելված N 3'!D69 -> 42428
D81: =+'Հավելված N 3'!C70 -> Տաշիր համայնքի Ամալյա Կարապետյանի անվան համար 4 մանկապարտեզ, Պրիվոլնոյե | E81: 0 | F81: =+G81 -> 11159.8 | G81: =+'Հավելված N 3'!D70 -> 11159.8
D82: =+'Հավելված N 3'!C71 -> Վանաձոր համայնքի թիվ 8 մանկապարտեզ | E82: 0 | F82: =+G82 -> 46756.4 | G82: =+'Հավելված N 3'!D71 -> 46756.4
D83: =+'Հավելված N 3'!C72 -> Փամբակ համայնքի Լեռնապատ գյուղի մանկապարտեզ | E83: 0 | F83: =+G83 -> 14315.3 | G83: =+'Հավելված N 3'!D72 -> 14315.3
D84: =+'Հավելված N 3'!C73 -> Ստեփանավան համայնքի Արմանիս գյուղի մանկապարտեզ | E84: 0 | F84: =+G84 -> 12084.9 | G84: =+'Հավելված N 3'!D73 -> 12084.9
D85: =+'Հավելված N 3'!C74 -> Ստեփանավան համայնքի Կաթնաղբյուր գյուղի մանկապարտեզ | E85: 0 | F85: =+G85 -> 12814.8 | G85: =+'Հավելված N 3'!D74 -> 12814.8
D86: =+'Հավելված N 3'!C75 -> Գյուլագարակ համայնքի Կուրթան գյուղի մանկապարտեզ | E86: 0 | F86: =+G86 -> 15502.9 | G86: =+'Հավելված N 3'!D75 -> 15502.9
D87: =+'Հավելված N 3'!C76 -> Գյուլագարակ համայնքի Վարդաբլուր գյուղի մանկապարտեզ | E87: 0 | F87: =+G87 -> 14971.9 | G87: =+'Հավելված N 3'!D76 -> 14971.9
D88: =+'Հավելված N 3'!C77 -> Լոռի Բերդ համայնքի Ուռուտ գյուղի մանկապարտեզ | E88: 0 | F88: =+G88 -> 13823.1 | G88: =+'Հավելված N 3'!D77 -> 13823.1
... D90: =+'Հավելված N 3'!C79 -> Լոռի Բերդ համայնքի Ագարակ գյուղի մանկապարտեզ | E90: 0 | F90: =+G90 -> 13468.4 | G90: =+'Հավելված N 3'!D79 -> 13468.4
D91: ՀՀ Կոտայքի մարզպետի աշխատակազմ | E91: =+E93 -> 0 | F91: =+F93 -> 302655 | G91: =+G93 -> 302655
D92: այդ թվում՝ ըստ ուղղությունների
D93: ՀՀ Կոտայքի մարզ | E93: =SUM(E94:E103) -> 0 | F93: =SUM(F94:F103) -> 302655 | G93: =SUM(G94:G103) -> 302655
D94: =+'Հավելված N 3'!C81 -> Հրազդան համայնքի թիվ 6 մանկապարտեզ | E94: 0 | F94: =+G94 -> 39144.4 | G94: =+'Հավելված N 3'!D81 -> 39144.4
D95: =+'Հավելված N 3'!C82 -> Հրազդան համայնքի թիվ 8 մանկապարտեզ | E95: 0 | F95: =+G95 -> 29070.9 | G95: =+'Հավելված N 3'!D82 -> 29070.9
D96: =+'Հավելված N 3'!C83 -> Հրազդան համայնքի թիվ 11 մանկապարտեզ | E96: 0 | F96: =+G96 -> 29070.9 | G96: =+'Հավելված N 3'!D83 -> 29070.9
D97: =+'Հավելված N 3'!C84 -> Աբովյան համայնքի Արամուս գյուղի մանկապարտեզ | E97: 0 | F97: =+G97 -> 41161.9 | G97: =+'Հավելված N 3'!D84 -> 41161.9
D98: =+'Հավելված N 3'!C85 -> Աբովյան համայնքի Բալահովիտ գյուղի մանկապարտեզ | E98: 0 | F98: =+G98 -> 26946.6 | G98: =+'Հավելված N 3'!D85 -> 26946.6
D99: =+'Հավելված N 3'!C86 -> Նաիրի համայնքի Արագյուղ գյուղի մանկապարտեզ | E99: 0 | F99: =+G99 -> 31061.4 | G99: =+'Հավելված N 3'!D86 -> 31061.4
D100: =+'Հավելված N 3'!C87 -> Նաիրի համայնքի Բուժական գյուղի մանկապարտեզ | E100: 0 | F100: =+G100 -> 31061.4 | G100: =+'Հավելված N 3'!D87 -> 31061.4
D101: =+'Հավելված N 3'!C88 -> Նաիրի համայնքի Պռոշյանի թիվ 1 մսուր մանկապարտեզ | E101: 0 | F101: =+G101 -> 41561.2 | G101: =+'Հավելված N 3'!D88 -> 41561.2
D102: =+'Հավելված N 3'!C89 -> Նաիրի համայնքի Զովունի բնակավայրի մանկապարտեզ | E102: 0 | F102: =+G102 -> 2753.3 | G102: =+'Հավելված N 3'!D89 -> 2753.3
D103: =+'Հավելված N 3'!C90 -> Ակունք համայնքի Նոր Գյուղ բնակավայրի մանկապարտեզ | E103: 0 | F103: =+G103 -> 30823 | G103: =+'Հավելված N 3'!D90 -> 30823
D104: ՀՀ Շիրակի մարզպետի աշխատակազմ | E104: =+E106 -> 0 | F104: =+F106 -> 459760.9 | G104: =+G106 -> 459760.9
D105: այդ թվում՝ ըստ ուղղությունների
D106: ՀՀ Շիրակի մարզ | E106: =SUM(E107:E126) -> 0 | F106: =SUM(F107:F126) -> 459760.9 | G106: =SUM(G107:G126) -> 459760.9
D107: =+'Հավելված N 3'!C92 -> Արթիկ համայնքի Արթիկի թիվ 1 մանկապարտեզ | E107: 0 | F107: =+G107 -> 32777.7 | G107: =+'Հավելված N 3'!D92 -> 32777.7
D108: =+'Հավելված N 3'!C93 -> Արթիկ համայնքի Լեռնակերտ գյուղի մանկապարտեզ | E108: 0 | F108: =+G108 -> 28364.2 | G108: =+'Հավելված N 3'!D93 -> 28364.2
D109: =+'Հավելված N 3'!C94 -> Ախուրյան համայնքի Վահրամաբերդ գյուղի մսուր-մանկապարտեզ | E109: 0 | F109: =+G109 -> 29931.8 | G109: =+'Հավելված N 3'!D94 -> 29931.8
D110: =+'Հավելված N 3'!C95 -> Ախուրյան համայնքի Ախուրիկ գյուղի մսուր- մանկապարտեզ | E110: 0 | F110: =+G110 -> 29931.8 | G110: =+'Հավելված N 3'!D95 -> 29931.8
D111: =+'Հավելված N 3'!C96 -> Ախուրյան համայնքի Շիրակ գյուղի մանկապարտեզ | E111: 0 | F111: =+G111 -> 29931.8 | G111: =+'Հավելված N 3'!D96 -> 29931.8
D112: =+'Հավելված N 3'!C97 -> Գյումրի համայնքի «Սուրբ Մարիամ - մսուր մանկապարտեզ | E112: 0 | F112: =+G112 -> 4041.4 | G112: =+'Հավելված N 3'!D97 -> 4041.4
D113: =+'Հավելված N 3'!C98 -> Ախուրյան համայնքի Ջրառատ գյուղի մանկապարտեզ | E113: 0 | F113: =+G113 -> 16058.9 | G113: =+'Հավելված N 3'!D98 -> 16058.9
D114: =+'Հավելված N 3'!C99 -> Ախուրյան համայնքի Կառնուտ գյուղի մանկապարտեզ | E114: 0 | F114: =+G114 -> 16058.9 | G114: =+'Հավելված N 3'!D99 -> 16058.9
D115: =+'Հավելված N 3'!C100 -> Ախուրյան համայնքի Բայանդուր գյուղի մանկապարտեզ | E115: 0 | F115: =+G115 -> 16058.9 | G115: =+'Հավելված N 3'!D100 -> 16058.9
D116: =+'Հավելված N 3'!C101 -> Ախուրյան համայնքի Մարմաշեն գյուղի Հենրիկ Սերոբյանի անվան մանկապարտեզ | E116: 0 | F116: =+G116 -> 9092.4 | G116: =+'Հավելված N 3'!D101 -> 9092.4
D117: =+'Հավելված N 3'!C102 -> Ախուրյան համայնքի Քեթի գյուղի մանկապարտեզ | E117: 0 | F117: =+G117 -> 9414.4 | G117: =+'Հավելված N 3'!D102 -> 9414.4
D118: =+'Հավելված N 3'!C103 -> Ախուրյան համայնքի Հացիկ գյուղի մանկապարտեզ | E118: 0 | F118: =+G118 -> 14261.4 | G118: =+'Հավելված N 3'!D103 -> 14261.4
... D126: =+'Հավելված N 3'!C111 -> Արթիկ համայնքի Փանիկ գյուղի մանկապարտեզ | E126: 0 | F126: =+G126 -> 22356.2 | G126: =+'Հավելված N 3'!D111 -> 22356.2
...

Sheet Հավելված N 5
C1: Հավելված N 5
C2: ՀՀ կառավարության 2024 թվականի
C3: ______________ ի ___Ն որոշման
B6: ՀԱՅԱՍՏԱՆԻ ՀԱՆՐԱՊԵՏՈՒԹՅԱՆ ԿԱՌԱՎԱՐՈՒԹՅԱՆ 2023 ԹՎԱԿԱՆԻ ԴԵԿՏԵՄԲԵՐԻ 28-Ի N 2323-Ն ՈՐՈՇՄԱՆ N 9 ՀԱՎԵԼՎԱԾԻ N 9.13 ԱՂՅՈՒՍԱԿՈՒՄ ԿԱՏԱՐՎՈՂ ՓՈՓՈԽՈՒԹՅՈՒՆՆԵՐԸ ԵՎ ԼՐԱՑՈՒՄՆԵՐԸ
A8: Աղյուսակ 9․13
C9: ՀՀ կրթության, գիտության, մշակույթի և սպորտի նախարարություն
B10: ՄԱՍ 2. ՊԵՏԱԿԱՆ ՄԱՐՄՆԻ ԳԾՈՎ ԱՐԴՅՈՒՆՔԱՅԻՆ (ԿԱՏԱՐՈՂԱԿԱՆ) ՑՈՒՑԱՆԻՇՆԵՐԸ
B13: Ծրագրի դասիչը | C13: Ծրագրի անվանումը
B14: 1236 | C14: Հանրակրթական և նախադպրոցական հաստատությունների հիմնում, կառուցում, բարելավում
B16: Ծրագրի միջոցառումները
B17: Ծրագրի դասիչը՝ | C17: 1236 | D17: Ցուցանիշների փոփոխությունը (ավելացումները նշված են դրական նշանով, իսկ նվազեցումները՝ փակագծերում)
B18: Միջոցառման դասիչը՝ | C18: 32002 | D18: Առաջին կիսամյակ | E18: Ինն ամիս | F18: Տարի
B19: Միջոցառման անվանումը` | C19: Մանկապարտեզների շենքերի վերակառուցում, հիմնանորոգում
B20: Նկարագրությունը` | C20: Նախադպրոցական կրթության հասանելիության ապահովման նպատակով՛ մանկապարտեզների շենքերի (մասնաշենքերի), վերակառուցում, հիմնանորոգում և նախագծում
B21: Միջոցառման տեսակը` | C21: Այլ պետական կազմակերպությունների կողմից օգտագործվող ոչ ֆինանսական ակտիվների հետ գործառնություններ
B22: Ակտիվն օգտագործող կազմակերպությունների անվանումները | C22: Նախադպրոցական կրթությույն իրականացնող ուսումնական հաստատություններ
B23: Արդյունքի չափորոշիչներ
B24: Հիմնանորոգվող մանկապարտեզների քանակ, հատ | F24: 1
B25: Միջոցառման վրա կատարվող ծախսը (հազար դրամ) | D25: =+'Հավելված N 1'!D23 -> 0 | E25: =+'Հավելված N 1'!E23 -> -2254574.2 | F25: =+'Հավելված N 1'!F23 -> -2254574.2
B27: Ծրագրի միջոցառումները
B28: Ծրագրի դասիչը՝ | C28: 1236 | D28: Ցուցանիշների փոփոխությունը (ավելացումները նշված են դրական նշանով)
B29: Միջոցառման դասիչը՝ | C29: 32006 | D29: Առաջին կիսամյակ | E29: Ինն ամիս | F29: Տարի
B30: Միջոցառման անվանումը` | C30: Հանրակրթական դպրոցների, մանկապարտեզների և կրթահամալիրների գույքով և տեխնիկայով ապահովում
B31: Նկարագրությունը` | C31: Կրթական ժամանակակից նորմերին և կրթական չափորոշիչներին համապատասխան ուսուցման ծրագրերն իրականացնելու նպատակով հանրակրթական և նախադպրոցական հաստատությունների համար գույքի և տեխնիկայի ձեռքբերում
B32: Միջոցառման տեսակը` | C32: Այլ պետական կազմակերպությունների կողմից օգտագործվող ոչ ֆինանսական ակտիվների հետ գործառնություններ
B33: Ակտիվն օգտագործող կազմակերպությունների անվանումները | C33: Հանրակրթական դպրոցներ, մանկապարտեզներ և կրթահամալիրներ
B34: Արդյունքի չափորոշիչներ
B35: Սուբվենցիոն ծրագրերի շրջանակներում կառուցվող(ած), վերակառուցվող(ած) և հիմնանորոգվող(ած) մանկապարտեզների թիվը, որոնք ապահովվում են գույքով, հատ | F35: 74
B36: «Սոցիալական ներդրումների և տեղական զարգացման» ծրագրի շրջանակներում կառուցվող(ած), վերակառուցվող(ած) և հիմնանորոգվող(ած) մանկապարտեզների թիվը, որոնք ապահովվում են գույքով, հատ | F36: 6
B37: Անհետաձգելի ծրագրերի շրջանակներում կառուցվող(ած), վերակառուցվող(ած) և հիմնանորոգվող(ած) մանկապարտեզների թիվը, որոնք ապահովվում են գույքով, հատ | F37: 3
B38: «Մոդուլային» տիպի 144 տեղ հզորությամբ կառուցվող(ած) մսուր–մանկապարտեզների թիվը, որոնք ապահովվում են գույքով, հատ | F38: 2
B39: Բարեգործական ծրագրերով կառուցվող(ած), վերակառուցվող(ած) և հիմնանորոգվող(ած) մանկապարտեզների թիվը, որոնք ապահովվում են գույքով, հատ | F39: 8
B40: Միջոցառման վրա կատարվող ծախսը (հազար դրամ) | D40: =+'Հավելված N 1'!D29 -> 0 | E40: =+'Հավելված N 1'!E29 -> 2254574.2 | F40: =+'Հավելված N 1'!F29 -> 2254574.2

Sheet Հավելված N 6
C1: Հավելված N 6
C2: ՀՀ կառավարության 2024 թվականի
C3: ______________ ի ___Ն որոշման
B6: ՀԱՅԱՍՏԱՆԻ ՀԱՆՐԱՊԵՏՈՒԹՅԱՆ ԿԱՌԱՎԱՐՈՒԹՅԱՆ 2023 ԹՎԱԿԱՆԻ ԴԵԿՏԵՄԲԵՐԻ 28-Ի N 2323-Ն ՈՐՈՇՄԱՆ N 9․1 ՀԱՎԵԼՎԱԾԻ NN 9.1.48, 9.1.49, 9.1.50, 9.1.51, 9.1.52, 9.1.53, 9.1.54, 9.1.55, 9.1.57 ԵՎ 9.1.58 ԱՂՅՈՒՍԱԿՆԵՐՈՒՄ ԿԱՏԱՐՎՈՂ ՓՈՓՈԽՈՒԹՅՈՒՆՆԵՐԸ ԵՎ ԼՐԱՑՈՒՄՆԵՐԸ
A8: Աղյուսակ 9․1.48
C9: ՀՀ Արագածոտնի մարզպետի աշխատակազմ
B10: ՄԱՍ 1. ՊԵՏԱԿԱՆ ՄԱՐՄՆԻ ԳԾՈՎ ԱՐԴՅՈՒՆՔԱՅԻՆ (ԿԱՏԱՐՈՂԱԿԱՆ) ՑՈՒՑԱՆԻՇՆԵՐԸ
B13: Ծրագրի միջոցառումները
B14: Ծրագրի դասիչը՝ | C14: 1236 | D14: Ցուցանիշների փոփոխությունը (ավելացումները նշված են դրական նշանով)
B15: Միջոցառման դասիչը՝ | C15: 32006 | D15: Առաջին կիսամյակ | E15: Ինն ամիս | F15: Տարի
B16: Միջոցառման անվանումը` | C16: Հանրակրթական դպրոցների, մանկապարտեզների և կրթահամալիրների գույքով և տեխնիկայով ապահովում
B17: Նկարագրությունը` | C17: Կրթական ժամանակակից նորմերին և կրթական չափորոշիչներին համապատասխան ուսուցման ծրագրերն իրականացնելու նպատակով հանրակրթական և նախադպրոցական հաստատությունների համար գույքի և տեխնիկայի ձեռքբերում
B18: Միջոցառման տեսակը` | C18: Այլ պետական կազմակերպությունների կողմից օգտագործվող ոչ ֆինանսական ակտիվների հետ գործառնություններ
B19: Ակտիվն օգտագործող կազմակերպությունների անվանումները | C19: Հանրակրթական դպրոցներ, մանկապարտեզներ և կրթահամալիրներ
B20: Արդյունքի չափորոշիչներ
B21: Սուբվենցիոն ծրագրերի շրջանակներում կառուցվող(ած), վերակառուցվող(ած) և հիմնանորոգվող(ած) մանկապարտեզների թիվը, որոնք ապահովվում են գույքով, հատ | F21: 4
B22: «Մոդուլային» տիպի 144 տեղ հզորությամբ կառուցվող(ած) մսուր–մանկապարտեզների թիվը, որոնք ապահովվում են գույքով, հատ | F22: 1
B23: Միջոցառման վրա կատարվող ծախսը (հազար դրամ) | D23: =+'Հավելված N 2'!G52 -> 0 | E23: =+'Հավելված N 2'!H52 -> 147032.8 | F23: =+'Հավելված N 2'!I52 -> 147032.8
A29: Աղյուսակ 9․1.49
C30: ՀՀ Արարատի մարզպետի աշխատակազմ
B31: ՄԱՍ 1. ՊԵՏԱԿԱՆ ՄԱՐՄՆԻ ԳԾՈՎ ԱՐԴՅՈՒՆՔԱՅԻՆ (ԿԱՏԱՐՈՂԱԿԱՆ) ՑՈՒՑԱՆԻՇՆԵՐԸ
B34: Ծրագրի միջոցառումները
B35: Ծրագրի դասիչը՝ | C35: 1236 | D35: Ցուցանիշների փոփոխությունը (ավելացումները նշված են դրական նշանով)
B36: Միջոցառման դասիչը՝ | C36: 32006 | D36: Առաջին կիսամյակ | E36: Ինն ամիս | F36: Տարի
B37: Միջոցառման անվանումը` | C37: Հանրակրթական դպրոցների, մանկապարտեզների և կրթահամալիրների գույքով և տեխնիկայով ապահովում
B38: Նկարագրությունը` | C38: Կրթական ժամանակակից նորմերին և կրթական չափորոշիչներին համապատասխան ուսուցման ծրագրերն իրականացնելու նպատակով հանրակրթական և նախադպրոցական հաստատությունների համար գույքի և տեխնիկայի ձեռքբերում
B39: Միջոցառման տեսակը` | C39: Այլ պետական կազմակերպությունների կողմից օգտագործվող ոչ ֆինանսական ակտիվների հետ գործառնություններ
B40: Ակտիվն օգտագործող կազմակերպությունների անվանումները | C40: Հանրակրթական դպրոցներ, մանկապարտեզներ և կրթահամալիրներ
B41: Արդյունքի չափորոշիչներ
B42: Սուբվենցիոն ծրագրերի շրջանակներում կառուցվող(ած), վերակառուցվող(ած) և հիմնանորոգվող(ած) մանկապարտեզների թիվը, որոնք ապահովվում են գույքով, հատ | F42: 4
B43: Միջոցառման վրա կատարվող ծախսը (հազար դրամ) | D43: =+'Հավելված N 2'!G59 -> 0 | E43: =+'Հավելված N 2'!H59 -> 55658.5 | F43: =+'Հավելված N 2'!I59 -> 55658.5
A49: Աղյուսակ 9․1.50
C50: ՀՀ Արմավիրի մարզպետի աշխատակազմ
B51: ՄԱՍ 1. ՊԵՏԱԿԱՆ ՄԱՐՄՆԻ ԳԾՈՎ ԱՐԴՅՈՒՆՔԱՅԻՆ (ԿԱՏԱՐՈՂԱԿԱՆ) ՑՈՒՑԱՆԻՇՆԵՐԸ
B54: Ծրագրի միջոցառումները
B55: Ծրագրի դասիչը՝ | C55: 1236 | D55: Ցուցանիշների փոփոխությունը (ավելացումները նշված են դրական նշանով)
B56: Միջոցառման դասիչը՝ | C56: 32006 | D56: Առաջին կիսամյակ | E56: Ինն ամիս | F56: Տարի
B57: Միջոցառման անվանումը` | C57: Հանրակրթական դպրոցների, մանկապարտեզների և կրթահամալիրների գույքով և տեխնիկայով ապահովում
B58: Նկարագրությունը` | C58: Կրթական ժամանակակից նորմերին և կրթական չափորոշիչներին համապատասխան ուսուցման ծրագրերն իրականացնելու նպատակով հանրակրթական և նախադպրոցական հաստատությունների համար գույքի և տեխնիկայի ձեռքբերում
B59: Միջոցառման տեսակը` | C59: Այլ պետական կազմակերպությունների կողմից օգտագործվող ոչ ֆինանսական ակտիվների հետ գործառնություններ
B60: Ակտիվն օգտագործող կազմակերպությունների անվանումները | C60: Հանրակրթական դպրոցներ, մանկապարտեզներ և կրթահամալիրներ
B61: Արդյունքի չափորոշիչներ
B62: Սուբվենցիոն ծրագրերի շրջանակներում կառուցվող(ած), վերակառուցվող(ած) և հիմնանորոգվող(ած) մանկապարտեզների թիվը, որոնք ապահովվում են գույքով, հատ | F62: 24
B63: Անհետաձգելի ծրագրերի շրջանակներում կառուցվող(ած), վերակառուցվող(ած) և հիմնանորոգվող(ած) մանկապարտեզների թիվը, որոնք ապահովվում են գույքով, հատ | F63: 1
B64: «Մոդուլային» տիպի 144 տեղ հզորությամբ կառուցվող(ած) մսուր–մանկապարտեզների թիվը, որոնք ապահովվում են գույքով, հատ | F64: 1
B65: Բարեգործական ծրագրերով կառուցվող(ած), վերակառուցվող(ած) և հիմնանորոգվող(ած) մանկապարտեզների թիվը, որոնք ապահովվում են գույքով, հատ | F65: 2
B66: Միջոցառման վրա կատարվող ծախսը (հազար դրամ) | D66: =+'Հավելված N 2'!G66 -> 0 | E66: =+'Հավելված N 2'!H66 -> 794409.2 | F66: =+'Հավելված N 2'!I66 -> 794409.2
A72: Աղյուսակ 9․1.51
C73: ՀՀ Գեղարքունիքի մարզպետի աշխատակազմ
B74: ՄԱՍ 1. ՊԵՏԱԿԱՆ ՄԱՐՄՆԻ ԳԾՈՎ ԱՐԴՅՈՒՆՔԱՅԻՆ (ԿԱՏԱՐՈՂԱԿԱՆ) ՑՈՒՑԱՆԻՇՆԵՐԸ
B77: Ծրագրի միջոցառումները
B78: Ծրագրի դասիչը՝ | C78: 1236 | D78: Ցուցանիշների փոփոխությունը (ավելացումները նշված են դրական նշանով)
B79: Միջոցառման դասիչը՝ | C79: 32002 | D79: Առաջին կիսամյակ | E79: Ինն ամիս | F79: Տարի
B80: Միջոցառման անվանումը` | C80: Մանկապարտեզների շենքերի վերակառուցում, հիմնանորոգում
B81: Նկարագրությունը` | C81: Նախադպրոցական կրթության հասանելիության ապահովման նպատակով՛ մանկապարտեզների շենքերի (մասնաշենքերի), վերակառուցում, հիմնանորոգում և նախագծում
B82: Միջոցառման տեսակը` | C82: Այլ պետական կազմակերպությունների կողմից օգտագործվող ոչ ֆինանսական ակտիվների հետ գործառնություններ
B83: Ակտիվն օգտագործող կազմակերպությունների անվանումները | C83: Նախադպրոցական կրթությույն իրականացնող ուսումնական հաստատություններ
B84: Արդյունքի չափորոշիչներ
B85: Հիմնանորոգվող մանկապարտեզների քանակ, հատ | F85: 1
B86: Միջոցառման վրա կատարվող ծախսը (հազար դրամ) | D86: =+'Հավելված N 2'!G28 -> 0 | E86: =+'Հավելված N 2'!H28 -> 33557.2 | F86: =+'Հավելված N 2'!I28 -> 55928.8
B88: Ծրագրի միջոցառումները
B89: Ծրագրի դասիչը՝ | C89: 1236 | D89: Ցուցանիշների փոփոխությունը (ավելացումները նշված են դրական նշանով)
B90: Միջոցառման դասիչը՝ | C90: 32006 | D90: Առաջին կիսամյակ | E90: Ինն ամիս | F90: Տարի
B91: Միջոցառման անվանումը` | C91: Հանրակրթական դպրոցների, մանկապարտեզների և կրթահամալիրների գույքով և տեխնիկայով ապահովում
B92: Նկարագրությունը` | C92: Կրթական ժամանակակից նորմերին և կրթական չափորոշիչներին համապատասխան ուսուցման ծրագրերն իրականացնելու նպատակով հանրակրթական և նախադպրոցական հաստատությունների համար գույքի և տեխնիկայի ձեռքբերում
B93: Միջոցառման տեսակը` | C93: Այլ պետական կազմակերպությունների կողմից օգտագործվող ոչ ֆինանսական ակտիվների հետ գործառնություններ
B94: Ակտիվն օգտագործող կազմակերպությունների անվանումները | C94: Հանրակրթական դպրոցներ, մանկապարտեզներ և կրթահամալիրներ
B95: Արդյունքի չափորոշիչներ
B96: Սուբվենցիոն ծրագրերի շրջանակներում կառուցվող(ած), վերակառուցվող(ած) և հիմնանորոգվող(ած) մանկապարտեզների թիվը, որոնք ապահովվում են գույքով, հատ | F96: 2
B97: Միջոցառման վրա կատարվող ծախսը (հազար դրամ) | D97: =+'Հավելված N 2'!G73 -> 0 | E97: =+'Հավելված N 2'!H73 -> 75451.3 | F97: =+'Հավելված N 2'!I73 -> 75451.3
A103: Աղյուսակ 9․1.52
C104: ՀՀ Լոռու մարզպետի աշխատակազմ
B105: ՄԱՍ 1. ՊԵՏԱԿԱՆ ՄԱՐՄՆԻ ԳԾՈՎ ԱՐԴՅՈՒՆՔԱՅԻՆ (ԿԱՏԱՐՈՂԱԿԱՆ) ՑՈՒՑԱՆԻՇՆԵՐԸ
B108: Ծրագրի միջոցառումները
B109: Ծրագրի դասիչը՝ | C109: 1236 | D109: Ցուցանիշների փոփոխությունը (ավելացումները նշված են դրական նշանով)
B110: Միջոցառման դասիչը՝ | C110: 32006 | D110: Առաջին կիսամյակ | E110: Ինն ամիս | F110: Տարի
B111: Միջոցառման անվանումը` | C111: Հանրակրթական դպրոցների, մանկապարտեզների և կրթահամալիրների գույքով և տեխնիկայով ապահովում
B112: Նկարագրությունը` | C112: Կրթական ժամանակակից նորմերին և կրթական չափորոշիչներին համապատասխան ուսուցման ծրագրերն իրականացնելու նպատակով հանրակրթական և նախադպրոցական հաստատությունների համար գույքի և տեխնիկայի ձեռքբերում
B113: Միջոցառման տեսակը` | C113: Այլ պետական կազմակերպությունների կողմից օգտագործվող ոչ ֆինանսական ակտիվների հետ գործառնություններ
B114: Ակտիվն օգտագործող կազմակերպությունների անվանումները | C114: Հանրակրթական դպրոցներ, մանկապարտեզներ և կրթահամալիրներ
B115: Արդյունքի չափորոշիչներ
B116: Սուբվենցիոն ծրագրերի շրջանակներում կառուցվող(ած), վերակառուցվող(ած) և հիմնանորոգվող(ած) մանկապարտեզների թիվը, որոնք ապահովվում են գույքով, հատ | F116: 14
B117: Միջոցառման վրա կատարվող ծախսը (հազար դրամ) | D117: =+'Հավելված N 2'!G80 -> 0 | E117: =+'Հավելված N 2'!H80 -> 244729.2 | F117: =+'Հավելված N 2'!I80 -> 244729.2
A123: Աղյուսակ 9․1.53
C124: ՀՀ Կոտայքի մարզպետի աշխատակազմ
B125: ՄԱՍ 1. ՊԵՏԱԿԱՆ ՄԱՐՄՆԻ ԳԾՈՎ ԱՐԴՅՈՒՆՔԱՅԻՆ (ԿԱՏԱՐՈՂԱԿԱՆ) ՑՈՒՑԱՆԻՇՆԵՐԸ
B128: Ծրագրի միջոցառումները
B129: Ծրագրի դասիչը՝ | C129: 1236 | D129: Ցուցանիշների փոփոխությունը (ավելացումները նշված են դրական նշանով)
B130: Միջոցառման դասիչը՝ | C130: 32006 | D130: Առաջին կիսամյակ | E130: Ինն ամիս | F130: Տարի
B131: Միջոցառման անվանումը` | C131: Հանրակրթական դպրոցների, մանկապարտեզների և կրթահամալիրների գույքով և տեխնիկայով ապահովում
B132: Նկարագրությունը` | C132: Կրթական ժամանակակից նորմերին և կրթական չափորոշիչներին համապատասխան ուսուցման ծրագրերն իրականացնելու նպատակով հանրակրթական և նախադպրոցական հաստատությունների համար գույքի և տեխնիկայի ձեռքբերում
B133: Միջոցառման տեսակը` | C133: Այլ պետական կազմակերպությունների կողմից օգտագործվող ոչ ֆինանսական ակտիվների հետ գործառնություններ
B134: Ակտիվն օգտագործող կազմակերպությունների անվանումները | C134: Հանրակրթական դպրոցներ, մանկապարտեզներ և կրթահամալիրներ
B135: Արդյունքի չափորոշիչներ
B136: Սուբվենցիոն ծրագրերի շրջանակներում կառուցվող(ած), վերակառուցվող(ած) և հիմնանորոգվող(ած) մանկապարտեզների թիվը, որոնք ապահովվում են գույքով, հատ | F136: 10
B137: Միջոցառման վրա կատարվող ծախսը (հազար դրամ) | D137: =+'Հավելված N 2'!G87 -> 0 | E137: =+'Հավելված N 2'!H87 -> 302655 | F137: =+'Հավելված N 2'!I87 -> 302655
A143: Աղյուսակ 9․1.54
C144: ՀՀ Շիրակի մարզպետի աշխատակազմ
B145: ՄԱՍ 1. ՊԵՏԱԿԱՆ ՄԱՐՄՆԻ ԳԾՈՎ ԱՐԴՅՈՒՆՔԱՅԻՆ (ԿԱՏԱՐՈՂԱԿԱՆ) ՑՈՒՑԱՆԻՇՆԵՐԸ
B148: Ծրագրի միջոցառումները
...

Sheet Հավելված N 7
H1: Հավելված N 7
H2: ՀՀ կառավարության 2024 թվականի
H3: ______________ ի ___Ն որոշման
A6: ՀԱՅԱՍՏԱՆԻ ՀԱՆՐԱՊԵՏՈՒԹՅԱՆ ԿԱՌԱՎԱՐՈՒԹՅԱՆ 2023 ԹՎԱԿԱՆԻ ԴԵԿՏԵՄԲԵՐԻ 28-Ի N 2323-Ն N 10 ՀԱՎԵԼՎԱԾՈՒՄ ԿԱՏԱՐՎՈՂ ԼՐԱՑՈՒՄՆԵՐԸ
A10: Կոդը | B10: Անվանումը | E10: Գնման ձևը | F10: Չափման միավորը | G10: Միավորի գինը | H10: Ցուցանիշների փոփոխությունը (ավելացումները նշված են դրական նշանով)
H11: Քանակը | I11: Գումարը (հազար դրամ)
A12: 1 | B12: 2 | E12: 3 | F12: 4 | G12: 5 | H12: 6 | I12: 7
A13: ՀՀ Արագածոտնի մարզպետի աշխատակազմ | I13: =+I14 -> 147032.8
A14: Բաժին N 09 | B14: Խումբ N 02 | C14: Դաս N 01 | D14: Հիմնական ընդհանուր կրթություն | I14: =+I15 -> 147032.8
A15: 1236-32006 | B15: Հանրակրթական դպրոցների, մանկապարտեզների և կրթահամալիրների գույքով և տեխնիկայով ապահովում | I15: =+I16 -> 147032.8
B16: ՄԱՍ I. ԱՊՐԱՆՔՆԵՐ | I16: =SUM(I17:I137) -> 147032.8
A17: 39141260 | B17: զգեստապահարաններ | E17: ԷԱՃ | F17: հատ | G17: 142925 | H17: 6 | I17: =+ROUND(H17*G17/1000,1) -> 857.6
A18: 39111320 | B18: նստարաններ | E18: ԷԱՃ | F18: հատ | G18: 41667 | H18: 6 | I18: =+ROUND(H18*G18/1000,1) -> 250
A19: 39111140 | B19: աթոռներ | E19: ԷԱՃ | F19: հատ | G19: 18000 | H19: 24 | I19: =+ROUND(H19*G19/1000,1) -> 432
A20: 39121200 | B20: սեղաններ | E20: ԷԱՃ | F20: հատ | G20: 25000 | H20: 7 | I20: =+ROUND(H20*G20/1000,1) -> 175
A21: 39121200 | B21: սեղաններ | E21: ԷԱՃ | F21: հատ | G21: 65500 | H21: 4 | I21: =+ROUND(H21*G21/1000,1) -> 262
A22: 39121200 | B22: սեղաններ | E22: ԷԱՃ | F22: հատ | G22: 98333 | H22: 1 | I22: =+ROUND(H22*G22/1000,1) -> 98.3
A23: 39121100 | B23: գրասեղաններ | E23: ԷԱՃ | F23: հատ | G23: 98250 | H23: 1 | I23: =+ROUND(H23*G23/1000,1) -> 98.3
A24: 39111140 | B24: աթոռներ | E24: ԷԱՃ | F24: հատ | G24: 23333 | H24: 2 | I24: =+ROUND(H24*G24/1000,1) -> 46.7
A25: 39121520 | B25: գրապահարաններ | E25: ԷԱՃ | F25: հատ | G25: 118250 | H25: 1 | I25: =+ROUND(H25*G25/1000,1) -> 118.3
A26: 39141260 | B26: զգեստապահարաններ | E26: ԷԱՃ | F26: հատ | G26: 100175 | H26: 1 | I26: =+ROUND(H26*G26/1000,1) -> 100.2
A27: 39292110 | B27: գրատախտակներ | E27: ԷԱՃ | F27: հատ | G27: 100000 | H27: 1 | I27: =+ROUND(H27*G27/1000,1) -> 100
A28: 39141120 | B28: դարակներով պահարաններ | E28: ԷԱՃ | F28: հատ | G28: 181667 | H28: 1 | I28: =+ROUND(H28*G28/1000,1) -> 181.7
... A137: 38651200 | B137: պրոյեկտորներ | E137: ԷԱՃ | F137: հատ | G137: 350000 | H137: 5 | I137: =+ROUND(H137*G137/1000,1) -> 1750
A139: ՀՀ Արարատի մարզպետի աշխատակազմ | I139: =+I140 -> 55658.5
A140: Բաժին N 09 | B140: Խումբ N 02 | C140: Դաս N 01 | D140: Հիմնական ընդհանուր կրթություն | I140: =+I141 -> 55658.5
A141: 1236-32006 | B141: Հանրակրթական դպրոցների, մանկապարտեզների և կրթահամալիրների գույքով և տեխնիկայով ապահովում | I141: =+I142 -> 55658.5
B142: ՄԱՍ I. ԱՊՐԱՆՔՆԵՐ | I142: =SUM(I143:I259) -> 55658.5
A143: 39141260 | B143: զգեստապահարաններ | E143: ԷԱՃ | F143: հատ | G143: 142925 | H143: 8 | I143: =+ROUND(H143*G143/1000,1) -> 1143.4
A144: 39111320 | B144: նստարաններ | E144: ԷԱՃ | F144: հատ | G144: 41667 | H144: 4 | I144: =+ROUND(H144*G144/1000,1) -> 166.7
A145: 39111140 | B145: աթոռներ | E145: ԷԱՃ | F145: հատ | G145: 18000 | H145: 50 | I145: =+ROUND(H145*G145/1000,1) -> 900
A146: 39121200 | B146: սեղաններ | E146: ԷԱՃ | F146: հատ | G146: 25000 | H146: 14 | I146: =+ROUND(H146*G146/1000,1) -> 350
A147: 39121100 | B147: գրասեղաններ | E147: ԷԱՃ | F147: հատ | G147: 98250 | H147: 2 | I147: =+ROUND(H147*G147/1000,1) -> 196.5
A148: 39111140 | B148: աթոռներ | E148: ԷԱՃ | F148: հատ | G148: 23333 | H148: 3 | I148: =+ROUND(H148*G148/1000,1) -> 70
A149: 39121520 | B149: գրապահարաններ | E149: ԷԱՃ | F149: հատ | G149: 118250 | H149: 1 | I149: =+ROUND(H149*G149/1000,1) -> 118.3
A150: 39292110 | B150: գրատախտակներ | E150: ԷԱՃ | F150: հատ | G150: 100000 | H150: 4 | I150: =+ROUND(H150*G150/1000,1) -> 400
A151: 39141120 | B151: դարակներով պահարաններ | E151: ԷԱՃ | F151: հատ | G151: 181667 | H151: 4 | I151: =+ROUND(H151*G151/1000,1) -> 726.7
A152: 39141260 | B152: զգեստապահարաններ | E152: ԷԱՃ | F152: հատ | G152: 142925 | H152: 6 | I152: =+ROUND(H152*G152/1000,1) -> 857.6
A153: 39111320 | B153: նստարաններ | E153: ԷԱՃ | F153: հատ | G153: 41667 | H153: 2 | I153: =+ROUND(H153*G153/1000,1) -> 83.3
A154: 39121200 | B154: սեղաններ | E154: ԷԱՃ | F154: հատ | G154: 43000 | H154: 8 | I154: =+ROUND(H154*G154/1000,1) -> 344
... A259: 38651200 | B259: պրոյեկտորներ | E259: ԷԱՃ | F259: հատ | G259: 350000 | H259: 3 | I259: =+ROUND(H259*G259/1000,1) -> 1050
A261: ՀՀ Արմավիրի մարզպետի աշխատակազմ | I261: =+I262 -> 794409.2
A262: Բաժին N 09 | B262: Խումբ N 02 | C262: Դաս N 01 | D262: Հիմնական ընդհանուր կրթություն | I262: =+I263 -> 794409.2
A263: 1236-32006 | B263: Հանրակրթական դպրոցների, մանկապարտեզների և կրթահամալիրների գույքով և տեխնիկայով ապահովում | I263: =+I264 -> 794409.2
B264: ՄԱՍ I. ԱՊՐԱՆՔՆԵՐ | I264: =SUM(I265:I386) -> 794409.2
A265: 39141260 | B265: զգեստապահարաններ | E265: ԷԱՃ | F265: հատ | G265: 142925 | H265: 47 | I265: =+ROUND(H265*G265/1000,1) -> 6717.5
A266: 39111320 | B266: նստարաններ | E266: ԷԱՃ | F266: հատ | G266: 41667 | H266: 63 | I266: =+ROUND(H266*G266/1000,1) -> 2625
A267: 39111140 | B267: աթոռներ | E267: ԷԱՃ | F267: հատ | G267: 18000 | H267: 240 | I267: =+ROUND(H267*G267/1000,1) -> 4320
A268: 39121200 | B268: սեղաններ | E268: ԷԱՃ | F268: հատ | G268: 25000 | H268: 60 | I268: =+ROUND(H268*G268/1000,1) -> 1500
A269: 39121200 | B269: սեղաններ | E269: ԷԱՃ | F269: հատ | G269: 65500 | H269: 14 | I269: =+ROUND(H269*G269/1000,1) -> 917
A270: 39121200 | B270: սեղաններ | E270: ԷԱՃ | F270: հատ | G270: 98333 | H270: 7 | I270: =+ROUND(H270*G270/1000,1) -> 688.3
A271: 39121100 | B271: գրասեղաններ | E271: ԷԱՃ | F271: հատ | G271: 98250 | H271: 8 | I271: =+ROUND(H271*G271/1000,1) -> 786
A272: 39111140 | B272: աթոռներ | E272: ԷԱՃ | F272: հատ | G272: 23333 | H272: 16 | I272: =+ROUND(H272*G272/1000,1) -> 373.3
A273: 39121520 | B273: գրապահարաններ | E273: ԷԱՃ | F273: հատ | G273: 118250 | H273: 8 | I273: =+ROUND(H273*G273/1000,1) -> 946
A274: 39141260 | B274: զգեստապահարաններ | E274: ԷԱՃ | F274: հատ | G274: 100175 | H274: 8 | I274: =+ROUND(H274*G274/1000,1) -> 801.4
A275: 39292110 | B275: գրատախտակներ | E275: ԷԱՃ | F275: հատ | G275: 100000 | H275: 8 | I275: =+ROUND(H275*G275/1000,1) -> 800
A276: 39141120 | B276: դարակներով պահարաններ | E276: ԷԱՃ | F276: հատ | G276: 181667 | H276: 8 | I276: =+ROUND(H276*G276/1000,1) -> 1453.3
... A386: 38651200 | B386: պրոյեկտորներ | E386: ԷԱՃ | F386: հատ | G386: 350000 | H386: 26 | I386: =+ROUND(H386*G386/1000,1) -> 9100
A388: ՀՀ Գեղարքունիքի մարզպետի աշխատակազմ | I388: =+I389+I396 -> 131380.1
A389: Բաժին N 09 | B389: Խումբ N 01 | C389: Դաս N 01 | D389: Նախադպրոցական կրթություն | I389: =+I390 -> 55928.8
A390: 1236-32002 | B390: Մանկապարտեզների շենքերի վերակառուցում, հիմնանորոգում | I390: =+I391+I393 -> 55928.8
B391: ՄԱՍ II. ԱՇԽԱՏԱՆՔՆԵՐ | I391: =+I392 -> 55000
A392: 45221142-529 | B392: ընդհանուր շինարարական աշխատանքներ | E392: ԲՄ | F392: դրամ | G392: 55000000 | H392: 1 | I392: =+ROUND(H392*G392/1000,1) -> 55000
B393: ՄԱՍ III. ԾԱՌԱՅՈՒԹՅՈՒՆՆԵՐ | I393: =SUM(I394:I395) -> 928.8
A394: 71351540 | B394: տեխնիկական հսկողության ծառայություններ | E394: ԳՀ | F394: դրամ | G394: 595550 | H394: 1 | I394: =+ROUND(H394*G394/1000,1) -> 595.6
A395: 98111140 | B395: հեղինակային հսկողության ծառայություններ | E395: ՄԱ | F395: դրամ | G395: 333230 | H395: 1 | I395: =+ROUND(H395*G395/1000,1) -> 333.2
A396: Բաժին N 09 | B396: Խումբ N 02 | C396: Դաս N 01 | D396: Հիմնական ընդհանուր կրթություն | I396: =+I397 -> 75451.3
A397: 1236-32006 | B397: Հանրակրթական դպրոցների, մանկապարտեզների և կրթահամալիրների գույքով և տեխնիկայով ապահովում | I397: =+I398 -> 75451.3
B398: ՄԱՍ I. ԱՊՐԱՆՔՆԵՐ | I398: =SUM(I399:I506) -> 75451.3
A399: 39141260 | B399: զգեստապահարաններ | E399: ԷԱՃ | F399: հատ | G399: 142925 | H399: 48 | I399: =+ROUND(H399*G399/1000,1) -> 6860.4
A400: 39111320 | B400: նստարաններ | E400: ԷԱՃ | F400: հատ | G400: 41667 | H400: 48 | I400: =+ROUND(H400*G400/1000,1) -> 2000
A401: 39121200 | B401: սեղաններ | E401: ԷԱՃ | F401: հատ | G401: 43000 | H401: 21 | I401: =+ROUND(H401*G401/1000,1) -> 903
A402: 39121200 | B402: սեղաններ | E402: ԷԱՃ | F402: հատ | G402: 44750 | H402: 21 | I402: =+ROUND(H402*G402/1000,1) -> 939.8
A403: 39121200 | B403: սեղաններ | E403: ԷԱՃ | F403: հատ | G403: 45250 | H403: 21 | I403: =+ROUND(H403*G403/1000,1) -> 950.3
A404: 39111140 | B404: աթոռներ | E404: ԷԱՃ | F404: հատ | G404: 21000 | H404: 84 | I404: =+ROUND(H404*G404/1000,1) -> 1764
A405: 39111140 | B405: աթոռներ | E405: ԷԱՃ | F405: հատ | G405: 24667 | H405: 84 | I405: =+ROUND(H405*G405/1000,1) -> 2072
A406: 39111140 | B406: աթոռներ | E406: ԷԱՃ | F406: հատ | G406: 27000 | H406: 84 | I406: =+ROUND(H406*G406/1000,1) -> 2268
A407: 39121100 | B407: գրասեղաններ | E407: ԷԱՃ | F407: հատ | G407: 98250 | H407: 8 | I407: =+ROUND(H407*G407/1000,1) -> 786
A408: 39111140 | B408: աթոռներ | E408: ԷԱՃ | F408: հատ | G408: 23333 | H408: 16 | I408: =+ROUND(H408*G408/1000,1) -> 373.3
A409: 39121520 | B409: գրապահարաններ | E409: ԷԱՃ | F409: հատ | G409: 118250 | H409: 8 | I409: =+ROUND(H409*G409/1000,1) -> 946
A410: 39141260 | B410: զգեստապահարաններ | E410: ԷԱՃ | F410: հատ | G410: 100175 | H410: 8 | I410: =+ROUND(H410*G410/1000,1) -> 801.4
... A506: 38651200 | B506: պրոյեկտորներ | E506: ԷԱՃ | F506: հատ | G506: 350000 | H506: 2 | I506: =+ROUND(H506*G506/1000,1) -> 700
A508: ՀՀ Լոռու մարզպետի աշխատակազմ | I508: =+I509 -> 244729.2
A509: Բաժին N 09 | B509: Խումբ N 02 | C509: Դաս N 01 | D509: Հիմնական ընդհանուր կրթություն | I509: =+I510 -> 244729.2
A510: 1236-32006 | B510: Հանրակրթական դպրոցների, մանկապարտեզների և կրթահամալիրների գույքով և տեխնիկայով ապահովում | I510: =+I511 -> 244729.2
B511: ՄԱՍ I. ԱՊՐԱՆՔՆԵՐ | I511: =SUM(I512:I631) -> 244729.2
A512: 39141260 | B512: զգեստապահարաններ | E512: ԷԱՃ | F512: հատ | G512: 142925 | H512: 17 | I512: =+ROUND(H512*G512/1000,1) -> 2429.7
A513: 39111320 | B513: նստարաններ | E513: ԷԱՃ | F513: հատ | G513: 41667 | H513: 17 | I513: =+ROUND(H513*G513/1000,1) -> 708.3
A514: 39111140 | B514: աթոռներ | E514: ԷԱՃ | F514: հատ | G514: 18000 | H514: 84 | I514: =+ROUND(H514*G514/1000,1) -> 1512
A515: 39121200 | B515: սեղաններ | E515: ԷԱՃ | F515: հատ | G515: 25000 | H515: 21 | I515: =+ROUND(H515*G515/1000,1) -> 525
A516: 39121200 | B516: սեղաններ | E516: ԷԱՃ | F516: հատ | G516: 65500 | H516: 2 | I516: =+ROUND(H516*G516/1000,1) -> 131
A517: 39121200 | B517: սեղաններ | E517: ԷԱՃ | F517: հատ | G517: 98333 | H517: 1 | I517: =+ROUND(H517*G517/1000,1) -> 98.3
A518: 39121100 | B518: գրասեղաններ | E518: ԷԱՃ | F518: հատ | G518: 98250 | H518: 2 | I518: =+ROUND(H518*G518/1000,1) -> 196.5
A519: 39111140 | B519: աթոռներ | E519: ԷԱՃ | F519: հատ | G519: 23333 | H519: 4 | I519: =+ROUND(H519*G519/1000,1) -> 93.3
A520: 39121520 | B520: գրապահարաններ | E520: ԷԱՃ | F520: հատ | G520: 118250 | H520: 2 | I520: =+ROUND(H520*G520/1000,1) -> 236.5
A521: 39141260 | B521: զգեստապահարաններ | E521: ԷԱՃ | F521: հատ | G521: 100175 | H521: 2 | I521: =+ROUND(H521*G521/1000,1) -> 200.4
A522: 39292110 | B522: գրատախտակներ | E522: ԷԱՃ | F522: հատ | G522: 100000 | H522: 2 | I522: =+ROUND(H522*G522/1000,1) -> 200
A523: 39141120 | B523: դարակներով պահարաններ | E523: ԷԱՃ | F523: հատ | G523: 181667 | H523: 2 | I523: =+ROUND(H523*G523/1000,1) -> 363.3
... A631: 38651200 | B631: պրոյեկտորներ | E631: ԷԱՃ | F631: հատ | G631: 350000 | H631: 14 | I631: =+ROUND(H631*G631/1000,1) -> 4900
A633: ՀՀ Կոտայքի մարզպետի աշխատակազմ | I633: =+I634 -> 302655
...
