Workbook
Name a: #REF!
Name a: #REF!
Name a: #REF!
Name a: #REF!
Name AgencyCode: #REF!
Name AgencyCode: #REF!
Name AgencyCode: #REF!
Name AgencyCode: #REF!
Name AgencyCode: #REF!
Name AgencyCode: #REF!
Name AgencyName: #REF!
Name AgencyName: #REF!
Name AgencyName: #REF!
Name AgencyName: #REF!
Name davit: #REF!
Name davit: #REF!
Name davit: #REF!
Name Functional1: #REF!
Name Functional1: #REF!
Name Functional1: #REF!
Name Functional1: #REF!
Name ggg: #REF!
Name ggg: #REF!
Name ggg: #REF!
Name PANature: #REF!
Name PANature: #REF!
Name PANature: #REF!
Name PANature: #REF!
Name PAType: #REF!
Name PAType: #REF!
Name PAType: #REF!
Name PAType: #REF!
Name Performance2: #REF!
Name Performance2: #REF!
Name Performance2: #REF!
Name Performance2: #REF!
Name PerformanceType: #REF!
Name PerformanceType: #REF!
Name PerformanceType: #REF!
Name PerformanceType: #REF!
Name Հավելված: #REF!
Name Հավելված: #REF!
Name Հավելված: #REF!
Name Հավելված10: #REF!
Name Հավելված10: #REF!
Name Հավելված11: #REF!
Name Հավելված11: #REF!
Name Հավելված20: #REF!
Name Հավելված20: #REF!
Name Հավելված9: #REF!
Name Հավելված9: #REF!
Name Մաս: #REF!
Name Մաս: #REF!
Name Մաս: #REF!
Name շախմատիստ: #REF!
Name շախմատիստ: #REF!
Name շախմատիստ: #REF!

Sheet Հավելված N 1
C1: Հավելված N 1
C2: ՀՀ կառավարության 2024 թվականի
C3: ______________ ի ___Ն որոշման
A6: «ՀԱՅԱUՏԱՆԻ ՀԱՆՐԱՊԵՏՈՒԹՅԱՆ 2024 ԹՎԱԿԱՆԻ ՊԵՏԱԿԱՆ ԲՅՈՒՋԵԻ ՄԱUԻՆ» ՀԱՅԱUՏԱՆԻ ՀԱՆՐԱՊԵՏՈՒԹՅԱՆ OՐԵՆՔԻ N 1 ՀԱՎԵԼՎԱԾԻ N 2 ԱՂՅՈՒՍԱԿՈՒՄ ԿԱՏԱՐՎՈՂ ՎԵՐԱԲԱՇԽՈՒՄԸ ԵՎ ՀԱՅԱՍՏԱՆԻ ՀԱՆՐԱՊԵՏՈՒԹՅԱՆ ԿԱՌԱՎԱՐՈՒԹՅԱՆ 2023 ԹՎԱԿԱՆԻ ԴԵԿՏԵՄԲԵՐԻ 28-Ի N 2323-Ն ՈՐՈՇՄԱՆ N 5 ՀԱՎԵԼՎԱԾԻ N 1 ԱՂՅՈՒՍԱԿՈՒՄ ԿԱՏԱՐՎՈՂ ՓՈՓՈԽՈՒԹՅՈՒՆՆԵՐԸ ԵՎ ԼՐԱՑՈՒՄՆԵՐԸ
F9: հազ. դրամներով
A10: Ծրագրային դասիչը | C10: Բյուջետային հատկացումների գլխավոր կարգադրիչների, ծրագրերի և միջոցառումների անվանումները | D10: Ցուցանիշների փոփոխությունը (ավելացումները նշված են դրական նշանով)
A11: Ծրագիր | B11: Միջոցառում | D11: Առաջին կիսամյակ | E11: Ինն ամիս | F11: Տարի
A12: 1192 | C12: ԸՆԴԱՄԵՆԸ | D12: =+D14 -> 0 | E12: =+E14 -> 0 | F12: =+F14 -> 0
C13: այդ թվում
C14: ՀՀ ԿՐԹՈՒԹՅԱՆ, ԳԻՏՈՒԹՅԱՆ, ՄՇԱԿՈՒՅԹԻ ԵՎ ՍՊՈՐՏԻ ՆԱԽԱՐԱՐՈՒԹՅՈՒՆ | D14: =+D16 -> 0 | E14: =+E16 -> 0 | F14: =+F16 -> 0
A15: 1236 | C15: Ծրագրի անվանումը`
C16: Հանրակրթական և նախադպրոցական հաստատությունների հիմնում, կառուցում, բարելավում | D16: =+D23+D29 -> 0 | E16: =+E23+E29 -> 0 | F16: =+F23+F29 -> 0
C17: Ծրագրի նպատակը`
C18: Առնվազն 300 դպրոցի և 500 մանկապարտեզի կառուցման, վերակառուցման, հիմնանորոգման ծրագրերի իրականացում ՀՀ պետական բյուջեի միջոցների շրջանակներում
C19: Վերջնական արդյունքի նկարագրությունը`
C20: Կրթական միջավայրի բարելավում
C21: Ծրագրի միջոցառումներ
B22: 32002 | C22: Միջոցառման անվանումը`
C23: Մանկապարտեզների շենքերի վերակառուցում, հիմնանորոգում | D23: =+'Հավելված N 2'!G26 -> 0 | E23: =+'Հավելված N 2'!H26 -> -2254574.2 | F23: =+'Հավելված N 2'!I26 -> -2254574.2
C24: Միջոցառման նկարագրությունը`
C25: Նախադպրոցական կրթության հասանելիության ապահովման նպատակով՛ մանկապարտեզների շենքերի (մասնաշենքերի), վերակառուցում, հիմնանորոգում և նախագծում
C26: Միջոցառման տեսակը
C27: Այլ պետական կազմակերպությունների կողմից օգտագործվող ոչ ֆինանսական ակտիվների հետ գործառնություններ
B28: 32006 | C28: Միջոցառման անվանումը`
C29: Հանրակրթական դպրոցների, մանկապարտեզների և կրթահամալիրների գույքով և տեխնիկայով ապահովում | D29: =+'Հավելված N 2'!G50 -> 0 | E29: =+'Հավելված N 2'!H50 -> 2254574.2 | F29: =+'Հավելված N 2'!I50 -> 2254574.2
C30: Միջոցառման նկարագրությունը`
C31: Կրթական ժամանակակից նորմերին և կրթական չափորոշիչներին համապատասխան ուսուցման ծրագրերն իրականացնելու նպատակով հանրակրթական և նախադպրոցական հաստատությունների համար գույքի և տեխնիկայի ձեռքբերում
C32: Միջոցառման տեսակը
C33: Այլ պետական կազմակերպությունների կողմից օգտագործվող ոչ ֆինանսական ակտիվների հետ գործառնություններ

Sheet Հավելված N 2
F1: Հավելված N 2
F2: ՀՀ կառավարության 2024 թվականի
F3: ______________ ի ___Ն որոշման
A7: ՀԱՅԱՍՏԱՆԻ ՀԱՆՐԱՊԵՏՈՒԹՅԱՆ ԿԱՌԱՎԱՐՈՒԹՅԱՆ 2023 ԹՎԱԿԱՆԻ ԴԵԿՏԵՄԲԵՐԻ 28-Ի N 2323-Ն ՈՐՈՇՄԱՆ N 3 ԵՎ N 4 ՀԱՎԵԼՎԱԾՆԵՐՈՒՄ ԿԱՏԱՐՎՈՂ ՓՈՓՈԽՈՒԹՅՈՒՆՆԵՐԸ ԵՎ ԼՐԱՑՈՒՄՆԵՐԸ
I10: հազ. դրամներով
A11: Գործառական դասիչը | D11: Ծրագրային դասիչը | F11: Բյուջետային հատկացումների գլխավոր կարգադրիչների, ծրագրերի, միջոցառումների և միջոցառումները կատարող պետական մարմինների անվանումները | G11: Ցուցանիշների փոփոխությունը (ավելացումները նշված են դրական նշանով, իսկ նվազեցումները փակագծերում)
A12: Բաժին | B12: Խումբ | C12: Դաս | D12: Ծրագիր | E12: Միջոցառում | G12: Առաջին կիսամյակ | H12: Ինն ամիս | I12: Տարի
F13: ԸՆԴԱՄԵՆԸ | G13: =+G15 -> 0 | H13: =+H15 -> 0 | I13: =+I15 -> 0
F14: այդ թվում՝
F15: ՀՀ ԿՐԹՈՒԹՅԱՆ, ԳԻՏՈՒԹՅԱՆ, ՄՇԱԿՈՒՅԹԻ ԵՎ ՍՊՈՐՏԻ ՆԱԽԱՐԱՐՈՒԹՅՈՒՆ | G15: =+G16 -> 0 | H15: =+H16 -> 0 | I15: =+I16 -> 0
A16: 09 | F16: ԿՐԹՈՒԹՅՈՒՆ | G16: =+G18+G42 -> 0 | H16: =+H18+H42 -> 0 | I16: =+I18+I42 -> 0
F17: այդ թվում`
B18: 01 | F18: Նախադպրոցական և տարրական ընդհանուր կրթություն | G18: =+G20 -> 0 | H18: =+H20 -> -2254574.2 | I18: =+I20 -> -2254574.2
F19: այդ թվում`
C20: 01 | F20: Նախադպրոցական կրթություն | G20: =+G22 -> 0 | H20: =+H22 -> -2254574.2 | I20: =+I22 -> -2254574.2
F21: այդ թվում`
F22: ՀՀ կրթության, գիտության, մշակույթի և սպորտի նախարարություն | G22: =+G24 -> 0 | H22: =+H24 -> -2254574.2 | I22: =+I24 -> -2254574.2
F23: այդ թվում`
D24: 1236 | E24: Հանրակրթական և նախադպրոցական հաստատությունների հիմնում, կառուցում, բարելավում | G24: =+G26 -> 0 | H24: =+H26 -> -2254574.2 | I24: =+I26 -> -2254574.2
F25: այդ թվում`
E26: 32002 | F26: Մանկապարտեզների շենքերի վերակառուցում, հիմնանորոգում | G26: =+G28+G35 -> 0 | H26: =+H28+H35 -> -2254574.2 | I26: =+I28+I35 -> -2254574.2
F27: այդ թվում` ըստ կատարողների
F28: ՀՀ Գեղարքունիքի մարզպետի աշխատակազմ | G28: =+G30 -> 0 | H28: =+H30 -> 33557.2 | I28: =+I30 -> 55928.8
F29: այդ թվում՝ բյուջետային ծախսերի տնտեսագիտական դասակարգման հոդվածներ
F30: ԸՆԴԱՄԵՆԸ ԾԱԽՍԵՐ | G30: =G31 -> 0 | H30: =H31 -> 33557.2 | I30: =I31 -> 55928.8
F31: ՈՉ ՖԻՆԱՆՍԱԿԱՆ ԱԿՏԻՎՆԵՐԻ ԳԾՈՎ ԾԱԽՍԵՐ | G31: =+G32 -> 0 | H31: =+H32 -> 33557.2 | I31: =+I32 -> 55928.8
F32: ՀԻՄՆԱԿԱՆ ՄԻՋՈՑՆԵՐ | G32: =+G33 -> 0 | H32: =+H33 -> 33557.2 | I32: =+I33 -> 55928.8
F33: ՇԵՆՔԵՐ ԵՎ ՇԻՆՈՒԹՅՈՒՆՆԵՐ | G33: =+G34 -> 0 | H33: =+H34 -> 33557.2 | I33: =+I34 -> 55928.8
F34: - Շենքերի և շինությունների կապիտալ վերանորոգում | G34: =+'Հավելված N 4'!E15 -> 0 | H34: =+'Հավելված N 4'!F15 -> 33557.2 | I34: =+'Հավելված N 4'!G15 -> 55928.8
F35: ՀՀ կառավարություն | G35: =+G37 -> 0 | H35: =+H37 -> -2288131.4 | I35: =+I37 -> -2310503
F36: այդ թվում՝ բյուջետային ծախսերի տնտեսագիտական դասակարգման հոդվածներ
F37: ԸՆԴԱՄԵՆԸ ԾԱԽՍԵՐ | G37: =G38 -> 0 | H37: =H38 -> -2288131.4 | I37: =I38 -> -2310503
F38: ՈՉ ՖԻՆԱՆՍԱԿԱՆ ԱԿՏԻՎՆԵՐԻ ԳԾՈՎ ԾԱԽՍԵՐ | G38: =+G39 -> 0 | H38: =+H39 -> -2288131.4 | I38: =+I39 -> -2310503
F39: ՀԻՄՆԱԿԱՆ ՄԻՋՈՑՆԵՐ | G39: =+G40 -> 0 | H39: =+H40 -> -2288131.4 | I39: =+I40 -> -2310503
F40: ՇԵՆՔԵՐ ԵՎ ՇԻՆՈՒԹՅՈՒՆՆԵՐ | G40: =+G41 -> 0 | H40: =+H41 -> -2288131.4 | I40: =+I41 -> -2310503
F41: - Շենքերի և շինությունների կապիտալ վերանորոգում | G41: =+'Հավելված N 4'!E19 -> 0 | H41: =+'Հավելված N 4'!F19 -> -2288131.4 | I41: =+'Հավելված N 4'!G19 -> -2310503
B42: 02 | F42: Միջնակարգ ընդհանուր կրթություն | G42: =+G44 -> 0 | H42: =+H44 -> 2254574.2 | I42: =+I44 -> 2254574.2
F43: այդ թվում`
C44: 01 | F44: Հիմնական ընդհանուր կրթություն | G44: =+G46 -> 0 | H44: =+H46 -> 2254574.2 | I44: =+I46 -> 2254574.2
F45: այդ թվում`
...

Sheet Հավելված N 3
F1: Հավելված N 3
F2: ՀՀ կառավարության 2024 թվականի
F3: ______________ ի ___Ն որոշման
A5: «ՀԱՅԱUՏԱՆԻ ՀԱՆՐԱՊԵՏՈՒԹՅԱՆ 2024 ԹՎԱԿԱՆԻ ՊԵՏԱԿԱՆ ԲՅՈՒՋԵԻ ՄԱUԻՆ» ՀԱՅԱUՏԱՆԻ ՀԱՆՐԱՊԵՏՈՒԹՅԱՆ OՐԵՆՔԻ N 1 ՀԱՎԵԼՎԱԾԻ N 3 ԱՂՅՈՒՍԱԿՈՒՄ ԿԱՏԱՐՎՈՂ ՓՈՓՈԽՈՒԹՅՈՒՆԸ ԵՎ ԼՐԱՑՈՒՄՆԵՐԸ
G8: հազ. դրամներով
A9: Ծրագրային դասիչ | C9: Բյուջետային գլխավոր կարգադրիչների, ծրագրերի, միջոցառումների, միջոցառումները կատարող պետական մարմինների և ուղղությունների անվանումները | D9: Ընդամենը | E9: Ցուցանիշների փոփոխությունը (ավելացումները նշված են դրական նշանով, իսկ նվազեցումները՝ փակագծերում)
A10: Ծրագիր | B10: Միջոցառում | E10: Կառուցման աշխատանքներ | F10: Վերակառուցման, վերանորոգման և վերականգնման աշխատանքներ | G10: Նախագծահե- տազոտական, գեոդեզիա- քարտեզագրա- կան աշխա- տանքներ | H10: Ոչ ֆինանսական այլ ակտիվների ձեռքբերում
C11: ԸՆԴԱՄԵՆԸ | D11: =SUM(E11:H11) -> 0 | E11: =+E13 -> 0 | F11: =+F13 -> -2254574.2 | G11: =+G13 -> 0 | H11: =+H13 -> 2254574.2
C12: այդ թվում՝
C13: ՀՀ ԿՐԹՈՒԹՅԱՆ, ԳԻՏՈՒԹՅԱՆ, ՄՇԱԿՈՒՅԹԻ ԵՎ ՍՊՈՐՏԻ ՆԱԽԱՐԱՐՈՒԹՅՈՒՆ | D13: =SUM(E13:H13) -> 0 | E13: =+E15+E20 -> 0 | F13: =+F15+F20 -> -2254574.2 | G13: =+G15+G20 -> 0 | H13: =+H15+H20 -> 2254574.2
C14: այդ թվում`
A15: 1236 | B15: 32002 | C15: Մանկապարտեզների շենքերի վերակառուցում, հիմնանորոգում | D15: =SUM(E15:H15) -> -2254574.2 | E15: =+E17+E18 -> 0 | F15: =+F17+F18 -> -2254574.2 | G15: =+G17+G18 -> 0 | H15: =+H17+H18 -> 0
C16: այդ թվում`
C17: Մանկապարտեզների շենքերի վերակառուցում, հիմնանորոգում | D17: =SUM(E17:H17) -> -2310503 | E17: 0 | F17: =-D18-D20 -> -2310503 | G17: 0 | H17: 0
C18: ՀՀ Գեղարքունիքի մարզ | D18: =SUM(E18:H18) -> 55928.8 | E18: =+E19 -> 0 | F18: =+F19 -> 55928.8 | G18: =+G19 -> 0 | H18: =+H19 -> 0
C19: Վարդենիս համայնքի Գեղամասար բնակավայրի մանկապարտեզ | D19: =+E19+F19+G19+H19 -> 55928.8 | F19: =+'Հավելված N 7'!I392+'Հավելված N 7'!I394+'Հավելված N 7'!I395 -> 55928.8
A20: 1236 | B20: 32006 | C20: Հանրակրթական դպրոցների, մանկապարտեզների և կրթահամալիրների գույքով և տեխնիկայով ապահովում | D20: =SUM(E20:H20) -> 2254574.2 | E20: =+E22+E28+E33+E62+E65+E80+E91+E112+E116 -> 0 | F20: =+F22+F28+F33+F62+F65+F80+F91+F112+F116 -> 0 | G20: =+G22+G28+G33+G62+G65+G80+G91+G112+G116 -> 0 | H20: =+H22+H28+H33+H62+H65+H80+H91+H112+H116 -> 2254574.2
C21: այդ թվում`
C22: ՀՀ Արագածոտնի մարզ | D22: =SUM(E22:H22) -> 147032.8 | E22: =SUM(E23:E27) -> 0 | F22: =SUM(F23:F27) -> 0 | G22: =SUM(G23:G27) -> 0 | H22: =SUM(H23:H27) -> 147032.8
C23: Արտաշավան բնակավայրի «Կակաչ» մանկապարտեզ | D23: =+E23+F23+G23+H23 -> 25763.8 | H23: 25763.8
C24: Ապարան համայնքի Շենավան գյուղի մանկապարտեզ | D24: =+E24+F24+G24+H24 -> 25763.8 | H24: 25763.8
C25: Ապարան համայնքի Արագածի Գուսան Աշխույժի անվան մանկապարտեզ | D25: =+E25+F25+G25+H25 -> 37585.6 | H25: 37585.6
C26: Ալագյազ համայնքի «Մոդուլային» տիպի 144 տեղ հզորությամբ մսուր-մանկապարտեզ | D26: =+E26+F26+G26+H26 -> 14199.8 | H26: 14199.8
C27: Աշտարակի թիվ 4 «Հասմիկ» մանկապարտեզ | D27: =+E27+F27+G27+H27 -> 43719.8 | H27: 43719.8
C28: ՀՀ Արարատի մարզ | D28: =SUM(E28:H28) -> 55658.5 | E28: =SUM(E29:E32) -> 0 | F28: =SUM(F29:F32) -> 0 | G28: =SUM(G29:G32) -> 0 | H28: =SUM(H29:H32) -> 55658.5
C29: Մասիս համայնքի Մասիս քաղաքի թիվ 3 մսուր մանկապարտեզ | D29: =+E29+F29+G29+H29 -> 14591.2 | H29: 14591.2
C30: Մասիս համայնքի Մասիս քաղաքի թիվ 1 մսուր մանկապարտեզ | D30: =+E30+F30+G30+H30 -> 19246.3 | H30: 19246.3
C31: Մասիս համայնքի Դաշտավան գյուղի մանկապարտեզ | D31: =+E31+F31+G31+H31 -> 9670.8 | H31: 9670.8
C32: Արարատ համայնքի Ավշար գյուղի մանկապարտեզ | D32: =+E32+F32+G32+H32 -> 12150.2 | H32: 12150.2
C33: ՀՀ Արմավիրի մարզ | D33: =SUM(E33:H33) -> 794409.2 | E33: =SUM(E34:E61) -> 0 | F33: =SUM(F34:F61) -> 0 | G33: =SUM(G34:G61) -> 0 | H33: =SUM(H34:H61) -> 794409.2
C34: Արաքս համայնքի Խորոնք գյուղի մանկապարտեզ | D34: =+E34+F34+G34+H34 -> 33828.7 | H34: 33828.7
C35: Արաքս համայնքի Ջրառատ գյուղի մանկապարտեզ | D35: =+E35+F35+G35+H35 -> 35432 | H35: 35432
C36: Արաքս համայնքի Մեծամոր գյուղի մանկապարտեզ | D36: =+E36+F36+G36+H36 -> 35022 | H36: 35022
C37: Բաղրամյան համայնքի Հուշակերտ գյուղի մանկապարտեզ | D37: =+E37+F37+G37+H37 -> 28825.9 | H37: 28825.9
C38: Արմավիր համայնքի Սարդարապատ գյուղի մանկապարտեզ | D38: =+E38+F38+G38+H38 -> 5396.8 | H38: 5396.8
C39: Արմավիր համայնքի Արաքս գյուղի մանկապարտեզ | D39: =+E39+F39+G39+H39 -> 5396.8 | H39: 5396.8
C40: Մեծամոր համայնքի Ջանֆիդա գյուղի Վազգեն Սարգսյանի անվան մանկապարտեզ | D40: =+E40+F40+G40+H40 -> 14625.4 | H40: 14625.4
C41: Մեծամոր համայնքի Զարթոնք գյուղի մանկապարտեզ | D41: =+E41+F41+G41+H41 -> 11771.6 | H41: 11771.6
C42: Մեծամոր համայնքի Արևիկ գյուղի «Մոդուլային» տիպի 144 տեղ հզորությամբ մսուր-մանկապարտեզ | D42: =+E42+F42+G42+H42 -> 11038.4 | H42: 11038.4
C43: Վաղարշապատ համայնքի թիվ 10 «Ոսկեհատ» մանկապարտեզ | D43: =+E43+F43+G43+H43 -> 930.4 | H43: 930.4
...

Sheet Հավելված N 4
F1: Հավելված N 4
E2: ՀՀ կառավարության 2024 թվականի
F3: ______________ ի ___Ն որոշման
B6: ՀԱՅԱՍՏԱՆԻ ՀԱՆՐԱՊԵՏՈՒԹՅԱՆ ԿԱՌԱՎԱՐՈՒԹՅԱՆ 2023 ԹՎԱԿԱՆԻ ԴԵԿՏԵՄԲԵՐԻ 28-Ի N 2323-Ն ՈՐՈՇՄԱՆ N 5 ՀԱՎԵԼՎԱԾԻ N 2 ԱՂՅՈՒՍԱԿՈՒՄ ԿԱՏԱՐՎՈՂ ՓՈՓՈԽՈՒԹՅՈՒՆԸ ԵՎ ԼՐԱՑՈՒՄՆԵՐԸ
G8: հազ. դրամներով
B9: Ծրագրային դասիչ | D9: Բյուջետային գլխավոր կարգադրիչների, ծրագրերի, միջոցառումների, միջոցառումները կատարող պետական մարմինների և ուղղությունների անվանումները | E9: Ցուցանիշների փոփոխությունը (ավելացումները նշված են դրական նշանով, իսկ նվազեցումները՝ փակագծերում)
B10: Ծրագիր | C10: Միջոցառում | E10: Առաջին կիսամյակ | F10: Ինն ամիս | G10: Տարի
D11: ՀՀ ԿՐԹՈՒԹՅԱՆ, ԳԻՏՈՒԹՅԱՆ, ՄՇԱԿՈՒՅԹԻ ԵՎ ՍՊՈՐՏԻ ՆԱԽԱՐԱՐՈՒԹՅՈՒՆ | E11: =+E13+E20 -> 0 | F11: =+F13+F20 -> 0 | G11: =+G13+G20 -> 0
D12: այդ թվում՝
B13: 1236 | C13: 32002 | D13: Մանկապարտեզների շենքերի վերակառուցում, հիմնանորոգում | E13: =+E15+E19 -> 0 | F13: =+F15+F19 -> -2254574.2 | G13: =+G15+G19 -> -2254574.2
D14: այդ թվում` ըստ կատարողների
D15: ՀՀ Գեղարքունիքի մարզպետի աշխատակազմ | E15: =+E17 -> 0 | F15: =+F17 -> 33557.2 | G15: =+G17 -> 55928.8
D16: այդ թվում՝ ըստ ուղղությունների
D17: ՀՀ Գեղարքունիքի մարզ | E17: =+E18 -> 0 | F17: =+F18 -> 33557.2 | G17: =+G18 -> 55928.8
D18: =+'Հավելված N 3'!C19 -> Վարդենիս համայնքի Գեղամասար բնակավայրի մանկապարտեզ | E18: 0 | F18: =33000+357.3+199.9 -> 33557.2 | G18: =+'Հավելված N 3'!D19 -> 55928.8
D19: ՀՀ կառավարություն | E19: 0 | F19: =-F15-F20 -> -2288131.4 | G19: =+'Հավելված N 3'!D17 -> -2310503
B20: 1236 | C20: 32006 | D20: Հանրակրթական դպրոցների, մանկապարտեզների և կրթահամալիրների գույքով և տեխնիկայով ապահովում | E20: =+E22+E30+E38+E69+E74+E91+E104+E127+E133 -> 0 | F20: =+F22+F30+F38+F69+F74+F91+F104+F127+F133 -> 2254574.2 | G20: =+G22+G30+G38+G69+G74+G91+G104+G127+G133 -> 2254574.2
D21: այդ թվում` ըստ կատարողների
D22: ՀՀ Արագածոտնի մարզպետի աշխատակազմ | E22: =+E24 -> 0 | F22: =+F24 -> 147032.8 | G22: =+G24 -> 147032.8
D23: այդ թվում՝ ըստ ուղղությունների
D24: ՀՀ Արագածոտնի մարզ | E24: =SUM(E25:E29) -> 0 | F24: =SUM(F25:F29) -> 147032.8 | G24: =SUM(G25:G29) -> 147032.8
D25: =+'Հավելված N 3'!C23 -> Արտաշավան բնակավայրի «Կակաչ» մանկապարտեզ | E25: 0 | F25: =+G25 -> 25763.8 | G25: =+'Հավելված N 3'!D23 -> 25763.8
D26: =+'Հավելված N 3'!C24 -> Ապարան համայնքի Շենավան գյուղի մանկապարտեզ | E26: 0 | F26: =+G26 -> 25763.8 | G26: =+'Հավելված N 3'!D24 -> 25763.8
D27: =+'Հավելված N 3'!C25 -> Ապարան համայնքի Արագածի Գուսան Աշխույժի անվան մանկապարտեզ | E27: 0 | F27: =+G27 -> 37585.6 | G27: =+'Հավելված N 3'!D25 -> 37585.6
D28: =+'Հավելված N 3'!C26 -> Ալագյազ համայնքի «Մոդուլային» տիպի 144 տեղ հզորությամբ մսուր-մանկապարտեզ | E28: 0 | F28: =+G28 -> 14199.8 | G28: =+'Հավելված N 3'!D26 -> 14199.8
D29: =+'Հավելված N 3'!C27 -> Աշտարակի թիվ 4 «Հասմիկ» մանկապարտեզ | E29: 0 | F29: =+G29 -> 43719.8 | G29: =+'Հավելված N 3'!D27 -> 43719.8
D30: ՀՀ Արարատի մարզպետի աշխատակազմ | E30: =+E32 -> 0 | F30: =+F32 -> 55658.5 | G30: =+G32 -> 55658.5
D31: այդ թվում՝ ըստ ուղղությունների
D32: ՀՀ Արարատի մարզ | E32: =SUM(E33:E36) -> 0 | F32: =SUM(F33:F36) -> 55658.5 | G32: =SUM(G33:G36) -> 55658.5
D33: =+'Հավելված N 3'!C29 -> Մասիս համայնքի Մասիս քաղաքի թիվ 3 մսուր մանկապարտեզ | E33: 0 | F33: =+G33 -> 14591.2 | G33: =+'Հավելված N 3'!D29 -> 14591.2
D34: =+'Հավելված N 3'!C30 -> Մասիս համայնքի Մասիս քաղաքի թիվ 1 մսուր մանկապարտեզ | E34: 0 | F34: =+G34 -> 19246.3 | G34: =+'Հավելված N 3'!D30 -> 19246.3
D35: =+'Հավելված N 3'!C31 -> Մասիս համայնքի Դաշտավան գյուղի մանկապարտեզ | E35: 0 | F35: =+G35 -> 9670.8 | G35: =+'Հավելված N 3'!D31 -> 9670.8
D36: =+'Հավելված N 3'!C32 -> Արարատ համայնքի Ավշար գյուղի մանկապարտեզ | E36: 0 | F36: =+G36 -> 12150.2 | G36: =+'Հավելված N 3'!D32 -> 12150.2
D37: =+'Հավելված N 3'!C35 -> Արաքս համայնքի Ջրառատ գյուղի մանկապարտեզ | E37: 0 | F37: =+G37 -> 35432 | G37: =+'Հավելված N 3'!D35 -> 35432
D38: ՀՀ Արմավիրի մարզպետի աշխատակազմ | E38: =+E40 -> 0 | F38: =+F40 -> 794409.2 | G38: =+G40 -> 794409.2
D39: այդ թվում՝ ըստ ուղղությունների
D40: ՀՀ Արմավիրի մարզ | E40: =SUM(E41:E68) -> 0 | F40: =SUM(F41:F68) -> 794409.2 | G40: =SUM(G41:G68) -> 794409.2
D41: =+'Հավելված N 3'!C34 -> Արաքս համայնքի Խորոնք գյուղի մանկապարտեզ | E41: 0 | F41: =+G41 -> 33828.7 | G41: =+'Հավելված N 3'!D34 -> 33828.7
D42: =+'Հավելված N 3'!C35 -> Արաքս համայնքի Ջրառատ գյուղի մանկապարտեզ | E42: 0 | F42: =+G42 -> 35432 | G42: =+'Հավելված N 3'!D35 -> 35432
D43: =+'Հավելված N 3'!C36 -> Արաքս համայնքի Մեծամոր գյուղի մանկապարտեզ | E43: 0 | F43: =+G43 -> 35022 | G43: =+'Հավելված N 3'!D36 -> 35022
...

Sheet Հավելված N 5
C1: Հավելված N 5
C2: ՀՀ կառավարության 2024 թվականի
C3: ______________ ի ___Ն որոշման
B6: ՀԱՅԱՍՏԱՆԻ ՀԱՆՐԱՊԵՏՈՒԹՅԱՆ ԿԱՌԱՎԱՐՈՒԹՅԱՆ 2023 ԹՎԱԿԱՆԻ ԴԵԿՏԵՄԲԵՐԻ 28-Ի N 2323-Ն ՈՐՈՇՄԱՆ N 9 ՀԱՎԵԼՎԱԾԻ N 9.13 ԱՂՅՈՒՍԱԿՈՒՄ ԿԱՏԱՐՎՈՂ ՓՈՓՈԽՈՒԹՅՈՒՆՆԵՐԸ ԵՎ ԼՐԱՑՈՒՄՆԵՐԸ
A8: Աղյուսակ 9․13
C9: ՀՀ կրթության, գիտության, մշակույթի և սպորտի նախարարություն
B10: ՄԱՍ 2. ՊԵՏԱԿԱՆ ՄԱՐՄՆԻ ԳԾՈՎ ԱՐԴՅՈՒՆՔԱՅԻՆ (ԿԱՏԱՐՈՂԱԿԱՆ) ՑՈՒՑԱՆԻՇՆԵՐԸ
B13: Ծրագրի դասիչը | C13: Ծրագրի անվանումը
B14: 1236 | C14: Հանրակրթական և նախադպրոցական հաստատությունների հիմնում, կառուցում, բարելավում
B16: Ծրագրի միջոցառումները
B17: Ծրագրի դասիչը՝ | C17: 1236 | D17: Ցուցանիշների փոփոխությունը (ավելացումները նշված են դրական նշանով, իսկ նվազեցումները՝ փակագծերում)
B18: Միջոցառման դասիչը՝ | C18: 32002 | D18: Առաջին կիսամյակ | E18: Ինն ամիս | F18: Տարի
B19: Միջոցառման անվանումը` | C19: Մանկապարտեզների շենքերի վերակառուցում, հիմնանորոգում
B20: Նկարագրությունը` | C20: Նախադպրոցական կրթության հասանելիության ապահովման նպատակով՛ մանկապարտեզների շենքերի (մասնաշենքերի), վերակառուցում, հիմնանորոգում և նախագծում
B21: Միջոցառման տեսակը` | C21: Այլ պետական կազմակերպությունների կողմից օգտագործվող ոչ ֆինանսական ակտիվների հետ գործառնություններ
B22: Ակտիվն օգտագործող կազմակերպությունների անվանումները | C22: Նախադպրոցական կրթությույն իրականացնող ուսումնական հաստատություններ
B23: Արդյունքի չափորոշիչներ
B24: Հիմնանորոգվող մանկապարտեզների քանակ, հատ | F24: 1
B25: Միջոցառման վրա կատարվող ծախսը (հազար դրամ) | D25: =+'Հավելված N 1'!D23 -> 0 | E25: =+'Հավելված N 1'!E23 -> -2254574.2 | F25: =+'Հավելված N 1'!F23 -> -2254574.2
B27: Ծրագրի միջոցառումները
B28: Ծրագրի դասիչը՝ | C28: 1236 | D28: Ցուցանիշների փոփոխությունը (ավելացումները նշված են դրական նշանով)
B29: Միջոցառման դասիչը՝ | C29: 32006 | D29: Առաջին կիսամյակ | E29: Ինն ամիս | F29: Տարի
B30: Միջոցառման անվանումը` | C30: Հանրակրթական դպրոցների, մանկապարտեզների և կրթահամալիրների գույքով և տեխնիկայով ապահովում
B31: Նկարագրությունը` | C31: Կրթական ժամանակակից նորմերին և կրթական չափորոշիչներին համապատասխան ուսուցման ծրագրերն իրականացնելու նպատակով հանրակրթական և նախադպրոցական հաստատությունների համար գույքի և տեխնիկայի ձեռքբերում
B32: Միջոցառման տեսակը` | C32: Այլ պետական կազմակերպությունների կողմից օգտագործվող ոչ ֆինանսական ակտիվների հետ գործառնություններ
B33: Ակտիվն օգտագործող կազմակերպությունների անվանումները | C33: Հանրակրթական դպրոցներ, մանկապարտեզներ և կրթահամալիրներ
B34: Արդյունքի չափորոշիչներ
B35: Սուբվենցիոն ծրագրերի շրջանակներում կառուցվող(ած), վերակառուցվող(ած) և հիմնանորոգվող(ած) մանկապարտեզների թիվը, որոնք ապահովվում են գույքով, հատ | F35: 74
B36: «Սոցիալական ներդրումների և տեղական զարգացման» ծրագրի շրջանակներում կառուցվող(ած), վերակառուցվող(ած) և հիմնանորոգվող(ած) մանկապարտեզների թիվը, որոնք ապահովվում են գույքով, հատ | F36: 6
B37: Անհետաձգելի ծրագրերի շրջանակներում կառուցվող(ած), վերակառուցվող(ած) և հիմնանորոգվող(ած) մանկապարտեզների թիվը, որոնք ապահովվում են գույքով, հատ | F37: 3
B38: «Մոդուլային» տիպի 144 տեղ հզորությամբ կառուցվող(ած) մսուր–մանկապարտեզների թիվը, որոնք ապահովվում են գույքով, հատ | F38: 2
B39: Բարեգործական ծրագրերով կառուցվող(ած), վերակառուցվող(ած) և հիմնանորոգվող(ած) մանկապարտեզների թիվը, որոնք ապահովվում են գույքով, հատ | F39: 8
B40: Միջոցառման վրա կատարվող ծախսը (հազար դրամ) | D40: =+'Հավելված N 1'!D29 -> 0 | E40: =+'Հավելված N 1'!E29 -> 2254574.2 | F40: =+'Հավելված N 1'!F29 -> 2254574.2

Sheet Հավելված N 6
C1: Հավելված N 6
C2: ՀՀ կառավարության 2024 թվականի
C3: ______________ ի ___Ն որոշման
B6: ՀԱՅԱՍՏԱՆԻ ՀԱՆՐԱՊԵՏՈՒԹՅԱՆ ԿԱՌԱՎԱՐՈՒԹՅԱՆ 2023 ԹՎԱԿԱՆԻ ԴԵԿՏԵՄԲԵՐԻ 28-Ի N 2323-Ն ՈՐՈՇՄԱՆ N 9․1 ՀԱՎԵԼՎԱԾԻ NN 9.1.48, 9.1.49, 9.1.50, 9.1.51, 9.1.52, 9.1.53, 9.1.54, 9.1.55, 9.1.57 ԵՎ 9.1.58 ԱՂՅՈՒՍԱԿՆԵՐՈՒՄ ԿԱՏԱՐՎՈՂ ՓՈՓՈԽՈՒԹՅՈՒՆՆԵՐԸ ԵՎ ԼՐԱՑՈՒՄՆԵՐԸ
A8: Աղյուսակ 9․1.48
C9: ՀՀ Արագածոտնի մարզպետի աշխատակազմ
B10: ՄԱՍ 1. ՊԵՏԱԿԱՆ ՄԱՐՄՆԻ ԳԾՈՎ ԱՐԴՅՈՒՆՔԱՅԻՆ (ԿԱՏԱՐՈՂԱԿԱՆ) ՑՈՒՑԱՆԻՇՆԵՐԸ
B13: Ծրագրի միջոցառումները
B14: Ծրագրի դասիչը՝ | C14: 1236 | D14: Ցուցանիշների փոփոխությունը (ավելացումները նշված են դրական նշանով)
B15: Միջոցառման դասիչը՝ | C15: 32006 | D15: Առաջին կիսամյակ | E15: Ինն ամիս | F15: Տարի
B16: Միջոցառման անվանումը` | C16: Հանրակրթական դպրոցների, մանկապարտեզների և կրթահամալիրների գույքով և տեխնիկայով ապահովում
B17: Նկարագրությունը` | C17: Կրթական ժամանակակից նորմերին և կրթական չափորոշիչներին համապատասխան ուսուցման ծրագրերն իրականացնելու նպատակով հանրակրթական և նախադպրոցական հաստատությունների համար գույքի և տեխնիկայի ձեռքբերում
B18: Միջոցառման տեսակը` | C18: Այլ պետական կազմակերպությունների կողմից օգտագործվող ոչ ֆինանսական ակտիվների հետ գործառնություններ
B19: Ակտիվն օգտագործող կազմակերպությունների անվանումները | C19: Հանրակրթական դպրոցներ, մանկապարտեզներ և կրթահամալիրներ
B20: Արդյունքի չափորոշիչներ
B21: Սուբվենցիոն ծրագրերի շրջանակներում կառուցվող(ած), վերակառուցվող(ած) և հիմնանորոգվող(ած) մանկապարտեզների թիվը, որոնք ապահովվում են գույքով, հատ | F21: 4
B22: «Մոդուլային» տիպի 144 տեղ հզորությամբ կառուցվող(ած) մսուր–մանկապարտեզների թիվը, որոնք ապահովվում են գույքով, հատ | F22: 1
B23: Միջոցառման վրա կատարվող ծախսը (հազար դրամ) | D23: =+'Հավելված N 2'!G52 -> 0 | E23: =+'Հավելված N 2'!H52 -> 147032.8 | F23: =+'Հավելված N 2'!I52 -> 147032.8
A29: Աղյուսակ 9․1.49
C30: ՀՀ Արարատի մարզպետի աշխատակազմ
B31: ՄԱՍ 1. ՊԵՏԱԿԱՆ ՄԱՐՄՆԻ ԳԾՈՎ ԱՐԴՅՈՒՆՔԱՅԻՆ (ԿԱՏԱՐՈՂԱԿԱՆ) ՑՈՒՑԱՆԻՇՆԵՐԸ
B34: Ծրագրի միջոցառումները
B35: Ծրագրի դասիչը՝ | C35: 1236 | D35: Ցուցանիշների փոփոխությունը (ավելացումները նշված են դրական նշանով)
B36: Միջոցառման դասիչը՝ | C36: 32006 | D36: Առաջին կիսամյակ | E36: Ինն ամիս | F36: Տարի
B37: Միջոցառման անվանումը` | C37: Հանրակրթական դպրոցների, մանկապարտեզների և կրթահամալիրների գույքով և տեխնիկայով ապահովում
B38: Նկարագրությունը` | C38: Կրթական ժամանակակից նորմերին և կրթական չափորոշիչներին համապատասխան ուսուցման ծրագրերն իրականացնելու նպատակով հանրակրթական և նախադպրոցական հաստատությունների համար գույքի և տեխնիկայի ձեռքբերում
B39: Միջոցառման տեսակը` | C39: Այլ պետական կազմակերպությունների կողմից օգտագործվող ոչ ֆինանսական ակտիվների հետ գործառնություններ
B40: Ակտիվն օգտագործող կազմակերպությունների անվանումները | C40: Հանրակրթական դպրոցներ, մանկապարտեզներ և կրթահամալիրներ
B41: Արդյունքի չափորոշիչներ
B42: Սուբվենցիոն ծրագրերի շրջանակներում կառուցվող(ած), վերակառուցվող(ած) և հիմնանորոգվող(ած) մանկապարտեզների թիվը, որոնք ապահովվում են գույքով, հատ | F42: 4
B43: Միջոցառման վրա կատարվող ծախսը (հազար դրամ) | D43: =+'Հավելված N 2'!G59 -> 0 | E43: =+'Հավելված N 2'!H59 -> 55658.5 | F43: =+'Հավելված N 2'!I59 -> 55658.5
A49: Աղյուսակ 9․1.50
C50: ՀՀ Արմավիրի մարզպետի աշխատակազմ
B51: ՄԱՍ 1. ՊԵՏԱԿԱՆ ՄԱՐՄՆԻ ԳԾՈՎ ԱՐԴՅՈՒՆՔԱՅԻՆ (ԿԱՏԱՐՈՂԱԿԱՆ) ՑՈՒՑԱՆԻՇՆԵՐԸ
B54: Ծրագրի միջոցառումները
B55: Ծրագրի դասիչը՝ | C55: 1236 | D55: Ցուցանիշների փոփոխությունը (ավելացումները նշված են դրական նշանով)
B56: Միջոցառման դասիչը՝ | C56: 32006 | D56: Առաջին կիսամյակ | E56: Ինն ամիս | F56: Տարի
B57: Միջոցառման անվանումը` | C57: Հանրակրթական դպրոցների, մանկապարտեզների և կրթահամալիրների գույքով և տեխնիկայով ապահովում
B58: Նկարագրությունը` | C58: Կրթական ժամանակակից նորմերին և կրթական չափորոշիչներին համապատասխան ուսուցման ծրագրերն իրականացնելու նպատակով հանրակրթական և նախադպրոցական հաստատությունների համար գույքի և տեխնիկայի ձեռքբերում
B59: Միջոցառման տեսակը` | C59: Այլ պետական կազմակերպությունների կողմից օգտագործվող ոչ ֆինանսական ակտիվների հետ գործառնություններ
...

Sheet Հավելված N 7
H1: Հավելված N 7
H2: ՀՀ կառավարության 2024 թվականի
H3: ______________ ի ___Ն որոշման
A6: ՀԱՅԱՍՏԱՆԻ ՀԱՆՐԱՊԵՏՈՒԹՅԱՆ ԿԱՌԱՎԱՐՈՒԹՅԱՆ 2023 ԹՎԱԿԱՆԻ ԴԵԿՏԵՄԲԵՐԻ 28-Ի N 2323-Ն N 10 ՀԱՎԵԼՎԱԾՈՒՄ ԿԱՏԱՐՎՈՂ ԼՐԱՑՈՒՄՆԵՐԸ
A10: Կոդը | B10: Անվանումը | E10: Գնման ձևը | F10: Չափման միավորը | G10: Միավորի գինը | H10: Ցուցանիշների փոփոխությունը (ավելացումները նշված են դրական նշանով)
H11: Քանակը | I11: Գումարը (հազար դրամ)
A12: 1 | B12: 2 | E12: 3 | F12: 4 | G12: 5 | H12: 6 | I12: 7
A13: ՀՀ Արագածոտնի մարզպետի աշխատակազմ | I13: =+I14 -> 147032.8
A14: Բաժին N 09 | B14: Խումբ N 02 | C14: Դաս N 01 | D14: Հիմնական ընդհանուր կրթություն | I14: =+I15 -> 147032.8
A15: 1236-32006 | B15: Հանրակրթական դպրոցների, մանկապարտեզների և կրթահամալիրների գույքով և տեխնիկայով ապահովում | I15: =+I16 -> 147032.8
B16: ՄԱՍ I. ԱՊՐԱՆՔՆԵՐ | I16: =SUM(I17:I137) -> 147032.8
A17: 39141260 | B17: զգեստապահարաններ | E17: ԷԱՃ | F17: հատ | G17: 142925 | H17: 6 | I17: =+ROUND(H17*G17/1000,1) -> 857.6
A18: 39111320 | B18: նստարաններ | E18: ԷԱՃ | F18: հատ | G18: 41667 | H18: 6 | I18: =+ROUND(H18*G18/1000,1) -> 250
A19: 39111140 | B19: աթոռներ | E19: ԷԱՃ | F19: հատ | G19: 18000 | H19: 24 | I19: =+ROUND(H19*G19/1000,1) -> 432
A20: 39121200 | B20: սեղաններ | E20: ԷԱՃ | F20: հատ | G20: 25000 | H20: 7 | I20: =+ROUND(H20*G20/1000,1) -> 175
A21: 39121200 | B21: սեղաններ | E21: ԷԱՃ | F21: հատ | G21: 65500 | H21: 4 | I21: =+ROUND(H21*G21/1000,1) -> 262
A22: 39121200 | B22: սեղաններ | E22: ԷԱՃ | F22: հատ | G22: 98333 | H22: 1 | I22: =+ROUND(H22*G22/1000,1) -> 98.3
A23: 39121100 | B23: գրասեղաններ | E23: ԷԱՃ | F23: հատ | G23: 98250 | H23: 1 | I23: =+ROUND(H23*G23/1000,1) -> 98.3
A24: 39111140 | B24: աթոռներ | E24: ԷԱՃ | F24: հատ | G24: 23333 | H24: 2 | I24: =+ROUND(H24*G24/1000,1) -> 46.7
A25: 39121520 | B25: գրապահարաններ | E25: ԷԱՃ | F25: հատ | G25: 118250 | H25: 1 | I25: =+ROUND(H25*G25/1000,1) -> 118.3
A26: 39141260 | B26: զգեստապահարաններ | E26: ԷԱՃ | F26: հատ | G26: 100175 | H26: 1 | I26: =+ROUND(H26*G26/1000,1) -> 100.2
A27: 39292110 | B27: գրատախտակներ | E27: ԷԱՃ | F27: հատ | G27: 100000 | H27: 1 | I27: =+ROUND(H27*G27/1000,1) -> 100
A28: 39141120 | B28: դարակներով պահարաններ | E28: ԷԱՃ | F28: հատ | G28: 181667 | H28: 1 | I28: =+ROUND(H28*G28/1000,1) -> 181.7
... A137: 38651200 | B137: պրոյեկտորներ | E137: ԷԱՃ | F137: հատ | G137: 350000 | H137: 5 | I137: =+ROUND(H137*G137/1000,1) -> 1750
A139: ՀՀ Արարատի մարզպետի աշխատակազմ | I139: =+I140 -> 55658.5
A140: Բաժին N 09 | B140: Խումբ N 02 | C140: Դաս N 01 | D140: Հիմնական ընդհանուր կրթություն | I140: =+I141 -> 55658.5
A141: 1236-32006 | B141: Հանրակրթական դպրոցների, մանկապարտեզների և կրթահամալիրների գույքով և տեխնիկայով ապահովում | I141: =+I142 -> 55658.5
B142: ՄԱՍ I. ԱՊՐԱՆՔՆԵՐ | I142: =SUM(I143:I259) -> 55658.5
A143: 39141260 | B143: զգեստապահարաններ | E143: ԷԱՃ | F143: հատ | G143: 142925 | H143: 8 | I143: =+ROUND(H143*G143/1000,1) -> 1143.4
A144: 39111320 | B144: նստարաններ | E144: ԷԱՃ | F144: հատ | G144: 41667 | H144: 4 | I144: =+ROUND(H144*G144/1000,1) -> 166.7
A145: 39111140 | B145: աթոռներ | E145: ԷԱՃ | F145: հատ | G145: 18000 | H145: 50 | I145: =+ROUND(H145*G145/1000,1) -> 900
A146: 39121200 | B146: սեղաններ | E146: ԷԱՃ | F146: հատ | G146: 25000 | H146: 14 | I146: =+ROUND(H146*G146/1000,1) -> 350
A147: 39121100 | B147: գրասեղաններ | E147: ԷԱՃ | F147: հատ | G147: 98250 | H147: 2 | I147: =+ROUND(H147*G147/1000,1) -> 196.5
A148: 39111140 | B148: աթոռներ | E148: ԷԱՃ | F148: հատ | G148: 23333 | H148: 3 | I148: =+ROUND(H148*G148/1000,1) -> 70
A149: 39121520 | B149: գրապահարաններ | E149: ԷԱՃ | F149: հատ | G149: 118250 | H149: 1 | I149: =+ROUND(H149*G149/1000,1) -> 118.3
A150: 39292110 | B150: գրատախտակներ | E150: ԷԱՃ | F150: հատ | G150: 100000 | H150: 4 | I150: =+ROUND(H150*G150/1000,1) -> 400
A151: 39141120 | B151: դարակներով պահարաններ | E151: ԷԱՃ | F151: հատ | G151: 181667 | H151: 4 | I151: =+ROUND(H151*G151/1000,1) -> 726.7
A152: 39141260 | B152: զգեստապահարաններ | E152: ԷԱՃ | F152: հատ | G152: 142925 | H152: 6 | I152: =+ROUND(H152*G152/1000,1) -> 857.6
A153: 39111320 | B153: նստարաններ | E153: ԷԱՃ | F153: հատ | G153: 41667 | H153: 2 | I153: =+ROUND(H153*G153/1000,1) -> 83.3
A154: 39121200 | B154: սեղաններ | E154: ԷԱՃ | F154: հատ | G154: 43000 | H154: 8 | I154: =+ROUND(H154*G154/1000,1) -> 344
...
