Workbook
Name AgencyCode: #REF!
Name AgencyCode: #REF!
Name AgencyName: #REF!
Name AgencyName: #REF!
Name åû: #REF!
Name davit: #REF!
Name Functional1: #REF!
Name Functional1: #REF!
Name ggg: #REF!
Name mas: #REF!
Name mass: #REF!
Name PANature: #REF!
Name PANature: #REF!
Name PAType: #REF!
Name PAType: #REF!
Name Performance2: #REF!
Name Performance2: #REF!
Name PerformanceType: #REF!
Name PerformanceType: #REF!
Name x: #REF!
Name Հավելված: #REF!
Name Մաս: #REF!
Name շախմատիստ: #REF!

Sheet Հ1
A1: Հավելված N 1
A2: ՀՀ կառավարության 2024 թվականի
A3: ______________ ի ___Ն որոշման
A5: «ՀԱՅԱUՏԱՆԻ ՀԱՆՐԱՊԵՏՈՒԹՅԱՆ 2024 ԹՎԱԿԱՆԻ ՊԵՏԱԿԱՆ ԲՅՈՒՋԵԻ ՄԱUԻՆ» OՐԵՆՔԻ N 1 ՀԱՎԵԼՎԱԾԻ N 2 ԱՂՅՈՒՍԱԿՈՒՄ ԿԱՏԱՐՎՈՂ ՎԵՐԱԲԱՇԽՈՒՄԸ ԵՎ ՀԱՅԱՍՏԱՆԻ ՀԱՆՐԱՊԵՏՈՒԹՅԱՆ ԿԱՌԱՎԱՐՈՒԹՅԱՆ 2023 ԹՎԱԿԱՆԻ ԴԵԿՏԵՄԲԵՐԻ 28-Ի N 2323-Ն ՈՐՈՇՄԱՆ N 5 ՀԱՎԵԼՎԱԾԻ N 1 ԱՂՅՈՒՍԱԿՈՒՄ ԿԱՏԱՐՎՈՂ ՓՈՓՈԽՈՒԹՅՈՒՆՆԵՐԸ
F7: հազար դրամով
A8: Ծրագրային դասիչը | C8: Բյուջետային հատկացումների գլխավոր կարգադրիչների, ծրագրերի և միջոցառումների անվանումները | D8: Ցուցանիշների փոփոխությունը (ավելացումները նշված են դրական նշանով, իսկ նվազեցումները` փակագծերում)
A9: Ծրագիր | B9: Միջոցառում | D9: Առաջին կիսամյակ | E9: Ինն ամիս | F9: Տարի
A10: 1192 | C10: ԸՆԴԱՄԵՆԸ | D10: =+D12+D26 -> 0 | E10: =+E12+E26 -> 0 | F10: =+F12+F26 -> 0
C11: այդ թվում
C12: ՀՀ տարածքային կառավարման և ենթակառուցվածքների նախարարություն | D12: =D13 -> 71287 | E12: =E13 -> 71287 | F12: =F13 -> 71287
A13: 1212 | C13: Ծրագրի անվանումը` | D13: =D20 -> 71287 | E13: =E20 -> 71287 | F13: =F20 -> 71287
C14: Տարածքային զարգացում
C15: Ծրագրի նպատակը`
C16: Տարածքային համաչափ զարգացման խթանում
C17: Վերջնական արդյունքի նկարագրությունը`
C18: ՀՀ համայնքների կառավարման արդյունավետության բարձրացում և տնտեսական գործունեության խթանում
C19: Ծրագրի միջոցառումներ
B20: 12025 | C20: Միջոցառման անվանումը` | D20: 71287 | E20: =D20 -> 71287 | F20: =E20 -> 71287
C21: Մարզերում առաջնահերթ լուծում պահանջող հիմնախնդիրների լուծում
C22: Միջոցառման նկարագրությունը`
C23: Մարզերում առաջնահերթ լուծում պահանջող ծրագրերի իրականացում, որի արդյունքում լուծում կտրվի բնակչության և համայնքների սոցիալական նշանակություն ունեցող հիմնախնդիրներին:
C24: Միջոցառման տեսակը
C25: Տրանսֆերտների տրամադրում
C26: ՀՀ կառավարություն | D26: =D33 -> -71287 | E26: =E33 -> -71287 | F26: =F33 -> -71287
A27: 1139 | C27: Ծրագրի անվանումը` | D27: =D33 -> -71287 | E27: =E33 -> -71287 | F27: =F33 -> -71287
C28: ՀՀ կառավարության պահուստային ֆոնդ
C29: Ծրագրի նպատակը`
C30: Պետական բյուջեում չկանխատեսված, ինչպես նաև բյուջետային երաշխիքների ապահովման ծախսերի ֆինանսավորման ապահովում
C31: Վերջնական արդյունքի նկարագրությունը`
C32: Պահուստային ֆոնդի կառավարման արդյունավետության և թափանցիկության ապահովում
B33: 11001 | C33: Միջոցառման անվանումը` | D33: =-D20 -> -71287 | E33: =-E20 -> -71287 | F33: =-F20 -> -71287
C34: ՀՀ կառավարության պահուստային ֆոնդ
C35: Միջոցառման նկարագրությունը`
C36: ՀՀ պետական բյուջեում նախատեսված ելքերի լրացուցիչ ֆինանսավորման՝ պետական բյուջեում չկանխատեսված ելքերի, ինչպես նաև բյուջետային երաշխիքների ապահովման ելքերի ֆինանսավորման ապահովում
C37: Միջոցառման տեսակը
C38: Ծառայությունների մատուցում
B41: ՀԱՅԱՍՏԱՆԻ ՀԱՆՐԱՊԵՏՈՒԹՅԱՆ ՎԱՐՉԱՊԵՏԻ ԱՇԽԱՏԱԿԱԶՄԻ ՂԵԿԱՎԱՐ՝ | D41: Ա.ՀԱՐՈՒԹՅՈՒՆՅԱՆ

Sheet Հ2 
A1: Հավելված N 2
A2: ՀՀ կառավարության 2024 թվականի
A3: ______________ ի ___Ն որոշման
A5: ՀԱՅԱՍՏԱՆԻ ՀԱՆՐԱՊԵՏՈՒԹՅԱՆ ԿԱՌԱՎԱՐՈՒԹՅԱՆ 2023 ԹՎԱԿԱՆԻ ԴԵԿՏԵՄԲԵՐԻ 28-Ի N 2323-Ն ՈՐՈՇՄԱՆ N 3 ԵՎ N 4 ՀԱՎԵԼՎԱԾՆԵՐՈՒՄ ԿԱՏԱՐՎՈՂ ՓՈՓՈԽՈՒԹՅՈՒՆՆԵՐԸ ԵՎ ԼՐԱՑՈՒՄՆԵՐԸ
I7: հազար դրամով
A8: Գործառական դասիչը | D8: Ծրագրային դասիչը | F8: Բյուջետային հատկացումների գլխավոր կարգադրիչների, ծրագրերի, միջոցառումների և միջոցառումները կատարող պետական մարմինների անվանումները | G8: Ցուցանիշների փոփոխությունը (ավելացումները նշված են դրական նշանով, իսկ նվազեցումները` փակագծերում)
A9: Բաժին | B9: Խումբ | C9: Դաս | D9: Ծրագիր | E9: Միջոցառում | G9: Առաջին կիսամյակ | H9: Ինն ամիս | I9: Տարի
F10: ԸՆԴԱՄԵՆԸ | G10: =G12+G32 -> 0 | H10: =H12+H32 -> 0 | I10: =I12+I32 -> 0
F11: այդ թվում
F12: ՀՀ տարածքային կառավարման և ենթակառուցվածքների նախարարություն | G12: =G13 -> 71287 | H12: =H13 -> 71287 | I12: =I13 -> 71287
A13: 01 | F13: ԸՆԴՀԱՆՈՒՐ ԲՆՈՒՅԹԻ ՀԱՆՐԱՅԻՆ ԾԱՌԱՅՈՒԹՅՈՒՆՆԵՐ | G13: =G15 -> 71287 | H13: =H15 -> 71287 | I13: =I15 -> 71287
F14: այդ թվում`
B15: 08 | F15: Կառավարության տարբեր մակարդակների միջև իրականացվող ընդհանուր բնույթի տրանսֆերտներ | G15: =G17 -> 71287 | H15: =H17 -> 71287 | I15: =I17 -> 71287
F16: այդ թվում`
C17: 01 | F17: Կառավարության տարբեր մակարդակների միջև իրականացվող ընդհանուր բնույթի տրանսֆերտներ | G17: =+G19 -> 71287 | H17: =+H19 -> 71287 | I17: =+I19 -> 71287
F18: այդ թվում`
F19: ՀՀ տարածքային կառավարման և ենթակառուցվածքների նախարարություն | G19: =+G21 -> 71287 | H19: =+H21 -> 71287 | I19: =+I21 -> 71287
F20: այդ թվում`
D21: 1212 | F21: Տարածքային զարգացում | G21: =+G23 -> 71287 | H21: =+H23 -> 71287 | I21: =+I23 -> 71287
F22: այդ թվում`
E23: 12025 | F23: Մարզերում առաջնահերթ լուծում պահանջող հիմնախնդիրների լուծում | G23: =G25 -> 71287 | H23: =H25 -> 71287 | I23: =I25 -> 71287
F24: այդ թվում` ըստ կատարողների
F25: ՀՀ Տավուշի մարզպետի աշխատակազմ | G25: =G27 -> 71287 | H25: =H27 -> 71287 | I25: =I27 -> 71287
F26: այդ թվում`բյուջետային ծախսերի տնտեսագիտական դասակարգման հոդվածներ
F27: ԸՆԴԱՄԵՆԸ ԾԱԽՍԵՐ | G27: =+G28 -> 71287 | H27: =+H28 -> 71287 | I27: =+I28 -> 71287
F28: ԸՆԹԱՑԻԿ ԾԱԽՍԵՐ | G28: =G29 -> 71287 | H28: =H29 -> 71287 | I28: =I29 -> 71287
F29: ՍՈՑԻԱԼԱԿԱՆ ՆՊԱՍՏՆԵՐ ԵՎ ԿԵՆՍԱԹՈՇԱԿՆԵՐ | G29: =G30 -> 71287 | H29: =H30 -> 71287 | I29: =I30 -> 71287
F30: Սոցիալական օգնության դրամական արտահայտությամբ նպաստներ (բյուջեից) | G30: =G31 -> 71287 | H30: =H31 -> 71287 | I30: =I31 -> 71287
F31: - Այլ նպաստներ բյուջեից | G31: =Հ1!D20 -> 71287 | H31: =Հ1!E20 -> 71287 | I31: =Հ1!F20 -> 71287
F32: ՀՀ կառավարություն | G32: =+G33 -> -71287 | H32: =+H33 -> -71287 | I32: =+I33 -> -71287
A33: 11 | F33: ՀԻՄՆԱԿԱՆ ԲԱԺԻՆՆԵՐԻՆ ՉԴԱՍՎՈՂ ՊԱՀՈՒՍՏԱՅԻՆ ՖՈՆԴԵՐ | G33: =+G35 -> -71287 | H33: =+H35 -> -71287 | I33: =+I35 -> -71287
F34: այդ թվում`
B35: 01 | F35: ՀՀ կառավարության և համայնքների պահուստային ֆոնդ | G35: =+G37 -> -71287 | H35: =+H37 -> -71287 | I35: =+I37 -> -71287
F36: այդ թվում`
C37: 01 | F37: ՀՀ կառավարության պահուստային ֆոնդ | G37: =G39 -> -71287 | H37: =H39 -> -71287 | I37: =I39 -> -71287
F38: այդ թվում`
F39: ՀՀ կառավարություն | G39: =+G41 -> -71287 | H39: =+H41 -> -71287 | I39: =+I41 -> -71287
F40: այդ թվում`
D41: 1139 | F41: ՀՀ կառավարության պահուստային ֆոնդ | G41: =G43 -> -71287 | H41: =H43 -> -71287 | I41: =I43 -> -71287
F42: այդ թվում`
E43: 11001 | F43: ՀՀ կառավարության պահուստային ֆոնդ | G43: =+G45 -> -71287 | H43: =+H45 -> -71287 | I43: =+I45 -> -71287
F44: այդ թվում` ըստ կատարողների
F45: ՀՀ կառավարություն | G45: =+G47 -> -71287 | H45: =+H47 -> -71287 | I45: =+I47 -> -71287
F46: այդ թվում` բյուջետային ծախսերի տնտեսագիտական դասակարգման հոդվածներ
F47: ԸՆԴԱՄԵՆԸ ԾԱԽՍԵՐ | G47: =+G48 -> -71287 | H47: =+H48 -> -71287 | I47: =+I48 -> -71287
F48: ԸՆԹԱՑԻԿ ԾԱԽՍԵՐ | G48: =+G49 -> -71287 | H48: =+H49 -> -71287 | I48: =+I49 -> -71287
F49: ԱՅԼ ԾԱԽՍԵՐ | G49: =+G50 -> -71287 | H49: =+H50 -> -71287 | I49: =+I50 -> -71287
F50: Պահուստային միջոցներ | G50: =Հ1!D33 -> -71287 | H50: =Հ1!E33 -> -71287 | I50: =Հ1!F33 -> -71287
A54: ՀԱՅԱՍՏԱՆԻ ՀԱՆՐԱՊԵՏՈՒԹՅԱՆ ՎԱՐՉԱՊԵՏԻ ԱՇԽԱՏԱԿԱԶՄԻ ՂԵԿԱՎԱՐ՝ | D54: Ա.ՀԱՐՈՒԹՅՈՒՆՅԱՆ

Sheet Հ3
E1: Հավելված N 3
E2: ՀՀ կառավարության 2024 թվականի
E3: ______________ ի ___Ն որոշման
A5: ՀԱՅԱՍՏԱՆԻ ՀԱՆՐԱՊԵՏՈՒԹՅԱՆ ԿԱՌԱՎԱՐՈՒԹՅԱՆ 2023 ԹՎԱԿԱՆԻ ԴԵԿՏԵՄԲԵՐԻ 28-Ի N 2323-Ն ՈՐՈՇՄԱՆ NN 9 ՀԱՎԵԼՎԱԾԻ NN 9.7 ԵՎ 9․48 ԱՂՅՈՒՍԱԿՆԵՐՈՒՄ ԿԱՏԱՐՎՈՂ ՓՈՓՈԽՈՒԹՅՈՒՆՆԵՐԸ ԵՎ ԼՐԱՑՈՒՄՆԵՐԸ
E7: Աղյուսակ 9.7
A9: ՀՀ տարածքային կառավարման և ենթակառուցվածքների նախարարություն
A10: ՄԱՍ 2. ՊԵՏԱԿԱՆ ՄԱՐՄՆԻ ԳԾՈՎ ԱՐԴՅՈՒՆՔԱՅԻՆ (ԿԱՏԱՐՈՂԱԿԱՆ) ՑՈՒՑԱՆԻՇՆԵՐԸ
A12: Ծրագրի դասիչը | B12: Ծրագրի անվանումը
A13: 1212 | B13: Տարածքային զարգացում
A15: Ծրագրի միջոցառումները
A16: Ծրագրի դասիչը` | B16: 1212 | C16: Ցուցանիշների փոփոխությունը (ավելացումները նշված են դրական նշանով)
A17: Միջոցառման դասիչը` | B17: 12025 | C17: Առաջին կիսամյակ | D17: Ինն ամիս | E17: Տարի
A18: Միջոցառման անվանումը` | B18: Մարզերում առաջնահերթ լուծում պահանջող հիմնախնդիրների լուծում
A19: Նկարագրությունը` | B19: Մարզերում առաջնահերթ լուծում պահանջող ծրագրերի իրականացում, որի արդյունքում լուծում կտրվի բնակչության և համայնքների սոցիալական նշանակություն ունեցող հիմնախնդիրներին:
A20: Միջոցառման տեսակը` | B20: Տրանսֆերտների տրամադրում
A21: Շահառուների ընտրության չափանիշները` | B21: Համայնքներ
A22: Արդյունքի չափորոշիչներ
A23: Միջոցառման վրա կատարվող ծախսը (հազար դրամ) | C23: ='Հ2 '!G23 -> 71287 | D23: ='Հ2 '!H23 -> 71287 | E23: ='Հ2 '!I23 -> 71287
E26: Աղյուսակ 9.48
B28: ՀՀ կառավարություն
A29: ՄԱՍ 2. ՊԵՏԱԿԱՆ ՄԱՐՄՆԻ ԳԾՈՎ ԱՐԴՅՈՒՆՔԱՅԻՆ (ԿԱՏԱՐՈՂԱԿԱՆ) ՑՈՒՑԱՆԻՇՆԵՐԸ
A31: Ծրագրի դասիչը | B31: Ծրագրի անվանումը
A32: 1139 | B32: ՀՀ կառավարության պահուստային ֆոնդ
A34: Ծրագրի միջոցառումները
A35: Ծրագրի դասիչը՝ | B35: 1139 | C35: Ցուցանիշների փոփոխությունը (նվազեցումները նշված են փակագծերում)
A36: Միջոցառման դասիչը՝ | B36: 11001 | C36: Առաջին կիսամյակ | D36: Ինն ամիս | E36: Տարի
A37: Միջոցառման անվանումը՝ | B37: ՀՀ կառավարության պահուստային ֆոնդ
A38: Նկարագրությունը՝ | B38: ՀՀ պետական բյուջեում նախատեսված ելքերի լրացուցիչ ֆինանսավորման՝ պետական բյուջեում չկանխատեսված ելքերի, ինչպես նաև բյուջետային երաշխիքների ապահովման ելքերի ֆինանսավորման ապահովում
A39: Միջոցառման տեսակը՝ | B39: Ծառայությունների մատուցում
A40: Միջոցառումն իրականացնողի անվանումը | B40: ՀՀ կառավարություն
A41: Արդյունքի չափորոշիչներ
A42: Միջոցառման վրա կատարվող ծախսը (հազար դրամ) | C42: ='Հ2 '!G50 -> -71287 | D42: ='Հ2 '!H50 -> -71287 | E42: ='Հ2 '!I50 -> -71287
B46: ՀԱՅԱՍՏԱՆԻ ՀԱՆՐԱՊԵՏՈՒԹՅԱՆ ՎԱՐՉԱՊԵՏԻ ԱՇԽԱՏԱԿԱԶՄԻ ՂԵԿԱՎԱՐ՝ | D46: Ա.ՀԱՐՈՒԹՅՈՒՆՅԱՆ

Sheet Հ4
E1: Հավելված N 4
E2: ՀՀ կառավարության 2024 թվականի
E3: ______________ ի ___Ն որոշման
A5: ՀԱՅԱՍՏԱՆԻ ՀԱՆՐԱՊԵՏՈՒԹՅԱՆ ԿԱՌԱՎԱՐՈՒԹՅԱՆ 2023 ԹՎԱԿԱՆԻ ԴԵԿՏԵՄԲԵՐԻ 28-Ի N 2323-Ն ՈՐՈՇՄԱՆ NN 9.1 ՀԱՎԵԼՎԱԾԻ N 9․1.57 ԵՎ 9.1․58 ԱՂՅՈՒՍԱԿՆԵՐՈՒՄ ԿԱՏԱՐՎՈՂ ՓՈՓՈԽՈՒԹՅՈՒՆՆԵՐԸ ԵՎ ԼՐԱՑՈՒՄՆԵՐԸ
E7: Աղյուսակ 9.1.57
A8: ՀՀ Տավուշի մարզպետի աշխատակազմ
A9: ՄԱՍ 1. ՊԵՏԱԿԱՆ ՄԱՐՄՆԻ ԳԾՈՎ ԱՐԴՅՈՒՆՔԱՅԻՆ (ԿԱՏԱՐՈՂԱԿԱՆ) ՑՈՒՑԱՆԻՇՆԵՐԸ
A11: Ծրագրի դասիչը | B11: Ծրագրի անվանումը
A12: 1212 | B12: Տարածքային զարգացում
A14: Ծրագրի միջոցառումները
A15: Ծրագրի դասիչը` | B15: 1212 | C15: Ցուցանիշների փոփոխությունը (ավելացումները նշված են դրական նշանով)
A16: Միջոցառման դասիչը` | B16: 12025 | C16: Առաջին կիսամյակ | D16: Ինն ամիս | E16: Տարի
A17: Միջոցառման անվանումը` | B17: Մարզերում առաջնահերթ լուծում պահանջող հիմնախնդիրների լուծում
A18: Նկարագրությունը` | B18: Մարզերում առաջնահերթ լուծում պահանջող ծրագրերի իրականացում, որի արդյունքում լուծում կտրվի բնակչության և համայնքների սոցիալական նշանակություն ունեցող հիմնախնդիրներին:
A19: Միջոցառման տեսակը` | B19: Տրանսֆերտների տրամադրում
A20: Շահառուների ընտրության չափանիշները` | B20: Համայնքներ
A21: Արդյունքի չափորոշիչներ
A22: Միջոցառման վրա կատարվող ծախսը (հազար դրամ) | C22: ='Հ2 '!G23 -> 71287 | D22: ='Հ2 '!H23 -> 71287 | E22: ='Հ2 '!I23 -> 71287
E24: Աղյուսակ 9.1.58
B25: ՀՀ կառավարություն
A26: ՄԱՍ 1. ՊԵՏԱԿԱՆ ՄԱՐՄՆԻ ԳԾՈՎ ԱՐԴՅՈՒՆՔԱՅԻՆ (ԿԱՏԱՐՈՂԱԿԱՆ) ՑՈՒՑԱՆԻՇՆԵՐԸ
A28: Ծրագրի դասիչը | B28: Ծրագրի անվանումը
A29: 1139 | B29: ՀՀ կառավարության պահուստային ֆոնդ
A31: Ծրագրի միջոցառումները
A32: Ծրագրի դասիչը՝ | B32: 1139 | C32: Ցուցանիշների փոփոխությունը (նվազեցումները նշված են փակագծերում)
A33: Միջոցառման դասիչը՝ | B33: 11001 | C33: Առաջին կիսամյակ | D33: Ինն ամիս | E33: Տարի
A34: Միջոցառման անվանումը՝ | B34: ՀՀ կառավարության պահուստային ֆոնդ
A35: Նկարագրությունը՝ | B35: ՀՀ պետական բյուջեում նախատեսված ելքերի լրացուցիչ ֆինանսավորման՝ պետական բյուջեում չկանխատեսված ելքերի, ինչպես նաև բյուջետային երաշխիքների ապահովման ելքերի ֆինանսավորման ապահովում
A36: Միջոցառման տեսակը՝ | B36: Ծառայությունների մատուցում
A37: Միջոցառումն իրականացնողի անվանումը | B37: ՀՀ կառավարություն
A38: Արդյունքի չափորոշիչներ
A39: Միջոցառման վրա կատարվող ծախսը (հազար դրամ) | C39: ='Հ2 '!G50 -> -71287 | D39: ='Հ2 '!H50 -> -71287 | E39: ='Հ2 '!I50 -> -71287
B43: ՀԱՅԱՍՏԱՆԻ ՀԱՆՐԱՊԵՏՈՒԹՅԱՆ ՎԱՐՉԱՊԵՏԻ ԱՇԽԱՏԱԿԱԶՄԻ ՂԵԿԱՎԱՐ՝ | D43: Ա.ՀԱՐՈՒԹՅՈՒՆՅԱՆ
