Workbook

Sheet 1
F2: Հավելված N 1
F3: ՀՀ կառավարության 2024թվականի
F4: ___________ ___-ի N _______ որոշման
A5: «ՀԱՅԱՍՏԱՆԻ ՀԱՆՐԱՊԵՏՈՒԹՅԱՆ 2024 ԹՎԱԿԱՆԻ ՊԵՏԱԿԱՆ ԲՅՈՒՋԵԻ ՄԱՍԻՆ» ՀՀ ՕՐԵՆՔԻ N 1 ՀԱՎԵԼՎԱԾԻ N 2 ԱՂՅՈՒՍԱԿՈՒՄ ԿԱՏԱՐՎՈՂ ՎԵՐԱԲԱՇԽՈՒՄԸ ԵՎ ՀԱՅԱՍՏԱՆԻ ՀԱՆՐԱՊԵՏՈՒԹՅԱՆ ԿԱՌԱՎԱՐՈՒԹՅԱՆ 2023 ԹՎԱԿԱՆԻ ԴԵԿՏԵՄԲԵՐԻ 28-Ի N 2323-Ն ՈՐՈՇՄԱՆ N 5 ՀԱՎԵԼՎԱԾԻ N1 ԱՂՅՈՒՍԱԿՈՒՄ ԿԱՏԱՐՎՈՂ ՓՈՓՈԽՈՒԹՅՈՒՆՆԵՐԸ
D7: հազ․ դրամ
A8: Ծրագրային դասիչը | C8: Բյուջետային հատկացումների գլխավոր կարգադրիչների, ծրագրերի և միջոցառումների անվանումները | D8: Ցուցանիշների փոփոխությունը (ավելացումները նշված են դրական նշանով,իսկ նվազեցումները՝ փակագծերում)
A9: Ծրագիր | B9: Միջոցառում | D9: Առաջին կիսամյակ | E9: Ինն ամիս | F9: Տարի
B10: ԸՆԴԱՄԵՆԸ | D10: =D11+D54 -> 0 | E10: =E11+E54 -> 0 | F10: =F11+F54 -> 0
C11: ՀՀ արդարադատության նախարարություն | D11: =+D30+D42+D12 -> 0 | E11: =+E30+E42+E12 -> 29194.4 | F11: =+F30+F42+F12 -> 59971
A12: 1057 | C12: Ծրագրի անվանումը` | D12: =D18+D24 -> 0 | E12: =E18+E24 -> -6092.8 | F12: =F18+F24 -> -10400.1
C13: Արդարադատության ոլորտում քաղաքականության մշակում, ծրագրերի համակարգում, խորհրդատվության և մոնիտորինգի իրականացում
C14: Ծրագրի նպատակը`
C15: Արդարադատության ոլորտում քաղաքականության, խորհրդատվության, մոնիտորինգի, գնման և աջակցության իրականացում
C16: Վերջնական արդյունքի նկարագրությունը`
C17: Արդարադատության քաղաքականության իրագործմանն ուղղված ծրագրերի արդյունավետության բարելավում
B18: 11001 | C18: Միջոցառման անվանումը` | D18: =+'3'!G22 -> 0 | E18: =+'3'!H22 -> -3000 | F18: =+'3'!I22 -> -7307.3
C19: Արդարադատության ոլորտում քաղաքականության, խորհրդատվության, մոնիտորինգի, գնման և աջակցության իրականացում
C20: Միջոցառման նկարագրությունը`
C21: Ոլորտի քաղաքականության, խորհրդատվության, մոնիտորինգի, արդարադատության ծրագրերի համակարգման ծառայություններ
C22: Միջոցառման տեսակը
C23: Ծառայությունների մատուցում
B24: 31001 | C24: Միջոցառման անվանումը` | D24: =+'3'!G39 -> 0 | E24: =+'3'!H39 -> -3092.8 | F24: =+'3'!I39 -> -3092.8
C25: ՀՀ արդարադատության նախարարության կարողությունների զարգացում և տեխնիկական հագեցվածության ապահովում
C26: Միջոցառման նկարագրությունը`
C27: ՀՀ արդարադատության նախարարության աշխատանքային պայմանների բարելավման համար վարչական սարքավորումների ձեռք բերում
C28: Միջոցառման տեսակը
C29: Պետական մարմինների կողմից օգտագործվող ոչ ֆինանսական ակտիվների հետ գործառնություններ
A30: 1093 | C30: Ծրագրի անվանումը` | D30: =D36 -> 0 | E30: =E36 -> 35287.2 | F30: =F36 -> 70574.4
C31: Դատական և հանրային պաշտպանություն
C32: Ծրագրի նպատակը`
C33: Իրավունքի պաշտպանության հասանելիության և օբյեկտիվության ապահովում
C34: Վերջնական արդյունքի նկարագրությունը`
C35: Հանրային պաշտպանի ծառայությունների հասցեականության և դատական գործընթացներին աջակցության ապահովում
B36: 11001 | C36: Միջոցառման անվանումը` | D36: ='3'!G58 -> 0 | E36: ='3'!H58 -> 35287.2 | F36: ='3'!I58 -> 70574.4
C37: Հանրային պաշտպանության ծառայություններ
C38: Միջոցառման նկարագրությունը`
C39: Օրենսդրությամբ սահմանված դեպքերում քաղաքացիներին անվճար իրավաբանական ծառայությունների տրամադրում
C40: Միջոցառման տեսակը
C41: Ծառայությունների մատուցում
A42: 1123 | C42: Ծրագրի անվանումը` | D42: =D48 -> 0 | E42: =E48 -> 0 | F42: =F48 -> -203.3
...

Sheet 2
H1: Հավելված № 2
H2: ՀՀ կառավարության 2024 թվականի ----------
H3: № ---------- որոշման
A6: ՀԱՅԱՍՏԱՆԻ ՀԱՆՐԱՊԵՏՈՒԹՅԱՆ 2024 ԹՎԱԿԱՆԻ ՊԵՏԱԿԱՆ ԲՅՈՒՋԵԻ ՄԱՍԻՆ ՕՐԵՆՔԻ N 1 ՀԱՎԵԼՎԱԾԻ N 3 ԱՂՅՈՒՍԱԿՈՒՄ ԿԱՏԱՐՎՈՂ ՓՈՓՈԽՈՒԹՅՈՒՆԸ
G7: հազար դրամ
A8: Ծրագրային դասիչը | C8: Բյուջետային գլխավոր կարգադրիչների, ծրագրերի և միջոցառումների և ուղղությունների անվանումները | D8: Ընդամենը | E8: Ցուցանիշների փոփոխությունը (նվազեցումները նշված են փակագծերում)
E9: այդ թվում
A10: Ծրագիր | B10: Միջոցառում | E10: Կառուցման աշխատանքներ | F10: Վերակառուցման, վերանորոգման և վերականգնման աշխատանքներ | G10: Նախագծահե- տազոտական, գեոդեզիա- քարտեզագրա- կան աշխա- տանքներ | H10: Ոչ ֆինանսական այլ ակտիվների ձեռքբերում
C11: Ընդամենը | D11: =+D13 -> -3092.8 | E11: =+E13 -> 0 | F11: =+F13 -> 0 | G11: =+G13 -> 0 | H11: =+H13 -> -3092.8
C12: այդ թվում`
C13: ՀՀ արդարադատության նախարարություն | D13: =+D15 -> -3092.8 | E13: =+E15 -> 0 | F13: =+F15 -> 0 | G13: =+G15 -> 0 | H13: =+H15 -> -3092.8
C14: այդ թվում՝
A15: 1057 | B15: 31001 | C15: ՀՀ արդարադատության նախարարության կարողությունների զարգացում և տեխնիկական հագեցվածության ապահովում | D15: =E15+F15+G15+H15 -> -3092.8 | E15: 0 | F15: 0 | G15: 0 | H15: =+'3'!I39 -> -3092.8

Sheet 3
I1: Հավելված N3
I2: ՀՀ կառավարության 2024թվականի
I3: ___________ ___-ի N _______ որոշման
A6: ՀԱՅԱՍՏԱՆԻ ՀԱՆՐԱՊԵՏՈՒԹՅԱՆ ԿԱՌԱՎԱՐՈՒԹՅԱՆ 2023 ԹՎԱԿԱՆԻ ԴԵԿՏԵՄԲԵՐԻ 28-Ի N 2323-Ն ՈՐՈՇՄԱՆ N 3 և N 4 ՀԱՎԵԼՎԱԾՆԵՐՈՒՄ ԿԱՏԱՐՎՈՂ ՓՈՓՈԽՈՒԹՅՈՒՆՆԵՐԸ
G7: հազ․ դրամ
A8: Գործառական դասիչը | D8: Ծրագրային դասիչը | F8: Բյուջետային ծախսերի գործառական դասակարգման բաժինների, խմբերի և դասերի, բյուջետային ծրագրերի, միջոցառումների բյուջետային հատկացումների գլխավոր կարգադրիչների անվանումները | G8: Ցուցանիշների փոփոխությունը (ավելացումները նշված են դրական նշանով,իսկ նվազեցումները՝ փակագծերում)
A9: Բաժին | B9: Խումբ | C9: Դաս | D9: Ծրագիր | E9: Միջոցառում | G9: Առաջին կիսամյակ | H9: Ինն ամիս | I9: Տարի
F10: ԸՆԴԱՄԵՆԸ | G10: =G48+G86+G12+G67 -> 0 | H10: =H48+H86+H12+H67 -> -9.094947e-13 | I10: =I48+I86+I12+I67 -> 1.080025e-12
F11: այդ թվում`
A12: 01 | F12: ԸՆԴՀԱՆՈՒՐ ԲՆՈՒՅԹԻ ՀԱՆՐԱՅԻՆ ԾԱՌԱՅՈՒԹՅՈՒՆՆԵՐ | G12: =G14 -> 0 | H12: =H14 -> -6092.8 | I12: =I14 -> -10400.1
F13: այդ թվում`
B14: 01 | F14: Օրենսդիր և գործադիր մարմիններ, պետական կառավարում, ֆինանսական և հարկաբյուջետային հարաբերություններ, արտաքին հարաբերություններ | G14: =G16 -> 0 | H14: =H16 -> -6092.8 | I14: =I16 -> -10400.1
F15: այդ թվում`
C16: 01 | F16: Օրենսդիր և գործադիր մարմիններ, պետական կառավարում | G16: =G20 -> 0 | H16: =H20 -> -6092.8 | I16: =I20 -> -10400.1
F17: այդ թվում`
F18: ՀՀ արդարադատության նախարարություն | G18: =G20 -> 0 | H18: =H20 -> -6092.8 | I18: =I20 -> -10400.1
F19: այդ թվում`
D20: 1057 | F20: Արդարադատության ոլորտում քաղաքականության մշակում, ծրագրերի համակարգում, խորհրդատվության և մոնիտորինգի իրականացում | G20: =+G22+G39 -> 0 | H20: =+H22+H39 -> -6092.8 | I20: =+I22+I39 -> -10400.1
F21: այդ թվում՝
E22: 11001 | F22: Արդարադատության ոլորտում քաղաքականության, խորհրդատվության, մոնիտորինգի, գնման և աջակցության իրականացում | G22: =G24 -> 0 | H22: =H24 -> -3000 | I22: =I24 -> -7307.3
F23: այդ թվում` ըստ կատարողների
F24: ՀՀ արդարադատության նախարարություն | G24: =G26 -> 0 | H24: =H26 -> -3000 | I24: =I26 -> -7307.3
F25: այդ թվում` բյուջետային ծախսերի տնտեսագիտական դասակարգման հոդվածներ
F26: ԸՆԴԱՄԵՆԸ ԾԱԽՍԵՐ | G26: =G27 -> 0 | H26: =H27 -> -3000 | I26: =I27 -> -7307.3
F27: ԸՆԹԱՑԻԿ ԾԱԽՍԵՐ | G27: =G28 -> 0 | H27: =H28 -> -3000 | I27: =I28 -> -7307.3
F28: ԾԱՌԱՅՈՒԹՅՈՒՆՆԵՐԻ ԵՎ ԱՊՐԱՆՔՆԵՐԻ ՁԵՌՔԲԵՐՈՒՄ | G28: =+G29+G31+G36 -> 0 | H28: =+H29+H31+H36 -> -3000 | I28: =+I29+I31+I36 -> -7307.3
F29: Շարունակական ծախսեր | G29: =+G30 -> 0 | H29: =+H30 -> 0 | I29: =+I30 -> -15
F30: - Ապահովագրական ծախսեր | I30: -15
F31: Պայմանագրային այլ ծառայությունների ձեռքբերում | G31: =+G32+G33+G34+G35 -> 0 | H31: =+H32+H33+H34+H35 -> -3000 | I31: =+I32+I33+I34+I35 -> -6783
F32: - Համակարգչային ծառայություններ | I32: -6
F33: - Տեղեկատվական ծառայություններ | I33: -144
F34: - Կառավարչական ծառայություններ | H34: -3000 | I34: -6583
F35: - Ընդհանուր բնույթի այլ ծառայություններ | I35: -50
F36: Նյութեր (Ապրանքներ) | G36: =+G37+G38 -> 0 | H36: =+H37+H38 -> 0 | I36: =+I37+I38 -> -509.3
F37: - Գրասենյակային նյութեր և հագուստ | I37: -374.9
F38: - Կենցաղային և հանրային սննդի նյութեր | I38: -134.4
E39: 31001 | F39: ՀՀ արդարադատության նախարարության կարողությունների զարգացում և տեխնիկական հագեցվածության ապահովում | G39: =G41 -> 0 | H39: =H41 -> -3092.8 | I39: =I41 -> -3092.8
F40: այդ թվում` ըստ կատարողների
F41: ՀՀ արդարադատության նախարարություն | G41: =G43 -> 0 | H41: =H43 -> -3092.8 | I41: =I43 -> -3092.8
F42: այդ թվում` բյուջետային ծախսերի տնտեսագիտական դասակարգման հոդվածներ
...

Sheet 4
F1: Հավելված № 4
C2: ՀՀ կառավարության 2024 թվականի
C3: ______________ ի ___Ն որոշման
A5: ՀԱՅԱՍՏԱՆԻ ՀԱՆՐԱՊԵՏՈՒԹՅԱՆ ԿԱՌԱՎԱՐՈՒԹՅԱՆ 2023 ԹՎԱԿԱՆԻ ԴԵԿՏԵՄԲԵՐԻ 28-Ի N 2323-Ն ՈՐՈՇՄԱՆ N5 ՀԱՎԵԼՎԱԾԻ N2 ԱՂՅՈՒՍԱԿՈՒՄ ԿԱՏԱՐՎՈՂ ՓՈՓՈԽՈՒԹՅՈՒՆԸ
F7: հազար դրամ
A8: Ծրագրային դասիչ | C8: Բյուջետային գլխավոր կարգադրիչների, ծրագրերի, միջոցառումների, միջոցառումները կատարող պետական մարմինների և ուղղությունների անվանումները | D8: Ցուցանիշների փոփոխությունը (նվազեցումները նշված են փակագծերում)
A9: Ծրագիր | B9: Միջոցառում | D9: Առաջին կիսամյակ | E9: Ինն ամիս | F9: Տարի
C10: ԸՆԴԱՄԵՆԸ | D10: =D11 -> 0 | E10: =E11 -> -3092.8 | F10: =F11 -> -3092.8
C11: ՀՀ ԱՐԴԱՐԱԴԱՏՈՒԹՅԱՆ ՆԱԽԱՐԱՐՈՒԹՅՈՒՆ | D11: =+D13 -> 0 | E11: =+E13 -> -3092.8 | F11: =+F13 -> -3092.8
C12: այդ թվում`
A13: 1057 | B13: 31001 | C13: ՀՀ արդարադատության նախարարության կարողությունների զարգացում և տեխնիկական հագեցվածության ապահովում | D13: =D15 -> 0 | E13: =E15 -> -3092.8 | F13: =F15 -> -3092.8
C14: այդ թվում` ըստ կատարողների
C15: ՀՀ արդարադատության նախարարություն | D15: =+'3'!G47 -> 0 | E15: =+'3'!H47 -> -3092.8 | F15: =+'3'!I47 -> -3092.8

Sheet 5
E1: Հավելված N 5
E2: ՀՀ կառավարության 2024թվականի
E3: ___________ ___-ի N _______ որոշման
A8: ՀԱՅԱՍՏԱՆԻ ՀԱՆՐԱՊԵՏՈՒԹՅԱՆ ԿԱՌԱՎԱՐՈՒԹՅԱՆ 2023 ԹՎԱԿԱՆԻ ԴԵԿՏԵՄԲԵՐԻ 28-Ի ԹԻՎ 2323-Ն ՈՐՈՇՄԱՆ N 9 ՀԱՎԵԼՎԱԾԻ 9.9 և 9․48 ԱՂՅՈՒՍԱԿՆԵՐՈՒՄ ԿԱՏԱՐՎՈՂ ՓՈՓՈԽՈՒԹՅՈՒՆՆԵՐԸ
A10: ՀՀ արդարադատության նախարարություն
A12: ՄԱՍ 2. ՊԵՏԱԿԱՆ ՄԱՐՄՆԻ ԳԾՈՎ ԱՐԴՅՈՒՆՔԱՅԻՆ (ԿԱՏԱՐՈՂԱԿԱՆ) ՑՈՒՑԱՆԻՇՆԵՐԸ
A14: Ծրագրի դասիչը | B14: Ծրագրի անվանումը
A15: 1057 | B15: Արդարադատության ոլորտում քաղաքականության մշակում, ծրագրերի համակարգում, խորհրդատվության և մոնիտորինգի իրականացում
A17: Ծրագրի միջոցառումները
A18: Ծրագրի դասիչը` | B18: 1057 | C18: Ցուցանիշների փոփոխությունը (նվազեցումները նշված են փակագծերում)
A19: Միջոցառման դասիչը` | B19: 11001 | C19: Առաջին կիսամյակ | D19: Ինն ամիս | E19: Տարի
A20: Միջոցառման անվանումը` | B20: Արդարադատության ոլորտում քաղաքականության, խորհրդատվության, մոնիտորինգի, գնման և աջակցության իրականացում
A21: Նկարագրությունը` | B21: Ոլորտի քաղաքականության, խորհրդատվության, մոնիտորինգի, արդարադատության ծրագրերի համակարգման ծառայություններ
A22: Միջոցառման տեսակը` | B22: Ծառայությունների մատուցում
A23: Միջոցառումն իրականացնողի անվանումը | B23: ՀՀ արդարադատության նախարարություն
A24: Արդյունքի չափորոշիչներ
A25: Միջոցառման վրա կատարվող ծախսը (հազար դրամ) | C25: =+'3'!G22 -> 0 | D25: =+'3'!H22 -> -3000 | E25: =+'3'!I22 -> -7307.3
A28: Ծրագրի դասիչը` | B28: 1057 | C28: Ցուցանիշների փոփոխությունը (նվազեցումները նշված են փակագծերում)
A29: Միջոցառման դասիչը` | B29: 31001 | C29: Առաջին կիսամյակ | D29: Ինն ամիս | E29: Տարի
A30: Միջոցառման անվանումը` | B30: ՀՀ արդարադատության նախարարության կարողությունների զարգացում և տեխնիկական հագեցվածության ապահովում
A31: Նկարագրությունը` | B31: ՀՀ արդարադատության նախարարության աշխատանքային պայմանների բարելավման համար վարչական սարքավորումների ձեռք բերում
A32: Միջոցառման տեսակը` | B32: Պետական մարմինների կողմից օգտագործվող ոչ ֆինանսական ակտիվների հետ գործառնություններ
A33: Ակտիվն օգտագործող կազմակերպության անվանումը | B33: Արդարադատության նախարարություն
A34: Արդյունքի չափորոշիչներ
A35: Միջոցառման վրա կատարվող ծախսը (հազար դրամ) | C35: =+'3'!G39 -> 0 | D35: =+'3'!H39 -> -3092.8 | E35: =+'3'!I39 -> -3092.8
A38: Ծրագրի դասիչը | B38: Ծրագրի անվանումը
A39: 1093 | B39: Դատական և հանրային պաշտպանություն
A41: Ծրագրի միջոցառումները
A42: Ծրագրի դասիչը` | B42: 1093 | C42: Ցուցանիշների փոփոխությունը (ավելացումները նշված են դրական նշանով)
A43: Միջոցառման դասիչը` | B43: 11001 | C43: Առաջին կիսամյակ | D43: Ինն ամիս | E43: Տարի
A44: Միջոցառման անվանումը` | B44: Հանրային պաշտպանության ծառայություններ
A45: Նկարագրությունը` | B45: Օրենսդրությամբ սահմանված դեպքերում քաղաքացիներին անվճար իրավաբանական ծառայությունների տրամադրում
A46: Միջոցառման տեսակը` | B46: Ծառայությունների մատուցում
A47: Միջոցառումն իրականացնողի անվանումը | B47: ՀՀ փաստաբանների պալատ ՀԿ Հանրային պաշտպանի գրասենյակ
A48: Արդյունքի չափորոշիչներ
A49: Վարույթ ընդունած գործերի թիվը, հատ, այդ թվում՛ | E49: 2328
A50: Քրեական գործերի թիվ, հատ | E50: 2328
A51: Մերժված և դադարեցված դիմումների թիվը | E51: 11
A52: Միջոցառման վրա կատարվող ծախսը (հազար դրամ) | C52: =+'3'!G58 -> 0 | D52: =+'3'!H58 -> 35287.2 | E52: =+'3'!I58 -> 70574.4
A54: Ծրագրի դասիչը | B54: Ծրագրի անվանումը
...

Sheet 6
E1: Հավելված N 6
E2: ՀՀ կառավարության 2024թվականի
E3: ___________ ___-ի N _______ որոշման
A6: ՀԱՅԱՍՏԱՆԻ ՀԱՆՐԱՊԵՏՈՒԹՅԱՆ ԿԱՌԱՎԱՐՈՒԹՅԱՆ 2023 ԹՎԱԿԱՆԻ ԴԵԿՏԵՄԲԵՐԻ 28-Ի ԹԻՎ 2323-Ն ՈՐՈՇՄԱՆ N 9.1 ՀԱՎԵԼՎԱԾԻ 9․1․9 և 9․1․58 ԱՂՅՈՒՍԱԿՆԵՐՈՒՄ ԿԱՏԱՐՎՈՂ ՓՈՓՈԽՈՒԹՅՈՒՆՆԵՐԸ
D8: Աղյուսակ 9․1․9
A10: ՀՀ արդարադատության նախարարության պրոբացիայի ծառայություն
A12: ՄԱՍ 1. ՊԵՏԱԿԱՆ ՄԱՐՄՆԻ ԳԾՈՎ ԱՐԴՅՈՒՆՔԱՅԻՆ (ԿԱՏԱՐՈՂԱԿԱՆ) ՑՈՒՑԱՆԻՇՆԵՐԸ
A14: Ծրագրի դասիչը | B14: Ծրագրի անվանումը
A15: 1057 | B15: Արդարադատության ոլորտում քաղաքականության մշակում, ծրագրերի համակարգում, խորհրդատվության և մոնիտորինգի իրականացում
A17: Ծրագրի միջոցառումները
A18: Ծրագրի դասիչը` | B18: 1057 | C18: Ցուցանիշների փոփոխությունը (նվազեցումները նշված են փակագծերում)
A19: Միջոցառման դասիչը` | B19: 11001 | C19: Առաջին կիսամյակ | D19: Ինն ամիս | E19: Տարի
A20: Միջոցառման անվանումը` | B20: Արդարադատության ոլորտում քաղաքականության, խորհրդատվության, մոնիտորինգի, գնման և աջակցության իրականացում
A21: Նկարագրությունը` | B21: Ոլորտի քաղաքականության, խորհրդատվության, մոնիտորինգի, արդարադատության ծրագրերի համակարգման ծառայություններ
A22: Միջոցառման տեսակը` | B22: Ծառայությունների մատուցում
A23: Միջոցառումն իրականացնողի անվանումը | B23: ՀՀ արդարադատության նախարարություն
A24: Արդյունքի չափորոշիչներ
A25: Միջոցառման վրա կատարվող ծախսը (հազար դրամ) | C25: =+'3'!G22 -> 0 | D25: =+'3'!H22 -> -3000 | E25: =+'3'!I22 -> -7307.3
A28: Ծրագրի դասիչը` | B28: 1057 | C28: Ցուցանիշների փոփոխությունը (նվազեցումները նշված են փակագծերում)
A29: Միջոցառման դասիչը` | B29: 31001 | C29: Առաջին կիսամյակ | D29: Ինն ամիս | E29: Տարի
A30: Միջոցառման անվանումը` | B30: ՀՀ արդարադատության նախարարության կարողությունների զարգացում և տեխնիկական հագեցվածության ապահովում
A31: Նկարագրությունը` | B31: ՀՀ արդարադատության նախարարության աշխատանքային պայմանների բարելավման համար վարչական սարքավորումների ձեռք բերում
A32: Միջոցառման տեսակը` | B32: Պետական մարմինների կողմից օգտագործվող ոչ ֆինանսական ակտիվների հետ գործառնություններ
A33: Ակտիվն օգտագործող կազմակերպության անվանումը | B33: Արդարադատության նախարարություն
A34: Արդյունքի չափորոշիչներ
A35: Միջոցառման վրա կատարվող ծախսը (հազար դրամ) | C35: =+'3'!G39 -> 0 | D35: =+'3'!H39 -> -3092.8 | E35: =+'3'!I39 -> -3092.8
A38: Ծրագրի դասիչը | B38: Ծրագրի անվանումը
A39: 1093 | B39: Դատական և հանրային պաշտպանություն
A41: Ծրագրի միջոցառումները
A42: Ծրագրի դասիչը` | B42: 1093 | C42: Ցուցանիշների փոփոխությունը (ավելացումները նշված են դրական նշանով)
A43: Միջոցառման դասիչը` | B43: 11001 | C43: Առաջին կիսամյակ | D43: Ինն ամիս | E43: Տարի
A44: Միջոցառման անվանումը` | B44: Հանրային պաշտպանության ծառայություններ
A45: Նկարագրությունը` | B45: Օրենսդրությամբ սահմանված դեպքերում քաղաքացիներին անվճար իրավաբանական ծառայությունների տրամադրում
A46: Միջոցառման տեսակը` | B46: Ծառայությունների մատուցում
A47: Միջոցառումն իրականացնողի անվանումը | B47: ՀՀ փաստաբանների պալատ ՀԿ Հանրային պաշտպանի գրասենյակ
A48: Արդյունքի չափորոշիչներ
A49: Վարույթ ընդունած գործերի թիվը, հատ, այդ թվում՛ | E49: 2328
A50: Քրեական գործերի թիվ, հատ | E50: 2328
A51: Մերժված և դադարեցված դիմումների թիվը | E51: 11
A52: Միջոցառման վրա կատարվող ծախսը (հազար դրամ) | C52: =+'3'!G58 -> 0 | D52: =+'3'!H58 -> 35287.2 | E52: =+'3'!I58 -> 70574.4
...

Sheet 7
E1: Հավելված № 7
E2: ՀՀ կառավարության
E3: 2024 թվականի __________
E4: N -Ն որոշման
A5: ՀԱՅԱՍՏԱՆԻ ՀԱՆՐԱՊԵՏՈՒԹՅԱՆ ԿԱՌԱՎԱՐՈՒԹՅԱՆ 2023 ԹՎԱԿԱՆԻ ԴԵԿՏԵՄԲԵՐԻ 28-Ի N 2323-Ն ՈՐՈՇՄԱՆ N 10 ՀԱՎԵԼՎԱԾԻ ՑՈՒՑԱՆԻՇՆԵՐՈՒՄ ԿԱՏԱՐՎՈՂ ՓՈՓՈԽՈՒԹՅՈՒՆՆԵՐԸ
A7: Կոդը | B7: Անվանումը | C7: Գնման ձևը | D7: Չափի միավորը | E7: միավորի գինը | F7: Ցուցանիշների փոփոխությունը (նվազեցումները նշված են փակագծերում)
F8: քանակը | G8: գումարը (հազար դրամով)
A9: 1 | B9: 2 | C9: 3 | D9: 4 | E9: 5 | F9: 6 | G9: 7
A10: ՀՀ արդարադատության նախարարություն | G10: =G12+G56+G67 -> -10603.42
A11: Բաժին N 01 | B11: Խումբ N 01 | C11: Դաս N 01 | D11: Օրենսդիր և գործադիր մարմիններ, պետական կառավարում
A12: 1057 11001 | B12: Արդարադատության ոլորտում քաղաքականության, խորհրդատվության, մոնիտորինգի, գնման և աջակցության իրականացում | G12: =G13+G50 -> -7307.32
B13: ՄԱՍ I. Ա Պ Ր Ա Ն Ք Ն Ե Ր | G13: =SUM(G14:G49) -> -509.31997
A14: 30197232/502 | B14: թղթապանակ, արագակար, թղթյա | C14: ԷԱՃ | G14: -3.2
A15: 30197323/501 | B15: կարիչ, 50-ից ավելի թերթի համար | C15: ԷԱՃ | G15: =-72000/1000 -> -72
A16: 30199234/502 | B16: նամակի ծրար, A3 ձ―աչափի | C16: ԷԱՃ | G16: -10.6
A17: 30197112/503 | B17: կարիչի մետաղալարե կապեր, միջին | C17: ԷԱՃ | E17: 27960 | G17: =-E17/1000 -> -27.96
A18: 30237460/504 | B18: համակարգչային ստեղնաշարեր | C18: ԷԱՃ | E18: 2400 | G18: =-E18/1000 -> -2.4
A19: 30121460/512 | B19: տոներային քարտրիջներ | C19: ԷԱՃ | E19: 7200 | G19: =-E19/1000 -> -7.2
A20: 30234400/501 | B20: դատարկ սկավառակ, առանց տուփի, DVD | C20: ԷԱՃ | E20: 7200 | G20: =-E20/1000 -> -7.2
A21: 30121460/514 | B21: տոներային քարտրիջներ | C21: ԷԱՃ | E21: 2600 | G21: =-E21/1000 -> -2.6
A22: 30121460/515 | B22: տոներային քարտրիջներ | C22: ԷԱՃ | E22: 5800 | G22: =-E22/1000 -> -5.8
A23: 30234300/501 | B23: դատարկ սկավառակ, առանց տուփի, CD | C23: ԷԱՃ | E23: 11600 | G23: =-E23/1000 -> -11.6
A24: 30192710/501 | B24: սոսնձամատիտ, գրասենյակային | C24: ԷԱՃ | E24: 1000 | G24: =-E24/1000 -> -1
A25: 30192100/502 | B25: ռետին հասարակ | C25: ԷԱՃ | E25: 6000 | G25: =-E25/1000 -> -6
A26: 30192160/502 | B26: շտրիխներ | C26: ԷԱՃ | E26: 4800 | G26: =-E26/1000 -> -4.8
A27: 30197111/503 | B27: կարիչի մետաղալարե կապեր, փոքր | C27: ԷԱՃ | E27: 7000 | G27: =-E27/1000 -> -7
A28: 39263510/502 | B28: սեղմակ, փոքր | C28: ԷԱՃ | E28: 5000 | G28: =-E28/1000 -> -5
... A49: 31685000/502 | B49: էլեկտրական երկարացման լար | C49: ԷԱՃ | E49: 22300 | G49: =-E49/1000 -> -22.3
B50: ՄԱՍ III. ԾԱՌԱՅՈՒԹՅՈՒՆՆԵՐ | G50: =SUM(G51:G55) -> -6798
A51: 66511170/502 | B51: փոխադրամիջոցների հետ կապված ապահովագրական ծառայություններ | C51: ԳՀ | E51: 15000 | G51: =-E51/1000 -> -15
A52: 79211220/1 | B52: գույքագրման ծառայություններ | C52: ԷԱՃ | E52: 50000 | G52: =-E52/1000 -> -50
A53: 79211180/501 | B53: ներքին աուդիտի ծառայություններ | C53: ԷԱՃ | E53: 6583000 | G53: =-E53/1000 -> -6583
A54: 72311250/502 | B54: տվյալների տրամադրման ծառայություններ | C54: ԳՀ | E54: 144000 | G54: =-E54/1000 -> -144
A55: 72511700/502 | B55: համակարգչային տեխնիկայի կառավարման ծառայություններ համակարգչային համակարգերի սպասարկման համար | C55: ԳՀ | E55: 6000 | G55: =-E55/1000 -> -6
A56: 1057 31001 | B56: ՀՀ արդարադատության նախարարության կարողությունների զարգացում և տեխնիկական հագեցվածության ապահովում | G56: =SUM(G64+G57) -> -3092.8
B57: ՄԱՍ I. Ա Պ Ր Ա Ն Ք Ն Ե Ր | G57: =SUM(G58:G63) -> -2611.6
A58: 31151120/502 | B58: անխափան սնուցման աղբյուրներ | C58: ԷԱՃ | E58: 24000 | G58: =-E58/1000 -> -24
A59: 39121100/501 | B59: գրասեղաններ | C59: ԷԱՃ | E59: 210000 | G59: =-E59/1000 -> -210
A60: 39131200/501 | B60: արխիվի դարակաշարեր | C60: ԷԱՃ | E60: 629600 | G60: =-E60/1000 -> -629.6
A61: 39141260/501 | B61: զգեստապահարաններ | C61: ԷԱՃ | E61: 27000 | G61: =-E61/1000 -> -27
...
