Workbook
Name a: #REF!
Name a: #REF!
Name a: #REF!
Name a: #REF!
Name AgencyCode: #REF!
Name AgencyCode: #REF!
Name AgencyCode: #REF!
Name AgencyCode: #REF!
Name AgencyCode: #REF!
Name AgencyName: #REF!
Name AgencyName: #REF!
Name AgencyName: #REF!
Name davit: #REF!
Name davit: #REF!
Name Functional1: #REF!
Name Functional1: #REF!
Name Functional1: #REF!
Name ggg: #REF!
Name ggg: #REF!
Name PANature: #REF!
Name PANature: #REF!
Name PANature: #REF!
Name PAType: #REF!
Name PAType: #REF!
Name PAType: #REF!
Name Performance2: #REF!
Name Performance2: #REF!
Name Performance2: #REF!
Name PerformanceType: #REF!
Name PerformanceType: #REF!
Name PerformanceType: #REF!
Name Հավելված: #REF!
Name Հավելված: #REF!
Name Հավելված10: #REF!
Name Հավելված11: #REF!
Name Հավելված20: #REF!
Name Հավելված9: #REF!
Name Մաս: #REF!
Name Մաս: #REF!
Name շախմատիստ: #REF!
Name շախմատիստ: #REF!

Sheet Հավելված N 1
C1: Հավելված N 1
C2: ՀՀ կառավարության 2024 թվականի
C3: ______________ ի ___Ն որոշման
A6: «ՀԱՅԱUՏԱՆԻ ՀԱՆՐԱՊԵՏՈՒԹՅԱՆ 2024 ԹՎԱԿԱՆԻ ՊԵՏԱԿԱՆ ԲՅՈՒՋԵԻ ՄԱUԻՆ» ՀԱՅԱUՏԱՆԻ ՀԱՆՐԱՊԵՏՈՒԹՅԱՆ OՐԵՆՔԻ N 1 ՀԱՎԵԼՎԱԾԻ N 2 ԱՂՅՈՒՍԱԿՈՒՄ ԿԱՏԱՐՎՈՂ ՎԵՐԱԲԱՇԽՈՒՄԸ ԵՎ ՀԱՅԱՍՏԱՆԻ ՀԱՆՐԱՊԵՏՈՒԹՅԱՆ ԿԱՌԱՎԱՐՈՒԹՅԱՆ 2023 ԹՎԱԿԱՆԻ ԴԵԿՏԵՄԲԵՐԻ 28-Ի N 2323-Ն ՈՐՈՇՄԱՆ N 5 ՀԱՎԵԼՎԱԾԻ N 1 ԱՂՅՈՒՍԱԿՈՒՄ ԿԱՏԱՐՎՈՂ ՓՈՓՈԽՈՒԹՅՈՒՆՆԵՐԸ ԵՎ ԼՐԱՑՈՒՄՆԵՐԸ
F9: հազ. դրամներով
A10: Ծրագրային դասիչը | C10: Բյուջետային հատկացումների գլխավոր կարգադրիչների, ծրագրերի և միջոցառումների անվանումները | D10: Ցուցանիշների փոփոխությունը (ավելացումները նշված են դրական նշանով, իսկ նվազեցումները փակագծերում)
A11: Ծրագիր | B11: Միջոցառում | D11: Առաջին կիսամյակ | E11: Ինն ամիս | F11: Տարի
A12: 1192 | C12: ԸՆԴԱՄԵՆԸ | D12: =+D14+D54 -> 0 | E12: =+E14+E54 -> 0 | F12: =+F14+F54 -> 0
C13: այդ թվում
C14: ՀՀ ԿՐԹՈՒԹՅԱՆ, ԳԻՏՈՒԹՅԱՆ, ՄՇԱԿՈՒՅԹԻ ԵՎ ՍՊՈՐՏԻ ՆԱԽԱՐԱՐՈՒԹՅՈՒՆ | D14: =+D16+D35 -> -71287 | E14: =+E16+E35 -> -71287 | F14: =+F16+F35 -> -71287
A15: 1189 | C15: Ծրագրի անվանումը`
C16: Դպրոցների սեյսմիկ անվտանգության մակարդակի բարձրացման ծրագիր | D16: =+D29+D23 -> -2000000 | E16: =+E29+E23 -> -2000000 | F16: =+F29+F23 -> -2000000
C17: Ծրագրի նպատակը`
C18: Նպաստել երկրի սեյսմակայունության ապահովմանը, անհատական և հասարակական անվտանգության մակարդակի բարձրացմանը
C19: Վերջնական արդյունքի նկարագրությունը`
C20: Դպրոցական շենքերի սեյսմակայունության մակարդակի բարձրացում
C21: Ծրագրի միջոցառումներ
B22: 12001 | C22: Միջոցառման անվանումը`
C23: Ասիական զարգացման բանկի աջակցությամբ իրականացվող դպրոցների սեյսմիկ պաշտպանության ծրագրի շրջանակներում ՀՀ դպրոցների սեյսմիկ անվտանգության բարելավմանն ուղղված միջոցառումներ | D23: =+'Հավելված N 2'!G52 -> 0 | E23: =+'Հավելված N 2'!H52 -> -3300000 | F23: =+'Հավելված N 2'!I52 -> -3300000
C24: Միջոցառման նկարագրությունը`
C25: Դպրոցների սեյսմիկ պաշտպանության լրացուցիչ ֆինանսավորման ծրագիր, դպրոցների շենքերի կառուցման, ամրացման շինարարական աշխատանքներ, շինարարական ստանդարտների արդիականացում, արտակարգ իրավիճակներին արձագանքման ծրագրի մշակում
C26: Միջոցառման տեսակը
C27: Տրանսֆերտների տրամադրում
B28: 12003 | C28: Միջոցառման անվանումը`
C29: Ասիական զարգացման բանկի աջակցությամբ իրականացվող դպրոցների սեյսմիկ պաշտպանության ծրագրի լրացուցիչ ֆինանսավորման շրջանակներում ՀՀ դպրոցների սեյսմիկ անվտանգության բարելավմանն ուղղված միջոցառումներ | D29: =+'Հավելված N 2'!G61 -> -2000000 | E29: =+'Հավելված N 2'!H61 -> 1300000 | F29: =+'Հավելված N 2'!I61 -> 1300000
C30: Միջոցառման նկարագրությունը`
C31: Դպրոցների սեյսմիկ պաշտպանության լրացուցիչ ֆինանսավորման ծրագիր, դպրոցների շենքերի կառուցման, ամրացման շինարարական աշխատանքներ, շինարարական ստանդարտների արդիականացում, արտակարգ իրավիճակներին արձագանքման ծրագրի մշակում
C32: Միջոցառման տեսակը
C33: Տրանսֆերտների տրամադրում
A34: 1236 | C34: Ծրագրի անվանումը`
C35: Հանրակրթական և նախադպրոցական հաստատությունների հիմնում, կառուցում, բարելավում | D35: =+D42+D48 -> 1928713 | E35: =+E42+E48 -> 1928713 | F35: =+F42+F48 -> 1928713
C36: Ծրագրի նպատակը`
C37: Առնվազն 300 դպրոցի և 500 մանկապարտեզի կառուցման, վերակառուցման, հիմնանորոգման ծրագրերի իրականացում ՀՀ պետական բյուջեի միջոցների շրջանակներում
C38: Վերջնական արդյունքի նկարագրությունը`
C39: Կրթական միջավայրի բարելավում
C40: Ծրագրի միջոցառումներ
B41: 32003 | C41: Միջոցառման անվանումը`
C42: Հանրակրթական դպրոցների նոր շենքերի կառուցում | D42: =+'Հավելված N 2'!G26 -> 2000000 | E42: =+'Հավելված N 2'!H26 -> 2000000 | F42: =+'Հավելված N 2'!I26 -> 2000000
C43: Միջոցառման նկարագրությունը`
C44: ՀՀ մարզերում կրթական որակյալ ծառայությունների հասանելիության ապահովման ծրագրի շրջանակներում հանրակրթական և նախադպրոցական կրթության հասանելիության ապահովման նպատակով կրթական կենտրոնների կառուցում
...

Sheet Հավելված N 2
F1: Հավելված N 2
F2: ՀՀ կառավարության 2024 թվականի
F3: ______________ ի ___Ն որոշման
A7: ՀԱՅԱՍՏԱՆԻ ՀԱՆՐԱՊԵՏՈՒԹՅԱՆ ԿԱՌԱՎԱՐՈՒԹՅԱՆ 2023 ԹՎԱԿԱՆԻ ԴԵԿՏԵՄԲԵՐԻ 28-Ի N 2323-Ն ՈՐՈՇՄԱՆ N 3 ԵՎ N 4 ՀԱՎԵԼՎԱԾՆԵՐՈՒՄ ԿԱՏԱՐՎՈՂ ՓՈՓՈԽՈՒԹՅՈՒՆՆԵՐԸ ԵՎ ԼՐԱՑՈՒՄՆԵՐԸ
I10: հազ. դրամներով
A11: Գործառական դասիչը | D11: Ծրագրային դասիչը | F11: Բյուջետային հատկացումների գլխավոր կարգադրիչների, ծրագրերի, միջոցառումների և միջոցառումները կատարող պետական մարմինների անվանումները | G11: Ցուցանիշների փոփոխությունը (ավելացումները նշված են դրական նշանով, իսկ նվազեցումները փակագծերում)
A12: Բաժին | B12: Խումբ | C12: Դաս | D12: Ծրագիր | E12: Միջոցառում | G12: Առաջին կիսամյակ | H12: Ինն ամիս | I12: Տարի
F13: ԸՆԴԱՄԵՆԸ | G13: =+G15+G71 -> 0 | H13: =+H15+H71 -> 0 | I13: =+I15+I71 -> 0
F14: այդ թվում՝
F15: ՀՀ ԿՐԹՈՒԹՅԱՆ, ԳԻՏՈՒԹՅԱՆ, ՄՇԱԿՈՒՅԹԻ ԵՎ ՍՊՈՐՏԻ ՆԱԽԱՐԱՐՈՒԹՅՈՒՆ | G15: =+G16 -> -71287 | H15: =+H16 -> -71287 | I15: =+I16 -> -71287
A16: 09 | F16: ԿՐԹՈՒԹՅՈՒՆ | G16: =+G18+G44 -> -71287 | H16: =+H18+H44 -> -71287 | I16: =+I18+I44 -> -71287
F17: այդ թվում`
B18: 02 | F18: Միջնակարգ ընդհանուր կրթություն | G18: =+G20 -> 1928713 | H18: =+H20 -> 1928713 | I18: =+I20 -> 1928713
F19: այդ թվում`
F20: Հիմնական ընդհանուր կրթություն | G20: =+G22 -> 1928713 | H20: =+H22 -> 1928713 | I20: =+I22 -> 1928713
C21: 01 | F21: այդ թվում`
F22: ՀՀ կրթության, գիտության, մշակույթի և սպորտի նախարարություն | G22: =+G24 -> 1928713 | H22: =+H24 -> 1928713 | I22: =+I24 -> 1928713
F23: այդ թվում`
D24: 1236 | E24: Հանրակրթական և նախադպրոցական հաստատությունների հիմնում, կառուցում, բարելավում | G24: =+G26+G35 -> 1928713 | H24: =+H26+H35 -> 1928713 | I24: =+I26+I35 -> 1928713
F25: այդ թվում`
E26: 32003 | F26: Հանրակրթական դպրոցների նոր շենքերի կառուցում | G26: =+G28 -> 2000000 | H26: =+H28 -> 2000000 | I26: =+I28 -> 2000000
F27: այդ թվում` ըստ կատարողների
F28: ՀՀ կառավարություն | G28: =+G30 -> 2000000 | H28: =+H30 -> 2000000 | I28: =+I30 -> 2000000
F29: այդ թվում՝ բյուջետային ծախսերի տնտեսագիտական դասակարգման հոդվածներ
F30: ԸՆԴԱՄԵՆԸ ԾԱԽՍԵՐ | G30: =G31 -> 2000000 | H30: =H31 -> 2000000 | I30: =I31 -> 2000000
F31: ՈՉ ՖԻՆԱՆՍԱԿԱՆ ԱԿՏԻՎՆԵՐԻ ԳԾՈՎ ԾԱԽՍԵՐ | G31: =+G32 -> 2000000 | H31: =+H32 -> 2000000 | I31: =+I32 -> 2000000
F32: ՀԻՄՆԱԿԱՆ ՄԻՋՈՑՆԵՐ | G32: =+G33 -> 2000000 | H32: =+H33 -> 2000000 | I32: =+I33 -> 2000000
F33: ՇԵՆՔԵՐ ԵՎ ՇԻՆՈՒԹՅՈՒՆՆԵՐ | G33: =+G34 -> 2000000 | H33: =+H34 -> 2000000 | I33: =+I34 -> 2000000
F34: - Շենքերի և շինությունների շինարարություն | G34: =+'Հավելված N 4'!E15 -> 2000000 | H34: =+'Հավելված N 4'!F15 -> 2000000 | I34: =+'Հավելված N 4'!G15 -> 2000000
E35: 32003 | F35: Հանրակրթական դպրոցների նոր շենքերի կառուցում | G35: =+G37 -> -71287 | H35: =+H37 -> -71287 | I35: =+I37 -> -71287
F36: այդ թվում` ըստ կատարողների
F37: ՀՀ կառավարություն | G37: =+G39 -> -71287 | H37: =+H39 -> -71287 | I37: =+I39 -> -71287
F38: այդ թվում՝ բյուջետային ծախսերի տնտեսագիտական դասակարգման հոդվածներ
F39: ԸՆԴԱՄԵՆԸ ԾԱԽՍԵՐ | G39: =G40 -> -71287 | H39: =H40 -> -71287 | I39: =I40 -> -71287
F40: ՈՉ ՖԻՆԱՆՍԱԿԱՆ ԱԿՏԻՎՆԵՐԻ ԳԾՈՎ ԾԱԽՍԵՐ | G40: =+G41 -> -71287 | H40: =+H41 -> -71287 | I40: =+I41 -> -71287
F41: ՀԻՄՆԱԿԱՆ ՄԻՋՈՑՆԵՐ | G41: =+G42 -> -71287 | H41: =+H42 -> -71287 | I41: =+I42 -> -71287
F42: ՇԵՆՔԵՐ ԵՎ ՇԻՆՈՒԹՅՈՒՆՆԵՐ | G42: =+G43 -> -71287 | H42: =+H43 -> -71287 | I42: =+I43 -> -71287
F43: - Շենքերի և շինությունների շինարարություն | G43: =+'Հավելված N 4'!E18 -> -71287 | H43: =+'Հավելված N 4'!F18 -> -71287 | I43: =+'Հավելված N 4'!G18 -> -71287
B44: 06 | F44: Կրթությանը տրամադրվող օժանդակ ծառայություններ | G44: =+G46 -> -2000000 | H44: =+H46 -> -2000000 | I44: =+I46 -> -2000000
F45: այդ թվում`
...

Sheet Հավելված N 3
F1: Հավելված N 3
F2: ՀՀ կառավարության 2024 թվականի
F3: ______________ ի ___Ն որոշման
A5: «ՀԱՅԱUՏԱՆԻ ՀԱՆՐԱՊԵՏՈՒԹՅԱՆ 2024 ԹՎԱԿԱՆԻ ՊԵՏԱԿԱՆ ԲՅՈՒՋԵԻ ՄԱUԻՆ» ՀԱՅԱUՏԱՆԻ ՀԱՆՐԱՊԵՏՈՒԹՅԱՆ OՐԵՆՔԻ N 1 ՀԱՎԵԼՎԱԾԻ N 3 ԱՂՅՈՒՍԱԿՈՒՄ ԿԱՏԱՐՎՈՂ ՓՈՓՈԽՈՒԹՅՈՒՆԸ ԵՎ ԼՐԱՑՈՒՄԸ
G8: հազ. դրամներով
A9: Ծրագրային դասիչ | C9: Բյուջետային գլխավոր կարգադրիչների, ծրագրերի, միջոցառումների, միջոցառումները կատարող պետական մարմինների և ուղղությունների անվանումները | D9: Ընդամենը | E9: Ցուցանիշների փոփոխությունը (ավելացումները նշված են դրական նշանով)
A10: Ծրագիր | B10: Միջոցառում | E10: Կառուցման աշխատանքներ | F10: Վերակառուցման, վերանորոգման և վերականգնման աշխատանքներ | G10: Նախագծահե- տազոտական, գեոդեզիա- քարտեզագրա- կան աշխա- տանքներ | H10: Ոչ ֆինանսական այլ ակտիվների ձեռքբերում
C11: ԸՆԴԱՄԵՆԸ | D11: =D15+D18 -> 1928713 | E11: =+E13 -> 1928713 | F11: =+F13 -> 0 | G11: =+G13 -> 0 | H11: =+H13 -> 0
C12: այդ թվում՝
C13: ՀՀ ԿՐԹՈՒԹՅԱՆ, ԳԻՏՈՒԹՅԱՆ, ՄՇԱԿՈՒՅԹԻ ԵՎ ՍՊՈՐՏԻ ՆԱԽԱՐԱՐՈՒԹՅՈՒՆ | D13: =D15+D18 -> 1928713 | E13: =E15+E18 -> 1928713 | F13: =+F15 -> 0 | G13: =+G15 -> 0 | H13: =+H15 -> 0
C14: այդ թվում`
A15: 1236 | B15: 32003 | C15: Հանրակրթական դպրոցների նոր շենքերի կառուցում | D15: =+D17 -> 2000000 | E15: =+E17 -> 2000000 | F15: =+F17 -> 0 | G15: =+G17 -> 0 | H15: =+H17 -> 0
C16: այդ թվում`
C17: Հանրակրթական դպրոցների նոր շենքերի կառուցում | D17: =SUM(E17:H17) -> 2000000 | E17: =2000000 -> 2000000 | G17: 0 | H17: 0
A18: 1236 | B18: 32003 | C18: Հանրակրթական դպրոցների նոր շենքերի կառուցում | D18: =+D20 -> -71287 | E18: =+E20 -> -71287 | F18: =+F20 -> 0 | G18: =+G20 -> 0 | H18: =+H20 -> 0
C19: այդ թվում`
C20: Հանրակրթական դպրոցների նոր շենքերի կառուցում | D20: =SUM(E20:H20) -> -71287 | E20: -71287 | G20: 0 | H20: 0

Sheet Հավելված N 4
F1: Հավելված N 4
F3: ______________ ի ___Ն որոշման
B6: ՀԱՅԱՍՏԱՆԻ ՀԱՆՐԱՊԵՏՈՒԹՅԱՆ ԿԱՌԱՎԱՐՈՒԹՅԱՆ 2023 ԹՎԱԿԱՆԻ ԴԵԿՏԵՄԲԵՐԻ 28-Ի N 2323-Ն ՈՐՈՇՄԱՆ N 5 ՀԱՎԵԼՎԱԾԻ N 2 ԱՂՅՈՒՍԱԿՈՒՄ ԿԱՏԱՐՎՈՂ ՓՈՓՈԽՈՒԹՅՈՒՆԸ ԵՎ ԼՐԱՑՈՒՄԸ
G8: հազ. դրամներով
B9: Ծրագրային դասիչ | D9: Բյուջետային գլխավոր կարգադրիչների, ծրագրերի, միջոցառումների, միջոցառումները կատարող պետական մարմինների և ուղղությունների անվանումները | E9: Ցուցանիշների փոփոխությունը (ավելացումները նշված են դրական նշանով)
B10: Ծրագիր | C10: Միջոցառում | E10: Առաջին կիսամյակ | F10: Ինն ամիս | G10: Տարի
D11: ՀՀ ԿՐԹՈՒԹՅԱՆ, ԳԻՏՈՒԹՅԱՆ, ՄՇԱԿՈՒՅԹԻ ԵՎ ՍՊՈՐՏԻ ՆԱԽԱՐԱՐՈՒԹՅՈՒՆ | E11: =+E13+E16 -> 1928713 | F11: =+F13+F16 -> 1928713 | G11: =+G13+G16 -> 1928713
D12: այդ թվում՝
B13: 1236 | C13: 32003 | D13: Հանրակրթական դպրոցների նոր շենքերի կառուցում | E13: =+E15 -> 2000000 | F13: =+F15 -> 2000000 | G13: =+G15 -> 2000000
D14: այդ թվում` ըստ կատարողների
D15: ՀՀ կառավարություն | E15: =+G15 -> 2000000 | F15: =+G15 -> 2000000 | G15: =+'Հավելված N 3'!D17 -> 2000000
B16: 1236 | C16: 32003 | D16: Հանրակրթական դպրոցների նոր շենքերի կառուցում | E16: =+E18 -> -71287 | F16: =+F18 -> -71287 | G16: =+G18 -> -71287
D17: այդ թվում` ըստ կատարողների
D18: ՀՀ կառավարություն | E18: =+G18 -> -71287 | F18: =+G18 -> -71287 | G18: =+'Հավելված N 3'!D20 -> -71287

Sheet Հավելված N 5
K1: Հավելված N 5
I2: ՀՀ կառավարության 2024 թվականի
K3: ______________ ի ___Ն որոշման
A6: «ՀԱՅԱՍՏԱՆԻ ՀԱՆՐԱՊԵՏՈՒԹՅԱՆ 2024 ԹՎԱԿԱՆԻ ՊԵՏԱԿԱՆ ԲՅՈՒՋԵԻ ՄԱՍԻՆ» ՕՐԵՆՔԻ N 1 ՀԱՎԵԼՎԱԾԻ N 4 ԱՂՅՈՒՍԱԿՈՒՄ ԵՎ ՀԱՅԱՍՏԱՆԻ ՀԱՆՐԱՊԵՏՈՒԹՅԱՆ ԿԱՌԱՎԱՐՈՒԹՅԱՆ 2023 ԹՎԱԿԱՆԻ ԴԵԿՏԵՄԲԵՐԻ 28-Ի N 2323-Ն ՈՐՈՇՄԱՆ N 5 ՀԱՎԵԼՎԱԾԻ N 3 ԱՂՅՈՒՍԱԿՈՒՄ ԿԱՏԱՐՎՈՂ ՓՈՓՈԽՈՒԹՅՈՒՆՆԵՐԸ ԵՎ ԼՐԱՑՈՒՄՆԵՐԸ
L8: հազ. դրամներով
A9: Ծրագրային դասիչը | C9: Բյուջետային հատկացումների գլխավոր կարգադրիչների, ծրագրերի, միջոցառումների և միջոցառումները կատարող պետական մարմինների անվանումները | D9: Ցուցանիշների փոփոխությունը (ավելացումները նշված են դրական նշանով, իսկ նվազեցումները փակագծերում)
D10: Կիսամյակ | G10: Ինն ամիս | J10: Տարի
D11: Ընդամենը | E11: այդ թվում` | G11: Ընդամենը | H11: այդ թվում` | J11: Ընդամենը | K11: այդ թվում`
A12: Ծրագիր | B12: Միջոցառում | E12: Վարկային միջոցներ | F12: Համաֆինան սավորում | H12: Վարկային միջոցներ | I12: Համաֆինան սավորում | K12: Վարկային միջոցներ | L12: Համաֆինան սավորում
C13: ԸՆԴԱՄԵՆԸ | D13: =+E13+F13 -> -2000000 | E13: =+E15 -> 0 | F13: =+F15 -> -2000000 | G13: =+H13+I13 -> -2000000 | H13: =+H15 -> 0 | I13: =+I15 -> -2000000 | J13: =+K13+L13 -> -2000000 | K13: =+K15 -> 0 | L13: =+L15 -> -2000000
C14: այդ թվում`
C15: ՈՉ ՖԻՆԱՆՍԱԿԱՆ ԱԿՏԻՎՆԵՐԻ ԳԾՈՎ ԾԱԽՍԵՐ | D15: =+E15+F15 -> -2000000 | E15: =+E16 -> 0 | F15: =+F16 -> -2000000 | G15: =+H15+I15 -> -2000000 | H15: =+H16 -> 0 | I15: =+I16 -> -2000000 | J15: =+K15+L15 -> -2000000 | K15: =+K16 -> 0 | L15: =+L16 -> -2000000
C16: ՀՀ կրթության, գիտության, մշակույթի և սպորտի նախարարություն | D16: =+E16+F16 -> -2000000 | E16: =+E18 -> 0 | F16: =+F18 -> -2000000 | G16: =+H16+I16 -> -2000000 | H16: =+H18 -> 0 | I16: =+I18 -> -2000000 | J16: =+K16+L16 -> -2000000 | K16: =+K18 -> 0 | L16: =+L18 -> -2000000
C17: այդ թվում`
A18: 1189 | C18: Դպրոցների սեյսմիկ անվտանգության մակարդակի բարձրացման ծրագիր | D18: =+E18+F18 -> -2000000 | E18: =+E29+E20 -> 0 | F18: =+F29+F20 -> -2000000 | G18: =+H18+I18 -> -2000000 | H18: =+H29+H20 -> 0 | I18: =+I29+I20 -> -2000000 | J18: =+K18+L18 -> -2000000 | K18: =+K29+K20 -> 0 | L18: =+L29+L20 -> -2000000
C19: այդ թվում`
B20: 12001 | C20: Ասիական զարգացման բանկի աջակցությամբ իրականացվող դպրոցների սեյսմիկ պաշտպանության ծրագրի շրջանակներում ՀՀ դպրոցների սեյսմիկ անվտանգության բարելավմանն ուղղված միջոցառումներ | D20: =+E20+F20 -> 0 | E20: =+E22 -> 0 | F20: =+F22 -> 0 | G20: =+H20+I20 -> -3300000 | H20: =+H22 -> -2750000 | I20: =+I22 -> -550000 | J20: =+K20+L20 -> -3300000 | K20: =+K22 -> -2750000 | L20: =+L22 -> -550000
C21: այդ թվում` ըստ կատարողների
C22: ՀՀ տարածքային կառավարման և ենթակառուցվածքների նախարարություն | D22: =+E22+F22 -> 0 | E22: =+E24 -> 0 | F22: =+F24 -> 0 | G22: =+H22+I22 -> -3300000 | H22: =+H24 -> -2750000 | I22: =+I24 -> -550000 | J22: =+K22+L22 -> -3300000 | K22: =+K24 -> -2750000 | L22: =+L24 -> -550000
C23: այդ թվում` բյուջետային ծախսերի տնտեսագիտական դասակարգման հոդվածներ
C24: ԸՆԴԱՄԵՆԸ ԾԱԽՍԵՐ | D24: =+E24+F24 -> 0 | E24: =+E25 -> 0 | F24: =+F25 -> 0 | G24: =+H24+I24 -> -3300000 | H24: =+H25 -> -2750000 | I24: =+I25 -> -550000 | J24: =+K24+L24 -> -3300000 | K24: =+K25 -> -2750000 | L24: =+L25 -> -550000
C25: ՈՉ ՖԻՆԱՆՍԱԿԱՆ ԱԿՏԻՎՆԵՐԻ ԳԾՈՎ ԾԱԽՍԵՐ | D25: =+E25+F25 -> 0 | E25: =+E26 -> 0 | F25: =+F26 -> 0 | G25: =+H25+I25 -> -3300000 | H25: =+H26 -> -2750000 | I25: =+I26 -> -550000 | J25: =+K25+L25 -> -3300000 | K25: =+K26 -> -2750000 | L25: =+L26 -> -550000
C26: ՀԻՄՆԱԿԱՆ ՄԻՋՈՑՆԵՐ | D26: =+E26+F26 -> 0 | E26: =+E27 -> 0 | F26: =+F27 -> 0 | G26: =+H26+I26 -> -3300000 | H26: =+H27 -> -2750000 | I26: =+I27 -> -550000 | J26: =+K26+L26 -> -3300000 | K26: =+K27 -> -2750000 | L26: =+L27 -> -550000
C27: ՇԵՆՔԵՐ ԵՎ ՇԻՆՈՒԹՅՈՒՆՆԵՐ | D27: =+E27+F27 -> 0 | E27: =+E28 -> 0 | F27: =+F28 -> 0 | G27: =+H27+I27 -> -3300000 | H27: =+H28 -> -2750000 | I27: =+I28 -> -550000 | J27: =+K27+L27 -> -3300000 | K27: =+K28 -> -2750000 | L27: =+L28 -> -550000
C28: - Շենքերի և շինությունների շինարարություն | D28: =+E28+F28 -> 0 | E28: 0 | F28: 0 | G28: =+H28+I28 -> -3300000 | H28: =I28*5 -> -2750000 | I28: -550000 | J28: =+K28+L28 -> -3300000 | K28: =+H28 -> -2750000 | L28: =+I28 -> -550000
B29: 12003 | C29: Ասիական զարգացման բանկի աջակցությամբ իրականացվող դպրոցների սեյսմիկ պաշտպանության ծրագրի լրացուցիչ ֆինանսավորման շրջանակներում ՀՀ դպրոցների սեյսմիկ անվտանգության բարելավմանն ուղղված միջոցառումներ | D29: =+E29+F29 -> -2000000 | E29: =+E31 -> 0 | F29: =+F31 -> -2000000 | G29: =+H29+I29 -> 1300000 | H29: =+H31 -> 2750000 | I29: =+I31 -> -1450000 | J29: =+K29+L29 -> 1300000 | K29: =+K31 -> 2750000 | L29: =+L31 -> -1450000
C30: այդ թվում` ըստ կատարողների
C31: ՀՀ տարածքային կառավարման և ենթակառուցվածքների նախարարություն | D31: =+E31+F31 -> -2000000 | E31: =+E33 -> 0 | F31: =+F33 -> -2000000 | G31: =+H31+I31 -> 1300000 | H31: =+H33 -> 2750000 | I31: =+I33 -> -1450000 | J31: =+K31+L31 -> 1300000 | K31: =+K33 -> 2750000 | L31: =+L33 -> -1450000
C32: այդ թվում` բյուջետային ծախսերի տնտեսագիտական դասակարգման հոդվածներ
C33: ԸՆԴԱՄԵՆԸ ԾԱԽՍԵՐ | D33: =+E33+F33 -> -2000000 | E33: =+E34 -> 0 | F33: =+F34 -> -2000000 | G33: =+H33+I33 -> 1300000 | H33: =+H34 -> 2750000 | I33: =+I34 -> -1450000 | J33: =+K33+L33 -> 1300000 | K33: =+K34 -> 2750000 | L33: =+L34 -> -1450000
C34: ՈՉ ՖԻՆԱՆՍԱԿԱՆ ԱԿՏԻՎՆԵՐԻ ԳԾՈՎ ԾԱԽՍԵՐ | D34: =+E34+F34 -> -2000000 | E34: =+E35 -> 0 | F34: =+F35 -> -2000000 | G34: =+H34+I34 -> 1300000 | H34: =+H35 -> 2750000 | I34: =+I35 -> -1450000 | J34: =+K34+L34 -> 1300000 | K34: =+K35 -> 2750000 | L34: =+L35 -> -1450000
C35: ՀԻՄՆԱԿԱՆ ՄԻՋՈՑՆԵՐ | D35: =+E35+F35 -> -2000000 | E35: =+E36 -> 0 | F35: =+F36 -> -2000000 | G35: =+H35+I35 -> 1300000 | H35: =+H36 -> 2750000 | I35: =+I36 -> -1450000 | J35: =+K35+L35 -> 1300000 | K35: =+K36 -> 2750000 | L35: =+L36 -> -1450000
C36: ՇԵՆՔԵՐ ԵՎ ՇԻՆՈՒԹՅՈՒՆՆԵՐ | D36: =+E36+F36 -> -2000000 | E36: =+E37 -> 0 | F36: =+F37 -> -2000000 | G36: =+H36+I36 -> 1300000 | H36: =+H37 -> 2750000 | I36: =+I37 -> -1450000 | J36: =+K36+L36 -> 1300000 | K36: =+K37 -> 2750000 | L36: =+L37 -> -1450000
C37: - Շենքերի և շինությունների շինարարություն | D37: =+E37+F37 -> -2000000 | F37: -2000000 | G37: =+H37+I37 -> 1300000 | H37: =-H28+E37 -> 2750000 | I37: =-2000000+550000 -> -1450000 | J37: =+K37+L37 -> 1300000 | K37: =+H37 -> 2750000 | L37: =-2000000+550000 -> -1450000

Sheet Հավելված N 6
C1: Հավելված N 6
C2: ՀՀ կառավարության 2024 թվականի
C3: ______________ ի ___Ն որոշման
B6: ՀԱՅԱՍՏԱՆԻ ՀԱՆՐԱՊԵՏՈՒԹՅԱՆ ԿԱՌԱՎԱՐՈՒԹՅԱՆ 2023 ԹՎԱԿԱՆԻ ԴԵԿՏԵՄԲԵՐԻ 28-Ի N 2323-Ն ՈՐՈՇՄԱՆ N 9 ՀԱՎԵԼՎԱԾԻ NN 9.13 ԵՎ 9.48 ԱՂՅՈՒՍԱԿՆԵՐՈՒՄ ԿԱՏԱՐՎՈՂ ՓՈՓՈԽՈՒԹՅՈՒՆՆԵՐԸ ԵՎ ԼՐԱՑՈՒՄՆԵՐԸ
A8: Աղյուսակ 9․13
C9: ՀՀ կրթության, գիտության, մշակույթի և սպորտի նախարարություն
B10: ՄԱՍ 2. ՊԵՏԱԿԱՆ ՄԱՐՄՆԻ ԳԾՈՎ ԱՐԴՅՈՒՆՔԱՅԻՆ (ԿԱՏԱՐՈՂԱԿԱՆ) ՑՈՒՑԱՆԻՇՆԵՐԸ
B13: Ծրագրի դասիչը | C13: Ծրագրի անվանումը
B14: 1189 | C14: Դպրոցների սեյսմիկ անվտանգության մակարդակի բարձրացման ծրագիր
B16: Ծրագրի միջոցառումները
B17: Ծրագրի դասիչը՝ | C17: 1189 | D17: Ցուցանիշների փոփոխությունը (նվազեցումները նշված են փակագծերում)
B18: Միջոցառման դասիչը՝ | C18: 12001 | D18: Առաջին կիսամյակ | E18: Ինն ամիս | F18: Տարի
B19: Միջոցառման անվանումը` | C19: Ասիական զարգացման բանկի աջակցությամբ իրականացվող դպրոցների սեյսմիկ պաշտպանության ծրագրի շրջանակներում ՀՀ դպրոցների սեյսմիկ անվտանգության բարելավմանն ուղղված միջոցառումներ
B20: Նկարագրությունը` | C20: Դպրոցների սեյսմիկ պաշտպանության լրացուցիչ ֆինանսավորման ծրագիր, դպրոցների շենքերի կառուցման, ամրացման շինարարական աշխատանքներ, շինարարական ստանդարտների արդիականացում, արտակարգ իրավիճակներին արձագանքման ծրագրի մշակում
B21: Միջոցառման տեսակը` | C21: Տրանսֆերտների տրամադրում
B22: Միջոցառումն իրականացնողի անվանումը՛ | C22: Մասնագիտացված միավոր
B23: Արդյունքի չափորոշիչներ
B24: Կառուցվող կամ վերակառուցվող դպրոցների թիվը | D24: -9 | F24: -9
B25: Միջոցառման վրա կատարվող ծախսը (հազար դրամ) | D25: =+'Հավելված N 1'!D23 -> 0 | E25: =+'Հավելված N 1'!E23 -> -3300000 | F25: =+'Հավելված N 1'!F23 -> -3300000
B27: Ծրագրի միջոցառումները
B28: Ծրագրի դասիչը՝ | C28: 1189 | D28: Ցուցանիշների փոփոխությունը (ավելացումները նշված են դրական նշանով, իսկ նվազեցումները փակագծերում)
B29: Միջոցառման դասիչը՝ | C29: 12003 | D29: Առաջին կիսամյակ | E29: Ինն ամիս | F29: Տարի
B30: Միջոցառման անվանումը` | C30: Ասիական զարգացման բանկի աջակցությամբ իրականացվող դպրոցների սեյսմիկ պաշտպանության ծրագրի լրացուցիչ ֆինանսավորման շրջանակներում ՀՀ դպրոցների սեյսմիկ անվտանգության բարելավմանն ուղղված միջոցառումներ
B31: Նկարագրությունը` | C31: Դպրոցների սեյսմիկ պաշտպանության լրացուցիչ ֆինանսավորման ծրագիր, դպրոցների շենքերի կառուցման, ամրացման շինարարական աշխատանքներ, շինարարական ստանդարտների արդիականացում, արտակարգ իրավիճակներին արձագանքման ծրագրի մշակում
B32: Միջոցառման տեսակը` | C32: Տրանսֆերտների տրամադրում
B33: Միջոցառումն իրականացնողի անվանումը՛ | C33: Մասնագիտացված միավոր
B34: Արդյունքի չափորոշիչներ
B35: Կառուցվող կամ վերակառուցվող դպրոցների թիվը | D35: 9 | F35: 9
B36: Միջոցառման վրա կատարվող ծախսը (հազար դրամ) | D36: =+'Հավելված N 1'!D29 -> -2000000 | E36: =+'Հավելված N 1'!E29 -> 1300000 | F36: =+'Հավելված N 1'!F29 -> 1300000
B38: Ծրագրի դասիչը | C38: Ծրագրի անվանումը
B39: 1236 | C39: Հանրակրթական և նախադպրոցական հաստատությունների հիմնում, կառուցում, բարելավում
B42: Ծրագրի միջոցառումները
B43: Ծրագրի դասիչը՝ | C43: 1236 | D43: Ցուցանիշների փոփոխությունը (ավելացումները նշված են դրական նշանով)
B44: Միջոցառման դասիչը՝ | C44: 32003 | D44: Առաջին կիսամյակ | E44: Ինն ամիս | F44: Տարի
B45: Միջոցառման անվանումը` | C45: Հանրակրթական դպրոցների նոր շենքերի կառուցում
B46: Նկարագրությունը` | C46: ՀՀ մարզերում կրթական որակյալ ծառայությունների հասանելիության ապահովման ծրագրի շրջանակներում հանրակրթական և նախադպրոցական կրթության հասանելիության ապահովման նպատակով կրթական կենտրոնների կառուցում
B47: Միջոցառման տեսակը` | C47: Այլ պետական կազմակերպությունների կողմից օգտագործվող ոչ ֆինանսական ակտիվների հետ գործառնություններ
B48: Ակտիվն օգտագործող կազմակերպությունների անվանումները | C48: Հանրակրթական դպրոցներ
B49: Արդյունքի չափորոշիչներ
B50: Միջոցառման վրա կատարվող ծախսը (հազար դրամ) | D50: =+'Հավելված N 1'!D42 -> 2000000 | E50: =+'Հավելված N 1'!E42 -> 2000000 | F50: =+'Հավելված N 1'!F42 -> 2000000
...

Sheet Հավելված N 7
C1: Հավելված N 7
C2: ՀՀ կառավարության 2024 թվականի
C3: ______________ ի ___Ն որոշման
B6: ՀԱՅԱՍՏԱՆԻ ՀԱՆՐԱՊԵՏՈՒԹՅԱՆ ԿԱՌԱՎԱՐՈՒԹՅԱՆ 2023 ԹՎԱԿԱՆԻ ԴԵԿՏԵՄԲԵՐԻ 28-Ի N 2323-Ն ՈՐՈՇՄԱՆ N 9.1 ՀԱՎԵԼՎԱԾԻ NN 9.1.7 ԵՎ 9.1.58 ԱՂՅՈՒՍԱԿՆԵՐՈՒՄ ԿԱՏԱՐՎՈՂ ՓՈՓՈԽՈՒԹՅՈՒՆՆԵՐԸ ԵՎ ԼՐԱՑՈՒՄՆԵՐԸ
A9: Աղյուսակ 9․1.7
C10: ՀՀ տարածքային կառավարման և ենթակառուցվածքների նախարարություն
B11: ՄԱՍ 1. ՊԵՏԱԿԱՆ ՄԱՐՄՆԻ ԳԾՈՎ ԱՐԴՅՈՒՆՔԱՅԻՆ (ԿԱՏԱՐՈՂԱԿԱՆ) ՑՈՒՑԱՆԻՇՆԵՐԸ
B14: Ծրագրի դասիչը | C14: Ծրագրի անվանումը
B15: 1189 | C15: Դպրոցների սեյսմիկ անվտանգության մակարդակի բարձրացման ծրագիր
B17: Ծրագրի միջոցառումները
B18: Ծրագրի դասիչը՝ | C18: 1189 | D18: Ցուցանիշների փոփոխությունը (նվազեցումները նշված են փակագծերում)
B19: Միջոցառման դասիչը՝ | C19: 12001 | D19: Առաջին կիսամյակ | E19: Ինն ամիս | F19: Տարի
B20: Միջոցառման անվանումը` | C20: Ասիական զարգացման բանկի աջակցությամբ իրականացվող դպրոցների սեյսմիկ պաշտպանության ծրագրի շրջանակներում ՀՀ դպրոցների սեյսմիկ անվտանգության բարելավմանն ուղղված միջոցառումներ
B21: Նկարագրությունը` | C21: Դպրոցների սեյսմիկ պաշտպանության լրացուցիչ ֆինանսավորման ծրագիր, դպրոցների շենքերի կառուցման, ամրացման շինարարական աշխատանքներ, շինարարական ստանդարտների արդիականացում, արտակարգ իրավիճակներին արձագանքման ծրագրի մշակում
B22: Միջոցառման տեսակը` | C22: Տրանսֆերտների տրամադրում
B23: Միջոցառումն իրականացնողի անվանումը՛ | C23: Մասնագիտացված միավոր
B24: Արդյունքի չափորոշիչներ
B25: Կառուցվող կամ վերակառուցվող դպրոցների թիվը | D25: -9 | F25: -9
B26: Միջոցառման վրա կատարվող ծախսը (հազար դրամ) | D26: =+'Հավելված N 2'!G54 -> 0 | E26: =+'Հավելված N 2'!H54 -> -3300000 | F26: =+'Հավելված N 2'!I54 -> -3300000
B28: Ծրագրի միջոցառումները
B29: Ծրագրի դասիչը՝ | C29: 1189 | D29: Ցուցանիշների փոփոխությունը (ավելացումները նշված են դրական նշանով, իսկ նվազեցումները փակագծերում)
B30: Միջոցառման դասիչը՝ | C30: 12003 | D30: Առաջին կիսամյակ | E30: Ինն ամիս | F30: Տարի
B31: Միջոցառման անվանումը` | C31: Ասիական զարգացման բանկի աջակցությամբ իրականացվող դպրոցների սեյսմիկ պաշտպանության ծրագրի լրացուցիչ ֆինանսավորման շրջանակներում ՀՀ դպրոցների սեյսմիկ անվտանգության բարելավմանն ուղղված միջոցառումներ
B32: Նկարագրությունը` | C32: Դպրոցների սեյսմիկ պաշտպանության լրացուցիչ ֆինանսավորման ծրագիր, դպրոցների շենքերի կառուցման, ամրացման շինարարական աշխատանքներ, շինարարական ստանդարտների արդիականացում, արտակարգ իրավիճակներին արձագանքման ծրագրի մշակում
B33: Միջոցառման տեսակը` | C33: Տրանսֆերտների տրամադրում
B34: Միջոցառումն իրականացնողի անվանումը՛ | C34: Մասնագիտացված միավոր
B35: Արդյունքի չափորոշիչներ
B36: Կառուցվող կամ վերակառուցվող դպրոցների թիվը | D36: 9 | F36: 9
B37: Միջոցառման վրա կատարվող ծախսը (հազար դրամ) | D37: =+'Հավելված N 2'!G63 -> -2000000 | E37: =+'Հավելված N 2'!H63 -> 1300000 | F37: =+'Հավելված N 2'!I63 -> 1300000
A43: Աղյուսակ 9․1.58
C44: ՀՀ կառավարություն
B45: ՄԱՍ 1. ՊԵՏԱԿԱՆ ՄԱՐՄՆԻ ԳԾՈՎ ԱՐԴՅՈՒՆՔԱՅԻՆ (ԿԱՏԱՐՈՂԱԿԱՆ) ՑՈՒՑԱՆԻՇՆԵՐԸ
B48: Ծրագրի դասիչը | C48: Ծրագրի անվանումը
B49: 1139 | C49: ՀՀ կառավարության պահուստային ֆոնդ
B51: Ծրագրի միջոցառումները
B52: Ծրագրի դասիչը՝ | C52: 1139 | D52: Ցուցանիշների փոփոխությունը (ավելացումները նշված են դրական նշանով)
B53: Միջոցառման դասիչը՝ | C53: 11001 | D53: Առաջին կիսամյակ | E53: Ինն ամիս | F53: Տարի
B54: Միջոցառման անվանումը` | C54: ՀՀ կառավարության պահուստային ֆոնդ
B55: Նկարագրությունը` | C55: ՀՀ պետական բյուջեում նախատեսված ելքերի լրացուցիչ ֆինանսավորման, պետական բյուջեում չկանխատեսված ելքերի, ինչպես նաև բյուջետային երաշխիքների ապահովման ելքերի ֆինանսավորման ապահովում
B56: Միջոցառման տեսակը` | C56: Ծառայությունների մատուցում
...
