Workbook
Name _tab10: #REF!
Name _tab10: #REF!
Name _tab10: #REF!
Name _tab11: #REF!
Name _tab11: #REF!
Name _tab11: #REF!
Name _tab12: #REF!
Name _tab12: #REF!
Name _tab12: #REF!
Name _tab13: #REF!
Name _tab13: #REF!
Name _tab13: #REF!
Name _tab14: #REF!
Name _tab14: #REF!
Name _tab14: #REF!
Name _tab15: #REF!
Name _tab15: #REF!
Name _tab15: #REF!
Name _tab16: #REF!
Name _tab16: #REF!
Name _tab16: #REF!
Name _tab17: #REF!
Name _tab17: #REF!
Name _tab17: #REF!
Name _tab18: #REF!
Name _tab18: #REF!
Name _tab18: #REF!
Name _tab19: #REF!
Name _tab19: #REF!
Name _tab19: #REF!
Name _tab20: #REF!
Name _tab20: #REF!
Name _tab20: #REF!
Name _tab21: #REF!
Name _tab21: #REF!
Name _tab21: #REF!
Name _tab22: #REF!
Name _tab22: #REF!
Name _tab22: #REF!
Name _tab23: #REF!
Name _tab23: #REF!
Name _tab23: #REF!
Name _tab24: #REF!
Name _tab24: #REF!
Name _tab24: #REF!
Name _tab5: #REF!
Name _tab5: #REF!
Name _tab5: #REF!
Name _tab6: #REF!
Name _tab6: #REF!
Name _tab6: #REF!
Name _tab7: #REF!
Name _tab7: #REF!
Name _tab7: #REF!
Name _tab8: #REF!
Name _tab8: #REF!
Name _tab8: #REF!
Name _tab9: #REF!
Name _tab9: #REF!
Name _tab9: #REF!

Sheet 1
F1: Հավելված N 1
C2: ՀՀ կառավարության 2024 թվականի
C3: -----------------ի N -----------Ն որոշման
A6: ՀԱՅԱՍՏԱՆԻ ՀԱՆՐԱՊԵՏՈՒԹՅԱՆ 2024 ԹՎԱԿԱՆԻ ՊԵՏԱԿԱՆ ԲՅՈՒՋԵԻ ՄԱՍԻՆ» ՕՐԵՆՔԻ N 1 ՀԱՎԵԼՎԱԾԻ N 2 ԱՂՅՈՒՍԱԿՈՒՄ ԿԱՏԱՐՎՈՂ ՎԵՐԱԲԱՇԽՈՒՄԸ ԵՎ ՀԱՅԱՍՏԱՆԻ ՀԱՆՐԱՊԵՏՈՒԹՅԱՆ ԿԱՌԱՎԱՐՈՒԹՅԱՆ 2023 ԹՎԱԿԱՆԻ ԴԵԿՏԵՄԲԵՐԻ 28-Ի N 2323-Ն ՈՐՈՇՄԱՆ N 5 ՀԱՎԵԼՎԱԾԻ N 1 ԱՂՅՈՒՍԱԿՈՒՄ ԿԱՏԱՐՎՈՂ ՓՈՓՈԽՈՒԹՅՈՒՆՆԵՐԸ ԵՎ ԼՐԱՑՈՒՄՆԵՐԸ
F7: (հազար դրամ)
A8: Ծրագրային դասիչը | C8: Բյուջետային հատկացումների գլխավոր կարգադրիչների, ծրագրերի և միջոցառումների անվանումները | D8: Ցուցանիշների փոփոխությունները ավելացումները նշված են դրական նշանով, իսկ նվազեցումները՝ փակագծերում
A9: Ծրագիր | B9: Միջոցառում | D9: Առաջին կիսամյակ | E9: Ինն ամիս | F9: Տարի
C10: ԸՆԴԱՄԵՆԸ | D10: =D11 -> 0 | E10: =E11 -> 0 | F10: =F11 -> 0
C11: ՀՀ աշխատանքի և սոցիալական հարցերի նախարարություն | D11: =D12+D25 -> 0 | E11: =E12+E25 -> 0 | F11: =F12+F25 -> 0
A12: 1205 | C12: Ծրագրի անվանումը` | D12: =D19 -> 14400 | E12: =E19 -> 14400 | F12: =F19 -> 14400
C13: Սոցիալական ապահովություն
C14: Ծրագրի նպատակը`
C15: Սոցիալական ապահովության իրավունքի իրականացման ապահովում
C16: Վերջնական արդյունքի նկարագրությունը`
C17: Սոցիալական ապահովության իրավունքի իրականացում
A18: Ծրագրի միջոցառումներ
B19: 12018 | C19: Միջոցառման անվանումը` | D19: 14400 | E19: 14400 | F19: 14400
C20: Ռազմական դրությամբ պայմանավորված՝ դրամական աջակցություն անհայտ կորած զինծառայողների ընտանիքներին
C21: Միջոցառման նկարագրությունը`
C22: Ադրբեջանի կողմից 2020 թվականի սեպտեմբերի 27-ին սանձազերծված ռազմական գործողությունների հետևանքով անհայտ կորած զինծառայողների ընտանիքներին դրամական օժանդակության տրամադրում
C23: Միջոցառման տեսակը
C24: Տրանսֆերտների տրամադրում
A25: 1068 | C25: Ծրագրի անվանումը` | D25: =D32 -> -14400 | E25: =E32 -> -14400 | F25: =F32 -> -14400
C26: Ժողովրդագրական վիճակի բարելավում
C27: Ծրագրի նպատակը`
C28: Խթանել ժողովրդագրական վիճակի բարելավումը
C29: Վերջնական արդյունքի նկարագրությունը`
C30: Ժողովրդագրական վիճակի բարելավում և բազմազավակության աճ
A31: Ծրագրի միջոցառումներ
B32: 12001 | C32: Միջոցառման անվանումը` | D32: =D19*-1 -> -14400 | E32: =E19*-1 -> -14400 | F32: =F19*-1 -> -14400
C33: Մինչև 2 տարեկան երեխայի խնամքի նպաստի տրամադրում
C34: Միջոցառման նկարագրությունը`
C35: Մինչև 2 տարեկան երեխայի խնամքի նպաստի տրամադրում
C36: Միջոցառման տեսակը
C37: Տրանսֆերտների տրամադրում

Sheet 2
I1: Հավելված N 2
F2: ՀՀ կառավարության 2024 թվականի
F3: -----------------ի N -----------Ն որոշման
A5: ՀԱՅԱՍՏԱՆԻ ՀԱՆՐԱՊԵՏՈՒԹՅԱՆ ԿԱՌԱՎԱՐՈՒԹՅԱՆ 2023 ԹՎԱԿԱՆԻ ԴԵԿՏԵՄԲԵՐԻ 28-Ի N 2323-Ն ՈՐՈՇՄԱՆ N N 3 ԵՎ 4 ՀԱՎԵԼՎԱԾՆԵՐՈՒՄ ԿԱՏԱՐՎՈՂ ՓՈՓՈԽՈՒԹՅՈՒՆՆԵՐԸ ԵՎ ԼՐԱՑՈՒՄՆԵՐԸ
I6: հազար դրամ
A7: Գործառական դասիչը | D7: Ծրագրային դասիչը | F7: Բյուջետային ծախսերի գործառական դասակարգման բաժինների, խմբերի և դասերի, բյուջետային ծրագրերի միջոցառումների, բյուջետային հատկացումների գլխավոր կարգադրիչների անվանումները | G7: ='1'!D8 -> Ցուցանիշների փոփոխությունները ավելացումները նշված են դրական նշանով, իսկ նվազեցումները՝ փակագծերում
A8: Բաժինը | B8: Խումբը | C8: Դասը | D8: Ծրագիր | E8: Միջոցառում | G8: Առաջին կիսամյակ | H8: Ինն ամիս | I8: Տարի
F9: ԸՆԴԱՄԵՆԸ ԾԱԽՍԵՐ | G9: =G11 -> 0 | H9: =H11 -> 0 | I9: =I11 -> 0
F10: այդ թվում`
A11: 10 | F11: ՍՈՑԻԱԼԱԿԱՆ ՊԱՇՏՊԱՆՈՒԹՅՈՒՆ | G11: =G13+G29 -> 0 | H11: =H13+H29 -> 0 | I11: =I13+I29 -> 0
F12: այդ թվում`
B13: ՛09 | F13: Սոցիալական պաշտպանություն (այլ դասերին չպատկանող) | G13: =+G15 -> 14400 | H13: =+H15 -> 14400 | I13: =+I15 -> 14400
F14: այդ թվում`
C15: ՛02 | F15: Սոցիալական պաշտպանությանը տրամադրվող օժանդակ ծառայություններ (այլ դասերին չպատկանող) | G15: =G17 -> 14400 | H15: =H17 -> 14400 | I15: =I17 -> 14400
F16: այդ թվում`
F17: ՀՀ աշխատանքի և սոցիալական հարցերի նախարարություն | G17: =G19 -> 14400 | H17: =H19 -> 14400 | I17: =I19 -> 14400
F18: այդ թվում`
D19: 1205 | F19: Սոցիալական ապահովություն | G19: =G21 -> 14400 | H19: =H21 -> 14400 | I19: =I21 -> 14400
F20: այդ թվում`
E21: ='1'!B19 -> 12018 | F21: ='1'!C20 -> Ռազմական դրությամբ պայմանավորված՝ դրամական աջակցություն անհայտ կորած զինծառայողների ընտանիքներին | G21: =G23 -> 14400 | H21: =H23 -> 14400 | I21: =I23 -> 14400
F22: այդ թվում` ըստ կատարողների
F23: ՀՀ աշխատանքի և սոցիալական հարցերի նախարարություն | G23: =G25 -> 14400 | H23: =H25 -> 14400 | I23: =I25 -> 14400
F24: այդ թվում` բյուջետային ծախսերի տնտեսագիտական դասակարգման հոդվածներ
F25: ԸՆԴԱՄԵՆԸ ԾԱԽՍԵՐ | G25: =G26 -> 14400 | H25: =H26 -> 14400 | I25: =I26 -> 14400
F26: ԸՆԹԱՑԻԿ ԾԱԽՍԵՐ | G26: =G27 -> 14400 | H26: =H27 -> 14400 | I26: =I27 -> 14400
F27: ՍՈՑԻԱԼԱԿԱՆ ՆՊԱՍՏՆԵՐ ԵՎ ԿԵՆՍԱԹՈՇԱԿՆԵՐ | G27: =G28 -> 14400 | H27: =H28 -> 14400 | I27: =I28 -> 14400
F28: - Այլ նպաստներ բյուջեից | G28: ='1'!D19 -> 14400 | H28: ='1'!E19 -> 14400 | I28: ='1'!F19 -> 14400
B29: 04 | F29: Ընտանիքի անդամներ և զավակներ | G29: =G31 -> -14400 | H29: =H31 -> -14400 | I29: =I31 -> -14400
F30: այդ թվում՝
C31: 01 | F31: Ընտանիքի անդամներ և զավակներ | G31: =G33 -> -14400 | H31: =H33 -> -14400 | I31: =I33 -> -14400
F32: այդ թվում՝
F33: ՀՀ աշխատանքի և սոցիալական հարցերի նախարարություն | G33: =G35 -> -14400 | H33: =H35 -> -14400 | I33: =I35 -> -14400
F34: այդ թվում՝
D35: 1068 | F35: ='1'!C26 -> Ժողովրդագրական վիճակի բարելավում | G35: =G37 -> -14400 | H35: =H37 -> -14400 | I35: =I37 -> -14400
F36: այդ թվում՝
E37: 12001 | F37: Մինչև 2 տարեկան երեխայի խնամքի նպաստի տրամադրում | G37: =G39 -> -14400 | H37: =H39 -> -14400 | I37: =I39 -> -14400
F38: այդ թվում` ըստ կատարողների
F39: ՀՀ աշխատանքի և սոցիալական հարցերի նախարարության միասնական սոցիալական ծառայություն | G39: =G41 -> -14400 | H39: =H41 -> -14400 | I39: =I41 -> -14400
F40: այդ թվում` բյուջետային ծախսերի տնտեսագիտական դասակարգման հոդվածներ
F41: ԸՆԴԱՄԵՆԸ ԾԱԽՍԵՐ | G41: =G42 -> -14400 | H41: =H42 -> -14400 | I41: =I42 -> -14400
...

Sheet 3
E1: Հավելված N 3
B2: ՀՀ կառավարության 2024 թվականի
B3: -----------------ի N -----------Ն որոշման
A5: ՀԱՅԱՍՏԱՆԻ ՀԱՆՐԱՊԵՏՈՒԹՅԱՆ ԿԱՌԱՎԱՐՈՒԹՅԱՆ 2023 ԹՎԱԿԱՆԻ ԴԵԿՏԵՄԲԵՐԻ 28-Ի N 2323-Ն ՈՐՈՇՄԱՆ N 9 ՀԱՎԵԼՎԱԾԻ N 9.15 ԱՂՅՈՒՍԱԿՈՒՄ ԿԱՏԱՐՎՈՂ ՓՈՓՈԽՈՒԹՅՈՒՆՆԵՐԸ ԵՎ ԼՐԱՑՈՒՄՆԵՐԸ
A7: ՄԱՍ 2. ՊԵՏԱԿԱՆ ՄԱՐՄՆԻ ԳԾՈՎ ԱՐԴՅՈՒՆՔԱՅԻՆ (ԿԱՏԱՐՈՂԱԿԱՆ) ՑՈՒՑԱՆԻՇՆԵՐԸ
A9: ՀՀ աշխատանքի և սոցիալական հարցերի նախարարություն
A11: Ծրագրի դասիչը | B11: Ծրագրի անվանումը
A12: 1205 | B12: Սոցիալական ապահովություն
A13: Ծրագրի միջոցառումները
A15: Ծրագրի դասիչը` | B15: 1205 | C15: Ցուցանիշների փոփոխությունները ավելացումները նշված են դրական նշանով
A16: Միջոցառման դասիչը` | B16: 12018 | C16: Առաջին կիսամյակ | D16: Ինն ամիս | E16: Տարի
A17: Միջոցառման անվանումը` | B17: Ռազմական դրությամբ պայմանավորված՝ դրամական աջակցություն անհայտ կորած զինծառայողների ընտանիքներին
A18: Նկարագրությունը` | B18: Ադրբեջանի կողմից 2020 թվականի սեպտեմբերի 27-ին սանձազերծված ռազմական գործողությունների հետևանքով անհայտ կորած զինծառայողների ընտանիքներին դրամական օժանդակության տրամադրում
A19: Միջոցառման տեսակը` | B19: Տրանսֆերտների տրամադրում
A20: Շահառուների ընտրության չափանիշները | B20: Անհայտ կորած զինծառայողի ընտանիք՝ համաձայն ՀՀ կառավարության 2020 թվականի դեկտեմբերի 10-ի N 2001-Լ որոշման
A21: Արդյունքի չափորոշիչներ
A22: Միջոցառման վրա կատարվող ծախսը (հազար դրամ) | C22: ='1'!D19 -> 14400 | D22: ='1'!E19 -> 14400 | E22: ='1'!F19 -> 14400
A26: Ծրագրի դասիչը | B26: Ծրագրի անվանումը
A27: 1068 | B27: ='1'!C26 -> Ժողովրդագրական վիճակի բարելավում
A28: Ծրագրի միջոցառումները
A30: Ծրագրի դասիչը` | B30: 1068 | C30: Ցուցանիշների փոփոխությունները նվազեցումները նշված են փակագծերում
A31: Միջոցառման դասիչը` | B31: 12001 | C31: Առաջին կիսամյակ | D31: Ինն ամիս | E31: Տարի
A32: Միջոցառման անվանումը` | B32: Մինչև 2 տարեկան երեխայի խնամքի նպաստի տրամադրում
A33: Նկարագրությունը` | B33: Մինչև 2 տարեկան երեխայի խնամքի նպաստի տրամադրում
A34: Միջոցառման տեսակը` | B34: Տրանսֆերտների տրամադրում
A35: Շահառուների ընտրության չափանիշները | B35: Մինչև երեք տարեկան երեխայի խնամքի արձակուրդում գտնվող անձը` մինչ երեխայի 2 տարեկանը լրանալը
A36: Արդյունքի չափորոշիչներ
A37: Միջոցառման վրա կատարվող ծախսը (հազար դրամ) | C37: ='1'!D32 -> -14400 | D37: ='1'!E32 -> -14400 | E37: ='1'!F32 -> -14400

Sheet 4
E1: Հավելված N 4
B2: ՀՀ կառավարության 2024 թվականի
B3: -----------------ի N -----------Ն որոշման
A5: ՀԱՅԱՍՏԱՆԻ ՀԱՆՐԱՊԵՏՈՒԹՅԱՆ ԿԱՌԱՎԱՐՈՒԹՅԱՆ 2023 ԹՎԱԿԱՆԻ ԴԵԿՏԵՄԲԵՐԻ 28-Ի N 2323-Ն ՈՐՈՇՄԱՆ N 9.1 ՀԱՎԵԼՎԱԾԻ N 9.1.15 ԵՎ N 9.1.19 ԱՂՅՈՒՍԱԿՆԵՐՈՒՄ ԿԱՏԱՐՎՈՂ ՓՈՓՈԽՈՒԹՅՈՒՆՆԵՐԸ ԵՎ ԼՐԱՑՈՒՄՆԵՐԸ
A7: ՄԱՍ 1. ՊԵՏԱԿԱՆ ՄԱՐՄՆԻ ԳԾՈՎ ԱՐԴՅՈՒՆՔԱՅԻՆ (ԿԱՏԱՐՈՂԱԿԱՆ) ՑՈՒՑԱՆԻՇՆԵՐԸ
A9: ՀՀ աշխատանքի և սոցիալական հարցերի նախարարություն
A11: Ծրագրի դասիչը | B11: Ծրագրի անվանումը
A12: 1205 | B12: Սոցիալական ապահովություն
A13: Ծրագրի միջոցառումները
A15: Ծրագրի դասիչը` | B15: 1205 | C15: Ցուցանիշների փոփոխությունները ավելացումները նշված են դրական նշանով
A16: Միջոցառման դասիչը` | B16: 12018 | C16: Առաջին կիսամյակ | D16: Ինն ամիս | E16: Տարի
A17: Միջոցառման անվանումը` | B17: Ռազմական դրությամբ պայմանավորված՝ դրամական աջակցություն անհայտ կորած զինծառայողների ընտանիքներին
A18: Նկարագրությունը` | B18: Ադրբեջանի կողմից 2020 թվականի սեպտեմբերի 27-ին սանձազերծված ռազմական գործողությունների հետևանքով անհայտ կորած զինծառայողների ընտանիքներին դրամական օժանդակության տրամադրում
A19: Միջոցառման տեսակը` | B19: Տրանսֆերտների տրամադրում
A20: Շահառուների ընտրության չափանիշները | B20: Անհայտ կորած զինծառայողի ընտանիք՝ համաձայն ՀՀ կառավարության 2020 թվականի դեկտեմբերի 10-ի N 2001-Լ որոշման
A21: Արդյունքի չափորոշիչներ
A22: Միջոցառման վրա կատարվող ծախսը (հազար դրամ) | C22: ='3'!C22 -> 14400 | D22: ='3'!D22 -> 14400 | E22: ='3'!E22 -> 14400
A25: ՀՀ աշխատանքի և սոցիալական հարցերի նախարարության միասնական սոցիալական ծառայություն
A27: Ծրագրի դասիչը | B27: Ծրագրի անվանումը
A28: 1068 | B28: ='1'!C26 -> Ժողովրդագրական վիճակի բարելավում
A29: Ծրագրի միջոցառումները
A31: Ծրագրի դասիչը` | B31: 1068 | C31: Ցուցանիշների փոփոխությունները նվազեցումները նշված են փակագծերում
A32: Միջոցառման դասիչը` | B32: 12001 | C32: Առաջին կիսամյակ | D32: Ինն ամիս | E32: Տարի
A33: Միջոցառման անվանումը` | B33: Մինչև 2 տարեկան երեխայի խնամքի նպաստի տրամադրում
A34: Նկարագրությունը` | B34: Մինչև 2 տարեկան երեխայի խնամքի նպաստի տրամադրում
A35: Միջոցառման տեսակը` | B35: Տրանսֆերտների տրամադրում
A36: Շահառուների ընտրության չափանիշները | B36: Մինչև երեք տարեկան երեխայի խնամքի արձակուրդում գտնվող անձը` մինչ երեխայի 2 տարեկանը լրանալը
A37: Արդյունքի չափորոշիչներ
A38: Միջոցառման վրա կատարվող ծախսը (հազար դրամ) | C38: ='1'!D32 -> -14400 | D38: ='1'!E32 -> -14400 | E38: ='1'!F32 -> -14400
