Workbook
Name a: #REF!
Name a: #REF!
Name a: #REF!
Name a: #REF!
Name a: #REF!
Name a: #REF!
Name AgencyCode: #REF!
Name AgencyCode: #REF!
Name AgencyCode: #REF!
Name AgencyCode: #REF!
Name AgencyCode: #REF!
Name AgencyCode: #REF!
Name AgencyCode: #REF!
Name AgencyName: #REF!
Name AgencyName: #REF!
Name AgencyName: #REF!
Name AgencyName: #REF!
Name BOP: #REF!
Name BOP: #REF!
Name BOPfoot: #REF!
Name BOPfoot: #REF!
Name davit: #REF!
Name davit: #REF!
Name davit: #REF!
Name DebtCG: #REF!
Name DebtCG: #REF!
Name DebtGG: #REF!
Name DebtGG: #REF!
Name Functional1: #REF!
Name Functional1: #REF!
Name Functional1: #REF!
Name Functional1: #REF!
Name ggg: #REF!
Name ggg: #REF!
Name ggg: #REF!
Name Havelvac: #REF!
Name jj: #REF!
Name MonExo: #REF!
Name MonExo: #REF!
Name MonGrow: #REF!
Name MonGrow: #REF!
Name PANature: #REF!
Name PANature: #REF!
Name PANature: #REF!
Name PANature: #REF!
Name PAType: #REF!
Name PAType: #REF!
Name PAType: #REF!
Name PAType: #REF!
Name Performance2: #REF!
Name Performance2: #REF!
Name Performance2: #REF!
Name Performance2: #REF!
Name PerformanceType: #REF!
Name PerformanceType: #REF!
Name PerformanceType: #REF!
Name PerformanceType: #REF!
Name RealExo: #REF!
Name RealExo: #REF!
Name RealPercent: #REF!

Sheet Հավելված N 1
E1: Հավելված N 1
E2: ՀՀ կառավարության 2024 թվականի
E3: ______________ ի ___Ն որոշման
A6: «ՀԱՅԱUՏԱՆԻ ՀԱՆՐԱՊԵՏՈՒԹՅԱՆ 2024 ԹՎԱԿԱՆԻ ՊԵՏԱԿԱՆ ԲՅՈՒՋԵԻ ՄԱUԻՆ» ՀԱՅԱUՏԱՆԻ ՀԱՆՐԱՊԵՏՈՒԹՅԱՆ OՐԵՆՔԻ N 1 ՀԱՎԵԼՎԱԾԻ N 2 ԱՂՅՈՒՍԱԿՈՒՄ ԿԱՏԱՐՎՈՂ ՎԵՐԱԲԱՇԽՈՒՄԸ ԵՎ ԼՐԱՑՈՒՄԸ ԵՎ ՀԱՅԱՍՏԱՆԻ ՀԱՆՐԱՊԵՏՈՒԹՅԱՆ ԿԱՌԱՎԱՐՈՒԹՅԱՆ 2023 ԹՎԱԿԱՆԻ ԴԵԿՏԵՄԲԵՐԻ 28-Ի N 2323-Ն ՈՐՈՇՄԱՆ N 5 ՀԱՎԵԼՎԱԾԻ N 1 ԱՂՅՈՒՍԱԿՈՒՄ ԿԱՏԱՐՎՈՂ ՓՈՓՈԽՈՒԹՅՈՒՆՆԵՐԸ ԵՎ ԼՐԱՑՈՒՄՆԵՐԸ
F8: հազ. դրամներով
A9: Ծրագրային դասիչը | C9: Բյուջետային հատկացումների գլխավոր կարգադրիչների, ծրագրերի և միջոցառումների անվանումները | D9: Ցուցանիշների փոփոխությունը (ավելացումները նշված են դրական նշանով, իսկ նվազեցումները՝ փակագծերում)
A10: Ծրագիր | B10: Միջոցառում | D10: Առաջին կիսամյակ | E10: Ինն ամիս | F10: Տարի
A11: 1192 | C11: ԸՆԴԱՄԵՆԸ | D11: =D13+D32 -> 0 | E11: =E13+E32 -> 0 | F11: =F13+F32 -> 0
C12: այդ թվում
C13: ՀՀ ԿԱՌԱՎԱՐՈՒԹՅՈՒՆ | D13: =D14 -> -44268.5 | E13: =E14 -> -44268.5 | F13: =F14 -> -44268.5
A14: 1139 | C14: Ծրագրի անվանումը` | D14: =D20+D26 -> -44268.5 | E14: =E20+E26 -> -44268.5 | F14: =F20+F26 -> -44268.5
C15: ՀՀ կառավարության պահուստային ֆոնդ
C16: Ծրագրի նպատակը`
C17: Պետական բյուջեում չկանխատեսված, ինչպես նաև բյուջետային երաշխիքների ապահովման ծախսերի ֆինանսավորման ապահովում
C18: Վերջնական արդյունքի նկարագրությունը`
C19: Պահուստային ֆոնդի կառավարման արդյունավետության և թափանցիկության ապահովում
B20: 11001 | C20: Միջոցառման անվանումը` | D20: 122992.8 | E20: 122992.8 | F20: 122992.8
C21: ՀՀ կառավարության պահուստային ֆոնդ
C22: Միջոցառման նկարագրությունը`
C23: ՀՀ պետական բյուջեում նախատեսված ելքերի լրացուցիչ ֆինանսավորման՝ պետական բյուջեում չկանխատեսված ելքերի, ինչպես նաև բյուջետային երաշխիքների ապահովման ելքերի ֆինանսավորման ապահովում
C24: Միջոցառման տեսակը
C25: Ծառայությունների մատուցում
B26: 11001 | C26: Միջոցառման անվանումը` | D26: -167261.3 | E26: -167261.3 | F26: -167261.3
C27: ՀՀ կառավարության պահուստային ֆոնդ
C28: Միջոցառման նկարագրությունը`
C29: ՀՀ պետական բյուջեում նախատեսված ելքերի լրացուցիչ ֆինանսավորման՝ պետական բյուջեում չկանխատեսված ելքերի, ինչպես նաև բյուջետային երաշխիքների ապահովման ելքերի ֆինանսավորման ապահովում
C30: Միջոցառման տեսակը
C31: Ծառայությունների մատուցում
C32: ՀՀ ԿՐԹՈՒԹՅԱՆ, ԳԻՏՈՒԹՅԱՆ, ՄՇԱԿՈՒՅԹԻ ԵՎ ՍՊՈՐՏԻ ՆԱԽԱՐԱՐՈՒԹՅՈՒՆ | D32: =+D34+D53 -> 44268.5 | E32: =+E34+E53 -> 44268.5 | F32: =+F34+F53 -> 44268.5
A33: 1075 | C33: Ծրագրի անվանումը`
C34: Մշակութային ժառանգության ծրագիր | D34: =+D41+D47 -> -122992.8 | E34: =+E41+E47 -> -122992.8 | F34: =+F41+F47 -> -122992.8
C35: Ծրագրի նպատակը`
C36: Մշակութային ժառանգության պահպանում, օգտագործում, համալրում և հանրահռչակում
C37: Վերջնական արդյունքի նկարագրությունը`
C38: Մշակութային ժառանգության շարունակական պահպանում, մշակութային զբոսաշրջության զարգացում և խթանում
C39: Ծրագրի միջոցառումներ
B40: 21001 | C40: Միջոցառման անվանումը`
C41: Հուշարձանների ամրակայում, նորոգում և վերականգնում | D41: =+'Հավելված N 2'!G82 -> -99007.1 | E41: =+'Հավելված N 2'!H82 -> -71738.1 | F41: =+'Հավելված N 2'!I82 -> -122992.8
C42: Միջոցառման նկարագրությունը`
C43: Հուշարձանների գիտանախագծային փաստաթղթերի կազմում, հրատապ ուսումնասիրում, վավերագրման և ուսումնասիրման աշխատանքներ, հետախուզում և հնագիտական պեղում, ամրակայում, նորոգում և վերականգնում
C44: Միջոցառման տեսակը
C45: Հանրության կողմից անմիջականորեն օգտագործվող ակտիվների հետ կապված միջոցառումներ
B46: 32001 | C46: Միջոցառման անվանումը`
C47: Ներդրումներ թանգարանների և պատկերասրահների հիմնանորոգման համար | D47: =+'Հավելված N 2'!G51 -> -23985.7 | E47: =+'Հավելված N 2'!H51 -> -51254.7 | F47: =+'Հավելված N 2'!I51 -> 0
C48: Միջոցառման նկարագրությունը`
C49: Թանգարանների և պատկերասրահների շենքերի, մասնաշենքերի հիմնանորոգում, համաշինարարական աշխատանքներ, ջեռուցման համակարգի իրականացում, ներքին հարդարում, տարածքի բարեկարգում և նախագծում
C50: Միջոցառման տեսակը
C51: Այլ պետական կազմակերպությունների կողմից օգտագործվող ոչ ֆինանսական ակտիվների հետ գործառնություններ
A52: 1168 | C52: Ծրագրի անվանումը`
C53: Արվեստների ծրագիր | D53: =+D60 -> 167261.3 | E53: =+E60 -> 167261.3 | F53: =+F60 -> 167261.3
C54: Ծրագրի նպատակը`
C55: Նպաստել ազգային հենքի վրա ժամանակակից թատերարվեստի, երաժշտարվեստի, կերպարվեստի և պարարվեստի զարգացմանը և հանրահռչակմանը
C56: Վերջնական արդյունքի նկարագրությունը`
C57: Մրցունակ արվեստային արտադրանքի ստեղծում, ստեղծագործական գործընթացների խթանում, արվեստի նոր նախագծերի ներդրում և մշակութային կյանքում հասարակության ներգրավում
C58: Ծրագրի միջոցառումներ
B59: 11028 | C59: Միջոցառման անվանումը`
C60: Երվանդ Քոչարի ծննդյան 125-ամյակի հոբելյանական միջոցառումների իրականացում | D60: =+'Հավելված N 2'!G66 -> 167261.3 | E60: =+'Հավելված N 2'!H66 -> 167261.3 | F60: =+'Հավելված N 2'!I66 -> 167261.3
C61: Միջոցառման նկարագրությունը`
C62: Երվանդ Քոչարի ծննդյան 125-ամյա հոբելյանին նվիրված ֆիլմաշարերի, ցուցահանդեսների, բացօթյա արվեստային նախագծերի, փառատոների, աշխատարանների, կրթական ծրագրերի և այլ միջոցառումների իրականացում
C63: Միջոցառման տեսակը
C64: Ծառայությունների մատուցում

Sheet Հավելված N 2
F1: Հավելված N 2
F2: ՀՀ կառավարության 2024 թվականի
F3: ______________ ի ___Ն որոշման
A6: ՀԱՅԱՍՏԱՆԻ ՀԱՆՐԱՊԵՏՈՒԹՅԱՆ ԿԱՌԱՎԱՐՈՒԹՅԱՆ 2023 ԹՎԱԿԱՆԻ ԴԵԿՏԵՄԲԵՐԻ 28-Ի N2323-Ն ՈՐՈՇՄԱՆ N 3 ԵՎ N 4 ՀԱՎԵԼՎԱԾՆԵՐՈՒՄ ԿԱՏԱՐՎՈՂ ՓՈՓՈԽՈՒԹՅՈՒՆՆԵՐԸ ԵՎ ԼՐԱՑՈՒՄՆԵՐԸ
I8: հազ. դրամներով
A9: Գործառական դասիչը | D9: Ծրագրային դասիչը | F9: Բյուջետային հատկացումների գլխավոր կարգադրիչների, ծրագրերի, միջոցառումների և միջոցառումները կատարող պետական մարմինների անվանումները | G9: Ցուցանիշների փոփոխությունը (ավելացումները նշված են դրական նշանով, իսկ նվազեցումները՝ փակագծերում)
A10: Բաժին | B10: Խումբ | C10: Դաս | D10: Ծրագիր | E10: Միջոցառում | G10: Առաջին կիսամյակ | H10: Ինն ամիս | I10: Տարի
F11: ԸՆԴԱՄԵՆԸ | G11: =G13+G40 -> 0 | H11: =H13+H40 -> 0 | I11: =I13+I40 -> 0
F12: այդ թվում
F13: ՀՀ ԿԱՌԱՎԱՐՈՒԹՅՈՒՆ | G13: =+G14 -> -44268.5 | H13: =+H14 -> -44268.5 | I13: =+I14 -> -44268.5
A14: 11 | F14: ՀԻՄՆԱԿԱՆ ԲԱԺԻՆՆԵՐԻՆ ՉԴԱՍՎՈՂ ՊԱՀՈՒՍՏԱՅԻՆ ՖՈՆԴԵՐ | G14: =+G16 -> -44268.5 | H14: =+H16 -> -44268.5 | I14: =+I16 -> -44268.5
F15: այդ թվում`
B16: 01 | F16: ՀՀ կառավարության և համայնքների պահուստային ֆոնդ | G16: =+G18 -> -44268.5 | H16: =+H18 -> -44268.5 | I16: =+I18 -> -44268.5
F17: այդ թվում`
C18: 01 | F18: ՀՀ կառավարության պահուստային ֆոնդ | G18: =+G22 -> -44268.5 | H18: =+H22 -> -44268.5 | I18: =+I22 -> -44268.5
F19: այդ թվում`
F20: ՀՀ կառավարություն | G20: =+G22 -> -44268.5 | H20: =+H22 -> -44268.5 | I20: =+I22 -> -44268.5
F21: այդ թվում`
D22: 1139 | E22: ՀՀ կառավարության պահուստային ֆոնդ | G22: =G24+G32 -> -44268.5 | H22: =H24+H32 -> -44268.5 | I22: =I24+I32 -> -44268.5
F23: այդ թվում`
E24: 11001 | F24: ՀՀ կառավարության պահուստային ֆոնդ | G24: =+G26 -> -167261.3 | H24: =+H26 -> -167261.3 | I24: =+I26 -> -167261.3
F25: այդ թվում` ըստ կատարողների
F26: ՀՀ կառավարություն | G26: =+G28 -> -167261.3 | H26: =+H28 -> -167261.3 | I26: =+I28 -> -167261.3
F27: այդ թվում` բյուջետային ծախսերի տնտեսագիտական դասակարգման հոդվածներ
F28: ԸՆԴԱՄԵՆԸ ԾԱԽՍԵՐ | G28: =+G29 -> -167261.3 | H28: =+H29 -> -167261.3 | I28: =+I29 -> -167261.3
F29: ԸՆԹԱՑԻԿ ԾԱԽՍԵՐ | G29: =+G30 -> -167261.3 | H29: =+H30 -> -167261.3 | I29: =+I30 -> -167261.3
F30: ԱՅԼ ԾԱԽՍԵՐ | G30: =+G31 -> -167261.3 | H30: =+H31 -> -167261.3 | I30: =+I31 -> -167261.3
F31: Պահուստային միջոցներ | G31: -167261.3 | H31: -167261.3 | I31: -167261.3
E32: 11001 | F32: ՀՀ կառավարության պահուստային ֆոնդ | G32: =+G34 -> 122992.8 | H32: =+H34 -> 122992.8 | I32: =+I34 -> 122992.8
F33: այդ թվում` ըստ կատարողների
F34: ՀՀ կառավարություն | G34: =+G36 -> 122992.8 | H34: =+H36 -> 122992.8 | I34: =+I36 -> 122992.8
F35: այդ թվում` բյուջետային ծախսերի տնտեսագիտական դասակարգման հոդվածներ
F36: ԸՆԴԱՄԵՆԸ ԾԱԽՍԵՐ | G36: =+G37 -> 122992.8 | H36: =+H37 -> 122992.8 | I36: =+I37 -> 122992.8
F37: ԸՆԹԱՑԻԿ ԾԱԽՍԵՐ | G37: =+G38 -> 122992.8 | H37: =+H38 -> 122992.8 | I37: =+I38 -> 122992.8
F38: ԱՅԼ ԾԱԽՍԵՐ | G38: =+G39 -> 122992.8 | H38: =+H39 -> 122992.8 | I38: =+I39 -> 122992.8
F39: Պահուստային միջոցներ | G39: 122992.8 | H39: 122992.8 | I39: 122992.8
F40: ՀՀ ԿՐԹՈՒԹՅԱՆ, ԳԻՏՈՒԹՅԱՆ, ՄՇԱԿՈՒՅԹԻ ԵՎ ՍՊՈՐՏԻ ՆԱԽԱՐԱՐՈՒԹՅՈՒՆ | G40: =+G41 -> 44268.5 | H40: =+H41 -> 44268.5 | I40: =+I41 -> 44268.5
A41: 08 | F41: ՀԱՆԳԻՍՏ, ՄՇԱԿՈՒՅԹ ԵՎ ԿՐՈՆ | G41: =G49+G64+G80 -> 44268.5 | H41: =+H43 -> 44268.5 | I41: =+I43 -> 44268.5
F42: այդ թվում`
B43: 02 | F43: Մշակութային ծառայություններ | G43: =+G45+G60+G76 -> 44268.5 | H43: =+H45+H60+H76 -> 44268.5 | I43: =+I45+I60+I76 -> 44268.5
F44: այդ թվում`
C45: 02 | F45: Թանգարաններ և ցուցասրահներ | G45: =+G47 -> -23985.7 | H45: =+H47 -> -51254.7 | I45: =+I47 -> 0
F46: այդ թվում`
F47: ՀՀ կրթության, գիտության, մշակույթի և սպորտի նախարարություն | G47: =+G49 -> -23985.7 | H47: =+H49 -> -51254.7 | I47: =+I49 -> 0
F48: այդ թվում`
D49: 1075 | E49: Մշակութային ժառանգության ծրագիր | G49: =+G51 -> -23985.7 | H49: =+H51 -> -51254.7 | I49: =+I51 -> 0
F50: այդ թվում`
E51: 32001 | F51: Ներդրումներ թանգարանների և պատկերասրահների հիմնանորոգման համար | G51: =+G53 -> -23985.7 | H51: =+H53 -> -51254.7 | I51: =+I53 -> 0
F52: այդ թվում` ըստ կատարողների
F53: ՀՀ քաղաքաշինության կոմիտե | G53: =+G55 -> -23985.7 | H53: =+H55 -> -51254.7 | I53: =+I55 -> 0
F54: այդ թվում՝ բյուջետային ծախսերի տնտեսագիտական դասակարգման հոդվածներ
F55: ԸՆԴԱՄԵՆԸ ԾԱԽՍԵՐ | G55: =+G56 -> -23985.7 | H55: =+H56 -> -51254.7 | I55: =+I56 -> 0
F56: ՈՉ ՖԻՆԱՆՍԱԿԱՆ ԱԿՏԻՎՆԵՐԻ ԳԾՈՎ ԾԱԽՍԵՐ | G56: =+G57 -> -23985.7 | H56: =+H57 -> -51254.7 | I56: =+I57 -> 0
F57: ՀԻՄՆԱԿԱՆ ՄԻՋՈՑՆԵՐ | G57: =+G58 -> -23985.7 | H57: =+H58 -> -51254.7 | I57: =+I58 -> 0
F58: ՇԵՆՔԵՐ ԵՎ ՇԻՆՈՒԹՅՈՒՆՆԵՐ | G58: =+G59 -> -23985.7 | H58: =+H59 -> -51254.7 | I58: =+I59 -> 0
F59: - Շենքերի և շինությունների կապիտալ վերանորոգում | G59: =+'Հավելված N 4'!E33 -> -23985.7 | H59: =+'Հավելված N 4'!F33 -> -51254.7 | I59: =+'Հավելված N 4'!G33 -> 0
C60: 05 | F60: Արվեստ | G60: =+G62 -> 167261.3 | H60: =+H62 -> 167261.3 | I60: =+I62 -> 167261.3
F61: այդ թվում`
F62: ՀՀ կրթության, գիտության, մշակույթի և սպորտի նախարարություն | G62: =+G64 -> 167261.3 | H62: =+H64 -> 167261.3 | I62: =+I64 -> 167261.3
F63: այդ թվում`
D64: 1168 | E64: Արվեստների ծրագիր | G64: =+G66 -> 167261.3 | H64: =+H66 -> 167261.3 | I64: =+I66 -> 167261.3
F65: այդ թվում`
E66: 11028 | F66: Երվանդ Քոչարի ծննդյան 125-ամյակի հոբելյանական միջոցառումների իրականացում | G66: =+G68 -> 167261.3 | H66: =+H68 -> 167261.3 | I66: =+I68 -> 167261.3
F67: այդ թվում` ըստ կատարողների
F68: ՀՀ կրթության, գիտության, մշակույթի և սպորտի նախարարություն | G68: =+G70 -> 167261.3 | H68: =+H70 -> 167261.3 | I68: =+I70 -> 167261.3
F69: այդ թվում՝ բյուջետային ծախսերի տնտեսագիտական դասակարգման հոդվածներ
F70: ԸՆԴԱՄԵՆԸ ԾԱԽՍԵՐ | G70: =+G71 -> 167261.3 | H70: =+H71 -> 167261.3 | I70: =+I71 -> 167261.3
F71: ԸՆԹԱՑԻԿ ԾԱԽՍԵՐ | G71: =+G72 -> 167261.3 | H71: =+H72 -> 167261.3 | I71: =+I72 -> 167261.3
F72: ԴՐԱՄԱՇՆՈՐՀՆԵՐ | G72: =+G73 -> 167261.3 | H72: =+H73 -> 167261.3 | I72: =+I73 -> 167261.3
F73: Ընթացիկ դրամաշնորհներ պետական հատվածի այլ մակարդակներին | G73: =G74+G75 -> 167261.3 | H73: =H74+H75 -> 167261.3 | I73: =I74+I75 -> 167261.3
F74: - Ընթացիկ դրամաշնորհներ պետական և համայնքների ոչ առևտրային կազմակերպություններին | G74: =35920.4+655.5 -> 36575.9 | H74: =35920.4+655.5 -> 36575.9 | I74: =35920.4+655.5 -> 36575.9
F75: - Այլ ընթացիկ դրամաշնորհներ | G75: 130685.4 | H75: 130685.4 | I75: 130685.4
C76: 07 | F76: Հուշարձանների և մշակութային արժեքների վերականգնում և պահպանում | G76: =+G78 -> -99007.1 | H76: =+H78 -> -71738.1 | I76: =+I78 -> -122992.8
F77: այդ թվում`
F78: ՀՀ կրթության, գիտության, մշակույթի և սպորտի նախարարություն | G78: =+G80 -> -99007.1 | H78: =+H80 -> -71738.1 | I78: =+I80 -> -122992.8
F79: այդ թվում`
D80: 1075 | E80: Մշակութային ժառանգության ծրագիր | G80: =+G82 -> -99007.1 | H80: =+H82 -> -71738.1 | I80: =+I82 -> -122992.8
F81: այդ թվում`
E82: 21001 | F82: Հուշարձանների ամրակայում, նորոգում և վերականգնում | G82: =+G84 -> -99007.1 | H82: =+H84 -> -71738.1 | I82: =+I84 -> -122992.8
F83: այդ թվում` ըստ կատարողների
F84: ՀՀ կրթության, գիտության, մշակույթի և սպորտի նախարարություն | G84: =+G86 -> -99007.1 | H84: =+H86 -> -71738.1 | I84: =+I86 -> -122992.8
F85: այդ թվում՝ բյուջետային ծախսերի տնտեսագիտական դասակարգման հոդվածներ
F86: ԸՆԴԱՄԵՆԸ ԾԱԽՍԵՐ | G86: =+G87 -> -99007.1 | H86: =+H87 -> -71738.1 | I86: =+I87 -> -122992.8
F87: ՈՉ ՖԻՆԱՆՍԱԿԱՆ ԱԿՏԻՎՆԵՐԻ ԳԾՈՎ ԾԱԽՍԵՐ | G87: =+G88 -> -99007.1 | H87: =+H88 -> -71738.1 | I87: =+I88 -> -122992.8
F88: ՀԻՄՆԱԿԱՆ ՄԻՋՈՑՆԵՐ | G88: =+G89 -> -99007.1 | H88: =+H89 -> -71738.1 | I88: =+I89 -> -122992.8
F89: ՇԵՆՔԵՐ ԵՎ ՇԻՆՈՒԹՅՈՒՆՆԵՐ | G89: =+G90 -> -99007.1 | H89: =+H90 -> -71738.1 | I89: =+I90 -> -122992.8
F90: - Շենքերի և շինությունների կապիտալ վերանորոգում | G90: =+'Հավելված N 4'!E14 -> -99007.1 | H90: =+'Հավելված N 4'!F14 -> -71738.1 | I90: =+'Հավելված N 4'!G14 -> -122992.8

Sheet Հավելված N 3
F1: Հավելված N 3
F2: ՀՀ կառավարության 2024 թվականի
F3: ______________ ի ___Ն որոշման
A5: «ՀԱՅԱUՏԱՆԻ ՀԱՆՐԱՊԵՏՈՒԹՅԱՆ 2024 ԹՎԱԿԱՆԻ ՊԵՏԱԿԱՆ ԲՅՈՒՋԵԻ ՄԱUԻՆ» ՀԱՅԱUՏԱՆԻ ՀԱՆՐԱՊԵՏՈՒԹՅԱՆ OՐԵՆՔԻ N 1 ՀԱՎԵԼՎԱԾԻ N 3 ԱՂՅՈՒՍԱԿՈՒՄ ԿԱՏԱՐՎՈՂ ՓՈՓՈԽՈՒԹՅՈՒՆԸ
G8: հազ. դրամներով
A9: Ծրագրային դասիչ | C9: Բյուջետային գլխավոր կարգադրիչների, ծրագրերի, միջոցառումների, միջոցառումները կատարող պետական մարմինների և ուղղությունների անվանումները | D9: Ընդամենը | E9: Ցուցանիշների փոփոխությունը (նվազեցումները նշված են փակագծերում)
A10: Ծրագիր | B10: Միջոցառում | E10: Կառուցման աշխատանքներ | F10: Վերակառուցման, վերանորոգման և վերականգնման աշխատանքներ | G10: Նախագծահե- տազոտական, գեոդեզիա- քարտեզագրա- կան աշխա- տանքներ | H10: Ոչ ֆինանսական այլ ակտիվների ձեռքբերում
C11: ԸՆԴԱՄԵՆԸ | D11: =SUM(E11:H11) -> -122992.8 | E11: =+E13 -> 0 | F11: =+F13 -> -122992.8 | G11: =+G13 -> 0 | H11: =+H13 -> 0
C12: այդ թվում՝
C13: ՀՀ ԿՐԹՈՒԹՅԱՆ, ԳԻՏՈՒԹՅԱՆ, ՄՇԱԿՈՒՅԹԻ ԵՎ ՍՊՈՐՏԻ ՆԱԽԱՐԱՐՈՒԹՅՈՒՆ | D13: =SUM(E13:H13) -> -122992.8 | E13: =+E15 -> 0 | F13: =+F15 -> -122992.8 | G13: =+G15 -> 0 | H13: =+H15 -> 0
C14: այդ թվում`
A15: 1075 | B15: 21001 | C15: Հուշարձանների ամրակայում, նորոգում և վերականգնում | D15: =SUM(E15:H15) -> -122992.8 | E15: =+E17 -> 0 | F15: =+F17 -> -122992.8 | G15: =+G17 -> 0 | H15: =+H17 -> 0
C16: այդ թվում`
C17: 1. Վերականգնողական աշխատանքներ | D17: =SUM(E17:H17) -> -122992.8 | E17: =+E19+E22+E26 -> 0 | F17: =+F19+F22+F26 -> -122992.8 | G17: =+G19+G22+G26 -> 0 | H17: =+H19+H22+H26 -> 0
C18: որից`
C19: Երևան քաղաք | D19: =SUM(E19:H19) -> -122992.8 | E19: =+E20+E21 -> 0 | F19: =+F20+F21 -> -122992.8 | G19: =+G20+G21 -> 0 | H19: =+H20+H21 -> 0
C20: Հայոց ցեղասպանության հուշահամալիրի և թանգարանի հիմնանորոգում և բարեկարգում | D20: =SUM(E20:H20) -> -122992.8 | F20: =+'Հավելված N 8'!I17+'Հավելված N 8'!I19+'Հավելված N 8'!I20 -> -122992.8

Sheet Հավելված N 4
F1: Հավելված N 4
F2: ՀՀ կառավարության 2024 թվականի
F3: ______________ ի ___Ն որոշման
B5: ՀԱՅԱՍՏԱՆԻ ՀԱՆՐԱՊԵՏՈՒԹՅԱՆ ԿԱՌԱՎԱՐՈՒԹՅԱՆ 2023 ԹՎԱԿԱՆԻ ԴԵԿՏԵՄԲԵՐԻ 28-Ի N 2323-Ն ՈՐՈՇՄԱՆ N 5 ՀԱՎԵԼՎԱԾԻ N 2 ԱՂՅՈՒՍԱԿՈՒՄ ԿԱՏԱՐՎՈՂ ՓՈՓՈԽՈՒԹՅՈՒՆՆԵՐԸ
G7: հազ. դրամներով
B8: Ծրագրային դասիչ | D8: Բյուջետային գլխավոր կարգադրիչների, ծրագրերի, միջոցառումների, միջոցառումները կատարող պետական մարմինների և ուղղությունների անվանումները | E8: Ցուցանիշների փոփոխությունը (նվազեցումները նշված են փակագծերում)
B9: Ծրագիր | C9: Միջոցառում | E9: Առաջին կիսամյակ | F9: Ինն ամիս | G9: Տարի
D10: ՀՀ ԿՐԹՈՒԹՅԱՆ, ԳԻՏՈՒԹՅԱՆ, ՄՇԱԿՈՒՅԹԻ ԵՎ ՍՊՈՐՏԻ ՆԱԽԱՐԱՐՈՒԹՅՈՒՆ | E10: =+E12+E31 -> -122992.8 | F10: =+F12+F31 -> -122992.8 | G10: =+G12+G31 -> -122992.8
D11: այդ թվում՝
B12: 1075 | C12: 21001 | D12: Հուշարձանների ամրակայում, նորոգում և վերականգնում | E12: =+E14 -> -99007.1 | F12: =+F14 -> -71738.1 | G12: =+G14 -> -122992.8
D13: այդ թվում` ըստ կատարողների
D14: ՀՀ կրթության, գիտության, մշակույթի և սպորտի նախարարություն | E14: =+E16+E84 -> -99007.1 | F14: =+F16+F84 -> -71738.1 | G14: =+G16+G84 -> -122992.8
D15: այդ թվում`ըստ ուղղությունների
D16: 1. Վերականգնողական աշխատանքներ | E16: =+E18+E20+E22+E25+E28 -> -99007.1 | F16: =+F18+F20+F22+F25+F28 -> -71738.1 | G16: =+G18+G20+G22+G25+G28 -> -122992.8
D17: որից`
D18: Երևան քաղաք | E18: =+E19 -> 0 | F18: =+F19 -> -71738.1 | G18: =+G19 -> -122992.8
D19: Հայոց ցեղասպանության հուշահամալիրի և թանգարանի հիմնանորոգում և բարեկարգում | E19: 0 | F19: -71738.1 | G19: =+'Հավելված N 3'!D20 -> -122992.8
D20: ՀՀ Արագածոնի մարզ | E20: =+E21 -> -15495 | F20: =+F21 -> 0 | G20: =+G21 -> 0
D21: Ամբերդ ամրոցի հրատապ ամրակայման ենթակա հատվածների նորոգում և վերականգնում | E21: -15495
D22: ՀՀ Լոռու մարզ | E22: =SUM(E23:E24) -> -17532.6 | F22: =SUM(F23:F24) -> 0 | G22: =SUM(G23:G24) -> 0
D23: Լոռու մարզի Քաղաքատեղի Լոռի Բերդի միջնաբերդի պարիսպների ամրակայման և վերականգնման գիտանախագծային փաստաթղթեր | E23: -8896.2
D24: Լոռու մարզի Քաղաքատեղի Լոռի Բերդի միջնաբերդի բաղնիքների ամրակաույմ և մասնակի վերականգնում | E24: -8636.4
D25: ՀՀ Վայոց Ձորի մարզ | E25: =SUM(E26:E27) -> -39594 | F25: =SUM(F26:F27) -> 0 | G25: =SUM(G26:G27) -> 0
D26: Շատիվանքի վանական համալիրի ամրակայում, մասնակի վերականգնում և տարածքի բարեկարգում | E26: -15594
D27: Գնդեվազ համայնքի Սբ Աստվածածին եկեղեցու ամրակայում, նորոգում, վերականգնում | E27: -24000
D28: ՀՀ Տավուշի մարզ | E28: =SUM(E29:E30) -> -26385.5 | F28: =SUM(F29:F30) -> 0 | G28: =SUM(G29:G30) -> 0
D29: Տավուշի մարզի «Սրվեղ» վանական համալիրի ամրակայում, վերականգնում և տարածքի բարեկարգում | E29: -13192.7
D30: Տավուշի մարզի «Տավուշ» ամրոցի պարիսպների, կից կառույցների, եկեղեցուամրակայում, վերականգնում և տարածքի բարեկարգում | E30: -13192.8
B31: 1075 | C31: 32001 | D31: Ներդրումներ թանգարանների և պատկերասրահների հիմնանորոգման համար | E31: =+E33 -> -23985.7 | F31: =+F33 -> -51254.7 | G31: =+G33 -> 0
D32: այդ թվում` ըստ կատարողների
D33: ՀՀ քաղաքաշինության կոմիտե | E33: =+E35 -> -23985.7 | F33: =+F35 -> -51254.7 | G33: =+G35 -> 0
D34: այդ թվում`ըստ ուղղությունների
D35: Երևան քաղաք | E35: =+E36 -> -23985.7 | F35: =+F36 -> -51254.7 | G35: =+G36 -> 0
D36: Հայաստանի ազգային պատկերասրահ ՊՈԱԿ-ի Արա Սարգսյանի և Հակոբ Կոջոյանի տուն-թանգարան մասնաճյուղ | E36: -23985.7 | F36: -51254.7 | G36: =+'Հավելված N 3'!D39 -> 0

Sheet Հավելված N 5
D1: Հավելված 5
D2: ՀՀ կառավարության 2024 թվականի
D3: ______________ ի ___Ն որոշման
A4: ՀԱՅԱՍՏԱՆԻ ՀԱՆՐԱՊԵՏՈՒԹՅԱՆ ԿԱՌԱՎԱՐՈՒԹՅԱՆ 2023 ԹՎԱԿԱՆԻ ԴԵԿՏԵՄԲԵՐԻ 28-Ի N 2323-Ն ՈՐՈՇՄԱՆ N 5 ՀԱՎԵԼՎԱԾԻ N 7 ԱՂՅՈՒՍԱԿՈՒՄ ԿԱՏԱՐՎՈՂ ԼՐԱՑՈՒՄՆԵՐԸ
E5: հազար դրամներով
A6: Ծրագրային դասիչը | C6: Բյուջետային հատկացումների գլխավոր կարգադրիչների, ծրագրերի, միջոցառումների, ծախսային ուղղությունների անվանումները | D6: Միջոցառումները կատարող պետական մարմինների և դրամաշնորհ ստացող տնտեսվարող սուբյեկտների անվանումները | E6: Ցուցանիշների փոփոխությունը (ավելացումները նշված դրական նշանով)
A7: Ծրագիր | B7: Միջոցառում | E7: Տարի
A8: ՀՀ կրթության, գիտության, մշակույթի և սպորտի նախարարություն | E8: =E9 -> 167261.3
A9: 1168 | B9: Արվեստների ծրագիր | E9: =E10 -> 167261.3
B10: 11028 | C10: Երվանդ Քոչարի ծննդյան 125-ամյակի հոբելյանական միջոցառումների իրականացում | D10: ՀՀ կրթության, գիտության, մշակույթի և սպորտի նախարարություն | E10: =SUM(E12:E22) -> 167261.3
C11: այդ թվում՝ ըստ ուղղությունների և միջոցառումների անվանումների
C12: «Երվանդ Քոչարի բազմաթիվ կերպերը» ֆիլմաշար-նախագիծ | D12: «Բուն» գիտամշակութային հիմնդրամ | E12: 14760
C13: «Երվանդ Քոչար. Փոխակերպումներ» արտիստային բացօթյա ռեզիդենցիաների արվեստային նախագիծ | D13: «Արտլաբ Գյումրի» մշակութային հասարակական կազմակերպություն | E13: 12912
C14: «Հայ դյուցազնավեպի քոչարյան պատկերապատումը» ցուցահանդես | D14: ՀՀ Կոտայքի մարզի «Հրազդանի Հ. Պարոնյանի անվան N 12 հիմնական դպրոց» ՊՈԱԿ | E14: 1334.4
C15: «Ռեֆլեքսիաներ՝ ըստ Երվանդ Քոչարի» միջոցառում | D15: «ԱԿՆ» կրթամշակութային ՀԿ | E15: 6830.4
C16: «Հումանիզմ և ավանգարդ․ Քոչարը պատանիների աչքերով» միջոցառում | D16: «Աբովյան քաղաքի գեղարվեստի դպրոց» ՀՈԱԿ | E16: 2397.6
C17: «Մելամաղձություն» միջոցառում | D17: «Նորարար փորձառական արվեստի կենտրոն» հիմնադրամ | E17: 6718.8
C18: «Մշակութային փոխազդեցություններ Քոչարի տարածության և ժամանակի մեջ` Երևան-Հռոմ-Փարիզ» միջոցառում | D18: «Քոչար» մշակութային հիմնդրամ | E18: 74224.2
C19: «Սասնա ծռեր» էպոսի հանրահռչակում». լուսաձայնային անիմացիոն ցուցադրանք» Սասունցի Դավթի արձանի տեղադրման 65-րդ տարելիցի կապակցությամբ | D19: «Երվանդ Քոչարի թանգարան» ՊՈԱԿ | E19: 6644.3
C20: Երվանդ Քոչարի ծննդյան 125-ամյա հոբելյանի օր և “Kochar Fest” փառատոն | D20: «Երվանդ Քոչարի թանգարան» ՊՈԱԿ | E20: 22266.5
C21: Հոբելյանական տարվա հանրահռչակում՝ գովազդային պաստառների միջոցով | D21: «Երվանդ Քոչարի թանգարան» ՊՈԱԿ | E21: 3933.1
C22: «Երվանդ Քոչար – 360°» պերֆորմանս | D22: «Արտ–Իմաժ» մշակութային ՀԿ | E22: 15240

Sheet Հավելված N 6
C1: Հավելված N 6
C2: ՀՀ կառավարության 2024 թվականի
C3: ______________ ի ___Ն որոշման
B6: ՀԱՅԱՍՏԱՆԻ ՀԱՆՐԱՊԵՏՈՒԹՅԱՆ ԿԱՌԱՎԱՐՈՒԹՅԱՆ 2023 ԹՎԱԿԱՆԻ ԴԵԿՏԵՄԲԵՐԻ 28-Ի N 2323-Ն ՈՐՈՇՄԱՆ N 9 ՀԱՎԵԼՎԱԾԻ N 9.48 և N 9.13 ԱՂՅՈՒՍԱԿՈՒՄ ԿԱՏԱՐՎՈՂ ՓՈՓՈԽՈՒԹՅՈՒՆՆԵՐԸ ԵՎ ԼՐԱՑՈՒՄՆԵՐԸ
A8: Աղյուսակ 9․48
C10: ՀՀ կառավարություն
B11: ՄԱՍ 2. ՊԵՏԱԿԱՆ ՄԱՐՄՆԻ ԳԾՈՎ ԱՐԴՅՈՒՆՔԱՅԻՆ (ԿԱՏԱՐՈՂԱԿԱՆ) ՑՈՒՑԱՆԻՇՆԵՐԸ
B14: Ծրագրի դասիչը | C14: Ծրագրի անվանումը
B15: 1139 | C15: ՀՀ կառավարության պահուստային ֆոնդ
B16: Ծրագրի միջոցառումները
B17: Ծրագրի դասիչը՝ | C17: 1139 | D17: Ցուցանիշների փոփոխությունը (ավելացումները նշված են դրական նշանով)
B18: Միջոցառման դասիչը՝ | C18: 11001 | D18: Առաջին կիսամյակ | E18: Ինն ամիս | F18: Տարի
B19: Միջոցառման անվանումը՝ | C19: ՀՀ կառավարության պահուստային ֆոնդ
B20: Նկարագրությունը՝ | C20: ՀՀ պետական բյուջեում նախատեսված ելքերի լրացուցիչ ֆինանսավորման՝ պետական բյուջեում չկանխատեսված ելքերի, ինչպես նաև բյուջետային երաշխիքների ապահովման ելքերի ֆինանսավորման ապահովում
B21: Միջոցառման տեսակը՝ | C21: Ծառայությունների մատուցում
B22: Միջոցառումն իրականացնողի անվանումը | C22: ՀՀ կառավարություն
C23: Արդյունքի չափորոշիչներ
B24: Միջոցառման վրա կատարվող ծախսը (հազար դրամ) | D24: 122992.8 | E24: 122992.8 | F24: 122992.8
B27: Ծրագրի դասիչը | C27: Ծրագրի անվանումը
B28: 1139 | C28: ՀՀ կառավարության պահուստային ֆոնդ
B29: Ծրագրի միջոցառումները
B30: Ծրագրի դասիչը՝ | C30: 1139 | D30: Ցուցանիշների փոփոխությունը (նվազեցումները նշված են փակագծերում)
B31: Միջոցառման դասիչը՝ | C31: 11001 | D31: Առաջին կիսամյակ | E31: Ինն ամիս | F31: Տարի
B32: Միջոցառման անվանումը՝ | C32: ՀՀ կառավարության պահուստային ֆոնդ
B33: Նկարագրությունը՝ | C33: ՀՀ պետական բյուջեում նախատեսված ելքերի լրացուցիչ ֆինանսավորման՝ պետական բյուջեում չկանխատեսված ելքերի, ինչպես նաև բյուջետային երաշխիքների ապահովման ելքերի ֆինանսավորման ապահովում
B34: Միջոցառման տեսակը՝ | C34: Ծառայությունների մատուցում
B35: Միջոցառումն իրականացնողի անվանումը | C35: ՀՀ կառավարություն
C36: Արդյունքի չափորոշիչներ
B37: Միջոցառման վրա կատարվող ծախսը (հազար դրամ) | D37: -167261.3 | E37: -167261.3 | F37: -167261.3
B39: Աղյուսակ 9․13
C40: ՀՀ կրթության, գիտության, մշակույթի և սպորտի նախարարություն
B41: ՄԱՍ 2. ՊԵՏԱԿԱՆ ՄԱՐՄՆԻ ԳԾՈՎ ԱՐԴՅՈՒՆՔԱՅԻՆ (ԿԱՏԱՐՈՂԱԿԱՆ) ՑՈՒՑԱՆԻՇՆԵՐԸ
B42: Ծրագրի դասիչը | C42: Ծրագրի անվանումը
B43: 1075 | C43: Մշակութային ժառանգության ծրագիր
B45: Ծրագրի միջոցառումները
B46: Ծրագրի դասիչը՝ | C46: 1075 | D46: Ցուցանիշների փոփոխությունը (նվազեցումները նշված են փակագծերում)
B47: Միջոցառման դասիչը` | C47: 21001 | D47: Առաջին կիսամյակ | E47: Ինն ամիս | F47: Տարի
B48: Միջոցառման անվանումը` | C48: Հուշարձանների ամրակայում, նորոգում և վերականգնում
B49: Նկարագրությունը` | C49: Հուշարձանների գիտանախագծային փաստաթղթերի կազմում, հրատապ ուսումնասիրում, վավերագրման և ուսումնասիրման աշխատանքներ, հետախուզում և հնագիտական պեղում, ամրակայում, նորոգում և վերականգնում
B50: Միջոցառման տեսակը` | C50: Հանրության կողմից անմիջականորեն օգտագործվող ակտիվների հետ կապված միջոցառումներ
B51: Միջոցառումն իրականացնողի անվանումը | C51: Մասնագիտացված կազմակերպություն
B52: Արդյունքի չափորոշիչներ
B53: Հուշարձանների ամրակայման, նորոգման և վերականգնման աշխատանքներ, քանակ | D53: -7 | F53: 0
B54: Միջոցառման վրա կատարվող ծախսը (հազար դրամ) | D54: =+'Հավելված N 1'!D41 -> -99007.1 | E54: =+'Հավելված N 1'!E41 -> -71738.1 | F54: =+'Հավելված N 1'!F41 -> -122992.8
B56: Ծրագրի միջոցառումները
B57: Ծրագրի դասիչը՝ | C57: 1075 | D57: Ցուցանիշների փոփոխությունը (նվազեցումները նշված են փակագծերում)
B58: Միջոցառման դասիչը` | C58: 32001 | D58: Առաջին կիսամյակ | E58: Ինն ամիս | F58: Տարի
B59: Միջոցառման անվանումը` | C59: Ներդրումներ թանգարանների և պատկերասրահների հիմնանորոգման համար
B60: Նկարագրությունը` | C60: Թանգարանների և պատկերասրահների շենքերի, մասնաշենքերի հիմնանորոգում, համաշինարարական աշխատանքներ, ջեռուցման համակարգի իրականացում, ներքին հարդարում, տարածքի բարեկարգում և նախագծում
B61: Միջոցառման տեսակը` | C61: Այլ պետական կազմակերպությունների կողմից օգտագործվող ոչ ֆինանսական ակտիվների հետ գործառնություններ
B62: Ակտիվն օգտագործող կազմակերպությունների անվանումները | C62: Թանգարաններ և պատկերասրահներ
B63: Արդյունքի չափորոշիչներ
B64: Հիմնանորոգվող թանգարաններ և պատկերասրահներ քանակ, հատ | D64: -1 | F64: 0
B65: Միջոցառման վրա կատարվող ծախսը (հազար դրամ) | D65: =+'Հավելված N 1'!D47 -> -23985.7 | E65: =+'Հավելված N 1'!E47 -> -51254.7 | F65: =+'Հավելված N 1'!F47 -> 0
B67: Ծրագրի դասիչը | C67: Ծրագրի անվանումը
B68: 1168 | C68: Արվեստների ծրագիր
B70: Ծրագրի միջոցառումները
B71: Ծրագրի դասիչը՝ | C71: 1168 | D71: Ցուցանիշների փոփոխությունը (ավելացումները նշված են դրական նշանով)
B72: Միջոցառման դասիչը` | C72: 11028 | D72: Առաջին կիսամյակ | E72: Ինն ամիս | F72: Տարի
B73: Միջոցառման անվանումը` | C73: Երվանդ Քոչարի ծննդյան 125-ամյակի հոբելյանական միջոցառումների իրականացում
B74: Նկարագրությունը` | C74: Երվանդ Քոչարի ծննդյան 125-ամյա հոբելյանին նվիրված ֆիլմաշարերի, ցուցահանդեսների, բացօթյա արվեստային նախագծերի, փառատոների, աշխատարանների, կրթական ծրագրերի և այլ միջոցառումների իրականացում
B75: Միջոցառման տեսակը` | C75: Ծառայությունների մատուցում
B76: Ծառայությունը մատուցող կազմակերպությունների անվանումը | C76: Մասնագիտացված կազմակերպություններ
B77: Արդյունքի չափորոշիչներ
B78: Միջոցառումների քանակը | D78: 11 | F78: 11
B79: Միջոցառման վրա կատարվող ծախսը (հազար դրամ) | D79: =+'Հավելված N 1'!D60 -> 167261.3 | E79: =+'Հավելված N 1'!E60 -> 167261.3 | F79: =+'Հավելված N 1'!F60 -> 167261.3

Sheet Հավելված N 7
C1: Հավելված N 7
C2: ՀՀ կառավարության 2024 թվականի
C3: ______________ ի ___Ն որոշման
B6: ՀԱՅԱՍՏԱՆԻ ՀԱՆՐԱՊԵՏՈՒԹՅԱՆ ԿԱՌԱՎԱՐՈՒԹՅԱՆ 2023 ԹՎԱԿԱՆԻ ԴԵԿՏԵՄԲԵՐԻ 28-Ի N 2323-Ն ՈՐՈՇՄԱՆ N 9.1 ՀԱՎԵԼՎԱԾԻ N 9.1.13, 9.1.39 ԵՎ N 9.1.58 ԱՂՅՈՒՍԱԿՆԵՐՈՒՄ ԿԱՏԱՐՎՈՂ ՓՈՓՈԽՈՒԹՅՈՒՆՆԵՐԸ ԵՎ ԼՐԱՑՈՒՄՆԵՐԸ
A8: Աղյուսակ 9․1.13
C9: ՀՀ կրթության, գիտության, մշակույթի և սպորտի նախարարություն
B10: ՄԱՍ 1. ՊԵՏԱԿԱՆ ՄԱՐՄՆԻ ԳԾՈՎ ԱՐԴՅՈՒՆՔԱՅԻՆ (ԿԱՏԱՐՈՂԱԿԱՆ) ՑՈՒՑԱՆԻՇՆԵՐԸ
B13: Ծրագրի դասիչը | C13: Ծրագրի անվանումը
B14: 1075 | C14: Մշակութային ժառանգության ծրագիր
B16: Ծրագրի միջոցառումները
B17: Ծրագրի դասիչը՝ | C17: 1075 | D17: Ցուցանիշների փոփոխությունը (նվազեցումները նշված են փակագծերում)
B18: Միջոցառման դասիչը` | C18: 21001 | D18: Առաջին կիսամյակ | E18: Ինն ամիս | F18: Տարի
B19: Միջոցառման անվանումը` | C19: Հուշարձանների ամրակայում, նորոգում և վերականգնում
B20: Նկարագրությունը` | C20: Հուշարձանների գիտանախագծային փաստաթղթերի կազմում, հրատապ ուսումնասիրում, վավերագրման և ուսումնասիրման աշխատանքներ, հետախուզում և հնագիտական պեղում, ամրակայում, նորոգում և վերականգնում
B21: Միջոցառման տեսակը` | C21: Հանրության կողմից անմիջականորեն օգտագործվող ակտիվների հետ կապված միջոցառումներ
B22: Միջոցառումն իրականացնողի անվանումը | C22: Մասնագիտացված կազմակերպություն
B23: Արդյունքի չափորոշիչներ
B24: Հուշարձանների ամրակայման, նորոգման և վերականգնման աշխատանքներ, քանակ | D24: -7 | F24: 0
B25: Միջոցառման վրա կատարվող ծախսը (հազար դրամ) | D25: =+'Հավելված N 2'!G84 -> -99007.1 | E25: =+'Հավելված N 2'!H84 -> -71738.1 | F25: =+'Հավելված N 2'!I84 -> -122992.8
B27: Ծրագրի դասիչը | C27: Ծրագրի անվանումը
B28: 1168 | C28: Արվեստների ծրագիր
B30: Ծրագրի միջոցառումները
B31: Ծրագրի դասիչը՝ | C31: 1168 | D31: Ցուցանիշների փոփոխությունը (ավելացումները նշված են դրական նշանով)
B32: Միջոցառման դասիչը` | C32: 11028 | D32: Առաջին կիսամյակ | E32: Ինն ամիս | F32: Տարի
B33: Միջոցառման անվանումը` | C33: Երվանդ Քոչարի ծննդյան 125-ամյակի հոբելյանական միջոցառումների իրականացում
B34: Նկարագրությունը` | C34: Երվանդ Քոչարի ծննդյան 125-ամյա հոբելյանին նվիրված ֆիլմաշարերի, ցուցահանդեսների, բացօթյա արվեստային նախագծերի, փառատոների, աշխատարանների, կրթական ծրագրերի և այլ միջոցառումների իրականացում
B35: Միջոցառման տեսակը` | C35: Ծառայությունների մատուցում
B36: Ծառայությունը մատուցող կազմակերպությունների անվանումը | C36: Մասնագիտացված կազմակերպություններ
B37: Արդյունքի չափորոշիչներ
B38: Միջոցառումների քանակը | D38: 11 | F38: 11
B39: Միջոցառման վրա կատարվող ծախսը (հազար դրամ) | D39: =+'Հավելված N 2'!G68 -> 167261.3 | E39: =+'Հավելված N 2'!H68 -> 167261.3 | F39: =+'Հավելված N 2'!I68 -> 167261.3
A42: Աղյուսակ 9․1.39
C43: ՀՀ քաղաքաշինության կոմիտե
B44: ՄԱՍ 1. ՊԵՏԱԿԱՆ ՄԱՐՄՆԻ ԳԾՈՎ ԱՐԴՅՈՒՆՔԱՅԻՆ (ԿԱՏԱՐՈՂԱԿԱՆ) ՑՈՒՑԱՆԻՇՆԵՐԸ
B47: Ծրագրի դասիչը | C47: Ծրագրի անվանումը
B48: 1075 | C48: Մշակութային ժառանգության ծրագիր
B50: Ծրագրի միջոցառումները
B51: Ծրագրի դասիչը՝ | C51: 1075 | D51: Ցուցանիշների փոփոխությունը (նվազեցումները նշված են փակագծերում)
B52: Միջոցառման դասիչը` | C52: 32001 | D52: Առաջին կիսամյակ | E52: Ինն ամիս | F52: Տարի
B53: Միջոցառման անվանումը` | C53: Ներդրումներ թանգարանների և պատկերասրահների հիմնանորոգման համար
B54: Նկարագրությունը` | C54: Թանգարանների և պատկերասրահների շենքերի, մասնաշենքերի հիմնանորոգում, համաշինարարական աշխատանքներ, ջեռուցման համակարգի իրականացում, ներքին հարդարում, տարածքի բարեկարգում և նախագծում
B55: Միջոցառման տեսակը` | C55: Այլ պետական կազմակերպությունների կողմից օգտագործվող ոչ ֆինանսական ակտիվների հետ գործառնություններ
B56: Ակտիվն օգտագործող կազմակերպությունների անվանումները | C56: Թանգարաններ և պատկերասրահներ
B57: Արդյունքի չափորոշիչներ
B58: Հիմնանորոգվող թանգարաններ և պատկերասրահներ քանակ, հատ | D58: -1 | F58: 0
B59: Միջոցառման վրա կատարվող ծախսը (հազար դրամ) | D59: =+'Հավելված N 2'!G53 -> -23985.7 | E59: =+'Հավելված N 2'!H53 -> -51254.7 | F59: =+'Հավելված N 2'!I53 -> 0
B60: Աղյուսակ 9․1.58
C61: ՀՀ կառավարություն
B62: ՄԱՍ 2. ՊԵՏԱԿԱՆ ՄԱՐՄՆԻ ԳԾՈՎ ԱՐԴՅՈՒՆՔԱՅԻՆ (ԿԱՏԱՐՈՂԱԿԱՆ) ՑՈՒՑԱՆԻՇՆԵՐԸ
B65: Ծրագրի դասիչը | C65: Ծրագրի անվանումը
B66: 1139 | C66: ՀՀ կառավարության պահուստային ֆոնդ
B67: Ծրագրի միջոցառումները
B68: Ծրագրի դասիչը՝ | C68: 1139 | D68: Ցուցանիշների փոփոխությունը (ավելացումները նշված են դրական նշանով)
B69: Միջոցառման դասիչը՝ | C69: 11001 | D69: Առաջին կիսամյակ | E69: Ինն ամիս | F69: Տարի
B70: Միջոցառման անվանումը՝ | C70: ՀՀ կառավարության պահուստային ֆոնդ
B71: Նկարագրությունը՝ | C71: ՀՀ պետական բյուջեում նախատեսված ելքերի լրացուցիչ ֆինանսավորման՝ պետական բյուջեում չկանխատեսված ելքերի, ինչպես նաև բյուջետային երաշխիքների ապահովման ելքերի ֆինանսավորման ապահովում
B72: Միջոցառման տեսակը՝ | C72: Ծառայությունների մատուցում
B73: Միջոցառումն իրականացնողի անվանումը | C73: ՀՀ կառավարություն
C74: Արդյունքի չափորոշիչներ
B75: Միջոցառման վրա կատարվող ծախսը (հազար դրամ) | D75: 122992.8 | E75: 122992.8 | F75: 122992.8
B78: Ծրագրի դասիչը | C78: Ծրագրի անվանումը
B79: 1139 | C79: ՀՀ կառավարության պահուստային ֆոնդ
B80: Ծրագրի միջոցառումները
B81: Ծրագրի դասիչը՝ | C81: 1139 | D81: Ցուցանիշների փոփոխությունը (նվազեցումները նշված են փակագծերում)
B82: Միջոցառման դասիչը՝ | C82: 11001 | D82: Առաջին կիսամյակ | E82: Ինն ամիս | F82: Տարի
B83: Միջոցառման անվանումը՝ | C83: ՀՀ կառավարության պահուստային ֆոնդ
B84: Նկարագրությունը՝ | C84: ՀՀ պետական բյուջեում նախատեսված ելքերի լրացուցիչ ֆինանսավորման՝ պետական բյուջեում չկանխատեսված ելքերի, ինչպես նաև բյուջետային երաշխիքների ապահովման ելքերի ֆինանսավորման ապահովում
B85: Միջոցառման տեսակը՝ | C85: Ծառայությունների մատուցում
B86: Միջոցառումն իրականացնողի անվանումը | C86: ՀՀ կառավարություն
C87: Արդյունքի չափորոշիչներ
B88: Միջոցառման վրա կատարվող ծախսը (հազար դրամ) | D88: -167261.3 | E88: -167261.3 | F88: -167261.3

Sheet Հավելված N 8
H1: Հավելված N 8
H2: ՀՀ կառավարության 2024 թվականի
H3: ______________ ի ___Ն որոշման
A6: ՀԱՅԱՍՏԱՆԻ ՀԱՆՐԱՊԵՏՈՒԹՅԱՆ ԿԱՌԱՎԱՐՈՒԹՅԱՆ 2023 ԹՎԱԿԱՆԻ ԴԵԿՏԵՄԲԵՐԻ 28-Ի N 2323-Ն N 10 ՀԱՎԵԼՎԱԾՈՒՄ ԿԱՏԱՐՎՈՂ ՓՈՓՈԽՈՒԹՅՈՒՆՆԵՐԸ
A10: Կոդը | B10: Անվանումը | E10: Գնման ձևը | F10: Չափման միավորը | G10: Միավորի գինը | H10: Ցուցանիշների փոփոխությունը (նվազեցումները նշված են փակագծերում)
H11: Քանակը | I11: Գումարը (հազար դրամ)
A12: 1 | B12: 2 | E12: 3 | F12: 4 | G12: 5 | H12: 6 | I12: 7
A13: ՀՀ կրթության, գիտության, մշակույթի և սպորտի նախարարություն | I13: =+I14 -> -122992.8
A14: Բաժին N 08 | B14: Խումբ N 02 | C14: Դաս N 07 | D14: Հուշարձանների և մշակութային արժեքների վերականգնում և պահպանում | I14: =+I15 -> -122992.8
A15: 1075-21001 | B15: Հուշարձանների ամրակայում, նորոգում և վերականգնում | I15: =+I16+I18 -> -122992.8
B16: ՄԱՍ II. ԱՇԽԱՏԱՆՔՆԵՐ | I16: =+I17 -> -119876
A17: 45451600-13 | B17: վերականգնողական աշխատանքներ | E17: ԲՄ | F17: դրամ | I17: -119876
B18: ՄԱՍ III. ԾԱՌԱՅՈՒԹՅՈՒՆՆԵՐ | I18: =SUM(I19:I20) -> -3116.8
A19: 71351540-14 | B19: տեխնիկական հսկողության ծառայություններ | E19: ԳՀ | F19: դրամ | I19: -2397.5
A20: 98111140-16 | B20: հեղինակային հսկողության ծառայություններ | E20: ՄԱ | F20: դրամ | I20: -719.3
